{"text_format":"1","workbook":"xlsx","n_sheets":15,"sheets":["Projects","FY 2017","FY 2018","FY 2019","FY 2020","Constraint","FHWA GPA","FTA GPA","FTA Candidate Projects","Illustrative","NonFHWA_NonFTA","MDOT FTA Detail","Local Detail","Codes","Other Acronyms"],"not_rendered":{"charts":0,"images":0,"macros":1,"external_links":1,"defined_names":34,"comments":0,"pivot_tables":0},"unopened":[],"bounds":{"document_bytes":16777216,"sheet_cells":100000,"rows_first":2000,"rows_last":500,"rows_between":2000,"halvings":0,"cell_chars":16384,"cell_head_chars":4096},"cells_cut":0,"cells_raw":0,"read":"whole","date_system":"1900"}

{"sheet":"Projects","index":0,"n_rows":76,"n_cols":33,"rows_kept":76,"cut":false,"hidden":false,"merged":[[0,0,0,22],[1,0,1,22],[2,30,2,31]]}
["Twin Cities Area Transportation Study (TwinCATS)"]
["Updated 7-17-2017"]
["Required Fields",null,null,null,null,null,null,null,null,null,null,null,null,null,null,null,null,null,null,null,null,null,null,null,null,"Optional Fields",null,null,null,null,{"$f":"'MDOT FTA Detail'!B1","v":"E-File v. 5.1 (01.15.15)"}]
["Fiscal Year","County","Responsible Agency","Project Name","Limits","Length","Primary Work Type","Project Description","Phase","Advance Construct","Federal Cost ($1000s)","Federal Fund Source","State Cost ($1000s)","State Fund Source","Local Cost ($1000s)","Local Fund Source","Total Phase Cost ($1000s)","MDOT Job No.","Local ID No.","MPO/ Rural Action Date","Amend-ment Type","Air Quality","Comments","Total Project Cost ($1000s)","x","Local Priority","EJ","Federal Approval Date ","Capped Federal Cost ($1000s)","Date Obligated","Amount Obligated ($1000s)","Let Date","MPO"]
[2017,"Berrien","Berrien County Road Commission","River Road","Over Pipestone Creek",null,"Bridge replacement","Bridge Replacement","CON",null,864000,"BRT",162000,"M",54000,"CNTY",1080000,126674,null,"2016-06-20",null,"Exempt","Added to TIP 6/20/16",1080000]
[2017,"Berrien","Berrien County Road Commission","Upgrading Guardrails on Various Primary Roads","Broadway from Napier Ave to City ofBenton Harbor Limits",0.53,"Traffic ops/safety","Upgrading Guardrails on Various Primary Roads","CON",null,9000,"HSIP",null,null,1000,"CNTY",{"$f":"K6+O6","v":10000},130875,null,"2017-02-27",null,"Exempt","Part of a countywide safety grant. Added to the TIP 2/27/17",539349,null,null,null,"2017-04-28"]
[2017,"Berrien","Berrien County Road Commission","Hilltop Road","BL-94 to M-63",1,"Restore & rehabilitate","Mill and Fill. ADA  sidewalk upgrades and construction, depending on budget. Water main replacement.","CON",null,564597,"STUL",null,null,125198,"CNTY",689795,120848,null,"2017-03-20",null,"Exempt","11/8/16 Administrative Modification: corrected project description, Work Type, and Length. Added to TIP 6/20/16",689795,null,null,null,"2017-06-19"]
[2017,"Berrien","Berrien County Road Commission","John Beers Road","0.32 miles east of Hollywood Road to 0.51 miles West",0.83,"Resurface","Resurface existing pavement that already has 4 foot wide shoulders","CON",null,192163,"STUL",null,null,46600,"CNTY",{"$f":"K8+O8","v":238763},120849,null,"2016-06-20",null,"Exempt","Added to TIP 6/20/16",238763]
[2017,"Berrien","Berrien County Road Commission","Territorial Road Culvert","North Branch Road to Millburg Drive",0,"Bridge replacement","Culvert Replacement","CON",null,null,null,null,null,null,null,null,131453,null,"2016-10-07",null,"Exempt","RTF Project - Advisory only, does not use STP-Urban funding.  approved 10/7/16. Using $720,000 STP-R and $180,000 local funds",null,null,null,null,"2017-04-28"]
[2017,"Berrien","Berrien County Road Commission","Hilltop Road Crossing Surface Replacement","Hilltop Road, Rail Crossing",0,"Rail","Hilltop Road Rail Crossing","CON",null,null,null,37463,"MRR",24976,"PRVT",{"$f":"M10+O10","v":62439},null,null,"2017-02-27",null,"Exempt","Local match coming from CSX Railway. Added to TIP 2/27/17",62439,null,null,null,"2017-04-28"]
[2017,"Berrien","City of Benton Harbor","Colfax South Resurfacing","May to Emery",0.25,"Resurface","Full mill and fill with Bike Lanes","CON","AC",87403,"STUL",null,null,140597,"CITY",228000,130791,null,"2017-03-20",null,"Exempt","Moved to 2017 with an partial AC of0$98,597  to be repaid in 2019. Local match of $42,000 after ACC  Added to TIP 6/20/16",228000,null,null,null,"2017-06-19"]
[2017,"Berrien","City of St. Joseph","Langley Avenue & Broad Street","Pearl Street to Department of Public Works Entrance",0.25,"Reconstruct","Full reconstruction of roadway with HMA or concrete pavement including curb and gutter, remove and replace ADA ramps as needed to meet current standards, install new storm sewer and sanitary sewer. Replace sidewalk, driveways and water main as needed. This project is being undertaken as part of the City's ongoing combined sewer overflow (CSO) program and includes inline storage.","CON","AC",null,null,null,null,null,null,null,130792,null,"2016-11-14",null,"Exempt","11/14/16 Removed from TIP.  6/20/16- Added to TIP.  Only TIP eligible cost is taken into account here. Total project cost, including sewer and water upgrades is $3,363,000. ",null,null,null,null,"2017-04-28"]
[2017,"Berrien","MDOT","M-139 Passing Flare","M-139 between Tanglewood and Anna",0.71,"Traffic ops/safety","Install passing flares ","ROW",null,4093,"CM",907,"M",null,null,5000,127448,null,"2016-06-20",null,null,"Added to TIP 6/20/16",664510]
[2017,"Berrien","MDOT","M-139 Passing Flare","on M-139 between Tanglewood and Anna",0.71,"Traffic ops/safety","Install passing flares ","PE",null,53096,"CM",11774,"M",null,null,64870,127448,null,"2016-06-20",null,null,"Added to TIP 6/20/16",664510]
[2017,"Berrien","MDOT","I-196 Overlay","I-94 to 0.5 miles South of M-63 (Exit 7)",8.0890000000000004,"Restore & rehabilitate","Mill Existing & Multiple Course HMA Overlay","ROW",null,22500,"IM",2500,"M",null,null,25000,118792,null,"2016-06-20",null,null,"Added to TIP 6/20/16",19225000]
[2017,"Berrien","MDOT","I-94 Substructure Repair","Over I-94 BL (Lakeshore Dr.)",null,"Bridge restore & rehabilitate","Substructure Repiar","CON",null,782574,"IM",86953,"M",null,null,{"$f":"K16+M16","v":869527},200006,null,"2017-05-15",null,"exempt","added to TIP 2/27/17",938786,null,null,null,"2017-06-19"]
[2017,"Berrien","MDOT","US-31 Longitudinal Joint repair","Temp End Freeway to S JCT I-94",1.9,"Resurface","HMA Longitudinal Joint Repair","CON",null,234036,"NH",51897,"M",null,null,285933,128742,null,"2016-06-20",null,null,"Added to TIP 6/20/16",305933]
[2017,"Berrien","MDOT","US-31 Concrete Pavement Joint Resealing","M-139 to NapierAvenue",2.5,"Restore & rehabilitate","Concrere Pavement Joint Resealing CPM","PE",null,25521,"NH",5599,"M",null,null,{"$f":"K18+M18","v":31120},200628,null,"2017-06-19","Add","Exempt","Added to TIP 6/19/17",709821,null,null,null,"2017-08-11"]
[2017,"Berrien","MDOT","US-31 Concrete Pavement Joint Resealing","M-139 to NapierAvenue",2.5,"Restore & rehabilitate","Concrere Pavement Joint Resealing CPM","CON",null,555516,"NH",123185,"M",null,null,{"$f":"K19+M19","v":678701},200628,null,"2017-06-19","Add","Exempt","Added to TIP 6/19/17",709821,null,null,null,"2017-08-11"]
[2017,"BERRIEN","MDOT","EB I-94 Interchange","From Britain Avenue to I-196",3.87,"Reconstruct","Reconstruction of I-94 and partial interchange.","PE",null,963579,"NH",213671,"M",null,"",1177250,130008,null,"2017-07-17","Year",null,"Added to TIP 6/20/16",76962750,null,null,null,"2017-08-11"]
[2017,"BERRIEN","MDOT","EB I-94 Interchange","From Britain Avenue to I-196",3.87,"Reconstruct","Reconstruction of I-94 and partial interchange.","SUB",null,1491922,"NH",330828,"M",null,"",1822750,130008,null,"2017-07-17","Year",null,"Added to TIP 6/20/16",76962750,null,null,null,"2017-08-11"]
[2017,"Berrien","MDOT","M-63 Crack Fill","M-63 from I-94 to Midway",2.2000000000000002,"Restore & rehabilitate","Overband Crack Fill","CON",null,28412,"ST",6300,"M",null,null,34712,128736,null,"2016-06-20",null,"Exempt","Added to TIP 6/20/16 Part of a larger project 62.04% rural; 5.56% TwinCATS; 22.00% KATS; 10.41% NATS; total phase cost $511,009 federal ST, $113,315 state M, $624,324 total",649324]
[2017,"Berrien","MDOT","M-63 Overlay","on M-63 from Winchester to I-94 BL",1.127,"Resurface","Cold Milling and HMA One Course Overlay","CON",null,80525,"ST",17856,"M",null,null,98381,127563,null,"2016-06-20",null,"Exempt","Added to TIP 6/20/16 Part of a larger project with a location outside of the MPO. ",439785]
[2017,"Berrien","MDOT","Hilltop Road Rail Flashers","At CSX Transportation, St. Joseph Township",null,"Rail","Upgrade rail crossing singal (flashers) ","CON",null,45000,"STRH",5000,"M",null,null,{"$f":"K24+M24","v":50000},132341,null,"2017-04-17",null,"Exempt","Added to TIP 5/15/17",50000,null,null,null,"2017-06-19"]
[2017,"Berrien","MDOT","I-94 Road and Bridge Scoping","0.5 miles west of I94 BL(exit 23) to the St. Joseph River",3.5,"Miscellaneous","Scoping for Road and Bridge Work","EPE",null,null,null,400000,"M",null,null,400000,132824,null,"2016-11-08",null,"Exempt","Administrative Modification Added to TIP 11/8/16 based on a request by Kyle Rudlaf",400000,null,null,null,"2017-04-28"]
[2017,"Berrien","MDOT","I-94 Substructure Repair","Over I-94 BL (Lakeshore Dr.)",null,"Bridge restore & rehabilitate","Substructure Repiar","SUB",null,null,null,69259,"M",null,null,{"$f":"M26","v":69259},200006,null,"2017-05-15",null,"Exempt","added to TIP 2/27/17",938786,null,null,null,"2017-06-19"]
[2017,"Berrien","SWMPC","Rideshare","Countywide",null,"Miscellaneous","Rideshare Program","EPE",null,12000,"CMG",null,null,null,null,12000,124467,null,"2016-06-20",null,"Exempt","Added to TIP 6/20/16",12000]
[2017,"Berrien","TCATA","Regular Operating Expenses","Benton Harbor, St. Joseph, Benton Township",null,"Transit operations","Regular Operation Expenses","T-Ops",null,777380,5307,658744,"CTF",406000,"TRAL",{"$f":"K28+M28+O28","v":1842124},null,null,"2017-02-27",null,"Exempt","2/27/17 Adding an addition $118,701 in 5307. Added to TIP 6/20/16",1960825,null,null,null,"2017-04-28"]
[2017,"Berrien","TCATA","Bus Purchase","Benton Harbor, St. Joseph, Benton Township",null,"Transit vehicle additions/replacements","Purchase Three (3) new buses","T-Cap",null,205194,5307,51300,"CTF",null,null,{"$f":"K29+M29","v":256494},null,null,"2016-06-20",null,"Exempt","Added to TIP 6/20/16",256494]
[2017,"Berrien","TCATA","Bus Purchase","Benton Harbor, St. Joseph, Benton Township",null,"Transit vehicle additions/replacements","Purchase four (4) new buses","T-Cap",null,27145,5307,6787,"CTF",null,null,{"$f":"K30+M30","v":33932},null,null,"2016-11-14",null,"Exempt","11/14/16 - Added 5339 funds to the project and reduced the 5307 funding from $43,594 to $27,145. This project uses CMAQ & 5339 funds to make up remaining costs. Added to TIP 6/20/16",341962,null,null,null,"2017-04-28"]
[2017,"Berrien","TCATA","Bus Purchase","Benton Harbor, St. Joseph, Benton Township",null,"Transit vehicle additions/replacements","Adding a bus for the JARC line haul","T-Cap",null,68398,5307,17100,"CTF",null,null,{"$f":"K31+M31","v":85498},null,null,"2017-02-27",null,"Exempt","Added to TIP 2/27/17",85498,null,null,null,"2017-04-28"]
[2017,"Berrien","TCATA","Phone System","Benton Harbor, St. Joseph, Benton Township",null,"Transit communication equipment","Phone system to manage office and dispatch calls.","T-Cap",null,7200,5307,1800,"CTF",null,null,{"$f":"K32+M32","v":9000},null,null,"2017-02-27",null,"Exempt",null,9000,null,null,null,"2017-04-28"]
[2017,"Berrien","TCATA","Mobility Manager","Benton Harbor, St. Joseph, Benton Township",null,"Transit capital","Mobility Manager to coordinate transportation for the disabled passengers","T-Cap",null,60000,5310,15000,"CTF",null,null,75000,null,null,"2016-06-20",null,"Exempt","Added to TIP 6/20/16",75000]
[2017,"Berrien","TCATA","Bus Purchase","Benton Harbor, St. Joseph, Benton Township",null,"Transit vehicle additions/replacements","Purchase four (4) new buses","T-Cap",null,16449,5339,4111,"CTF",null,null,20560,null,null,"2016-11-14",null,null,"Added 11/14/16. These funds are being combined with 5307 & CMAQ funds to purchase 4 buses.",341962,null,null,null,"2017-04-28"]
[2017,"Berrien","TCATA","Replace One Bus","Benton Harbor, St. Joseph, Benton Township",null,"Transit vehicle additions/replacements","Replace One Bus","T-Cap",null,85498,5339,21375,"CTF",null,null,{"$f":"K35+M35","v":106873},null,null,"2017-05-15",null,"Exempt","5/15/17: Costs Corrected. Added to TIP 6/20/16",106893,null,null,null,"2017-06-19"]
[2017,"Berrien","TCATA","Bus Purchase","Benton Harbor, St. Joseph, Benton Township",null,"Transit vehicle additions/replacements","Purchase four (4) new buses","T-Cap",null,230000,"CM",57500,"CTF",null,null,287500,null,null,"2016-06-20",null,"Exempt","Also using 5307 funds to make up remaining cost. Added to TIP 6/20/16 ",341962]
[2017,"Berrien","TCATA","JARC","Benton Harbor, St. Joseph, Benton Township",null,"Transit operations","This grant is to provide transportation for low income Benton Harbor residents to I-94 and Red Arrow. This is an area that potentially has 70 employers. ","T-Ops",null,null,null,386040,"CTF",null,null,386040,null,null,"2016-06-20",null,"Exempt","Added to TIP 6/20/16",386040]
[2017,"Berrien","Village of Stevensville","Red Arrow Highway and John Beers Road Intersection Improvements","400 ft. south of John Beers Rd to 400 ft. North of John Beers Rd.",0.15,"Restore & rehabilitate","Widening to add a center turn lane. Milling and Resurfacing. ADA sidewall ramps, Traffic Signal modernization. Pavement markings and permanent traffic signs","CON",null,355504.5,"HSIP",null,null,39500.5,"VLG",395005,130877,null,"2016-11-14",null,null,"11/14/16. Added to TIP. Uses Highway Safety improvement Program (HSIP) funds",null,null,null,null,"2017-04-28"]
[2018,"Berrien","Berrien County Road Commission","Nickerson Avenue","M-139 to 700 feet East of Woodley",0.64300000000000002,"Resurface","Mill and Fill 2 inches","CON",null,143000,"STUL",null,null,32000,"CNTY",175000,130797,null,"2016-06-20",null,"Exempt","Added to TIP 6/20/16",175000]
[2018,"Berrien","Berrien County Road Commission","Shawnee Road","Jericho Road to Date Road",0.5,"Reconstruct","Construct 5ft wide shoulders and resurface","CON",null,268925,"STUL",null,null,184075,"CNTY",453000,130793,null,"2016-06-20",null,"Exempt","Added to TIP 6/20/16",453000]
[2018,"Berrien","Berrien County Road Commission","Red Arrow Highway ","Bridgman city limits to 0.8 mi south",0.8,"Resurface","3R Project","CON",null,null,null,null,null,null,null,null,129834,null,"2016-10-07",null,"Exempt","RTF Project - Advisory only, does not use STP-Urban funding.  Approved 10/7/16. Using $460,099 STP-R and $244,000 State D funds",{"$f":"Q41","v":0},null,null,null,"2016-10-12",null,null,null,null,4]
[2018,"Berrien","City of Benton Harbor","Traffic Signal Replacement on Pipestone at Jefferson","Pipestone ave and Jefferson st.",null,"Traffic ops/safety","Traffic Signal Replacement on Pipestone at Jefferson to improve traffic light timing along Pipestone","CON",null,264254,"CMG",null,null,null,null,264254,121016,null,"2017-06-19","Add","Exempt","Origionally approved at the January 2017 Berrien County CMAQ Meeting",null,null,null,null,"2017-08-11"]
[2018,"Berrien","City of St. Joseph","Wallace Avenue","Lakeshore Drive to South State Street",0.37,"Reconstruct","Full reconstruction of roadway with HMA or concrete pavement including curb and gutter, remove and replace ADA ramps as needed to meet current standards, install new storm sewer and sanitary sewer. Replace sidewalk, driveways as needed. This project is being undertaken as part of the City's ongoing combined sewer overflow (CSO) program and includes water main replacement.","CON",null,460000,"STUL",null,null,1000000,"CITY",{"$f":"K43+O43","v":1460000},133290,null,"2017-06-09","Scope","Exempt","6/9/2017 Adminstrive Modification to increase limits. 11/14/16 Added to TIP. This project combines roadwork with Water/Sewer work which is not a eligible STP expense ",null,null,null,null,"2017-08-11"]
[2018,"Berrien","City of St. Joseph ","Langley Avenue & Broad Street ","Pearl Street to Department of Public Works Entrance",0.25,"Reconstruct","Full reconstruction of roadway with HMA or concrete pavement including curb and gutter, remove and replace ADA ramps as needed to meet current standards, install new storm sewer and sanitary sewer. Replace sidewalk, driveways and water main as needed. This project is being undertaken as part of the City's ongoing combined sewer overflow (CSO) program and includes inline storage.","CON","ACC",null,null,null,null,null,null,null,130792,null,"2016-11-14",null,"Exempt","11/14/16 Removed. Added to TIP 6/20/16- Only TIP eligible cost is taken into account here. Total project cost, including sewer and water upgrades is $3,363,000. ",null,null,null,null,"2017-04-28"]
[2018,"Berrien","MDOT","M-63 Bridge Replacement","on M-63 over I-196",null,"Bridge replacement","Bridge Replacement","CON",null,4135701,"BRI",459522,"M",null,null,4595223,115754,null,"2016-06-20",null,"Exempt","Added to TIP 6/20/16",5074725]
[2018,"Berrien","MDOT","I-94 WB Overlay","on I-94 from E of I-196 to W of M-140",5.6,"Resurface","Repair Existing & Multiple Course HMA Overlay","PE",null,195197,"IM",21689,"M",null,null,216886,128907,null,"2016-06-20",null,null,"Added to TIP 6/20/16",15960000]
[2018,"Berrien","MDOT","I-196 Overlay","I-94 to 0.5 miles South of M-63 (Exit 7)",8.0890000000000004,"Restore & rehabilitate","Mill Existing & Multiple Course HMA Overlay","CON",null,15840000,"IM",1760000,"M",null,null,17600000,118792,null,"2016-06-20",null,"Exempt","Added to TIP 6/20/16",19225000]
[2018,"Berrien","MDOT","Napier Avenue Carpool Lot","At Napier Avenue and US-31",null,"Roadside facility","Carpool Lot Expansion and Resurface","CON",null,69573,"ST",15427,"M",null,null,{"$f":"K48+M48","v":85000},116509,null,"2016-06-20",null,null,"Added to TIP 6/20/16",106000]
[2018,"Berrien","SWMPC","Rideshare","Countywide",null,"Miscellaneous","Rideshare Program","EPE",null,12000,"CMG",null,null,null,null,12000,null,null,"2016-06-20",null,"Exempt","Added to TIP 6/20/16",12000]
[2018,"Berrien","TCATA","Regular Operating Expenses","Benton Harbor, St. Joseph, Benton Township",null,"Transit operations","Regular Operation Expenses","T-Ops",null,813836,5307,726370,"CTF",356000,"TRAL",{"$f":"K50+M50+O50","v":1896206},null,null,"2016-06-20",null,"Exempt","Added to TIP 6/20/16",1983316]
[2018,"Berrien","TCATA","Mobility Manager","Benton Harbor, St. Joseph, Benton Township",null,"Transit capital","Mobility Manager to coordinate transportation for the disabled passengers","T-Cap",null,60000,5310,15000,"CTF",null,null,75000,null,null,"2016-06-20",null,"Exempt","Added to TIP 6/20/16",75000]
[2018,"Berrien","TCATA","Facilities Improvement","Benton Harbor, St. Joseph, Benton Township",null,"Transit facility","Facilities Improvements ","T-Cap",null,80000,5339,20000,"CTF",null,null,100000,null,null,"2016-06-20",null,"Exempt","Added to TIP 6/20/16",100000]
[2018,"Berrien","TCATA","JARC","Benton Harbor, St. Joseph, Benton Township",null,"Transit operations","This grant is to provide transportation for low income Benton Harbor residents to I-94 and Red Arrow. This is an area that potentially has 70 employers. ","T-Ops",null,null,null,397347,"CTF",33000,"TRAL",{"$f":"K53+M53+O53","v":430347},null,null,"2016-06-20",null,"Exempt","Added to TIP 6/20/16",397347]
[2019,"Berrien","Berrien County Road Commission","Napier Avenue","St. Joseph River to 3700 Feet East  ",0.87,"Resurface","Mill and Fill ADA ramps as required.","CON",null,335000,"STUL",null,null,74000,"CNTY",409000,130790,null,"2016-06-20",null,"Exempt","Added to TIP 6/20/16",429000]
[2019,"Berrien","Berrien County Road Commission","John Beers Road","Hollywood Road to Scottsdale Road",0.51,"Reconstruct","Construct 5ft paved shoulders and resurface","CON",null,350000,"STUL",null,null,129000,"CNTY",479000,130789,null,"2016-06-20",null,"Exempt","Added to TIP 6/20/16",479000]
[2019,"Berrien","Berrien County Road Commission","Red Arrow Highway ","0.8 miles south of the city limits of Bridgman to 1.6 miles South of the City of Bridgman",0.8,"Resurface","3R Project","CON",null,null,null,null,null,null,null,null,129835,null,"2016-10-07",null,"Exempt","RTF Project - Advisory only, does not use STP-Urban funding.  Approved 10/7/16. Using $400,762 STP-R funds and $117,363 Sate D funds",{"$f":"Q56","v":0},null,null,null,"2016-10-12",null,null,null,null,4]
[2019,"Berrien","City of Benton Harbor","Colfax South Resurfacing","May to Emery",0.25,"Resurface","Full mill and fill with Bike Lanes","CON","ACC",98597,"STUL",null,null,42000,"CITY",{"$f":"K57+O57","v":140597},130791,null,"2017-03-20",null,"Exempt","Repaymnt for an AC in 2017.  $42,000 local match after ACC",228000,null,null,null,"2017-06-19"]
[2019,"BERRIEN","MDOT","I-94","under Glenlord Road and Cleveland Avenue over I-94",0.38500000000000001,"Restore & rehabilitate","Deep Overlay, Substructure Repair, Beam Repair,","CON",null,2727000,"IM",303000,"M",0,"",3030000,126888,null,"2016-06-20",null,null,"Added to TIP 6/20/16",3463000]
[2019,"BERRIEN","MDOT","EB I-94","From Britain Avenue to I-196",3.87,"New route/structure (capacity increase)","Reconstruction of I-94 and partial interchange.","ROW",null,135000,"IM",15000,"M",0,"",150000,130008,null,"2016-06-20",null,null,"Added to TIP 6/20/16",76962750]
[2019,"BERRIEN","MDOT","I-94 BL"," over St. Joseph River in Benton Harbor",0.17899999999999999,"Bridge - other","Epoxy overlay, joints, mechanical, electrical","CON",null,2232905,"NH",495139,"M",0,"",2728044,128063,null,"2016-06-20",null,null,"Added to TIP 6/20/16",3155042]
[2019,"BERRIEN","MDOT","M-63","over St. Joseph River",0.189,"Bridge - other","Epoxy overlay, scour, mechanical & electrical","CON",null,3008373,"NH",667098,"M",0,"",3675471,128059,null,"2016-06-20",null,null,"Added to TIP 6/20/16",4250762]
[2019,"Berrien","TCATA","Regular Operating Expenses","Benton Harbor, St. Joseph, Benton Township",null,"Transit operations","Regular Operation Expenses","T-Ops",null,816249,5307,691681,"CTF",406000,"TRAL",1913930,null,null,"2016-06-20",null,"Exempt","Added to TIP 6/20/16",1913930]
[2019,"Berrien","TCATA","Mobility Manager","Benton Harbor, St. Joseph, Benton Township",null,"Transit capital","Mobility Manager to coordinate transportation for the disabled passengers","T-Cap",null,60000,5310,15000,"CTF",null,null,75000,null,null,"2016-06-20",null,"Exempt","Added to TIP 6/20/16",75000]
[2019,"Berrien","TCATA","Replace One Bus","Benton Harbor, St. Joseph, Benton Township",null,"Transit vehicle additions/replacements","Replace One Bus","T-Cap",null,72000,5339,18000,"CTF",null,null,90000,null,null,"2016-06-20",null,"Exempt","Added to TIP 6/20/16",90000]
[2019,"Berrien","TCATA","JARC","Benton Harbor, St. Joseph, Benton Township",null,"Transit operations","This grant is to provide transportation for low income Benton Harbor residents to I-94 and Red Arrow. This is an area that potentially has 70 employers. ","T-Ops",null,null,null,386040,"CTF",null,null,386040,null,null,"2016-06-20",null,"Exempt","Added to TIP 6/20/16",386040]
[2020,"Berrien","Berrien County Road Commission","Traffic Signal Replacement on Napier Avenue at Leeds Avenue","Intersection of Napier Ave and Leeds Ave.",null,"Traffic ops/safety","Traffic Signal Replacement on Napier Avenue at Leeds Avenue","CON",null,240000,"CMG",null,null,null,null,240000,null,null,"2016-06-20",null,"Exempt","Added to TIP 6/20/16",240000]
[2020,"Berrien","Berrien County Road Commission","Marquette Woods Road Widened Shoulders- Roosevelt to Cleveland","Roosevelt Road to Cleveland Ave.",0.49199999999999999,"Resurface","Resurface, widen shoulders","CON",null,400000,"STUL",null,null,100000,"CNTY",500000,130787,null,"2016-06-20",null,"Exempt","Added to TIP 6/20/16",500000]
[2020,"Berrien","Berrien County Road Commission","Napier Avenue","I-94 to 4300 Ft West",0.77,"Resurface","Mill and fill with ADA ramps as required","CON",null,471000,"STUL",null,null,104100,"CNTY",575100,130865,null,"6.20/16",null,"Exempt","Added to TIP 6/20/16",575100]
[2020,"Berrien","Berrien County Road Commission","Red Arrow Highway ","1.6 miles South of the City limits of Bridgman to 2.4 miles South of Bridgman",0.8,"Resurface","3R Project","CON",null,null,null,null,null,null,null,null,129836,null,"2016-10-07",null,"Exempt","RTF Project - Advisory only, does not use STP-Urban funding.  Approved 10/7/16. Using $646,233 STP-R funds, $117,363 State D funds and $44,195 Local funds",{"$f":"Q69","v":0},null,null,null,"2016-10-12",null,null,null,null,4]
[2020,"BERRIEN","MDOT","M-139 ","at Tanglewood/Anna and M-43 at 16th Avenue",0.71,"Traffic ops/safety","Install passing flares ","CON",null,486712,"CM",107928,"M",null,null,594640,127448,null,"2016-06-20",null,null,"Added to TIP 6/20/16",664510]
[2020,"BERRIEN","MDOT","I-94 WB","From I-196 to 0.7 miles west of M-140",5.6029999999999998,"Resurface","Repair Existing & Multiple Course HMA Overlay","CON",null,13167000,"IM",1463000,"M",null,"",14630000,128907,null,"2016-06-20",null,null,"Added to TIP 6/20/16",15960000]
[2020,"Berrien","SWMPC","Rideshare","Countywide",null,"Miscellaneous","Rideshare Program","EPE",null,12000,"CMG",null,null,null,null,12000,null,null,"2016-06-20",null,"Exempt","Added to TIP 6/20/16",12000]
[2020,"Berrien","TCATA","Regular Operating Expenses","Benton Harbor, St. Joseph, Benton Township",null,"Transit operations","Regular Operation Expenses","T-Ops",null,857061,5307,726265,"CTF",406000,"TRAL",1989326,null,null,"2016-06-20",null,"Exempt","Added to TIP 6/20/16",1989326]
[2020,"Berrien","TCATA","Mobility Manager","Benton Harbor, St. Joseph, Benton Township",null,"Transit capital","Mobility Manager to coordinate transportation for the disabled passengers","T-Cap",null,60000,5310,15000,"CTF",null,null,75000,null,null,"2016-06-20",null,"Exempt","Added to TIP 6/20/16",75000]
[2020,"Berrien","TCATA","Replace One Bus","Benton Harbor, St. Joseph, Benton Township",null,"Transit vehicle additions/replacements","Replace One Bus","T-Cap",null,74400,5339,18600,"CTF",null,null,93000,null,null,"2016-06-20",null,"Exempt","Added to TIP 6/20/16",93000]
[2020,"Berrien","TCATA","JARC","Benton Harbor, St. Joseph, Benton Township",null,"Transit operations","This grant is to provide transportation for low income Benton Harbor residents to I-94 and Red Arrow. This is an area that potentially has 70 employers. ","T-Ops",null,null,null,386040,"CTF",null,null,386040,null,null,"2016-06-20",null,"Exempt","Added to TIP 6/20/16",386040]

{"sheet":"FY 2017","index":1,"n_rows":44,"n_cols":4,"rows_kept":44,"cut":false,"hidden":false,"merged":[[0,1,0,3]]}
[null,"FY 2017"]
["Highway Program","Estimated Federal Commitments","Estimated Non-Federal Commitments","Total Proposed Commitments"]
["MDOT AC & M Program",null,{"$f":"D3","v":469259},{"$f":"SUM('MDOT FTA Detail'!F135:F169)+'MDOT FTA Detail'!F171","v":469259}]
["MDOT FA Program",{"$f":"SUM('MDOT FTA Detail'!D6:D109)","v":4286774},{"$f":"D4-B4","v":856470},{"$f":"SUM('MDOT FTA Detail'!F6:F109)","v":5143244}]
["Sub-Total MDOT",{"$f":"B4","v":4286774},{"$f":"C3+C4","v":1325729},{"$f":"D3+D4","v":5612503}]
["Local STP",{"$f":"SUM('Local Detail'!D78,'Local Detail'!D79,'Local Detail'!D82:D97,'Local Detail'!D72:D73,'Local Detail'!D53:D54,'Local Detail'!D24)","v":844163},{"$f":"D6-B6","v":171798},{"$f":"SUM('Local Detail'!F78,'Local Detail'!F79,'Local Detail'!F82:F97,'Local Detail'!F72:F73,'Local Detail'!F53:F54,'Local Detail'!F24)","v":1015961}]
["Local Bridge",{"$f":"SUM('Local Detail'!D6:D9,'Local Detail'!D13:D16,'Local Detail'!D102,'Local Detail'!D11:D11,'Local Detail'!D43)","v":864000},216000,{"$f":"SUM('Local Detail'!F6:F9,'Local Detail'!F13:F16,'Local Detail'!F102,'Local Detail'!F11:F11,'Local Detail'!F43)","v":1080000}]
["Local CMAQ",{"$f":"SUM('Local Detail'!D20:D23)","v":242000},57500,{"$f":"SUM('Local Detail'!F20:F23)","v":299500}]
["Local Safety",{"$f":"SUM('Local Detail'!D46,'Local Detail'!D48,'Local Detail'!D80:D81)","v":364504.5},40500.5,{"$f":"SUM('Local Detail'!F46,'Local Detail'!F48,'Local Detail'!F80:F81)","v":405005}]
["Local Equity Bonus (TEDF)",{"$f":"SUM('Local Detail'!D31:D38)","v":0},0,{"$f":"SUM('Local Detail'!F31:F38)","v":0}]
["Local Other FHWA",{"$f":"SUM('Local Detail'!D10,'Local Detail'!D12,'Local Detail'!D17:D19,'Local Detail'!D25:D30,'Local Detail'!D39:D42,'Local Detail'!D44:D45,'Local Detail'!D47,'Local Detail'!D49:D52,'Local Detail'!D55:D71,'Local Detail'!D103:D109,'Local Detail'!D98:D101,'Local Detail'!D74:D77)","v":0},0,{"$f":"SUM('Local Detail'!F10,'Local Detail'!F12,'Local Detail'!F17:F19,'Local Detail'!F25:F30,'Local Detail'!F39:F42,'Local Detail'!F44:F45,'Local Detail'!F47,'Local Detail'!F49:F52,'Local Detail'!F55:F71,'Local Detail'!F103:F109,'Local Detail'!F98:F101,'Local Detail'!F74:F77)","v":0}]
["Local AC Starts",null,{"$f":"D12","v":140597},{"$f":"'Local Detail'!F147","v":140597}]
["Local Non-Federal",null,{"$f":"D13","v":62439},{"$f":"SUM('Local Detail'!F111:F145)","v":62439}]
["Sub-Total Local",{"$f":"SUM(B6:B11)","v":2314667.5},{"$f":"SUM(C6:C13)","v":688834.5},{"$f":"SUM(D6:D13)","v":3003502}]
["Total Highway",{"$f":"B14+B5","v":6601441.5},{"$f":"C14+C5","v":2014563.5},{"$f":"D14+D5","v":8616005}]
[]
[]
["Transit Fund Source","Estimated Federal Commitments","Estimated Non-Federal Commitments","Total Proposed Commitments"]
["CTF - Comprehensive Transit Fund",{"$f":"'MDOT FTA Detail'!D110","v":0},{"$f":"IF(B19>0,D19-B19,'MDOT FTA Detail'!E134+'Local Detail'!E110)","v":386040},{"$f":"'Local Detail'!F110+'MDOT FTA Detail'!F134+'MDOT FTA Detail'!F110","v":386040}]
["Section 3038 - Over the Road Bus Program",{"$f":"'MDOT FTA Detail'!D111","v":0},{"$f":"D20-B20","v":0},{"$f":"'MDOT FTA Detail'!F111","v":0}]
["Section 3045 - National Fuel Cell Technology Development Program",{"$f":"'MDOT FTA Detail'!D112","v":0},{"$f":"D21-B21","v":0},{"$f":"'MDOT FTA Detail'!F112","v":0}]
["Section 5303 - Metropolitan Transportation Planning",{"$f":"'MDOT FTA Detail'!D113","v":0},0,{"$f":"'MDOT FTA Detail'!F113","v":0}]
["Section 5304 - Statewide Transportation Planning",{"$f":"'MDOT FTA Detail'!D114","v":0},0,{"$f":"'MDOT FTA Detail'!F114","v":0}]
["Section 5305 - Metropolitan and Statewide Planning",{"$f":"'MDOT FTA Detail'!D115","v":0},0,{"$f":"'MDOT FTA Detail'!F115","v":0}]
["Section 5307 - UZA Formula",{"$f":"'MDOT FTA Detail'!D116","v":1085317},1141731,{"$f":"'MDOT FTA Detail'!F116","v":2227048}]
["Section 5308 - Clean Fuels Program",{"$f":"'MDOT FTA Detail'!D117","v":0},0,{"$f":"'MDOT FTA Detail'!F117","v":0}]
["Section 5309 - Fixed Guideway Capital Investment Grant",{"$f":"'MDOT FTA Detail'!D118","v":0},0,{"$f":"'MDOT FTA Detail'!F118","v":0}]
["Section 5310 - Enhanced Mobility of Seniors and Individuals with Disabilities",{"$f":"'MDOT FTA Detail'!D119","v":60000},15000,{"$f":"'MDOT FTA Detail'!F119","v":75000}]
["Section 5311 - Non-UZA ",{"$f":"'MDOT FTA Detail'!D120","v":0},0,{"$f":"'MDOT FTA Detail'!F120","v":0}]
["Section 5312 - Research, Development, Demonstration, and Deployment",{"$f":"'MDOT FTA Detail'!D121","v":0},{"$f":"D30-B30","v":0},{"$f":"'MDOT FTA Detail'!F121","v":0}]
["Section 5313 - Transit Cooperative Research Program",{"$f":"'MDOT FTA Detail'!D122","v":0},0,{"$f":"'MDOT FTA Detail'!F122","v":0}]
["Section 5314 - Technical Assistance and Standards",{"$f":"'MDOT FTA Detail'!D123","v":0},0,{"$f":"'MDOT FTA Detail'!F123","v":0}]
["Section 5316 - Transit - Section 5316 - Job Access/Reverse Commute",{"$f":"'MDOT FTA Detail'!D124","v":0},0,{"$f":"'MDOT FTA Detail'!F124","v":0}]
["Section 5317 - Transit - Section 5317 - New Freedom Initiative",{"$f":"'MDOT FTA Detail'!D125","v":0},0,{"$f":"'MDOT FTA Detail'!F125","v":0}]
["Section 5320 - Alternative Transportation in Parks and Public Lands",{"$f":"'MDOT FTA Detail'!D126","v":0},0,{"$f":"'MDOT FTA Detail'!F126","v":0}]
["Section 5322 - Human Resources and Training",{"$f":"'MDOT FTA Detail'!D127","v":0},{"$f":"D36-B36","v":0},{"$f":"'MDOT FTA Detail'!F127","v":0}]
["Section 5324 - Emergency Relief",{"$f":"'MDOT FTA Detail'!D128","v":0},{"$f":"D37-B37","v":0},{"$f":"'MDOT FTA Detail'!F128","v":0}]
["Section 5326 - Asset Management Provisions",{"$f":"'MDOT FTA Detail'!D129","v":0},{"$f":"D38-B38","v":0},{"$f":"'MDOT FTA Detail'!F129","v":0}]
["Section 5329 - Safety",{"$f":"'MDOT FTA Detail'!D130","v":0},{"$f":"D39-B39","v":0},{"$f":"'MDOT FTA Detail'!F130","v":0}]
["Section 5337 - State of Good Repair Grants",{"$f":"'MDOT FTA Detail'!D131","v":0},{"$f":"D40-B40","v":0},{"$f":"'MDOT FTA Detail'!F131","v":0}]
["Section 5339 - Bus and Bus Facilities",{"$f":"'MDOT FTA Detail'!D132","v":101947},25486,{"$f":"'MDOT FTA Detail'!F132","v":127433}]
["Section 5505 - University Transportation Centers Program",{"$f":"'MDOT FTA Detail'!D133","v":0},0,{"$f":"'MDOT FTA Detail'!F133","v":0}]
["Total Transit",{"$f":"SUM(B19:B42)","v":1247264},{"$f":"SUM(C19:C42)","v":1568257},{"$f":"SUM(D19:D42)","v":2815521}]
["Grand Total",{"$f":"B43+B15","v":7848705.5},{"$f":"C43+C15","v":3582820.5},{"$f":"D43+D15","v":11431526}]

{"sheet":"FY 2018","index":2,"n_rows":44,"n_cols":4,"rows_kept":44,"cut":false,"hidden":false,"merged":[[0,1,0,3]]}
[null,"FY 2018"]
["Highway Program","Estimated Federal Commitments","Estimated Non-Federal Commitments","Total Proposed Commitments"]
["MDOT AC & M Program",null,{"$f":"D3","v":0},{"$f":"SUM('MDOT FTA Detail'!I135:I169)+'MDOT FTA Detail'!I171","v":0}]
["MDOT FA Program",{"$f":"SUM('MDOT FTA Detail'!G6:G109)","v":20240471},{"$f":"D4-B4","v":2256638},{"$f":"SUM('MDOT FTA Detail'!I6:I109)","v":22497109}]
["Sub-Total MDOT",{"$f":"B4","v":20240471},{"$f":"C3+C4","v":2256638},{"$f":"D3+D4","v":22497109}]
["Local STP",{"$f":"SUM('Local Detail'!G78,'Local Detail'!G79,'Local Detail'!G82:G97,'Local Detail'!G72:G73,'Local Detail'!G53:G54,'Local Detail'!G24)","v":871925},{"$f":"D6-B6","v":1216075},{"$f":"SUM('Local Detail'!I78,'Local Detail'!I79,'Local Detail'!I82:I97,'Local Detail'!I72:I73,'Local Detail'!I53:I54,'Local Detail'!I24)","v":2088000}]
["Local Bridge",{"$f":"SUM('Local Detail'!G6:G9,'Local Detail'!G13:G16,'Local Detail'!G102,'Local Detail'!G11:G11,'Local Detail'!G43)","v":0},0,{"$f":"SUM('Local Detail'!I6:I9,'Local Detail'!I13:I16,'Local Detail'!I102,'Local Detail'!I11:I11,'Local Detail'!I43)","v":0}]
["Local CMAQ",{"$f":"SUM('Local Detail'!G20:G23)","v":276254},0,{"$f":"SUM('Local Detail'!I20:I23)","v":276254}]
["Local Safety",{"$f":"SUM('Local Detail'!G46,'Local Detail'!G48,'Local Detail'!G80:G81)","v":0},0,{"$f":"SUM('Local Detail'!I46,'Local Detail'!I48,'Local Detail'!I80:I81)","v":0}]
["Local Equity Bonus (TEDF)",{"$f":"SUM('Local Detail'!G31:G38)","v":0},0,{"$f":"SUM('Local Detail'!I31:I38)","v":0}]
["Local Other FHWA",{"$f":"SUM('Local Detail'!G10,'Local Detail'!G12,'Local Detail'!G17:G19,'Local Detail'!G25:G30,'Local Detail'!G39:G42,'Local Detail'!G44:G45,'Local Detail'!G47,'Local Detail'!G49:G52,'Local Detail'!G55:G71,'Local Detail'!G103:G109,'Local Detail'!G98:G101,'Local Detail'!G74:G77)","v":0},0,{"$f":"SUM('Local Detail'!I10,'Local Detail'!I12,'Local Detail'!I17:I19,'Local Detail'!I25:I30,'Local Detail'!I39:I42,'Local Detail'!I44:I45,'Local Detail'!I47,'Local Detail'!I49:I52,'Local Detail'!I55:I71,'Local Detail'!I103:I109,'Local Detail'!I98:I101,'Local Detail'!I74:I77)","v":0}]
["Local AC Starts",null,{"$f":"D12","v":0},{"$f":"'Local Detail'!I147","v":0}]
["Local Non-Federal",null,{"$f":"D13","v":0},{"$f":"SUM('Local Detail'!I111:I145)","v":0}]
["Sub-Total Local",{"$f":"SUM(B6:B11)","v":1148179},{"$f":"SUM(C6:C13)","v":1216075},{"$f":"SUM(D6:D13)","v":2364254}]
["Total Highway",{"$f":"B14+B5","v":21388650},{"$f":"C14+C5","v":3472713},{"$f":"D14+D5","v":24861363}]
[]
[]
["Transit Fund Source","Estimated Federal Commitments","Estimated Non-Federal Commitments","Total Proposed Commitments"]
["CTF - Comprehensive Transit Fund",{"$f":"'MDOT FTA Detail'!G110","v":0},{"$f":"IF(B19>0,D19-B19,'MDOT FTA Detail'!H134+'Local Detail'!H110)","v":430347},{"$f":"'MDOT FTA Detail'!I110+'MDOT FTA Detail'!I134+'Local Detail'!I110","v":430347}]
["Section 3038 - Over the Road Bus Program",{"$f":"'MDOT FTA Detail'!G111","v":0},{"$f":"D20-B20","v":0},{"$f":"'MDOT FTA Detail'!I111","v":0}]
["Section 3045 - National Fuel Cell Technology Development Program",{"$f":"'MDOT FTA Detail'!G112","v":0},{"$f":"D21-B21","v":0},{"$f":"'MDOT FTA Detail'!I112","v":0}]
["Section 5303 - Metropolitan Transportation Planning",{"$f":"'MDOT FTA Detail'!G113","v":0},0,{"$f":"'MDOT FTA Detail'!I113","v":0}]
["Section 5304 - Statewide Transportation Planning",{"$f":"'MDOT FTA Detail'!G114","v":0},0,{"$f":"'MDOT FTA Detail'!I114","v":0}]
["Section 5305 - Metropolitan and Statewide Planning",{"$f":"'MDOT FTA Detail'!G115","v":0},0,{"$f":"'MDOT FTA Detail'!I115","v":0}]
["Section 5307 - UZA Formula",{"$f":"'MDOT FTA Detail'!G116","v":813836},1082370,{"$f":"'MDOT FTA Detail'!I116","v":1896206}]
["Section 5308 - Clean Fuels Program",{"$f":"'MDOT FTA Detail'!G117","v":0},0,{"$f":"'MDOT FTA Detail'!I117","v":0}]
["Section 5309 - Fixed Guideway Capital Investment Grant",{"$f":"'MDOT FTA Detail'!G118","v":0},0,{"$f":"'MDOT FTA Detail'!I118","v":0}]
["Section 5310 - Enhanced Mobility of Seniors and Individuals with Disabilities",{"$f":"'MDOT FTA Detail'!G119","v":60000},15000,{"$f":"'MDOT FTA Detail'!I119","v":75000}]
["Section 5311 - Non-UZA ",{"$f":"'MDOT FTA Detail'!G120","v":0},0,{"$f":"'MDOT FTA Detail'!I120","v":0}]
["Section 5312 - Research, Development, Demonstration, and Deployment",{"$f":"'MDOT FTA Detail'!G121","v":0},{"$f":"D30-B30","v":0},{"$f":"'MDOT FTA Detail'!I121","v":0}]
["Section 5313 - Transit Cooperative Research Program",{"$f":"'MDOT FTA Detail'!G122","v":0},0,{"$f":"'MDOT FTA Detail'!I122","v":0}]
["Section 5314 - Technical Assistance and Standards",{"$f":"'MDOT FTA Detail'!G123","v":0},0,{"$f":"'MDOT FTA Detail'!I123","v":0}]
["Section 5316 - Transit - Section 5316 - Job Access/Reverse Commute",{"$f":"'MDOT FTA Detail'!G124","v":0},0,{"$f":"'MDOT FTA Detail'!I124","v":0}]
["Section 5317 - Transit - Section 5317 - New Freedom Initiative",{"$f":"'MDOT FTA Detail'!G125","v":0},0,{"$f":"'MDOT FTA Detail'!I125","v":0}]
["Section 5320 - Alternative Transportation in Parks and Public Lands",{"$f":"'MDOT FTA Detail'!G126","v":0},0,{"$f":"'MDOT FTA Detail'!I126","v":0}]
["Section 5322 - Human Resources and Training",{"$f":"'MDOT FTA Detail'!G127","v":0},{"$f":"D36-B36","v":0},{"$f":"'MDOT FTA Detail'!I127","v":0}]
["Section 5324 - Emergency Relief",{"$f":"'MDOT FTA Detail'!G128","v":0},{"$f":"D37-B37","v":0},{"$f":"'MDOT FTA Detail'!I128","v":0}]
["Section 5326 - Asset Management Provisions",{"$f":"'MDOT FTA Detail'!G129","v":0},{"$f":"D38-B38","v":0},{"$f":"'MDOT FTA Detail'!I129","v":0}]
["Section 5329 - Safety",{"$f":"'MDOT FTA Detail'!G130","v":0},{"$f":"D39-B39","v":0},{"$f":"'MDOT FTA Detail'!I130","v":0}]
["Section 5337 - State of Good Repair Grants",{"$f":"'MDOT FTA Detail'!G131","v":0},{"$f":"D40-B40","v":0},{"$f":"'MDOT FTA Detail'!I131","v":0}]
["Section 5339 - Bus and Bus Facilities",{"$f":"'MDOT FTA Detail'!G132","v":80000},20000,{"$f":"'MDOT FTA Detail'!I132","v":100000}]
["Section 5505 - University Transportation Centers Program",{"$f":"'MDOT FTA Detail'!G133","v":0},0,{"$f":"'MDOT FTA Detail'!I133","v":0}]
["Total Transit",{"$f":"SUM(B19:B42)","v":953836},{"$f":"SUM(C19:C42)","v":1547717},{"$f":"SUM(D19:D42)","v":2501553}]
["Grand Total",{"$f":"B43+B15","v":22342486},{"$f":"C43+C15","v":5020430},{"$f":"D43+D15","v":27362916}]

{"sheet":"FY 2019","index":3,"n_rows":44,"n_cols":4,"rows_kept":44,"cut":false,"hidden":false,"merged":[[0,1,0,3]]}
[null,"FY 2019"]
["Highway Program","Estimated Federal Commitments","Estimated Non-Federal Commitments","Total Proposed Commitments"]
["MDOT AC & M Program",null,{"$f":"D3","v":0},{"$f":"SUM('MDOT FTA Detail'!L135:L169)+'MDOT FTA Detail'!L171","v":0}]
["MDOT FA Program",{"$f":"SUM('MDOT FTA Detail'!J6:J109)","v":8103278},{"$f":"D4-B4","v":1480237},{"$f":"SUM('MDOT FTA Detail'!L6:L109)","v":9583515}]
["Sub-Total MDOT",{"$f":"B4","v":8103278},{"$f":"C3+C4","v":1480237},{"$f":"D3+D4","v":9583515}]
["Local STP",{"$f":"SUM('Local Detail'!J78,'Local Detail'!J79,'Local Detail'!J82:J97,'Local Detail'!J72:J73,'Local Detail'!J53:J54,'Local Detail'!J24)","v":783597},{"$f":"D6-B6","v":245000},{"$f":"SUM('Local Detail'!L78,'Local Detail'!L79,'Local Detail'!L82:L97,'Local Detail'!L72:L73,'Local Detail'!L53:L54,'Local Detail'!L24)","v":1028597}]
["Local Bridge",{"$f":"SUM('Local Detail'!J6:J9,'Local Detail'!J13:J16,'Local Detail'!J102,'Local Detail'!J11:J11,'Local Detail'!J43)","v":0},0,{"$f":"SUM('Local Detail'!L6:L9,'Local Detail'!L13:L16,'Local Detail'!L102,'Local Detail'!L11:L11,'Local Detail'!L43)","v":0}]
["Local CMAQ",{"$f":"SUM('Local Detail'!J20:J23)","v":0},0,{"$f":"SUM('Local Detail'!L20:L23)","v":0}]
["Local Safety",{"$f":"SUM('Local Detail'!J46,'Local Detail'!J48,'Local Detail'!J80:J81)","v":0},0,{"$f":"SUM('Local Detail'!L46,'Local Detail'!L48,'Local Detail'!L80:L81)","v":0}]
["Local Equity Bonus (TEDF)",{"$f":"SUM('Local Detail'!J31:J38)","v":0},0,{"$f":"SUM('Local Detail'!L31:L38)","v":0}]
["Local Other FHWA",{"$f":"SUM('Local Detail'!J10,'Local Detail'!J12,'Local Detail'!J17:J19,'Local Detail'!J25:J30,'Local Detail'!J39:J42,'Local Detail'!J44:J45,'Local Detail'!J47,'Local Detail'!J49:J52,'Local Detail'!J55:J71,'Local Detail'!J103:J109,'Local Detail'!J98:J101,'Local Detail'!J74:J77)","v":0},0,{"$f":"SUM('Local Detail'!L10,'Local Detail'!L12,'Local Detail'!L17:L19,'Local Detail'!L25:L30,'Local Detail'!L39:L42,'Local Detail'!L44:L45,'Local Detail'!L47,'Local Detail'!L49:L52,'Local Detail'!L55:L71,'Local Detail'!L103:L109,'Local Detail'!L98:L101,'Local Detail'!L74:L77)","v":0}]
["Local AC Starts",null,{"$f":"D12","v":0},{"$f":"'Local Detail'!L147","v":0}]
["Local Non-Federal",null,{"$f":"D13","v":0},{"$f":"SUM('Local Detail'!L111:L145)","v":0}]
["Sub-Total Local",{"$f":"SUM(B6:B11)","v":783597},{"$f":"SUM(C6:C13)","v":245000},{"$f":"SUM(D6:D13)","v":1028597}]
["Total Highway",{"$f":"B14+B5","v":8886875},{"$f":"C14+C5","v":1725237},{"$f":"D14+D5","v":10612112}]
[]
[]
["Transit Fund Source","Estimated Federal Commitments","Estimated Non-Federal Commitments","Total Proposed Commitments"]
["CTF - Comprehensive Transit Fund",{"$f":"'MDOT FTA Detail'!J110","v":0},{"$f":"IF(B19>0,D19-B19,'MDOT FTA Detail'!K134+'Local Detail'!K110)","v":386040},{"$f":"'MDOT FTA Detail'!L110+'MDOT FTA Detail'!L134+'Local Detail'!L110","v":386040}]
["Section 3038 - Over the Road Bus Program",{"$f":"'MDOT FTA Detail'!J111","v":0},{"$f":"D20-B20","v":0},{"$f":"'MDOT FTA Detail'!L111","v":0}]
["Section 3045 - National Fuel Cell Technology Development Program",{"$f":"'MDOT FTA Detail'!J112","v":0},{"$f":"D21-B21","v":0},{"$f":"'MDOT FTA Detail'!L112","v":0}]
["Section 5303 - Metropolitan Transportation Planning",{"$f":"'MDOT FTA Detail'!J113","v":0},0,{"$f":"'MDOT FTA Detail'!L113","v":0}]
["Section 5304 - Statewide Transportation Planning",{"$f":"'MDOT FTA Detail'!J114","v":0},0,{"$f":"'MDOT FTA Detail'!L114","v":0}]
["Section 5305 - Metropolitan and Statewide Planning",{"$f":"'MDOT FTA Detail'!J115","v":0},0,{"$f":"'MDOT FTA Detail'!L115","v":0}]
["Section 5307 - UZA Formula",{"$f":"'MDOT FTA Detail'!J116","v":816249},1097681,{"$f":"'MDOT FTA Detail'!L116","v":1913930}]
["Section 5308 - Clean Fuels Program",{"$f":"'MDOT FTA Detail'!J117","v":0},0,{"$f":"'MDOT FTA Detail'!L117","v":0}]
["Section 5309 - Fixed Guideway Capital Investment Grant",{"$f":"'MDOT FTA Detail'!J118","v":0},0,{"$f":"'MDOT FTA Detail'!L118","v":0}]
["Section 5310 - Enhanced Mobility of Seniors and Individuals with Disabilities",{"$f":"'MDOT FTA Detail'!J119","v":60000},15000,{"$f":"'MDOT FTA Detail'!L119","v":75000}]
["Section 5311 - Non-UZA ",{"$f":"'MDOT FTA Detail'!J120","v":0},0,{"$f":"'MDOT FTA Detail'!L120","v":0}]
["Section 5312 - Research, Development, Demonstration, and Deployment",{"$f":"'MDOT FTA Detail'!J121","v":0},{"$f":"D30-B30","v":0},{"$f":"'MDOT FTA Detail'!L121","v":0}]
["Section 5313 - Transit Cooperative Research Program",{"$f":"'MDOT FTA Detail'!J122","v":0},0,{"$f":"'MDOT FTA Detail'!L122","v":0}]
["Section 5314 - Technical Assistance and Standards",{"$f":"'MDOT FTA Detail'!J123","v":0},0,{"$f":"'MDOT FTA Detail'!L123","v":0}]
["Section 5316 - Transit - Section 5316 - Job Access/Reverse Commute",{"$f":"'MDOT FTA Detail'!J124","v":0},0,{"$f":"'MDOT FTA Detail'!L124","v":0}]
["Section 5317 - Transit - Section 5317 - New Freedom Initiative",{"$f":"'MDOT FTA Detail'!J125","v":0},0,{"$f":"'MDOT FTA Detail'!L125","v":0}]
["Section 5320 - Alternative Transportation in Parks and Public Lands",{"$f":"'MDOT FTA Detail'!J126","v":0},0,{"$f":"'MDOT FTA Detail'!L126","v":0}]
["Section 5322 - Human Resources and Training",{"$f":"'MDOT FTA Detail'!J127","v":0},{"$f":"D36-B36","v":0},{"$f":"'MDOT FTA Detail'!L127","v":0}]
["Section 5324 - Emergency Relief",{"$f":"'MDOT FTA Detail'!J128","v":0},{"$f":"D37-B37","v":0},{"$f":"'MDOT FTA Detail'!L128","v":0}]
["Section 5326 - Asset Management Provisions",{"$f":"'MDOT FTA Detail'!J129","v":0},{"$f":"D38-B38","v":0},{"$f":"'MDOT FTA Detail'!L129","v":0}]
["Section 5329 - Safety",{"$f":"'MDOT FTA Detail'!J130","v":0},{"$f":"D39-B39","v":0},{"$f":"'MDOT FTA Detail'!L130","v":0}]
["Section 5337 - State of Good Repair Grants",{"$f":"'MDOT FTA Detail'!J131","v":0},{"$f":"D40-B40","v":0},{"$f":"'MDOT FTA Detail'!L131","v":0}]
["Section 5339 - Bus and Bus Facilities",{"$f":"'MDOT FTA Detail'!J132","v":72000},18000,{"$f":"'MDOT FTA Detail'!L132","v":90000}]
["Section 5505 - University Transportation Centers Program",{"$f":"'MDOT FTA Detail'!J133","v":0},0,{"$f":"'MDOT FTA Detail'!L133","v":0}]
["Total Transit",{"$f":"SUM(B19:B42)","v":948249},{"$f":"SUM(C19:C42)","v":1516721},{"$f":"SUM(D19:D42)","v":2464970}]
["Grand Total",{"$f":"B43+B15","v":9835124},{"$f":"C43+C15","v":3241958},{"$f":"D43+D15","v":13077082}]

{"sheet":"FY 2020","index":4,"n_rows":44,"n_cols":4,"rows_kept":44,"cut":false,"hidden":false,"merged":[[0,1,0,3]]}
[null,"FY 2020"]
["Highway Program","Estimated Federal Commitments","Estimated Non-Federal Commitments","Total Proposed Commitments"]
["MDOT AC & M Program",null,{"$f":"D3","v":0},{"$f":"SUM('MDOT FTA Detail'!O135:O169)+'MDOT FTA Detail'!O171","v":0}]
["MDOT FA Program",{"$f":"SUM('MDOT FTA Detail'!M6:M109)","v":13653712},{"$f":"D4-B4","v":1570928},{"$f":"SUM('MDOT FTA Detail'!O6:O109)","v":15224640}]
["Sub-Total MDOT",{"$f":"B3+B4","v":13653712},{"$f":"D5-B5","v":1570928},{"$f":"D3+D4","v":15224640}]
["Local STP",{"$f":"SUM('Local Detail'!M78,'Local Detail'!M79,'Local Detail'!M82:M97,'Local Detail'!M72:M73,'Local Detail'!M53:M54,'Local Detail'!M24)","v":871000},204100,{"$f":"SUM('Local Detail'!O78,'Local Detail'!O79,'Local Detail'!O82:O97,'Local Detail'!O72:O73,'Local Detail'!O53:O54,'Local Detail'!O24)","v":1075100}]
["Local Bridge",{"$f":"SUM('Local Detail'!M6:M9,'Local Detail'!M13:M16,'Local Detail'!M102,'Local Detail'!M11:M11,'Local Detail'!M43)","v":0},0,{"$f":"SUM('Local Detail'!O6:O9,'Local Detail'!O13:O16,'Local Detail'!O102,'Local Detail'!O11:O11,'Local Detail'!O43)","v":0}]
["Local CMAQ",{"$f":"SUM('Local Detail'!M20:M23)","v":252000},0,{"$f":"SUM('Local Detail'!O20:O23)","v":252000}]
["Local Safety",{"$f":"SUM('Local Detail'!M46,'Local Detail'!M48,'Local Detail'!M80:M81)","v":0},0,{"$f":"SUM('Local Detail'!O46,'Local Detail'!O48,'Local Detail'!O80:O81)","v":0}]
["Local Equity Bonus (TEDF)",{"$f":"SUM('Local Detail'!M31:M38)","v":0},0,{"$f":"SUM('Local Detail'!O31:O38)","v":0}]
["Local Other FHWA",{"$f":"SUM('Local Detail'!M10,'Local Detail'!M12,'Local Detail'!M17:M19,'Local Detail'!M25:M30,'Local Detail'!M39:M42,'Local Detail'!M44:M45,'Local Detail'!M47,'Local Detail'!M49:M52,'Local Detail'!M55:M71,'Local Detail'!M103:M109,'Local Detail'!M98:M101,'Local Detail'!M74:M77)","v":0},0,{"$f":"SUM('Local Detail'!O10,'Local Detail'!O12,'Local Detail'!O17:O19,'Local Detail'!O25:O30,'Local Detail'!O39:O42,'Local Detail'!O44:O45,'Local Detail'!O47,'Local Detail'!O49:O52,'Local Detail'!O55:O71,'Local Detail'!O103:O109,'Local Detail'!O98:O101,'Local Detail'!O74:O77)","v":0}]
["Local AC Starts",null,{"$f":"D12","v":0},{"$f":"'Local Detail'!O147","v":0}]
["Local Non-Federal",null,{"$f":"D13","v":0},{"$f":"SUM('Local Detail'!O111:O145)","v":0}]
["Sub-Total Local",{"$f":"SUM(B6:B11)","v":1123000},{"$f":"SUM(C6:C13)","v":204100},{"$f":"SUM(D6:D13)","v":1327100}]
["Total Highway",{"$f":"B14+B5","v":14776712},{"$f":"C14+C5","v":1775028},{"$f":"D14+D5","v":16551740}]
[]
[]
["Transit Fund Source","Estimated Federal Commitments","Estimated Non-Federal Commitments","Total Proposed Commitments"]
["CTF - Comprehensive Transit Fund",{"$f":"'MDOT FTA Detail'!M110","v":0},{"$f":"IF(B19>0,D19-B19,'MDOT FTA Detail'!N134+'Local Detail'!N110)","v":386040},{"$f":"'MDOT FTA Detail'!O110+'MDOT FTA Detail'!O134+'Local Detail'!O110","v":386040}]
["Section 3038 - Over the Road Bus Program",{"$f":"'MDOT FTA Detail'!M111","v":0},{"$f":"D20-B20","v":0},{"$f":"'MDOT FTA Detail'!O111","v":0}]
["Section 3045 - National Fuel Cell Technology Development Program",{"$f":"'MDOT FTA Detail'!M112","v":0},{"$f":"D21-B21","v":0},{"$f":"'MDOT FTA Detail'!O112","v":0}]
["Section 5303 - Metropolitan Transportation Planning",{"$f":"'MDOT FTA Detail'!M113","v":0},0,{"$f":"'MDOT FTA Detail'!O113","v":0}]
["Section 5304 - Statewide Transportation Planning",{"$f":"'MDOT FTA Detail'!M114","v":0},0,{"$f":"'MDOT FTA Detail'!O114","v":0}]
["Section 5305 - Metropolitan and Statewide Planning",{"$f":"'MDOT FTA Detail'!M115","v":0},0,{"$f":"'MDOT FTA Detail'!O115","v":0}]
["Section 5307 - UZA Formula",{"$f":"'MDOT FTA Detail'!M116","v":857061},1132265,{"$f":"'MDOT FTA Detail'!O116","v":1989326}]
["Section 5308 - Clean Fuels Program",{"$f":"'MDOT FTA Detail'!M117","v":0},0,{"$f":"'MDOT FTA Detail'!O117","v":0}]
["Section 5309 - Fixed Guideway Capital Investment Grant",{"$f":"'MDOT FTA Detail'!M118","v":0},0,{"$f":"'MDOT FTA Detail'!O118","v":0}]
["Section 5310 - Enhanced Mobility of Seniors and Individuals with Disabilities",{"$f":"'MDOT FTA Detail'!M119","v":60000},15000,{"$f":"'MDOT FTA Detail'!O119","v":75000}]
["Section 5311 - Non-UZA ",{"$f":"'MDOT FTA Detail'!M120","v":0},0,{"$f":"'MDOT FTA Detail'!O120","v":0}]
["Section 5312 - Research, Development, Demonstration, and Deployment",{"$f":"'MDOT FTA Detail'!M121","v":0},{"$f":"D30-B30","v":0},{"$f":"'MDOT FTA Detail'!O121","v":0}]
["Section 5313 - Transit Cooperative Research Program",{"$f":"'MDOT FTA Detail'!M122","v":0},0,{"$f":"'MDOT FTA Detail'!O122","v":0}]
["Section 5314 - Technical Assistance and Standards",{"$f":"'MDOT FTA Detail'!M123","v":0},0,{"$f":"'MDOT FTA Detail'!O123","v":0}]
["Section 5316 - Transit - Section 5316 - Job Access/Reverse Commute",{"$f":"'MDOT FTA Detail'!M124","v":0},0,{"$f":"'MDOT FTA Detail'!O124","v":0}]
["Section 5317 - Transit - Section 5317 - New Freedom Initiative",{"$f":"'MDOT FTA Detail'!M125","v":0},0,{"$f":"'MDOT FTA Detail'!O125","v":0}]
["Section 5320 - Alternative Transportation in Parks and Public Lands",{"$f":"'MDOT FTA Detail'!M126","v":0},0,{"$f":"'MDOT FTA Detail'!O126","v":0}]
["Section 5322 - Human Resources and Training",{"$f":"'MDOT FTA Detail'!M127","v":0},{"$f":"D36-B36","v":0},{"$f":"'MDOT FTA Detail'!O127","v":0}]
["Section 5324 - Emergency Relief",{"$f":"'MDOT FTA Detail'!M128","v":0},{"$f":"D37-B37","v":0},{"$f":"'MDOT FTA Detail'!O128","v":0}]
["Section 5326 - Asset Management Provisions",{"$f":"'MDOT FTA Detail'!M129","v":0},{"$f":"D38-B38","v":0},{"$f":"'MDOT FTA Detail'!O129","v":0}]
["Section 5329 - Safety",{"$f":"'MDOT FTA Detail'!M130","v":0},{"$f":"D39-B39","v":0},{"$f":"'MDOT FTA Detail'!O130","v":0}]
["Section 5337 - State of Good Repair Grants",{"$f":"'MDOT FTA Detail'!M131","v":0},{"$f":"D40-B40","v":0},{"$f":"'MDOT FTA Detail'!O131","v":0}]
["Section 5339 - Bus and Bus Facilities",{"$f":"'MDOT FTA Detail'!M132","v":74400},18600,{"$f":"'MDOT FTA Detail'!O132","v":93000}]
["Section 5505 - University Transportation Centers Program",{"$f":"'MDOT FTA Detail'!M133","v":0},0,{"$f":"'MDOT FTA Detail'!O133","v":0}]
["Total Transit",{"$f":"SUM(B19:B42)","v":991461},{"$f":"SUM(C19:C42)","v":1551905},{"$f":"SUM(D19:D42)","v":2543366}]
["Grand Total",{"$f":"B43+B15","v":15768173},{"$f":"C43+C15","v":3326933},{"$f":"D43+D15","v":19095106}]

{"sheet":"Constraint","index":5,"n_rows":46,"n_cols":17,"rows_kept":46,"cut":false,"hidden":false,"merged":[[0,13,0,16],[0,1,0,4],[0,5,0,8],[0,9,0,12]]}
["2013-06-03",2017,null,null,null,2018,null,null,null,2019,null,null,null,2020]
["Highway Program","Estimated Federal Revenue","Estimated Non-Federal Revenue","Estimated Total Revenue","Total Proposed Commitments","Estimated Federal Revenue","Estimated Non-Federal Revenue","Estimated Total Revenue","Total Proposed Commitments","Estimated Federal Revenue","Estimated Non-Federal Revenue","Estimated Total Revenue","Total Proposed Commitments","Estimated Federal Revenue","Estimated Non-Federal Revenue","Estimated Total Revenue","Total Proposed Commitments"]
["MDOT AC & M Program",null,469259,{"$f":"E3","v":469259},{"$f":"'FY 2017'!D3","v":469259},null,null,{"$f":"G3","v":0},{"$f":"'FY 2018'!D3","v":0},null,null,{"$f":"K3","v":0},{"$f":"'FY 2019'!D3","v":0},null,null,{"$f":"O3","v":0},{"$f":"'FY 2020'!D3","v":0}]
["MDOT FA Program",4286774,856470,{"$f":"B4+C4","v":5143244},{"$f":"'FY 2017'!D4","v":5143244},20240471,2256638,{"$f":"F4+G4","v":22497109},{"$f":"'FY 2018'!D4","v":22497109},8103278,1480237,{"$f":"J4+K4","v":9583515},{"$f":"'FY 2019'!D4","v":9583515},13653712,1570928,{"$f":"N4+O4","v":15224640},{"$f":"'FY 2020'!D4","v":15224640}]
["Sub-Total MDOT",{"$f":"SUM(B3:B4)","v":4286774},{"$f":"SUM(C3:C4)","v":1325729},{"$f":"D3+D4","v":5612503},{"$f":"'FY 2017'!D5","v":5612503},{"$f":"SUM(F4)","v":20240471},{"$f":"SUM(G3:G4)","v":2256638},{"$f":"H3+H4","v":22497109},{"$f":"'FY 2018'!D5","v":22497109},{"$f":"SUM(J4)","v":8103278},{"$f":"SUM(K3:K4)","v":1480237},{"$f":"L3+L4","v":9583515},{"$f":"'FY 2019'!D5","v":9583515},{"$f":"SUM(N4)","v":13653712},{"$f":"SUM(O3:O4)","v":1570928},{"$f":"P3+P4","v":15224640},{"$f":"'FY 2020'!D5","v":15224640}]
["Local STP",871925,{"$f":"Projects!O7+Projects!O8","v":171798},{"$f":"B6+C6","v":1043723},{"$f":"'FY 2017'!D6","v":1015961},871925,{"$f":"216075+1000000","v":1216075},{"$f":"F6+G6","v":2088000},{"$f":"'FY 2018'!D6","v":2088000},871925,245000,{"$f":"J6+K6","v":1116925},{"$f":"'FY 2019'!D6","v":1028597},871925,204100,{"$f":"N6+O6","v":1076025},{"$f":"'FY 2020'!D6","v":1075100}]
["Local Bridge",864000,216000,{"$f":"B7+C7","v":1080000},{"$f":"'FY 2017'!D7","v":1080000},null,null,{"$f":"F7+G7","v":0},{"$f":"'FY 2018'!D7","v":0},null,null,{"$f":"J7+K7","v":0},{"$f":"'FY 2019'!D7","v":0},null,null,{"$f":"N7+O7","v":0},{"$f":"'FY 2020'!D7","v":0}]
["Local CMAQ",242000,57500,{"$f":"B8+C8","v":299500},{"$f":"'FY 2017'!D8","v":299500},276254,0,276254,{"$f":"'FY 2018'!D8","v":276254},null,null,0,{"$f":"'FY 2019'!D8","v":0},{"$f":"240000+12000","v":252000},null,252000,{"$f":"'FY 2020'!D8","v":252000}]
["Local Safety",364504.5,40500.5,405005,{"$f":"'FY 2017'!D9","v":405005},null,null,0,{"$f":"'FY 2018'!D9","v":0},null,null,0,{"$f":"'FY 2019'!D9","v":0},null,null,0,{"$f":"'FY 2020'!D9","v":0}]
["Local Equity Bonus (TEDF)",null,null,0,{"$f":"'FY 2017'!D10","v":0},null,null,0,{"$f":"'FY 2018'!D10","v":0},null,null,0,{"$f":"'FY 2019'!D10","v":0},null,null,0,{"$f":"'FY 2020'!D10","v":0}]
["Local Other FHWA",null,null,0,{"$f":"'FY 2017'!D11","v":0},null,null,0,{"$f":"'FY 2018'!D11","v":0},null,null,0,{"$f":"'FY 2019'!D11","v":0},null,null,0,{"$f":"'FY 2020'!D11","v":0}]
["Local AC Starts",null,{"$f":"E12","v":140597},{"$f":"B12+C12","v":140597},{"$f":"'FY 2017'!D12","v":140597},null,null,0,{"$f":"'FY 2018'!D12","v":0},null,null,0,{"$f":"'FY 2019'!D12","v":0},null,null,0,{"$f":"'FY 2020'!D12","v":0}]
["Local Non-Federal",null,{"$f":"E13","v":62439},62439,{"$f":"'FY 2017'!D13","v":62439},null,null,0,{"$f":"'FY 2018'!D13","v":0},null,null,0,{"$f":"'FY 2019'!D13","v":0},null,null,0,{"$f":"'FY 2020'!D13","v":0}]
["Sub-Total Local",{"$f":"SUM(B6:B11)","v":2342429.5},{"$f":"SUM(C6:C13)","v":688834.5},{"$f":"SUM(D6:D13)","v":3031264},3003502,{"$f":"SUM(F6:F11)","v":1148179},{"$f":"SUM(G6:G13)","v":1216075},{"$f":"SUM(H6:H13)","v":2364254},{"$f":"'FY 2018'!D14","v":2364254},{"$f":"SUM(J6:J11)","v":871925},{"$f":"SUM(K6:K13)","v":245000},{"$f":"SUM(L6:L13)","v":1116925},{"$f":"'FY 2019'!D14","v":1028597},{"$f":"SUM(N6:N11)","v":1123925},{"$f":"SUM(O6:O13)","v":204100},{"$f":"SUM(P6:P13)","v":1328025},{"$f":"'FY 2020'!D14","v":1327100}]
["Total Highway",{"$f":"B14+B5","v":6629203.5},{"$f":"C14+C5","v":2014563.5},8643767,8616005,{"$f":"F14+F5","v":21388650},{"$f":"G14+G5","v":3472713},{"$f":"H14+H5","v":24861363},{"$f":"'FY 2018'!D15","v":24861363},{"$f":"J14+J5","v":8975203},{"$f":"K14+K5","v":1725237},{"$f":"L14+L5","v":10700440},{"$f":"'FY 2019'!D15","v":10612112},{"$f":"N14+N5","v":14777637},{"$f":"O14+O5","v":1775028},{"$f":"P14+P5","v":16552665},{"$f":"'FY 2020'!D15","v":16551740}]
[]
[]
["Transit Fund Source","Estimated Federal Revenue","Estimated Non-Federal Revenue","Estimated Total Revenue","Total Proposed Commitments","Estimated Federal Revenue","Estimated Non-Federal Revenue","Estimated Total Revenue","Total Proposed Commitments","Estimated Federal Revenue","Estimated Non-Federal Revenue","Estimated Total Revenue","Total Proposed Commitments","Estimated Federal Revenue","Estimated Non-Federal Revenue","Estimated Total Revenue","Total Proposed Commitments"]
["CTF - Comprehensive Transit Fund",null,386040,{"$f":"B19+C19","v":386040},{"$f":"'FY 2017'!D19","v":386040},null,{"$f":"397347+33000","v":430347},{"$f":"F19+G19","v":430347},{"$f":"'FY 2018'!D19","v":430347},null,386040,{"$f":"J19+K19","v":386040},{"$f":"'FY 2019'!D19","v":386040},null,386040,{"$f":"N19+O19","v":386040},{"$f":"'FY 2020'!D19","v":386040}]
["Section 3038 - Over the Road Bus Program",null,null,{"$f":"B20+C20","v":0},{"$f":"'FY 2017'!D20","v":0},null,null,{"$f":"F20+G20","v":0},{"$f":"'FY 2018'!D20","v":0},null,null,{"$f":"J20+K20","v":0},{"$f":"'FY 2019'!D20","v":0},null,null,{"$f":"N20+O20","v":0},{"$f":"'FY 2020'!D20","v":0}]
["Section 3045 - National Fuel Cell Technology Development Program",null,null,{"$f":"B21+C21","v":0},{"$f":"'FY 2017'!D21","v":0},null,null,{"$f":"F21+G21","v":0},{"$f":"'FY 2018'!D21","v":0},null,null,{"$f":"J21+K21","v":0},{"$f":"'FY 2019'!D21","v":0},null,null,{"$f":"N21+O21","v":0},{"$f":"'FY 2020'!D21","v":0}]
["Section 5303 - Metropolitan Transportation Planning",null,null,0,{"$f":"'FY 2017'!D22","v":0},null,null,0,{"$f":"'FY 2018'!D22","v":0},null,null,0,{"$f":"'FY 2019'!D22","v":0},null,null,0,{"$f":"'FY 2020'!D22","v":0}]
["Section 5304 - Statewide Transportation Planning",null,null,0,{"$f":"'FY 2017'!D23","v":0},null,null,0,{"$f":"'FY 2018'!D23","v":0},null,null,0,{"$f":"'FY 2019'!D23","v":0},null,null,0,{"$f":"'FY 2020'!D23","v":0}]
["Section 5305 - Metropolitan and Statewide Planning",null,null,0,{"$f":"'FY 2017'!D24","v":0},null,null,0,{"$f":"'FY 2018'!D24","v":0},null,null,0,{"$f":"'FY 2019'!D24","v":0},null,null,0,{"$f":"'FY 2020'!D24","v":0}]
["Section 5307 - UZA Formula",880123,{"$f":"Projects!M39+Projects!M41+Projects!M31+Projects!M33+Projects!O31","v":32100},1970554,1970554,813836,1082370,1896206,{"$f":"'FY 2018'!D25","v":1896206},816249,1097681,1913930,{"$f":"'FY 2019'!D25","v":1913930},857061,1132265,1989326,{"$f":"'FY 2020'!D25","v":1989326}]
["Section 5308 - Clean Fuels Program",null,null,0,{"$f":"'FY 2017'!D26","v":0},null,null,0,{"$f":"'FY 2018'!D26","v":0},null,null,0,{"$f":"'FY 2019'!D26","v":0},null,null,0,{"$f":"'FY 2020'!D26","v":0}]
["Section 5309 - Capital Bus and Capital New Starts ",null,null,0,{"$f":"'FY 2017'!D27","v":0},null,null,0,{"$f":"'FY 2018'!D27","v":0},null,null,0,{"$f":"'FY 2019'!D27","v":0},null,null,0,{"$f":"'FY 2020'!D27","v":0}]
["Section 5310 - Elderly & Disabled",60000,15000,75000,{"$f":"'FY 2017'!D28","v":75000},60000,15000,75000,{"$f":"'FY 2018'!D28","v":75000},60000,15000,75000,{"$f":"'FY 2019'!D28","v":75000},60000,15000,75000,{"$f":"'FY 2020'!D28","v":75000}]
["Section 5311 - Non-UZA ",null,null,0,{"$f":"'FY 2017'!D29","v":0},null,null,0,{"$f":"'FY 2018'!D29","v":0},null,null,0,{"$f":"'FY 2019'!D29","v":0},null,null,0,{"$f":"'FY 2020'!D29","v":0}]
["Section 5312 - Research, Development, Demonstration, and Deployment",null,null,{"$f":"B30+C30","v":0},{"$f":"'FY 2017'!D30","v":0},null,null,{"$f":"F30+G30","v":0},{"$f":"'FY 2018'!D30","v":0},null,null,{"$f":"J30+K30","v":0},{"$f":"'FY 2019'!D30","v":0},null,null,{"$f":"N30+O30","v":0},{"$f":"'FY 2020'!D30","v":0}]
["Section 5313 - Transit Cooperative Research Program",null,null,0,{"$f":"'FY 2017'!D31","v":0},null,null,0,{"$f":"'FY 2018'!D31","v":0},null,null,0,{"$f":"'FY 2019'!D31","v":0},null,null,0,{"$f":"'FY 2020'!D31","v":0}]
["Section 5314 - National Research and Technology Program",null,null,0,{"$f":"'FY 2017'!D32","v":0},null,null,0,{"$f":"'FY 2018'!D32","v":0},null,null,0,{"$f":"'FY 2019'!D32","v":0},null,null,0,{"$f":"'FY 2020'!D32","v":0}]
["Section 5316 - Job Access/Reverse Commute",null,null,0,{"$f":"'FY 2017'!D33","v":0},null,null,0,{"$f":"'FY 2018'!D33","v":0},null,null,0,{"$f":"'FY 2019'!D33","v":0},null,null,0,{"$f":"'FY 2020'!D33","v":0}]
["Section 5317 - New Freedom Initiative",null,null,0,{"$f":"'FY 2017'!D34","v":0},null,null,0,{"$f":"'FY 2018'!D34","v":0},null,null,0,{"$f":"'FY 2019'!D34","v":0},null,null,0,{"$f":"'FY 2020'!D34","v":0}]
["Section 5320 - Alternative Transportation in Parks and Public Lands",null,null,0,{"$f":"'FY 2017'!D35","v":0},null,null,0,{"$f":"'FY 2018'!D35","v":0},null,null,0,{"$f":"'FY 2019'!D35","v":0},null,null,0,{"$f":"'FY 2020'!D35","v":0}]
["Section 5322 - Human Resources and Training",null,null,{"$f":"B36+C36","v":0},{"$f":"'FY 2017'!D36","v":0},null,null,{"$f":"F36+G36","v":0},{"$f":"'FY 2018'!D36","v":0},null,null,{"$f":"J36+K36","v":0},{"$f":"'FY 2019'!D36","v":0},null,null,{"$f":"N36+O36","v":0},{"$f":"'FY 2020'!D36","v":0}]
["Section 5324 - Emergency Relief",null,null,{"$f":"B37+C37","v":0},{"$f":"'FY 2017'!D37","v":0},null,null,{"$f":"F37+G37","v":0},{"$f":"'FY 2018'!D37","v":0},null,null,{"$f":"J37+K37","v":0},{"$f":"'FY 2019'!D37","v":0},null,null,{"$f":"N37+O37","v":0},{"$f":"'FY 2020'!D37","v":0}]
["Section 5326 - Asset Management Provisions",null,null,{"$f":"B38+C38","v":0},{"$f":"'FY 2017'!D38","v":0},null,null,{"$f":"F38+G38","v":0},{"$f":"'FY 2018'!D38","v":0},null,null,{"$f":"J38+K38","v":0},{"$f":"'FY 2019'!D38","v":0},null,null,{"$f":"N38+O38","v":0},{"$f":"'FY 2020'!D38","v":0}]
["Section 5329 - Safety",null,null,{"$f":"B39+C39","v":0},{"$f":"'FY 2017'!D39","v":0},null,null,{"$f":"F39+G39","v":0},{"$f":"'FY 2018'!D39","v":0},null,null,{"$f":"J39+K39","v":0},{"$f":"'FY 2019'!D39","v":0},null,null,{"$f":"N39+O39","v":0},{"$f":"'FY 2020'!D39","v":0}]
["Section 5337 - State of Good Repair Grants",null,null,{"$f":"B40+C40","v":0},{"$f":"'FY 2017'!D40","v":0},null,null,{"$f":"F40+G40","v":0},{"$f":"'FY 2018'!D40","v":0},null,null,{"$f":"J40+K40","v":0},{"$f":"'FY 2019'!D40","v":0},null,null,{"$f":"N40+O40","v":0},{"$f":"'FY 2020'!D40","v":0}]
["Section 5339 - Bus and Bus Facilities",101947,25486,127433,{"$f":"'FY 2017'!D41","v":127433},80000,20000,100000,{"$f":"'FY 2018'!D41","v":100000},72000,18000,90000,{"$f":"'FY 2019'!D41","v":90000},74400,18600,93000,{"$f":"'FY 2020'!D41","v":93000}]
["Section 5505 - University Transportation Centers Program",null,null,0,{"$f":"'FY 2017'!D42","v":0},null,null,0,{"$f":"'FY 2018'!D42","v":0},null,null,0,{"$f":"'FY 2019'!D42","v":0},null,null,0,{"$f":"'FY 2020'!D42","v":0}]
["Total Transit",{"$f":"SUM(B19:B42)","v":1042070},458626,2559027,2559027,953836,1547717,2501553,{"$f":"'FY 2018'!D43","v":2501553},{"$f":"SUM(J19:J42)","v":948249},{"$f":"SUM(K19:K42)","v":1516721},{"$f":"SUM(L19:L42)","v":2464970},{"$f":"'FY 2019'!D43","v":2464970},{"$f":"SUM(N19:N42)","v":991461},{"$f":"SUM(O19:O42)","v":1551905},{"$f":"SUM(P19:P42)","v":2543366},{"$f":"'FY 2020'!D43","v":2543366}]
["Grand Total",{"$f":"B43+B15","v":7671273.5},{"$f":"C43+C15","v":2473189.5},{"$f":"D43+D15","v":11202794},{"$f":"E15+E43","v":11175032},{"$f":"F43+F15","v":22342486},{"$f":"G43+G15","v":5020430},{"$f":"H43+H15","v":27362916},{"$f":"'FY 2018'!D44","v":27362916},{"$f":"J43+J15","v":9923452},{"$f":"K43+K15","v":3241958},{"$f":"L43+L15","v":13165410},{"$f":"'FY 2019'!D44","v":13077082},{"$f":"N43+N15","v":15769098},{"$f":"O43+O15","v":3326933},{"$f":"P43+P15","v":19096031},{"$f":"'FY 2020'!D44","v":19095106}]
[]
["Federal STBG funding is being programed based on $871,925 per year, for all four years. .  TwinCATS did not program funding based on any inflationary values. "]

{"sheet":"FHWA GPA","index":6,"n_rows":4,"n_cols":33,"rows_kept":4,"cut":false,"hidden":false,"merged":[[0,0,0,22],[1,0,1,22]]}
["GPA Projects"]
[]
["Required Fields",null,null,null,null,null,null,null,null,null,null,null,null,null,null,null,null,null,null,null,null,null,null,null,null,"Optional Fields"]
["Fiscal Year","County","Respon-sible Agency","Project Name","Limits","Length","Primary Work Type","Project Description","Phase","Advance Construct","Federal Cost ($1000s)","Federal Fund Source","State Cost ($1000s)","State Fund Source","Local Cost ($1000s)","Local Fund Source","Total Cost ($1000s)","MDOT Job No.","Local ID No.","MPO/ Rural Approval Date","Amend-ment Type","Air Quality","Comments","Total Project Cost ($1000s)","x","Local Priority","EJ","Federal Approval Date ","Capped Federal Cost ($1000s)","Date Obligated","Amount Obligated ($1000s)","Let Date","GPA"]

{"sheet":"FTA GPA","index":7,"n_rows":4,"n_cols":32,"rows_kept":4,"cut":false,"hidden":false,"merged":[[0,0,0,22],[1,0,1,22]]}
["GPA Projects"]
[]
["Required Fields",null,null,null,null,null,null,null,null,null,null,null,null,null,null,null,null,null,null,null,null,null,null,null,null,"Optional Fields"]
["Fiscal Year","County","Respon-sible Agency","Project Name","Limits","Length","Primary Work Type","Project Description","Phase","Advance Construct","Federal Cost ($1000s)","Federal Fund Source","State Cost ($1000s)","State Fund Source","Local Cost ($1000s)","Local Fund Source","Total Cost ($1000s)","MDOT Job No.","Local ID No.","MPO/ Rural Approval Date","Amend-ment Type","Air Quality","Comments","Total Project Cost ($1000s)","x","Local Priority","EJ","Federal Approval Date ","Capped Federal Cost ($1000s)","Date Obligated","Amount Obligated ($1000s)","Let Date"]

{"sheet":"FTA Candidate Projects","index":8,"n_rows":4,"n_cols":32,"rows_kept":4,"cut":false,"hidden":false,"merged":[[0,0,0,22],[1,0,1,22]]}
["GPA Projects"]
[]
["Required Fields",null,null,null,null,null,null,null,null,null,null,null,null,null,null,null,null,null,null,null,null,null,null,null,null,"Optional Fields"]
["Fiscal Year","County","Respon-sible Agency","Project Name","Limits","Length","Primary Work Type","Project Description","Phase","Advance Construct","Federal Cost ($1000s)","Federal Fund Source","State Cost ($1000s)","State Fund Source","Local Cost ($1000s)","Local Fund Source","Total Cost ($1000s)","MDOT Job No.","Local ID No.","MPO/ Rural Approval Date","Amend-ment Type","Air Quality","Comments","Total Project Cost ($1000s)","x","Local Priority","EJ","Federal Approval Date ","Capped Federal Cost ($1000s)","Date Obligated","Amount Obligated ($1000s)","Let Date"]

{"sheet":"Illustrative","index":9,"n_rows":24,"n_cols":32,"rows_kept":24,"cut":false,"hidden":false,"merged":[[1,0,1,22],[0,0,0,22]]}
["Illustrative Projects"]
[]
["Required Fields",null,null,null,null,null,null,null,null,null,null,null,null,null,null,null,null,null,null,null,null,null,null,null,null,"Optional Fields"]
["Fiscal Year","County","Respon-sible Agency","Project Name","Limits","Length","Primary Work Type","Project Description","Phase","Advance Construct","Federal Cost ($1000s)","Federal Fund Source","State Cost ($1000s)","State Fund Source","Local Cost ($1000s)","Local Fund Source","Total Cost ($1000s)","MDOT Job No.","Local ID No.","MPO/ Rural Approval Date","Amend-ment Type","Air Quality","Comments","Total Project Cost ($1000s)","x","Local Priority","EJ","Federal Approval Date ","Capped Federal Cost ($1000s)","Date Obligated","Amount Obligated ($1000s)","Let Date"]
["Illustrative","BERRIEN","Berrien County Road Commission","Napier Avenue","4300 ft west of I-94 to M-139 ",null,null,"Mill and Fill. ADA sidewalk upgrades as required.","CON ",null,160000,"STUL",null,null,35000,"CNTY",195000,null,null,null,null,null,null,195000]
["Illustrative","BERRIEN","Berrien County Road Commission","Napier Avenue","3700 ft. East of St. Joseph River to M-139",null,null,"Mill and Fill. ADA sidewalk upgrades as required.","CON ",null,213000,"STUL",null,null,47000,"CNTY",260000,null,null,null,null,null,null,260000]
["Illustrative","BERRIEN","City of St. Joseph","Botham Avenue","South State St to Niles Avenue (M-63) ",null,null,"Full reconstruction of roadway with HMA or concrete pavement including curb and gutter, remove and replace ADA ramps as needed to meet current Standards. Repalce sidewalk, driveways storm sewer and sanitary sewer as needed. Water main to be rremoved and replaced as per 2016 Reliability Study including directional drill of water main or bore and jack under Niles Avenue.","CON ",null,247000,"STUL",null,null,556000,"CITY",803000,null,null,null,null,null,null,803000]
["Illustrative","BERRIEN","Berrien County Road Commission","John Beers Road","Scottdale Road to M-139",null,null,"Construct 5 foot wide paved shoulders and resurface.","CON ",null,409000,"STUL",null,null,91000,"CNTY",500000,null,null,null,null,null,null,500000]
["Illustrative","BERRIEN","Berrien County Road Commission","Glenlord Road ","Hollywood Road to M-63",null,null,"Construct 5 foot wide paved shoulders and resurface.","CON ",null,303000,"STUL",null,null,67000,"CNTY",370000,null,null,null,null,null,null,370000]
["Illustrative","BERRIEN","Berrien County Road Commission","Marquette Woods Road","Cleveland to Washington ",null,null,"Widen shoulders to 6 feet paved, resurface existing HMA surface. Work includes extension of culverts.","CON ",null,475000,"STUL",null,null,105330,"TWP",580330,null,null,null,null,null,null,580330]
["Illustrative","BERRIEN","City of Benton Harbor","Pipestone Road ","Catalpa to Empire",null,null,"Full Mill and fill of roadway with HMA including remove and replace ADA ramps where necessary to comply with current ADA requirements, improvement of crosswalks, addition of bicycle lanes, and storm system improvements. The City intends to complete sanitary sewer and water system improvements concurrently based upon ongoing asset management studies.","CON ",null,261000,"STUL",null,null,58000,"CITY",319000,null,null,null,null,null,null,319000]
["Illustrative","BERRIEN","City of Benton Harbor","Pipestone Road ","Vineyard to Catalpa",null,null,"Full mill and fill of roadway with HMA including remove and replace ADA ramps where necessary to comply with current ADA requirements, improvement of crosswalks, addition of bicycle lanes, and storm system improvements. The City intends to complete sanitary sewer and water system improvements concurrently based upon ongoing asset management studies.","CON ",null,329000,"STUL",null,null,73000,"CITY",402000,null,null,null,null,null,null,402000]
["Illustrative","BERRIEN","City of Benton Harbor","Paw Paw Avenue","Railroad to Frank; Rifford to Territorial",null,null,"Full Mill and fill of roadway with HMA including remove and replace ADA ramps where necessary to comply with current ADA requirements, improvement of crosswalks, addition of bicycle lanes, and storm system improvements. The City intends to complete sanitary sewer and water system improvements concurrently based upon ongoing asset management studies.","CON ",null,212000,"STUL",null,null,39000,"CITY",251000,null,null,null,null,null,null,251000]
["Illustrative","BERRIEN","Village of Stevensville","Red Arrow Highway","North Village Limits to South Village Limits",null,null,"Milling 2\"-3\" of HMA Surface, placing geotextile fabric, place 3\" HMA Surface, also expanding shoulder to minimum 6' width along east side of Red Arrow Highway from South Village limit to John Beers Road to facilitate bicycle/pedestrian traffic. Project to benefit efforts being made to extend bid path through Berrien County.","CON ",null,881288,"STUL",null,null,220322,"VLG",1101610,null,null,null,null,null,null,1101610]
["Illustrative","BERRIEN","Berrien County Road Commission","Shawnee Road ","Holden Road to Date Road",null,null,"Construct 5 foot wide paved shoulders and resurface.","CON ",null,405000,"STUL",null,null,90000,"CNTY",495000,null,null,null,null,null,null,495000]
["Illustrative","BERRIEN","City of St. Joseph","Wallace Avenue","Lakeshore Drive (BL-94) to Lakeview Avenue",null,null,"Full reconstruction of roadway with HMA or concrete pavement including curb and gutter, remove and replace ADA ramps as needed to meet current standards. Add bike lanes or a non-motorized path (replacing sidewalk on one side of the street). Replace all city utilities including storm sewer, sanitary sewer and water main. Replace sidewalk and driveways as needed. The intent is to include replacement of watermain on Stadium Drive (not eligible for TIP funds) and widen sidewalk on east side of Stadium Drive.","CON ",null,488000,"STUL",null,null,972500,"CITY",1460500,null,null,null,null,null,null,1460500]
["Illustrative","BERRIEN","City of Benton Harbor","Pipestone Road ","Main to Vineyard",null,null,"Full mill and fill of roadway with HMA including remove and replace ADA ramps where necessary to comply with current ADA requirements, improvement of crosswalks, addition of bicycle lanes, and storm system improvements. The City intends to complete sanitary sewer and water system improvements concurrently based upon ongoing asset management studies.","CON ",null,346000,"STUL",null,null,77000,"CITY",423000,null,null,null,null,null,null,423000]
["Illustrative","BERRIEN","City of St. Joseph","Langley Avenue","Pearl to Napier",null,null,"One course mill and resurfacing of Langley Ave. Replace sidewalk in need of repair and sidewalk ramps in order to meet AdA requirements.  No utility work planned as part of this project.","CON ",null,398000,"STUL",null,null,255000,"CITY",653000,null,null,null,null,null,null,653000]
["Illustrative","BERRIEN","City of St. Joseph","State St ","Water St to Vine St",null,null,"One course mill and resurfacing of Water  Street.  Remove and replace adjacent non-motorized path with HMA","CON ",null,123000,"STUL",null,null,454000,"CITY",577000,null,null,null,null,null,null,577000]
["Illustrative","BERRIEN","City of St. Joseph","Upton Drive ","Virginia Ct. to N. Upton Dr. includes Marina Dr. Upton to W. Basin Marina.",null,null,"Full reconstruction of roadway with HMA or Concrete pavement inclduing curb and gutter, removal and replacement of ADA ramps to meet current standards.  Add bike lanes, a non-motirzed path (replacing sidewalk on one side of the street or sharrows.  Replace all City utilities including storm sewer, sanitary sewer and water main.  Replace sidewalk and drive and driveway.","CON ",null,1000000,"STUL",null,null,3000000,"CITY",4000000,null,null,null,null,null,null,4000000]
["Illustrative","BERRIEN","City of Benton Harbor","Union St","May to Donald Adkins",null,null,"Full mill and fill of roadway with HMA including remove and replace ADA ramps where necessary to comply with Ccurrent ADA requirements, improvements of crosswalks, additonal of icycle lanes, and storm system improvemnets.  Th City intends to complete sanitary swere and water system improvements concurrently based upon ongoing asset mgt. studies.","CON ",null,279000,"STUL",null,null,62000,"CITY",341000,null,null,null,null,null,null,341000]
["Illustrative","BERRIEN","City of Benton Harbor","Union St ","Pipestone to May",null,null,"Full mill and fill of radway with HMA including remove and replac ADA ramps where necessary to comply with crrent ADA requirements, improvement of sidewalks ",null,null,180000,"STUL",null,null,40000,"CITY",220000,null,null,null,null,null,null,220000]
["Illustrative","BERRIEN","City of Benton Harbor","Broadway Avenue","Empire to Emery",null,null,"Full resurfacing/ mill and fill of roadway with HMA including removal and replacement of ADA ramps where necessary to comply with current ADA requirements, improvement of crosswalks, and storm system improvements. Resurfacing only from Empire to May. Mill and fill from May to Emery. The City intends to complete sanitary sewer and water system improvements concurrently based upon ongoing asset management studies. ",null,null,285000,"STUL",null,null,64000,"CITY",349000,null,null,null,null,null,null,349000]
["Illustrative","Berrien","City of St. Joseph","Langley Avenue & Broad Street","Pearl Street to Department of Public Works Entrance",0.25,"Reconstruct","Full reconstruction of roadway with HMA or concrete pavement including curb and gutter, remove and replace ADA ramps as needed to meet current standards, install new storm sewer and sanitary sewer. Replace sidewalk, driveways and water main as needed. This project is being undertaken as part of the City's ongoing combined sewer overflow (CSO) program and includes inline storage.","CON","AC",460000,"STUL",null,null,210000,"CITY",670000,130792,null,"2016-06-20",null,"Exempt","Added to TIP 6/20/16- Only TIP eligible cost is taken into account here. Total project cost, including sewer and water upgrades is $3,363,000. ",670000]

{"sheet":"NonFHWA_NonFTA","index":10,"n_rows":4,"n_cols":32,"rows_kept":4,"cut":false,"hidden":false,"merged":[[1,0,1,22],[0,0,0,22]]}
["Non FHWA/FTA Projects FY 2014 - 2017 (Optional)"]
["2013-01-02"]
["Required Fields",null,null,null,null,null,null,null,null,null,null,null,null,null,null,null,null,null,null,null,null,null,null,null,null,"Optional Fields"]
["Fiscal Year","County","Respon-sible Agency","Project Name","Limits","Length","Primary Work Type","Project Description","Phase","Advance Construct","Federal Cost ($1000s)","Federal Fund Source","State Cost ($1000s)","State Fund Source","Local Cost ($1000s)","Local Fund Source","Total Cost ($1000s)","MDOT Job No.","Local ID No.","MPO/ Rural Approval Date","Amend-ment Type","Air Quality","Comments","Total Project Cost ($1000s)","x","Local Priority","EJ","Federal Approval Date ","Capped Federal Cost ($1000s)","Date Obligated","Amount Obligated ($1000s)","Let Date"]

{"sheet":"MDOT FTA Detail","index":11,"n_rows":171,"n_cols":15,"rows_kept":171,"cut":false,"hidden":false,"merged":[[2,3,2,5],[2,6,2,8],[2,9,2,11],[2,12,2,14]]}
[null,"E-File v. 5.1 (01.15.15)"]
[]
[null,null,null,2017,null,null,2018,null,null,2019,null,null,2020]
["Fund","Fund Sources","MDOT","Proposed Federal Commitments","Proposed Non-Federal Commitments","Total Proposed Commitments","Proposed Federal Commitments","Proposed Non-Federal Commitments","Total Proposed Commitments","Proposed Federal Commitments","Proposed Non-Federal Commitments","Total Proposed Commitments","Proposed Federal Commitments","Proposed Non-Federal Commitments","Total Proposed Commitments"]
[]
["BHI","Bridge Rehabilitation - Prior 1991 - Interstate","MDOT FA",{"$f":"SUMPRODUCT((Projects!$A$5:$A$2426='MDOT FTA Detail'!$D$3)*(Projects!$C$5:$C$2426='MDOT FTA Detail'!$C$4)*(Projects!$L$5:$L$2426='MDOT FTA Detail'!$A6)*(Projects!$J$5:$J$2426<>'MDOT FTA Detail'!$A$171)*(Projects!$K$5:K$2426))","v":0},{"$f":"F6-D6","v":0},{"$f":"SUMPRODUCT((Projects!$A$5:$A$2426='MDOT FTA Detail'!$D$3)*(Projects!$C$5:$C$2426='MDOT FTA Detail'!$C$4)*(Projects!$L$5:$L$2426='MDOT FTA Detail'!$A6)*(Projects!$J$5:$J$2426<>'MDOT FTA Detail'!$A$171)*(Projects!$Q$5:Q$2426))","v":0},{"$f":"SUMPRODUCT((Projects!$A$5:$A$2426='MDOT FTA Detail'!$G$3)*(Projects!$C$5:$C$2426='MDOT FTA Detail'!$C$4)*(Projects!$L$5:$L$2426='MDOT FTA Detail'!$A6)*(Projects!$J$5:$J$2426<>'MDOT FTA Detail'!$A$171)*(Projects!$K$5:K$2426))","v":0},{"$f":"I6-G6","v":0},{"$f":"SUMPRODUCT((Projects!$A$5:$A$2426='MDOT FTA Detail'!$G$3)*(Projects!$C$5:$C$2426='MDOT FTA Detail'!$C$4)*(Projects!$L$5:$L$2426='MDOT FTA Detail'!$A6)*(Projects!$J$5:$J$2426<>'MDOT FTA Detail'!$A$171)*(Projects!$Q$5:Q$2426))","v":0},{"$f":"SUMPRODUCT((Projects!$A$5:$A$2426='MDOT FTA Detail'!$J$3)*(Projects!$C$5:$C$2426='MDOT FTA Detail'!$C$4)*(Projects!$L$5:$L$2426='MDOT FTA Detail'!$A6)*(Projects!$J$5:$J$2426<>'MDOT FTA Detail'!$A$171)*(Projects!$K$5:$K$2426))","v":0},{"$f":"L6-J6","v":0},{"$f":"SUMPRODUCT((Projects!$A$5:$A$2426='MDOT FTA Detail'!$J$3)*(Projects!$C$5:$C$2426='MDOT FTA Detail'!$C$4)*(Projects!$L$5:$L$2426='MDOT FTA Detail'!$A6)*(Projects!$J$5:$J$2426<>'MDOT FTA Detail'!$A$171)*(Projects!$Q$5:$Q$2426))","v":0},{"$f":"SUMPRODUCT((Projects!$A$5:$A$2426='MDOT FTA Detail'!$M$3)*(Projects!$C$5:$C$2426='MDOT FTA Detail'!$C$4)*(Projects!$L$5:$L$2426='MDOT FTA Detail'!$A6)*(Projects!$J$5:$J$2426<>'MDOT FTA Detail'!$A$171)*(Projects!$K$5:$K$2426))","v":0},{"$f":"O6-M6","v":0},{"$f":"SUMPRODUCT((Projects!$A$5:$A$2426='MDOT FTA Detail'!$M$3)*(Projects!$C$5:$C$2426='MDOT FTA Detail'!$C$4)*(Projects!$L$5:$L$2426='MDOT FTA Detail'!$A6)*(Projects!$J$5:$J$2426<>'MDOT FTA Detail'!$A$171)*(Projects!$Q$5:$Q$2426))","v":0}]
["BHN","Bridge Rehabilitation - National Highway System (NHS)","MDOT FA",{"$f":"SUMPRODUCT((Projects!$A$5:$A$2426='MDOT FTA Detail'!$D$3)*(Projects!$C$5:$C$2426='MDOT FTA Detail'!$C$4)*(Projects!$L$5:$L$2426='MDOT FTA Detail'!$A7)*(Projects!$J$5:$J$2426<>'MDOT FTA Detail'!$A$171)*(Projects!$K$5:K$2426))","v":0},0,{"$f":"SUMPRODUCT((Projects!$A$5:$A$2426='MDOT FTA Detail'!$D$3)*(Projects!$C$5:$C$2426='MDOT FTA Detail'!$C$4)*(Projects!$L$5:$L$2426='MDOT FTA Detail'!$A7)*(Projects!$J$5:$J$2426<>'MDOT FTA Detail'!$A$171)*(Projects!$Q$5:Q$2426))","v":0},{"$f":"SUMPRODUCT((Projects!$A$5:$A$2426='MDOT FTA Detail'!$G$3)*(Projects!$C$5:$C$2426='MDOT FTA Detail'!$C$4)*(Projects!$L$5:$L$2426='MDOT FTA Detail'!$A7)*(Projects!$J$5:$J$2426<>'MDOT FTA Detail'!$A$171)*(Projects!$K$5:K$2426))","v":0},0,{"$f":"SUMPRODUCT((Projects!$A$5:$A$2426='MDOT FTA Detail'!$G$3)*(Projects!$C$5:$C$2426='MDOT FTA Detail'!$C$4)*(Projects!$L$5:$L$2426='MDOT FTA Detail'!$A7)*(Projects!$J$5:$J$2426<>'MDOT FTA Detail'!$A$171)*(Projects!$Q$5:Q$2426))","v":0},{"$f":"SUMPRODUCT((Projects!$A$5:$A$2426='MDOT FTA Detail'!$J$3)*(Projects!$C$5:$C$2426='MDOT FTA Detail'!$C$4)*(Projects!$L$5:$L$2426='MDOT FTA Detail'!$A7)*(Projects!$J$5:$J$2426<>'MDOT FTA Detail'!$A$171)*(Projects!$K$5:$K$2426))","v":0},0,{"$f":"SUMPRODUCT((Projects!$A$5:$A$2426='MDOT FTA Detail'!$J$3)*(Projects!$C$5:$C$2426='MDOT FTA Detail'!$C$4)*(Projects!$L$5:$L$2426='MDOT FTA Detail'!$A7)*(Projects!$J$5:$J$2426<>'MDOT FTA Detail'!$A$171)*(Projects!$Q$5:$Q$2426))","v":0},{"$f":"SUMPRODUCT((Projects!$A$5:$A$2426='MDOT FTA Detail'!$M$3)*(Projects!$C$5:$C$2426='MDOT FTA Detail'!$C$4)*(Projects!$L$5:$L$2426='MDOT FTA Detail'!$A7)*(Projects!$J$5:$J$2426<>'MDOT FTA Detail'!$A$171)*(Projects!$K$5:$K$2426))","v":0},0,{"$f":"SUMPRODUCT((Projects!$A$5:$A$2426='MDOT FTA Detail'!$M$3)*(Projects!$C$5:$C$2426='MDOT FTA Detail'!$C$4)*(Projects!$L$5:$L$2426='MDOT FTA Detail'!$A7)*(Projects!$J$5:$J$2426<>'MDOT FTA Detail'!$A$171)*(Projects!$Q$5:$Q$2426))","v":0}]
["BHO","Bridge Rehabilitation - Not Classified, Off System","MDOT FA",{"$f":"SUMPRODUCT((Projects!$A$5:$A$2426='MDOT FTA Detail'!$D$3)*(Projects!$C$5:$C$2426='MDOT FTA Detail'!$C$4)*(Projects!$L$5:$L$2426='MDOT FTA Detail'!$A8)*(Projects!$J$5:$J$2426<>'MDOT FTA Detail'!$A$171)*(Projects!$K$5:K$2426))","v":0},0,{"$f":"SUMPRODUCT((Projects!$A$5:$A$2426='MDOT FTA Detail'!$D$3)*(Projects!$C$5:$C$2426='MDOT FTA Detail'!$C$4)*(Projects!$L$5:$L$2426='MDOT FTA Detail'!$A8)*(Projects!$J$5:$J$2426<>'MDOT FTA Detail'!$A$171)*(Projects!$Q$5:Q$2426))","v":0},{"$f":"SUMPRODUCT((Projects!$A$5:$A$2426='MDOT FTA Detail'!$G$3)*(Projects!$C$5:$C$2426='MDOT FTA Detail'!$C$4)*(Projects!$L$5:$L$2426='MDOT FTA Detail'!$A8)*(Projects!$J$5:$J$2426<>'MDOT FTA Detail'!$A$171)*(Projects!$K$5:K$2426))","v":0},0,{"$f":"SUMPRODUCT((Projects!$A$5:$A$2426='MDOT FTA Detail'!$G$3)*(Projects!$C$5:$C$2426='MDOT FTA Detail'!$C$4)*(Projects!$L$5:$L$2426='MDOT FTA Detail'!$A8)*(Projects!$J$5:$J$2426<>'MDOT FTA Detail'!$A$171)*(Projects!$Q$5:Q$2426))","v":0},{"$f":"SUMPRODUCT((Projects!$A$5:$A$2426='MDOT FTA Detail'!$J$3)*(Projects!$C$5:$C$2426='MDOT FTA Detail'!$C$4)*(Projects!$L$5:$L$2426='MDOT FTA Detail'!$A8)*(Projects!$J$5:$J$2426<>'MDOT FTA Detail'!$A$171)*(Projects!$K$5:$K$2426))","v":0},0,{"$f":"SUMPRODUCT((Projects!$A$5:$A$2426='MDOT FTA Detail'!$J$3)*(Projects!$C$5:$C$2426='MDOT FTA Detail'!$C$4)*(Projects!$L$5:$L$2426='MDOT FTA Detail'!$A8)*(Projects!$J$5:$J$2426<>'MDOT FTA Detail'!$A$171)*(Projects!$Q$5:$Q$2426))","v":0},{"$f":"SUMPRODUCT((Projects!$A$5:$A$2426='MDOT FTA Detail'!$M$3)*(Projects!$C$5:$C$2426='MDOT FTA Detail'!$C$4)*(Projects!$L$5:$L$2426='MDOT FTA Detail'!$A8)*(Projects!$J$5:$J$2426<>'MDOT FTA Detail'!$A$171)*(Projects!$K$5:$K$2426))","v":0},0,{"$f":"SUMPRODUCT((Projects!$A$5:$A$2426='MDOT FTA Detail'!$M$3)*(Projects!$C$5:$C$2426='MDOT FTA Detail'!$C$4)*(Projects!$L$5:$L$2426='MDOT FTA Detail'!$A8)*(Projects!$J$5:$J$2426<>'MDOT FTA Detail'!$A$171)*(Projects!$Q$5:$Q$2426))","v":0}]
["BHT","Bridge Rehabilitation - Surface Transportation Program (STP)","MDOT FA",{"$f":"SUMPRODUCT((Projects!$A$5:$A$2426='MDOT FTA Detail'!$D$3)*(Projects!$C$5:$C$2426='MDOT FTA Detail'!$C$4)*(Projects!$L$5:$L$2426='MDOT FTA Detail'!$A9)*(Projects!$J$5:$J$2426<>'MDOT FTA Detail'!$A$171)*(Projects!$K$5:K$2426))","v":0},0,{"$f":"SUMPRODUCT((Projects!$A$5:$A$2426='MDOT FTA Detail'!$D$3)*(Projects!$C$5:$C$2426='MDOT FTA Detail'!$C$4)*(Projects!$L$5:$L$2426='MDOT FTA Detail'!$A9)*(Projects!$J$5:$J$2426<>'MDOT FTA Detail'!$A$171)*(Projects!$Q$5:Q$2426))","v":0},{"$f":"SUMPRODUCT((Projects!$A$5:$A$2426='MDOT FTA Detail'!$G$3)*(Projects!$C$5:$C$2426='MDOT FTA Detail'!$C$4)*(Projects!$L$5:$L$2426='MDOT FTA Detail'!$A9)*(Projects!$J$5:$J$2426<>'MDOT FTA Detail'!$A$171)*(Projects!$K$5:K$2426))","v":0},0,{"$f":"SUMPRODUCT((Projects!$A$5:$A$2426='MDOT FTA Detail'!$G$3)*(Projects!$C$5:$C$2426='MDOT FTA Detail'!$C$4)*(Projects!$L$5:$L$2426='MDOT FTA Detail'!$A9)*(Projects!$J$5:$J$2426<>'MDOT FTA Detail'!$A$171)*(Projects!$Q$5:Q$2426))","v":0},{"$f":"SUMPRODUCT((Projects!$A$5:$A$2426='MDOT FTA Detail'!$J$3)*(Projects!$C$5:$C$2426='MDOT FTA Detail'!$C$4)*(Projects!$L$5:$L$2426='MDOT FTA Detail'!$A9)*(Projects!$J$5:$J$2426<>'MDOT FTA Detail'!$A$171)*(Projects!$K$5:$K$2426))","v":0},0,{"$f":"SUMPRODUCT((Projects!$A$5:$A$2426='MDOT FTA Detail'!$J$3)*(Projects!$C$5:$C$2426='MDOT FTA Detail'!$C$4)*(Projects!$L$5:$L$2426='MDOT FTA Detail'!$A9)*(Projects!$J$5:$J$2426<>'MDOT FTA Detail'!$A$171)*(Projects!$Q$5:$Q$2426))","v":0},{"$f":"SUMPRODUCT((Projects!$A$5:$A$2426='MDOT FTA Detail'!$M$3)*(Projects!$C$5:$C$2426='MDOT FTA Detail'!$C$4)*(Projects!$L$5:$L$2426='MDOT FTA Detail'!$A9)*(Projects!$J$5:$J$2426<>'MDOT FTA Detail'!$A$171)*(Projects!$K$5:$K$2426))","v":0},0,{"$f":"SUMPRODUCT((Projects!$A$5:$A$2426='MDOT FTA Detail'!$M$3)*(Projects!$C$5:$C$2426='MDOT FTA Detail'!$C$4)*(Projects!$L$5:$L$2426='MDOT FTA Detail'!$A9)*(Projects!$J$5:$J$2426<>'MDOT FTA Detail'!$A$171)*(Projects!$Q$5:$Q$2426))","v":0}]
["BI08","Build Michigan FY08","MDOT FA",{"$f":"SUMPRODUCT((Projects!$A$5:$A$2426='MDOT FTA Detail'!$D$3)*(Projects!$C$5:$C$2426='MDOT FTA Detail'!$C$4)*(Projects!$L$5:$L$2426='MDOT FTA Detail'!$A10)*(Projects!$J$5:$J$2426<>'MDOT FTA Detail'!$A$171)*(Projects!$K$5:K$2426))","v":0},0,{"$f":"SUMPRODUCT((Projects!$A$5:$A$2426='MDOT FTA Detail'!$D$3)*(Projects!$C$5:$C$2426='MDOT FTA Detail'!$C$4)*(Projects!$L$5:$L$2426='MDOT FTA Detail'!$A10)*(Projects!$J$5:$J$2426<>'MDOT FTA Detail'!$A$171)*(Projects!$Q$5:Q$2426))","v":0},{"$f":"SUMPRODUCT((Projects!$A$5:$A$2426='MDOT FTA Detail'!$G$3)*(Projects!$C$5:$C$2426='MDOT FTA Detail'!$C$4)*(Projects!$L$5:$L$2426='MDOT FTA Detail'!$A10)*(Projects!$J$5:$J$2426<>'MDOT FTA Detail'!$A$171)*(Projects!$K$5:K$2426))","v":0},0,{"$f":"SUMPRODUCT((Projects!$A$5:$A$2426='MDOT FTA Detail'!$G$3)*(Projects!$C$5:$C$2426='MDOT FTA Detail'!$C$4)*(Projects!$L$5:$L$2426='MDOT FTA Detail'!$A10)*(Projects!$J$5:$J$2426<>'MDOT FTA Detail'!$A$171)*(Projects!$Q$5:Q$2426))","v":0},{"$f":"SUMPRODUCT((Projects!$A$5:$A$2426='MDOT FTA Detail'!$J$3)*(Projects!$C$5:$C$2426='MDOT FTA Detail'!$C$4)*(Projects!$L$5:$L$2426='MDOT FTA Detail'!$A10)*(Projects!$J$5:$J$2426<>'MDOT FTA Detail'!$A$171)*(Projects!$K$5:$K$2426))","v":0},0,{"$f":"SUMPRODUCT((Projects!$A$5:$A$2426='MDOT FTA Detail'!$J$3)*(Projects!$C$5:$C$2426='MDOT FTA Detail'!$C$4)*(Projects!$L$5:$L$2426='MDOT FTA Detail'!$A10)*(Projects!$J$5:$J$2426<>'MDOT FTA Detail'!$A$171)*(Projects!$Q$5:$Q$2426))","v":0},{"$f":"SUMPRODUCT((Projects!$A$5:$A$2426='MDOT FTA Detail'!$M$3)*(Projects!$C$5:$C$2426='MDOT FTA Detail'!$C$4)*(Projects!$L$5:$L$2426='MDOT FTA Detail'!$A10)*(Projects!$J$5:$J$2426<>'MDOT FTA Detail'!$A$171)*(Projects!$K$5:$K$2426))","v":0},0,{"$f":"SUMPRODUCT((Projects!$A$5:$A$2426='MDOT FTA Detail'!$M$3)*(Projects!$C$5:$C$2426='MDOT FTA Detail'!$C$4)*(Projects!$L$5:$L$2426='MDOT FTA Detail'!$A10)*(Projects!$J$5:$J$2426<>'MDOT FTA Detail'!$A$171)*(Projects!$Q$5:$Q$2426))","v":0}]
["BO","Bridge Not Classified Off System","MDOT FA",{"$f":"SUMPRODUCT((Projects!$A$5:$A$2426='MDOT FTA Detail'!$D$3)*(Projects!$C$5:$C$2426='MDOT FTA Detail'!$C$4)*(Projects!$L$5:$L$2426='MDOT FTA Detail'!$A11)*(Projects!$J$5:$J$2426<>'MDOT FTA Detail'!$A$171)*(Projects!$K$5:K$2426))","v":0},{"$f":"F11-D11","v":0},{"$f":"SUMPRODUCT((Projects!$A$5:$A$2426='MDOT FTA Detail'!$D$3)*(Projects!$C$5:$C$2426='MDOT FTA Detail'!$C$4)*(Projects!$L$5:$L$2426='MDOT FTA Detail'!$A11)*(Projects!$J$5:$J$2426<>'MDOT FTA Detail'!$A$171)*(Projects!$Q$5:Q$2426))","v":0},{"$f":"SUMPRODUCT((Projects!$A$5:$A$2426='MDOT FTA Detail'!$G$3)*(Projects!$C$5:$C$2426='MDOT FTA Detail'!$C$4)*(Projects!$L$5:$L$2426='MDOT FTA Detail'!$A11)*(Projects!$J$5:$J$2426<>'MDOT FTA Detail'!$A$171)*(Projects!$K$5:K$2426))","v":0},{"$f":"I11-G11","v":0},{"$f":"SUMPRODUCT((Projects!$A$5:$A$2426='MDOT FTA Detail'!$G$3)*(Projects!$C$5:$C$2426='MDOT FTA Detail'!$C$4)*(Projects!$L$5:$L$2426='MDOT FTA Detail'!$A11)*(Projects!$J$5:$J$2426<>'MDOT FTA Detail'!$A$171)*(Projects!$Q$5:Q$2426))","v":0},{"$f":"SUMPRODUCT((Projects!$A$5:$A$2426='MDOT FTA Detail'!$J$3)*(Projects!$C$5:$C$2426='MDOT FTA Detail'!$C$4)*(Projects!$L$5:$L$2426='MDOT FTA Detail'!$A11)*(Projects!$J$5:$J$2426<>'MDOT FTA Detail'!$A$171)*(Projects!$K$5:$K$2426))","v":0},{"$f":"L11-J11","v":0},{"$f":"SUMPRODUCT((Projects!$A$5:$A$2426='MDOT FTA Detail'!$J$3)*(Projects!$C$5:$C$2426='MDOT FTA Detail'!$C$4)*(Projects!$L$5:$L$2426='MDOT FTA Detail'!$A11)*(Projects!$J$5:$J$2426<>'MDOT FTA Detail'!$A$171)*(Projects!$Q$5:$Q$2426))","v":0},{"$f":"SUMPRODUCT((Projects!$A$5:$A$2426='MDOT FTA Detail'!$M$3)*(Projects!$C$5:$C$2426='MDOT FTA Detail'!$C$4)*(Projects!$L$5:$L$2426='MDOT FTA Detail'!$A11)*(Projects!$J$5:$J$2426<>'MDOT FTA Detail'!$A$171)*(Projects!$K$5:$K$2426))","v":0},{"$f":"O11-M11","v":0},{"$f":"SUMPRODUCT((Projects!$A$5:$A$2426='MDOT FTA Detail'!$M$3)*(Projects!$C$5:$C$2426='MDOT FTA Detail'!$C$4)*(Projects!$L$5:$L$2426='MDOT FTA Detail'!$A11)*(Projects!$J$5:$J$2426<>'MDOT FTA Detail'!$A$171)*(Projects!$Q$5:$Q$2426))","v":0}]
["BOWD","Business Opportunity & Workforce Development Center","MDOT FA",{"$f":"SUMPRODUCT((Projects!$A$5:$A$2426='MDOT FTA Detail'!$D$3)*(Projects!$C$5:$C$2426='MDOT FTA Detail'!$C$4)*(Projects!$L$5:$L$2426='MDOT FTA Detail'!$A12)*(Projects!$J$5:$J$2426<>'MDOT FTA Detail'!$A$171)*(Projects!$K$5:K$2426))","v":0},0,{"$f":"SUMPRODUCT((Projects!$A$5:$A$2426='MDOT FTA Detail'!$D$3)*(Projects!$C$5:$C$2426='MDOT FTA Detail'!$C$4)*(Projects!$L$5:$L$2426='MDOT FTA Detail'!$A12)*(Projects!$J$5:$J$2426<>'MDOT FTA Detail'!$A$171)*(Projects!$Q$5:Q$2426))","v":0},{"$f":"SUMPRODUCT((Projects!$A$5:$A$2426='MDOT FTA Detail'!$G$3)*(Projects!$C$5:$C$2426='MDOT FTA Detail'!$C$4)*(Projects!$L$5:$L$2426='MDOT FTA Detail'!$A12)*(Projects!$J$5:$J$2426<>'MDOT FTA Detail'!$A$171)*(Projects!$K$5:K$2426))","v":0},0,{"$f":"SUMPRODUCT((Projects!$A$5:$A$2426='MDOT FTA Detail'!$G$3)*(Projects!$C$5:$C$2426='MDOT FTA Detail'!$C$4)*(Projects!$L$5:$L$2426='MDOT FTA Detail'!$A12)*(Projects!$J$5:$J$2426<>'MDOT FTA Detail'!$A$171)*(Projects!$Q$5:Q$2426))","v":0},{"$f":"SUMPRODUCT((Projects!$A$5:$A$2426='MDOT FTA Detail'!$J$3)*(Projects!$C$5:$C$2426='MDOT FTA Detail'!$C$4)*(Projects!$L$5:$L$2426='MDOT FTA Detail'!$A12)*(Projects!$J$5:$J$2426<>'MDOT FTA Detail'!$A$171)*(Projects!$K$5:$K$2426))","v":0},0,{"$f":"SUMPRODUCT((Projects!$A$5:$A$2426='MDOT FTA Detail'!$J$3)*(Projects!$C$5:$C$2426='MDOT FTA Detail'!$C$4)*(Projects!$L$5:$L$2426='MDOT FTA Detail'!$A12)*(Projects!$J$5:$J$2426<>'MDOT FTA Detail'!$A$171)*(Projects!$Q$5:$Q$2426))","v":0},{"$f":"SUMPRODUCT((Projects!$A$5:$A$2426='MDOT FTA Detail'!$M$3)*(Projects!$C$5:$C$2426='MDOT FTA Detail'!$C$4)*(Projects!$L$5:$L$2426='MDOT FTA Detail'!$A12)*(Projects!$J$5:$J$2426<>'MDOT FTA Detail'!$A$171)*(Projects!$K$5:$K$2426))","v":0},0,{"$f":"SUMPRODUCT((Projects!$A$5:$A$2426='MDOT FTA Detail'!$M$3)*(Projects!$C$5:$C$2426='MDOT FTA Detail'!$C$4)*(Projects!$L$5:$L$2426='MDOT FTA Detail'!$A12)*(Projects!$J$5:$J$2426<>'MDOT FTA Detail'!$A$171)*(Projects!$Q$5:$Q$2426))","v":0}]
["BRI","Bridge Replacement - Pre 1991 Interstate","MDOT FA",{"$f":"SUMPRODUCT((Projects!$A$5:$A$2426='MDOT FTA Detail'!$D$3)*(Projects!$C$5:$C$2426='MDOT FTA Detail'!$C$4)*(Projects!$L$5:$L$2426='MDOT FTA Detail'!$A13)*(Projects!$J$5:$J$2426<>'MDOT FTA Detail'!$A$171)*(Projects!$K$5:K$2426))","v":0},0,{"$f":"SUMPRODUCT((Projects!$A$5:$A$2426='MDOT FTA Detail'!$D$3)*(Projects!$C$5:$C$2426='MDOT FTA Detail'!$C$4)*(Projects!$L$5:$L$2426='MDOT FTA Detail'!$A13)*(Projects!$J$5:$J$2426<>'MDOT FTA Detail'!$A$171)*(Projects!$Q$5:Q$2426))","v":0},{"$f":"SUMPRODUCT((Projects!$A$5:$A$2426='MDOT FTA Detail'!$G$3)*(Projects!$C$5:$C$2426='MDOT FTA Detail'!$C$4)*(Projects!$L$5:$L$2426='MDOT FTA Detail'!$A13)*(Projects!$J$5:$J$2426<>'MDOT FTA Detail'!$A$171)*(Projects!$K$5:K$2426))","v":4135701},459522,{"$f":"SUMPRODUCT((Projects!$A$5:$A$2426='MDOT FTA Detail'!$G$3)*(Projects!$C$5:$C$2426='MDOT FTA Detail'!$C$4)*(Projects!$L$5:$L$2426='MDOT FTA Detail'!$A13)*(Projects!$J$5:$J$2426<>'MDOT FTA Detail'!$A$171)*(Projects!$Q$5:Q$2426))","v":4595223},{"$f":"SUMPRODUCT((Projects!$A$5:$A$2426='MDOT FTA Detail'!$J$3)*(Projects!$C$5:$C$2426='MDOT FTA Detail'!$C$4)*(Projects!$L$5:$L$2426='MDOT FTA Detail'!$A13)*(Projects!$J$5:$J$2426<>'MDOT FTA Detail'!$A$171)*(Projects!$K$5:$K$2426))","v":0},0,{"$f":"SUMPRODUCT((Projects!$A$5:$A$2426='MDOT FTA Detail'!$J$3)*(Projects!$C$5:$C$2426='MDOT FTA Detail'!$C$4)*(Projects!$L$5:$L$2426='MDOT FTA Detail'!$A13)*(Projects!$J$5:$J$2426<>'MDOT FTA Detail'!$A$171)*(Projects!$Q$5:$Q$2426))","v":0},{"$f":"SUMPRODUCT((Projects!$A$5:$A$2426='MDOT FTA Detail'!$M$3)*(Projects!$C$5:$C$2426='MDOT FTA Detail'!$C$4)*(Projects!$L$5:$L$2426='MDOT FTA Detail'!$A13)*(Projects!$J$5:$J$2426<>'MDOT FTA Detail'!$A$171)*(Projects!$K$5:$K$2426))","v":0},0,{"$f":"SUMPRODUCT((Projects!$A$5:$A$2426='MDOT FTA Detail'!$M$3)*(Projects!$C$5:$C$2426='MDOT FTA Detail'!$C$4)*(Projects!$L$5:$L$2426='MDOT FTA Detail'!$A13)*(Projects!$J$5:$J$2426<>'MDOT FTA Detail'!$A$171)*(Projects!$Q$5:$Q$2426))","v":0}]
["BRN","Bridge Replacement - National Highway System (NHS)","MDOT FA",{"$f":"SUMPRODUCT((Projects!$A$5:$A$2426='MDOT FTA Detail'!$D$3)*(Projects!$C$5:$C$2426='MDOT FTA Detail'!$C$4)*(Projects!$L$5:$L$2426='MDOT FTA Detail'!$A14)*(Projects!$J$5:$J$2426<>'MDOT FTA Detail'!$A$171)*(Projects!$K$5:K$2426))","v":0},0,{"$f":"SUMPRODUCT((Projects!$A$5:$A$2426='MDOT FTA Detail'!$D$3)*(Projects!$C$5:$C$2426='MDOT FTA Detail'!$C$4)*(Projects!$L$5:$L$2426='MDOT FTA Detail'!$A14)*(Projects!$J$5:$J$2426<>'MDOT FTA Detail'!$A$171)*(Projects!$Q$5:Q$2426))","v":0},{"$f":"SUMPRODUCT((Projects!$A$5:$A$2426='MDOT FTA Detail'!$G$3)*(Projects!$C$5:$C$2426='MDOT FTA Detail'!$C$4)*(Projects!$L$5:$L$2426='MDOT FTA Detail'!$A14)*(Projects!$J$5:$J$2426<>'MDOT FTA Detail'!$A$171)*(Projects!$K$5:K$2426))","v":0},0,{"$f":"SUMPRODUCT((Projects!$A$5:$A$2426='MDOT FTA Detail'!$G$3)*(Projects!$C$5:$C$2426='MDOT FTA Detail'!$C$4)*(Projects!$L$5:$L$2426='MDOT FTA Detail'!$A14)*(Projects!$J$5:$J$2426<>'MDOT FTA Detail'!$A$171)*(Projects!$Q$5:Q$2426))","v":0},{"$f":"SUMPRODUCT((Projects!$A$5:$A$2426='MDOT FTA Detail'!$J$3)*(Projects!$C$5:$C$2426='MDOT FTA Detail'!$C$4)*(Projects!$L$5:$L$2426='MDOT FTA Detail'!$A14)*(Projects!$J$5:$J$2426<>'MDOT FTA Detail'!$A$171)*(Projects!$K$5:$K$2426))","v":0},0,{"$f":"SUMPRODUCT((Projects!$A$5:$A$2426='MDOT FTA Detail'!$J$3)*(Projects!$C$5:$C$2426='MDOT FTA Detail'!$C$4)*(Projects!$L$5:$L$2426='MDOT FTA Detail'!$A14)*(Projects!$J$5:$J$2426<>'MDOT FTA Detail'!$A$171)*(Projects!$Q$5:$Q$2426))","v":0},{"$f":"SUMPRODUCT((Projects!$A$5:$A$2426='MDOT FTA Detail'!$M$3)*(Projects!$C$5:$C$2426='MDOT FTA Detail'!$C$4)*(Projects!$L$5:$L$2426='MDOT FTA Detail'!$A14)*(Projects!$J$5:$J$2426<>'MDOT FTA Detail'!$A$171)*(Projects!$K$5:$K$2426))","v":0},0,{"$f":"SUMPRODUCT((Projects!$A$5:$A$2426='MDOT FTA Detail'!$M$3)*(Projects!$C$5:$C$2426='MDOT FTA Detail'!$C$4)*(Projects!$L$5:$L$2426='MDOT FTA Detail'!$A14)*(Projects!$J$5:$J$2426<>'MDOT FTA Detail'!$A$171)*(Projects!$Q$5:$Q$2426))","v":0}]
["BRO","Bridge Replacement - Not Classified, Off System","MDOT FA",{"$f":"SUMPRODUCT((Projects!$A$5:$A$2426='MDOT FTA Detail'!$D$3)*(Projects!$C$5:$C$2426='MDOT FTA Detail'!$C$4)*(Projects!$L$5:$L$2426='MDOT FTA Detail'!$A15)*(Projects!$J$5:$J$2426<>'MDOT FTA Detail'!$A$171)*(Projects!$K$5:K$2426))","v":0},0,{"$f":"SUMPRODUCT((Projects!$A$5:$A$2426='MDOT FTA Detail'!$D$3)*(Projects!$C$5:$C$2426='MDOT FTA Detail'!$C$4)*(Projects!$L$5:$L$2426='MDOT FTA Detail'!$A15)*(Projects!$J$5:$J$2426<>'MDOT FTA Detail'!$A$171)*(Projects!$Q$5:Q$2426))","v":0},{"$f":"SUMPRODUCT((Projects!$A$5:$A$2426='MDOT FTA Detail'!$G$3)*(Projects!$C$5:$C$2426='MDOT FTA Detail'!$C$4)*(Projects!$L$5:$L$2426='MDOT FTA Detail'!$A15)*(Projects!$J$5:$J$2426<>'MDOT FTA Detail'!$A$171)*(Projects!$K$5:K$2426))","v":0},0,{"$f":"SUMPRODUCT((Projects!$A$5:$A$2426='MDOT FTA Detail'!$G$3)*(Projects!$C$5:$C$2426='MDOT FTA Detail'!$C$4)*(Projects!$L$5:$L$2426='MDOT FTA Detail'!$A15)*(Projects!$J$5:$J$2426<>'MDOT FTA Detail'!$A$171)*(Projects!$Q$5:Q$2426))","v":0},{"$f":"SUMPRODUCT((Projects!$A$5:$A$2426='MDOT FTA Detail'!$J$3)*(Projects!$C$5:$C$2426='MDOT FTA Detail'!$C$4)*(Projects!$L$5:$L$2426='MDOT FTA Detail'!$A15)*(Projects!$J$5:$J$2426<>'MDOT FTA Detail'!$A$171)*(Projects!$K$5:$K$2426))","v":0},0,{"$f":"SUMPRODUCT((Projects!$A$5:$A$2426='MDOT FTA Detail'!$J$3)*(Projects!$C$5:$C$2426='MDOT FTA Detail'!$C$4)*(Projects!$L$5:$L$2426='MDOT FTA Detail'!$A15)*(Projects!$J$5:$J$2426<>'MDOT FTA Detail'!$A$171)*(Projects!$Q$5:$Q$2426))","v":0},{"$f":"SUMPRODUCT((Projects!$A$5:$A$2426='MDOT FTA Detail'!$M$3)*(Projects!$C$5:$C$2426='MDOT FTA Detail'!$C$4)*(Projects!$L$5:$L$2426='MDOT FTA Detail'!$A15)*(Projects!$J$5:$J$2426<>'MDOT FTA Detail'!$A$171)*(Projects!$K$5:$K$2426))","v":0},0,{"$f":"SUMPRODUCT((Projects!$A$5:$A$2426='MDOT FTA Detail'!$M$3)*(Projects!$C$5:$C$2426='MDOT FTA Detail'!$C$4)*(Projects!$L$5:$L$2426='MDOT FTA Detail'!$A15)*(Projects!$J$5:$J$2426<>'MDOT FTA Detail'!$A$171)*(Projects!$Q$5:$Q$2426))","v":0}]
["BRT","Bridge Replacement - Surface Transportation Program (STP)","MDOT FA",{"$f":"SUMPRODUCT((Projects!$A$5:$A$2426='MDOT FTA Detail'!$D$3)*(Projects!$C$5:$C$2426='MDOT FTA Detail'!$C$4)*(Projects!$L$5:$L$2426='MDOT FTA Detail'!$A16)*(Projects!$J$5:$J$2426<>'MDOT FTA Detail'!$A$171)*(Projects!$K$5:K$2426))","v":0},0,{"$f":"SUMPRODUCT((Projects!$A$5:$A$2426='MDOT FTA Detail'!$D$3)*(Projects!$C$5:$C$2426='MDOT FTA Detail'!$C$4)*(Projects!$L$5:$L$2426='MDOT FTA Detail'!$A16)*(Projects!$J$5:$J$2426<>'MDOT FTA Detail'!$A$171)*(Projects!$Q$5:Q$2426))","v":0},{"$f":"SUMPRODUCT((Projects!$A$5:$A$2426='MDOT FTA Detail'!$G$3)*(Projects!$C$5:$C$2426='MDOT FTA Detail'!$C$4)*(Projects!$L$5:$L$2426='MDOT FTA Detail'!$A16)*(Projects!$J$5:$J$2426<>'MDOT FTA Detail'!$A$171)*(Projects!$K$5:K$2426))","v":0},0,{"$f":"SUMPRODUCT((Projects!$A$5:$A$2426='MDOT FTA Detail'!$G$3)*(Projects!$C$5:$C$2426='MDOT FTA Detail'!$C$4)*(Projects!$L$5:$L$2426='MDOT FTA Detail'!$A16)*(Projects!$J$5:$J$2426<>'MDOT FTA Detail'!$A$171)*(Projects!$Q$5:Q$2426))","v":0},{"$f":"SUMPRODUCT((Projects!$A$5:$A$2426='MDOT FTA Detail'!$J$3)*(Projects!$C$5:$C$2426='MDOT FTA Detail'!$C$4)*(Projects!$L$5:$L$2426='MDOT FTA Detail'!$A16)*(Projects!$J$5:$J$2426<>'MDOT FTA Detail'!$A$171)*(Projects!$K$5:$K$2426))","v":0},0,{"$f":"SUMPRODUCT((Projects!$A$5:$A$2426='MDOT FTA Detail'!$J$3)*(Projects!$C$5:$C$2426='MDOT FTA Detail'!$C$4)*(Projects!$L$5:$L$2426='MDOT FTA Detail'!$A16)*(Projects!$J$5:$J$2426<>'MDOT FTA Detail'!$A$171)*(Projects!$Q$5:$Q$2426))","v":0},{"$f":"SUMPRODUCT((Projects!$A$5:$A$2426='MDOT FTA Detail'!$M$3)*(Projects!$C$5:$C$2426='MDOT FTA Detail'!$C$4)*(Projects!$L$5:$L$2426='MDOT FTA Detail'!$A16)*(Projects!$J$5:$J$2426<>'MDOT FTA Detail'!$A$171)*(Projects!$K$5:$K$2426))","v":0},0,{"$f":"SUMPRODUCT((Projects!$A$5:$A$2426='MDOT FTA Detail'!$M$3)*(Projects!$C$5:$C$2426='MDOT FTA Detail'!$C$4)*(Projects!$L$5:$L$2426='MDOT FTA Detail'!$A16)*(Projects!$J$5:$J$2426<>'MDOT FTA Detail'!$A$171)*(Projects!$Q$5:$Q$2426))","v":0}]
["CANX","Canadian Bridge Funds","MDOT FA",{"$f":"SUMPRODUCT((Projects!$A$5:$A$2426='MDOT FTA Detail'!$D$3)*(Projects!$C$5:$C$2426='MDOT FTA Detail'!$C$4)*(Projects!$L$5:$L$2426='MDOT FTA Detail'!$A17)*(Projects!$J$5:$J$2426<>'MDOT FTA Detail'!$A$171)*(Projects!$K$5:K$2426))","v":0},0,{"$f":"SUMPRODUCT((Projects!$A$5:$A$2426='MDOT FTA Detail'!$D$3)*(Projects!$C$5:$C$2426='MDOT FTA Detail'!$C$4)*(Projects!$L$5:$L$2426='MDOT FTA Detail'!$A17)*(Projects!$J$5:$J$2426<>'MDOT FTA Detail'!$A$171)*(Projects!$Q$5:Q$2426))","v":0},{"$f":"SUMPRODUCT((Projects!$A$5:$A$2426='MDOT FTA Detail'!$G$3)*(Projects!$C$5:$C$2426='MDOT FTA Detail'!$C$4)*(Projects!$L$5:$L$2426='MDOT FTA Detail'!$A17)*(Projects!$J$5:$J$2426<>'MDOT FTA Detail'!$A$171)*(Projects!$K$5:K$2426))","v":0},0,{"$f":"SUMPRODUCT((Projects!$A$5:$A$2426='MDOT FTA Detail'!$G$3)*(Projects!$C$5:$C$2426='MDOT FTA Detail'!$C$4)*(Projects!$L$5:$L$2426='MDOT FTA Detail'!$A17)*(Projects!$J$5:$J$2426<>'MDOT FTA Detail'!$A$171)*(Projects!$Q$5:Q$2426))","v":0},{"$f":"SUMPRODUCT((Projects!$A$5:$A$2426='MDOT FTA Detail'!$J$3)*(Projects!$C$5:$C$2426='MDOT FTA Detail'!$C$4)*(Projects!$L$5:$L$2426='MDOT FTA Detail'!$A17)*(Projects!$J$5:$J$2426<>'MDOT FTA Detail'!$A$171)*(Projects!$K$5:$K$2426))","v":0},0,{"$f":"SUMPRODUCT((Projects!$A$5:$A$2426='MDOT FTA Detail'!$J$3)*(Projects!$C$5:$C$2426='MDOT FTA Detail'!$C$4)*(Projects!$L$5:$L$2426='MDOT FTA Detail'!$A17)*(Projects!$J$5:$J$2426<>'MDOT FTA Detail'!$A$171)*(Projects!$Q$5:$Q$2426))","v":0},{"$f":"SUMPRODUCT((Projects!$A$5:$A$2426='MDOT FTA Detail'!$M$3)*(Projects!$C$5:$C$2426='MDOT FTA Detail'!$C$4)*(Projects!$L$5:$L$2426='MDOT FTA Detail'!$A17)*(Projects!$J$5:$J$2426<>'MDOT FTA Detail'!$A$171)*(Projects!$K$5:$K$2426))","v":0},0,{"$f":"SUMPRODUCT((Projects!$A$5:$A$2426='MDOT FTA Detail'!$M$3)*(Projects!$C$5:$C$2426='MDOT FTA Detail'!$C$4)*(Projects!$L$5:$L$2426='MDOT FTA Detail'!$A17)*(Projects!$J$5:$J$2426<>'MDOT FTA Detail'!$A$171)*(Projects!$Q$5:$Q$2426))","v":0}]
["CBCD","Corridor & Border Crossing Discretionary","MDOT FA",{"$f":"SUMPRODUCT((Projects!$A$5:$A$2426='MDOT FTA Detail'!$D$3)*(Projects!$C$5:$C$2426='MDOT FTA Detail'!$C$4)*(Projects!$L$5:$L$2426='MDOT FTA Detail'!$A18)*(Projects!$J$5:$J$2426<>'MDOT FTA Detail'!$A$171)*(Projects!$K$5:K$2426))","v":0},0,{"$f":"SUMPRODUCT((Projects!$A$5:$A$2426='MDOT FTA Detail'!$D$3)*(Projects!$C$5:$C$2426='MDOT FTA Detail'!$C$4)*(Projects!$L$5:$L$2426='MDOT FTA Detail'!$A18)*(Projects!$J$5:$J$2426<>'MDOT FTA Detail'!$A$171)*(Projects!$Q$5:Q$2426))","v":0},{"$f":"SUMPRODUCT((Projects!$A$5:$A$2426='MDOT FTA Detail'!$G$3)*(Projects!$C$5:$C$2426='MDOT FTA Detail'!$C$4)*(Projects!$L$5:$L$2426='MDOT FTA Detail'!$A18)*(Projects!$J$5:$J$2426<>'MDOT FTA Detail'!$A$171)*(Projects!$K$5:K$2426))","v":0},0,{"$f":"SUMPRODUCT((Projects!$A$5:$A$2426='MDOT FTA Detail'!$G$3)*(Projects!$C$5:$C$2426='MDOT FTA Detail'!$C$4)*(Projects!$L$5:$L$2426='MDOT FTA Detail'!$A18)*(Projects!$J$5:$J$2426<>'MDOT FTA Detail'!$A$171)*(Projects!$Q$5:Q$2426))","v":0},{"$f":"SUMPRODUCT((Projects!$A$5:$A$2426='MDOT FTA Detail'!$J$3)*(Projects!$C$5:$C$2426='MDOT FTA Detail'!$C$4)*(Projects!$L$5:$L$2426='MDOT FTA Detail'!$A18)*(Projects!$J$5:$J$2426<>'MDOT FTA Detail'!$A$171)*(Projects!$K$5:$K$2426))","v":0},0,{"$f":"SUMPRODUCT((Projects!$A$5:$A$2426='MDOT FTA Detail'!$J$3)*(Projects!$C$5:$C$2426='MDOT FTA Detail'!$C$4)*(Projects!$L$5:$L$2426='MDOT FTA Detail'!$A18)*(Projects!$J$5:$J$2426<>'MDOT FTA Detail'!$A$171)*(Projects!$Q$5:$Q$2426))","v":0},{"$f":"SUMPRODUCT((Projects!$A$5:$A$2426='MDOT FTA Detail'!$M$3)*(Projects!$C$5:$C$2426='MDOT FTA Detail'!$C$4)*(Projects!$L$5:$L$2426='MDOT FTA Detail'!$A18)*(Projects!$J$5:$J$2426<>'MDOT FTA Detail'!$A$171)*(Projects!$K$5:$K$2426))","v":0},0,{"$f":"SUMPRODUCT((Projects!$A$5:$A$2426='MDOT FTA Detail'!$M$3)*(Projects!$C$5:$C$2426='MDOT FTA Detail'!$C$4)*(Projects!$L$5:$L$2426='MDOT FTA Detail'!$A18)*(Projects!$J$5:$J$2426<>'MDOT FTA Detail'!$A$171)*(Projects!$Q$5:$Q$2426))","v":0}]
["CBIP","Coordinated Border Infrastructure Program - SAFETEA-LU","MDOT FA",{"$f":"SUMPRODUCT((Projects!$A$5:$A$2426='MDOT FTA Detail'!$D$3)*(Projects!$C$5:$C$2426='MDOT FTA Detail'!$C$4)*(Projects!$L$5:$L$2426='MDOT FTA Detail'!$A19)*(Projects!$J$5:$J$2426<>'MDOT FTA Detail'!$A$171)*(Projects!$K$5:K$2426))","v":0},0,{"$f":"SUMPRODUCT((Projects!$A$5:$A$2426='MDOT FTA Detail'!$D$3)*(Projects!$C$5:$C$2426='MDOT FTA Detail'!$C$4)*(Projects!$L$5:$L$2426='MDOT FTA Detail'!$A19)*(Projects!$J$5:$J$2426<>'MDOT FTA Detail'!$A$171)*(Projects!$Q$5:Q$2426))","v":0},{"$f":"SUMPRODUCT((Projects!$A$5:$A$2426='MDOT FTA Detail'!$G$3)*(Projects!$C$5:$C$2426='MDOT FTA Detail'!$C$4)*(Projects!$L$5:$L$2426='MDOT FTA Detail'!$A19)*(Projects!$J$5:$J$2426<>'MDOT FTA Detail'!$A$171)*(Projects!$K$5:K$2426))","v":0},0,{"$f":"SUMPRODUCT((Projects!$A$5:$A$2426='MDOT FTA Detail'!$G$3)*(Projects!$C$5:$C$2426='MDOT FTA Detail'!$C$4)*(Projects!$L$5:$L$2426='MDOT FTA Detail'!$A19)*(Projects!$J$5:$J$2426<>'MDOT FTA Detail'!$A$171)*(Projects!$Q$5:Q$2426))","v":0},{"$f":"SUMPRODUCT((Projects!$A$5:$A$2426='MDOT FTA Detail'!$J$3)*(Projects!$C$5:$C$2426='MDOT FTA Detail'!$C$4)*(Projects!$L$5:$L$2426='MDOT FTA Detail'!$A19)*(Projects!$J$5:$J$2426<>'MDOT FTA Detail'!$A$171)*(Projects!$K$5:$K$2426))","v":0},0,{"$f":"SUMPRODUCT((Projects!$A$5:$A$2426='MDOT FTA Detail'!$J$3)*(Projects!$C$5:$C$2426='MDOT FTA Detail'!$C$4)*(Projects!$L$5:$L$2426='MDOT FTA Detail'!$A19)*(Projects!$J$5:$J$2426<>'MDOT FTA Detail'!$A$171)*(Projects!$Q$5:$Q$2426))","v":0},{"$f":"SUMPRODUCT((Projects!$A$5:$A$2426='MDOT FTA Detail'!$M$3)*(Projects!$C$5:$C$2426='MDOT FTA Detail'!$C$4)*(Projects!$L$5:$L$2426='MDOT FTA Detail'!$A19)*(Projects!$J$5:$J$2426<>'MDOT FTA Detail'!$A$171)*(Projects!$K$5:$K$2426))","v":0},0,{"$f":"SUMPRODUCT((Projects!$A$5:$A$2426='MDOT FTA Detail'!$M$3)*(Projects!$C$5:$C$2426='MDOT FTA Detail'!$C$4)*(Projects!$L$5:$L$2426='MDOT FTA Detail'!$A19)*(Projects!$J$5:$J$2426<>'MDOT FTA Detail'!$A$171)*(Projects!$Q$5:$Q$2426))","v":0}]
["CM","Congestion Mitigation & Air Quality","MDOT FA",{"$f":"SUMPRODUCT((Projects!$A$5:$A$2426='MDOT FTA Detail'!$D$3)*(Projects!$C$5:$C$2426='MDOT FTA Detail'!$C$4)*(Projects!$L$5:$L$2426='MDOT FTA Detail'!$A20)*(Projects!$J$5:$J$2426<>'MDOT FTA Detail'!$A$171)*(Projects!$K$5:K$2426))","v":57189},12681,{"$f":"SUMPRODUCT((Projects!$A$5:$A$2426='MDOT FTA Detail'!$D$3)*(Projects!$C$5:$C$2426='MDOT FTA Detail'!$C$4)*(Projects!$L$5:$L$2426='MDOT FTA Detail'!$A20)*(Projects!$J$5:$J$2426<>'MDOT FTA Detail'!$A$171)*(Projects!$Q$5:Q$2426))","v":69870},{"$f":"SUMPRODUCT((Projects!$A$5:$A$2426='MDOT FTA Detail'!$G$3)*(Projects!$C$5:$C$2426='MDOT FTA Detail'!$C$4)*(Projects!$L$5:$L$2426='MDOT FTA Detail'!$A20)*(Projects!$J$5:$J$2426<>'MDOT FTA Detail'!$A$171)*(Projects!$K$5:K$2426))","v":0},0,{"$f":"SUMPRODUCT((Projects!$A$5:$A$2426='MDOT FTA Detail'!$G$3)*(Projects!$C$5:$C$2426='MDOT FTA Detail'!$C$4)*(Projects!$L$5:$L$2426='MDOT FTA Detail'!$A20)*(Projects!$J$5:$J$2426<>'MDOT FTA Detail'!$A$171)*(Projects!$Q$5:Q$2426))","v":0},{"$f":"SUMPRODUCT((Projects!$A$5:$A$2426='MDOT FTA Detail'!$J$3)*(Projects!$C$5:$C$2426='MDOT FTA Detail'!$C$4)*(Projects!$L$5:$L$2426='MDOT FTA Detail'!$A20)*(Projects!$J$5:$J$2426<>'MDOT FTA Detail'!$A$171)*(Projects!$K$5:$K$2426))","v":0},0,{"$f":"SUMPRODUCT((Projects!$A$5:$A$2426='MDOT FTA Detail'!$J$3)*(Projects!$C$5:$C$2426='MDOT FTA Detail'!$C$4)*(Projects!$L$5:$L$2426='MDOT FTA Detail'!$A20)*(Projects!$J$5:$J$2426<>'MDOT FTA Detail'!$A$171)*(Projects!$Q$5:$Q$2426))","v":0},{"$f":"SUMPRODUCT((Projects!$A$5:$A$2426='MDOT FTA Detail'!$M$3)*(Projects!$C$5:$C$2426='MDOT FTA Detail'!$C$4)*(Projects!$L$5:$L$2426='MDOT FTA Detail'!$A20)*(Projects!$J$5:$J$2426<>'MDOT FTA Detail'!$A$171)*(Projects!$K$5:$K$2426))","v":486712},107928,{"$f":"SUMPRODUCT((Projects!$A$5:$A$2426='MDOT FTA Detail'!$M$3)*(Projects!$C$5:$C$2426='MDOT FTA Detail'!$C$4)*(Projects!$L$5:$L$2426='MDOT FTA Detail'!$A20)*(Projects!$J$5:$J$2426<>'MDOT FTA Detail'!$A$171)*(Projects!$Q$5:$Q$2426))","v":594640}]
["CMG","Congestion Mitigation & Air Quality - 100% Federal","MDOT FA",{"$f":"SUMPRODUCT((Projects!$A$5:$A$2426='MDOT FTA Detail'!$D$3)*(Projects!$C$5:$C$2426='MDOT FTA Detail'!$C$4)*(Projects!$L$5:$L$2426='MDOT FTA Detail'!$A21)*(Projects!$J$5:$J$2426<>'MDOT FTA Detail'!$A$171)*(Projects!$K$5:K$2426))","v":0},0,{"$f":"SUMPRODUCT((Projects!$A$5:$A$2426='MDOT FTA Detail'!$D$3)*(Projects!$C$5:$C$2426='MDOT FTA Detail'!$C$4)*(Projects!$L$5:$L$2426='MDOT FTA Detail'!$A21)*(Projects!$J$5:$J$2426<>'MDOT FTA Detail'!$A$171)*(Projects!$Q$5:Q$2426))","v":0},{"$f":"SUMPRODUCT((Projects!$A$5:$A$2426='MDOT FTA Detail'!$G$3)*(Projects!$C$5:$C$2426='MDOT FTA Detail'!$C$4)*(Projects!$L$5:$L$2426='MDOT FTA Detail'!$A21)*(Projects!$J$5:$J$2426<>'MDOT FTA Detail'!$A$171)*(Projects!$K$5:K$2426))","v":0},0,{"$f":"SUMPRODUCT((Projects!$A$5:$A$2426='MDOT FTA Detail'!$G$3)*(Projects!$C$5:$C$2426='MDOT FTA Detail'!$C$4)*(Projects!$L$5:$L$2426='MDOT FTA Detail'!$A21)*(Projects!$J$5:$J$2426<>'MDOT FTA Detail'!$A$171)*(Projects!$Q$5:Q$2426))","v":0},{"$f":"SUMPRODUCT((Projects!$A$5:$A$2426='MDOT FTA Detail'!$J$3)*(Projects!$C$5:$C$2426='MDOT FTA Detail'!$C$4)*(Projects!$L$5:$L$2426='MDOT FTA Detail'!$A21)*(Projects!$J$5:$J$2426<>'MDOT FTA Detail'!$A$171)*(Projects!$K$5:$K$2426))","v":0},0,{"$f":"SUMPRODUCT((Projects!$A$5:$A$2426='MDOT FTA Detail'!$J$3)*(Projects!$C$5:$C$2426='MDOT FTA Detail'!$C$4)*(Projects!$L$5:$L$2426='MDOT FTA Detail'!$A21)*(Projects!$J$5:$J$2426<>'MDOT FTA Detail'!$A$171)*(Projects!$Q$5:$Q$2426))","v":0},{"$f":"SUMPRODUCT((Projects!$A$5:$A$2426='MDOT FTA Detail'!$M$3)*(Projects!$C$5:$C$2426='MDOT FTA Detail'!$C$4)*(Projects!$L$5:$L$2426='MDOT FTA Detail'!$A21)*(Projects!$J$5:$J$2426<>'MDOT FTA Detail'!$A$171)*(Projects!$K$5:$K$2426))","v":0},0,{"$f":"SUMPRODUCT((Projects!$A$5:$A$2426='MDOT FTA Detail'!$M$3)*(Projects!$C$5:$C$2426='MDOT FTA Detail'!$C$4)*(Projects!$L$5:$L$2426='MDOT FTA Detail'!$A21)*(Projects!$J$5:$J$2426<>'MDOT FTA Detail'!$A$171)*(Projects!$Q$5:$Q$2426))","v":0}]
["CPM","Congestion Mititagion & Air Quality for PM 2.5 Emissions","MDOT FA",{"$f":"SUMPRODUCT((Projects!$A$5:$A$2426='MDOT FTA Detail'!$D$3)*(Projects!$C$5:$C$2426='MDOT FTA Detail'!$C$4)*(Projects!$L$5:$L$2426='MDOT FTA Detail'!$A22)*(Projects!$J$5:$J$2426<>'MDOT FTA Detail'!$A$171)*(Projects!$K$5:K$2426))","v":0},{"$f":"F22-D22","v":0},{"$f":"SUMPRODUCT((Projects!$A$5:$A$2426='MDOT FTA Detail'!$D$3)*(Projects!$C$5:$C$2426='MDOT FTA Detail'!$C$4)*(Projects!$L$5:$L$2426='MDOT FTA Detail'!$A22)*(Projects!$J$5:$J$2426<>'MDOT FTA Detail'!$A$171)*(Projects!$Q$5:Q$2426))","v":0},{"$f":"SUMPRODUCT((Projects!$A$5:$A$2426='MDOT FTA Detail'!$G$3)*(Projects!$C$5:$C$2426='MDOT FTA Detail'!$C$4)*(Projects!$L$5:$L$2426='MDOT FTA Detail'!$A22)*(Projects!$J$5:$J$2426<>'MDOT FTA Detail'!$A$171)*(Projects!$K$5:K$2426))","v":0},{"$f":"I22-G22","v":0},{"$f":"SUMPRODUCT((Projects!$A$5:$A$2426='MDOT FTA Detail'!$G$3)*(Projects!$C$5:$C$2426='MDOT FTA Detail'!$C$4)*(Projects!$L$5:$L$2426='MDOT FTA Detail'!$A22)*(Projects!$J$5:$J$2426<>'MDOT FTA Detail'!$A$171)*(Projects!$Q$5:Q$2426))","v":0},{"$f":"SUMPRODUCT((Projects!$A$5:$A$2426='MDOT FTA Detail'!$J$3)*(Projects!$C$5:$C$2426='MDOT FTA Detail'!$C$4)*(Projects!$L$5:$L$2426='MDOT FTA Detail'!$A22)*(Projects!$J$5:$J$2426<>'MDOT FTA Detail'!$A$171)*(Projects!$K$5:$K$2426))","v":0},{"$f":"L22-J22","v":0},{"$f":"SUMPRODUCT((Projects!$A$5:$A$2426='MDOT FTA Detail'!$J$3)*(Projects!$C$5:$C$2426='MDOT FTA Detail'!$C$4)*(Projects!$L$5:$L$2426='MDOT FTA Detail'!$A22)*(Projects!$J$5:$J$2426<>'MDOT FTA Detail'!$A$171)*(Projects!$Q$5:$Q$2426))","v":0},{"$f":"SUMPRODUCT((Projects!$A$5:$A$2426='MDOT FTA Detail'!$M$3)*(Projects!$C$5:$C$2426='MDOT FTA Detail'!$C$4)*(Projects!$L$5:$L$2426='MDOT FTA Detail'!$A22)*(Projects!$J$5:$J$2426<>'MDOT FTA Detail'!$A$171)*(Projects!$K$5:$K$2426))","v":0},{"$f":"O22-M22","v":0},{"$f":"SUMPRODUCT((Projects!$A$5:$A$2426='MDOT FTA Detail'!$M$3)*(Projects!$C$5:$C$2426='MDOT FTA Detail'!$C$4)*(Projects!$L$5:$L$2426='MDOT FTA Detail'!$A22)*(Projects!$J$5:$J$2426<>'MDOT FTA Detail'!$A$171)*(Projects!$Q$5:$Q$2426))","v":0}]
["CPMG","Congestion Mititagion & Air Quality for PM 2.5 Emissions - 100% Federal","MDOT FA",{"$f":"SUMPRODUCT((Projects!$A$5:$A$2426='MDOT FTA Detail'!$D$3)*(Projects!$C$5:$C$2426='MDOT FTA Detail'!$C$4)*(Projects!$L$5:$L$2426='MDOT FTA Detail'!$A23)*(Projects!$J$5:$J$2426<>'MDOT FTA Detail'!$A$171)*(Projects!$K$5:K$2426))","v":0},0,{"$f":"SUMPRODUCT((Projects!$A$5:$A$2426='MDOT FTA Detail'!$D$3)*(Projects!$C$5:$C$2426='MDOT FTA Detail'!$C$4)*(Projects!$L$5:$L$2426='MDOT FTA Detail'!$A23)*(Projects!$J$5:$J$2426<>'MDOT FTA Detail'!$A$171)*(Projects!$Q$5:Q$2426))","v":0},{"$f":"SUMPRODUCT((Projects!$A$5:$A$2426='MDOT FTA Detail'!$G$3)*(Projects!$C$5:$C$2426='MDOT FTA Detail'!$C$4)*(Projects!$L$5:$L$2426='MDOT FTA Detail'!$A23)*(Projects!$J$5:$J$2426<>'MDOT FTA Detail'!$A$171)*(Projects!$K$5:K$2426))","v":0},0,{"$f":"SUMPRODUCT((Projects!$A$5:$A$2426='MDOT FTA Detail'!$G$3)*(Projects!$C$5:$C$2426='MDOT FTA Detail'!$C$4)*(Projects!$L$5:$L$2426='MDOT FTA Detail'!$A23)*(Projects!$J$5:$J$2426<>'MDOT FTA Detail'!$A$171)*(Projects!$Q$5:Q$2426))","v":0},{"$f":"SUMPRODUCT((Projects!$A$5:$A$2426='MDOT FTA Detail'!$J$3)*(Projects!$C$5:$C$2426='MDOT FTA Detail'!$C$4)*(Projects!$L$5:$L$2426='MDOT FTA Detail'!$A23)*(Projects!$J$5:$J$2426<>'MDOT FTA Detail'!$A$171)*(Projects!$K$5:$K$2426))","v":0},0,{"$f":"SUMPRODUCT((Projects!$A$5:$A$2426='MDOT FTA Detail'!$J$3)*(Projects!$C$5:$C$2426='MDOT FTA Detail'!$C$4)*(Projects!$L$5:$L$2426='MDOT FTA Detail'!$A23)*(Projects!$J$5:$J$2426<>'MDOT FTA Detail'!$A$171)*(Projects!$Q$5:$Q$2426))","v":0},{"$f":"SUMPRODUCT((Projects!$A$5:$A$2426='MDOT FTA Detail'!$M$3)*(Projects!$C$5:$C$2426='MDOT FTA Detail'!$C$4)*(Projects!$L$5:$L$2426='MDOT FTA Detail'!$A23)*(Projects!$J$5:$J$2426<>'MDOT FTA Detail'!$A$171)*(Projects!$K$5:$K$2426))","v":0},0,{"$f":"SUMPRODUCT((Projects!$A$5:$A$2426='MDOT FTA Detail'!$M$3)*(Projects!$C$5:$C$2426='MDOT FTA Detail'!$C$4)*(Projects!$L$5:$L$2426='MDOT FTA Detail'!$A23)*(Projects!$J$5:$J$2426<>'MDOT FTA Detail'!$A$171)*(Projects!$Q$5:$Q$2426))","v":0}]
["D129","Demonstration for Surface Transportation - Section 129","MDOT FA",{"$f":"SUMPRODUCT((Projects!$A$5:$A$2426='MDOT FTA Detail'!$D$3)*(Projects!$C$5:$C$2426='MDOT FTA Detail'!$C$4)*(Projects!$L$5:$L$2426='MDOT FTA Detail'!$A24)*(Projects!$J$5:$J$2426<>'MDOT FTA Detail'!$A$171)*(Projects!$K$5:K$2426))","v":0},{"$f":"F24-D24","v":0},{"$f":"SUMPRODUCT((Projects!$A$5:$A$2426='MDOT FTA Detail'!$D$3)*(Projects!$C$5:$C$2426='MDOT FTA Detail'!$C$4)*(Projects!$L$5:$L$2426='MDOT FTA Detail'!$A24)*(Projects!$J$5:$J$2426<>'MDOT FTA Detail'!$A$171)*(Projects!$Q$5:Q$2426))","v":0},{"$f":"SUMPRODUCT((Projects!$A$5:$A$2426='MDOT FTA Detail'!$G$3)*(Projects!$C$5:$C$2426='MDOT FTA Detail'!$C$4)*(Projects!$L$5:$L$2426='MDOT FTA Detail'!$A24)*(Projects!$J$5:$J$2426<>'MDOT FTA Detail'!$A$171)*(Projects!$K$5:K$2426))","v":0},{"$f":"I24-G24","v":0},{"$f":"SUMPRODUCT((Projects!$A$5:$A$2426='MDOT FTA Detail'!$G$3)*(Projects!$C$5:$C$2426='MDOT FTA Detail'!$C$4)*(Projects!$L$5:$L$2426='MDOT FTA Detail'!$A24)*(Projects!$J$5:$J$2426<>'MDOT FTA Detail'!$A$171)*(Projects!$Q$5:Q$2426))","v":0},{"$f":"SUMPRODUCT((Projects!$A$5:$A$2426='MDOT FTA Detail'!$J$3)*(Projects!$C$5:$C$2426='MDOT FTA Detail'!$C$4)*(Projects!$L$5:$L$2426='MDOT FTA Detail'!$A24)*(Projects!$J$5:$J$2426<>'MDOT FTA Detail'!$A$171)*(Projects!$K$5:$K$2426))","v":0},{"$f":"L24-J24","v":0},{"$f":"SUMPRODUCT((Projects!$A$5:$A$2426='MDOT FTA Detail'!$J$3)*(Projects!$C$5:$C$2426='MDOT FTA Detail'!$C$4)*(Projects!$L$5:$L$2426='MDOT FTA Detail'!$A24)*(Projects!$J$5:$J$2426<>'MDOT FTA Detail'!$A$171)*(Projects!$Q$5:$Q$2426))","v":0},{"$f":"SUMPRODUCT((Projects!$A$5:$A$2426='MDOT FTA Detail'!$M$3)*(Projects!$C$5:$C$2426='MDOT FTA Detail'!$C$4)*(Projects!$L$5:$L$2426='MDOT FTA Detail'!$A24)*(Projects!$J$5:$J$2426<>'MDOT FTA Detail'!$A$171)*(Projects!$K$5:$K$2426))","v":0},{"$f":"O24-M24","v":0},{"$f":"SUMPRODUCT((Projects!$A$5:$A$2426='MDOT FTA Detail'!$M$3)*(Projects!$C$5:$C$2426='MDOT FTA Detail'!$C$4)*(Projects!$L$5:$L$2426='MDOT FTA Detail'!$A24)*(Projects!$J$5:$J$2426<>'MDOT FTA Detail'!$A$171)*(Projects!$Q$5:$Q$2426))","v":0}]
["DIG","ISTEA Demonstration 100% Federal on Interstate","MDOT FA",{"$f":"SUMPRODUCT((Projects!$A$5:$A$2426='MDOT FTA Detail'!$D$3)*(Projects!$C$5:$C$2426='MDOT FTA Detail'!$C$4)*(Projects!$L$5:$L$2426='MDOT FTA Detail'!$A25)*(Projects!$J$5:$J$2426<>'MDOT FTA Detail'!$A$171)*(Projects!$K$5:K$2426))","v":0},0,{"$f":"SUMPRODUCT((Projects!$A$5:$A$2426='MDOT FTA Detail'!$D$3)*(Projects!$C$5:$C$2426='MDOT FTA Detail'!$C$4)*(Projects!$L$5:$L$2426='MDOT FTA Detail'!$A25)*(Projects!$J$5:$J$2426<>'MDOT FTA Detail'!$A$171)*(Projects!$Q$5:Q$2426))","v":0},{"$f":"SUMPRODUCT((Projects!$A$5:$A$2426='MDOT FTA Detail'!$G$3)*(Projects!$C$5:$C$2426='MDOT FTA Detail'!$C$4)*(Projects!$L$5:$L$2426='MDOT FTA Detail'!$A25)*(Projects!$J$5:$J$2426<>'MDOT FTA Detail'!$A$171)*(Projects!$K$5:K$2426))","v":0},0,{"$f":"SUMPRODUCT((Projects!$A$5:$A$2426='MDOT FTA Detail'!$G$3)*(Projects!$C$5:$C$2426='MDOT FTA Detail'!$C$4)*(Projects!$L$5:$L$2426='MDOT FTA Detail'!$A25)*(Projects!$J$5:$J$2426<>'MDOT FTA Detail'!$A$171)*(Projects!$Q$5:Q$2426))","v":0},{"$f":"SUMPRODUCT((Projects!$A$5:$A$2426='MDOT FTA Detail'!$J$3)*(Projects!$C$5:$C$2426='MDOT FTA Detail'!$C$4)*(Projects!$L$5:$L$2426='MDOT FTA Detail'!$A25)*(Projects!$J$5:$J$2426<>'MDOT FTA Detail'!$A$171)*(Projects!$K$5:$K$2426))","v":0},0,{"$f":"SUMPRODUCT((Projects!$A$5:$A$2426='MDOT FTA Detail'!$J$3)*(Projects!$C$5:$C$2426='MDOT FTA Detail'!$C$4)*(Projects!$L$5:$L$2426='MDOT FTA Detail'!$A25)*(Projects!$J$5:$J$2426<>'MDOT FTA Detail'!$A$171)*(Projects!$Q$5:$Q$2426))","v":0},{"$f":"SUMPRODUCT((Projects!$A$5:$A$2426='MDOT FTA Detail'!$M$3)*(Projects!$C$5:$C$2426='MDOT FTA Detail'!$C$4)*(Projects!$L$5:$L$2426='MDOT FTA Detail'!$A25)*(Projects!$J$5:$J$2426<>'MDOT FTA Detail'!$A$171)*(Projects!$K$5:$K$2426))","v":0},0,{"$f":"SUMPRODUCT((Projects!$A$5:$A$2426='MDOT FTA Detail'!$M$3)*(Projects!$C$5:$C$2426='MDOT FTA Detail'!$C$4)*(Projects!$L$5:$L$2426='MDOT FTA Detail'!$A25)*(Projects!$J$5:$J$2426<>'MDOT FTA Detail'!$A$171)*(Projects!$Q$5:$Q$2426))","v":0}]
["DOG","ISTEA Demonstration 100% Federal Not Classified","MDOT FA",{"$f":"SUMPRODUCT((Projects!$A$5:$A$2426='MDOT FTA Detail'!$D$3)*(Projects!$C$5:$C$2426='MDOT FTA Detail'!$C$4)*(Projects!$L$5:$L$2426='MDOT FTA Detail'!$A26)*(Projects!$J$5:$J$2426<>'MDOT FTA Detail'!$A$171)*(Projects!$K$5:K$2426))","v":0},0,{"$f":"SUMPRODUCT((Projects!$A$5:$A$2426='MDOT FTA Detail'!$D$3)*(Projects!$C$5:$C$2426='MDOT FTA Detail'!$C$4)*(Projects!$L$5:$L$2426='MDOT FTA Detail'!$A26)*(Projects!$J$5:$J$2426<>'MDOT FTA Detail'!$A$171)*(Projects!$Q$5:Q$2426))","v":0},{"$f":"SUMPRODUCT((Projects!$A$5:$A$2426='MDOT FTA Detail'!$G$3)*(Projects!$C$5:$C$2426='MDOT FTA Detail'!$C$4)*(Projects!$L$5:$L$2426='MDOT FTA Detail'!$A26)*(Projects!$J$5:$J$2426<>'MDOT FTA Detail'!$A$171)*(Projects!$K$5:K$2426))","v":0},0,{"$f":"SUMPRODUCT((Projects!$A$5:$A$2426='MDOT FTA Detail'!$G$3)*(Projects!$C$5:$C$2426='MDOT FTA Detail'!$C$4)*(Projects!$L$5:$L$2426='MDOT FTA Detail'!$A26)*(Projects!$J$5:$J$2426<>'MDOT FTA Detail'!$A$171)*(Projects!$Q$5:Q$2426))","v":0},{"$f":"SUMPRODUCT((Projects!$A$5:$A$2426='MDOT FTA Detail'!$J$3)*(Projects!$C$5:$C$2426='MDOT FTA Detail'!$C$4)*(Projects!$L$5:$L$2426='MDOT FTA Detail'!$A26)*(Projects!$J$5:$J$2426<>'MDOT FTA Detail'!$A$171)*(Projects!$K$5:$K$2426))","v":0},0,{"$f":"SUMPRODUCT((Projects!$A$5:$A$2426='MDOT FTA Detail'!$J$3)*(Projects!$C$5:$C$2426='MDOT FTA Detail'!$C$4)*(Projects!$L$5:$L$2426='MDOT FTA Detail'!$A26)*(Projects!$J$5:$J$2426<>'MDOT FTA Detail'!$A$171)*(Projects!$Q$5:$Q$2426))","v":0},{"$f":"SUMPRODUCT((Projects!$A$5:$A$2426='MDOT FTA Detail'!$M$3)*(Projects!$C$5:$C$2426='MDOT FTA Detail'!$C$4)*(Projects!$L$5:$L$2426='MDOT FTA Detail'!$A26)*(Projects!$J$5:$J$2426<>'MDOT FTA Detail'!$A$171)*(Projects!$K$5:$K$2426))","v":0},0,{"$f":"SUMPRODUCT((Projects!$A$5:$A$2426='MDOT FTA Detail'!$M$3)*(Projects!$C$5:$C$2426='MDOT FTA Detail'!$C$4)*(Projects!$L$5:$L$2426='MDOT FTA Detail'!$A26)*(Projects!$J$5:$J$2426<>'MDOT FTA Detail'!$A$171)*(Projects!$Q$5:$Q$2426))","v":0}]
["DPN","ISTEA Demonstration 80% Federal on NHS","MDOT FA",{"$f":"SUMPRODUCT((Projects!$A$5:$A$2426='MDOT FTA Detail'!$D$3)*(Projects!$C$5:$C$2426='MDOT FTA Detail'!$C$4)*(Projects!$L$5:$L$2426='MDOT FTA Detail'!$A27)*(Projects!$J$5:$J$2426<>'MDOT FTA Detail'!$A$171)*(Projects!$K$5:K$2426))","v":0},0,{"$f":"SUMPRODUCT((Projects!$A$5:$A$2426='MDOT FTA Detail'!$D$3)*(Projects!$C$5:$C$2426='MDOT FTA Detail'!$C$4)*(Projects!$L$5:$L$2426='MDOT FTA Detail'!$A27)*(Projects!$J$5:$J$2426<>'MDOT FTA Detail'!$A$171)*(Projects!$Q$5:Q$2426))","v":0},{"$f":"SUMPRODUCT((Projects!$A$5:$A$2426='MDOT FTA Detail'!$G$3)*(Projects!$C$5:$C$2426='MDOT FTA Detail'!$C$4)*(Projects!$L$5:$L$2426='MDOT FTA Detail'!$A27)*(Projects!$J$5:$J$2426<>'MDOT FTA Detail'!$A$171)*(Projects!$K$5:K$2426))","v":0},0,{"$f":"SUMPRODUCT((Projects!$A$5:$A$2426='MDOT FTA Detail'!$G$3)*(Projects!$C$5:$C$2426='MDOT FTA Detail'!$C$4)*(Projects!$L$5:$L$2426='MDOT FTA Detail'!$A27)*(Projects!$J$5:$J$2426<>'MDOT FTA Detail'!$A$171)*(Projects!$Q$5:Q$2426))","v":0},{"$f":"SUMPRODUCT((Projects!$A$5:$A$2426='MDOT FTA Detail'!$J$3)*(Projects!$C$5:$C$2426='MDOT FTA Detail'!$C$4)*(Projects!$L$5:$L$2426='MDOT FTA Detail'!$A27)*(Projects!$J$5:$J$2426<>'MDOT FTA Detail'!$A$171)*(Projects!$K$5:$K$2426))","v":0},0,{"$f":"SUMPRODUCT((Projects!$A$5:$A$2426='MDOT FTA Detail'!$J$3)*(Projects!$C$5:$C$2426='MDOT FTA Detail'!$C$4)*(Projects!$L$5:$L$2426='MDOT FTA Detail'!$A27)*(Projects!$J$5:$J$2426<>'MDOT FTA Detail'!$A$171)*(Projects!$Q$5:$Q$2426))","v":0},{"$f":"SUMPRODUCT((Projects!$A$5:$A$2426='MDOT FTA Detail'!$M$3)*(Projects!$C$5:$C$2426='MDOT FTA Detail'!$C$4)*(Projects!$L$5:$L$2426='MDOT FTA Detail'!$A27)*(Projects!$J$5:$J$2426<>'MDOT FTA Detail'!$A$171)*(Projects!$K$5:$K$2426))","v":0},0,{"$f":"SUMPRODUCT((Projects!$A$5:$A$2426='MDOT FTA Detail'!$M$3)*(Projects!$C$5:$C$2426='MDOT FTA Detail'!$C$4)*(Projects!$L$5:$L$2426='MDOT FTA Detail'!$A27)*(Projects!$J$5:$J$2426<>'MDOT FTA Detail'!$A$171)*(Projects!$Q$5:$Q$2426))","v":0}]
["DPO","ISTEA Demonstration 80% Federal Not Classified","MDOT FA",{"$f":"SUMPRODUCT((Projects!$A$5:$A$2426='MDOT FTA Detail'!$D$3)*(Projects!$C$5:$C$2426='MDOT FTA Detail'!$C$4)*(Projects!$L$5:$L$2426='MDOT FTA Detail'!$A28)*(Projects!$J$5:$J$2426<>'MDOT FTA Detail'!$A$171)*(Projects!$K$5:K$2426))","v":0},0,{"$f":"SUMPRODUCT((Projects!$A$5:$A$2426='MDOT FTA Detail'!$D$3)*(Projects!$C$5:$C$2426='MDOT FTA Detail'!$C$4)*(Projects!$L$5:$L$2426='MDOT FTA Detail'!$A28)*(Projects!$J$5:$J$2426<>'MDOT FTA Detail'!$A$171)*(Projects!$Q$5:Q$2426))","v":0},{"$f":"SUMPRODUCT((Projects!$A$5:$A$2426='MDOT FTA Detail'!$G$3)*(Projects!$C$5:$C$2426='MDOT FTA Detail'!$C$4)*(Projects!$L$5:$L$2426='MDOT FTA Detail'!$A28)*(Projects!$J$5:$J$2426<>'MDOT FTA Detail'!$A$171)*(Projects!$K$5:K$2426))","v":0},0,{"$f":"SUMPRODUCT((Projects!$A$5:$A$2426='MDOT FTA Detail'!$G$3)*(Projects!$C$5:$C$2426='MDOT FTA Detail'!$C$4)*(Projects!$L$5:$L$2426='MDOT FTA Detail'!$A28)*(Projects!$J$5:$J$2426<>'MDOT FTA Detail'!$A$171)*(Projects!$Q$5:Q$2426))","v":0},{"$f":"SUMPRODUCT((Projects!$A$5:$A$2426='MDOT FTA Detail'!$J$3)*(Projects!$C$5:$C$2426='MDOT FTA Detail'!$C$4)*(Projects!$L$5:$L$2426='MDOT FTA Detail'!$A28)*(Projects!$J$5:$J$2426<>'MDOT FTA Detail'!$A$171)*(Projects!$K$5:$K$2426))","v":0},0,{"$f":"SUMPRODUCT((Projects!$A$5:$A$2426='MDOT FTA Detail'!$J$3)*(Projects!$C$5:$C$2426='MDOT FTA Detail'!$C$4)*(Projects!$L$5:$L$2426='MDOT FTA Detail'!$A28)*(Projects!$J$5:$J$2426<>'MDOT FTA Detail'!$A$171)*(Projects!$Q$5:$Q$2426))","v":0},{"$f":"SUMPRODUCT((Projects!$A$5:$A$2426='MDOT FTA Detail'!$M$3)*(Projects!$C$5:$C$2426='MDOT FTA Detail'!$C$4)*(Projects!$L$5:$L$2426='MDOT FTA Detail'!$A28)*(Projects!$J$5:$J$2426<>'MDOT FTA Detail'!$A$171)*(Projects!$K$5:$K$2426))","v":0},0,{"$f":"SUMPRODUCT((Projects!$A$5:$A$2426='MDOT FTA Detail'!$M$3)*(Projects!$C$5:$C$2426='MDOT FTA Detail'!$C$4)*(Projects!$L$5:$L$2426='MDOT FTA Detail'!$A28)*(Projects!$J$5:$J$2426<>'MDOT FTA Detail'!$A$171)*(Projects!$Q$5:$Q$2426))","v":0}]
["DPS","ISTEA Demonstration 80% Federal on STP","MDOT FA",{"$f":"SUMPRODUCT((Projects!$A$5:$A$2426='MDOT FTA Detail'!$D$3)*(Projects!$C$5:$C$2426='MDOT FTA Detail'!$C$4)*(Projects!$L$5:$L$2426='MDOT FTA Detail'!$A29)*(Projects!$J$5:$J$2426<>'MDOT FTA Detail'!$A$171)*(Projects!$K$5:K$2426))","v":0},0,{"$f":"SUMPRODUCT((Projects!$A$5:$A$2426='MDOT FTA Detail'!$D$3)*(Projects!$C$5:$C$2426='MDOT FTA Detail'!$C$4)*(Projects!$L$5:$L$2426='MDOT FTA Detail'!$A29)*(Projects!$J$5:$J$2426<>'MDOT FTA Detail'!$A$171)*(Projects!$Q$5:Q$2426))","v":0},{"$f":"SUMPRODUCT((Projects!$A$5:$A$2426='MDOT FTA Detail'!$G$3)*(Projects!$C$5:$C$2426='MDOT FTA Detail'!$C$4)*(Projects!$L$5:$L$2426='MDOT FTA Detail'!$A29)*(Projects!$J$5:$J$2426<>'MDOT FTA Detail'!$A$171)*(Projects!$K$5:K$2426))","v":0},0,{"$f":"SUMPRODUCT((Projects!$A$5:$A$2426='MDOT FTA Detail'!$G$3)*(Projects!$C$5:$C$2426='MDOT FTA Detail'!$C$4)*(Projects!$L$5:$L$2426='MDOT FTA Detail'!$A29)*(Projects!$J$5:$J$2426<>'MDOT FTA Detail'!$A$171)*(Projects!$Q$5:Q$2426))","v":0},{"$f":"SUMPRODUCT((Projects!$A$5:$A$2426='MDOT FTA Detail'!$J$3)*(Projects!$C$5:$C$2426='MDOT FTA Detail'!$C$4)*(Projects!$L$5:$L$2426='MDOT FTA Detail'!$A29)*(Projects!$J$5:$J$2426<>'MDOT FTA Detail'!$A$171)*(Projects!$K$5:$K$2426))","v":0},0,{"$f":"SUMPRODUCT((Projects!$A$5:$A$2426='MDOT FTA Detail'!$J$3)*(Projects!$C$5:$C$2426='MDOT FTA Detail'!$C$4)*(Projects!$L$5:$L$2426='MDOT FTA Detail'!$A29)*(Projects!$J$5:$J$2426<>'MDOT FTA Detail'!$A$171)*(Projects!$Q$5:$Q$2426))","v":0},{"$f":"SUMPRODUCT((Projects!$A$5:$A$2426='MDOT FTA Detail'!$M$3)*(Projects!$C$5:$C$2426='MDOT FTA Detail'!$C$4)*(Projects!$L$5:$L$2426='MDOT FTA Detail'!$A29)*(Projects!$J$5:$J$2426<>'MDOT FTA Detail'!$A$171)*(Projects!$K$5:$K$2426))","v":0},0,{"$f":"SUMPRODUCT((Projects!$A$5:$A$2426='MDOT FTA Detail'!$M$3)*(Projects!$C$5:$C$2426='MDOT FTA Detail'!$C$4)*(Projects!$L$5:$L$2426='MDOT FTA Detail'!$A29)*(Projects!$J$5:$J$2426<>'MDOT FTA Detail'!$A$171)*(Projects!$Q$5:$Q$2426))","v":0}]
["DPSA","Demonstration Project Section 112 Division A","MDOT FA",{"$f":"SUMPRODUCT((Projects!$A$5:$A$2426='MDOT FTA Detail'!$D$3)*(Projects!$C$5:$C$2426='MDOT FTA Detail'!$C$4)*(Projects!$L$5:$L$2426='MDOT FTA Detail'!$A30)*(Projects!$J$5:$J$2426<>'MDOT FTA Detail'!$A$171)*(Projects!$K$5:K$2426))","v":0},0,{"$f":"SUMPRODUCT((Projects!$A$5:$A$2426='MDOT FTA Detail'!$D$3)*(Projects!$C$5:$C$2426='MDOT FTA Detail'!$C$4)*(Projects!$L$5:$L$2426='MDOT FTA Detail'!$A30)*(Projects!$J$5:$J$2426<>'MDOT FTA Detail'!$A$171)*(Projects!$Q$5:Q$2426))","v":0},{"$f":"SUMPRODUCT((Projects!$A$5:$A$2426='MDOT FTA Detail'!$G$3)*(Projects!$C$5:$C$2426='MDOT FTA Detail'!$C$4)*(Projects!$L$5:$L$2426='MDOT FTA Detail'!$A30)*(Projects!$J$5:$J$2426<>'MDOT FTA Detail'!$A$171)*(Projects!$K$5:K$2426))","v":0},0,{"$f":"SUMPRODUCT((Projects!$A$5:$A$2426='MDOT FTA Detail'!$G$3)*(Projects!$C$5:$C$2426='MDOT FTA Detail'!$C$4)*(Projects!$L$5:$L$2426='MDOT FTA Detail'!$A30)*(Projects!$J$5:$J$2426<>'MDOT FTA Detail'!$A$171)*(Projects!$Q$5:Q$2426))","v":0},{"$f":"SUMPRODUCT((Projects!$A$5:$A$2426='MDOT FTA Detail'!$J$3)*(Projects!$C$5:$C$2426='MDOT FTA Detail'!$C$4)*(Projects!$L$5:$L$2426='MDOT FTA Detail'!$A30)*(Projects!$J$5:$J$2426<>'MDOT FTA Detail'!$A$171)*(Projects!$K$5:$K$2426))","v":0},0,{"$f":"SUMPRODUCT((Projects!$A$5:$A$2426='MDOT FTA Detail'!$J$3)*(Projects!$C$5:$C$2426='MDOT FTA Detail'!$C$4)*(Projects!$L$5:$L$2426='MDOT FTA Detail'!$A30)*(Projects!$J$5:$J$2426<>'MDOT FTA Detail'!$A$171)*(Projects!$Q$5:$Q$2426))","v":0},{"$f":"SUMPRODUCT((Projects!$A$5:$A$2426='MDOT FTA Detail'!$M$3)*(Projects!$C$5:$C$2426='MDOT FTA Detail'!$C$4)*(Projects!$L$5:$L$2426='MDOT FTA Detail'!$A30)*(Projects!$J$5:$J$2426<>'MDOT FTA Detail'!$A$171)*(Projects!$K$5:$K$2426))","v":0},0,{"$f":"SUMPRODUCT((Projects!$A$5:$A$2426='MDOT FTA Detail'!$M$3)*(Projects!$C$5:$C$2426='MDOT FTA Detail'!$C$4)*(Projects!$L$5:$L$2426='MDOT FTA Detail'!$A30)*(Projects!$J$5:$J$2426<>'MDOT FTA Detail'!$A$171)*(Projects!$Q$5:$Q$2426))","v":0}]
["DST","Donor Bonus Surface Transportation","MDOT FA",{"$f":"SUMPRODUCT((Projects!$A$5:$A$2426='MDOT FTA Detail'!$D$3)*(Projects!$C$5:$C$2426='MDOT FTA Detail'!$C$4)*(Projects!$L$5:$L$2426='MDOT FTA Detail'!$A31)*(Projects!$J$5:$J$2426<>'MDOT FTA Detail'!$A$171)*(Projects!$K$5:K$2426))","v":0},0,{"$f":"SUMPRODUCT((Projects!$A$5:$A$2426='MDOT FTA Detail'!$D$3)*(Projects!$C$5:$C$2426='MDOT FTA Detail'!$C$4)*(Projects!$L$5:$L$2426='MDOT FTA Detail'!$A31)*(Projects!$J$5:$J$2426<>'MDOT FTA Detail'!$A$171)*(Projects!$Q$5:Q$2426))","v":0},{"$f":"SUMPRODUCT((Projects!$A$5:$A$2426='MDOT FTA Detail'!$G$3)*(Projects!$C$5:$C$2426='MDOT FTA Detail'!$C$4)*(Projects!$L$5:$L$2426='MDOT FTA Detail'!$A31)*(Projects!$J$5:$J$2426<>'MDOT FTA Detail'!$A$171)*(Projects!$K$5:K$2426))","v":0},0,{"$f":"SUMPRODUCT((Projects!$A$5:$A$2426='MDOT FTA Detail'!$G$3)*(Projects!$C$5:$C$2426='MDOT FTA Detail'!$C$4)*(Projects!$L$5:$L$2426='MDOT FTA Detail'!$A31)*(Projects!$J$5:$J$2426<>'MDOT FTA Detail'!$A$171)*(Projects!$Q$5:Q$2426))","v":0},{"$f":"SUMPRODUCT((Projects!$A$5:$A$2426='MDOT FTA Detail'!$J$3)*(Projects!$C$5:$C$2426='MDOT FTA Detail'!$C$4)*(Projects!$L$5:$L$2426='MDOT FTA Detail'!$A31)*(Projects!$J$5:$J$2426<>'MDOT FTA Detail'!$A$171)*(Projects!$K$5:$K$2426))","v":0},0,{"$f":"SUMPRODUCT((Projects!$A$5:$A$2426='MDOT FTA Detail'!$J$3)*(Projects!$C$5:$C$2426='MDOT FTA Detail'!$C$4)*(Projects!$L$5:$L$2426='MDOT FTA Detail'!$A31)*(Projects!$J$5:$J$2426<>'MDOT FTA Detail'!$A$171)*(Projects!$Q$5:$Q$2426))","v":0},{"$f":"SUMPRODUCT((Projects!$A$5:$A$2426='MDOT FTA Detail'!$M$3)*(Projects!$C$5:$C$2426='MDOT FTA Detail'!$C$4)*(Projects!$L$5:$L$2426='MDOT FTA Detail'!$A31)*(Projects!$J$5:$J$2426<>'MDOT FTA Detail'!$A$171)*(Projects!$K$5:$K$2426))","v":0},0,{"$f":"SUMPRODUCT((Projects!$A$5:$A$2426='MDOT FTA Detail'!$M$3)*(Projects!$C$5:$C$2426='MDOT FTA Detail'!$C$4)*(Projects!$L$5:$L$2426='MDOT FTA Detail'!$A31)*(Projects!$J$5:$J$2426<>'MDOT FTA Detail'!$A$171)*(Projects!$Q$5:$Q$2426))","v":0}]
["DSTU","Donor Bonus Surface Transportation - (Urban > 2499,000)","MDOT FA",{"$f":"SUMPRODUCT((Projects!$A$5:$A$2426='MDOT FTA Detail'!$D$3)*(Projects!$C$5:$C$2426='MDOT FTA Detail'!$C$4)*(Projects!$L$5:$L$2426='MDOT FTA Detail'!$A32)*(Projects!$J$5:$J$2426<>'MDOT FTA Detail'!$A$171)*(Projects!$K$5:K$2426))","v":0},0,{"$f":"SUMPRODUCT((Projects!$A$5:$A$2426='MDOT FTA Detail'!$D$3)*(Projects!$C$5:$C$2426='MDOT FTA Detail'!$C$4)*(Projects!$L$5:$L$2426='MDOT FTA Detail'!$A32)*(Projects!$J$5:$J$2426<>'MDOT FTA Detail'!$A$171)*(Projects!$Q$5:Q$2426))","v":0},{"$f":"SUMPRODUCT((Projects!$A$5:$A$2426='MDOT FTA Detail'!$G$3)*(Projects!$C$5:$C$2426='MDOT FTA Detail'!$C$4)*(Projects!$L$5:$L$2426='MDOT FTA Detail'!$A32)*(Projects!$J$5:$J$2426<>'MDOT FTA Detail'!$A$171)*(Projects!$K$5:K$2426))","v":0},0,{"$f":"SUMPRODUCT((Projects!$A$5:$A$2426='MDOT FTA Detail'!$G$3)*(Projects!$C$5:$C$2426='MDOT FTA Detail'!$C$4)*(Projects!$L$5:$L$2426='MDOT FTA Detail'!$A32)*(Projects!$J$5:$J$2426<>'MDOT FTA Detail'!$A$171)*(Projects!$Q$5:Q$2426))","v":0},{"$f":"SUMPRODUCT((Projects!$A$5:$A$2426='MDOT FTA Detail'!$J$3)*(Projects!$C$5:$C$2426='MDOT FTA Detail'!$C$4)*(Projects!$L$5:$L$2426='MDOT FTA Detail'!$A32)*(Projects!$J$5:$J$2426<>'MDOT FTA Detail'!$A$171)*(Projects!$K$5:$K$2426))","v":0},0,{"$f":"SUMPRODUCT((Projects!$A$5:$A$2426='MDOT FTA Detail'!$J$3)*(Projects!$C$5:$C$2426='MDOT FTA Detail'!$C$4)*(Projects!$L$5:$L$2426='MDOT FTA Detail'!$A32)*(Projects!$J$5:$J$2426<>'MDOT FTA Detail'!$A$171)*(Projects!$Q$5:$Q$2426))","v":0},{"$f":"SUMPRODUCT((Projects!$A$5:$A$2426='MDOT FTA Detail'!$M$3)*(Projects!$C$5:$C$2426='MDOT FTA Detail'!$C$4)*(Projects!$L$5:$L$2426='MDOT FTA Detail'!$A32)*(Projects!$J$5:$J$2426<>'MDOT FTA Detail'!$A$171)*(Projects!$K$5:$K$2426))","v":0},0,{"$f":"SUMPRODUCT((Projects!$A$5:$A$2426='MDOT FTA Detail'!$M$3)*(Projects!$C$5:$C$2426='MDOT FTA Detail'!$C$4)*(Projects!$L$5:$L$2426='MDOT FTA Detail'!$A32)*(Projects!$J$5:$J$2426<>'MDOT FTA Detail'!$A$171)*(Projects!$Q$5:$Q$2426))","v":0}]
["DSTT","Donor Bonus Surface Transportation - Rural - Trunkline","MDOT FA",{"$f":"SUMPRODUCT((Projects!$A$5:$A$2426='MDOT FTA Detail'!$D$3)*(Projects!$C$5:$C$2426='MDOT FTA Detail'!$C$4)*(Projects!$L$5:$L$2426='MDOT FTA Detail'!$A33)*(Projects!$J$5:$J$2426<>'MDOT FTA Detail'!$A$171)*(Projects!$K$5:K$2426))","v":0},0,{"$f":"SUMPRODUCT((Projects!$A$5:$A$2426='MDOT FTA Detail'!$D$3)*(Projects!$C$5:$C$2426='MDOT FTA Detail'!$C$4)*(Projects!$L$5:$L$2426='MDOT FTA Detail'!$A33)*(Projects!$J$5:$J$2426<>'MDOT FTA Detail'!$A$171)*(Projects!$Q$5:Q$2426))","v":0},{"$f":"SUMPRODUCT((Projects!$A$5:$A$2426='MDOT FTA Detail'!$G$3)*(Projects!$C$5:$C$2426='MDOT FTA Detail'!$C$4)*(Projects!$L$5:$L$2426='MDOT FTA Detail'!$A33)*(Projects!$J$5:$J$2426<>'MDOT FTA Detail'!$A$171)*(Projects!$K$5:K$2426))","v":0},0,{"$f":"SUMPRODUCT((Projects!$A$5:$A$2426='MDOT FTA Detail'!$G$3)*(Projects!$C$5:$C$2426='MDOT FTA Detail'!$C$4)*(Projects!$L$5:$L$2426='MDOT FTA Detail'!$A33)*(Projects!$J$5:$J$2426<>'MDOT FTA Detail'!$A$171)*(Projects!$Q$5:Q$2426))","v":0},{"$f":"SUMPRODUCT((Projects!$A$5:$A$2426='MDOT FTA Detail'!$J$3)*(Projects!$C$5:$C$2426='MDOT FTA Detail'!$C$4)*(Projects!$L$5:$L$2426='MDOT FTA Detail'!$A33)*(Projects!$J$5:$J$2426<>'MDOT FTA Detail'!$A$171)*(Projects!$K$5:$K$2426))","v":0},0,{"$f":"SUMPRODUCT((Projects!$A$5:$A$2426='MDOT FTA Detail'!$J$3)*(Projects!$C$5:$C$2426='MDOT FTA Detail'!$C$4)*(Projects!$L$5:$L$2426='MDOT FTA Detail'!$A33)*(Projects!$J$5:$J$2426<>'MDOT FTA Detail'!$A$171)*(Projects!$Q$5:$Q$2426))","v":0},{"$f":"SUMPRODUCT((Projects!$A$5:$A$2426='MDOT FTA Detail'!$M$3)*(Projects!$C$5:$C$2426='MDOT FTA Detail'!$C$4)*(Projects!$L$5:$L$2426='MDOT FTA Detail'!$A33)*(Projects!$J$5:$J$2426<>'MDOT FTA Detail'!$A$171)*(Projects!$K$5:$K$2426))","v":0},0,{"$f":"SUMPRODUCT((Projects!$A$5:$A$2426='MDOT FTA Detail'!$M$3)*(Projects!$C$5:$C$2426='MDOT FTA Detail'!$C$4)*(Projects!$L$5:$L$2426='MDOT FTA Detail'!$A33)*(Projects!$J$5:$J$2426<>'MDOT FTA Detail'!$A$171)*(Projects!$Q$5:$Q$2426))","v":0}]
["EBSL","Equity Bonus - SAFETEA-LU","MDOT FA",{"$f":"SUMPRODUCT((Projects!$A$5:$A$2426='MDOT FTA Detail'!$D$3)*(Projects!$C$5:$C$2426='MDOT FTA Detail'!$C$4)*(Projects!$L$5:$L$2426='MDOT FTA Detail'!$A34)*(Projects!$J$5:$J$2426<>'MDOT FTA Detail'!$A$171)*(Projects!$K$5:K$2426))","v":0},0,{"$f":"SUMPRODUCT((Projects!$A$5:$A$2426='MDOT FTA Detail'!$D$3)*(Projects!$C$5:$C$2426='MDOT FTA Detail'!$C$4)*(Projects!$L$5:$L$2426='MDOT FTA Detail'!$A34)*(Projects!$J$5:$J$2426<>'MDOT FTA Detail'!$A$171)*(Projects!$Q$5:Q$2426))","v":0},{"$f":"SUMPRODUCT((Projects!$A$5:$A$2426='MDOT FTA Detail'!$G$3)*(Projects!$C$5:$C$2426='MDOT FTA Detail'!$C$4)*(Projects!$L$5:$L$2426='MDOT FTA Detail'!$A34)*(Projects!$J$5:$J$2426<>'MDOT FTA Detail'!$A$171)*(Projects!$K$5:K$2426))","v":0},0,{"$f":"SUMPRODUCT((Projects!$A$5:$A$2426='MDOT FTA Detail'!$G$3)*(Projects!$C$5:$C$2426='MDOT FTA Detail'!$C$4)*(Projects!$L$5:$L$2426='MDOT FTA Detail'!$A34)*(Projects!$J$5:$J$2426<>'MDOT FTA Detail'!$A$171)*(Projects!$Q$5:Q$2426))","v":0},{"$f":"SUMPRODUCT((Projects!$A$5:$A$2426='MDOT FTA Detail'!$J$3)*(Projects!$C$5:$C$2426='MDOT FTA Detail'!$C$4)*(Projects!$L$5:$L$2426='MDOT FTA Detail'!$A34)*(Projects!$J$5:$J$2426<>'MDOT FTA Detail'!$A$171)*(Projects!$K$5:$K$2426))","v":0},0,{"$f":"SUMPRODUCT((Projects!$A$5:$A$2426='MDOT FTA Detail'!$J$3)*(Projects!$C$5:$C$2426='MDOT FTA Detail'!$C$4)*(Projects!$L$5:$L$2426='MDOT FTA Detail'!$A34)*(Projects!$J$5:$J$2426<>'MDOT FTA Detail'!$A$171)*(Projects!$Q$5:$Q$2426))","v":0},{"$f":"SUMPRODUCT((Projects!$A$5:$A$2426='MDOT FTA Detail'!$M$3)*(Projects!$C$5:$C$2426='MDOT FTA Detail'!$C$4)*(Projects!$L$5:$L$2426='MDOT FTA Detail'!$A34)*(Projects!$J$5:$J$2426<>'MDOT FTA Detail'!$A$171)*(Projects!$K$5:$K$2426))","v":0},0,{"$f":"SUMPRODUCT((Projects!$A$5:$A$2426='MDOT FTA Detail'!$M$3)*(Projects!$C$5:$C$2426='MDOT FTA Detail'!$C$4)*(Projects!$L$5:$L$2426='MDOT FTA Detail'!$A34)*(Projects!$J$5:$J$2426<>'MDOT FTA Detail'!$A$171)*(Projects!$Q$5:$Q$2426))","v":0}]
["EDAF","Economic Development - Category A with Federal Aid","MDOT FA",{"$f":"SUMPRODUCT((Projects!$A$5:$A$2426='MDOT FTA Detail'!$D$3)*(Projects!$C$5:$C$2426='MDOT FTA Detail'!$C$4)*(Projects!$L$5:$L$2426='MDOT FTA Detail'!$A35)*(Projects!$J$5:$J$2426<>'MDOT FTA Detail'!$A$171)*(Projects!$K$5:K$2426))","v":0},0,{"$f":"SUMPRODUCT((Projects!$A$5:$A$2426='MDOT FTA Detail'!$D$3)*(Projects!$C$5:$C$2426='MDOT FTA Detail'!$C$4)*(Projects!$L$5:$L$2426='MDOT FTA Detail'!$A35)*(Projects!$J$5:$J$2426<>'MDOT FTA Detail'!$A$171)*(Projects!$Q$5:Q$2426))","v":0},{"$f":"SUMPRODUCT((Projects!$A$5:$A$2426='MDOT FTA Detail'!$G$3)*(Projects!$C$5:$C$2426='MDOT FTA Detail'!$C$4)*(Projects!$L$5:$L$2426='MDOT FTA Detail'!$A35)*(Projects!$J$5:$J$2426<>'MDOT FTA Detail'!$A$171)*(Projects!$K$5:K$2426))","v":0},0,{"$f":"SUMPRODUCT((Projects!$A$5:$A$2426='MDOT FTA Detail'!$G$3)*(Projects!$C$5:$C$2426='MDOT FTA Detail'!$C$4)*(Projects!$L$5:$L$2426='MDOT FTA Detail'!$A35)*(Projects!$J$5:$J$2426<>'MDOT FTA Detail'!$A$171)*(Projects!$Q$5:Q$2426))","v":0},{"$f":"SUMPRODUCT((Projects!$A$5:$A$2426='MDOT FTA Detail'!$J$3)*(Projects!$C$5:$C$2426='MDOT FTA Detail'!$C$4)*(Projects!$L$5:$L$2426='MDOT FTA Detail'!$A35)*(Projects!$J$5:$J$2426<>'MDOT FTA Detail'!$A$171)*(Projects!$K$5:$K$2426))","v":0},0,{"$f":"SUMPRODUCT((Projects!$A$5:$A$2426='MDOT FTA Detail'!$J$3)*(Projects!$C$5:$C$2426='MDOT FTA Detail'!$C$4)*(Projects!$L$5:$L$2426='MDOT FTA Detail'!$A35)*(Projects!$J$5:$J$2426<>'MDOT FTA Detail'!$A$171)*(Projects!$Q$5:$Q$2426))","v":0},{"$f":"SUMPRODUCT((Projects!$A$5:$A$2426='MDOT FTA Detail'!$M$3)*(Projects!$C$5:$C$2426='MDOT FTA Detail'!$C$4)*(Projects!$L$5:$L$2426='MDOT FTA Detail'!$A35)*(Projects!$J$5:$J$2426<>'MDOT FTA Detail'!$A$171)*(Projects!$K$5:$K$2426))","v":0},0,{"$f":"SUMPRODUCT((Projects!$A$5:$A$2426='MDOT FTA Detail'!$M$3)*(Projects!$C$5:$C$2426='MDOT FTA Detail'!$C$4)*(Projects!$L$5:$L$2426='MDOT FTA Detail'!$A35)*(Projects!$J$5:$J$2426<>'MDOT FTA Detail'!$A$171)*(Projects!$Q$5:$Q$2426))","v":0}]
["EDCF","Economic Development - Category C with Federal Aid","MDOT FA",{"$f":"SUMPRODUCT((Projects!$A$5:$A$2426='MDOT FTA Detail'!$D$3)*(Projects!$C$5:$C$2426='MDOT FTA Detail'!$C$4)*(Projects!$L$5:$L$2426='MDOT FTA Detail'!$A36)*(Projects!$J$5:$J$2426<>'MDOT FTA Detail'!$A$171)*(Projects!$K$5:K$2426))","v":0},0,{"$f":"SUMPRODUCT((Projects!$A$5:$A$2426='MDOT FTA Detail'!$D$3)*(Projects!$C$5:$C$2426='MDOT FTA Detail'!$C$4)*(Projects!$L$5:$L$2426='MDOT FTA Detail'!$A36)*(Projects!$J$5:$J$2426<>'MDOT FTA Detail'!$A$171)*(Projects!$Q$5:Q$2426))","v":0},{"$f":"SUMPRODUCT((Projects!$A$5:$A$2426='MDOT FTA Detail'!$G$3)*(Projects!$C$5:$C$2426='MDOT FTA Detail'!$C$4)*(Projects!$L$5:$L$2426='MDOT FTA Detail'!$A36)*(Projects!$J$5:$J$2426<>'MDOT FTA Detail'!$A$171)*(Projects!$K$5:K$2426))","v":0},0,{"$f":"SUMPRODUCT((Projects!$A$5:$A$2426='MDOT FTA Detail'!$G$3)*(Projects!$C$5:$C$2426='MDOT FTA Detail'!$C$4)*(Projects!$L$5:$L$2426='MDOT FTA Detail'!$A36)*(Projects!$J$5:$J$2426<>'MDOT FTA Detail'!$A$171)*(Projects!$Q$5:Q$2426))","v":0},{"$f":"SUMPRODUCT((Projects!$A$5:$A$2426='MDOT FTA Detail'!$J$3)*(Projects!$C$5:$C$2426='MDOT FTA Detail'!$C$4)*(Projects!$L$5:$L$2426='MDOT FTA Detail'!$A36)*(Projects!$J$5:$J$2426<>'MDOT FTA Detail'!$A$171)*(Projects!$K$5:$K$2426))","v":0},0,{"$f":"SUMPRODUCT((Projects!$A$5:$A$2426='MDOT FTA Detail'!$J$3)*(Projects!$C$5:$C$2426='MDOT FTA Detail'!$C$4)*(Projects!$L$5:$L$2426='MDOT FTA Detail'!$A36)*(Projects!$J$5:$J$2426<>'MDOT FTA Detail'!$A$171)*(Projects!$Q$5:$Q$2426))","v":0},{"$f":"SUMPRODUCT((Projects!$A$5:$A$2426='MDOT FTA Detail'!$M$3)*(Projects!$C$5:$C$2426='MDOT FTA Detail'!$C$4)*(Projects!$L$5:$L$2426='MDOT FTA Detail'!$A36)*(Projects!$J$5:$J$2426<>'MDOT FTA Detail'!$A$171)*(Projects!$K$5:$K$2426))","v":0},0,{"$f":"SUMPRODUCT((Projects!$A$5:$A$2426='MDOT FTA Detail'!$M$3)*(Projects!$C$5:$C$2426='MDOT FTA Detail'!$C$4)*(Projects!$L$5:$L$2426='MDOT FTA Detail'!$A36)*(Projects!$J$5:$J$2426<>'MDOT FTA Detail'!$A$171)*(Projects!$Q$5:$Q$2426))","v":0}]
["EDDF","Economic Development - Category D with Federal Aid","MDOT FA",{"$f":"SUMPRODUCT((Projects!$A$5:$A$2426='MDOT FTA Detail'!$D$3)*(Projects!$C$5:$C$2426='MDOT FTA Detail'!$C$4)*(Projects!$L$5:$L$2426='MDOT FTA Detail'!$A37)*(Projects!$J$5:$J$2426<>'MDOT FTA Detail'!$A$171)*(Projects!$K$5:K$2426))","v":0},0,{"$f":"SUMPRODUCT((Projects!$A$5:$A$2426='MDOT FTA Detail'!$D$3)*(Projects!$C$5:$C$2426='MDOT FTA Detail'!$C$4)*(Projects!$L$5:$L$2426='MDOT FTA Detail'!$A37)*(Projects!$J$5:$J$2426<>'MDOT FTA Detail'!$A$171)*(Projects!$Q$5:Q$2426))","v":0},{"$f":"SUMPRODUCT((Projects!$A$5:$A$2426='MDOT FTA Detail'!$G$3)*(Projects!$C$5:$C$2426='MDOT FTA Detail'!$C$4)*(Projects!$L$5:$L$2426='MDOT FTA Detail'!$A37)*(Projects!$J$5:$J$2426<>'MDOT FTA Detail'!$A$171)*(Projects!$K$5:K$2426))","v":0},0,{"$f":"SUMPRODUCT((Projects!$A$5:$A$2426='MDOT FTA Detail'!$G$3)*(Projects!$C$5:$C$2426='MDOT FTA Detail'!$C$4)*(Projects!$L$5:$L$2426='MDOT FTA Detail'!$A37)*(Projects!$J$5:$J$2426<>'MDOT FTA Detail'!$A$171)*(Projects!$Q$5:Q$2426))","v":0},{"$f":"SUMPRODUCT((Projects!$A$5:$A$2426='MDOT FTA Detail'!$J$3)*(Projects!$C$5:$C$2426='MDOT FTA Detail'!$C$4)*(Projects!$L$5:$L$2426='MDOT FTA Detail'!$A37)*(Projects!$J$5:$J$2426<>'MDOT FTA Detail'!$A$171)*(Projects!$K$5:$K$2426))","v":0},0,{"$f":"SUMPRODUCT((Projects!$A$5:$A$2426='MDOT FTA Detail'!$J$3)*(Projects!$C$5:$C$2426='MDOT FTA Detail'!$C$4)*(Projects!$L$5:$L$2426='MDOT FTA Detail'!$A37)*(Projects!$J$5:$J$2426<>'MDOT FTA Detail'!$A$171)*(Projects!$Q$5:$Q$2426))","v":0},{"$f":"SUMPRODUCT((Projects!$A$5:$A$2426='MDOT FTA Detail'!$M$3)*(Projects!$C$5:$C$2426='MDOT FTA Detail'!$C$4)*(Projects!$L$5:$L$2426='MDOT FTA Detail'!$A37)*(Projects!$J$5:$J$2426<>'MDOT FTA Detail'!$A$171)*(Projects!$K$5:$K$2426))","v":0},0,{"$f":"SUMPRODUCT((Projects!$A$5:$A$2426='MDOT FTA Detail'!$M$3)*(Projects!$C$5:$C$2426='MDOT FTA Detail'!$C$4)*(Projects!$L$5:$L$2426='MDOT FTA Detail'!$A37)*(Projects!$J$5:$J$2426<>'MDOT FTA Detail'!$A$171)*(Projects!$Q$5:$Q$2426))","v":0}]
["EDFF","Economic Development - Category F with Federal Aid","MDOT FA",{"$f":"SUMPRODUCT((Projects!$A$5:$A$2426='MDOT FTA Detail'!$D$3)*(Projects!$C$5:$C$2426='MDOT FTA Detail'!$C$4)*(Projects!$L$5:$L$2426='MDOT FTA Detail'!$A38)*(Projects!$J$5:$J$2426<>'MDOT FTA Detail'!$A$171)*(Projects!$K$5:K$2426))","v":0},0,{"$f":"SUMPRODUCT((Projects!$A$5:$A$2426='MDOT FTA Detail'!$D$3)*(Projects!$C$5:$C$2426='MDOT FTA Detail'!$C$4)*(Projects!$L$5:$L$2426='MDOT FTA Detail'!$A38)*(Projects!$J$5:$J$2426<>'MDOT FTA Detail'!$A$171)*(Projects!$Q$5:Q$2426))","v":0},{"$f":"SUMPRODUCT((Projects!$A$5:$A$2426='MDOT FTA Detail'!$G$3)*(Projects!$C$5:$C$2426='MDOT FTA Detail'!$C$4)*(Projects!$L$5:$L$2426='MDOT FTA Detail'!$A38)*(Projects!$J$5:$J$2426<>'MDOT FTA Detail'!$A$171)*(Projects!$K$5:K$2426))","v":0},0,{"$f":"SUMPRODUCT((Projects!$A$5:$A$2426='MDOT FTA Detail'!$G$3)*(Projects!$C$5:$C$2426='MDOT FTA Detail'!$C$4)*(Projects!$L$5:$L$2426='MDOT FTA Detail'!$A38)*(Projects!$J$5:$J$2426<>'MDOT FTA Detail'!$A$171)*(Projects!$Q$5:Q$2426))","v":0},{"$f":"SUMPRODUCT((Projects!$A$5:$A$2426='MDOT FTA Detail'!$J$3)*(Projects!$C$5:$C$2426='MDOT FTA Detail'!$C$4)*(Projects!$L$5:$L$2426='MDOT FTA Detail'!$A38)*(Projects!$J$5:$J$2426<>'MDOT FTA Detail'!$A$171)*(Projects!$K$5:$K$2426))","v":0},0,{"$f":"SUMPRODUCT((Projects!$A$5:$A$2426='MDOT FTA Detail'!$J$3)*(Projects!$C$5:$C$2426='MDOT FTA Detail'!$C$4)*(Projects!$L$5:$L$2426='MDOT FTA Detail'!$A38)*(Projects!$J$5:$J$2426<>'MDOT FTA Detail'!$A$171)*(Projects!$Q$5:$Q$2426))","v":0},{"$f":"SUMPRODUCT((Projects!$A$5:$A$2426='MDOT FTA Detail'!$M$3)*(Projects!$C$5:$C$2426='MDOT FTA Detail'!$C$4)*(Projects!$L$5:$L$2426='MDOT FTA Detail'!$A38)*(Projects!$J$5:$J$2426<>'MDOT FTA Detail'!$A$171)*(Projects!$K$5:$K$2426))","v":0},0,{"$f":"SUMPRODUCT((Projects!$A$5:$A$2426='MDOT FTA Detail'!$M$3)*(Projects!$C$5:$C$2426='MDOT FTA Detail'!$C$4)*(Projects!$L$5:$L$2426='MDOT FTA Detail'!$A38)*(Projects!$J$5:$J$2426<>'MDOT FTA Detail'!$A$171)*(Projects!$Q$5:$Q$2426))","v":0}]
["ER","Emergency Relief","MDOT FA",{"$f":"SUMPRODUCT((Projects!$A$5:$A$2426='MDOT FTA Detail'!$D$3)*(Projects!$C$5:$C$2426='MDOT FTA Detail'!$C$4)*(Projects!$L$5:$L$2426='MDOT FTA Detail'!$A39)*(Projects!$J$5:$J$2426<>'MDOT FTA Detail'!$A$171)*(Projects!$K$5:K$2426))","v":0},0,{"$f":"SUMPRODUCT((Projects!$A$5:$A$2426='MDOT FTA Detail'!$D$3)*(Projects!$C$5:$C$2426='MDOT FTA Detail'!$C$4)*(Projects!$L$5:$L$2426='MDOT FTA Detail'!$A39)*(Projects!$J$5:$J$2426<>'MDOT FTA Detail'!$A$171)*(Projects!$Q$5:Q$2426))","v":0},{"$f":"SUMPRODUCT((Projects!$A$5:$A$2426='MDOT FTA Detail'!$G$3)*(Projects!$C$5:$C$2426='MDOT FTA Detail'!$C$4)*(Projects!$L$5:$L$2426='MDOT FTA Detail'!$A39)*(Projects!$J$5:$J$2426<>'MDOT FTA Detail'!$A$171)*(Projects!$K$5:K$2426))","v":0},0,{"$f":"SUMPRODUCT((Projects!$A$5:$A$2426='MDOT FTA Detail'!$G$3)*(Projects!$C$5:$C$2426='MDOT FTA Detail'!$C$4)*(Projects!$L$5:$L$2426='MDOT FTA Detail'!$A39)*(Projects!$J$5:$J$2426<>'MDOT FTA Detail'!$A$171)*(Projects!$Q$5:Q$2426))","v":0},{"$f":"SUMPRODUCT((Projects!$A$5:$A$2426='MDOT FTA Detail'!$J$3)*(Projects!$C$5:$C$2426='MDOT FTA Detail'!$C$4)*(Projects!$L$5:$L$2426='MDOT FTA Detail'!$A39)*(Projects!$J$5:$J$2426<>'MDOT FTA Detail'!$A$171)*(Projects!$K$5:$K$2426))","v":0},0,{"$f":"SUMPRODUCT((Projects!$A$5:$A$2426='MDOT FTA Detail'!$J$3)*(Projects!$C$5:$C$2426='MDOT FTA Detail'!$C$4)*(Projects!$L$5:$L$2426='MDOT FTA Detail'!$A39)*(Projects!$J$5:$J$2426<>'MDOT FTA Detail'!$A$171)*(Projects!$Q$5:$Q$2426))","v":0},{"$f":"SUMPRODUCT((Projects!$A$5:$A$2426='MDOT FTA Detail'!$M$3)*(Projects!$C$5:$C$2426='MDOT FTA Detail'!$C$4)*(Projects!$L$5:$L$2426='MDOT FTA Detail'!$A39)*(Projects!$J$5:$J$2426<>'MDOT FTA Detail'!$A$171)*(Projects!$K$5:$K$2426))","v":0},0,{"$f":"SUMPRODUCT((Projects!$A$5:$A$2426='MDOT FTA Detail'!$M$3)*(Projects!$C$5:$C$2426='MDOT FTA Detail'!$C$4)*(Projects!$L$5:$L$2426='MDOT FTA Detail'!$A39)*(Projects!$J$5:$J$2426<>'MDOT FTA Detail'!$A$171)*(Projects!$Q$5:$Q$2426))","v":0}]
["FBD","Ferry Boat & Terminal Discretionary","MDOT FA",{"$f":"SUMPRODUCT((Projects!$A$5:$A$2426='MDOT FTA Detail'!$D$3)*(Projects!$C$5:$C$2426='MDOT FTA Detail'!$C$4)*(Projects!$L$5:$L$2426='MDOT FTA Detail'!$A40)*(Projects!$J$5:$J$2426<>'MDOT FTA Detail'!$A$171)*(Projects!$K$5:K$2426))","v":0},0,{"$f":"SUMPRODUCT((Projects!$A$5:$A$2426='MDOT FTA Detail'!$D$3)*(Projects!$C$5:$C$2426='MDOT FTA Detail'!$C$4)*(Projects!$L$5:$L$2426='MDOT FTA Detail'!$A40)*(Projects!$J$5:$J$2426<>'MDOT FTA Detail'!$A$171)*(Projects!$Q$5:Q$2426))","v":0},{"$f":"SUMPRODUCT((Projects!$A$5:$A$2426='MDOT FTA Detail'!$G$3)*(Projects!$C$5:$C$2426='MDOT FTA Detail'!$C$4)*(Projects!$L$5:$L$2426='MDOT FTA Detail'!$A40)*(Projects!$J$5:$J$2426<>'MDOT FTA Detail'!$A$171)*(Projects!$K$5:K$2426))","v":0},0,{"$f":"SUMPRODUCT((Projects!$A$5:$A$2426='MDOT FTA Detail'!$G$3)*(Projects!$C$5:$C$2426='MDOT FTA Detail'!$C$4)*(Projects!$L$5:$L$2426='MDOT FTA Detail'!$A40)*(Projects!$J$5:$J$2426<>'MDOT FTA Detail'!$A$171)*(Projects!$Q$5:Q$2426))","v":0},{"$f":"SUMPRODUCT((Projects!$A$5:$A$2426='MDOT FTA Detail'!$J$3)*(Projects!$C$5:$C$2426='MDOT FTA Detail'!$C$4)*(Projects!$L$5:$L$2426='MDOT FTA Detail'!$A40)*(Projects!$J$5:$J$2426<>'MDOT FTA Detail'!$A$171)*(Projects!$K$5:$K$2426))","v":0},0,{"$f":"SUMPRODUCT((Projects!$A$5:$A$2426='MDOT FTA Detail'!$J$3)*(Projects!$C$5:$C$2426='MDOT FTA Detail'!$C$4)*(Projects!$L$5:$L$2426='MDOT FTA Detail'!$A40)*(Projects!$J$5:$J$2426<>'MDOT FTA Detail'!$A$171)*(Projects!$Q$5:$Q$2426))","v":0},{"$f":"SUMPRODUCT((Projects!$A$5:$A$2426='MDOT FTA Detail'!$M$3)*(Projects!$C$5:$C$2426='MDOT FTA Detail'!$C$4)*(Projects!$L$5:$L$2426='MDOT FTA Detail'!$A40)*(Projects!$J$5:$J$2426<>'MDOT FTA Detail'!$A$171)*(Projects!$K$5:$K$2426))","v":0},0,{"$f":"SUMPRODUCT((Projects!$A$5:$A$2426='MDOT FTA Detail'!$M$3)*(Projects!$C$5:$C$2426='MDOT FTA Detail'!$C$4)*(Projects!$L$5:$L$2426='MDOT FTA Detail'!$A40)*(Projects!$J$5:$J$2426<>'MDOT FTA Detail'!$A$171)*(Projects!$Q$5:$Q$2426))","v":0}]
["FFH","Federal Forest Highway","MDOT FA",{"$f":"SUMPRODUCT((Projects!$A$5:$A$2426='MDOT FTA Detail'!$D$3)*(Projects!$C$5:$C$2426='MDOT FTA Detail'!$C$4)*(Projects!$L$5:$L$2426='MDOT FTA Detail'!$A41)*(Projects!$J$5:$J$2426<>'MDOT FTA Detail'!$A$171)*(Projects!$K$5:K$2426))","v":0},0,{"$f":"SUMPRODUCT((Projects!$A$5:$A$2426='MDOT FTA Detail'!$D$3)*(Projects!$C$5:$C$2426='MDOT FTA Detail'!$C$4)*(Projects!$L$5:$L$2426='MDOT FTA Detail'!$A41)*(Projects!$J$5:$J$2426<>'MDOT FTA Detail'!$A$171)*(Projects!$Q$5:Q$2426))","v":0},{"$f":"SUMPRODUCT((Projects!$A$5:$A$2426='MDOT FTA Detail'!$G$3)*(Projects!$C$5:$C$2426='MDOT FTA Detail'!$C$4)*(Projects!$L$5:$L$2426='MDOT FTA Detail'!$A41)*(Projects!$J$5:$J$2426<>'MDOT FTA Detail'!$A$171)*(Projects!$K$5:K$2426))","v":0},0,{"$f":"SUMPRODUCT((Projects!$A$5:$A$2426='MDOT FTA Detail'!$G$3)*(Projects!$C$5:$C$2426='MDOT FTA Detail'!$C$4)*(Projects!$L$5:$L$2426='MDOT FTA Detail'!$A41)*(Projects!$J$5:$J$2426<>'MDOT FTA Detail'!$A$171)*(Projects!$Q$5:Q$2426))","v":0},{"$f":"SUMPRODUCT((Projects!$A$5:$A$2426='MDOT FTA Detail'!$J$3)*(Projects!$C$5:$C$2426='MDOT FTA Detail'!$C$4)*(Projects!$L$5:$L$2426='MDOT FTA Detail'!$A41)*(Projects!$J$5:$J$2426<>'MDOT FTA Detail'!$A$171)*(Projects!$K$5:$K$2426))","v":0},0,{"$f":"SUMPRODUCT((Projects!$A$5:$A$2426='MDOT FTA Detail'!$J$3)*(Projects!$C$5:$C$2426='MDOT FTA Detail'!$C$4)*(Projects!$L$5:$L$2426='MDOT FTA Detail'!$A41)*(Projects!$J$5:$J$2426<>'MDOT FTA Detail'!$A$171)*(Projects!$Q$5:$Q$2426))","v":0},{"$f":"SUMPRODUCT((Projects!$A$5:$A$2426='MDOT FTA Detail'!$M$3)*(Projects!$C$5:$C$2426='MDOT FTA Detail'!$C$4)*(Projects!$L$5:$L$2426='MDOT FTA Detail'!$A41)*(Projects!$J$5:$J$2426<>'MDOT FTA Detail'!$A$171)*(Projects!$K$5:$K$2426))","v":0},0,{"$f":"SUMPRODUCT((Projects!$A$5:$A$2426='MDOT FTA Detail'!$M$3)*(Projects!$C$5:$C$2426='MDOT FTA Detail'!$C$4)*(Projects!$L$5:$L$2426='MDOT FTA Detail'!$A41)*(Projects!$J$5:$J$2426<>'MDOT FTA Detail'!$A$171)*(Projects!$Q$5:$Q$2426))","v":0}]
["FLAP","Federal Lands Access Program","MDOT FA",{"$f":"SUMPRODUCT((Projects!$A$5:$A$2426='MDOT FTA Detail'!$D$3)*(Projects!$C$5:$C$2426='MDOT FTA Detail'!$C$4)*(Projects!$L$5:$L$2426='MDOT FTA Detail'!$A42)*(Projects!$J$5:$J$2426<>'MDOT FTA Detail'!$A$171)*(Projects!$K$5:K$2426))","v":0},0,{"$f":"SUMPRODUCT((Projects!$A$5:$A$2426='MDOT FTA Detail'!$D$3)*(Projects!$C$5:$C$2426='MDOT FTA Detail'!$C$4)*(Projects!$L$5:$L$2426='MDOT FTA Detail'!$A42)*(Projects!$J$5:$J$2426<>'MDOT FTA Detail'!$A$171)*(Projects!$Q$5:Q$2426))","v":0},{"$f":"SUMPRODUCT((Projects!$A$5:$A$2426='MDOT FTA Detail'!$G$3)*(Projects!$C$5:$C$2426='MDOT FTA Detail'!$C$4)*(Projects!$L$5:$L$2426='MDOT FTA Detail'!$A42)*(Projects!$J$5:$J$2426<>'MDOT FTA Detail'!$A$171)*(Projects!$K$5:K$2426))","v":0},0,{"$f":"SUMPRODUCT((Projects!$A$5:$A$2426='MDOT FTA Detail'!$G$3)*(Projects!$C$5:$C$2426='MDOT FTA Detail'!$C$4)*(Projects!$L$5:$L$2426='MDOT FTA Detail'!$A42)*(Projects!$J$5:$J$2426<>'MDOT FTA Detail'!$A$171)*(Projects!$Q$5:Q$2426))","v":0},{"$f":"SUMPRODUCT((Projects!$A$5:$A$2426='MDOT FTA Detail'!$J$3)*(Projects!$C$5:$C$2426='MDOT FTA Detail'!$C$4)*(Projects!$L$5:$L$2426='MDOT FTA Detail'!$A42)*(Projects!$J$5:$J$2426<>'MDOT FTA Detail'!$A$171)*(Projects!$K$5:$K$2426))","v":0},0,{"$f":"SUMPRODUCT((Projects!$A$5:$A$2426='MDOT FTA Detail'!$J$3)*(Projects!$C$5:$C$2426='MDOT FTA Detail'!$C$4)*(Projects!$L$5:$L$2426='MDOT FTA Detail'!$A42)*(Projects!$J$5:$J$2426<>'MDOT FTA Detail'!$A$171)*(Projects!$Q$5:$Q$2426))","v":0},{"$f":"SUMPRODUCT((Projects!$A$5:$A$2426='MDOT FTA Detail'!$M$3)*(Projects!$C$5:$C$2426='MDOT FTA Detail'!$C$4)*(Projects!$L$5:$L$2426='MDOT FTA Detail'!$A42)*(Projects!$J$5:$J$2426<>'MDOT FTA Detail'!$A$171)*(Projects!$K$5:$K$2426))","v":0},0,{"$f":"SUMPRODUCT((Projects!$A$5:$A$2426='MDOT FTA Detail'!$M$3)*(Projects!$C$5:$C$2426='MDOT FTA Detail'!$C$4)*(Projects!$L$5:$L$2426='MDOT FTA Detail'!$A42)*(Projects!$J$5:$J$2426<>'MDOT FTA Detail'!$A$171)*(Projects!$Q$5:$Q$2426))","v":0}]
["HBOA","Highway Bridge Obligation  Authority","MDOT FA",{"$f":"SUMPRODUCT((Projects!$A$5:$A$2426='MDOT FTA Detail'!$D$3)*(Projects!$C$5:$C$2426='MDOT FTA Detail'!$C$4)*(Projects!$L$5:$L$2426='MDOT FTA Detail'!$A43)*(Projects!$J$5:$J$2426<>'MDOT FTA Detail'!$A$171)*(Projects!$K$5:K$2426))","v":0},0,{"$f":"SUMPRODUCT((Projects!$A$5:$A$2426='MDOT FTA Detail'!$D$3)*(Projects!$C$5:$C$2426='MDOT FTA Detail'!$C$4)*(Projects!$L$5:$L$2426='MDOT FTA Detail'!$A43)*(Projects!$J$5:$J$2426<>'MDOT FTA Detail'!$A$171)*(Projects!$Q$5:Q$2426))","v":0},{"$f":"SUMPRODUCT((Projects!$A$5:$A$2426='MDOT FTA Detail'!$G$3)*(Projects!$C$5:$C$2426='MDOT FTA Detail'!$C$4)*(Projects!$L$5:$L$2426='MDOT FTA Detail'!$A43)*(Projects!$J$5:$J$2426<>'MDOT FTA Detail'!$A$171)*(Projects!$K$5:K$2426))","v":0},0,{"$f":"SUMPRODUCT((Projects!$A$5:$A$2426='MDOT FTA Detail'!$G$3)*(Projects!$C$5:$C$2426='MDOT FTA Detail'!$C$4)*(Projects!$L$5:$L$2426='MDOT FTA Detail'!$A43)*(Projects!$J$5:$J$2426<>'MDOT FTA Detail'!$A$171)*(Projects!$Q$5:Q$2426))","v":0},{"$f":"SUMPRODUCT((Projects!$A$5:$A$2426='MDOT FTA Detail'!$J$3)*(Projects!$C$5:$C$2426='MDOT FTA Detail'!$C$4)*(Projects!$L$5:$L$2426='MDOT FTA Detail'!$A43)*(Projects!$J$5:$J$2426<>'MDOT FTA Detail'!$A$171)*(Projects!$K$5:$K$2426))","v":0},0,{"$f":"SUMPRODUCT((Projects!$A$5:$A$2426='MDOT FTA Detail'!$J$3)*(Projects!$C$5:$C$2426='MDOT FTA Detail'!$C$4)*(Projects!$L$5:$L$2426='MDOT FTA Detail'!$A43)*(Projects!$J$5:$J$2426<>'MDOT FTA Detail'!$A$171)*(Projects!$Q$5:$Q$2426))","v":0},{"$f":"SUMPRODUCT((Projects!$A$5:$A$2426='MDOT FTA Detail'!$M$3)*(Projects!$C$5:$C$2426='MDOT FTA Detail'!$C$4)*(Projects!$L$5:$L$2426='MDOT FTA Detail'!$A43)*(Projects!$J$5:$J$2426<>'MDOT FTA Detail'!$A$171)*(Projects!$K$5:$K$2426))","v":0},0,{"$f":"SUMPRODUCT((Projects!$A$5:$A$2426='MDOT FTA Detail'!$M$3)*(Projects!$C$5:$C$2426='MDOT FTA Detail'!$C$4)*(Projects!$L$5:$L$2426='MDOT FTA Detail'!$A43)*(Projects!$J$5:$J$2426<>'MDOT FTA Detail'!$A$171)*(Projects!$Q$5:$Q$2426))","v":0}]
["HPP","High Priority Projects (Demo)","MDOT FA",{"$f":"SUMPRODUCT((Projects!$A$5:$A$2426='MDOT FTA Detail'!$D$3)*(Projects!$C$5:$C$2426='MDOT FTA Detail'!$C$4)*(Projects!$L$5:$L$2426='MDOT FTA Detail'!$A44)*(Projects!$J$5:$J$2426<>'MDOT FTA Detail'!$A$171)*(Projects!$K$5:K$2426))","v":0},0,{"$f":"SUMPRODUCT((Projects!$A$5:$A$2426='MDOT FTA Detail'!$D$3)*(Projects!$C$5:$C$2426='MDOT FTA Detail'!$C$4)*(Projects!$L$5:$L$2426='MDOT FTA Detail'!$A44)*(Projects!$J$5:$J$2426<>'MDOT FTA Detail'!$A$171)*(Projects!$Q$5:Q$2426))","v":0},{"$f":"SUMPRODUCT((Projects!$A$5:$A$2426='MDOT FTA Detail'!$G$3)*(Projects!$C$5:$C$2426='MDOT FTA Detail'!$C$4)*(Projects!$L$5:$L$2426='MDOT FTA Detail'!$A44)*(Projects!$J$5:$J$2426<>'MDOT FTA Detail'!$A$171)*(Projects!$K$5:K$2426))","v":0},0,{"$f":"SUMPRODUCT((Projects!$A$5:$A$2426='MDOT FTA Detail'!$G$3)*(Projects!$C$5:$C$2426='MDOT FTA Detail'!$C$4)*(Projects!$L$5:$L$2426='MDOT FTA Detail'!$A44)*(Projects!$J$5:$J$2426<>'MDOT FTA Detail'!$A$171)*(Projects!$Q$5:Q$2426))","v":0},{"$f":"SUMPRODUCT((Projects!$A$5:$A$2426='MDOT FTA Detail'!$J$3)*(Projects!$C$5:$C$2426='MDOT FTA Detail'!$C$4)*(Projects!$L$5:$L$2426='MDOT FTA Detail'!$A44)*(Projects!$J$5:$J$2426<>'MDOT FTA Detail'!$A$171)*(Projects!$K$5:$K$2426))","v":0},0,{"$f":"SUMPRODUCT((Projects!$A$5:$A$2426='MDOT FTA Detail'!$J$3)*(Projects!$C$5:$C$2426='MDOT FTA Detail'!$C$4)*(Projects!$L$5:$L$2426='MDOT FTA Detail'!$A44)*(Projects!$J$5:$J$2426<>'MDOT FTA Detail'!$A$171)*(Projects!$Q$5:$Q$2426))","v":0},{"$f":"SUMPRODUCT((Projects!$A$5:$A$2426='MDOT FTA Detail'!$M$3)*(Projects!$C$5:$C$2426='MDOT FTA Detail'!$C$4)*(Projects!$L$5:$L$2426='MDOT FTA Detail'!$A44)*(Projects!$J$5:$J$2426<>'MDOT FTA Detail'!$A$171)*(Projects!$K$5:$K$2426))","v":0},0,{"$f":"SUMPRODUCT((Projects!$A$5:$A$2426='MDOT FTA Detail'!$M$3)*(Projects!$C$5:$C$2426='MDOT FTA Detail'!$C$4)*(Projects!$L$5:$L$2426='MDOT FTA Detail'!$A44)*(Projects!$J$5:$J$2426<>'MDOT FTA Detail'!$A$171)*(Projects!$Q$5:$Q$2426))","v":0}]
["HPSL","High Priority Projects - SAFETEA-LU","MDOT FA",{"$f":"SUMPRODUCT((Projects!$A$5:$A$2426='MDOT FTA Detail'!$D$3)*(Projects!$C$5:$C$2426='MDOT FTA Detail'!$C$4)*(Projects!$L$5:$L$2426='MDOT FTA Detail'!$A45)*(Projects!$J$5:$J$2426<>'MDOT FTA Detail'!$A$171)*(Projects!$K$5:K$2426))","v":0},0,{"$f":"SUMPRODUCT((Projects!$A$5:$A$2426='MDOT FTA Detail'!$D$3)*(Projects!$C$5:$C$2426='MDOT FTA Detail'!$C$4)*(Projects!$L$5:$L$2426='MDOT FTA Detail'!$A45)*(Projects!$J$5:$J$2426<>'MDOT FTA Detail'!$A$171)*(Projects!$Q$5:Q$2426))","v":0},{"$f":"SUMPRODUCT((Projects!$A$5:$A$2426='MDOT FTA Detail'!$G$3)*(Projects!$C$5:$C$2426='MDOT FTA Detail'!$C$4)*(Projects!$L$5:$L$2426='MDOT FTA Detail'!$A45)*(Projects!$J$5:$J$2426<>'MDOT FTA Detail'!$A$171)*(Projects!$K$5:K$2426))","v":0},0,{"$f":"SUMPRODUCT((Projects!$A$5:$A$2426='MDOT FTA Detail'!$G$3)*(Projects!$C$5:$C$2426='MDOT FTA Detail'!$C$4)*(Projects!$L$5:$L$2426='MDOT FTA Detail'!$A45)*(Projects!$J$5:$J$2426<>'MDOT FTA Detail'!$A$171)*(Projects!$Q$5:Q$2426))","v":0},{"$f":"SUMPRODUCT((Projects!$A$5:$A$2426='MDOT FTA Detail'!$J$3)*(Projects!$C$5:$C$2426='MDOT FTA Detail'!$C$4)*(Projects!$L$5:$L$2426='MDOT FTA Detail'!$A45)*(Projects!$J$5:$J$2426<>'MDOT FTA Detail'!$A$171)*(Projects!$K$5:$K$2426))","v":0},0,{"$f":"SUMPRODUCT((Projects!$A$5:$A$2426='MDOT FTA Detail'!$J$3)*(Projects!$C$5:$C$2426='MDOT FTA Detail'!$C$4)*(Projects!$L$5:$L$2426='MDOT FTA Detail'!$A45)*(Projects!$J$5:$J$2426<>'MDOT FTA Detail'!$A$171)*(Projects!$Q$5:$Q$2426))","v":0},{"$f":"SUMPRODUCT((Projects!$A$5:$A$2426='MDOT FTA Detail'!$M$3)*(Projects!$C$5:$C$2426='MDOT FTA Detail'!$C$4)*(Projects!$L$5:$L$2426='MDOT FTA Detail'!$A45)*(Projects!$J$5:$J$2426<>'MDOT FTA Detail'!$A$171)*(Projects!$K$5:$K$2426))","v":0},0,{"$f":"SUMPRODUCT((Projects!$A$5:$A$2426='MDOT FTA Detail'!$M$3)*(Projects!$C$5:$C$2426='MDOT FTA Detail'!$C$4)*(Projects!$L$5:$L$2426='MDOT FTA Detail'!$A45)*(Projects!$J$5:$J$2426<>'MDOT FTA Detail'!$A$171)*(Projects!$Q$5:$Q$2426))","v":0}]
["HRRR","High Risk Rural Roads - SAFETEA-LU","MDOT FA",{"$f":"SUMPRODUCT((Projects!$A$5:$A$2426='MDOT FTA Detail'!$D$3)*(Projects!$C$5:$C$2426='MDOT FTA Detail'!$C$4)*(Projects!$L$5:$L$2426='MDOT FTA Detail'!$A46)*(Projects!$J$5:$J$2426<>'MDOT FTA Detail'!$A$171)*(Projects!$K$5:K$2426))","v":0},0,{"$f":"SUMPRODUCT((Projects!$A$5:$A$2426='MDOT FTA Detail'!$D$3)*(Projects!$C$5:$C$2426='MDOT FTA Detail'!$C$4)*(Projects!$L$5:$L$2426='MDOT FTA Detail'!$A46)*(Projects!$J$5:$J$2426<>'MDOT FTA Detail'!$A$171)*(Projects!$Q$5:Q$2426))","v":0},{"$f":"SUMPRODUCT((Projects!$A$5:$A$2426='MDOT FTA Detail'!$G$3)*(Projects!$C$5:$C$2426='MDOT FTA Detail'!$C$4)*(Projects!$L$5:$L$2426='MDOT FTA Detail'!$A46)*(Projects!$J$5:$J$2426<>'MDOT FTA Detail'!$A$171)*(Projects!$K$5:K$2426))","v":0},0,{"$f":"SUMPRODUCT((Projects!$A$5:$A$2426='MDOT FTA Detail'!$G$3)*(Projects!$C$5:$C$2426='MDOT FTA Detail'!$C$4)*(Projects!$L$5:$L$2426='MDOT FTA Detail'!$A46)*(Projects!$J$5:$J$2426<>'MDOT FTA Detail'!$A$171)*(Projects!$Q$5:Q$2426))","v":0},{"$f":"SUMPRODUCT((Projects!$A$5:$A$2426='MDOT FTA Detail'!$J$3)*(Projects!$C$5:$C$2426='MDOT FTA Detail'!$C$4)*(Projects!$L$5:$L$2426='MDOT FTA Detail'!$A46)*(Projects!$J$5:$J$2426<>'MDOT FTA Detail'!$A$171)*(Projects!$K$5:$K$2426))","v":0},0,{"$f":"SUMPRODUCT((Projects!$A$5:$A$2426='MDOT FTA Detail'!$J$3)*(Projects!$C$5:$C$2426='MDOT FTA Detail'!$C$4)*(Projects!$L$5:$L$2426='MDOT FTA Detail'!$A46)*(Projects!$J$5:$J$2426<>'MDOT FTA Detail'!$A$171)*(Projects!$Q$5:$Q$2426))","v":0},{"$f":"SUMPRODUCT((Projects!$A$5:$A$2426='MDOT FTA Detail'!$M$3)*(Projects!$C$5:$C$2426='MDOT FTA Detail'!$C$4)*(Projects!$L$5:$L$2426='MDOT FTA Detail'!$A46)*(Projects!$J$5:$J$2426<>'MDOT FTA Detail'!$A$171)*(Projects!$K$5:$K$2426))","v":0},0,{"$f":"SUMPRODUCT((Projects!$A$5:$A$2426='MDOT FTA Detail'!$M$3)*(Projects!$C$5:$C$2426='MDOT FTA Detail'!$C$4)*(Projects!$L$5:$L$2426='MDOT FTA Detail'!$A46)*(Projects!$J$5:$J$2426<>'MDOT FTA Detail'!$A$171)*(Projects!$Q$5:$Q$2426))","v":0}]
["HSG","High Speed Raix Crossings - 100% Federal","MDOT FA",{"$f":"SUMPRODUCT((Projects!$A$5:$A$2426='MDOT FTA Detail'!$D$3)*(Projects!$C$5:$C$2426='MDOT FTA Detail'!$C$4)*(Projects!$L$5:$L$2426='MDOT FTA Detail'!$A47)*(Projects!$J$5:$J$2426<>'MDOT FTA Detail'!$A$171)*(Projects!$K$5:K$2426))","v":0},0,{"$f":"SUMPRODUCT((Projects!$A$5:$A$2426='MDOT FTA Detail'!$D$3)*(Projects!$C$5:$C$2426='MDOT FTA Detail'!$C$4)*(Projects!$L$5:$L$2426='MDOT FTA Detail'!$A47)*(Projects!$J$5:$J$2426<>'MDOT FTA Detail'!$A$171)*(Projects!$Q$5:Q$2426))","v":0},{"$f":"SUMPRODUCT((Projects!$A$5:$A$2426='MDOT FTA Detail'!$G$3)*(Projects!$C$5:$C$2426='MDOT FTA Detail'!$C$4)*(Projects!$L$5:$L$2426='MDOT FTA Detail'!$A47)*(Projects!$J$5:$J$2426<>'MDOT FTA Detail'!$A$171)*(Projects!$K$5:K$2426))","v":0},0,{"$f":"SUMPRODUCT((Projects!$A$5:$A$2426='MDOT FTA Detail'!$G$3)*(Projects!$C$5:$C$2426='MDOT FTA Detail'!$C$4)*(Projects!$L$5:$L$2426='MDOT FTA Detail'!$A47)*(Projects!$J$5:$J$2426<>'MDOT FTA Detail'!$A$171)*(Projects!$Q$5:Q$2426))","v":0},{"$f":"SUMPRODUCT((Projects!$A$5:$A$2426='MDOT FTA Detail'!$J$3)*(Projects!$C$5:$C$2426='MDOT FTA Detail'!$C$4)*(Projects!$L$5:$L$2426='MDOT FTA Detail'!$A47)*(Projects!$J$5:$J$2426<>'MDOT FTA Detail'!$A$171)*(Projects!$K$5:$K$2426))","v":0},0,{"$f":"SUMPRODUCT((Projects!$A$5:$A$2426='MDOT FTA Detail'!$J$3)*(Projects!$C$5:$C$2426='MDOT FTA Detail'!$C$4)*(Projects!$L$5:$L$2426='MDOT FTA Detail'!$A47)*(Projects!$J$5:$J$2426<>'MDOT FTA Detail'!$A$171)*(Projects!$Q$5:$Q$2426))","v":0},{"$f":"SUMPRODUCT((Projects!$A$5:$A$2426='MDOT FTA Detail'!$M$3)*(Projects!$C$5:$C$2426='MDOT FTA Detail'!$C$4)*(Projects!$L$5:$L$2426='MDOT FTA Detail'!$A47)*(Projects!$J$5:$J$2426<>'MDOT FTA Detail'!$A$171)*(Projects!$K$5:$K$2426))","v":0},0,{"$f":"SUMPRODUCT((Projects!$A$5:$A$2426='MDOT FTA Detail'!$M$3)*(Projects!$C$5:$C$2426='MDOT FTA Detail'!$C$4)*(Projects!$L$5:$L$2426='MDOT FTA Detail'!$A47)*(Projects!$J$5:$J$2426<>'MDOT FTA Detail'!$A$171)*(Projects!$Q$5:$Q$2426))","v":0}]
["HSIP","Highway Safety Improvement Program - SAFETEA-LU","MDOT FA",{"$f":"SUMPRODUCT((Projects!$A$5:$A$2426='MDOT FTA Detail'!$D$3)*(Projects!$C$5:$C$2426='MDOT FTA Detail'!$C$4)*(Projects!$L$5:$L$2426='MDOT FTA Detail'!$A48)*(Projects!$J$5:$J$2426<>'MDOT FTA Detail'!$A$171)*(Projects!$K$5:K$2426))","v":0},0,{"$f":"SUMPRODUCT((Projects!$A$5:$A$2426='MDOT FTA Detail'!$D$3)*(Projects!$C$5:$C$2426='MDOT FTA Detail'!$C$4)*(Projects!$L$5:$L$2426='MDOT FTA Detail'!$A48)*(Projects!$J$5:$J$2426<>'MDOT FTA Detail'!$A$171)*(Projects!$Q$5:Q$2426))","v":0},{"$f":"SUMPRODUCT((Projects!$A$5:$A$2426='MDOT FTA Detail'!$G$3)*(Projects!$C$5:$C$2426='MDOT FTA Detail'!$C$4)*(Projects!$L$5:$L$2426='MDOT FTA Detail'!$A48)*(Projects!$J$5:$J$2426<>'MDOT FTA Detail'!$A$171)*(Projects!$K$5:K$2426))","v":0},0,{"$f":"SUMPRODUCT((Projects!$A$5:$A$2426='MDOT FTA Detail'!$G$3)*(Projects!$C$5:$C$2426='MDOT FTA Detail'!$C$4)*(Projects!$L$5:$L$2426='MDOT FTA Detail'!$A48)*(Projects!$J$5:$J$2426<>'MDOT FTA Detail'!$A$171)*(Projects!$Q$5:Q$2426))","v":0},{"$f":"SUMPRODUCT((Projects!$A$5:$A$2426='MDOT FTA Detail'!$J$3)*(Projects!$C$5:$C$2426='MDOT FTA Detail'!$C$4)*(Projects!$L$5:$L$2426='MDOT FTA Detail'!$A48)*(Projects!$J$5:$J$2426<>'MDOT FTA Detail'!$A$171)*(Projects!$K$5:$K$2426))","v":0},0,{"$f":"SUMPRODUCT((Projects!$A$5:$A$2426='MDOT FTA Detail'!$J$3)*(Projects!$C$5:$C$2426='MDOT FTA Detail'!$C$4)*(Projects!$L$5:$L$2426='MDOT FTA Detail'!$A48)*(Projects!$J$5:$J$2426<>'MDOT FTA Detail'!$A$171)*(Projects!$Q$5:$Q$2426))","v":0},{"$f":"SUMPRODUCT((Projects!$A$5:$A$2426='MDOT FTA Detail'!$M$3)*(Projects!$C$5:$C$2426='MDOT FTA Detail'!$C$4)*(Projects!$L$5:$L$2426='MDOT FTA Detail'!$A48)*(Projects!$J$5:$J$2426<>'MDOT FTA Detail'!$A$171)*(Projects!$K$5:$K$2426))","v":0},0,{"$f":"SUMPRODUCT((Projects!$A$5:$A$2426='MDOT FTA Detail'!$M$3)*(Projects!$C$5:$C$2426='MDOT FTA Detail'!$C$4)*(Projects!$L$5:$L$2426='MDOT FTA Detail'!$A48)*(Projects!$J$5:$J$2426<>'MDOT FTA Detail'!$A$171)*(Projects!$Q$5:$Q$2426))","v":0}]
["IM","Interstate Maintenance - No Added Lanes","MDOT FA",{"$f":"SUMPRODUCT((Projects!$A$5:$A$2426='MDOT FTA Detail'!$D$3)*(Projects!$C$5:$C$2426='MDOT FTA Detail'!$C$4)*(Projects!$L$5:$L$2426='MDOT FTA Detail'!$A49)*(Projects!$J$5:$J$2426<>'MDOT FTA Detail'!$A$171)*(Projects!$K$5:K$2426))","v":805074},89453,{"$f":"SUMPRODUCT((Projects!$A$5:$A$2426='MDOT FTA Detail'!$D$3)*(Projects!$C$5:$C$2426='MDOT FTA Detail'!$C$4)*(Projects!$L$5:$L$2426='MDOT FTA Detail'!$A49)*(Projects!$J$5:$J$2426<>'MDOT FTA Detail'!$A$171)*(Projects!$Q$5:Q$2426))","v":894527},{"$f":"SUMPRODUCT((Projects!$A$5:$A$2426='MDOT FTA Detail'!$G$3)*(Projects!$C$5:$C$2426='MDOT FTA Detail'!$C$4)*(Projects!$L$5:$L$2426='MDOT FTA Detail'!$A49)*(Projects!$J$5:$J$2426<>'MDOT FTA Detail'!$A$171)*(Projects!$K$5:K$2426))","v":16035197},1781689,{"$f":"SUMPRODUCT((Projects!$A$5:$A$2426='MDOT FTA Detail'!$G$3)*(Projects!$C$5:$C$2426='MDOT FTA Detail'!$C$4)*(Projects!$L$5:$L$2426='MDOT FTA Detail'!$A49)*(Projects!$J$5:$J$2426<>'MDOT FTA Detail'!$A$171)*(Projects!$Q$5:Q$2426))","v":17816886},{"$f":"SUMPRODUCT((Projects!$A$5:$A$2426='MDOT FTA Detail'!$J$3)*(Projects!$C$5:$C$2426='MDOT FTA Detail'!$C$4)*(Projects!$L$5:$L$2426='MDOT FTA Detail'!$A49)*(Projects!$J$5:$J$2426<>'MDOT FTA Detail'!$A$171)*(Projects!$K$5:$K$2426))","v":2862000},318000,{"$f":"SUMPRODUCT((Projects!$A$5:$A$2426='MDOT FTA Detail'!$J$3)*(Projects!$C$5:$C$2426='MDOT FTA Detail'!$C$4)*(Projects!$L$5:$L$2426='MDOT FTA Detail'!$A49)*(Projects!$J$5:$J$2426<>'MDOT FTA Detail'!$A$171)*(Projects!$Q$5:$Q$2426))","v":3180000},{"$f":"SUMPRODUCT((Projects!$A$5:$A$2426='MDOT FTA Detail'!$M$3)*(Projects!$C$5:$C$2426='MDOT FTA Detail'!$C$4)*(Projects!$L$5:$L$2426='MDOT FTA Detail'!$A49)*(Projects!$J$5:$J$2426<>'MDOT FTA Detail'!$A$171)*(Projects!$K$5:$K$2426))","v":13167000},1463000,{"$f":"SUMPRODUCT((Projects!$A$5:$A$2426='MDOT FTA Detail'!$M$3)*(Projects!$C$5:$C$2426='MDOT FTA Detail'!$C$4)*(Projects!$L$5:$L$2426='MDOT FTA Detail'!$A49)*(Projects!$J$5:$J$2426<>'MDOT FTA Detail'!$A$171)*(Projects!$Q$5:$Q$2426))","v":14630000}]
["IMD","Interstate Maintenance Discretionary","MDOT FA",{"$f":"SUMPRODUCT((Projects!$A$5:$A$2426='MDOT FTA Detail'!$D$3)*(Projects!$C$5:$C$2426='MDOT FTA Detail'!$C$4)*(Projects!$L$5:$L$2426='MDOT FTA Detail'!$A50)*(Projects!$J$5:$J$2426<>'MDOT FTA Detail'!$A$171)*(Projects!$K$5:K$2426))","v":0},0,{"$f":"SUMPRODUCT((Projects!$A$5:$A$2426='MDOT FTA Detail'!$D$3)*(Projects!$C$5:$C$2426='MDOT FTA Detail'!$C$4)*(Projects!$L$5:$L$2426='MDOT FTA Detail'!$A50)*(Projects!$J$5:$J$2426<>'MDOT FTA Detail'!$A$171)*(Projects!$Q$5:Q$2426))","v":0},{"$f":"SUMPRODUCT((Projects!$A$5:$A$2426='MDOT FTA Detail'!$G$3)*(Projects!$C$5:$C$2426='MDOT FTA Detail'!$C$4)*(Projects!$L$5:$L$2426='MDOT FTA Detail'!$A50)*(Projects!$J$5:$J$2426<>'MDOT FTA Detail'!$A$171)*(Projects!$K$5:K$2426))","v":0},0,{"$f":"SUMPRODUCT((Projects!$A$5:$A$2426='MDOT FTA Detail'!$G$3)*(Projects!$C$5:$C$2426='MDOT FTA Detail'!$C$4)*(Projects!$L$5:$L$2426='MDOT FTA Detail'!$A50)*(Projects!$J$5:$J$2426<>'MDOT FTA Detail'!$A$171)*(Projects!$Q$5:Q$2426))","v":0},{"$f":"SUMPRODUCT((Projects!$A$5:$A$2426='MDOT FTA Detail'!$J$3)*(Projects!$C$5:$C$2426='MDOT FTA Detail'!$C$4)*(Projects!$L$5:$L$2426='MDOT FTA Detail'!$A50)*(Projects!$J$5:$J$2426<>'MDOT FTA Detail'!$A$171)*(Projects!$K$5:$K$2426))","v":0},0,{"$f":"SUMPRODUCT((Projects!$A$5:$A$2426='MDOT FTA Detail'!$J$3)*(Projects!$C$5:$C$2426='MDOT FTA Detail'!$C$4)*(Projects!$L$5:$L$2426='MDOT FTA Detail'!$A50)*(Projects!$J$5:$J$2426<>'MDOT FTA Detail'!$A$171)*(Projects!$Q$5:$Q$2426))","v":0},{"$f":"SUMPRODUCT((Projects!$A$5:$A$2426='MDOT FTA Detail'!$M$3)*(Projects!$C$5:$C$2426='MDOT FTA Detail'!$C$4)*(Projects!$L$5:$L$2426='MDOT FTA Detail'!$A50)*(Projects!$J$5:$J$2426<>'MDOT FTA Detail'!$A$171)*(Projects!$K$5:$K$2426))","v":0},0,{"$f":"SUMPRODUCT((Projects!$A$5:$A$2426='MDOT FTA Detail'!$M$3)*(Projects!$C$5:$C$2426='MDOT FTA Detail'!$C$4)*(Projects!$L$5:$L$2426='MDOT FTA Detail'!$A50)*(Projects!$J$5:$J$2426<>'MDOT FTA Detail'!$A$171)*(Projects!$Q$5:$Q$2426))","v":0}]
["IMG","Interstate Maintenance - Safety - 100% Federal","MDOT FA",{"$f":"SUMPRODUCT((Projects!$A$5:$A$2426='MDOT FTA Detail'!$D$3)*(Projects!$C$5:$C$2426='MDOT FTA Detail'!$C$4)*(Projects!$L$5:$L$2426='MDOT FTA Detail'!$A51)*(Projects!$J$5:$J$2426<>'MDOT FTA Detail'!$A$171)*(Projects!$K$5:K$2426))","v":0},0,{"$f":"SUMPRODUCT((Projects!$A$5:$A$2426='MDOT FTA Detail'!$D$3)*(Projects!$C$5:$C$2426='MDOT FTA Detail'!$C$4)*(Projects!$L$5:$L$2426='MDOT FTA Detail'!$A51)*(Projects!$J$5:$J$2426<>'MDOT FTA Detail'!$A$171)*(Projects!$Q$5:Q$2426))","v":0},{"$f":"SUMPRODUCT((Projects!$A$5:$A$2426='MDOT FTA Detail'!$G$3)*(Projects!$C$5:$C$2426='MDOT FTA Detail'!$C$4)*(Projects!$L$5:$L$2426='MDOT FTA Detail'!$A51)*(Projects!$J$5:$J$2426<>'MDOT FTA Detail'!$A$171)*(Projects!$K$5:K$2426))","v":0},0,{"$f":"SUMPRODUCT((Projects!$A$5:$A$2426='MDOT FTA Detail'!$G$3)*(Projects!$C$5:$C$2426='MDOT FTA Detail'!$C$4)*(Projects!$L$5:$L$2426='MDOT FTA Detail'!$A51)*(Projects!$J$5:$J$2426<>'MDOT FTA Detail'!$A$171)*(Projects!$Q$5:Q$2426))","v":0},{"$f":"SUMPRODUCT((Projects!$A$5:$A$2426='MDOT FTA Detail'!$J$3)*(Projects!$C$5:$C$2426='MDOT FTA Detail'!$C$4)*(Projects!$L$5:$L$2426='MDOT FTA Detail'!$A51)*(Projects!$J$5:$J$2426<>'MDOT FTA Detail'!$A$171)*(Projects!$K$5:$K$2426))","v":0},0,{"$f":"SUMPRODUCT((Projects!$A$5:$A$2426='MDOT FTA Detail'!$J$3)*(Projects!$C$5:$C$2426='MDOT FTA Detail'!$C$4)*(Projects!$L$5:$L$2426='MDOT FTA Detail'!$A51)*(Projects!$J$5:$J$2426<>'MDOT FTA Detail'!$A$171)*(Projects!$Q$5:$Q$2426))","v":0},{"$f":"SUMPRODUCT((Projects!$A$5:$A$2426='MDOT FTA Detail'!$M$3)*(Projects!$C$5:$C$2426='MDOT FTA Detail'!$C$4)*(Projects!$L$5:$L$2426='MDOT FTA Detail'!$A51)*(Projects!$J$5:$J$2426<>'MDOT FTA Detail'!$A$171)*(Projects!$K$5:$K$2426))","v":0},0,{"$f":"SUMPRODUCT((Projects!$A$5:$A$2426='MDOT FTA Detail'!$M$3)*(Projects!$C$5:$C$2426='MDOT FTA Detail'!$C$4)*(Projects!$L$5:$L$2426='MDOT FTA Detail'!$A51)*(Projects!$J$5:$J$2426<>'MDOT FTA Detail'!$A$171)*(Projects!$Q$5:$Q$2426))","v":0}]
["ITS","Intelligent Transportation Systems","MDOT FA",{"$f":"SUMPRODUCT((Projects!$A$5:$A$2426='MDOT FTA Detail'!$D$3)*(Projects!$C$5:$C$2426='MDOT FTA Detail'!$C$4)*(Projects!$L$5:$L$2426='MDOT FTA Detail'!$A52)*(Projects!$J$5:$J$2426<>'MDOT FTA Detail'!$A$171)*(Projects!$K$5:K$2426))","v":0},0,{"$f":"SUMPRODUCT((Projects!$A$5:$A$2426='MDOT FTA Detail'!$D$3)*(Projects!$C$5:$C$2426='MDOT FTA Detail'!$C$4)*(Projects!$L$5:$L$2426='MDOT FTA Detail'!$A52)*(Projects!$J$5:$J$2426<>'MDOT FTA Detail'!$A$171)*(Projects!$Q$5:Q$2426))","v":0},{"$f":"SUMPRODUCT((Projects!$A$5:$A$2426='MDOT FTA Detail'!$G$3)*(Projects!$C$5:$C$2426='MDOT FTA Detail'!$C$4)*(Projects!$L$5:$L$2426='MDOT FTA Detail'!$A52)*(Projects!$J$5:$J$2426<>'MDOT FTA Detail'!$A$171)*(Projects!$K$5:K$2426))","v":0},0,{"$f":"SUMPRODUCT((Projects!$A$5:$A$2426='MDOT FTA Detail'!$G$3)*(Projects!$C$5:$C$2426='MDOT FTA Detail'!$C$4)*(Projects!$L$5:$L$2426='MDOT FTA Detail'!$A52)*(Projects!$J$5:$J$2426<>'MDOT FTA Detail'!$A$171)*(Projects!$Q$5:Q$2426))","v":0},{"$f":"SUMPRODUCT((Projects!$A$5:$A$2426='MDOT FTA Detail'!$J$3)*(Projects!$C$5:$C$2426='MDOT FTA Detail'!$C$4)*(Projects!$L$5:$L$2426='MDOT FTA Detail'!$A52)*(Projects!$J$5:$J$2426<>'MDOT FTA Detail'!$A$171)*(Projects!$K$5:$K$2426))","v":0},0,{"$f":"SUMPRODUCT((Projects!$A$5:$A$2426='MDOT FTA Detail'!$J$3)*(Projects!$C$5:$C$2426='MDOT FTA Detail'!$C$4)*(Projects!$L$5:$L$2426='MDOT FTA Detail'!$A52)*(Projects!$J$5:$J$2426<>'MDOT FTA Detail'!$A$171)*(Projects!$Q$5:$Q$2426))","v":0},{"$f":"SUMPRODUCT((Projects!$A$5:$A$2426='MDOT FTA Detail'!$M$3)*(Projects!$C$5:$C$2426='MDOT FTA Detail'!$C$4)*(Projects!$L$5:$L$2426='MDOT FTA Detail'!$A52)*(Projects!$J$5:$J$2426<>'MDOT FTA Detail'!$A$171)*(Projects!$K$5:$K$2426))","v":0},0,{"$f":"SUMPRODUCT((Projects!$A$5:$A$2426='MDOT FTA Detail'!$M$3)*(Projects!$C$5:$C$2426='MDOT FTA Detail'!$C$4)*(Projects!$L$5:$L$2426='MDOT FTA Detail'!$A52)*(Projects!$J$5:$J$2426<>'MDOT FTA Detail'!$A$171)*(Projects!$Q$5:$Q$2426))","v":0}]
["JST","85% Minimum Floor Surface Transportation","MDOT FA",{"$f":"SUMPRODUCT((Projects!$A$5:$A$2426='MDOT FTA Detail'!$D$3)*(Projects!$C$5:$C$2426='MDOT FTA Detail'!$C$4)*(Projects!$L$5:$L$2426='MDOT FTA Detail'!$A53)*(Projects!$J$5:$J$2426<>'MDOT FTA Detail'!$A$171)*(Projects!$K$5:K$2426))","v":0},0,{"$f":"SUMPRODUCT((Projects!$A$5:$A$2426='MDOT FTA Detail'!$D$3)*(Projects!$C$5:$C$2426='MDOT FTA Detail'!$C$4)*(Projects!$L$5:$L$2426='MDOT FTA Detail'!$A53)*(Projects!$J$5:$J$2426<>'MDOT FTA Detail'!$A$171)*(Projects!$Q$5:Q$2426))","v":0},{"$f":"SUMPRODUCT((Projects!$A$5:$A$2426='MDOT FTA Detail'!$G$3)*(Projects!$C$5:$C$2426='MDOT FTA Detail'!$C$4)*(Projects!$L$5:$L$2426='MDOT FTA Detail'!$A53)*(Projects!$J$5:$J$2426<>'MDOT FTA Detail'!$A$171)*(Projects!$K$5:K$2426))","v":0},0,{"$f":"SUMPRODUCT((Projects!$A$5:$A$2426='MDOT FTA Detail'!$G$3)*(Projects!$C$5:$C$2426='MDOT FTA Detail'!$C$4)*(Projects!$L$5:$L$2426='MDOT FTA Detail'!$A53)*(Projects!$J$5:$J$2426<>'MDOT FTA Detail'!$A$171)*(Projects!$Q$5:Q$2426))","v":0},{"$f":"SUMPRODUCT((Projects!$A$5:$A$2426='MDOT FTA Detail'!$J$3)*(Projects!$C$5:$C$2426='MDOT FTA Detail'!$C$4)*(Projects!$L$5:$L$2426='MDOT FTA Detail'!$A53)*(Projects!$J$5:$J$2426<>'MDOT FTA Detail'!$A$171)*(Projects!$K$5:$K$2426))","v":0},0,{"$f":"SUMPRODUCT((Projects!$A$5:$A$2426='MDOT FTA Detail'!$J$3)*(Projects!$C$5:$C$2426='MDOT FTA Detail'!$C$4)*(Projects!$L$5:$L$2426='MDOT FTA Detail'!$A53)*(Projects!$J$5:$J$2426<>'MDOT FTA Detail'!$A$171)*(Projects!$Q$5:$Q$2426))","v":0},{"$f":"SUMPRODUCT((Projects!$A$5:$A$2426='MDOT FTA Detail'!$M$3)*(Projects!$C$5:$C$2426='MDOT FTA Detail'!$C$4)*(Projects!$L$5:$L$2426='MDOT FTA Detail'!$A53)*(Projects!$J$5:$J$2426<>'MDOT FTA Detail'!$A$171)*(Projects!$K$5:$K$2426))","v":0},0,{"$f":"SUMPRODUCT((Projects!$A$5:$A$2426='MDOT FTA Detail'!$M$3)*(Projects!$C$5:$C$2426='MDOT FTA Detail'!$C$4)*(Projects!$L$5:$L$2426='MDOT FTA Detail'!$A53)*(Projects!$J$5:$J$2426<>'MDOT FTA Detail'!$A$171)*(Projects!$Q$5:$Q$2426))","v":0}]
["JSTU","85% Minimum Floor Surface Transportation (Urban Area > 2499,000)","MDOT FA",{"$f":"SUMPRODUCT((Projects!$A$5:$A$2426='MDOT FTA Detail'!$D$3)*(Projects!$C$5:$C$2426='MDOT FTA Detail'!$C$4)*(Projects!$L$5:$L$2426='MDOT FTA Detail'!$A54)*(Projects!$J$5:$J$2426<>'MDOT FTA Detail'!$A$171)*(Projects!$K$5:K$2426))","v":0},0,{"$f":"SUMPRODUCT((Projects!$A$5:$A$2426='MDOT FTA Detail'!$D$3)*(Projects!$C$5:$C$2426='MDOT FTA Detail'!$C$4)*(Projects!$L$5:$L$2426='MDOT FTA Detail'!$A54)*(Projects!$J$5:$J$2426<>'MDOT FTA Detail'!$A$171)*(Projects!$Q$5:Q$2426))","v":0},{"$f":"SUMPRODUCT((Projects!$A$5:$A$2426='MDOT FTA Detail'!$G$3)*(Projects!$C$5:$C$2426='MDOT FTA Detail'!$C$4)*(Projects!$L$5:$L$2426='MDOT FTA Detail'!$A54)*(Projects!$J$5:$J$2426<>'MDOT FTA Detail'!$A$171)*(Projects!$K$5:K$2426))","v":0},0,{"$f":"SUMPRODUCT((Projects!$A$5:$A$2426='MDOT FTA Detail'!$G$3)*(Projects!$C$5:$C$2426='MDOT FTA Detail'!$C$4)*(Projects!$L$5:$L$2426='MDOT FTA Detail'!$A54)*(Projects!$J$5:$J$2426<>'MDOT FTA Detail'!$A$171)*(Projects!$Q$5:Q$2426))","v":0},{"$f":"SUMPRODUCT((Projects!$A$5:$A$2426='MDOT FTA Detail'!$J$3)*(Projects!$C$5:$C$2426='MDOT FTA Detail'!$C$4)*(Projects!$L$5:$L$2426='MDOT FTA Detail'!$A54)*(Projects!$J$5:$J$2426<>'MDOT FTA Detail'!$A$171)*(Projects!$K$5:$K$2426))","v":0},0,{"$f":"SUMPRODUCT((Projects!$A$5:$A$2426='MDOT FTA Detail'!$J$3)*(Projects!$C$5:$C$2426='MDOT FTA Detail'!$C$4)*(Projects!$L$5:$L$2426='MDOT FTA Detail'!$A54)*(Projects!$J$5:$J$2426<>'MDOT FTA Detail'!$A$171)*(Projects!$Q$5:$Q$2426))","v":0},{"$f":"SUMPRODUCT((Projects!$A$5:$A$2426='MDOT FTA Detail'!$M$3)*(Projects!$C$5:$C$2426='MDOT FTA Detail'!$C$4)*(Projects!$L$5:$L$2426='MDOT FTA Detail'!$A54)*(Projects!$J$5:$J$2426<>'MDOT FTA Detail'!$A$171)*(Projects!$K$5:$K$2426))","v":0},0,{"$f":"SUMPRODUCT((Projects!$A$5:$A$2426='MDOT FTA Detail'!$M$3)*(Projects!$C$5:$C$2426='MDOT FTA Detail'!$C$4)*(Projects!$L$5:$L$2426='MDOT FTA Detail'!$A54)*(Projects!$J$5:$J$2426<>'MDOT FTA Detail'!$A$171)*(Projects!$Q$5:$Q$2426))","v":0}]
["LTA","Local Technical Assistance Program","MDOT FA",{"$f":"SUMPRODUCT((Projects!$A$5:$A$2426='MDOT FTA Detail'!$D$3)*(Projects!$C$5:$C$2426='MDOT FTA Detail'!$C$4)*(Projects!$L$5:$L$2426='MDOT FTA Detail'!$A55)*(Projects!$J$5:$J$2426<>'MDOT FTA Detail'!$A$171)*(Projects!$K$5:K$2426))","v":0},0,{"$f":"SUMPRODUCT((Projects!$A$5:$A$2426='MDOT FTA Detail'!$D$3)*(Projects!$C$5:$C$2426='MDOT FTA Detail'!$C$4)*(Projects!$L$5:$L$2426='MDOT FTA Detail'!$A55)*(Projects!$J$5:$J$2426<>'MDOT FTA Detail'!$A$171)*(Projects!$Q$5:Q$2426))","v":0},{"$f":"SUMPRODUCT((Projects!$A$5:$A$2426='MDOT FTA Detail'!$G$3)*(Projects!$C$5:$C$2426='MDOT FTA Detail'!$C$4)*(Projects!$L$5:$L$2426='MDOT FTA Detail'!$A55)*(Projects!$J$5:$J$2426<>'MDOT FTA Detail'!$A$171)*(Projects!$K$5:K$2426))","v":0},0,{"$f":"SUMPRODUCT((Projects!$A$5:$A$2426='MDOT FTA Detail'!$G$3)*(Projects!$C$5:$C$2426='MDOT FTA Detail'!$C$4)*(Projects!$L$5:$L$2426='MDOT FTA Detail'!$A55)*(Projects!$J$5:$J$2426<>'MDOT FTA Detail'!$A$171)*(Projects!$Q$5:Q$2426))","v":0},{"$f":"SUMPRODUCT((Projects!$A$5:$A$2426='MDOT FTA Detail'!$J$3)*(Projects!$C$5:$C$2426='MDOT FTA Detail'!$C$4)*(Projects!$L$5:$L$2426='MDOT FTA Detail'!$A55)*(Projects!$J$5:$J$2426<>'MDOT FTA Detail'!$A$171)*(Projects!$K$5:$K$2426))","v":0},0,{"$f":"SUMPRODUCT((Projects!$A$5:$A$2426='MDOT FTA Detail'!$J$3)*(Projects!$C$5:$C$2426='MDOT FTA Detail'!$C$4)*(Projects!$L$5:$L$2426='MDOT FTA Detail'!$A55)*(Projects!$J$5:$J$2426<>'MDOT FTA Detail'!$A$171)*(Projects!$Q$5:$Q$2426))","v":0},{"$f":"SUMPRODUCT((Projects!$A$5:$A$2426='MDOT FTA Detail'!$M$3)*(Projects!$C$5:$C$2426='MDOT FTA Detail'!$C$4)*(Projects!$L$5:$L$2426='MDOT FTA Detail'!$A55)*(Projects!$J$5:$J$2426<>'MDOT FTA Detail'!$A$171)*(Projects!$K$5:$K$2426))","v":0},0,{"$f":"SUMPRODUCT((Projects!$A$5:$A$2426='MDOT FTA Detail'!$M$3)*(Projects!$C$5:$C$2426='MDOT FTA Detail'!$C$4)*(Projects!$L$5:$L$2426='MDOT FTA Detail'!$A55)*(Projects!$J$5:$J$2426<>'MDOT FTA Detail'!$A$171)*(Projects!$Q$5:$Q$2426))","v":0}]
["MG","Minimum Guarantee","MDOT FA",{"$f":"SUMPRODUCT((Projects!$A$5:$A$2426='MDOT FTA Detail'!$D$3)*(Projects!$C$5:$C$2426='MDOT FTA Detail'!$C$4)*(Projects!$L$5:$L$2426='MDOT FTA Detail'!$A56)*(Projects!$J$5:$J$2426<>'MDOT FTA Detail'!$A$171)*(Projects!$K$5:K$2426))","v":0},0,{"$f":"SUMPRODUCT((Projects!$A$5:$A$2426='MDOT FTA Detail'!$D$3)*(Projects!$C$5:$C$2426='MDOT FTA Detail'!$C$4)*(Projects!$L$5:$L$2426='MDOT FTA Detail'!$A56)*(Projects!$J$5:$J$2426<>'MDOT FTA Detail'!$A$171)*(Projects!$Q$5:Q$2426))","v":0},{"$f":"SUMPRODUCT((Projects!$A$5:$A$2426='MDOT FTA Detail'!$G$3)*(Projects!$C$5:$C$2426='MDOT FTA Detail'!$C$4)*(Projects!$L$5:$L$2426='MDOT FTA Detail'!$A56)*(Projects!$J$5:$J$2426<>'MDOT FTA Detail'!$A$171)*(Projects!$K$5:K$2426))","v":0},0,{"$f":"SUMPRODUCT((Projects!$A$5:$A$2426='MDOT FTA Detail'!$G$3)*(Projects!$C$5:$C$2426='MDOT FTA Detail'!$C$4)*(Projects!$L$5:$L$2426='MDOT FTA Detail'!$A56)*(Projects!$J$5:$J$2426<>'MDOT FTA Detail'!$A$171)*(Projects!$Q$5:Q$2426))","v":0},{"$f":"SUMPRODUCT((Projects!$A$5:$A$2426='MDOT FTA Detail'!$J$3)*(Projects!$C$5:$C$2426='MDOT FTA Detail'!$C$4)*(Projects!$L$5:$L$2426='MDOT FTA Detail'!$A56)*(Projects!$J$5:$J$2426<>'MDOT FTA Detail'!$A$171)*(Projects!$K$5:$K$2426))","v":0},0,{"$f":"SUMPRODUCT((Projects!$A$5:$A$2426='MDOT FTA Detail'!$J$3)*(Projects!$C$5:$C$2426='MDOT FTA Detail'!$C$4)*(Projects!$L$5:$L$2426='MDOT FTA Detail'!$A56)*(Projects!$J$5:$J$2426<>'MDOT FTA Detail'!$A$171)*(Projects!$Q$5:$Q$2426))","v":0},{"$f":"SUMPRODUCT((Projects!$A$5:$A$2426='MDOT FTA Detail'!$M$3)*(Projects!$C$5:$C$2426='MDOT FTA Detail'!$C$4)*(Projects!$L$5:$L$2426='MDOT FTA Detail'!$A56)*(Projects!$J$5:$J$2426<>'MDOT FTA Detail'!$A$171)*(Projects!$K$5:$K$2426))","v":0},0,{"$f":"SUMPRODUCT((Projects!$A$5:$A$2426='MDOT FTA Detail'!$M$3)*(Projects!$C$5:$C$2426='MDOT FTA Detail'!$C$4)*(Projects!$L$5:$L$2426='MDOT FTA Detail'!$A56)*(Projects!$J$5:$J$2426<>'MDOT FTA Detail'!$A$171)*(Projects!$Q$5:$Q$2426))","v":0}]
["NCII","National Corridor Infrastructure Improvement - SAFETEA-LU","MDOT FA",{"$f":"SUMPRODUCT((Projects!$A$5:$A$2426='MDOT FTA Detail'!$D$3)*(Projects!$C$5:$C$2426='MDOT FTA Detail'!$C$4)*(Projects!$L$5:$L$2426='MDOT FTA Detail'!$A57)*(Projects!$J$5:$J$2426<>'MDOT FTA Detail'!$A$171)*(Projects!$K$5:K$2426))","v":0},0,{"$f":"SUMPRODUCT((Projects!$A$5:$A$2426='MDOT FTA Detail'!$D$3)*(Projects!$C$5:$C$2426='MDOT FTA Detail'!$C$4)*(Projects!$L$5:$L$2426='MDOT FTA Detail'!$A57)*(Projects!$J$5:$J$2426<>'MDOT FTA Detail'!$A$171)*(Projects!$Q$5:Q$2426))","v":0},{"$f":"SUMPRODUCT((Projects!$A$5:$A$2426='MDOT FTA Detail'!$G$3)*(Projects!$C$5:$C$2426='MDOT FTA Detail'!$C$4)*(Projects!$L$5:$L$2426='MDOT FTA Detail'!$A57)*(Projects!$J$5:$J$2426<>'MDOT FTA Detail'!$A$171)*(Projects!$K$5:K$2426))","v":0},0,{"$f":"SUMPRODUCT((Projects!$A$5:$A$2426='MDOT FTA Detail'!$G$3)*(Projects!$C$5:$C$2426='MDOT FTA Detail'!$C$4)*(Projects!$L$5:$L$2426='MDOT FTA Detail'!$A57)*(Projects!$J$5:$J$2426<>'MDOT FTA Detail'!$A$171)*(Projects!$Q$5:Q$2426))","v":0},{"$f":"SUMPRODUCT((Projects!$A$5:$A$2426='MDOT FTA Detail'!$J$3)*(Projects!$C$5:$C$2426='MDOT FTA Detail'!$C$4)*(Projects!$L$5:$L$2426='MDOT FTA Detail'!$A57)*(Projects!$J$5:$J$2426<>'MDOT FTA Detail'!$A$171)*(Projects!$K$5:$K$2426))","v":0},0,{"$f":"SUMPRODUCT((Projects!$A$5:$A$2426='MDOT FTA Detail'!$J$3)*(Projects!$C$5:$C$2426='MDOT FTA Detail'!$C$4)*(Projects!$L$5:$L$2426='MDOT FTA Detail'!$A57)*(Projects!$J$5:$J$2426<>'MDOT FTA Detail'!$A$171)*(Projects!$Q$5:$Q$2426))","v":0},{"$f":"SUMPRODUCT((Projects!$A$5:$A$2426='MDOT FTA Detail'!$M$3)*(Projects!$C$5:$C$2426='MDOT FTA Detail'!$C$4)*(Projects!$L$5:$L$2426='MDOT FTA Detail'!$A57)*(Projects!$J$5:$J$2426<>'MDOT FTA Detail'!$A$171)*(Projects!$K$5:$K$2426))","v":0},0,{"$f":"SUMPRODUCT((Projects!$A$5:$A$2426='MDOT FTA Detail'!$M$3)*(Projects!$C$5:$C$2426='MDOT FTA Detail'!$C$4)*(Projects!$L$5:$L$2426='MDOT FTA Detail'!$A57)*(Projects!$J$5:$J$2426<>'MDOT FTA Detail'!$A$171)*(Projects!$Q$5:$Q$2426))","v":0}]
["NH","National Highway System","MDOT FA",{"$f":"SUMPRODUCT((Projects!$A$5:$A$2426='MDOT FTA Detail'!$D$3)*(Projects!$C$5:$C$2426='MDOT FTA Detail'!$C$4)*(Projects!$L$5:$L$2426='MDOT FTA Detail'!$A58)*(Projects!$J$5:$J$2426<>'MDOT FTA Detail'!$A$171)*(Projects!$K$5:K$2426))","v":3270574},725180,{"$f":"SUMPRODUCT((Projects!$A$5:$A$2426='MDOT FTA Detail'!$D$3)*(Projects!$C$5:$C$2426='MDOT FTA Detail'!$C$4)*(Projects!$L$5:$L$2426='MDOT FTA Detail'!$A58)*(Projects!$J$5:$J$2426<>'MDOT FTA Detail'!$A$171)*(Projects!$Q$5:Q$2426))","v":3995754},{"$f":"SUMPRODUCT((Projects!$A$5:$A$2426='MDOT FTA Detail'!$G$3)*(Projects!$C$5:$C$2426='MDOT FTA Detail'!$C$4)*(Projects!$L$5:$L$2426='MDOT FTA Detail'!$A58)*(Projects!$J$5:$J$2426<>'MDOT FTA Detail'!$A$171)*(Projects!$K$5:K$2426))","v":0},0,{"$f":"SUMPRODUCT((Projects!$A$5:$A$2426='MDOT FTA Detail'!$G$3)*(Projects!$C$5:$C$2426='MDOT FTA Detail'!$C$4)*(Projects!$L$5:$L$2426='MDOT FTA Detail'!$A58)*(Projects!$J$5:$J$2426<>'MDOT FTA Detail'!$A$171)*(Projects!$Q$5:Q$2426))","v":0},{"$f":"SUMPRODUCT((Projects!$A$5:$A$2426='MDOT FTA Detail'!$J$3)*(Projects!$C$5:$C$2426='MDOT FTA Detail'!$C$4)*(Projects!$L$5:$L$2426='MDOT FTA Detail'!$A58)*(Projects!$J$5:$J$2426<>'MDOT FTA Detail'!$A$171)*(Projects!$K$5:$K$2426))","v":5241278},1162237,{"$f":"SUMPRODUCT((Projects!$A$5:$A$2426='MDOT FTA Detail'!$J$3)*(Projects!$C$5:$C$2426='MDOT FTA Detail'!$C$4)*(Projects!$L$5:$L$2426='MDOT FTA Detail'!$A58)*(Projects!$J$5:$J$2426<>'MDOT FTA Detail'!$A$171)*(Projects!$Q$5:$Q$2426))","v":6403515},{"$f":"SUMPRODUCT((Projects!$A$5:$A$2426='MDOT FTA Detail'!$M$3)*(Projects!$C$5:$C$2426='MDOT FTA Detail'!$C$4)*(Projects!$L$5:$L$2426='MDOT FTA Detail'!$A58)*(Projects!$J$5:$J$2426<>'MDOT FTA Detail'!$A$171)*(Projects!$K$5:$K$2426))","v":0},0,{"$f":"SUMPRODUCT((Projects!$A$5:$A$2426='MDOT FTA Detail'!$M$3)*(Projects!$C$5:$C$2426='MDOT FTA Detail'!$C$4)*(Projects!$L$5:$L$2426='MDOT FTA Detail'!$A58)*(Projects!$J$5:$J$2426<>'MDOT FTA Detail'!$A$171)*(Projects!$Q$5:$Q$2426))","v":0}]
["NHG","National Highway System - Safety - 100% Federal","MDOT FA",{"$f":"SUMPRODUCT((Projects!$A$5:$A$2426='MDOT FTA Detail'!$D$3)*(Projects!$C$5:$C$2426='MDOT FTA Detail'!$C$4)*(Projects!$L$5:$L$2426='MDOT FTA Detail'!$A59)*(Projects!$J$5:$J$2426<>'MDOT FTA Detail'!$A$171)*(Projects!$K$5:K$2426))","v":0},0,{"$f":"SUMPRODUCT((Projects!$A$5:$A$2426='MDOT FTA Detail'!$D$3)*(Projects!$C$5:$C$2426='MDOT FTA Detail'!$C$4)*(Projects!$L$5:$L$2426='MDOT FTA Detail'!$A59)*(Projects!$J$5:$J$2426<>'MDOT FTA Detail'!$A$171)*(Projects!$Q$5:Q$2426))","v":0},{"$f":"SUMPRODUCT((Projects!$A$5:$A$2426='MDOT FTA Detail'!$G$3)*(Projects!$C$5:$C$2426='MDOT FTA Detail'!$C$4)*(Projects!$L$5:$L$2426='MDOT FTA Detail'!$A59)*(Projects!$J$5:$J$2426<>'MDOT FTA Detail'!$A$171)*(Projects!$K$5:K$2426))","v":0},0,{"$f":"SUMPRODUCT((Projects!$A$5:$A$2426='MDOT FTA Detail'!$G$3)*(Projects!$C$5:$C$2426='MDOT FTA Detail'!$C$4)*(Projects!$L$5:$L$2426='MDOT FTA Detail'!$A59)*(Projects!$J$5:$J$2426<>'MDOT FTA Detail'!$A$171)*(Projects!$Q$5:Q$2426))","v":0},{"$f":"SUMPRODUCT((Projects!$A$5:$A$2426='MDOT FTA Detail'!$J$3)*(Projects!$C$5:$C$2426='MDOT FTA Detail'!$C$4)*(Projects!$L$5:$L$2426='MDOT FTA Detail'!$A59)*(Projects!$J$5:$J$2426<>'MDOT FTA Detail'!$A$171)*(Projects!$K$5:$K$2426))","v":0},0,{"$f":"SUMPRODUCT((Projects!$A$5:$A$2426='MDOT FTA Detail'!$J$3)*(Projects!$C$5:$C$2426='MDOT FTA Detail'!$C$4)*(Projects!$L$5:$L$2426='MDOT FTA Detail'!$A59)*(Projects!$J$5:$J$2426<>'MDOT FTA Detail'!$A$171)*(Projects!$Q$5:$Q$2426))","v":0},{"$f":"SUMPRODUCT((Projects!$A$5:$A$2426='MDOT FTA Detail'!$M$3)*(Projects!$C$5:$C$2426='MDOT FTA Detail'!$C$4)*(Projects!$L$5:$L$2426='MDOT FTA Detail'!$A59)*(Projects!$J$5:$J$2426<>'MDOT FTA Detail'!$A$171)*(Projects!$K$5:$K$2426))","v":0},0,{"$f":"SUMPRODUCT((Projects!$A$5:$A$2426='MDOT FTA Detail'!$M$3)*(Projects!$C$5:$C$2426='MDOT FTA Detail'!$C$4)*(Projects!$L$5:$L$2426='MDOT FTA Detail'!$A59)*(Projects!$J$5:$J$2426<>'MDOT FTA Detail'!$A$171)*(Projects!$Q$5:$Q$2426))","v":0}]
["NHI","National Highway Funds on I (Does not Qualify for I)","MDOT FA",{"$f":"SUMPRODUCT((Projects!$A$5:$A$2426='MDOT FTA Detail'!$D$3)*(Projects!$C$5:$C$2426='MDOT FTA Detail'!$C$4)*(Projects!$L$5:$L$2426='MDOT FTA Detail'!$A60)*(Projects!$J$5:$J$2426<>'MDOT FTA Detail'!$A$171)*(Projects!$K$5:K$2426))","v":0},0,{"$f":"SUMPRODUCT((Projects!$A$5:$A$2426='MDOT FTA Detail'!$D$3)*(Projects!$C$5:$C$2426='MDOT FTA Detail'!$C$4)*(Projects!$L$5:$L$2426='MDOT FTA Detail'!$A60)*(Projects!$J$5:$J$2426<>'MDOT FTA Detail'!$A$171)*(Projects!$Q$5:Q$2426))","v":0},{"$f":"SUMPRODUCT((Projects!$A$5:$A$2426='MDOT FTA Detail'!$G$3)*(Projects!$C$5:$C$2426='MDOT FTA Detail'!$C$4)*(Projects!$L$5:$L$2426='MDOT FTA Detail'!$A60)*(Projects!$J$5:$J$2426<>'MDOT FTA Detail'!$A$171)*(Projects!$K$5:K$2426))","v":0},0,{"$f":"SUMPRODUCT((Projects!$A$5:$A$2426='MDOT FTA Detail'!$G$3)*(Projects!$C$5:$C$2426='MDOT FTA Detail'!$C$4)*(Projects!$L$5:$L$2426='MDOT FTA Detail'!$A60)*(Projects!$J$5:$J$2426<>'MDOT FTA Detail'!$A$171)*(Projects!$Q$5:Q$2426))","v":0},{"$f":"SUMPRODUCT((Projects!$A$5:$A$2426='MDOT FTA Detail'!$J$3)*(Projects!$C$5:$C$2426='MDOT FTA Detail'!$C$4)*(Projects!$L$5:$L$2426='MDOT FTA Detail'!$A60)*(Projects!$J$5:$J$2426<>'MDOT FTA Detail'!$A$171)*(Projects!$K$5:$K$2426))","v":0},0,{"$f":"SUMPRODUCT((Projects!$A$5:$A$2426='MDOT FTA Detail'!$J$3)*(Projects!$C$5:$C$2426='MDOT FTA Detail'!$C$4)*(Projects!$L$5:$L$2426='MDOT FTA Detail'!$A60)*(Projects!$J$5:$J$2426<>'MDOT FTA Detail'!$A$171)*(Projects!$Q$5:$Q$2426))","v":0},{"$f":"SUMPRODUCT((Projects!$A$5:$A$2426='MDOT FTA Detail'!$M$3)*(Projects!$C$5:$C$2426='MDOT FTA Detail'!$C$4)*(Projects!$L$5:$L$2426='MDOT FTA Detail'!$A60)*(Projects!$J$5:$J$2426<>'MDOT FTA Detail'!$A$171)*(Projects!$K$5:$K$2426))","v":0},0,{"$f":"SUMPRODUCT((Projects!$A$5:$A$2426='MDOT FTA Detail'!$M$3)*(Projects!$C$5:$C$2426='MDOT FTA Detail'!$C$4)*(Projects!$L$5:$L$2426='MDOT FTA Detail'!$A60)*(Projects!$J$5:$J$2426<>'MDOT FTA Detail'!$A$171)*(Projects!$Q$5:$Q$2426))","v":0}]
["NHIM","National Highway Funds on I (Qualifies for IM)","MDOT FA",{"$f":"SUMPRODUCT((Projects!$A$5:$A$2426='MDOT FTA Detail'!$D$3)*(Projects!$C$5:$C$2426='MDOT FTA Detail'!$C$4)*(Projects!$L$5:$L$2426='MDOT FTA Detail'!$A61)*(Projects!$J$5:$J$2426<>'MDOT FTA Detail'!$A$171)*(Projects!$K$5:K$2426))","v":0},0,{"$f":"SUMPRODUCT((Projects!$A$5:$A$2426='MDOT FTA Detail'!$D$3)*(Projects!$C$5:$C$2426='MDOT FTA Detail'!$C$4)*(Projects!$L$5:$L$2426='MDOT FTA Detail'!$A61)*(Projects!$J$5:$J$2426<>'MDOT FTA Detail'!$A$171)*(Projects!$Q$5:Q$2426))","v":0},{"$f":"SUMPRODUCT((Projects!$A$5:$A$2426='MDOT FTA Detail'!$G$3)*(Projects!$C$5:$C$2426='MDOT FTA Detail'!$C$4)*(Projects!$L$5:$L$2426='MDOT FTA Detail'!$A61)*(Projects!$J$5:$J$2426<>'MDOT FTA Detail'!$A$171)*(Projects!$K$5:K$2426))","v":0},0,{"$f":"SUMPRODUCT((Projects!$A$5:$A$2426='MDOT FTA Detail'!$G$3)*(Projects!$C$5:$C$2426='MDOT FTA Detail'!$C$4)*(Projects!$L$5:$L$2426='MDOT FTA Detail'!$A61)*(Projects!$J$5:$J$2426<>'MDOT FTA Detail'!$A$171)*(Projects!$Q$5:Q$2426))","v":0},{"$f":"SUMPRODUCT((Projects!$A$5:$A$2426='MDOT FTA Detail'!$J$3)*(Projects!$C$5:$C$2426='MDOT FTA Detail'!$C$4)*(Projects!$L$5:$L$2426='MDOT FTA Detail'!$A61)*(Projects!$J$5:$J$2426<>'MDOT FTA Detail'!$A$171)*(Projects!$K$5:$K$2426))","v":0},0,{"$f":"SUMPRODUCT((Projects!$A$5:$A$2426='MDOT FTA Detail'!$J$3)*(Projects!$C$5:$C$2426='MDOT FTA Detail'!$C$4)*(Projects!$L$5:$L$2426='MDOT FTA Detail'!$A61)*(Projects!$J$5:$J$2426<>'MDOT FTA Detail'!$A$171)*(Projects!$Q$5:$Q$2426))","v":0},{"$f":"SUMPRODUCT((Projects!$A$5:$A$2426='MDOT FTA Detail'!$M$3)*(Projects!$C$5:$C$2426='MDOT FTA Detail'!$C$4)*(Projects!$L$5:$L$2426='MDOT FTA Detail'!$A61)*(Projects!$J$5:$J$2426<>'MDOT FTA Detail'!$A$171)*(Projects!$K$5:$K$2426))","v":0},0,{"$f":"SUMPRODUCT((Projects!$A$5:$A$2426='MDOT FTA Detail'!$M$3)*(Projects!$C$5:$C$2426='MDOT FTA Detail'!$C$4)*(Projects!$L$5:$L$2426='MDOT FTA Detail'!$A61)*(Projects!$J$5:$J$2426<>'MDOT FTA Detail'!$A$171)*(Projects!$Q$5:$Q$2426))","v":0}]
["NHS","National Highway System - MDOT Safety Program","MDOT FA",{"$f":"SUMPRODUCT((Projects!$A$5:$A$2426='MDOT FTA Detail'!$D$3)*(Projects!$C$5:$C$2426='MDOT FTA Detail'!$C$4)*(Projects!$L$5:$L$2426='MDOT FTA Detail'!$A62)*(Projects!$J$5:$J$2426<>'MDOT FTA Detail'!$A$171)*(Projects!$K$5:K$2426))","v":0},0,{"$f":"SUMPRODUCT((Projects!$A$5:$A$2426='MDOT FTA Detail'!$D$3)*(Projects!$C$5:$C$2426='MDOT FTA Detail'!$C$4)*(Projects!$L$5:$L$2426='MDOT FTA Detail'!$A62)*(Projects!$J$5:$J$2426<>'MDOT FTA Detail'!$A$171)*(Projects!$Q$5:Q$2426))","v":0},{"$f":"SUMPRODUCT((Projects!$A$5:$A$2426='MDOT FTA Detail'!$G$3)*(Projects!$C$5:$C$2426='MDOT FTA Detail'!$C$4)*(Projects!$L$5:$L$2426='MDOT FTA Detail'!$A62)*(Projects!$J$5:$J$2426<>'MDOT FTA Detail'!$A$171)*(Projects!$K$5:K$2426))","v":0},0,{"$f":"SUMPRODUCT((Projects!$A$5:$A$2426='MDOT FTA Detail'!$G$3)*(Projects!$C$5:$C$2426='MDOT FTA Detail'!$C$4)*(Projects!$L$5:$L$2426='MDOT FTA Detail'!$A62)*(Projects!$J$5:$J$2426<>'MDOT FTA Detail'!$A$171)*(Projects!$Q$5:Q$2426))","v":0},{"$f":"SUMPRODUCT((Projects!$A$5:$A$2426='MDOT FTA Detail'!$J$3)*(Projects!$C$5:$C$2426='MDOT FTA Detail'!$C$4)*(Projects!$L$5:$L$2426='MDOT FTA Detail'!$A62)*(Projects!$J$5:$J$2426<>'MDOT FTA Detail'!$A$171)*(Projects!$K$5:$K$2426))","v":0},0,{"$f":"SUMPRODUCT((Projects!$A$5:$A$2426='MDOT FTA Detail'!$J$3)*(Projects!$C$5:$C$2426='MDOT FTA Detail'!$C$4)*(Projects!$L$5:$L$2426='MDOT FTA Detail'!$A62)*(Projects!$J$5:$J$2426<>'MDOT FTA Detail'!$A$171)*(Projects!$Q$5:$Q$2426))","v":0},{"$f":"SUMPRODUCT((Projects!$A$5:$A$2426='MDOT FTA Detail'!$M$3)*(Projects!$C$5:$C$2426='MDOT FTA Detail'!$C$4)*(Projects!$L$5:$L$2426='MDOT FTA Detail'!$A62)*(Projects!$J$5:$J$2426<>'MDOT FTA Detail'!$A$171)*(Projects!$K$5:$K$2426))","v":0},0,{"$f":"SUMPRODUCT((Projects!$A$5:$A$2426='MDOT FTA Detail'!$M$3)*(Projects!$C$5:$C$2426='MDOT FTA Detail'!$C$4)*(Projects!$L$5:$L$2426='MDOT FTA Detail'!$A62)*(Projects!$J$5:$J$2426<>'MDOT FTA Detail'!$A$171)*(Projects!$Q$5:$Q$2426))","v":0}]
["NRT","National Recreational Trails","MDOT FA",{"$f":"SUMPRODUCT((Projects!$A$5:$A$2426='MDOT FTA Detail'!$D$3)*(Projects!$C$5:$C$2426='MDOT FTA Detail'!$C$4)*(Projects!$L$5:$L$2426='MDOT FTA Detail'!$A63)*(Projects!$J$5:$J$2426<>'MDOT FTA Detail'!$A$171)*(Projects!$K$5:K$2426))","v":0},0,{"$f":"SUMPRODUCT((Projects!$A$5:$A$2426='MDOT FTA Detail'!$D$3)*(Projects!$C$5:$C$2426='MDOT FTA Detail'!$C$4)*(Projects!$L$5:$L$2426='MDOT FTA Detail'!$A63)*(Projects!$J$5:$J$2426<>'MDOT FTA Detail'!$A$171)*(Projects!$Q$5:Q$2426))","v":0},{"$f":"SUMPRODUCT((Projects!$A$5:$A$2426='MDOT FTA Detail'!$G$3)*(Projects!$C$5:$C$2426='MDOT FTA Detail'!$C$4)*(Projects!$L$5:$L$2426='MDOT FTA Detail'!$A63)*(Projects!$J$5:$J$2426<>'MDOT FTA Detail'!$A$171)*(Projects!$K$5:K$2426))","v":0},0,{"$f":"SUMPRODUCT((Projects!$A$5:$A$2426='MDOT FTA Detail'!$G$3)*(Projects!$C$5:$C$2426='MDOT FTA Detail'!$C$4)*(Projects!$L$5:$L$2426='MDOT FTA Detail'!$A63)*(Projects!$J$5:$J$2426<>'MDOT FTA Detail'!$A$171)*(Projects!$Q$5:Q$2426))","v":0},{"$f":"SUMPRODUCT((Projects!$A$5:$A$2426='MDOT FTA Detail'!$J$3)*(Projects!$C$5:$C$2426='MDOT FTA Detail'!$C$4)*(Projects!$L$5:$L$2426='MDOT FTA Detail'!$A63)*(Projects!$J$5:$J$2426<>'MDOT FTA Detail'!$A$171)*(Projects!$K$5:$K$2426))","v":0},0,{"$f":"SUMPRODUCT((Projects!$A$5:$A$2426='MDOT FTA Detail'!$J$3)*(Projects!$C$5:$C$2426='MDOT FTA Detail'!$C$4)*(Projects!$L$5:$L$2426='MDOT FTA Detail'!$A63)*(Projects!$J$5:$J$2426<>'MDOT FTA Detail'!$A$171)*(Projects!$Q$5:$Q$2426))","v":0},{"$f":"SUMPRODUCT((Projects!$A$5:$A$2426='MDOT FTA Detail'!$M$3)*(Projects!$C$5:$C$2426='MDOT FTA Detail'!$C$4)*(Projects!$L$5:$L$2426='MDOT FTA Detail'!$A63)*(Projects!$J$5:$J$2426<>'MDOT FTA Detail'!$A$171)*(Projects!$K$5:$K$2426))","v":0},0,{"$f":"SUMPRODUCT((Projects!$A$5:$A$2426='MDOT FTA Detail'!$M$3)*(Projects!$C$5:$C$2426='MDOT FTA Detail'!$C$4)*(Projects!$L$5:$L$2426='MDOT FTA Detail'!$A63)*(Projects!$J$5:$J$2426<>'MDOT FTA Detail'!$A$171)*(Projects!$Q$5:$Q$2426))","v":0}]
["OFHWA","Other FHWA Funds (Specify source in Comments)","MDOT FA",{"$f":"SUMPRODUCT((Projects!$A$5:$A$2426='MDOT FTA Detail'!$D$3)*(Projects!$C$5:$C$2426='MDOT FTA Detail'!$C$4)*(Projects!$L$5:$L$2426='MDOT FTA Detail'!$A64)*(Projects!$J$5:$J$2426<>'MDOT FTA Detail'!$A$171)*(Projects!$K$5:K$2426))","v":0},0,{"$f":"SUMPRODUCT((Projects!$A$5:$A$2426='MDOT FTA Detail'!$D$3)*(Projects!$C$5:$C$2426='MDOT FTA Detail'!$C$4)*(Projects!$L$5:$L$2426='MDOT FTA Detail'!$A64)*(Projects!$J$5:$J$2426<>'MDOT FTA Detail'!$A$171)*(Projects!$Q$5:Q$2426))","v":0},{"$f":"SUMPRODUCT((Projects!$A$5:$A$2426='MDOT FTA Detail'!$G$3)*(Projects!$C$5:$C$2426='MDOT FTA Detail'!$C$4)*(Projects!$L$5:$L$2426='MDOT FTA Detail'!$A64)*(Projects!$J$5:$J$2426<>'MDOT FTA Detail'!$A$171)*(Projects!$K$5:K$2426))","v":0},0,{"$f":"SUMPRODUCT((Projects!$A$5:$A$2426='MDOT FTA Detail'!$G$3)*(Projects!$C$5:$C$2426='MDOT FTA Detail'!$C$4)*(Projects!$L$5:$L$2426='MDOT FTA Detail'!$A64)*(Projects!$J$5:$J$2426<>'MDOT FTA Detail'!$A$171)*(Projects!$Q$5:Q$2426))","v":0},{"$f":"SUMPRODUCT((Projects!$A$5:$A$2426='MDOT FTA Detail'!$J$3)*(Projects!$C$5:$C$2426='MDOT FTA Detail'!$C$4)*(Projects!$L$5:$L$2426='MDOT FTA Detail'!$A64)*(Projects!$J$5:$J$2426<>'MDOT FTA Detail'!$A$171)*(Projects!$K$5:$K$2426))","v":0},0,{"$f":"SUMPRODUCT((Projects!$A$5:$A$2426='MDOT FTA Detail'!$J$3)*(Projects!$C$5:$C$2426='MDOT FTA Detail'!$C$4)*(Projects!$L$5:$L$2426='MDOT FTA Detail'!$A64)*(Projects!$J$5:$J$2426<>'MDOT FTA Detail'!$A$171)*(Projects!$Q$5:$Q$2426))","v":0},{"$f":"SUMPRODUCT((Projects!$A$5:$A$2426='MDOT FTA Detail'!$M$3)*(Projects!$C$5:$C$2426='MDOT FTA Detail'!$C$4)*(Projects!$L$5:$L$2426='MDOT FTA Detail'!$A64)*(Projects!$J$5:$J$2426<>'MDOT FTA Detail'!$A$171)*(Projects!$K$5:$K$2426))","v":0},0,{"$f":"SUMPRODUCT((Projects!$A$5:$A$2426='MDOT FTA Detail'!$M$3)*(Projects!$C$5:$C$2426='MDOT FTA Detail'!$C$4)*(Projects!$L$5:$L$2426='MDOT FTA Detail'!$A64)*(Projects!$J$5:$J$2426<>'MDOT FTA Detail'!$A$171)*(Projects!$Q$5:$Q$2426))","v":0}]
["PNRS","Projects of National and Regional Significance","MDOT FA",{"$f":"SUMPRODUCT((Projects!$A$5:$A$2426='MDOT FTA Detail'!$D$3)*(Projects!$C$5:$C$2426='MDOT FTA Detail'!$C$4)*(Projects!$L$5:$L$2426='MDOT FTA Detail'!$A65)*(Projects!$J$5:$J$2426<>'MDOT FTA Detail'!$A$171)*(Projects!$K$5:K$2426))","v":0},0,{"$f":"SUMPRODUCT((Projects!$A$5:$A$2426='MDOT FTA Detail'!$D$3)*(Projects!$C$5:$C$2426='MDOT FTA Detail'!$C$4)*(Projects!$L$5:$L$2426='MDOT FTA Detail'!$A65)*(Projects!$J$5:$J$2426<>'MDOT FTA Detail'!$A$171)*(Projects!$Q$5:Q$2426))","v":0},{"$f":"SUMPRODUCT((Projects!$A$5:$A$2426='MDOT FTA Detail'!$G$3)*(Projects!$C$5:$C$2426='MDOT FTA Detail'!$C$4)*(Projects!$L$5:$L$2426='MDOT FTA Detail'!$A65)*(Projects!$J$5:$J$2426<>'MDOT FTA Detail'!$A$171)*(Projects!$K$5:K$2426))","v":0},0,{"$f":"SUMPRODUCT((Projects!$A$5:$A$2426='MDOT FTA Detail'!$G$3)*(Projects!$C$5:$C$2426='MDOT FTA Detail'!$C$4)*(Projects!$L$5:$L$2426='MDOT FTA Detail'!$A65)*(Projects!$J$5:$J$2426<>'MDOT FTA Detail'!$A$171)*(Projects!$Q$5:Q$2426))","v":0},{"$f":"SUMPRODUCT((Projects!$A$5:$A$2426='MDOT FTA Detail'!$J$3)*(Projects!$C$5:$C$2426='MDOT FTA Detail'!$C$4)*(Projects!$L$5:$L$2426='MDOT FTA Detail'!$A65)*(Projects!$J$5:$J$2426<>'MDOT FTA Detail'!$A$171)*(Projects!$K$5:$K$2426))","v":0},0,{"$f":"SUMPRODUCT((Projects!$A$5:$A$2426='MDOT FTA Detail'!$J$3)*(Projects!$C$5:$C$2426='MDOT FTA Detail'!$C$4)*(Projects!$L$5:$L$2426='MDOT FTA Detail'!$A65)*(Projects!$J$5:$J$2426<>'MDOT FTA Detail'!$A$171)*(Projects!$Q$5:$Q$2426))","v":0},{"$f":"SUMPRODUCT((Projects!$A$5:$A$2426='MDOT FTA Detail'!$M$3)*(Projects!$C$5:$C$2426='MDOT FTA Detail'!$C$4)*(Projects!$L$5:$L$2426='MDOT FTA Detail'!$A65)*(Projects!$J$5:$J$2426<>'MDOT FTA Detail'!$A$171)*(Projects!$K$5:$K$2426))","v":0},0,{"$f":"SUMPRODUCT((Projects!$A$5:$A$2426='MDOT FTA Detail'!$M$3)*(Projects!$C$5:$C$2426='MDOT FTA Detail'!$C$4)*(Projects!$L$5:$L$2426='MDOT FTA Detail'!$A65)*(Projects!$J$5:$J$2426<>'MDOT FTA Detail'!$A$171)*(Projects!$Q$5:$Q$2426))","v":0}]
["PRIP","Priority Roads Investment Program","MDOT FA",{"$f":"SUMPRODUCT((Projects!$A$5:$A$2426='MDOT FTA Detail'!$D$3)*(Projects!$C$5:$C$2426='MDOT FTA Detail'!$C$4)*(Projects!$L$5:$L$2426='MDOT FTA Detail'!$A66)*(Projects!$J$5:$J$2426<>'MDOT FTA Detail'!$A$171)*(Projects!$K$5:K$2426))","v":0},{"$f":"F66-D66","v":0},{"$f":"SUMPRODUCT((Projects!$A$5:$A$2426='MDOT FTA Detail'!$D$3)*(Projects!$C$5:$C$2426='MDOT FTA Detail'!$C$4)*(Projects!$L$5:$L$2426='MDOT FTA Detail'!$A66)*(Projects!$J$5:$J$2426<>'MDOT FTA Detail'!$A$171)*(Projects!$Q$5:Q$2426))","v":0},{"$f":"SUMPRODUCT((Projects!$A$5:$A$2426='MDOT FTA Detail'!$G$3)*(Projects!$C$5:$C$2426='MDOT FTA Detail'!$C$4)*(Projects!$L$5:$L$2426='MDOT FTA Detail'!$A66)*(Projects!$J$5:$J$2426<>'MDOT FTA Detail'!$A$171)*(Projects!$K$5:K$2426))","v":0},{"$f":"I66-G66","v":0},{"$f":"SUMPRODUCT((Projects!$A$5:$A$2426='MDOT FTA Detail'!$G$3)*(Projects!$C$5:$C$2426='MDOT FTA Detail'!$C$4)*(Projects!$L$5:$L$2426='MDOT FTA Detail'!$A66)*(Projects!$J$5:$J$2426<>'MDOT FTA Detail'!$A$171)*(Projects!$Q$5:Q$2426))","v":0},{"$f":"SUMPRODUCT((Projects!$A$5:$A$2426='MDOT FTA Detail'!$J$3)*(Projects!$C$5:$C$2426='MDOT FTA Detail'!$C$4)*(Projects!$L$5:$L$2426='MDOT FTA Detail'!$A66)*(Projects!$J$5:$J$2426<>'MDOT FTA Detail'!$A$171)*(Projects!$K$5:$K$2426))","v":0},{"$f":"L66-J66","v":0},{"$f":"SUMPRODUCT((Projects!$A$5:$A$2426='MDOT FTA Detail'!$J$3)*(Projects!$C$5:$C$2426='MDOT FTA Detail'!$C$4)*(Projects!$L$5:$L$2426='MDOT FTA Detail'!$A66)*(Projects!$J$5:$J$2426<>'MDOT FTA Detail'!$A$171)*(Projects!$Q$5:$Q$2426))","v":0},{"$f":"SUMPRODUCT((Projects!$A$5:$A$2426='MDOT FTA Detail'!$M$3)*(Projects!$C$5:$C$2426='MDOT FTA Detail'!$C$4)*(Projects!$L$5:$L$2426='MDOT FTA Detail'!$A66)*(Projects!$J$5:$J$2426<>'MDOT FTA Detail'!$A$171)*(Projects!$K$5:$K$2426))","v":0},{"$f":"O66-M66","v":0},{"$f":"SUMPRODUCT((Projects!$A$5:$A$2426='MDOT FTA Detail'!$M$3)*(Projects!$C$5:$C$2426='MDOT FTA Detail'!$C$4)*(Projects!$L$5:$L$2426='MDOT FTA Detail'!$A66)*(Projects!$J$5:$J$2426<>'MDOT FTA Detail'!$A$171)*(Projects!$Q$5:$Q$2426))","v":0}]
["RP","Research Project","MDOT FA",{"$f":"SUMPRODUCT((Projects!$A$5:$A$2426='MDOT FTA Detail'!$D$3)*(Projects!$C$5:$C$2426='MDOT FTA Detail'!$C$4)*(Projects!$L$5:$L$2426='MDOT FTA Detail'!$A67)*(Projects!$J$5:$J$2426<>'MDOT FTA Detail'!$A$171)*(Projects!$K$5:K$2426))","v":0},0,{"$f":"SUMPRODUCT((Projects!$A$5:$A$2426='MDOT FTA Detail'!$D$3)*(Projects!$C$5:$C$2426='MDOT FTA Detail'!$C$4)*(Projects!$L$5:$L$2426='MDOT FTA Detail'!$A67)*(Projects!$J$5:$J$2426<>'MDOT FTA Detail'!$A$171)*(Projects!$Q$5:Q$2426))","v":0},{"$f":"SUMPRODUCT((Projects!$A$5:$A$2426='MDOT FTA Detail'!$G$3)*(Projects!$C$5:$C$2426='MDOT FTA Detail'!$C$4)*(Projects!$L$5:$L$2426='MDOT FTA Detail'!$A67)*(Projects!$J$5:$J$2426<>'MDOT FTA Detail'!$A$171)*(Projects!$K$5:K$2426))","v":0},0,{"$f":"SUMPRODUCT((Projects!$A$5:$A$2426='MDOT FTA Detail'!$G$3)*(Projects!$C$5:$C$2426='MDOT FTA Detail'!$C$4)*(Projects!$L$5:$L$2426='MDOT FTA Detail'!$A67)*(Projects!$J$5:$J$2426<>'MDOT FTA Detail'!$A$171)*(Projects!$Q$5:Q$2426))","v":0},{"$f":"SUMPRODUCT((Projects!$A$5:$A$2426='MDOT FTA Detail'!$J$3)*(Projects!$C$5:$C$2426='MDOT FTA Detail'!$C$4)*(Projects!$L$5:$L$2426='MDOT FTA Detail'!$A67)*(Projects!$J$5:$J$2426<>'MDOT FTA Detail'!$A$171)*(Projects!$K$5:$K$2426))","v":0},0,{"$f":"SUMPRODUCT((Projects!$A$5:$A$2426='MDOT FTA Detail'!$J$3)*(Projects!$C$5:$C$2426='MDOT FTA Detail'!$C$4)*(Projects!$L$5:$L$2426='MDOT FTA Detail'!$A67)*(Projects!$J$5:$J$2426<>'MDOT FTA Detail'!$A$171)*(Projects!$Q$5:$Q$2426))","v":0},{"$f":"SUMPRODUCT((Projects!$A$5:$A$2426='MDOT FTA Detail'!$M$3)*(Projects!$C$5:$C$2426='MDOT FTA Detail'!$C$4)*(Projects!$L$5:$L$2426='MDOT FTA Detail'!$A67)*(Projects!$J$5:$J$2426<>'MDOT FTA Detail'!$A$171)*(Projects!$K$5:$K$2426))","v":0},0,{"$f":"SUMPRODUCT((Projects!$A$5:$A$2426='MDOT FTA Detail'!$M$3)*(Projects!$C$5:$C$2426='MDOT FTA Detail'!$C$4)*(Projects!$L$5:$L$2426='MDOT FTA Detail'!$A67)*(Projects!$J$5:$J$2426<>'MDOT FTA Detail'!$A$171)*(Projects!$Q$5:$Q$2426))","v":0}]
["RPH","American Recovery and Reinvestment Act","MDOT FA",{"$f":"SUMPRODUCT((Projects!$A$5:$A$2426='MDOT FTA Detail'!$D$3)*(Projects!$C$5:$C$2426='MDOT FTA Detail'!$C$4)*(Projects!$L$5:$L$2426='MDOT FTA Detail'!$A68)*(Projects!$J$5:$J$2426<>'MDOT FTA Detail'!$A$171)*(Projects!$K$5:K$2426))","v":0},0,{"$f":"SUMPRODUCT((Projects!$A$5:$A$2426='MDOT FTA Detail'!$D$3)*(Projects!$C$5:$C$2426='MDOT FTA Detail'!$C$4)*(Projects!$L$5:$L$2426='MDOT FTA Detail'!$A68)*(Projects!$J$5:$J$2426<>'MDOT FTA Detail'!$A$171)*(Projects!$Q$5:Q$2426))","v":0},{"$f":"SUMPRODUCT((Projects!$A$5:$A$2426='MDOT FTA Detail'!$G$3)*(Projects!$C$5:$C$2426='MDOT FTA Detail'!$C$4)*(Projects!$L$5:$L$2426='MDOT FTA Detail'!$A68)*(Projects!$J$5:$J$2426<>'MDOT FTA Detail'!$A$171)*(Projects!$K$5:K$2426))","v":0},0,{"$f":"SUMPRODUCT((Projects!$A$5:$A$2426='MDOT FTA Detail'!$G$3)*(Projects!$C$5:$C$2426='MDOT FTA Detail'!$C$4)*(Projects!$L$5:$L$2426='MDOT FTA Detail'!$A68)*(Projects!$J$5:$J$2426<>'MDOT FTA Detail'!$A$171)*(Projects!$Q$5:Q$2426))","v":0},{"$f":"SUMPRODUCT((Projects!$A$5:$A$2426='MDOT FTA Detail'!$J$3)*(Projects!$C$5:$C$2426='MDOT FTA Detail'!$C$4)*(Projects!$L$5:$L$2426='MDOT FTA Detail'!$A68)*(Projects!$J$5:$J$2426<>'MDOT FTA Detail'!$A$171)*(Projects!$K$5:$K$2426))","v":0},0,{"$f":"SUMPRODUCT((Projects!$A$5:$A$2426='MDOT FTA Detail'!$J$3)*(Projects!$C$5:$C$2426='MDOT FTA Detail'!$C$4)*(Projects!$L$5:$L$2426='MDOT FTA Detail'!$A68)*(Projects!$J$5:$J$2426<>'MDOT FTA Detail'!$A$171)*(Projects!$Q$5:$Q$2426))","v":0},{"$f":"SUMPRODUCT((Projects!$A$5:$A$2426='MDOT FTA Detail'!$M$3)*(Projects!$C$5:$C$2426='MDOT FTA Detail'!$C$4)*(Projects!$L$5:$L$2426='MDOT FTA Detail'!$A68)*(Projects!$J$5:$J$2426<>'MDOT FTA Detail'!$A$171)*(Projects!$K$5:$K$2426))","v":0},0,{"$f":"SUMPRODUCT((Projects!$A$5:$A$2426='MDOT FTA Detail'!$M$3)*(Projects!$C$5:$C$2426='MDOT FTA Detail'!$C$4)*(Projects!$L$5:$L$2426='MDOT FTA Detail'!$A68)*(Projects!$J$5:$J$2426<>'MDOT FTA Detail'!$A$171)*(Projects!$Q$5:$Q$2426))","v":0}]
["SBD","Scenic Byways - Discretionary","MDOT FA",{"$f":"SUMPRODUCT((Projects!$A$5:$A$2426='MDOT FTA Detail'!$D$3)*(Projects!$C$5:$C$2426='MDOT FTA Detail'!$C$4)*(Projects!$L$5:$L$2426='MDOT FTA Detail'!$A69)*(Projects!$J$5:$J$2426<>'MDOT FTA Detail'!$A$171)*(Projects!$K$5:K$2426))","v":0},0,{"$f":"SUMPRODUCT((Projects!$A$5:$A$2426='MDOT FTA Detail'!$D$3)*(Projects!$C$5:$C$2426='MDOT FTA Detail'!$C$4)*(Projects!$L$5:$L$2426='MDOT FTA Detail'!$A69)*(Projects!$J$5:$J$2426<>'MDOT FTA Detail'!$A$171)*(Projects!$Q$5:Q$2426))","v":0},{"$f":"SUMPRODUCT((Projects!$A$5:$A$2426='MDOT FTA Detail'!$G$3)*(Projects!$C$5:$C$2426='MDOT FTA Detail'!$C$4)*(Projects!$L$5:$L$2426='MDOT FTA Detail'!$A69)*(Projects!$J$5:$J$2426<>'MDOT FTA Detail'!$A$171)*(Projects!$K$5:K$2426))","v":0},0,{"$f":"SUMPRODUCT((Projects!$A$5:$A$2426='MDOT FTA Detail'!$G$3)*(Projects!$C$5:$C$2426='MDOT FTA Detail'!$C$4)*(Projects!$L$5:$L$2426='MDOT FTA Detail'!$A69)*(Projects!$J$5:$J$2426<>'MDOT FTA Detail'!$A$171)*(Projects!$Q$5:Q$2426))","v":0},{"$f":"SUMPRODUCT((Projects!$A$5:$A$2426='MDOT FTA Detail'!$J$3)*(Projects!$C$5:$C$2426='MDOT FTA Detail'!$C$4)*(Projects!$L$5:$L$2426='MDOT FTA Detail'!$A69)*(Projects!$J$5:$J$2426<>'MDOT FTA Detail'!$A$171)*(Projects!$K$5:$K$2426))","v":0},0,{"$f":"SUMPRODUCT((Projects!$A$5:$A$2426='MDOT FTA Detail'!$J$3)*(Projects!$C$5:$C$2426='MDOT FTA Detail'!$C$4)*(Projects!$L$5:$L$2426='MDOT FTA Detail'!$A69)*(Projects!$J$5:$J$2426<>'MDOT FTA Detail'!$A$171)*(Projects!$Q$5:$Q$2426))","v":0},{"$f":"SUMPRODUCT((Projects!$A$5:$A$2426='MDOT FTA Detail'!$M$3)*(Projects!$C$5:$C$2426='MDOT FTA Detail'!$C$4)*(Projects!$L$5:$L$2426='MDOT FTA Detail'!$A69)*(Projects!$J$5:$J$2426<>'MDOT FTA Detail'!$A$171)*(Projects!$K$5:$K$2426))","v":0},0,{"$f":"SUMPRODUCT((Projects!$A$5:$A$2426='MDOT FTA Detail'!$M$3)*(Projects!$C$5:$C$2426='MDOT FTA Detail'!$C$4)*(Projects!$L$5:$L$2426='MDOT FTA Detail'!$A69)*(Projects!$J$5:$J$2426<>'MDOT FTA Detail'!$A$171)*(Projects!$Q$5:$Q$2426))","v":0}]
["SIB","State Infrastructure Bank","MDOT FA",{"$f":"SUMPRODUCT((Projects!$A$5:$A$2426='MDOT FTA Detail'!$D$3)*(Projects!$C$5:$C$2426='MDOT FTA Detail'!$C$4)*(Projects!$L$5:$L$2426='MDOT FTA Detail'!$A70)*(Projects!$J$5:$J$2426<>'MDOT FTA Detail'!$A$171)*(Projects!$K$5:K$2426))","v":0},0,{"$f":"SUMPRODUCT((Projects!$A$5:$A$2426='MDOT FTA Detail'!$D$3)*(Projects!$C$5:$C$2426='MDOT FTA Detail'!$C$4)*(Projects!$L$5:$L$2426='MDOT FTA Detail'!$A70)*(Projects!$J$5:$J$2426<>'MDOT FTA Detail'!$A$171)*(Projects!$Q$5:Q$2426))","v":0},{"$f":"SUMPRODUCT((Projects!$A$5:$A$2426='MDOT FTA Detail'!$G$3)*(Projects!$C$5:$C$2426='MDOT FTA Detail'!$C$4)*(Projects!$L$5:$L$2426='MDOT FTA Detail'!$A70)*(Projects!$J$5:$J$2426<>'MDOT FTA Detail'!$A$171)*(Projects!$K$5:K$2426))","v":0},0,{"$f":"SUMPRODUCT((Projects!$A$5:$A$2426='MDOT FTA Detail'!$G$3)*(Projects!$C$5:$C$2426='MDOT FTA Detail'!$C$4)*(Projects!$L$5:$L$2426='MDOT FTA Detail'!$A70)*(Projects!$J$5:$J$2426<>'MDOT FTA Detail'!$A$171)*(Projects!$Q$5:Q$2426))","v":0},{"$f":"SUMPRODUCT((Projects!$A$5:$A$2426='MDOT FTA Detail'!$J$3)*(Projects!$C$5:$C$2426='MDOT FTA Detail'!$C$4)*(Projects!$L$5:$L$2426='MDOT FTA Detail'!$A70)*(Projects!$J$5:$J$2426<>'MDOT FTA Detail'!$A$171)*(Projects!$K$5:$K$2426))","v":0},0,{"$f":"SUMPRODUCT((Projects!$A$5:$A$2426='MDOT FTA Detail'!$J$3)*(Projects!$C$5:$C$2426='MDOT FTA Detail'!$C$4)*(Projects!$L$5:$L$2426='MDOT FTA Detail'!$A70)*(Projects!$J$5:$J$2426<>'MDOT FTA Detail'!$A$171)*(Projects!$Q$5:$Q$2426))","v":0},{"$f":"SUMPRODUCT((Projects!$A$5:$A$2426='MDOT FTA Detail'!$M$3)*(Projects!$C$5:$C$2426='MDOT FTA Detail'!$C$4)*(Projects!$L$5:$L$2426='MDOT FTA Detail'!$A70)*(Projects!$J$5:$J$2426<>'MDOT FTA Detail'!$A$171)*(Projects!$K$5:$K$2426))","v":0},0,{"$f":"SUMPRODUCT((Projects!$A$5:$A$2426='MDOT FTA Detail'!$M$3)*(Projects!$C$5:$C$2426='MDOT FTA Detail'!$C$4)*(Projects!$L$5:$L$2426='MDOT FTA Detail'!$A70)*(Projects!$J$5:$J$2426<>'MDOT FTA Detail'!$A$171)*(Projects!$Q$5:$Q$2426))","v":0}]
["SLG","Surface Transportation Safety","MDOT FA",{"$f":"SUMPRODUCT((Projects!$A$5:$A$2426='MDOT FTA Detail'!$D$3)*(Projects!$C$5:$C$2426='MDOT FTA Detail'!$C$4)*(Projects!$L$5:$L$2426='MDOT FTA Detail'!$A71)*(Projects!$J$5:$J$2426<>'MDOT FTA Detail'!$A$171)*(Projects!$K$5:K$2426))","v":0},0,{"$f":"SUMPRODUCT((Projects!$A$5:$A$2426='MDOT FTA Detail'!$D$3)*(Projects!$C$5:$C$2426='MDOT FTA Detail'!$C$4)*(Projects!$L$5:$L$2426='MDOT FTA Detail'!$A71)*(Projects!$J$5:$J$2426<>'MDOT FTA Detail'!$A$171)*(Projects!$Q$5:Q$2426))","v":0},{"$f":"SUMPRODUCT((Projects!$A$5:$A$2426='MDOT FTA Detail'!$G$3)*(Projects!$C$5:$C$2426='MDOT FTA Detail'!$C$4)*(Projects!$L$5:$L$2426='MDOT FTA Detail'!$A71)*(Projects!$J$5:$J$2426<>'MDOT FTA Detail'!$A$171)*(Projects!$K$5:K$2426))","v":0},0,{"$f":"SUMPRODUCT((Projects!$A$5:$A$2426='MDOT FTA Detail'!$G$3)*(Projects!$C$5:$C$2426='MDOT FTA Detail'!$C$4)*(Projects!$L$5:$L$2426='MDOT FTA Detail'!$A71)*(Projects!$J$5:$J$2426<>'MDOT FTA Detail'!$A$171)*(Projects!$Q$5:Q$2426))","v":0},{"$f":"SUMPRODUCT((Projects!$A$5:$A$2426='MDOT FTA Detail'!$J$3)*(Projects!$C$5:$C$2426='MDOT FTA Detail'!$C$4)*(Projects!$L$5:$L$2426='MDOT FTA Detail'!$A71)*(Projects!$J$5:$J$2426<>'MDOT FTA Detail'!$A$171)*(Projects!$K$5:$K$2426))","v":0},0,{"$f":"SUMPRODUCT((Projects!$A$5:$A$2426='MDOT FTA Detail'!$J$3)*(Projects!$C$5:$C$2426='MDOT FTA Detail'!$C$4)*(Projects!$L$5:$L$2426='MDOT FTA Detail'!$A71)*(Projects!$J$5:$J$2426<>'MDOT FTA Detail'!$A$171)*(Projects!$Q$5:$Q$2426))","v":0},{"$f":"SUMPRODUCT((Projects!$A$5:$A$2426='MDOT FTA Detail'!$M$3)*(Projects!$C$5:$C$2426='MDOT FTA Detail'!$C$4)*(Projects!$L$5:$L$2426='MDOT FTA Detail'!$A71)*(Projects!$J$5:$J$2426<>'MDOT FTA Detail'!$A$171)*(Projects!$K$5:$K$2426))","v":0},0,{"$f":"SUMPRODUCT((Projects!$A$5:$A$2426='MDOT FTA Detail'!$M$3)*(Projects!$C$5:$C$2426='MDOT FTA Detail'!$C$4)*(Projects!$L$5:$L$2426='MDOT FTA Detail'!$A71)*(Projects!$J$5:$J$2426<>'MDOT FTA Detail'!$A$171)*(Projects!$Q$5:$Q$2426))","v":0}]
["SRSE","Surface Transportation Safety Highway Crossing Hazard Elimination","MDOT FA",{"$f":"SUMPRODUCT((Projects!$A$5:$A$2426='MDOT FTA Detail'!$D$3)*(Projects!$C$5:$C$2426='MDOT FTA Detail'!$C$4)*(Projects!$L$5:$L$2426='MDOT FTA Detail'!$A72)*(Projects!$J$5:$J$2426<>'MDOT FTA Detail'!$A$171)*(Projects!$K$5:K$2426))","v":0},0,{"$f":"SUMPRODUCT((Projects!$A$5:$A$2426='MDOT FTA Detail'!$D$3)*(Projects!$C$5:$C$2426='MDOT FTA Detail'!$C$4)*(Projects!$L$5:$L$2426='MDOT FTA Detail'!$A72)*(Projects!$J$5:$J$2426<>'MDOT FTA Detail'!$A$171)*(Projects!$Q$5:Q$2426))","v":0},{"$f":"SUMPRODUCT((Projects!$A$5:$A$2426='MDOT FTA Detail'!$G$3)*(Projects!$C$5:$C$2426='MDOT FTA Detail'!$C$4)*(Projects!$L$5:$L$2426='MDOT FTA Detail'!$A72)*(Projects!$J$5:$J$2426<>'MDOT FTA Detail'!$A$171)*(Projects!$K$5:K$2426))","v":0},0,{"$f":"SUMPRODUCT((Projects!$A$5:$A$2426='MDOT FTA Detail'!$G$3)*(Projects!$C$5:$C$2426='MDOT FTA Detail'!$C$4)*(Projects!$L$5:$L$2426='MDOT FTA Detail'!$A72)*(Projects!$J$5:$J$2426<>'MDOT FTA Detail'!$A$171)*(Projects!$Q$5:Q$2426))","v":0},{"$f":"SUMPRODUCT((Projects!$A$5:$A$2426='MDOT FTA Detail'!$J$3)*(Projects!$C$5:$C$2426='MDOT FTA Detail'!$C$4)*(Projects!$L$5:$L$2426='MDOT FTA Detail'!$A72)*(Projects!$J$5:$J$2426<>'MDOT FTA Detail'!$A$171)*(Projects!$K$5:$K$2426))","v":0},0,{"$f":"SUMPRODUCT((Projects!$A$5:$A$2426='MDOT FTA Detail'!$J$3)*(Projects!$C$5:$C$2426='MDOT FTA Detail'!$C$4)*(Projects!$L$5:$L$2426='MDOT FTA Detail'!$A72)*(Projects!$J$5:$J$2426<>'MDOT FTA Detail'!$A$171)*(Projects!$Q$5:$Q$2426))","v":0},{"$f":"SUMPRODUCT((Projects!$A$5:$A$2426='MDOT FTA Detail'!$M$3)*(Projects!$C$5:$C$2426='MDOT FTA Detail'!$C$4)*(Projects!$L$5:$L$2426='MDOT FTA Detail'!$A72)*(Projects!$J$5:$J$2426<>'MDOT FTA Detail'!$A$171)*(Projects!$K$5:$K$2426))","v":0},0,{"$f":"SUMPRODUCT((Projects!$A$5:$A$2426='MDOT FTA Detail'!$M$3)*(Projects!$C$5:$C$2426='MDOT FTA Detail'!$C$4)*(Projects!$L$5:$L$2426='MDOT FTA Detail'!$A72)*(Projects!$J$5:$J$2426<>'MDOT FTA Detail'!$A$171)*(Projects!$Q$5:$Q$2426))","v":0}]
["SRHG","Surface Transportation Safety Highway Crossing Protection Devices 100%","MDOT FA",{"$f":"SUMPRODUCT((Projects!$A$5:$A$2426='MDOT FTA Detail'!$D$3)*(Projects!$C$5:$C$2426='MDOT FTA Detail'!$C$4)*(Projects!$L$5:$L$2426='MDOT FTA Detail'!$A73)*(Projects!$J$5:$J$2426<>'MDOT FTA Detail'!$A$171)*(Projects!$K$5:K$2426))","v":0},{"$f":"F73-D73","v":0},{"$f":"SUMPRODUCT((Projects!$A$5:$A$2426='MDOT FTA Detail'!$D$3)*(Projects!$C$5:$C$2426='MDOT FTA Detail'!$C$4)*(Projects!$L$5:$L$2426='MDOT FTA Detail'!$A73)*(Projects!$J$5:$J$2426<>'MDOT FTA Detail'!$A$171)*(Projects!$Q$5:Q$2426))","v":0},{"$f":"SUMPRODUCT((Projects!$A$5:$A$2426='MDOT FTA Detail'!$G$3)*(Projects!$C$5:$C$2426='MDOT FTA Detail'!$C$4)*(Projects!$L$5:$L$2426='MDOT FTA Detail'!$A73)*(Projects!$J$5:$J$2426<>'MDOT FTA Detail'!$A$171)*(Projects!$K$5:K$2426))","v":0},{"$f":"I73-G73","v":0},{"$f":"SUMPRODUCT((Projects!$A$5:$A$2426='MDOT FTA Detail'!$G$3)*(Projects!$C$5:$C$2426='MDOT FTA Detail'!$C$4)*(Projects!$L$5:$L$2426='MDOT FTA Detail'!$A73)*(Projects!$J$5:$J$2426<>'MDOT FTA Detail'!$A$171)*(Projects!$Q$5:Q$2426))","v":0},{"$f":"SUMPRODUCT((Projects!$A$5:$A$2426='MDOT FTA Detail'!$J$3)*(Projects!$C$5:$C$2426='MDOT FTA Detail'!$C$4)*(Projects!$L$5:$L$2426='MDOT FTA Detail'!$A73)*(Projects!$J$5:$J$2426<>'MDOT FTA Detail'!$A$171)*(Projects!$K$5:$K$2426))","v":0},{"$f":"L73-J73","v":0},{"$f":"SUMPRODUCT((Projects!$A$5:$A$2426='MDOT FTA Detail'!$J$3)*(Projects!$C$5:$C$2426='MDOT FTA Detail'!$C$4)*(Projects!$L$5:$L$2426='MDOT FTA Detail'!$A73)*(Projects!$J$5:$J$2426<>'MDOT FTA Detail'!$A$171)*(Projects!$Q$5:$Q$2426))","v":0},{"$f":"SUMPRODUCT((Projects!$A$5:$A$2426='MDOT FTA Detail'!$M$3)*(Projects!$C$5:$C$2426='MDOT FTA Detail'!$C$4)*(Projects!$L$5:$L$2426='MDOT FTA Detail'!$A73)*(Projects!$J$5:$J$2426<>'MDOT FTA Detail'!$A$171)*(Projects!$K$5:$K$2426))","v":0},{"$f":"O73-M73","v":0},{"$f":"SUMPRODUCT((Projects!$A$5:$A$2426='MDOT FTA Detail'!$M$3)*(Projects!$C$5:$C$2426='MDOT FTA Detail'!$C$4)*(Projects!$L$5:$L$2426='MDOT FTA Detail'!$A73)*(Projects!$J$5:$J$2426<>'MDOT FTA Detail'!$A$171)*(Projects!$Q$5:$Q$2426))","v":0}]
["SRPG","Safe Routes to School - Either - SAFETEA-LU","MDOT FA",{"$f":"SUMPRODUCT((Projects!$A$5:$A$2426='MDOT FTA Detail'!$D$3)*(Projects!$C$5:$C$2426='MDOT FTA Detail'!$C$4)*(Projects!$L$5:$L$2426='MDOT FTA Detail'!$A74)*(Projects!$J$5:$J$2426<>'MDOT FTA Detail'!$A$171)*(Projects!$K$5:K$2426))","v":0},{"$f":"F74-D74","v":0},{"$f":"SUMPRODUCT((Projects!$A$5:$A$2426='MDOT FTA Detail'!$D$3)*(Projects!$C$5:$C$2426='MDOT FTA Detail'!$C$4)*(Projects!$L$5:$L$2426='MDOT FTA Detail'!$A74)*(Projects!$J$5:$J$2426<>'MDOT FTA Detail'!$A$171)*(Projects!$Q$5:Q$2426))","v":0},{"$f":"SUMPRODUCT((Projects!$A$5:$A$2426='MDOT FTA Detail'!$G$3)*(Projects!$C$5:$C$2426='MDOT FTA Detail'!$C$4)*(Projects!$L$5:$L$2426='MDOT FTA Detail'!$A74)*(Projects!$J$5:$J$2426<>'MDOT FTA Detail'!$A$171)*(Projects!$K$5:K$2426))","v":0},{"$f":"I74-G74","v":0},{"$f":"SUMPRODUCT((Projects!$A$5:$A$2426='MDOT FTA Detail'!$G$3)*(Projects!$C$5:$C$2426='MDOT FTA Detail'!$C$4)*(Projects!$L$5:$L$2426='MDOT FTA Detail'!$A74)*(Projects!$J$5:$J$2426<>'MDOT FTA Detail'!$A$171)*(Projects!$Q$5:Q$2426))","v":0},{"$f":"SUMPRODUCT((Projects!$A$5:$A$2426='MDOT FTA Detail'!$J$3)*(Projects!$C$5:$C$2426='MDOT FTA Detail'!$C$4)*(Projects!$L$5:$L$2426='MDOT FTA Detail'!$A74)*(Projects!$J$5:$J$2426<>'MDOT FTA Detail'!$A$171)*(Projects!$K$5:$K$2426))","v":0},{"$f":"L74-J74","v":0},{"$f":"SUMPRODUCT((Projects!$A$5:$A$2426='MDOT FTA Detail'!$J$3)*(Projects!$C$5:$C$2426='MDOT FTA Detail'!$C$4)*(Projects!$L$5:$L$2426='MDOT FTA Detail'!$A74)*(Projects!$J$5:$J$2426<>'MDOT FTA Detail'!$A$171)*(Projects!$Q$5:$Q$2426))","v":0},{"$f":"SUMPRODUCT((Projects!$A$5:$A$2426='MDOT FTA Detail'!$M$3)*(Projects!$C$5:$C$2426='MDOT FTA Detail'!$C$4)*(Projects!$L$5:$L$2426='MDOT FTA Detail'!$A74)*(Projects!$J$5:$J$2426<>'MDOT FTA Detail'!$A$171)*(Projects!$K$5:$K$2426))","v":0},{"$f":"O74-M74","v":0},{"$f":"SUMPRODUCT((Projects!$A$5:$A$2426='MDOT FTA Detail'!$M$3)*(Projects!$C$5:$C$2426='MDOT FTA Detail'!$C$4)*(Projects!$L$5:$L$2426='MDOT FTA Detail'!$A74)*(Projects!$J$5:$J$2426<>'MDOT FTA Detail'!$A$171)*(Projects!$Q$5:$Q$2426))","v":0}]
["SRSI","Safe Routes to School - Infrastructure - SAFETEA-LU","MDOT FA",{"$f":"SUMPRODUCT((Projects!$A$5:$A$2426='MDOT FTA Detail'!$D$3)*(Projects!$C$5:$C$2426='MDOT FTA Detail'!$C$4)*(Projects!$L$5:$L$2426='MDOT FTA Detail'!$A75)*(Projects!$J$5:$J$2426<>'MDOT FTA Detail'!$A$171)*(Projects!$K$5:K$2426))","v":0},{"$f":"F75-D75","v":0},{"$f":"SUMPRODUCT((Projects!$A$5:$A$2426='MDOT FTA Detail'!$D$3)*(Projects!$C$5:$C$2426='MDOT FTA Detail'!$C$4)*(Projects!$L$5:$L$2426='MDOT FTA Detail'!$A75)*(Projects!$J$5:$J$2426<>'MDOT FTA Detail'!$A$171)*(Projects!$Q$5:Q$2426))","v":0},{"$f":"SUMPRODUCT((Projects!$A$5:$A$2426='MDOT FTA Detail'!$G$3)*(Projects!$C$5:$C$2426='MDOT FTA Detail'!$C$4)*(Projects!$L$5:$L$2426='MDOT FTA Detail'!$A75)*(Projects!$J$5:$J$2426<>'MDOT FTA Detail'!$A$171)*(Projects!$K$5:K$2426))","v":0},{"$f":"I75-G75","v":0},{"$f":"SUMPRODUCT((Projects!$A$5:$A$2426='MDOT FTA Detail'!$G$3)*(Projects!$C$5:$C$2426='MDOT FTA Detail'!$C$4)*(Projects!$L$5:$L$2426='MDOT FTA Detail'!$A75)*(Projects!$J$5:$J$2426<>'MDOT FTA Detail'!$A$171)*(Projects!$Q$5:Q$2426))","v":0},{"$f":"SUMPRODUCT((Projects!$A$5:$A$2426='MDOT FTA Detail'!$J$3)*(Projects!$C$5:$C$2426='MDOT FTA Detail'!$C$4)*(Projects!$L$5:$L$2426='MDOT FTA Detail'!$A75)*(Projects!$J$5:$J$2426<>'MDOT FTA Detail'!$A$171)*(Projects!$K$5:$K$2426))","v":0},{"$f":"L75-J75","v":0},{"$f":"SUMPRODUCT((Projects!$A$5:$A$2426='MDOT FTA Detail'!$J$3)*(Projects!$C$5:$C$2426='MDOT FTA Detail'!$C$4)*(Projects!$L$5:$L$2426='MDOT FTA Detail'!$A75)*(Projects!$J$5:$J$2426<>'MDOT FTA Detail'!$A$171)*(Projects!$Q$5:$Q$2426))","v":0},{"$f":"SUMPRODUCT((Projects!$A$5:$A$2426='MDOT FTA Detail'!$M$3)*(Projects!$C$5:$C$2426='MDOT FTA Detail'!$C$4)*(Projects!$L$5:$L$2426='MDOT FTA Detail'!$A75)*(Projects!$J$5:$J$2426<>'MDOT FTA Detail'!$A$171)*(Projects!$K$5:$K$2426))","v":0},{"$f":"O75-M75","v":0},{"$f":"SUMPRODUCT((Projects!$A$5:$A$2426='MDOT FTA Detail'!$M$3)*(Projects!$C$5:$C$2426='MDOT FTA Detail'!$C$4)*(Projects!$L$5:$L$2426='MDOT FTA Detail'!$A75)*(Projects!$J$5:$J$2426<>'MDOT FTA Detail'!$A$171)*(Projects!$Q$5:$Q$2426))","v":0}]
["SRSN","Safe Routes to School - Non-infrastructure - SAFETEA-LU","MDOT FA",{"$f":"SUMPRODUCT((Projects!$A$5:$A$2426='MDOT FTA Detail'!$D$3)*(Projects!$C$5:$C$2426='MDOT FTA Detail'!$C$4)*(Projects!$L$5:$L$2426='MDOT FTA Detail'!$A76)*(Projects!$J$5:$J$2426<>'MDOT FTA Detail'!$A$171)*(Projects!$K$5:K$2426))","v":0},0,{"$f":"SUMPRODUCT((Projects!$A$5:$A$2426='MDOT FTA Detail'!$D$3)*(Projects!$C$5:$C$2426='MDOT FTA Detail'!$C$4)*(Projects!$L$5:$L$2426='MDOT FTA Detail'!$A76)*(Projects!$J$5:$J$2426<>'MDOT FTA Detail'!$A$171)*(Projects!$Q$5:Q$2426))","v":0},{"$f":"SUMPRODUCT((Projects!$A$5:$A$2426='MDOT FTA Detail'!$G$3)*(Projects!$C$5:$C$2426='MDOT FTA Detail'!$C$4)*(Projects!$L$5:$L$2426='MDOT FTA Detail'!$A76)*(Projects!$J$5:$J$2426<>'MDOT FTA Detail'!$A$171)*(Projects!$K$5:K$2426))","v":0},0,{"$f":"SUMPRODUCT((Projects!$A$5:$A$2426='MDOT FTA Detail'!$G$3)*(Projects!$C$5:$C$2426='MDOT FTA Detail'!$C$4)*(Projects!$L$5:$L$2426='MDOT FTA Detail'!$A76)*(Projects!$J$5:$J$2426<>'MDOT FTA Detail'!$A$171)*(Projects!$Q$5:Q$2426))","v":0},{"$f":"SUMPRODUCT((Projects!$A$5:$A$2426='MDOT FTA Detail'!$J$3)*(Projects!$C$5:$C$2426='MDOT FTA Detail'!$C$4)*(Projects!$L$5:$L$2426='MDOT FTA Detail'!$A76)*(Projects!$J$5:$J$2426<>'MDOT FTA Detail'!$A$171)*(Projects!$K$5:$K$2426))","v":0},0,{"$f":"SUMPRODUCT((Projects!$A$5:$A$2426='MDOT FTA Detail'!$J$3)*(Projects!$C$5:$C$2426='MDOT FTA Detail'!$C$4)*(Projects!$L$5:$L$2426='MDOT FTA Detail'!$A76)*(Projects!$J$5:$J$2426<>'MDOT FTA Detail'!$A$171)*(Projects!$Q$5:$Q$2426))","v":0},{"$f":"SUMPRODUCT((Projects!$A$5:$A$2426='MDOT FTA Detail'!$M$3)*(Projects!$C$5:$C$2426='MDOT FTA Detail'!$C$4)*(Projects!$L$5:$L$2426='MDOT FTA Detail'!$A76)*(Projects!$J$5:$J$2426<>'MDOT FTA Detail'!$A$171)*(Projects!$K$5:$K$2426))","v":0},0,{"$f":"SUMPRODUCT((Projects!$A$5:$A$2426='MDOT FTA Detail'!$M$3)*(Projects!$C$5:$C$2426='MDOT FTA Detail'!$C$4)*(Projects!$L$5:$L$2426='MDOT FTA Detail'!$A76)*(Projects!$J$5:$J$2426<>'MDOT FTA Detail'!$A$171)*(Projects!$Q$5:$Q$2426))","v":0}]
["SST","Supportive Services Training","MDOT FA",{"$f":"SUMPRODUCT((Projects!$A$5:$A$2426='MDOT FTA Detail'!$D$3)*(Projects!$C$5:$C$2426='MDOT FTA Detail'!$C$4)*(Projects!$L$5:$L$2426='MDOT FTA Detail'!$A77)*(Projects!$J$5:$J$2426<>'MDOT FTA Detail'!$A$171)*(Projects!$K$5:K$2426))","v":0},0,{"$f":"SUMPRODUCT((Projects!$A$5:$A$2426='MDOT FTA Detail'!$D$3)*(Projects!$C$5:$C$2426='MDOT FTA Detail'!$C$4)*(Projects!$L$5:$L$2426='MDOT FTA Detail'!$A77)*(Projects!$J$5:$J$2426<>'MDOT FTA Detail'!$A$171)*(Projects!$Q$5:Q$2426))","v":0},{"$f":"SUMPRODUCT((Projects!$A$5:$A$2426='MDOT FTA Detail'!$G$3)*(Projects!$C$5:$C$2426='MDOT FTA Detail'!$C$4)*(Projects!$L$5:$L$2426='MDOT FTA Detail'!$A77)*(Projects!$J$5:$J$2426<>'MDOT FTA Detail'!$A$171)*(Projects!$K$5:K$2426))","v":0},0,{"$f":"SUMPRODUCT((Projects!$A$5:$A$2426='MDOT FTA Detail'!$G$3)*(Projects!$C$5:$C$2426='MDOT FTA Detail'!$C$4)*(Projects!$L$5:$L$2426='MDOT FTA Detail'!$A77)*(Projects!$J$5:$J$2426<>'MDOT FTA Detail'!$A$171)*(Projects!$Q$5:Q$2426))","v":0},{"$f":"SUMPRODUCT((Projects!$A$5:$A$2426='MDOT FTA Detail'!$J$3)*(Projects!$C$5:$C$2426='MDOT FTA Detail'!$C$4)*(Projects!$L$5:$L$2426='MDOT FTA Detail'!$A77)*(Projects!$J$5:$J$2426<>'MDOT FTA Detail'!$A$171)*(Projects!$K$5:$K$2426))","v":0},0,{"$f":"SUMPRODUCT((Projects!$A$5:$A$2426='MDOT FTA Detail'!$J$3)*(Projects!$C$5:$C$2426='MDOT FTA Detail'!$C$4)*(Projects!$L$5:$L$2426='MDOT FTA Detail'!$A77)*(Projects!$J$5:$J$2426<>'MDOT FTA Detail'!$A$171)*(Projects!$Q$5:$Q$2426))","v":0},{"$f":"SUMPRODUCT((Projects!$A$5:$A$2426='MDOT FTA Detail'!$M$3)*(Projects!$C$5:$C$2426='MDOT FTA Detail'!$C$4)*(Projects!$L$5:$L$2426='MDOT FTA Detail'!$A77)*(Projects!$J$5:$J$2426<>'MDOT FTA Detail'!$A$171)*(Projects!$K$5:$K$2426))","v":0},0,{"$f":"SUMPRODUCT((Projects!$A$5:$A$2426='MDOT FTA Detail'!$M$3)*(Projects!$C$5:$C$2426='MDOT FTA Detail'!$C$4)*(Projects!$L$5:$L$2426='MDOT FTA Detail'!$A77)*(Projects!$J$5:$J$2426<>'MDOT FTA Detail'!$A$171)*(Projects!$Q$5:$Q$2426))","v":0}]
["ST","Surface Transportation Program (STP) - Any Area","MDOT FA",{"$f":"SUMPRODUCT((Projects!$A$5:$A$2426='MDOT FTA Detail'!$D$3)*(Projects!$C$5:$C$2426='MDOT FTA Detail'!$C$4)*(Projects!$L$5:$L$2426='MDOT FTA Detail'!$A78)*(Projects!$J$5:$J$2426<>'MDOT FTA Detail'!$A$171)*(Projects!$K$5:K$2426))","v":108937},24156,{"$f":"SUMPRODUCT((Projects!$A$5:$A$2426='MDOT FTA Detail'!$D$3)*(Projects!$C$5:$C$2426='MDOT FTA Detail'!$C$4)*(Projects!$L$5:$L$2426='MDOT FTA Detail'!$A78)*(Projects!$J$5:$J$2426<>'MDOT FTA Detail'!$A$171)*(Projects!$Q$5:Q$2426))","v":133093},{"$f":"SUMPRODUCT((Projects!$A$5:$A$2426='MDOT FTA Detail'!$G$3)*(Projects!$C$5:$C$2426='MDOT FTA Detail'!$C$4)*(Projects!$L$5:$L$2426='MDOT FTA Detail'!$A78)*(Projects!$J$5:$J$2426<>'MDOT FTA Detail'!$A$171)*(Projects!$K$5:K$2426))","v":69573},15427,{"$f":"SUMPRODUCT((Projects!$A$5:$A$2426='MDOT FTA Detail'!$G$3)*(Projects!$C$5:$C$2426='MDOT FTA Detail'!$C$4)*(Projects!$L$5:$L$2426='MDOT FTA Detail'!$A78)*(Projects!$J$5:$J$2426<>'MDOT FTA Detail'!$A$171)*(Projects!$Q$5:Q$2426))","v":85000},{"$f":"SUMPRODUCT((Projects!$A$5:$A$2426='MDOT FTA Detail'!$J$3)*(Projects!$C$5:$C$2426='MDOT FTA Detail'!$C$4)*(Projects!$L$5:$L$2426='MDOT FTA Detail'!$A78)*(Projects!$J$5:$J$2426<>'MDOT FTA Detail'!$A$171)*(Projects!$K$5:$K$2426))","v":0},0,{"$f":"SUMPRODUCT((Projects!$A$5:$A$2426='MDOT FTA Detail'!$J$3)*(Projects!$C$5:$C$2426='MDOT FTA Detail'!$C$4)*(Projects!$L$5:$L$2426='MDOT FTA Detail'!$A78)*(Projects!$J$5:$J$2426<>'MDOT FTA Detail'!$A$171)*(Projects!$Q$5:$Q$2426))","v":0},{"$f":"SUMPRODUCT((Projects!$A$5:$A$2426='MDOT FTA Detail'!$M$3)*(Projects!$C$5:$C$2426='MDOT FTA Detail'!$C$4)*(Projects!$L$5:$L$2426='MDOT FTA Detail'!$A78)*(Projects!$J$5:$J$2426<>'MDOT FTA Detail'!$A$171)*(Projects!$K$5:$K$2426))","v":0},0,{"$f":"SUMPRODUCT((Projects!$A$5:$A$2426='MDOT FTA Detail'!$M$3)*(Projects!$C$5:$C$2426='MDOT FTA Detail'!$C$4)*(Projects!$L$5:$L$2426='MDOT FTA Detail'!$A78)*(Projects!$J$5:$J$2426<>'MDOT FTA Detail'!$A$171)*(Projects!$Q$5:$Q$2426))","v":0}]
["STE","STP - Enhancement","MDOT FA",{"$f":"SUMPRODUCT((Projects!$A$5:$A$2426='MDOT FTA Detail'!$D$3)*(Projects!$C$5:$C$2426='MDOT FTA Detail'!$C$4)*(Projects!$L$5:$L$2426='MDOT FTA Detail'!$A79)*(Projects!$J$5:$J$2426<>'MDOT FTA Detail'!$A$171)*(Projects!$K$5:K$2426))","v":0},0,{"$f":"SUMPRODUCT((Projects!$A$5:$A$2426='MDOT FTA Detail'!$D$3)*(Projects!$C$5:$C$2426='MDOT FTA Detail'!$C$4)*(Projects!$L$5:$L$2426='MDOT FTA Detail'!$A79)*(Projects!$J$5:$J$2426<>'MDOT FTA Detail'!$A$171)*(Projects!$Q$5:Q$2426))","v":0},{"$f":"SUMPRODUCT((Projects!$A$5:$A$2426='MDOT FTA Detail'!$G$3)*(Projects!$C$5:$C$2426='MDOT FTA Detail'!$C$4)*(Projects!$L$5:$L$2426='MDOT FTA Detail'!$A79)*(Projects!$J$5:$J$2426<>'MDOT FTA Detail'!$A$171)*(Projects!$K$5:K$2426))","v":0},0,{"$f":"SUMPRODUCT((Projects!$A$5:$A$2426='MDOT FTA Detail'!$G$3)*(Projects!$C$5:$C$2426='MDOT FTA Detail'!$C$4)*(Projects!$L$5:$L$2426='MDOT FTA Detail'!$A79)*(Projects!$J$5:$J$2426<>'MDOT FTA Detail'!$A$171)*(Projects!$Q$5:Q$2426))","v":0},{"$f":"SUMPRODUCT((Projects!$A$5:$A$2426='MDOT FTA Detail'!$J$3)*(Projects!$C$5:$C$2426='MDOT FTA Detail'!$C$4)*(Projects!$L$5:$L$2426='MDOT FTA Detail'!$A79)*(Projects!$J$5:$J$2426<>'MDOT FTA Detail'!$A$171)*(Projects!$K$5:$K$2426))","v":0},0,{"$f":"SUMPRODUCT((Projects!$A$5:$A$2426='MDOT FTA Detail'!$J$3)*(Projects!$C$5:$C$2426='MDOT FTA Detail'!$C$4)*(Projects!$L$5:$L$2426='MDOT FTA Detail'!$A79)*(Projects!$J$5:$J$2426<>'MDOT FTA Detail'!$A$171)*(Projects!$Q$5:$Q$2426))","v":0},{"$f":"SUMPRODUCT((Projects!$A$5:$A$2426='MDOT FTA Detail'!$M$3)*(Projects!$C$5:$C$2426='MDOT FTA Detail'!$C$4)*(Projects!$L$5:$L$2426='MDOT FTA Detail'!$A79)*(Projects!$J$5:$J$2426<>'MDOT FTA Detail'!$A$171)*(Projects!$K$5:$K$2426))","v":0},0,{"$f":"SUMPRODUCT((Projects!$A$5:$A$2426='MDOT FTA Detail'!$M$3)*(Projects!$C$5:$C$2426='MDOT FTA Detail'!$C$4)*(Projects!$L$5:$L$2426='MDOT FTA Detail'!$A79)*(Projects!$J$5:$J$2426<>'MDOT FTA Detail'!$A$171)*(Projects!$Q$5:$Q$2426))","v":0}]
["STG","STP - Safety - 100% Federal for ST","MDOT FA",{"$f":"SUMPRODUCT((Projects!$A$5:$A$2426='MDOT FTA Detail'!$D$3)*(Projects!$C$5:$C$2426='MDOT FTA Detail'!$C$4)*(Projects!$L$5:$L$2426='MDOT FTA Detail'!$A80)*(Projects!$J$5:$J$2426<>'MDOT FTA Detail'!$A$171)*(Projects!$K$5:K$2426))","v":0},0,{"$f":"SUMPRODUCT((Projects!$A$5:$A$2426='MDOT FTA Detail'!$D$3)*(Projects!$C$5:$C$2426='MDOT FTA Detail'!$C$4)*(Projects!$L$5:$L$2426='MDOT FTA Detail'!$A80)*(Projects!$J$5:$J$2426<>'MDOT FTA Detail'!$A$171)*(Projects!$Q$5:Q$2426))","v":0},{"$f":"SUMPRODUCT((Projects!$A$5:$A$2426='MDOT FTA Detail'!$G$3)*(Projects!$C$5:$C$2426='MDOT FTA Detail'!$C$4)*(Projects!$L$5:$L$2426='MDOT FTA Detail'!$A80)*(Projects!$J$5:$J$2426<>'MDOT FTA Detail'!$A$171)*(Projects!$K$5:K$2426))","v":0},0,{"$f":"SUMPRODUCT((Projects!$A$5:$A$2426='MDOT FTA Detail'!$G$3)*(Projects!$C$5:$C$2426='MDOT FTA Detail'!$C$4)*(Projects!$L$5:$L$2426='MDOT FTA Detail'!$A80)*(Projects!$J$5:$J$2426<>'MDOT FTA Detail'!$A$171)*(Projects!$Q$5:Q$2426))","v":0},{"$f":"SUMPRODUCT((Projects!$A$5:$A$2426='MDOT FTA Detail'!$J$3)*(Projects!$C$5:$C$2426='MDOT FTA Detail'!$C$4)*(Projects!$L$5:$L$2426='MDOT FTA Detail'!$A80)*(Projects!$J$5:$J$2426<>'MDOT FTA Detail'!$A$171)*(Projects!$K$5:$K$2426))","v":0},0,{"$f":"SUMPRODUCT((Projects!$A$5:$A$2426='MDOT FTA Detail'!$J$3)*(Projects!$C$5:$C$2426='MDOT FTA Detail'!$C$4)*(Projects!$L$5:$L$2426='MDOT FTA Detail'!$A80)*(Projects!$J$5:$J$2426<>'MDOT FTA Detail'!$A$171)*(Projects!$Q$5:$Q$2426))","v":0},{"$f":"SUMPRODUCT((Projects!$A$5:$A$2426='MDOT FTA Detail'!$M$3)*(Projects!$C$5:$C$2426='MDOT FTA Detail'!$C$4)*(Projects!$L$5:$L$2426='MDOT FTA Detail'!$A80)*(Projects!$J$5:$J$2426<>'MDOT FTA Detail'!$A$171)*(Projects!$K$5:$K$2426))","v":0},0,{"$f":"SUMPRODUCT((Projects!$A$5:$A$2426='MDOT FTA Detail'!$M$3)*(Projects!$C$5:$C$2426='MDOT FTA Detail'!$C$4)*(Projects!$L$5:$L$2426='MDOT FTA Detail'!$A80)*(Projects!$J$5:$J$2426<>'MDOT FTA Detail'!$A$171)*(Projects!$Q$5:$Q$2426))","v":0}]
["STH","STP - Safety - Hazard Elimination","MDOT FA",{"$f":"SUMPRODUCT((Projects!$A$5:$A$2426='MDOT FTA Detail'!$D$3)*(Projects!$C$5:$C$2426='MDOT FTA Detail'!$C$4)*(Projects!$L$5:$L$2426='MDOT FTA Detail'!$A81)*(Projects!$J$5:$J$2426<>'MDOT FTA Detail'!$A$171)*(Projects!$K$5:K$2426))","v":0},0,{"$f":"SUMPRODUCT((Projects!$A$5:$A$2426='MDOT FTA Detail'!$D$3)*(Projects!$C$5:$C$2426='MDOT FTA Detail'!$C$4)*(Projects!$L$5:$L$2426='MDOT FTA Detail'!$A81)*(Projects!$J$5:$J$2426<>'MDOT FTA Detail'!$A$171)*(Projects!$Q$5:Q$2426))","v":0},{"$f":"SUMPRODUCT((Projects!$A$5:$A$2426='MDOT FTA Detail'!$G$3)*(Projects!$C$5:$C$2426='MDOT FTA Detail'!$C$4)*(Projects!$L$5:$L$2426='MDOT FTA Detail'!$A81)*(Projects!$J$5:$J$2426<>'MDOT FTA Detail'!$A$171)*(Projects!$K$5:K$2426))","v":0},0,{"$f":"SUMPRODUCT((Projects!$A$5:$A$2426='MDOT FTA Detail'!$G$3)*(Projects!$C$5:$C$2426='MDOT FTA Detail'!$C$4)*(Projects!$L$5:$L$2426='MDOT FTA Detail'!$A81)*(Projects!$J$5:$J$2426<>'MDOT FTA Detail'!$A$171)*(Projects!$Q$5:Q$2426))","v":0},{"$f":"SUMPRODUCT((Projects!$A$5:$A$2426='MDOT FTA Detail'!$J$3)*(Projects!$C$5:$C$2426='MDOT FTA Detail'!$C$4)*(Projects!$L$5:$L$2426='MDOT FTA Detail'!$A81)*(Projects!$J$5:$J$2426<>'MDOT FTA Detail'!$A$171)*(Projects!$K$5:$K$2426))","v":0},0,{"$f":"SUMPRODUCT((Projects!$A$5:$A$2426='MDOT FTA Detail'!$J$3)*(Projects!$C$5:$C$2426='MDOT FTA Detail'!$C$4)*(Projects!$L$5:$L$2426='MDOT FTA Detail'!$A81)*(Projects!$J$5:$J$2426<>'MDOT FTA Detail'!$A$171)*(Projects!$Q$5:$Q$2426))","v":0},{"$f":"SUMPRODUCT((Projects!$A$5:$A$2426='MDOT FTA Detail'!$M$3)*(Projects!$C$5:$C$2426='MDOT FTA Detail'!$C$4)*(Projects!$L$5:$L$2426='MDOT FTA Detail'!$A81)*(Projects!$J$5:$J$2426<>'MDOT FTA Detail'!$A$171)*(Projects!$K$5:$K$2426))","v":0},0,{"$f":"SUMPRODUCT((Projects!$A$5:$A$2426='MDOT FTA Detail'!$M$3)*(Projects!$C$5:$C$2426='MDOT FTA Detail'!$C$4)*(Projects!$L$5:$L$2426='MDOT FTA Detail'!$A81)*(Projects!$J$5:$J$2426<>'MDOT FTA Detail'!$A$171)*(Projects!$Q$5:$Q$2426))","v":0}]
["STI","STP - Interstate (90%)","MDOT FA",{"$f":"SUMPRODUCT((Projects!$A$5:$A$2426='MDOT FTA Detail'!$D$3)*(Projects!$C$5:$C$2426='MDOT FTA Detail'!$C$4)*(Projects!$L$5:$L$2426='MDOT FTA Detail'!$A82)*(Projects!$J$5:$J$2426<>'MDOT FTA Detail'!$A$171)*(Projects!$K$5:K$2426))","v":0},0,{"$f":"SUMPRODUCT((Projects!$A$5:$A$2426='MDOT FTA Detail'!$D$3)*(Projects!$C$5:$C$2426='MDOT FTA Detail'!$C$4)*(Projects!$L$5:$L$2426='MDOT FTA Detail'!$A82)*(Projects!$J$5:$J$2426<>'MDOT FTA Detail'!$A$171)*(Projects!$Q$5:Q$2426))","v":0},{"$f":"SUMPRODUCT((Projects!$A$5:$A$2426='MDOT FTA Detail'!$G$3)*(Projects!$C$5:$C$2426='MDOT FTA Detail'!$C$4)*(Projects!$L$5:$L$2426='MDOT FTA Detail'!$A82)*(Projects!$J$5:$J$2426<>'MDOT FTA Detail'!$A$171)*(Projects!$K$5:K$2426))","v":0},0,{"$f":"SUMPRODUCT((Projects!$A$5:$A$2426='MDOT FTA Detail'!$G$3)*(Projects!$C$5:$C$2426='MDOT FTA Detail'!$C$4)*(Projects!$L$5:$L$2426='MDOT FTA Detail'!$A82)*(Projects!$J$5:$J$2426<>'MDOT FTA Detail'!$A$171)*(Projects!$Q$5:Q$2426))","v":0},{"$f":"SUMPRODUCT((Projects!$A$5:$A$2426='MDOT FTA Detail'!$J$3)*(Projects!$C$5:$C$2426='MDOT FTA Detail'!$C$4)*(Projects!$L$5:$L$2426='MDOT FTA Detail'!$A82)*(Projects!$J$5:$J$2426<>'MDOT FTA Detail'!$A$171)*(Projects!$K$5:$K$2426))","v":0},0,{"$f":"SUMPRODUCT((Projects!$A$5:$A$2426='MDOT FTA Detail'!$J$3)*(Projects!$C$5:$C$2426='MDOT FTA Detail'!$C$4)*(Projects!$L$5:$L$2426='MDOT FTA Detail'!$A82)*(Projects!$J$5:$J$2426<>'MDOT FTA Detail'!$A$171)*(Projects!$Q$5:$Q$2426))","v":0},{"$f":"SUMPRODUCT((Projects!$A$5:$A$2426='MDOT FTA Detail'!$M$3)*(Projects!$C$5:$C$2426='MDOT FTA Detail'!$C$4)*(Projects!$L$5:$L$2426='MDOT FTA Detail'!$A82)*(Projects!$J$5:$J$2426<>'MDOT FTA Detail'!$A$171)*(Projects!$K$5:$K$2426))","v":0},0,{"$f":"SUMPRODUCT((Projects!$A$5:$A$2426='MDOT FTA Detail'!$M$3)*(Projects!$C$5:$C$2426='MDOT FTA Detail'!$C$4)*(Projects!$L$5:$L$2426='MDOT FTA Detail'!$A82)*(Projects!$J$5:$J$2426<>'MDOT FTA Detail'!$A$171)*(Projects!$Q$5:$Q$2426))","v":0}]
["STL","STP - Local","MDOT FA",{"$f":"SUMPRODUCT((Projects!$A$5:$A$2426='MDOT FTA Detail'!$D$3)*(Projects!$C$5:$C$2426='MDOT FTA Detail'!$C$4)*(Projects!$L$5:$L$2426='MDOT FTA Detail'!$A83)*(Projects!$J$5:$J$2426<>'MDOT FTA Detail'!$A$171)*(Projects!$K$5:K$2426))","v":0},0,{"$f":"SUMPRODUCT((Projects!$A$5:$A$2426='MDOT FTA Detail'!$D$3)*(Projects!$C$5:$C$2426='MDOT FTA Detail'!$C$4)*(Projects!$L$5:$L$2426='MDOT FTA Detail'!$A83)*(Projects!$J$5:$J$2426<>'MDOT FTA Detail'!$A$171)*(Projects!$Q$5:Q$2426))","v":0},{"$f":"SUMPRODUCT((Projects!$A$5:$A$2426='MDOT FTA Detail'!$G$3)*(Projects!$C$5:$C$2426='MDOT FTA Detail'!$C$4)*(Projects!$L$5:$L$2426='MDOT FTA Detail'!$A83)*(Projects!$J$5:$J$2426<>'MDOT FTA Detail'!$A$171)*(Projects!$K$5:K$2426))","v":0},0,{"$f":"SUMPRODUCT((Projects!$A$5:$A$2426='MDOT FTA Detail'!$G$3)*(Projects!$C$5:$C$2426='MDOT FTA Detail'!$C$4)*(Projects!$L$5:$L$2426='MDOT FTA Detail'!$A83)*(Projects!$J$5:$J$2426<>'MDOT FTA Detail'!$A$171)*(Projects!$Q$5:Q$2426))","v":0},{"$f":"SUMPRODUCT((Projects!$A$5:$A$2426='MDOT FTA Detail'!$J$3)*(Projects!$C$5:$C$2426='MDOT FTA Detail'!$C$4)*(Projects!$L$5:$L$2426='MDOT FTA Detail'!$A83)*(Projects!$J$5:$J$2426<>'MDOT FTA Detail'!$A$171)*(Projects!$K$5:$K$2426))","v":0},0,{"$f":"SUMPRODUCT((Projects!$A$5:$A$2426='MDOT FTA Detail'!$J$3)*(Projects!$C$5:$C$2426='MDOT FTA Detail'!$C$4)*(Projects!$L$5:$L$2426='MDOT FTA Detail'!$A83)*(Projects!$J$5:$J$2426<>'MDOT FTA Detail'!$A$171)*(Projects!$Q$5:$Q$2426))","v":0},{"$f":"SUMPRODUCT((Projects!$A$5:$A$2426='MDOT FTA Detail'!$M$3)*(Projects!$C$5:$C$2426='MDOT FTA Detail'!$C$4)*(Projects!$L$5:$L$2426='MDOT FTA Detail'!$A83)*(Projects!$J$5:$J$2426<>'MDOT FTA Detail'!$A$171)*(Projects!$K$5:$K$2426))","v":0},0,{"$f":"SUMPRODUCT((Projects!$A$5:$A$2426='MDOT FTA Detail'!$M$3)*(Projects!$C$5:$C$2426='MDOT FTA Detail'!$C$4)*(Projects!$L$5:$L$2426='MDOT FTA Detail'!$A83)*(Projects!$J$5:$J$2426<>'MDOT FTA Detail'!$A$171)*(Projects!$Q$5:$Q$2426))","v":0}]
["STLG","Surface Transportation Safety 100% Federal for STL Items","MDOT FA",{"$f":"SUMPRODUCT((Projects!$A$5:$A$2426='MDOT FTA Detail'!$D$3)*(Projects!$C$5:$C$2426='MDOT FTA Detail'!$C$4)*(Projects!$L$5:$L$2426='MDOT FTA Detail'!$A84)*(Projects!$J$5:$J$2426<>'MDOT FTA Detail'!$A$171)*(Projects!$K$5:K$2426))","v":0},{"$f":"F84-D84","v":0},{"$f":"SUMPRODUCT((Projects!$A$5:$A$2426='MDOT FTA Detail'!$D$3)*(Projects!$C$5:$C$2426='MDOT FTA Detail'!$C$4)*(Projects!$L$5:$L$2426='MDOT FTA Detail'!$A84)*(Projects!$J$5:$J$2426<>'MDOT FTA Detail'!$A$171)*(Projects!$Q$5:Q$2426))","v":0},{"$f":"SUMPRODUCT((Projects!$A$5:$A$2426='MDOT FTA Detail'!$G$3)*(Projects!$C$5:$C$2426='MDOT FTA Detail'!$C$4)*(Projects!$L$5:$L$2426='MDOT FTA Detail'!$A84)*(Projects!$J$5:$J$2426<>'MDOT FTA Detail'!$A$171)*(Projects!$K$5:K$2426))","v":0},{"$f":"I84-G84","v":0},{"$f":"SUMPRODUCT((Projects!$A$5:$A$2426='MDOT FTA Detail'!$G$3)*(Projects!$C$5:$C$2426='MDOT FTA Detail'!$C$4)*(Projects!$L$5:$L$2426='MDOT FTA Detail'!$A84)*(Projects!$J$5:$J$2426<>'MDOT FTA Detail'!$A$171)*(Projects!$Q$5:Q$2426))","v":0},{"$f":"SUMPRODUCT((Projects!$A$5:$A$2426='MDOT FTA Detail'!$J$3)*(Projects!$C$5:$C$2426='MDOT FTA Detail'!$C$4)*(Projects!$L$5:$L$2426='MDOT FTA Detail'!$A84)*(Projects!$J$5:$J$2426<>'MDOT FTA Detail'!$A$171)*(Projects!$K$5:$K$2426))","v":0},{"$f":"L84-J84","v":0},{"$f":"SUMPRODUCT((Projects!$A$5:$A$2426='MDOT FTA Detail'!$J$3)*(Projects!$C$5:$C$2426='MDOT FTA Detail'!$C$4)*(Projects!$L$5:$L$2426='MDOT FTA Detail'!$A84)*(Projects!$J$5:$J$2426<>'MDOT FTA Detail'!$A$171)*(Projects!$Q$5:$Q$2426))","v":0},{"$f":"SUMPRODUCT((Projects!$A$5:$A$2426='MDOT FTA Detail'!$M$3)*(Projects!$C$5:$C$2426='MDOT FTA Detail'!$C$4)*(Projects!$L$5:$L$2426='MDOT FTA Detail'!$A84)*(Projects!$J$5:$J$2426<>'MDOT FTA Detail'!$A$171)*(Projects!$K$5:$K$2426))","v":0},{"$f":"O84-M84","v":0},{"$f":"SUMPRODUCT((Projects!$A$5:$A$2426='MDOT FTA Detail'!$M$3)*(Projects!$C$5:$C$2426='MDOT FTA Detail'!$C$4)*(Projects!$L$5:$L$2426='MDOT FTA Detail'!$A84)*(Projects!$J$5:$J$2426<>'MDOT FTA Detail'!$A$171)*(Projects!$Q$5:$Q$2426))","v":0}]
["STR","STP - Safety - Rail-Highway Crossing Protection","MDOT FA",{"$f":"SUMPRODUCT((Projects!$A$5:$A$2426='MDOT FTA Detail'!$D$3)*(Projects!$C$5:$C$2426='MDOT FTA Detail'!$C$4)*(Projects!$L$5:$L$2426='MDOT FTA Detail'!$A85)*(Projects!$J$5:$J$2426<>'MDOT FTA Detail'!$A$171)*(Projects!$K$5:K$2426))","v":0},0,{"$f":"SUMPRODUCT((Projects!$A$5:$A$2426='MDOT FTA Detail'!$D$3)*(Projects!$C$5:$C$2426='MDOT FTA Detail'!$C$4)*(Projects!$L$5:$L$2426='MDOT FTA Detail'!$A85)*(Projects!$J$5:$J$2426<>'MDOT FTA Detail'!$A$171)*(Projects!$Q$5:Q$2426))","v":0},{"$f":"SUMPRODUCT((Projects!$A$5:$A$2426='MDOT FTA Detail'!$G$3)*(Projects!$C$5:$C$2426='MDOT FTA Detail'!$C$4)*(Projects!$L$5:$L$2426='MDOT FTA Detail'!$A85)*(Projects!$J$5:$J$2426<>'MDOT FTA Detail'!$A$171)*(Projects!$K$5:K$2426))","v":0},0,{"$f":"SUMPRODUCT((Projects!$A$5:$A$2426='MDOT FTA Detail'!$G$3)*(Projects!$C$5:$C$2426='MDOT FTA Detail'!$C$4)*(Projects!$L$5:$L$2426='MDOT FTA Detail'!$A85)*(Projects!$J$5:$J$2426<>'MDOT FTA Detail'!$A$171)*(Projects!$Q$5:Q$2426))","v":0},{"$f":"SUMPRODUCT((Projects!$A$5:$A$2426='MDOT FTA Detail'!$J$3)*(Projects!$C$5:$C$2426='MDOT FTA Detail'!$C$4)*(Projects!$L$5:$L$2426='MDOT FTA Detail'!$A85)*(Projects!$J$5:$J$2426<>'MDOT FTA Detail'!$A$171)*(Projects!$K$5:$K$2426))","v":0},0,{"$f":"SUMPRODUCT((Projects!$A$5:$A$2426='MDOT FTA Detail'!$J$3)*(Projects!$C$5:$C$2426='MDOT FTA Detail'!$C$4)*(Projects!$L$5:$L$2426='MDOT FTA Detail'!$A85)*(Projects!$J$5:$J$2426<>'MDOT FTA Detail'!$A$171)*(Projects!$Q$5:$Q$2426))","v":0},{"$f":"SUMPRODUCT((Projects!$A$5:$A$2426='MDOT FTA Detail'!$M$3)*(Projects!$C$5:$C$2426='MDOT FTA Detail'!$C$4)*(Projects!$L$5:$L$2426='MDOT FTA Detail'!$A85)*(Projects!$J$5:$J$2426<>'MDOT FTA Detail'!$A$171)*(Projects!$K$5:$K$2426))","v":0},0,{"$f":"SUMPRODUCT((Projects!$A$5:$A$2426='MDOT FTA Detail'!$M$3)*(Projects!$C$5:$C$2426='MDOT FTA Detail'!$C$4)*(Projects!$L$5:$L$2426='MDOT FTA Detail'!$A85)*(Projects!$J$5:$J$2426<>'MDOT FTA Detail'!$A$171)*(Projects!$Q$5:$Q$2426))","v":0}]
["STRG","STP - Safety Rail-Highway & Incentive Payment - 100% Federal","MDOT FA",{"$f":"SUMPRODUCT((Projects!$A$5:$A$2426='MDOT FTA Detail'!$D$3)*(Projects!$C$5:$C$2426='MDOT FTA Detail'!$C$4)*(Projects!$L$5:$L$2426='MDOT FTA Detail'!$A86)*(Projects!$J$5:$J$2426<>'MDOT FTA Detail'!$A$171)*(Projects!$K$5:K$2426))","v":0},0,{"$f":"SUMPRODUCT((Projects!$A$5:$A$2426='MDOT FTA Detail'!$D$3)*(Projects!$C$5:$C$2426='MDOT FTA Detail'!$C$4)*(Projects!$L$5:$L$2426='MDOT FTA Detail'!$A86)*(Projects!$J$5:$J$2426<>'MDOT FTA Detail'!$A$171)*(Projects!$Q$5:Q$2426))","v":0},{"$f":"SUMPRODUCT((Projects!$A$5:$A$2426='MDOT FTA Detail'!$G$3)*(Projects!$C$5:$C$2426='MDOT FTA Detail'!$C$4)*(Projects!$L$5:$L$2426='MDOT FTA Detail'!$A86)*(Projects!$J$5:$J$2426<>'MDOT FTA Detail'!$A$171)*(Projects!$K$5:K$2426))","v":0},0,{"$f":"SUMPRODUCT((Projects!$A$5:$A$2426='MDOT FTA Detail'!$G$3)*(Projects!$C$5:$C$2426='MDOT FTA Detail'!$C$4)*(Projects!$L$5:$L$2426='MDOT FTA Detail'!$A86)*(Projects!$J$5:$J$2426<>'MDOT FTA Detail'!$A$171)*(Projects!$Q$5:Q$2426))","v":0},{"$f":"SUMPRODUCT((Projects!$A$5:$A$2426='MDOT FTA Detail'!$J$3)*(Projects!$C$5:$C$2426='MDOT FTA Detail'!$C$4)*(Projects!$L$5:$L$2426='MDOT FTA Detail'!$A86)*(Projects!$J$5:$J$2426<>'MDOT FTA Detail'!$A$171)*(Projects!$K$5:$K$2426))","v":0},0,{"$f":"SUMPRODUCT((Projects!$A$5:$A$2426='MDOT FTA Detail'!$J$3)*(Projects!$C$5:$C$2426='MDOT FTA Detail'!$C$4)*(Projects!$L$5:$L$2426='MDOT FTA Detail'!$A86)*(Projects!$J$5:$J$2426<>'MDOT FTA Detail'!$A$171)*(Projects!$Q$5:$Q$2426))","v":0},{"$f":"SUMPRODUCT((Projects!$A$5:$A$2426='MDOT FTA Detail'!$M$3)*(Projects!$C$5:$C$2426='MDOT FTA Detail'!$C$4)*(Projects!$L$5:$L$2426='MDOT FTA Detail'!$A86)*(Projects!$J$5:$J$2426<>'MDOT FTA Detail'!$A$171)*(Projects!$K$5:$K$2426))","v":0},0,{"$f":"SUMPRODUCT((Projects!$A$5:$A$2426='MDOT FTA Detail'!$M$3)*(Projects!$C$5:$C$2426='MDOT FTA Detail'!$C$4)*(Projects!$L$5:$L$2426='MDOT FTA Detail'!$A86)*(Projects!$J$5:$J$2426<>'MDOT FTA Detail'!$A$171)*(Projects!$Q$5:$Q$2426))","v":0}]
["STRH","Surface Transportation Safety Highway Crossing Hazard Elimination","MDOT FA",{"$f":"SUMPRODUCT((Projects!$A$5:$A$2426='MDOT FTA Detail'!$D$3)*(Projects!$C$5:$C$2426='MDOT FTA Detail'!$C$4)*(Projects!$L$5:$L$2426='MDOT FTA Detail'!$A87)*(Projects!$J$5:$J$2426<>'MDOT FTA Detail'!$A$171)*(Projects!$K$5:K$2426))","v":45000},{"$f":"F87-D87","v":5000},{"$f":"SUMPRODUCT((Projects!$A$5:$A$2426='MDOT FTA Detail'!$D$3)*(Projects!$C$5:$C$2426='MDOT FTA Detail'!$C$4)*(Projects!$L$5:$L$2426='MDOT FTA Detail'!$A87)*(Projects!$J$5:$J$2426<>'MDOT FTA Detail'!$A$171)*(Projects!$Q$5:Q$2426))","v":50000},{"$f":"SUMPRODUCT((Projects!$A$5:$A$2426='MDOT FTA Detail'!$G$3)*(Projects!$C$5:$C$2426='MDOT FTA Detail'!$C$4)*(Projects!$L$5:$L$2426='MDOT FTA Detail'!$A87)*(Projects!$J$5:$J$2426<>'MDOT FTA Detail'!$A$171)*(Projects!$K$5:K$2426))","v":0},{"$f":"I87-G87","v":0},{"$f":"SUMPRODUCT((Projects!$A$5:$A$2426='MDOT FTA Detail'!$G$3)*(Projects!$C$5:$C$2426='MDOT FTA Detail'!$C$4)*(Projects!$L$5:$L$2426='MDOT FTA Detail'!$A87)*(Projects!$J$5:$J$2426<>'MDOT FTA Detail'!$A$171)*(Projects!$Q$5:Q$2426))","v":0},{"$f":"SUMPRODUCT((Projects!$A$5:$A$2426='MDOT FTA Detail'!$J$3)*(Projects!$C$5:$C$2426='MDOT FTA Detail'!$C$4)*(Projects!$L$5:$L$2426='MDOT FTA Detail'!$A87)*(Projects!$J$5:$J$2426<>'MDOT FTA Detail'!$A$171)*(Projects!$K$5:$K$2426))","v":0},{"$f":"L87-J87","v":0},{"$f":"SUMPRODUCT((Projects!$A$5:$A$2426='MDOT FTA Detail'!$J$3)*(Projects!$C$5:$C$2426='MDOT FTA Detail'!$C$4)*(Projects!$L$5:$L$2426='MDOT FTA Detail'!$A87)*(Projects!$J$5:$J$2426<>'MDOT FTA Detail'!$A$171)*(Projects!$Q$5:$Q$2426))","v":0},{"$f":"SUMPRODUCT((Projects!$A$5:$A$2426='MDOT FTA Detail'!$M$3)*(Projects!$C$5:$C$2426='MDOT FTA Detail'!$C$4)*(Projects!$L$5:$L$2426='MDOT FTA Detail'!$A87)*(Projects!$J$5:$J$2426<>'MDOT FTA Detail'!$A$171)*(Projects!$K$5:$K$2426))","v":0},{"$f":"O87-M87","v":0},{"$f":"SUMPRODUCT((Projects!$A$5:$A$2426='MDOT FTA Detail'!$M$3)*(Projects!$C$5:$C$2426='MDOT FTA Detail'!$C$4)*(Projects!$L$5:$L$2426='MDOT FTA Detail'!$A87)*(Projects!$J$5:$J$2426<>'MDOT FTA Detail'!$A$171)*(Projects!$Q$5:$Q$2426))","v":0}]
["STRP","Surface Transportation Safety Highway Crossing Protection Devices","MDOT FA",{"$f":"SUMPRODUCT((Projects!$A$5:$A$2426='MDOT FTA Detail'!$D$3)*(Projects!$C$5:$C$2426='MDOT FTA Detail'!$C$4)*(Projects!$L$5:$L$2426='MDOT FTA Detail'!$A88)*(Projects!$J$5:$J$2426<>'MDOT FTA Detail'!$A$171)*(Projects!$K$5:K$2426))","v":0},{"$f":"F88-D88","v":0},{"$f":"SUMPRODUCT((Projects!$A$5:$A$2426='MDOT FTA Detail'!$D$3)*(Projects!$C$5:$C$2426='MDOT FTA Detail'!$C$4)*(Projects!$L$5:$L$2426='MDOT FTA Detail'!$A88)*(Projects!$J$5:$J$2426<>'MDOT FTA Detail'!$A$171)*(Projects!$Q$5:Q$2426))","v":0},{"$f":"SUMPRODUCT((Projects!$A$5:$A$2426='MDOT FTA Detail'!$G$3)*(Projects!$C$5:$C$2426='MDOT FTA Detail'!$C$4)*(Projects!$L$5:$L$2426='MDOT FTA Detail'!$A88)*(Projects!$J$5:$J$2426<>'MDOT FTA Detail'!$A$171)*(Projects!$K$5:K$2426))","v":0},{"$f":"I88-G88","v":0},{"$f":"SUMPRODUCT((Projects!$A$5:$A$2426='MDOT FTA Detail'!$G$3)*(Projects!$C$5:$C$2426='MDOT FTA Detail'!$C$4)*(Projects!$L$5:$L$2426='MDOT FTA Detail'!$A88)*(Projects!$J$5:$J$2426<>'MDOT FTA Detail'!$A$171)*(Projects!$Q$5:Q$2426))","v":0},{"$f":"SUMPRODUCT((Projects!$A$5:$A$2426='MDOT FTA Detail'!$J$3)*(Projects!$C$5:$C$2426='MDOT FTA Detail'!$C$4)*(Projects!$L$5:$L$2426='MDOT FTA Detail'!$A88)*(Projects!$J$5:$J$2426<>'MDOT FTA Detail'!$A$171)*(Projects!$K$5:$K$2426))","v":0},{"$f":"L88-J88","v":0},{"$f":"SUMPRODUCT((Projects!$A$5:$A$2426='MDOT FTA Detail'!$J$3)*(Projects!$C$5:$C$2426='MDOT FTA Detail'!$C$4)*(Projects!$L$5:$L$2426='MDOT FTA Detail'!$A88)*(Projects!$J$5:$J$2426<>'MDOT FTA Detail'!$A$171)*(Projects!$Q$5:$Q$2426))","v":0},{"$f":"SUMPRODUCT((Projects!$A$5:$A$2426='MDOT FTA Detail'!$M$3)*(Projects!$C$5:$C$2426='MDOT FTA Detail'!$C$4)*(Projects!$L$5:$L$2426='MDOT FTA Detail'!$A88)*(Projects!$J$5:$J$2426<>'MDOT FTA Detail'!$A$171)*(Projects!$K$5:$K$2426))","v":0},{"$f":"O88-M88","v":0},{"$f":"SUMPRODUCT((Projects!$A$5:$A$2426='MDOT FTA Detail'!$M$3)*(Projects!$C$5:$C$2426='MDOT FTA Detail'!$C$4)*(Projects!$L$5:$L$2426='MDOT FTA Detail'!$A88)*(Projects!$J$5:$J$2426<>'MDOT FTA Detail'!$A$171)*(Projects!$Q$5:$Q$2426))","v":0}]
["STS","STP - Any Area- MDOT Safety Program","MDOT FA",{"$f":"SUMPRODUCT((Projects!$A$5:$A$2426='MDOT FTA Detail'!$D$3)*(Projects!$C$5:$C$2426='MDOT FTA Detail'!$C$4)*(Projects!$L$5:$L$2426='MDOT FTA Detail'!$A89)*(Projects!$J$5:$J$2426<>'MDOT FTA Detail'!$A$171)*(Projects!$K$5:K$2426))","v":0},0,{"$f":"SUMPRODUCT((Projects!$A$5:$A$2426='MDOT FTA Detail'!$D$3)*(Projects!$C$5:$C$2426='MDOT FTA Detail'!$C$4)*(Projects!$L$5:$L$2426='MDOT FTA Detail'!$A89)*(Projects!$J$5:$J$2426<>'MDOT FTA Detail'!$A$171)*(Projects!$Q$5:Q$2426))","v":0},{"$f":"SUMPRODUCT((Projects!$A$5:$A$2426='MDOT FTA Detail'!$G$3)*(Projects!$C$5:$C$2426='MDOT FTA Detail'!$C$4)*(Projects!$L$5:$L$2426='MDOT FTA Detail'!$A89)*(Projects!$J$5:$J$2426<>'MDOT FTA Detail'!$A$171)*(Projects!$K$5:K$2426))","v":0},0,{"$f":"SUMPRODUCT((Projects!$A$5:$A$2426='MDOT FTA Detail'!$G$3)*(Projects!$C$5:$C$2426='MDOT FTA Detail'!$C$4)*(Projects!$L$5:$L$2426='MDOT FTA Detail'!$A89)*(Projects!$J$5:$J$2426<>'MDOT FTA Detail'!$A$171)*(Projects!$Q$5:Q$2426))","v":0},{"$f":"SUMPRODUCT((Projects!$A$5:$A$2426='MDOT FTA Detail'!$J$3)*(Projects!$C$5:$C$2426='MDOT FTA Detail'!$C$4)*(Projects!$L$5:$L$2426='MDOT FTA Detail'!$A89)*(Projects!$J$5:$J$2426<>'MDOT FTA Detail'!$A$171)*(Projects!$K$5:$K$2426))","v":0},0,{"$f":"SUMPRODUCT((Projects!$A$5:$A$2426='MDOT FTA Detail'!$J$3)*(Projects!$C$5:$C$2426='MDOT FTA Detail'!$C$4)*(Projects!$L$5:$L$2426='MDOT FTA Detail'!$A89)*(Projects!$J$5:$J$2426<>'MDOT FTA Detail'!$A$171)*(Projects!$Q$5:$Q$2426))","v":0},{"$f":"SUMPRODUCT((Projects!$A$5:$A$2426='MDOT FTA Detail'!$M$3)*(Projects!$C$5:$C$2426='MDOT FTA Detail'!$C$4)*(Projects!$L$5:$L$2426='MDOT FTA Detail'!$A89)*(Projects!$J$5:$J$2426<>'MDOT FTA Detail'!$A$171)*(Projects!$K$5:$K$2426))","v":0},0,{"$f":"SUMPRODUCT((Projects!$A$5:$A$2426='MDOT FTA Detail'!$M$3)*(Projects!$C$5:$C$2426='MDOT FTA Detail'!$C$4)*(Projects!$L$5:$L$2426='MDOT FTA Detail'!$A89)*(Projects!$J$5:$J$2426<>'MDOT FTA Detail'!$A$171)*(Projects!$Q$5:$Q$2426))","v":0}]
["STT","STP - Trunkline","MDOT FA",{"$f":"SUMPRODUCT((Projects!$A$5:$A$2426='MDOT FTA Detail'!$D$3)*(Projects!$C$5:$C$2426='MDOT FTA Detail'!$C$4)*(Projects!$L$5:$L$2426='MDOT FTA Detail'!$A90)*(Projects!$J$5:$J$2426<>'MDOT FTA Detail'!$A$171)*(Projects!$K$5:K$2426))","v":0},0,{"$f":"SUMPRODUCT((Projects!$A$5:$A$2426='MDOT FTA Detail'!$D$3)*(Projects!$C$5:$C$2426='MDOT FTA Detail'!$C$4)*(Projects!$L$5:$L$2426='MDOT FTA Detail'!$A90)*(Projects!$J$5:$J$2426<>'MDOT FTA Detail'!$A$171)*(Projects!$Q$5:Q$2426))","v":0},{"$f":"SUMPRODUCT((Projects!$A$5:$A$2426='MDOT FTA Detail'!$G$3)*(Projects!$C$5:$C$2426='MDOT FTA Detail'!$C$4)*(Projects!$L$5:$L$2426='MDOT FTA Detail'!$A90)*(Projects!$J$5:$J$2426<>'MDOT FTA Detail'!$A$171)*(Projects!$K$5:K$2426))","v":0},0,{"$f":"SUMPRODUCT((Projects!$A$5:$A$2426='MDOT FTA Detail'!$G$3)*(Projects!$C$5:$C$2426='MDOT FTA Detail'!$C$4)*(Projects!$L$5:$L$2426='MDOT FTA Detail'!$A90)*(Projects!$J$5:$J$2426<>'MDOT FTA Detail'!$A$171)*(Projects!$Q$5:Q$2426))","v":0},{"$f":"SUMPRODUCT((Projects!$A$5:$A$2426='MDOT FTA Detail'!$J$3)*(Projects!$C$5:$C$2426='MDOT FTA Detail'!$C$4)*(Projects!$L$5:$L$2426='MDOT FTA Detail'!$A90)*(Projects!$J$5:$J$2426<>'MDOT FTA Detail'!$A$171)*(Projects!$K$5:$K$2426))","v":0},0,{"$f":"SUMPRODUCT((Projects!$A$5:$A$2426='MDOT FTA Detail'!$J$3)*(Projects!$C$5:$C$2426='MDOT FTA Detail'!$C$4)*(Projects!$L$5:$L$2426='MDOT FTA Detail'!$A90)*(Projects!$J$5:$J$2426<>'MDOT FTA Detail'!$A$171)*(Projects!$Q$5:$Q$2426))","v":0},{"$f":"SUMPRODUCT((Projects!$A$5:$A$2426='MDOT FTA Detail'!$M$3)*(Projects!$C$5:$C$2426='MDOT FTA Detail'!$C$4)*(Projects!$L$5:$L$2426='MDOT FTA Detail'!$A90)*(Projects!$J$5:$J$2426<>'MDOT FTA Detail'!$A$171)*(Projects!$K$5:$K$2426))","v":0},0,{"$f":"SUMPRODUCT((Projects!$A$5:$A$2426='MDOT FTA Detail'!$M$3)*(Projects!$C$5:$C$2426='MDOT FTA Detail'!$C$4)*(Projects!$L$5:$L$2426='MDOT FTA Detail'!$A90)*(Projects!$J$5:$J$2426<>'MDOT FTA Detail'!$A$171)*(Projects!$Q$5:$Q$2426))","v":0}]
["STU","STP - Urban Areas > 200,000 Population","MDOT FA",{"$f":"SUMPRODUCT((Projects!$A$5:$A$2426='MDOT FTA Detail'!$D$3)*(Projects!$C$5:$C$2426='MDOT FTA Detail'!$C$4)*(Projects!$L$5:$L$2426='MDOT FTA Detail'!$A91)*(Projects!$J$5:$J$2426<>'MDOT FTA Detail'!$A$171)*(Projects!$K$5:K$2426))","v":0},0,{"$f":"SUMPRODUCT((Projects!$A$5:$A$2426='MDOT FTA Detail'!$D$3)*(Projects!$C$5:$C$2426='MDOT FTA Detail'!$C$4)*(Projects!$L$5:$L$2426='MDOT FTA Detail'!$A91)*(Projects!$J$5:$J$2426<>'MDOT FTA Detail'!$A$171)*(Projects!$Q$5:Q$2426))","v":0},{"$f":"SUMPRODUCT((Projects!$A$5:$A$2426='MDOT FTA Detail'!$G$3)*(Projects!$C$5:$C$2426='MDOT FTA Detail'!$C$4)*(Projects!$L$5:$L$2426='MDOT FTA Detail'!$A91)*(Projects!$J$5:$J$2426<>'MDOT FTA Detail'!$A$171)*(Projects!$K$5:K$2426))","v":0},0,{"$f":"SUMPRODUCT((Projects!$A$5:$A$2426='MDOT FTA Detail'!$G$3)*(Projects!$C$5:$C$2426='MDOT FTA Detail'!$C$4)*(Projects!$L$5:$L$2426='MDOT FTA Detail'!$A91)*(Projects!$J$5:$J$2426<>'MDOT FTA Detail'!$A$171)*(Projects!$Q$5:Q$2426))","v":0},{"$f":"SUMPRODUCT((Projects!$A$5:$A$2426='MDOT FTA Detail'!$J$3)*(Projects!$C$5:$C$2426='MDOT FTA Detail'!$C$4)*(Projects!$L$5:$L$2426='MDOT FTA Detail'!$A91)*(Projects!$J$5:$J$2426<>'MDOT FTA Detail'!$A$171)*(Projects!$K$5:$K$2426))","v":0},0,{"$f":"SUMPRODUCT((Projects!$A$5:$A$2426='MDOT FTA Detail'!$J$3)*(Projects!$C$5:$C$2426='MDOT FTA Detail'!$C$4)*(Projects!$L$5:$L$2426='MDOT FTA Detail'!$A91)*(Projects!$J$5:$J$2426<>'MDOT FTA Detail'!$A$171)*(Projects!$Q$5:$Q$2426))","v":0},{"$f":"SUMPRODUCT((Projects!$A$5:$A$2426='MDOT FTA Detail'!$M$3)*(Projects!$C$5:$C$2426='MDOT FTA Detail'!$C$4)*(Projects!$L$5:$L$2426='MDOT FTA Detail'!$A91)*(Projects!$J$5:$J$2426<>'MDOT FTA Detail'!$A$171)*(Projects!$K$5:$K$2426))","v":0},0,{"$f":"SUMPRODUCT((Projects!$A$5:$A$2426='MDOT FTA Detail'!$M$3)*(Projects!$C$5:$C$2426='MDOT FTA Detail'!$C$4)*(Projects!$L$5:$L$2426='MDOT FTA Detail'!$A91)*(Projects!$J$5:$J$2426<>'MDOT FTA Detail'!$A$171)*(Projects!$Q$5:$Q$2426))","v":0}]
["STUG","STP - Urban Areas < 200,000  Population 100%","MDOT FA",{"$f":"SUMPRODUCT((Projects!$A$5:$A$2426='MDOT FTA Detail'!$D$3)*(Projects!$C$5:$C$2426='MDOT FTA Detail'!$C$4)*(Projects!$L$5:$L$2426='MDOT FTA Detail'!$A92)*(Projects!$J$5:$J$2426<>'MDOT FTA Detail'!$A$171)*(Projects!$K$5:K$2426))","v":0},{"$f":"F92-D92","v":0},{"$f":"SUMPRODUCT((Projects!$A$5:$A$2426='MDOT FTA Detail'!$D$3)*(Projects!$C$5:$C$2426='MDOT FTA Detail'!$C$4)*(Projects!$L$5:$L$2426='MDOT FTA Detail'!$A92)*(Projects!$J$5:$J$2426<>'MDOT FTA Detail'!$A$171)*(Projects!$Q$5:Q$2426))","v":0},{"$f":"SUMPRODUCT((Projects!$A$5:$A$2426='MDOT FTA Detail'!$G$3)*(Projects!$C$5:$C$2426='MDOT FTA Detail'!$C$4)*(Projects!$L$5:$L$2426='MDOT FTA Detail'!$A92)*(Projects!$J$5:$J$2426<>'MDOT FTA Detail'!$A$171)*(Projects!$K$5:K$2426))","v":0},{"$f":"I92-G92","v":0},{"$f":"SUMPRODUCT((Projects!$A$5:$A$2426='MDOT FTA Detail'!$G$3)*(Projects!$C$5:$C$2426='MDOT FTA Detail'!$C$4)*(Projects!$L$5:$L$2426='MDOT FTA Detail'!$A92)*(Projects!$J$5:$J$2426<>'MDOT FTA Detail'!$A$171)*(Projects!$Q$5:Q$2426))","v":0},{"$f":"SUMPRODUCT((Projects!$A$5:$A$2426='MDOT FTA Detail'!$J$3)*(Projects!$C$5:$C$2426='MDOT FTA Detail'!$C$4)*(Projects!$L$5:$L$2426='MDOT FTA Detail'!$A92)*(Projects!$J$5:$J$2426<>'MDOT FTA Detail'!$A$171)*(Projects!$K$5:$K$2426))","v":0},{"$f":"L92-J92","v":0},{"$f":"SUMPRODUCT((Projects!$A$5:$A$2426='MDOT FTA Detail'!$J$3)*(Projects!$C$5:$C$2426='MDOT FTA Detail'!$C$4)*(Projects!$L$5:$L$2426='MDOT FTA Detail'!$A92)*(Projects!$J$5:$J$2426<>'MDOT FTA Detail'!$A$171)*(Projects!$Q$5:$Q$2426))","v":0},{"$f":"SUMPRODUCT((Projects!$A$5:$A$2426='MDOT FTA Detail'!$M$3)*(Projects!$C$5:$C$2426='MDOT FTA Detail'!$C$4)*(Projects!$L$5:$L$2426='MDOT FTA Detail'!$A92)*(Projects!$J$5:$J$2426<>'MDOT FTA Detail'!$A$171)*(Projects!$K$5:$K$2426))","v":0},{"$f":"O92-M92","v":0},{"$f":"SUMPRODUCT((Projects!$A$5:$A$2426='MDOT FTA Detail'!$M$3)*(Projects!$C$5:$C$2426='MDOT FTA Detail'!$C$4)*(Projects!$L$5:$L$2426='MDOT FTA Detail'!$A92)*(Projects!$J$5:$J$2426<>'MDOT FTA Detail'!$A$171)*(Projects!$Q$5:$Q$2426))","v":0}]
["STUL","STP - Urban Areas < 200,000 Population","MDOT FA",{"$f":"SUMPRODUCT((Projects!$A$5:$A$2426='MDOT FTA Detail'!$D$3)*(Projects!$C$5:$C$2426='MDOT FTA Detail'!$C$4)*(Projects!$L$5:$L$2426='MDOT FTA Detail'!$A93)*(Projects!$J$5:$J$2426<>'MDOT FTA Detail'!$A$171)*(Projects!$K$5:K$2426))","v":0},0,{"$f":"SUMPRODUCT((Projects!$A$5:$A$2426='MDOT FTA Detail'!$D$3)*(Projects!$C$5:$C$2426='MDOT FTA Detail'!$C$4)*(Projects!$L$5:$L$2426='MDOT FTA Detail'!$A93)*(Projects!$J$5:$J$2426<>'MDOT FTA Detail'!$A$171)*(Projects!$Q$5:Q$2426))","v":0},{"$f":"SUMPRODUCT((Projects!$A$5:$A$2426='MDOT FTA Detail'!$G$3)*(Projects!$C$5:$C$2426='MDOT FTA Detail'!$C$4)*(Projects!$L$5:$L$2426='MDOT FTA Detail'!$A93)*(Projects!$J$5:$J$2426<>'MDOT FTA Detail'!$A$171)*(Projects!$K$5:K$2426))","v":0},0,{"$f":"SUMPRODUCT((Projects!$A$5:$A$2426='MDOT FTA Detail'!$G$3)*(Projects!$C$5:$C$2426='MDOT FTA Detail'!$C$4)*(Projects!$L$5:$L$2426='MDOT FTA Detail'!$A93)*(Projects!$J$5:$J$2426<>'MDOT FTA Detail'!$A$171)*(Projects!$Q$5:Q$2426))","v":0},{"$f":"SUMPRODUCT((Projects!$A$5:$A$2426='MDOT FTA Detail'!$J$3)*(Projects!$C$5:$C$2426='MDOT FTA Detail'!$C$4)*(Projects!$L$5:$L$2426='MDOT FTA Detail'!$A93)*(Projects!$J$5:$J$2426<>'MDOT FTA Detail'!$A$171)*(Projects!$K$5:$K$2426))","v":0},0,{"$f":"SUMPRODUCT((Projects!$A$5:$A$2426='MDOT FTA Detail'!$J$3)*(Projects!$C$5:$C$2426='MDOT FTA Detail'!$C$4)*(Projects!$L$5:$L$2426='MDOT FTA Detail'!$A93)*(Projects!$J$5:$J$2426<>'MDOT FTA Detail'!$A$171)*(Projects!$Q$5:$Q$2426))","v":0},{"$f":"SUMPRODUCT((Projects!$A$5:$A$2426='MDOT FTA Detail'!$M$3)*(Projects!$C$5:$C$2426='MDOT FTA Detail'!$C$4)*(Projects!$L$5:$L$2426='MDOT FTA Detail'!$A93)*(Projects!$J$5:$J$2426<>'MDOT FTA Detail'!$A$171)*(Projects!$K$5:$K$2426))","v":0},0,{"$f":"SUMPRODUCT((Projects!$A$5:$A$2426='MDOT FTA Detail'!$M$3)*(Projects!$C$5:$C$2426='MDOT FTA Detail'!$C$4)*(Projects!$L$5:$L$2426='MDOT FTA Detail'!$A93)*(Projects!$J$5:$J$2426<>'MDOT FTA Detail'!$A$171)*(Projects!$Q$5:$Q$2426))","v":0}]
["STUT","STP - Urban Areas < 200,000 Population - Trunkline","MDOT FA",{"$f":"SUMPRODUCT((Projects!$A$5:$A$2426='MDOT FTA Detail'!$D$3)*(Projects!$C$5:$C$2426='MDOT FTA Detail'!$C$4)*(Projects!$L$5:$L$2426='MDOT FTA Detail'!$A94)*(Projects!$J$5:$J$2426<>'MDOT FTA Detail'!$A$171)*(Projects!$K$5:K$2426))","v":0},0,{"$f":"SUMPRODUCT((Projects!$A$5:$A$2426='MDOT FTA Detail'!$D$3)*(Projects!$C$5:$C$2426='MDOT FTA Detail'!$C$4)*(Projects!$L$5:$L$2426='MDOT FTA Detail'!$A94)*(Projects!$J$5:$J$2426<>'MDOT FTA Detail'!$A$171)*(Projects!$Q$5:Q$2426))","v":0},{"$f":"SUMPRODUCT((Projects!$A$5:$A$2426='MDOT FTA Detail'!$G$3)*(Projects!$C$5:$C$2426='MDOT FTA Detail'!$C$4)*(Projects!$L$5:$L$2426='MDOT FTA Detail'!$A94)*(Projects!$J$5:$J$2426<>'MDOT FTA Detail'!$A$171)*(Projects!$K$5:K$2426))","v":0},0,{"$f":"SUMPRODUCT((Projects!$A$5:$A$2426='MDOT FTA Detail'!$G$3)*(Projects!$C$5:$C$2426='MDOT FTA Detail'!$C$4)*(Projects!$L$5:$L$2426='MDOT FTA Detail'!$A94)*(Projects!$J$5:$J$2426<>'MDOT FTA Detail'!$A$171)*(Projects!$Q$5:Q$2426))","v":0},{"$f":"SUMPRODUCT((Projects!$A$5:$A$2426='MDOT FTA Detail'!$J$3)*(Projects!$C$5:$C$2426='MDOT FTA Detail'!$C$4)*(Projects!$L$5:$L$2426='MDOT FTA Detail'!$A94)*(Projects!$J$5:$J$2426<>'MDOT FTA Detail'!$A$171)*(Projects!$K$5:$K$2426))","v":0},0,{"$f":"SUMPRODUCT((Projects!$A$5:$A$2426='MDOT FTA Detail'!$J$3)*(Projects!$C$5:$C$2426='MDOT FTA Detail'!$C$4)*(Projects!$L$5:$L$2426='MDOT FTA Detail'!$A94)*(Projects!$J$5:$J$2426<>'MDOT FTA Detail'!$A$171)*(Projects!$Q$5:$Q$2426))","v":0},{"$f":"SUMPRODUCT((Projects!$A$5:$A$2426='MDOT FTA Detail'!$M$3)*(Projects!$C$5:$C$2426='MDOT FTA Detail'!$C$4)*(Projects!$L$5:$L$2426='MDOT FTA Detail'!$A94)*(Projects!$J$5:$J$2426<>'MDOT FTA Detail'!$A$171)*(Projects!$K$5:$K$2426))","v":0},0,{"$f":"SUMPRODUCT((Projects!$A$5:$A$2426='MDOT FTA Detail'!$M$3)*(Projects!$C$5:$C$2426='MDOT FTA Detail'!$C$4)*(Projects!$L$5:$L$2426='MDOT FTA Detail'!$A94)*(Projects!$J$5:$J$2426<>'MDOT FTA Detail'!$A$171)*(Projects!$Q$5:$Q$2426))","v":0}]
["SUG","STP - Safety - 100% Federal for STU","MDOT FA",{"$f":"SUMPRODUCT((Projects!$A$5:$A$2426='MDOT FTA Detail'!$D$3)*(Projects!$C$5:$C$2426='MDOT FTA Detail'!$C$4)*(Projects!$L$5:$L$2426='MDOT FTA Detail'!$A95)*(Projects!$J$5:$J$2426<>'MDOT FTA Detail'!$A$171)*(Projects!$K$5:K$2426))","v":0},0,{"$f":"SUMPRODUCT((Projects!$A$5:$A$2426='MDOT FTA Detail'!$D$3)*(Projects!$C$5:$C$2426='MDOT FTA Detail'!$C$4)*(Projects!$L$5:$L$2426='MDOT FTA Detail'!$A95)*(Projects!$J$5:$J$2426<>'MDOT FTA Detail'!$A$171)*(Projects!$Q$5:Q$2426))","v":0},{"$f":"SUMPRODUCT((Projects!$A$5:$A$2426='MDOT FTA Detail'!$G$3)*(Projects!$C$5:$C$2426='MDOT FTA Detail'!$C$4)*(Projects!$L$5:$L$2426='MDOT FTA Detail'!$A95)*(Projects!$J$5:$J$2426<>'MDOT FTA Detail'!$A$171)*(Projects!$K$5:K$2426))","v":0},0,{"$f":"SUMPRODUCT((Projects!$A$5:$A$2426='MDOT FTA Detail'!$G$3)*(Projects!$C$5:$C$2426='MDOT FTA Detail'!$C$4)*(Projects!$L$5:$L$2426='MDOT FTA Detail'!$A95)*(Projects!$J$5:$J$2426<>'MDOT FTA Detail'!$A$171)*(Projects!$Q$5:Q$2426))","v":0},{"$f":"SUMPRODUCT((Projects!$A$5:$A$2426='MDOT FTA Detail'!$J$3)*(Projects!$C$5:$C$2426='MDOT FTA Detail'!$C$4)*(Projects!$L$5:$L$2426='MDOT FTA Detail'!$A95)*(Projects!$J$5:$J$2426<>'MDOT FTA Detail'!$A$171)*(Projects!$K$5:$K$2426))","v":0},0,{"$f":"SUMPRODUCT((Projects!$A$5:$A$2426='MDOT FTA Detail'!$J$3)*(Projects!$C$5:$C$2426='MDOT FTA Detail'!$C$4)*(Projects!$L$5:$L$2426='MDOT FTA Detail'!$A95)*(Projects!$J$5:$J$2426<>'MDOT FTA Detail'!$A$171)*(Projects!$Q$5:$Q$2426))","v":0},{"$f":"SUMPRODUCT((Projects!$A$5:$A$2426='MDOT FTA Detail'!$M$3)*(Projects!$C$5:$C$2426='MDOT FTA Detail'!$C$4)*(Projects!$L$5:$L$2426='MDOT FTA Detail'!$A95)*(Projects!$J$5:$J$2426<>'MDOT FTA Detail'!$A$171)*(Projects!$K$5:$K$2426))","v":0},0,{"$f":"SUMPRODUCT((Projects!$A$5:$A$2426='MDOT FTA Detail'!$M$3)*(Projects!$C$5:$C$2426='MDOT FTA Detail'!$C$4)*(Projects!$L$5:$L$2426='MDOT FTA Detail'!$A95)*(Projects!$J$5:$J$2426<>'MDOT FTA Detail'!$A$171)*(Projects!$Q$5:$Q$2426))","v":0}]
["SUL","Surface Transportation Urban Areas  <200,000 Population","MDOT FA",{"$f":"SUMPRODUCT((Projects!$A$5:$A$2426='MDOT FTA Detail'!$D$3)*(Projects!$C$5:$C$2426='MDOT FTA Detail'!$C$4)*(Projects!$L$5:$L$2426='MDOT FTA Detail'!$A96)*(Projects!$J$5:$J$2426<>'MDOT FTA Detail'!$A$171)*(Projects!$K$5:K$2426))","v":0},0,{"$f":"SUMPRODUCT((Projects!$A$5:$A$2426='MDOT FTA Detail'!$D$3)*(Projects!$C$5:$C$2426='MDOT FTA Detail'!$C$4)*(Projects!$L$5:$L$2426='MDOT FTA Detail'!$A96)*(Projects!$J$5:$J$2426<>'MDOT FTA Detail'!$A$171)*(Projects!$Q$5:Q$2426))","v":0},{"$f":"SUMPRODUCT((Projects!$A$5:$A$2426='MDOT FTA Detail'!$G$3)*(Projects!$C$5:$C$2426='MDOT FTA Detail'!$C$4)*(Projects!$L$5:$L$2426='MDOT FTA Detail'!$A96)*(Projects!$J$5:$J$2426<>'MDOT FTA Detail'!$A$171)*(Projects!$K$5:K$2426))","v":0},0,{"$f":"SUMPRODUCT((Projects!$A$5:$A$2426='MDOT FTA Detail'!$G$3)*(Projects!$C$5:$C$2426='MDOT FTA Detail'!$C$4)*(Projects!$L$5:$L$2426='MDOT FTA Detail'!$A96)*(Projects!$J$5:$J$2426<>'MDOT FTA Detail'!$A$171)*(Projects!$Q$5:Q$2426))","v":0},{"$f":"SUMPRODUCT((Projects!$A$5:$A$2426='MDOT FTA Detail'!$J$3)*(Projects!$C$5:$C$2426='MDOT FTA Detail'!$C$4)*(Projects!$L$5:$L$2426='MDOT FTA Detail'!$A96)*(Projects!$J$5:$J$2426<>'MDOT FTA Detail'!$A$171)*(Projects!$K$5:$K$2426))","v":0},0,{"$f":"SUMPRODUCT((Projects!$A$5:$A$2426='MDOT FTA Detail'!$J$3)*(Projects!$C$5:$C$2426='MDOT FTA Detail'!$C$4)*(Projects!$L$5:$L$2426='MDOT FTA Detail'!$A96)*(Projects!$J$5:$J$2426<>'MDOT FTA Detail'!$A$171)*(Projects!$Q$5:$Q$2426))","v":0},{"$f":"SUMPRODUCT((Projects!$A$5:$A$2426='MDOT FTA Detail'!$M$3)*(Projects!$C$5:$C$2426='MDOT FTA Detail'!$C$4)*(Projects!$L$5:$L$2426='MDOT FTA Detail'!$A96)*(Projects!$J$5:$J$2426<>'MDOT FTA Detail'!$A$171)*(Projects!$K$5:$K$2426))","v":0},0,{"$f":"SUMPRODUCT((Projects!$A$5:$A$2426='MDOT FTA Detail'!$M$3)*(Projects!$C$5:$C$2426='MDOT FTA Detail'!$C$4)*(Projects!$L$5:$L$2426='MDOT FTA Detail'!$A96)*(Projects!$J$5:$J$2426<>'MDOT FTA Detail'!$A$171)*(Projects!$Q$5:$Q$2426))","v":0}]
["SULG","Surfcace Transportation Urban Areas <200,000 Population 100%","MDOT FA",{"$f":"SUMPRODUCT((Projects!$A$5:$A$2426='MDOT FTA Detail'!$D$3)*(Projects!$C$5:$C$2426='MDOT FTA Detail'!$C$4)*(Projects!$L$5:$L$2426='MDOT FTA Detail'!$A97)*(Projects!$J$5:$J$2426<>'MDOT FTA Detail'!$A$171)*(Projects!$K$5:K$2426))","v":0},0,{"$f":"SUMPRODUCT((Projects!$A$5:$A$2426='MDOT FTA Detail'!$D$3)*(Projects!$C$5:$C$2426='MDOT FTA Detail'!$C$4)*(Projects!$L$5:$L$2426='MDOT FTA Detail'!$A97)*(Projects!$J$5:$J$2426<>'MDOT FTA Detail'!$A$171)*(Projects!$Q$5:Q$2426))","v":0},{"$f":"SUMPRODUCT((Projects!$A$5:$A$2426='MDOT FTA Detail'!$G$3)*(Projects!$C$5:$C$2426='MDOT FTA Detail'!$C$4)*(Projects!$L$5:$L$2426='MDOT FTA Detail'!$A97)*(Projects!$J$5:$J$2426<>'MDOT FTA Detail'!$A$171)*(Projects!$K$5:K$2426))","v":0},0,{"$f":"SUMPRODUCT((Projects!$A$5:$A$2426='MDOT FTA Detail'!$G$3)*(Projects!$C$5:$C$2426='MDOT FTA Detail'!$C$4)*(Projects!$L$5:$L$2426='MDOT FTA Detail'!$A97)*(Projects!$J$5:$J$2426<>'MDOT FTA Detail'!$A$171)*(Projects!$Q$5:Q$2426))","v":0},{"$f":"SUMPRODUCT((Projects!$A$5:$A$2426='MDOT FTA Detail'!$J$3)*(Projects!$C$5:$C$2426='MDOT FTA Detail'!$C$4)*(Projects!$L$5:$L$2426='MDOT FTA Detail'!$A97)*(Projects!$J$5:$J$2426<>'MDOT FTA Detail'!$A$171)*(Projects!$K$5:$K$2426))","v":0},0,{"$f":"SUMPRODUCT((Projects!$A$5:$A$2426='MDOT FTA Detail'!$J$3)*(Projects!$C$5:$C$2426='MDOT FTA Detail'!$C$4)*(Projects!$L$5:$L$2426='MDOT FTA Detail'!$A97)*(Projects!$J$5:$J$2426<>'MDOT FTA Detail'!$A$171)*(Projects!$Q$5:$Q$2426))","v":0},{"$f":"SUMPRODUCT((Projects!$A$5:$A$2426='MDOT FTA Detail'!$M$3)*(Projects!$C$5:$C$2426='MDOT FTA Detail'!$C$4)*(Projects!$L$5:$L$2426='MDOT FTA Detail'!$A97)*(Projects!$J$5:$J$2426<>'MDOT FTA Detail'!$A$171)*(Projects!$K$5:$K$2426))","v":0},0,{"$f":"SUMPRODUCT((Projects!$A$5:$A$2426='MDOT FTA Detail'!$M$3)*(Projects!$C$5:$C$2426='MDOT FTA Detail'!$C$4)*(Projects!$L$5:$L$2426='MDOT FTA Detail'!$A97)*(Projects!$J$5:$J$2426<>'MDOT FTA Detail'!$A$171)*(Projects!$Q$5:$Q$2426))","v":0}]
["TA","Transportation Alternatives Program Flex","MDOT FA",{"$f":"SUMPRODUCT((Projects!$A$5:$A$2426='MDOT FTA Detail'!$D$3)*(Projects!$C$5:$C$2426='MDOT FTA Detail'!$C$4)*(Projects!$L$5:$L$2426='MDOT FTA Detail'!$A98)*(Projects!$J$5:$J$2426<>'MDOT FTA Detail'!$A$171)*(Projects!$K$5:K$2426))","v":0},0,{"$f":"SUMPRODUCT((Projects!$A$5:$A$2426='MDOT FTA Detail'!$D$3)*(Projects!$C$5:$C$2426='MDOT FTA Detail'!$C$4)*(Projects!$L$5:$L$2426='MDOT FTA Detail'!$A98)*(Projects!$J$5:$J$2426<>'MDOT FTA Detail'!$A$171)*(Projects!$Q$5:Q$2426))","v":0},{"$f":"SUMPRODUCT((Projects!$A$5:$A$2426='MDOT FTA Detail'!$G$3)*(Projects!$C$5:$C$2426='MDOT FTA Detail'!$C$4)*(Projects!$L$5:$L$2426='MDOT FTA Detail'!$A98)*(Projects!$J$5:$J$2426<>'MDOT FTA Detail'!$A$171)*(Projects!$K$5:K$2426))","v":0},0,{"$f":"SUMPRODUCT((Projects!$A$5:$A$2426='MDOT FTA Detail'!$G$3)*(Projects!$C$5:$C$2426='MDOT FTA Detail'!$C$4)*(Projects!$L$5:$L$2426='MDOT FTA Detail'!$A98)*(Projects!$J$5:$J$2426<>'MDOT FTA Detail'!$A$171)*(Projects!$Q$5:Q$2426))","v":0},{"$f":"SUMPRODUCT((Projects!$A$5:$A$2426='MDOT FTA Detail'!$J$3)*(Projects!$C$5:$C$2426='MDOT FTA Detail'!$C$4)*(Projects!$L$5:$L$2426='MDOT FTA Detail'!$A98)*(Projects!$J$5:$J$2426<>'MDOT FTA Detail'!$A$171)*(Projects!$K$5:$K$2426))","v":0},0,{"$f":"SUMPRODUCT((Projects!$A$5:$A$2426='MDOT FTA Detail'!$J$3)*(Projects!$C$5:$C$2426='MDOT FTA Detail'!$C$4)*(Projects!$L$5:$L$2426='MDOT FTA Detail'!$A98)*(Projects!$J$5:$J$2426<>'MDOT FTA Detail'!$A$171)*(Projects!$Q$5:$Q$2426))","v":0},{"$f":"SUMPRODUCT((Projects!$A$5:$A$2426='MDOT FTA Detail'!$M$3)*(Projects!$C$5:$C$2426='MDOT FTA Detail'!$C$4)*(Projects!$L$5:$L$2426='MDOT FTA Detail'!$A98)*(Projects!$J$5:$J$2426<>'MDOT FTA Detail'!$A$171)*(Projects!$K$5:$K$2426))","v":0},0,{"$f":"SUMPRODUCT((Projects!$A$5:$A$2426='MDOT FTA Detail'!$M$3)*(Projects!$C$5:$C$2426='MDOT FTA Detail'!$C$4)*(Projects!$L$5:$L$2426='MDOT FTA Detail'!$A98)*(Projects!$J$5:$J$2426<>'MDOT FTA Detail'!$A$171)*(Projects!$Q$5:$Q$2426))","v":0}]
["TAL","Transportation Alternatives Rural","MDOT FA",{"$f":"SUMPRODUCT((Projects!$A$5:$A$2426='MDOT FTA Detail'!$D$3)*(Projects!$C$5:$C$2426='MDOT FTA Detail'!$C$4)*(Projects!$L$5:$L$2426='MDOT FTA Detail'!$A99)*(Projects!$J$5:$J$2426<>'MDOT FTA Detail'!$A$171)*(Projects!$K$5:K$2426))","v":0},0,{"$f":"SUMPRODUCT((Projects!$A$5:$A$2426='MDOT FTA Detail'!$D$3)*(Projects!$C$5:$C$2426='MDOT FTA Detail'!$C$4)*(Projects!$L$5:$L$2426='MDOT FTA Detail'!$A99)*(Projects!$J$5:$J$2426<>'MDOT FTA Detail'!$A$171)*(Projects!$Q$5:Q$2426))","v":0},{"$f":"SUMPRODUCT((Projects!$A$5:$A$2426='MDOT FTA Detail'!$G$3)*(Projects!$C$5:$C$2426='MDOT FTA Detail'!$C$4)*(Projects!$L$5:$L$2426='MDOT FTA Detail'!$A99)*(Projects!$J$5:$J$2426<>'MDOT FTA Detail'!$A$171)*(Projects!$K$5:K$2426))","v":0},0,{"$f":"SUMPRODUCT((Projects!$A$5:$A$2426='MDOT FTA Detail'!$G$3)*(Projects!$C$5:$C$2426='MDOT FTA Detail'!$C$4)*(Projects!$L$5:$L$2426='MDOT FTA Detail'!$A99)*(Projects!$J$5:$J$2426<>'MDOT FTA Detail'!$A$171)*(Projects!$Q$5:Q$2426))","v":0},{"$f":"SUMPRODUCT((Projects!$A$5:$A$2426='MDOT FTA Detail'!$J$3)*(Projects!$C$5:$C$2426='MDOT FTA Detail'!$C$4)*(Projects!$L$5:$L$2426='MDOT FTA Detail'!$A99)*(Projects!$J$5:$J$2426<>'MDOT FTA Detail'!$A$171)*(Projects!$K$5:$K$2426))","v":0},0,{"$f":"SUMPRODUCT((Projects!$A$5:$A$2426='MDOT FTA Detail'!$J$3)*(Projects!$C$5:$C$2426='MDOT FTA Detail'!$C$4)*(Projects!$L$5:$L$2426='MDOT FTA Detail'!$A99)*(Projects!$J$5:$J$2426<>'MDOT FTA Detail'!$A$171)*(Projects!$Q$5:$Q$2426))","v":0},{"$f":"SUMPRODUCT((Projects!$A$5:$A$2426='MDOT FTA Detail'!$M$3)*(Projects!$C$5:$C$2426='MDOT FTA Detail'!$C$4)*(Projects!$L$5:$L$2426='MDOT FTA Detail'!$A99)*(Projects!$J$5:$J$2426<>'MDOT FTA Detail'!$A$171)*(Projects!$K$5:$K$2426))","v":0},0,{"$f":"SUMPRODUCT((Projects!$A$5:$A$2426='MDOT FTA Detail'!$M$3)*(Projects!$C$5:$C$2426='MDOT FTA Detail'!$C$4)*(Projects!$L$5:$L$2426='MDOT FTA Detail'!$A99)*(Projects!$J$5:$J$2426<>'MDOT FTA Detail'!$A$171)*(Projects!$Q$5:$Q$2426))","v":0}]
["TAU","Transportation Alternatives Urban Areas > 200,000 Population","MDOT FA",{"$f":"SUMPRODUCT((Projects!$A$5:$A$2426='MDOT FTA Detail'!$D$3)*(Projects!$C$5:$C$2426='MDOT FTA Detail'!$C$4)*(Projects!$L$5:$L$2426='MDOT FTA Detail'!$A100)*(Projects!$J$5:$J$2426<>'MDOT FTA Detail'!$A$171)*(Projects!$K$5:K$2426))","v":0},0,{"$f":"SUMPRODUCT((Projects!$A$5:$A$2426='MDOT FTA Detail'!$D$3)*(Projects!$C$5:$C$2426='MDOT FTA Detail'!$C$4)*(Projects!$L$5:$L$2426='MDOT FTA Detail'!$A100)*(Projects!$J$5:$J$2426<>'MDOT FTA Detail'!$A$171)*(Projects!$Q$5:Q$2426))","v":0},{"$f":"SUMPRODUCT((Projects!$A$5:$A$2426='MDOT FTA Detail'!$G$3)*(Projects!$C$5:$C$2426='MDOT FTA Detail'!$C$4)*(Projects!$L$5:$L$2426='MDOT FTA Detail'!$A100)*(Projects!$J$5:$J$2426<>'MDOT FTA Detail'!$A$171)*(Projects!$K$5:K$2426))","v":0},0,{"$f":"SUMPRODUCT((Projects!$A$5:$A$2426='MDOT FTA Detail'!$G$3)*(Projects!$C$5:$C$2426='MDOT FTA Detail'!$C$4)*(Projects!$L$5:$L$2426='MDOT FTA Detail'!$A100)*(Projects!$J$5:$J$2426<>'MDOT FTA Detail'!$A$171)*(Projects!$Q$5:Q$2426))","v":0},{"$f":"SUMPRODUCT((Projects!$A$5:$A$2426='MDOT FTA Detail'!$J$3)*(Projects!$C$5:$C$2426='MDOT FTA Detail'!$C$4)*(Projects!$L$5:$L$2426='MDOT FTA Detail'!$A100)*(Projects!$J$5:$J$2426<>'MDOT FTA Detail'!$A$171)*(Projects!$K$5:$K$2426))","v":0},0,{"$f":"SUMPRODUCT((Projects!$A$5:$A$2426='MDOT FTA Detail'!$J$3)*(Projects!$C$5:$C$2426='MDOT FTA Detail'!$C$4)*(Projects!$L$5:$L$2426='MDOT FTA Detail'!$A100)*(Projects!$J$5:$J$2426<>'MDOT FTA Detail'!$A$171)*(Projects!$Q$5:$Q$2426))","v":0},{"$f":"SUMPRODUCT((Projects!$A$5:$A$2426='MDOT FTA Detail'!$M$3)*(Projects!$C$5:$C$2426='MDOT FTA Detail'!$C$4)*(Projects!$L$5:$L$2426='MDOT FTA Detail'!$A100)*(Projects!$J$5:$J$2426<>'MDOT FTA Detail'!$A$171)*(Projects!$K$5:$K$2426))","v":0},0,{"$f":"SUMPRODUCT((Projects!$A$5:$A$2426='MDOT FTA Detail'!$M$3)*(Projects!$C$5:$C$2426='MDOT FTA Detail'!$C$4)*(Projects!$L$5:$L$2426='MDOT FTA Detail'!$A100)*(Projects!$J$5:$J$2426<>'MDOT FTA Detail'!$A$171)*(Projects!$Q$5:$Q$2426))","v":0}]
["TAUL","Transporation Alternatives Urban Areas < 200,000 Population","MDOT FA",{"$f":"SUMPRODUCT((Projects!$A$5:$A$2426='MDOT FTA Detail'!$D$3)*(Projects!$C$5:$C$2426='MDOT FTA Detail'!$C$4)*(Projects!$L$5:$L$2426='MDOT FTA Detail'!$A101)*(Projects!$J$5:$J$2426<>'MDOT FTA Detail'!$A$171)*(Projects!$K$5:K$2426))","v":0},0,{"$f":"SUMPRODUCT((Projects!$A$5:$A$2426='MDOT FTA Detail'!$D$3)*(Projects!$C$5:$C$2426='MDOT FTA Detail'!$C$4)*(Projects!$L$5:$L$2426='MDOT FTA Detail'!$A101)*(Projects!$J$5:$J$2426<>'MDOT FTA Detail'!$A$171)*(Projects!$Q$5:Q$2426))","v":0},{"$f":"SUMPRODUCT((Projects!$A$5:$A$2426='MDOT FTA Detail'!$G$3)*(Projects!$C$5:$C$2426='MDOT FTA Detail'!$C$4)*(Projects!$L$5:$L$2426='MDOT FTA Detail'!$A101)*(Projects!$J$5:$J$2426<>'MDOT FTA Detail'!$A$171)*(Projects!$K$5:K$2426))","v":0},0,{"$f":"SUMPRODUCT((Projects!$A$5:$A$2426='MDOT FTA Detail'!$G$3)*(Projects!$C$5:$C$2426='MDOT FTA Detail'!$C$4)*(Projects!$L$5:$L$2426='MDOT FTA Detail'!$A101)*(Projects!$J$5:$J$2426<>'MDOT FTA Detail'!$A$171)*(Projects!$Q$5:Q$2426))","v":0},{"$f":"SUMPRODUCT((Projects!$A$5:$A$2426='MDOT FTA Detail'!$J$3)*(Projects!$C$5:$C$2426='MDOT FTA Detail'!$C$4)*(Projects!$L$5:$L$2426='MDOT FTA Detail'!$A101)*(Projects!$J$5:$J$2426<>'MDOT FTA Detail'!$A$171)*(Projects!$K$5:$K$2426))","v":0},0,{"$f":"SUMPRODUCT((Projects!$A$5:$A$2426='MDOT FTA Detail'!$J$3)*(Projects!$C$5:$C$2426='MDOT FTA Detail'!$C$4)*(Projects!$L$5:$L$2426='MDOT FTA Detail'!$A101)*(Projects!$J$5:$J$2426<>'MDOT FTA Detail'!$A$171)*(Projects!$Q$5:$Q$2426))","v":0},{"$f":"SUMPRODUCT((Projects!$A$5:$A$2426='MDOT FTA Detail'!$M$3)*(Projects!$C$5:$C$2426='MDOT FTA Detail'!$C$4)*(Projects!$L$5:$L$2426='MDOT FTA Detail'!$A101)*(Projects!$J$5:$J$2426<>'MDOT FTA Detail'!$A$171)*(Projects!$K$5:$K$2426))","v":0},0,{"$f":"SUMPRODUCT((Projects!$A$5:$A$2426='MDOT FTA Detail'!$M$3)*(Projects!$C$5:$C$2426='MDOT FTA Detail'!$C$4)*(Projects!$L$5:$L$2426='MDOT FTA Detail'!$A101)*(Projects!$J$5:$J$2426<>'MDOT FTA Detail'!$A$171)*(Projects!$Q$5:$Q$2426))","v":0}]
["TBR","Timber Bridge Fund","MDOT FA",{"$f":"SUMPRODUCT((Projects!$A$5:$A$2426='MDOT FTA Detail'!$D$3)*(Projects!$C$5:$C$2426='MDOT FTA Detail'!$C$4)*(Projects!$L$5:$L$2426='MDOT FTA Detail'!$A102)*(Projects!$J$5:$J$2426<>'MDOT FTA Detail'!$A$171)*(Projects!$K$5:K$2426))","v":0},0,{"$f":"SUMPRODUCT((Projects!$A$5:$A$2426='MDOT FTA Detail'!$D$3)*(Projects!$C$5:$C$2426='MDOT FTA Detail'!$C$4)*(Projects!$L$5:$L$2426='MDOT FTA Detail'!$A102)*(Projects!$J$5:$J$2426<>'MDOT FTA Detail'!$A$171)*(Projects!$Q$5:Q$2426))","v":0},{"$f":"SUMPRODUCT((Projects!$A$5:$A$2426='MDOT FTA Detail'!$G$3)*(Projects!$C$5:$C$2426='MDOT FTA Detail'!$C$4)*(Projects!$L$5:$L$2426='MDOT FTA Detail'!$A102)*(Projects!$J$5:$J$2426<>'MDOT FTA Detail'!$A$171)*(Projects!$K$5:K$2426))","v":0},0,{"$f":"SUMPRODUCT((Projects!$A$5:$A$2426='MDOT FTA Detail'!$G$3)*(Projects!$C$5:$C$2426='MDOT FTA Detail'!$C$4)*(Projects!$L$5:$L$2426='MDOT FTA Detail'!$A102)*(Projects!$J$5:$J$2426<>'MDOT FTA Detail'!$A$171)*(Projects!$Q$5:Q$2426))","v":0},{"$f":"SUMPRODUCT((Projects!$A$5:$A$2426='MDOT FTA Detail'!$J$3)*(Projects!$C$5:$C$2426='MDOT FTA Detail'!$C$4)*(Projects!$L$5:$L$2426='MDOT FTA Detail'!$A102)*(Projects!$J$5:$J$2426<>'MDOT FTA Detail'!$A$171)*(Projects!$K$5:$K$2426))","v":0},0,{"$f":"SUMPRODUCT((Projects!$A$5:$A$2426='MDOT FTA Detail'!$J$3)*(Projects!$C$5:$C$2426='MDOT FTA Detail'!$C$4)*(Projects!$L$5:$L$2426='MDOT FTA Detail'!$A102)*(Projects!$J$5:$J$2426<>'MDOT FTA Detail'!$A$171)*(Projects!$Q$5:$Q$2426))","v":0},{"$f":"SUMPRODUCT((Projects!$A$5:$A$2426='MDOT FTA Detail'!$M$3)*(Projects!$C$5:$C$2426='MDOT FTA Detail'!$C$4)*(Projects!$L$5:$L$2426='MDOT FTA Detail'!$A102)*(Projects!$J$5:$J$2426<>'MDOT FTA Detail'!$A$171)*(Projects!$K$5:$K$2426))","v":0},0,{"$f":"SUMPRODUCT((Projects!$A$5:$A$2426='MDOT FTA Detail'!$M$3)*(Projects!$C$5:$C$2426='MDOT FTA Detail'!$C$4)*(Projects!$L$5:$L$2426='MDOT FTA Detail'!$A102)*(Projects!$J$5:$J$2426<>'MDOT FTA Detail'!$A$171)*(Projects!$Q$5:$Q$2426))","v":0}]
["TCP","Tax Compliance Program","MDOT FA",{"$f":"SUMPRODUCT((Projects!$A$5:$A$2426='MDOT FTA Detail'!$D$3)*(Projects!$C$5:$C$2426='MDOT FTA Detail'!$C$4)*(Projects!$L$5:$L$2426='MDOT FTA Detail'!$A103)*(Projects!$J$5:$J$2426<>'MDOT FTA Detail'!$A$171)*(Projects!$K$5:K$2426))","v":0},0,{"$f":"SUMPRODUCT((Projects!$A$5:$A$2426='MDOT FTA Detail'!$D$3)*(Projects!$C$5:$C$2426='MDOT FTA Detail'!$C$4)*(Projects!$L$5:$L$2426='MDOT FTA Detail'!$A103)*(Projects!$J$5:$J$2426<>'MDOT FTA Detail'!$A$171)*(Projects!$Q$5:Q$2426))","v":0},{"$f":"SUMPRODUCT((Projects!$A$5:$A$2426='MDOT FTA Detail'!$G$3)*(Projects!$C$5:$C$2426='MDOT FTA Detail'!$C$4)*(Projects!$L$5:$L$2426='MDOT FTA Detail'!$A103)*(Projects!$J$5:$J$2426<>'MDOT FTA Detail'!$A$171)*(Projects!$K$5:K$2426))","v":0},0,{"$f":"SUMPRODUCT((Projects!$A$5:$A$2426='MDOT FTA Detail'!$G$3)*(Projects!$C$5:$C$2426='MDOT FTA Detail'!$C$4)*(Projects!$L$5:$L$2426='MDOT FTA Detail'!$A103)*(Projects!$J$5:$J$2426<>'MDOT FTA Detail'!$A$171)*(Projects!$Q$5:Q$2426))","v":0},{"$f":"SUMPRODUCT((Projects!$A$5:$A$2426='MDOT FTA Detail'!$J$3)*(Projects!$C$5:$C$2426='MDOT FTA Detail'!$C$4)*(Projects!$L$5:$L$2426='MDOT FTA Detail'!$A103)*(Projects!$J$5:$J$2426<>'MDOT FTA Detail'!$A$171)*(Projects!$K$5:$K$2426))","v":0},0,{"$f":"SUMPRODUCT((Projects!$A$5:$A$2426='MDOT FTA Detail'!$J$3)*(Projects!$C$5:$C$2426='MDOT FTA Detail'!$C$4)*(Projects!$L$5:$L$2426='MDOT FTA Detail'!$A103)*(Projects!$J$5:$J$2426<>'MDOT FTA Detail'!$A$171)*(Projects!$Q$5:$Q$2426))","v":0},{"$f":"SUMPRODUCT((Projects!$A$5:$A$2426='MDOT FTA Detail'!$M$3)*(Projects!$C$5:$C$2426='MDOT FTA Detail'!$C$4)*(Projects!$L$5:$L$2426='MDOT FTA Detail'!$A103)*(Projects!$J$5:$J$2426<>'MDOT FTA Detail'!$A$171)*(Projects!$K$5:$K$2426))","v":0},0,{"$f":"SUMPRODUCT((Projects!$A$5:$A$2426='MDOT FTA Detail'!$M$3)*(Projects!$C$5:$C$2426='MDOT FTA Detail'!$C$4)*(Projects!$L$5:$L$2426='MDOT FTA Detail'!$A103)*(Projects!$J$5:$J$2426<>'MDOT FTA Detail'!$A$171)*(Projects!$Q$5:$Q$2426))","v":0}]
["TCSP","Transportation, Community and System Preservation","MDOT FA",{"$f":"SUMPRODUCT((Projects!$A$5:$A$2426='MDOT FTA Detail'!$D$3)*(Projects!$C$5:$C$2426='MDOT FTA Detail'!$C$4)*(Projects!$L$5:$L$2426='MDOT FTA Detail'!$A104)*(Projects!$J$5:$J$2426<>'MDOT FTA Detail'!$A$171)*(Projects!$K$5:K$2426))","v":0},0,{"$f":"SUMPRODUCT((Projects!$A$5:$A$2426='MDOT FTA Detail'!$D$3)*(Projects!$C$5:$C$2426='MDOT FTA Detail'!$C$4)*(Projects!$L$5:$L$2426='MDOT FTA Detail'!$A104)*(Projects!$J$5:$J$2426<>'MDOT FTA Detail'!$A$171)*(Projects!$Q$5:Q$2426))","v":0},{"$f":"SUMPRODUCT((Projects!$A$5:$A$2426='MDOT FTA Detail'!$G$3)*(Projects!$C$5:$C$2426='MDOT FTA Detail'!$C$4)*(Projects!$L$5:$L$2426='MDOT FTA Detail'!$A104)*(Projects!$J$5:$J$2426<>'MDOT FTA Detail'!$A$171)*(Projects!$K$5:K$2426))","v":0},0,{"$f":"SUMPRODUCT((Projects!$A$5:$A$2426='MDOT FTA Detail'!$G$3)*(Projects!$C$5:$C$2426='MDOT FTA Detail'!$C$4)*(Projects!$L$5:$L$2426='MDOT FTA Detail'!$A104)*(Projects!$J$5:$J$2426<>'MDOT FTA Detail'!$A$171)*(Projects!$Q$5:Q$2426))","v":0},{"$f":"SUMPRODUCT((Projects!$A$5:$A$2426='MDOT FTA Detail'!$J$3)*(Projects!$C$5:$C$2426='MDOT FTA Detail'!$C$4)*(Projects!$L$5:$L$2426='MDOT FTA Detail'!$A104)*(Projects!$J$5:$J$2426<>'MDOT FTA Detail'!$A$171)*(Projects!$K$5:$K$2426))","v":0},0,{"$f":"SUMPRODUCT((Projects!$A$5:$A$2426='MDOT FTA Detail'!$J$3)*(Projects!$C$5:$C$2426='MDOT FTA Detail'!$C$4)*(Projects!$L$5:$L$2426='MDOT FTA Detail'!$A104)*(Projects!$J$5:$J$2426<>'MDOT FTA Detail'!$A$171)*(Projects!$Q$5:$Q$2426))","v":0},{"$f":"SUMPRODUCT((Projects!$A$5:$A$2426='MDOT FTA Detail'!$M$3)*(Projects!$C$5:$C$2426='MDOT FTA Detail'!$C$4)*(Projects!$L$5:$L$2426='MDOT FTA Detail'!$A104)*(Projects!$J$5:$J$2426<>'MDOT FTA Detail'!$A$171)*(Projects!$K$5:$K$2426))","v":0},0,{"$f":"SUMPRODUCT((Projects!$A$5:$A$2426='MDOT FTA Detail'!$M$3)*(Projects!$C$5:$C$2426='MDOT FTA Detail'!$C$4)*(Projects!$L$5:$L$2426='MDOT FTA Detail'!$A104)*(Projects!$J$5:$J$2426<>'MDOT FTA Detail'!$A$171)*(Projects!$Q$5:$Q$2426))","v":0}]
["TG","Transportation  Grant (100% Fed)","MDOT FA",{"$f":"SUMPRODUCT((Projects!$A$5:$A$2426='MDOT FTA Detail'!$D$3)*(Projects!$C$5:$C$2426='MDOT FTA Detail'!$C$4)*(Projects!$L$5:$L$2426='MDOT FTA Detail'!$A105)*(Projects!$J$5:$J$2426<>'MDOT FTA Detail'!$A$171)*(Projects!$K$5:K$2426))","v":0},0,{"$f":"SUMPRODUCT((Projects!$A$5:$A$2426='MDOT FTA Detail'!$D$3)*(Projects!$C$5:$C$2426='MDOT FTA Detail'!$C$4)*(Projects!$L$5:$L$2426='MDOT FTA Detail'!$A105)*(Projects!$J$5:$J$2426<>'MDOT FTA Detail'!$A$171)*(Projects!$Q$5:Q$2426))","v":0},{"$f":"SUMPRODUCT((Projects!$A$5:$A$2426='MDOT FTA Detail'!$G$3)*(Projects!$C$5:$C$2426='MDOT FTA Detail'!$C$4)*(Projects!$L$5:$L$2426='MDOT FTA Detail'!$A105)*(Projects!$J$5:$J$2426<>'MDOT FTA Detail'!$A$171)*(Projects!$K$5:K$2426))","v":0},0,{"$f":"SUMPRODUCT((Projects!$A$5:$A$2426='MDOT FTA Detail'!$G$3)*(Projects!$C$5:$C$2426='MDOT FTA Detail'!$C$4)*(Projects!$L$5:$L$2426='MDOT FTA Detail'!$A105)*(Projects!$J$5:$J$2426<>'MDOT FTA Detail'!$A$171)*(Projects!$Q$5:Q$2426))","v":0},{"$f":"SUMPRODUCT((Projects!$A$5:$A$2426='MDOT FTA Detail'!$J$3)*(Projects!$C$5:$C$2426='MDOT FTA Detail'!$C$4)*(Projects!$L$5:$L$2426='MDOT FTA Detail'!$A105)*(Projects!$J$5:$J$2426<>'MDOT FTA Detail'!$A$171)*(Projects!$K$5:$K$2426))","v":0},0,{"$f":"SUMPRODUCT((Projects!$A$5:$A$2426='MDOT FTA Detail'!$J$3)*(Projects!$C$5:$C$2426='MDOT FTA Detail'!$C$4)*(Projects!$L$5:$L$2426='MDOT FTA Detail'!$A105)*(Projects!$J$5:$J$2426<>'MDOT FTA Detail'!$A$171)*(Projects!$Q$5:$Q$2426))","v":0},{"$f":"SUMPRODUCT((Projects!$A$5:$A$2426='MDOT FTA Detail'!$M$3)*(Projects!$C$5:$C$2426='MDOT FTA Detail'!$C$4)*(Projects!$L$5:$L$2426='MDOT FTA Detail'!$A105)*(Projects!$J$5:$J$2426<>'MDOT FTA Detail'!$A$171)*(Projects!$K$5:$K$2426))","v":0},0,{"$f":"SUMPRODUCT((Projects!$A$5:$A$2426='MDOT FTA Detail'!$M$3)*(Projects!$C$5:$C$2426='MDOT FTA Detail'!$C$4)*(Projects!$L$5:$L$2426='MDOT FTA Detail'!$A105)*(Projects!$J$5:$J$2426<>'MDOT FTA Detail'!$A$171)*(Projects!$Q$5:$Q$2426))","v":0}]
["TGR2","TIGER II Discretionary Grant","MDOT FA",{"$f":"SUMPRODUCT((Projects!$A$5:$A$2426='MDOT FTA Detail'!$D$3)*(Projects!$C$5:$C$2426='MDOT FTA Detail'!$C$4)*(Projects!$L$5:$L$2426='MDOT FTA Detail'!$A106)*(Projects!$J$5:$J$2426<>'MDOT FTA Detail'!$A$171)*(Projects!$K$5:K$2426))","v":0},{"$f":"F106-D106","v":0},{"$f":"SUMPRODUCT((Projects!$A$5:$A$2426='MDOT FTA Detail'!$D$3)*(Projects!$C$5:$C$2426='MDOT FTA Detail'!$C$4)*(Projects!$L$5:$L$2426='MDOT FTA Detail'!$A106)*(Projects!$J$5:$J$2426<>'MDOT FTA Detail'!$A$171)*(Projects!$Q$5:Q$2426))","v":0},{"$f":"SUMPRODUCT((Projects!$A$5:$A$2426='MDOT FTA Detail'!$G$3)*(Projects!$C$5:$C$2426='MDOT FTA Detail'!$C$4)*(Projects!$L$5:$L$2426='MDOT FTA Detail'!$A106)*(Projects!$J$5:$J$2426<>'MDOT FTA Detail'!$A$171)*(Projects!$K$5:K$2426))","v":0},{"$f":"I106-G106","v":0},{"$f":"SUMPRODUCT((Projects!$A$5:$A$2426='MDOT FTA Detail'!$G$3)*(Projects!$C$5:$C$2426='MDOT FTA Detail'!$C$4)*(Projects!$L$5:$L$2426='MDOT FTA Detail'!$A106)*(Projects!$J$5:$J$2426<>'MDOT FTA Detail'!$A$171)*(Projects!$Q$5:Q$2426))","v":0},{"$f":"SUMPRODUCT((Projects!$A$5:$A$2426='MDOT FTA Detail'!$J$3)*(Projects!$C$5:$C$2426='MDOT FTA Detail'!$C$4)*(Projects!$L$5:$L$2426='MDOT FTA Detail'!$A106)*(Projects!$J$5:$J$2426<>'MDOT FTA Detail'!$A$171)*(Projects!$K$5:$K$2426))","v":0},{"$f":"L106-J106","v":0},{"$f":"SUMPRODUCT((Projects!$A$5:$A$2426='MDOT FTA Detail'!$J$3)*(Projects!$C$5:$C$2426='MDOT FTA Detail'!$C$4)*(Projects!$L$5:$L$2426='MDOT FTA Detail'!$A106)*(Projects!$J$5:$J$2426<>'MDOT FTA Detail'!$A$171)*(Projects!$Q$5:$Q$2426))","v":0},{"$f":"SUMPRODUCT((Projects!$A$5:$A$2426='MDOT FTA Detail'!$M$3)*(Projects!$C$5:$C$2426='MDOT FTA Detail'!$C$4)*(Projects!$L$5:$L$2426='MDOT FTA Detail'!$A106)*(Projects!$J$5:$J$2426<>'MDOT FTA Detail'!$A$171)*(Projects!$K$5:$K$2426))","v":0},{"$f":"O106-M106","v":0},{"$f":"SUMPRODUCT((Projects!$A$5:$A$2426='MDOT FTA Detail'!$M$3)*(Projects!$C$5:$C$2426='MDOT FTA Detail'!$C$4)*(Projects!$L$5:$L$2426='MDOT FTA Detail'!$A106)*(Projects!$J$5:$J$2426<>'MDOT FTA Detail'!$A$171)*(Projects!$Q$5:$Q$2426))","v":0}]
["TGR3","TIGER III Discretionary Grant","MDOT FA",{"$f":"SUMPRODUCT((Projects!$A$5:$A$2426='MDOT FTA Detail'!$D$3)*(Projects!$C$5:$C$2426='MDOT FTA Detail'!$C$4)*(Projects!$L$5:$L$2426='MDOT FTA Detail'!$A107)*(Projects!$J$5:$J$2426<>'MDOT FTA Detail'!$A$171)*(Projects!$K$5:K$2426))","v":0},{"$f":"F107-D107","v":0},{"$f":"SUMPRODUCT((Projects!$A$5:$A$2426='MDOT FTA Detail'!$D$3)*(Projects!$C$5:$C$2426='MDOT FTA Detail'!$C$4)*(Projects!$L$5:$L$2426='MDOT FTA Detail'!$A107)*(Projects!$J$5:$J$2426<>'MDOT FTA Detail'!$A$171)*(Projects!$Q$5:Q$2426))","v":0},{"$f":"SUMPRODUCT((Projects!$A$5:$A$2426='MDOT FTA Detail'!$G$3)*(Projects!$C$5:$C$2426='MDOT FTA Detail'!$C$4)*(Projects!$L$5:$L$2426='MDOT FTA Detail'!$A107)*(Projects!$J$5:$J$2426<>'MDOT FTA Detail'!$A$171)*(Projects!$K$5:K$2426))","v":0},{"$f":"I107-G107","v":0},{"$f":"SUMPRODUCT((Projects!$A$5:$A$2426='MDOT FTA Detail'!$G$3)*(Projects!$C$5:$C$2426='MDOT FTA Detail'!$C$4)*(Projects!$L$5:$L$2426='MDOT FTA Detail'!$A107)*(Projects!$J$5:$J$2426<>'MDOT FTA Detail'!$A$171)*(Projects!$Q$5:Q$2426))","v":0},{"$f":"SUMPRODUCT((Projects!$A$5:$A$2426='MDOT FTA Detail'!$J$3)*(Projects!$C$5:$C$2426='MDOT FTA Detail'!$C$4)*(Projects!$L$5:$L$2426='MDOT FTA Detail'!$A107)*(Projects!$J$5:$J$2426<>'MDOT FTA Detail'!$A$171)*(Projects!$K$5:$K$2426))","v":0},{"$f":"L107-J107","v":0},{"$f":"SUMPRODUCT((Projects!$A$5:$A$2426='MDOT FTA Detail'!$J$3)*(Projects!$C$5:$C$2426='MDOT FTA Detail'!$C$4)*(Projects!$L$5:$L$2426='MDOT FTA Detail'!$A107)*(Projects!$J$5:$J$2426<>'MDOT FTA Detail'!$A$171)*(Projects!$Q$5:$Q$2426))","v":0},{"$f":"SUMPRODUCT((Projects!$A$5:$A$2426='MDOT FTA Detail'!$M$3)*(Projects!$C$5:$C$2426='MDOT FTA Detail'!$C$4)*(Projects!$L$5:$L$2426='MDOT FTA Detail'!$A107)*(Projects!$J$5:$J$2426<>'MDOT FTA Detail'!$A$171)*(Projects!$K$5:$K$2426))","v":0},{"$f":"O107-M107","v":0},{"$f":"SUMPRODUCT((Projects!$A$5:$A$2426='MDOT FTA Detail'!$M$3)*(Projects!$C$5:$C$2426='MDOT FTA Detail'!$C$4)*(Projects!$L$5:$L$2426='MDOT FTA Detail'!$A107)*(Projects!$J$5:$J$2426<>'MDOT FTA Detail'!$A$171)*(Projects!$Q$5:$Q$2426))","v":0}]
["TIP","Transportation Improvements Projects SAFETEA-LU","MDOT FA",{"$f":"SUMPRODUCT((Projects!$A$5:$A$2426='MDOT FTA Detail'!$D$3)*(Projects!$C$5:$C$2426='MDOT FTA Detail'!$C$4)*(Projects!$L$5:$L$2426='MDOT FTA Detail'!$A108)*(Projects!$J$5:$J$2426<>'MDOT FTA Detail'!$A$171)*(Projects!$K$5:K$2426))","v":0},{"$f":"F108-D108","v":0},{"$f":"SUMPRODUCT((Projects!$A$5:$A$2426='MDOT FTA Detail'!$D$3)*(Projects!$C$5:$C$2426='MDOT FTA Detail'!$C$4)*(Projects!$L$5:$L$2426='MDOT FTA Detail'!$A108)*(Projects!$J$5:$J$2426<>'MDOT FTA Detail'!$A$171)*(Projects!$Q$5:Q$2426))","v":0},{"$f":"SUMPRODUCT((Projects!$A$5:$A$2426='MDOT FTA Detail'!$G$3)*(Projects!$C$5:$C$2426='MDOT FTA Detail'!$C$4)*(Projects!$L$5:$L$2426='MDOT FTA Detail'!$A108)*(Projects!$J$5:$J$2426<>'MDOT FTA Detail'!$A$171)*(Projects!$K$5:K$2426))","v":0},{"$f":"I108-G108","v":0},{"$f":"SUMPRODUCT((Projects!$A$5:$A$2426='MDOT FTA Detail'!$G$3)*(Projects!$C$5:$C$2426='MDOT FTA Detail'!$C$4)*(Projects!$L$5:$L$2426='MDOT FTA Detail'!$A108)*(Projects!$J$5:$J$2426<>'MDOT FTA Detail'!$A$171)*(Projects!$Q$5:Q$2426))","v":0},{"$f":"SUMPRODUCT((Projects!$A$5:$A$2426='MDOT FTA Detail'!$J$3)*(Projects!$C$5:$C$2426='MDOT FTA Detail'!$C$4)*(Projects!$L$5:$L$2426='MDOT FTA Detail'!$A108)*(Projects!$J$5:$J$2426<>'MDOT FTA Detail'!$A$171)*(Projects!$K$5:$K$2426))","v":0},{"$f":"L108-J108","v":0},{"$f":"SUMPRODUCT((Projects!$A$5:$A$2426='MDOT FTA Detail'!$J$3)*(Projects!$C$5:$C$2426='MDOT FTA Detail'!$C$4)*(Projects!$L$5:$L$2426='MDOT FTA Detail'!$A108)*(Projects!$J$5:$J$2426<>'MDOT FTA Detail'!$A$171)*(Projects!$Q$5:$Q$2426))","v":0},{"$f":"SUMPRODUCT((Projects!$A$5:$A$2426='MDOT FTA Detail'!$M$3)*(Projects!$C$5:$C$2426='MDOT FTA Detail'!$C$4)*(Projects!$L$5:$L$2426='MDOT FTA Detail'!$A108)*(Projects!$J$5:$J$2426<>'MDOT FTA Detail'!$A$171)*(Projects!$K$5:$K$2426))","v":0},{"$f":"O108-M108","v":0},{"$f":"SUMPRODUCT((Projects!$A$5:$A$2426='MDOT FTA Detail'!$M$3)*(Projects!$C$5:$C$2426='MDOT FTA Detail'!$C$4)*(Projects!$L$5:$L$2426='MDOT FTA Detail'!$A108)*(Projects!$J$5:$J$2426<>'MDOT FTA Detail'!$A$171)*(Projects!$Q$5:$Q$2426))","v":0}]
["TPFD","Truck Parking Faciilities Discretionary","MDOT FA",{"$f":"SUMPRODUCT((Projects!$A$5:$A$2426='MDOT FTA Detail'!$D$3)*(Projects!$C$5:$C$2426='MDOT FTA Detail'!$C$4)*(Projects!$L$5:$L$2426='MDOT FTA Detail'!$A109)*(Projects!$J$5:$J$2426<>'MDOT FTA Detail'!$A$171)*(Projects!$K$5:K$2426))","v":0},0,{"$f":"SUMPRODUCT((Projects!$A$5:$A$2426='MDOT FTA Detail'!$D$3)*(Projects!$C$5:$C$2426='MDOT FTA Detail'!$C$4)*(Projects!$L$5:$L$2426='MDOT FTA Detail'!$A109)*(Projects!$J$5:$J$2426<>'MDOT FTA Detail'!$A$171)*(Projects!$Q$5:Q$2426))","v":0},{"$f":"SUMPRODUCT((Projects!$A$5:$A$2426='MDOT FTA Detail'!$G$3)*(Projects!$C$5:$C$2426='MDOT FTA Detail'!$C$4)*(Projects!$L$5:$L$2426='MDOT FTA Detail'!$A109)*(Projects!$J$5:$J$2426<>'MDOT FTA Detail'!$A$171)*(Projects!$K$5:K$2426))","v":0},0,{"$f":"SUMPRODUCT((Projects!$A$5:$A$2426='MDOT FTA Detail'!$G$3)*(Projects!$C$5:$C$2426='MDOT FTA Detail'!$C$4)*(Projects!$L$5:$L$2426='MDOT FTA Detail'!$A109)*(Projects!$J$5:$J$2426<>'MDOT FTA Detail'!$A$171)*(Projects!$Q$5:Q$2426))","v":0},{"$f":"SUMPRODUCT((Projects!$A$5:$A$2426='MDOT FTA Detail'!$J$3)*(Projects!$C$5:$C$2426='MDOT FTA Detail'!$C$4)*(Projects!$L$5:$L$2426='MDOT FTA Detail'!$A109)*(Projects!$J$5:$J$2426<>'MDOT FTA Detail'!$A$171)*(Projects!$K$5:$K$2426))","v":0},0,{"$f":"SUMPRODUCT((Projects!$A$5:$A$2426='MDOT FTA Detail'!$J$3)*(Projects!$C$5:$C$2426='MDOT FTA Detail'!$C$4)*(Projects!$L$5:$L$2426='MDOT FTA Detail'!$A109)*(Projects!$J$5:$J$2426<>'MDOT FTA Detail'!$A$171)*(Projects!$Q$5:$Q$2426))","v":0},{"$f":"SUMPRODUCT((Projects!$A$5:$A$2426='MDOT FTA Detail'!$M$3)*(Projects!$C$5:$C$2426='MDOT FTA Detail'!$C$4)*(Projects!$L$5:$L$2426='MDOT FTA Detail'!$A109)*(Projects!$J$5:$J$2426<>'MDOT FTA Detail'!$A$171)*(Projects!$K$5:$K$2426))","v":0},0,{"$f":"SUMPRODUCT((Projects!$A$5:$A$2426='MDOT FTA Detail'!$M$3)*(Projects!$C$5:$C$2426='MDOT FTA Detail'!$C$4)*(Projects!$L$5:$L$2426='MDOT FTA Detail'!$A109)*(Projects!$J$5:$J$2426<>'MDOT FTA Detail'!$A$171)*(Projects!$Q$5:$Q$2426))","v":0}]
["CTF","CTF - Comprehensive Transportation Fund","Transit",{"$f":"SUMPRODUCT((Projects!$A$5:$A$2426='MDOT FTA Detail'!$D$3)*(Projects!$L$5:$L$2426='MDOT FTA Detail'!$A110)*(Projects!$K$5:$K$2426))","v":0},{"$f":"F110-D110","v":0},{"$f":"SUMPRODUCT((Projects!$A$5:$A$2426='MDOT FTA Detail'!$D$3)*(Projects!$L$5:$L$2426='MDOT FTA Detail'!$A110)*(Projects!$Q$5:$Q$2426))","v":0},{"$f":"SUMPRODUCT((Projects!$A$5:$A$2426='MDOT FTA Detail'!$G$3)*(Projects!$L$5:$L$2426='MDOT FTA Detail'!$A110)*(Projects!$K$5:$K$2426))","v":0},{"$f":"I110-G110","v":0},{"$f":"SUMPRODUCT((Projects!$A$5:$A$2426='MDOT FTA Detail'!$G$3)*(Projects!$L$5:$L$2426='MDOT FTA Detail'!$A110)*(Projects!$Q$5:$Q$2426))","v":0},{"$f":"SUMPRODUCT((Projects!$A$5:$A$2426='MDOT FTA Detail'!$J$3)*(Projects!$L$5:$L$2426='MDOT FTA Detail'!$A110)*(Projects!$K$5:$K$2426))","v":0},{"$f":"L110-J110","v":0},{"$f":"SUMPRODUCT((Projects!$A$5:$A$2426='MDOT FTA Detail'!$J$3)*(Projects!$L$5:$L$2426='MDOT FTA Detail'!$A110)*(Projects!$Q$5:$Q$2426))","v":0},{"$f":"SUMPRODUCT((Projects!$A$5:$A$2426='MDOT FTA Detail'!$M$3)*(Projects!$L$5:$L$2426='MDOT FTA Detail'!$A110)*(Projects!$K$5:$K$2426))","v":0},{"$f":"O110-M110","v":0},{"$f":"SUMPRODUCT((Projects!$A$5:$A$2426='MDOT FTA Detail'!$M$3)*(Projects!$L$5:$L$2426='MDOT FTA Detail'!$A110)*(Projects!$Q$5:$Q$2426))","v":0}]
[3038,"Section 3038 - Over the Road Bus Program","Transit",{"$f":"SUMPRODUCT((Projects!$A$5:$A$2426='MDOT FTA Detail'!$D$3)*(Projects!$L$5:$L$2426='MDOT FTA Detail'!$A111)*(Projects!$K$5:$K$2426))","v":0},{"$f":"F111-D111","v":0},{"$f":"SUMPRODUCT((Projects!$A$5:$A$2426='MDOT FTA Detail'!$D$3)*(Projects!$L$5:$L$2426='MDOT FTA Detail'!$A111)*(Projects!$Q$5:$Q$2426))","v":0},{"$f":"SUMPRODUCT((Projects!$A$5:$A$2426='MDOT FTA Detail'!$G$3)*(Projects!$L$5:$L$2426='MDOT FTA Detail'!$A111)*(Projects!$K$5:$K$2426))","v":0},{"$f":"I111-G111","v":0},{"$f":"SUMPRODUCT((Projects!$A$5:$A$2426='MDOT FTA Detail'!$G$3)*(Projects!$L$5:$L$2426='MDOT FTA Detail'!$A111)*(Projects!$Q$5:$Q$2426))","v":0},{"$f":"SUMPRODUCT((Projects!$A$5:$A$2426='MDOT FTA Detail'!$J$3)*(Projects!$L$5:$L$2426='MDOT FTA Detail'!$A111)*(Projects!$K$5:$K$2426))","v":0},{"$f":"L111-J111","v":0},{"$f":"SUMPRODUCT((Projects!$A$5:$A$2426='MDOT FTA Detail'!$J$3)*(Projects!$L$5:$L$2426='MDOT FTA Detail'!$A111)*(Projects!$Q$5:$Q$2426))","v":0},{"$f":"SUMPRODUCT((Projects!$A$5:$A$2426='MDOT FTA Detail'!$M$3)*(Projects!$L$5:$L$2426='MDOT FTA Detail'!$A111)*(Projects!$K$5:$K$2426))","v":0},{"$f":"O111-M111","v":0},{"$f":"SUMPRODUCT((Projects!$A$5:$A$2426='MDOT FTA Detail'!$M$3)*(Projects!$L$5:$L$2426='MDOT FTA Detail'!$A111)*(Projects!$Q$5:$Q$2426))","v":0}]
[3045,"Section 3045 - National Fuel Cell Technology Development Program","Transit",{"$f":"SUMPRODUCT((Projects!$A$5:$A$2426='MDOT FTA Detail'!$D$3)*(Projects!$L$5:$L$2426='MDOT FTA Detail'!$A112)*(Projects!$K$5:$K$2426))","v":0},{"$f":"F112-D112","v":0},{"$f":"SUMPRODUCT((Projects!$A$5:$A$2426='MDOT FTA Detail'!$D$3)*(Projects!$L$5:$L$2426='MDOT FTA Detail'!$A112)*(Projects!$Q$5:$Q$2426))","v":0},{"$f":"SUMPRODUCT((Projects!$A$5:$A$2426='MDOT FTA Detail'!$G$3)*(Projects!$L$5:$L$2426='MDOT FTA Detail'!$A112)*(Projects!$K$5:$K$2426))","v":0},{"$f":"I112-G112","v":0},{"$f":"SUMPRODUCT((Projects!$A$5:$A$2426='MDOT FTA Detail'!$G$3)*(Projects!$L$5:$L$2426='MDOT FTA Detail'!$A112)*(Projects!$Q$5:$Q$2426))","v":0},{"$f":"SUMPRODUCT((Projects!$A$5:$A$2426='MDOT FTA Detail'!$J$3)*(Projects!$L$5:$L$2426='MDOT FTA Detail'!$A112)*(Projects!$K$5:$K$2426))","v":0},{"$f":"L112-J112","v":0},{"$f":"SUMPRODUCT((Projects!$A$5:$A$2426='MDOT FTA Detail'!$J$3)*(Projects!$L$5:$L$2426='MDOT FTA Detail'!$A112)*(Projects!$Q$5:$Q$2426))","v":0},{"$f":"SUMPRODUCT((Projects!$A$5:$A$2426='MDOT FTA Detail'!$M$3)*(Projects!$L$5:$L$2426='MDOT FTA Detail'!$A112)*(Projects!$K$5:$K$2426))","v":0},{"$f":"O112-M112","v":0},{"$f":"SUMPRODUCT((Projects!$A$5:$A$2426='MDOT FTA Detail'!$M$3)*(Projects!$L$5:$L$2426='MDOT FTA Detail'!$A112)*(Projects!$Q$5:$Q$2426))","v":0}]
[5303,"Section 5303 - Metropolitan Transportation Planning","Transit",{"$f":"SUMPRODUCT((Projects!$A$5:$A$2426='MDOT FTA Detail'!$D$3)*(Projects!$L$5:$L$2426='MDOT FTA Detail'!$A113)*(Projects!$K$5:$K$2426))","v":0},{"$f":"F113-D113","v":0},{"$f":"SUMPRODUCT((Projects!$A$5:$A$2426='MDOT FTA Detail'!$D$3)*(Projects!$L$5:$L$2426='MDOT FTA Detail'!$A113)*(Projects!$Q$5:$Q$2426))","v":0},{"$f":"SUMPRODUCT((Projects!$A$5:$A$2426='MDOT FTA Detail'!$G$3)*(Projects!$L$5:$L$2426='MDOT FTA Detail'!$A113)*(Projects!$K$5:$K$2426))","v":0},0,{"$f":"SUMPRODUCT((Projects!$A$5:$A$2426='MDOT FTA Detail'!$G$3)*(Projects!$L$5:$L$2426='MDOT FTA Detail'!$A113)*(Projects!$Q$5:$Q$2426))","v":0},{"$f":"SUMPRODUCT((Projects!$A$5:$A$2426='MDOT FTA Detail'!$J$3)*(Projects!$L$5:$L$2426='MDOT FTA Detail'!$A113)*(Projects!$K$5:$K$2426))","v":0},0,{"$f":"SUMPRODUCT((Projects!$A$5:$A$2426='MDOT FTA Detail'!$J$3)*(Projects!$L$5:$L$2426='MDOT FTA Detail'!$A113)*(Projects!$Q$5:$Q$2426))","v":0},{"$f":"SUMPRODUCT((Projects!$A$5:$A$2426='MDOT FTA Detail'!$M$3)*(Projects!$L$5:$L$2426='MDOT FTA Detail'!$A113)*(Projects!$K$5:$K$2426))","v":0},0,{"$f":"SUMPRODUCT((Projects!$A$5:$A$2426='MDOT FTA Detail'!$M$3)*(Projects!$L$5:$L$2426='MDOT FTA Detail'!$A113)*(Projects!$Q$5:$Q$2426))","v":0}]
[5304,"Section 5304 - Statewide Transportation Planning","Transit",{"$f":"SUMPRODUCT((Projects!$A$5:$A$2426='MDOT FTA Detail'!$D$3)*(Projects!$L$5:$L$2426='MDOT FTA Detail'!$A114)*(Projects!$K$5:$K$2426))","v":0},0,{"$f":"SUMPRODUCT((Projects!$A$5:$A$2426='MDOT FTA Detail'!$D$3)*(Projects!$L$5:$L$2426='MDOT FTA Detail'!$A114)*(Projects!$Q$5:$Q$2426))","v":0},{"$f":"SUMPRODUCT((Projects!$A$5:$A$2426='MDOT FTA Detail'!$G$3)*(Projects!$L$5:$L$2426='MDOT FTA Detail'!$A114)*(Projects!$K$5:$K$2426))","v":0},0,{"$f":"SUMPRODUCT((Projects!$A$5:$A$2426='MDOT FTA Detail'!$G$3)*(Projects!$L$5:$L$2426='MDOT FTA Detail'!$A114)*(Projects!$Q$5:$Q$2426))","v":0},{"$f":"SUMPRODUCT((Projects!$A$5:$A$2426='MDOT FTA Detail'!$J$3)*(Projects!$L$5:$L$2426='MDOT FTA Detail'!$A114)*(Projects!$K$5:$K$2426))","v":0},0,{"$f":"SUMPRODUCT((Projects!$A$5:$A$2426='MDOT FTA Detail'!$J$3)*(Projects!$L$5:$L$2426='MDOT FTA Detail'!$A114)*(Projects!$Q$5:$Q$2426))","v":0},{"$f":"SUMPRODUCT((Projects!$A$5:$A$2426='MDOT FTA Detail'!$M$3)*(Projects!$L$5:$L$2426='MDOT FTA Detail'!$A114)*(Projects!$K$5:$K$2426))","v":0},0,{"$f":"SUMPRODUCT((Projects!$A$5:$A$2426='MDOT FTA Detail'!$M$3)*(Projects!$L$5:$L$2426='MDOT FTA Detail'!$A114)*(Projects!$Q$5:$Q$2426))","v":0}]
[5305,"Section 5305 - Metropolitan and Statewide Planning","Transit",{"$f":"SUMPRODUCT((Projects!$A$5:$A$2426='MDOT FTA Detail'!$D$3)*(Projects!$L$5:$L$2426='MDOT FTA Detail'!$A115)*(Projects!$K$5:$K$2426))","v":0},0,{"$f":"SUMPRODUCT((Projects!$A$5:$A$2426='MDOT FTA Detail'!$D$3)*(Projects!$L$5:$L$2426='MDOT FTA Detail'!$A115)*(Projects!$Q$5:$Q$2426))","v":0},{"$f":"SUMPRODUCT((Projects!$A$5:$A$2426='MDOT FTA Detail'!$G$3)*(Projects!$L$5:$L$2426='MDOT FTA Detail'!$A115)*(Projects!$K$5:$K$2426))","v":0},0,{"$f":"SUMPRODUCT((Projects!$A$5:$A$2426='MDOT FTA Detail'!$G$3)*(Projects!$L$5:$L$2426='MDOT FTA Detail'!$A115)*(Projects!$Q$5:$Q$2426))","v":0},{"$f":"SUMPRODUCT((Projects!$A$5:$A$2426='MDOT FTA Detail'!$J$3)*(Projects!$L$5:$L$2426='MDOT FTA Detail'!$A115)*(Projects!$K$5:$K$2426))","v":0},0,{"$f":"SUMPRODUCT((Projects!$A$5:$A$2426='MDOT FTA Detail'!$J$3)*(Projects!$L$5:$L$2426='MDOT FTA Detail'!$A115)*(Projects!$Q$5:$Q$2426))","v":0},{"$f":"SUMPRODUCT((Projects!$A$5:$A$2426='MDOT FTA Detail'!$M$3)*(Projects!$L$5:$L$2426='MDOT FTA Detail'!$A115)*(Projects!$K$5:$K$2426))","v":0},0,{"$f":"SUMPRODUCT((Projects!$A$5:$A$2426='MDOT FTA Detail'!$M$3)*(Projects!$L$5:$L$2426='MDOT FTA Detail'!$A115)*(Projects!$Q$5:$Q$2426))","v":0}]
[5307,"Section 5307 - UZA Formula","Transit",{"$f":"SUMPRODUCT((Projects!$A$5:$A$2426='MDOT FTA Detail'!$D$3)*(Projects!$L$5:$L$2426='MDOT FTA Detail'!$A116)*(Projects!$K$5:$K$2426))","v":1085317},1141731,{"$f":"SUMPRODUCT((Projects!$A$5:$A$2426='MDOT FTA Detail'!$D$3)*(Projects!$L$5:$L$2426='MDOT FTA Detail'!$A116)*(Projects!$Q$5:$Q$2426))","v":2227048},{"$f":"SUMPRODUCT((Projects!$A$5:$A$2426='MDOT FTA Detail'!$G$3)*(Projects!$L$5:$L$2426='MDOT FTA Detail'!$A116)*(Projects!$K$5:$K$2426))","v":813836},1082370,{"$f":"SUMPRODUCT((Projects!$A$5:$A$2426='MDOT FTA Detail'!$G$3)*(Projects!$L$5:$L$2426='MDOT FTA Detail'!$A116)*(Projects!$Q$5:$Q$2426))","v":1896206},{"$f":"SUMPRODUCT((Projects!$A$5:$A$2426='MDOT FTA Detail'!$J$3)*(Projects!$L$5:$L$2426='MDOT FTA Detail'!$A116)*(Projects!$K$5:$K$2426))","v":816249},1097681,{"$f":"SUMPRODUCT((Projects!$A$5:$A$2426='MDOT FTA Detail'!$J$3)*(Projects!$L$5:$L$2426='MDOT FTA Detail'!$A116)*(Projects!$Q$5:$Q$2426))","v":1913930},{"$f":"SUMPRODUCT((Projects!$A$5:$A$2426='MDOT FTA Detail'!$M$3)*(Projects!$L$5:$L$2426='MDOT FTA Detail'!$A116)*(Projects!$K$5:$K$2426))","v":857061},1132265,{"$f":"SUMPRODUCT((Projects!$A$5:$A$2426='MDOT FTA Detail'!$M$3)*(Projects!$L$5:$L$2426='MDOT FTA Detail'!$A116)*(Projects!$Q$5:$Q$2426))","v":1989326}]
[5308,"Section 5308 - Clean Fuels Program","Transit",{"$f":"SUMPRODUCT((Projects!$A$5:$A$2426='MDOT FTA Detail'!$D$3)*(Projects!$L$5:$L$2426='MDOT FTA Detail'!$A117)*(Projects!$K$5:$K$2426))","v":0},0,{"$f":"SUMPRODUCT((Projects!$A$5:$A$2426='MDOT FTA Detail'!$D$3)*(Projects!$L$5:$L$2426='MDOT FTA Detail'!$A117)*(Projects!$Q$5:$Q$2426))","v":0},{"$f":"SUMPRODUCT((Projects!$A$5:$A$2426='MDOT FTA Detail'!$G$3)*(Projects!$L$5:$L$2426='MDOT FTA Detail'!$A117)*(Projects!$K$5:$K$2426))","v":0},0,{"$f":"SUMPRODUCT((Projects!$A$5:$A$2426='MDOT FTA Detail'!$G$3)*(Projects!$L$5:$L$2426='MDOT FTA Detail'!$A117)*(Projects!$Q$5:$Q$2426))","v":0},{"$f":"SUMPRODUCT((Projects!$A$5:$A$2426='MDOT FTA Detail'!$J$3)*(Projects!$L$5:$L$2426='MDOT FTA Detail'!$A117)*(Projects!$K$5:$K$2426))","v":0},0,{"$f":"SUMPRODUCT((Projects!$A$5:$A$2426='MDOT FTA Detail'!$J$3)*(Projects!$L$5:$L$2426='MDOT FTA Detail'!$A117)*(Projects!$Q$5:$Q$2426))","v":0},{"$f":"SUMPRODUCT((Projects!$A$5:$A$2426='MDOT FTA Detail'!$M$3)*(Projects!$L$5:$L$2426='MDOT FTA Detail'!$A117)*(Projects!$K$5:$K$2426))","v":0},0,{"$f":"SUMPRODUCT((Projects!$A$5:$A$2426='MDOT FTA Detail'!$M$3)*(Projects!$L$5:$L$2426='MDOT FTA Detail'!$A117)*(Projects!$Q$5:$Q$2426))","v":0}]
[5309,"Section 5309 - Fixed Guideway Capital Investment Grant","Transit",{"$f":"SUMPRODUCT((Projects!$A$5:$A$2426='MDOT FTA Detail'!$D$3)*(Projects!$L$5:$L$2426='MDOT FTA Detail'!$A118)*(Projects!$K$5:$K$2426))","v":0},0,{"$f":"SUMPRODUCT((Projects!$A$5:$A$2426='MDOT FTA Detail'!$D$3)*(Projects!$L$5:$L$2426='MDOT FTA Detail'!$A118)*(Projects!$Q$5:$Q$2426))","v":0},{"$f":"SUMPRODUCT((Projects!$A$5:$A$2426='MDOT FTA Detail'!$G$3)*(Projects!$L$5:$L$2426='MDOT FTA Detail'!$A118)*(Projects!$K$5:$K$2426))","v":0},0,{"$f":"SUMPRODUCT((Projects!$A$5:$A$2426='MDOT FTA Detail'!$G$3)*(Projects!$L$5:$L$2426='MDOT FTA Detail'!$A118)*(Projects!$Q$5:$Q$2426))","v":0},{"$f":"SUMPRODUCT((Projects!$A$5:$A$2426='MDOT FTA Detail'!$J$3)*(Projects!$L$5:$L$2426='MDOT FTA Detail'!$A118)*(Projects!$K$5:$K$2426))","v":0},0,{"$f":"SUMPRODUCT((Projects!$A$5:$A$2426='MDOT FTA Detail'!$J$3)*(Projects!$L$5:$L$2426='MDOT FTA Detail'!$A118)*(Projects!$Q$5:$Q$2426))","v":0},{"$f":"SUMPRODUCT((Projects!$A$5:$A$2426='MDOT FTA Detail'!$M$3)*(Projects!$L$5:$L$2426='MDOT FTA Detail'!$A118)*(Projects!$K$5:$K$2426))","v":0},0,{"$f":"SUMPRODUCT((Projects!$A$5:$A$2426='MDOT FTA Detail'!$M$3)*(Projects!$L$5:$L$2426='MDOT FTA Detail'!$A118)*(Projects!$Q$5:$Q$2426))","v":0}]
[5310,"Section 5310 - Enhanced Mobility of Seniors and Individuals with Disabilities","Transit",{"$f":"SUMPRODUCT((Projects!$A$5:$A$2426='MDOT FTA Detail'!$D$3)*(Projects!$L$5:$L$2426='MDOT FTA Detail'!$A119)*(Projects!$K$5:$K$2426))","v":60000},15000,{"$f":"SUMPRODUCT((Projects!$A$5:$A$2426='MDOT FTA Detail'!$D$3)*(Projects!$L$5:$L$2426='MDOT FTA Detail'!$A119)*(Projects!$Q$5:$Q$2426))","v":75000},{"$f":"SUMPRODUCT((Projects!$A$5:$A$2426='MDOT FTA Detail'!$G$3)*(Projects!$L$5:$L$2426='MDOT FTA Detail'!$A119)*(Projects!$K$5:$K$2426))","v":60000},15000,{"$f":"SUMPRODUCT((Projects!$A$5:$A$2426='MDOT FTA Detail'!$G$3)*(Projects!$L$5:$L$2426='MDOT FTA Detail'!$A119)*(Projects!$Q$5:$Q$2426))","v":75000},{"$f":"SUMPRODUCT((Projects!$A$5:$A$2426='MDOT FTA Detail'!$J$3)*(Projects!$L$5:$L$2426='MDOT FTA Detail'!$A119)*(Projects!$K$5:$K$2426))","v":60000},15000,{"$f":"SUMPRODUCT((Projects!$A$5:$A$2426='MDOT FTA Detail'!$J$3)*(Projects!$L$5:$L$2426='MDOT FTA Detail'!$A119)*(Projects!$Q$5:$Q$2426))","v":75000},{"$f":"SUMPRODUCT((Projects!$A$5:$A$2426='MDOT FTA Detail'!$M$3)*(Projects!$L$5:$L$2426='MDOT FTA Detail'!$A119)*(Projects!$K$5:$K$2426))","v":60000},15000,{"$f":"SUMPRODUCT((Projects!$A$5:$A$2426='MDOT FTA Detail'!$M$3)*(Projects!$L$5:$L$2426='MDOT FTA Detail'!$A119)*(Projects!$Q$5:$Q$2426))","v":75000}]
[5311,"Section 5311 - Non-UZA ","Transit",{"$f":"SUMPRODUCT((Projects!$A$5:$A$2426='MDOT FTA Detail'!$D$3)*(Projects!$L$5:$L$2426='MDOT FTA Detail'!$A120)*(Projects!$K$5:$K$2426))","v":0},0,{"$f":"SUMPRODUCT((Projects!$A$5:$A$2426='MDOT FTA Detail'!$D$3)*(Projects!$L$5:$L$2426='MDOT FTA Detail'!$A120)*(Projects!$Q$5:$Q$2426))","v":0},{"$f":"SUMPRODUCT((Projects!$A$5:$A$2426='MDOT FTA Detail'!$G$3)*(Projects!$L$5:$L$2426='MDOT FTA Detail'!$A120)*(Projects!$K$5:$K$2426))","v":0},0,{"$f":"SUMPRODUCT((Projects!$A$5:$A$2426='MDOT FTA Detail'!$G$3)*(Projects!$L$5:$L$2426='MDOT FTA Detail'!$A120)*(Projects!$Q$5:$Q$2426))","v":0},{"$f":"SUMPRODUCT((Projects!$A$5:$A$2426='MDOT FTA Detail'!$J$3)*(Projects!$L$5:$L$2426='MDOT FTA Detail'!$A120)*(Projects!$K$5:$K$2426))","v":0},0,{"$f":"SUMPRODUCT((Projects!$A$5:$A$2426='MDOT FTA Detail'!$J$3)*(Projects!$L$5:$L$2426='MDOT FTA Detail'!$A120)*(Projects!$Q$5:$Q$2426))","v":0},{"$f":"SUMPRODUCT((Projects!$A$5:$A$2426='MDOT FTA Detail'!$M$3)*(Projects!$L$5:$L$2426='MDOT FTA Detail'!$A120)*(Projects!$K$5:$K$2426))","v":0},0,{"$f":"SUMPRODUCT((Projects!$A$5:$A$2426='MDOT FTA Detail'!$M$3)*(Projects!$L$5:$L$2426='MDOT FTA Detail'!$A120)*(Projects!$Q$5:$Q$2426))","v":0}]
[5312,"Section 5312 - Research, Development, Demonstration, and Deployment","Transit",{"$f":"SUMPRODUCT((Projects!$A$5:$A$2426='MDOT FTA Detail'!$D$3)*(Projects!$L$5:$L$2426='MDOT FTA Detail'!$A121)*(Projects!$K$5:$K$2426))","v":0},{"$f":"F121-D121","v":0},{"$f":"SUMPRODUCT((Projects!$A$5:$A$2426='MDOT FTA Detail'!$D$3)*(Projects!$L$5:$L$2426='MDOT FTA Detail'!$A121)*(Projects!$Q$5:$Q$2426))","v":0},{"$f":"SUMPRODUCT((Projects!$A$5:$A$2426='MDOT FTA Detail'!$G$3)*(Projects!$L$5:$L$2426='MDOT FTA Detail'!$A121)*(Projects!$K$5:$K$2426))","v":0},{"$f":"I121-G121","v":0},{"$f":"SUMPRODUCT((Projects!$A$5:$A$2426='MDOT FTA Detail'!$G$3)*(Projects!$L$5:$L$2426='MDOT FTA Detail'!$A121)*(Projects!$Q$5:$Q$2426))","v":0},{"$f":"SUMPRODUCT((Projects!$A$5:$A$2426='MDOT FTA Detail'!$J$3)*(Projects!$L$5:$L$2426='MDOT FTA Detail'!$A121)*(Projects!$K$5:$K$2426))","v":0},{"$f":"L121-J121","v":0},{"$f":"SUMPRODUCT((Projects!$A$5:$A$2426='MDOT FTA Detail'!$J$3)*(Projects!$L$5:$L$2426='MDOT FTA Detail'!$A121)*(Projects!$Q$5:$Q$2426))","v":0},{"$f":"SUMPRODUCT((Projects!$A$5:$A$2426='MDOT FTA Detail'!$M$3)*(Projects!$L$5:$L$2426='MDOT FTA Detail'!$A121)*(Projects!$K$5:$K$2426))","v":0},{"$f":"O121-M121","v":0},{"$f":"SUMPRODUCT((Projects!$A$5:$A$2426='MDOT FTA Detail'!$M$3)*(Projects!$L$5:$L$2426='MDOT FTA Detail'!$A121)*(Projects!$Q$5:$Q$2426))","v":0}]
[5313,"Section 5313 - Transit Cooperative Research Program","Transit",{"$f":"SUMPRODUCT((Projects!$A$5:$A$2426='MDOT FTA Detail'!$D$3)*(Projects!$L$5:$L$2426='MDOT FTA Detail'!$A122)*(Projects!$K$5:$K$2426))","v":0},0,{"$f":"SUMPRODUCT((Projects!$A$5:$A$2426='MDOT FTA Detail'!$D$3)*(Projects!$L$5:$L$2426='MDOT FTA Detail'!$A122)*(Projects!$Q$5:$Q$2426))","v":0},{"$f":"SUMPRODUCT((Projects!$A$5:$A$2426='MDOT FTA Detail'!$G$3)*(Projects!$L$5:$L$2426='MDOT FTA Detail'!$A122)*(Projects!$K$5:$K$2426))","v":0},0,{"$f":"SUMPRODUCT((Projects!$A$5:$A$2426='MDOT FTA Detail'!$G$3)*(Projects!$L$5:$L$2426='MDOT FTA Detail'!$A122)*(Projects!$Q$5:$Q$2426))","v":0},{"$f":"SUMPRODUCT((Projects!$A$5:$A$2426='MDOT FTA Detail'!$J$3)*(Projects!$L$5:$L$2426='MDOT FTA Detail'!$A122)*(Projects!$K$5:$K$2426))","v":0},0,{"$f":"SUMPRODUCT((Projects!$A$5:$A$2426='MDOT FTA Detail'!$J$3)*(Projects!$L$5:$L$2426='MDOT FTA Detail'!$A122)*(Projects!$Q$5:$Q$2426))","v":0},{"$f":"SUMPRODUCT((Projects!$A$5:$A$2426='MDOT FTA Detail'!$M$3)*(Projects!$L$5:$L$2426='MDOT FTA Detail'!$A122)*(Projects!$K$5:$K$2426))","v":0},0,{"$f":"SUMPRODUCT((Projects!$A$5:$A$2426='MDOT FTA Detail'!$M$3)*(Projects!$L$5:$L$2426='MDOT FTA Detail'!$A122)*(Projects!$Q$5:$Q$2426))","v":0}]
[5314,"Section 5314 - Technical Assistance and Standards","Transit",{"$f":"SUMPRODUCT((Projects!$A$5:$A$2426='MDOT FTA Detail'!$D$3)*(Projects!$L$5:$L$2426='MDOT FTA Detail'!$A123)*(Projects!$K$5:$K$2426))","v":0},0,{"$f":"SUMPRODUCT((Projects!$A$5:$A$2426='MDOT FTA Detail'!$D$3)*(Projects!$L$5:$L$2426='MDOT FTA Detail'!$A123)*(Projects!$Q$5:$Q$2426))","v":0},{"$f":"SUMPRODUCT((Projects!$A$5:$A$2426='MDOT FTA Detail'!$G$3)*(Projects!$L$5:$L$2426='MDOT FTA Detail'!$A123)*(Projects!$K$5:$K$2426))","v":0},0,{"$f":"SUMPRODUCT((Projects!$A$5:$A$2426='MDOT FTA Detail'!$G$3)*(Projects!$L$5:$L$2426='MDOT FTA Detail'!$A123)*(Projects!$Q$5:$Q$2426))","v":0},{"$f":"SUMPRODUCT((Projects!$A$5:$A$2426='MDOT FTA Detail'!$J$3)*(Projects!$L$5:$L$2426='MDOT FTA Detail'!$A123)*(Projects!$K$5:$K$2426))","v":0},0,{"$f":"SUMPRODUCT((Projects!$A$5:$A$2426='MDOT FTA Detail'!$J$3)*(Projects!$L$5:$L$2426='MDOT FTA Detail'!$A123)*(Projects!$Q$5:$Q$2426))","v":0},{"$f":"SUMPRODUCT((Projects!$A$5:$A$2426='MDOT FTA Detail'!$M$3)*(Projects!$L$5:$L$2426='MDOT FTA Detail'!$A123)*(Projects!$K$5:$K$2426))","v":0},0,{"$f":"SUMPRODUCT((Projects!$A$5:$A$2426='MDOT FTA Detail'!$M$3)*(Projects!$L$5:$L$2426='MDOT FTA Detail'!$A123)*(Projects!$Q$5:$Q$2426))","v":0}]
[5316,"Section 5316 - Transit - Section 5316 - Job Access/Reverse Commute","Transit",{"$f":"SUMPRODUCT((Projects!$A$5:$A$2426='MDOT FTA Detail'!$D$3)*(Projects!$L$5:$L$2426='MDOT FTA Detail'!$A124)*(Projects!$K$5:$K$2426))","v":0},0,{"$f":"SUMPRODUCT((Projects!$A$5:$A$2426='MDOT FTA Detail'!$D$3)*(Projects!$L$5:$L$2426='MDOT FTA Detail'!$A124)*(Projects!$Q$5:$Q$2426))","v":0},{"$f":"SUMPRODUCT((Projects!$A$5:$A$2426='MDOT FTA Detail'!$G$3)*(Projects!$L$5:$L$2426='MDOT FTA Detail'!$A124)*(Projects!$K$5:$K$2426))","v":0},0,{"$f":"SUMPRODUCT((Projects!$A$5:$A$2426='MDOT FTA Detail'!$G$3)*(Projects!$L$5:$L$2426='MDOT FTA Detail'!$A124)*(Projects!$Q$5:$Q$2426))","v":0},{"$f":"SUMPRODUCT((Projects!$A$5:$A$2426='MDOT FTA Detail'!$J$3)*(Projects!$L$5:$L$2426='MDOT FTA Detail'!$A124)*(Projects!$K$5:$K$2426))","v":0},0,{"$f":"SUMPRODUCT((Projects!$A$5:$A$2426='MDOT FTA Detail'!$J$3)*(Projects!$L$5:$L$2426='MDOT FTA Detail'!$A124)*(Projects!$Q$5:$Q$2426))","v":0},{"$f":"SUMPRODUCT((Projects!$A$5:$A$2426='MDOT FTA Detail'!$M$3)*(Projects!$L$5:$L$2426='MDOT FTA Detail'!$A124)*(Projects!$K$5:$K$2426))","v":0},0,{"$f":"SUMPRODUCT((Projects!$A$5:$A$2426='MDOT FTA Detail'!$M$3)*(Projects!$L$5:$L$2426='MDOT FTA Detail'!$A124)*(Projects!$Q$5:$Q$2426))","v":0}]
[5317,"Section 5317 - Transit - Section 5317 - New Freedom Initiative","Transit",{"$f":"SUMPRODUCT((Projects!$A$5:$A$2426='MDOT FTA Detail'!$D$3)*(Projects!$L$5:$L$2426='MDOT FTA Detail'!$A125)*(Projects!$K$5:$K$2426))","v":0},0,{"$f":"SUMPRODUCT((Projects!$A$5:$A$2426='MDOT FTA Detail'!$D$3)*(Projects!$L$5:$L$2426='MDOT FTA Detail'!$A125)*(Projects!$Q$5:$Q$2426))","v":0},{"$f":"SUMPRODUCT((Projects!$A$5:$A$2426='MDOT FTA Detail'!$G$3)*(Projects!$L$5:$L$2426='MDOT FTA Detail'!$A125)*(Projects!$K$5:$K$2426))","v":0},0,{"$f":"SUMPRODUCT((Projects!$A$5:$A$2426='MDOT FTA Detail'!$G$3)*(Projects!$L$5:$L$2426='MDOT FTA Detail'!$A125)*(Projects!$Q$5:$Q$2426))","v":0},{"$f":"SUMPRODUCT((Projects!$A$5:$A$2426='MDOT FTA Detail'!$J$3)*(Projects!$L$5:$L$2426='MDOT FTA Detail'!$A125)*(Projects!$K$5:$K$2426))","v":0},0,{"$f":"SUMPRODUCT((Projects!$A$5:$A$2426='MDOT FTA Detail'!$J$3)*(Projects!$L$5:$L$2426='MDOT FTA Detail'!$A125)*(Projects!$Q$5:$Q$2426))","v":0},{"$f":"SUMPRODUCT((Projects!$A$5:$A$2426='MDOT FTA Detail'!$M$3)*(Projects!$L$5:$L$2426='MDOT FTA Detail'!$A125)*(Projects!$K$5:$K$2426))","v":0},0,{"$f":"SUMPRODUCT((Projects!$A$5:$A$2426='MDOT FTA Detail'!$M$3)*(Projects!$L$5:$L$2426='MDOT FTA Detail'!$A125)*(Projects!$Q$5:$Q$2426))","v":0}]
[5320,"Section 5320 - Alternative Transportation in Parks and Public Lands","Transit",{"$f":"SUMPRODUCT((Projects!$A$5:$A$2426='MDOT FTA Detail'!$D$3)*(Projects!$L$5:$L$2426='MDOT FTA Detail'!$A126)*(Projects!$K$5:$K$2426))","v":0},0,{"$f":"SUMPRODUCT((Projects!$A$5:$A$2426='MDOT FTA Detail'!$D$3)*(Projects!$L$5:$L$2426='MDOT FTA Detail'!$A126)*(Projects!$Q$5:$Q$2426))","v":0},{"$f":"SUMPRODUCT((Projects!$A$5:$A$2426='MDOT FTA Detail'!$G$3)*(Projects!$L$5:$L$2426='MDOT FTA Detail'!$A126)*(Projects!$K$5:$K$2426))","v":0},0,{"$f":"SUMPRODUCT((Projects!$A$5:$A$2426='MDOT FTA Detail'!$G$3)*(Projects!$L$5:$L$2426='MDOT FTA Detail'!$A126)*(Projects!$Q$5:$Q$2426))","v":0},{"$f":"SUMPRODUCT((Projects!$A$5:$A$2426='MDOT FTA Detail'!$J$3)*(Projects!$L$5:$L$2426='MDOT FTA Detail'!$A126)*(Projects!$K$5:$K$2426))","v":0},0,{"$f":"SUMPRODUCT((Projects!$A$5:$A$2426='MDOT FTA Detail'!$J$3)*(Projects!$L$5:$L$2426='MDOT FTA Detail'!$A126)*(Projects!$Q$5:$Q$2426))","v":0},{"$f":"SUMPRODUCT((Projects!$A$5:$A$2426='MDOT FTA Detail'!$M$3)*(Projects!$L$5:$L$2426='MDOT FTA Detail'!$A126)*(Projects!$K$5:$K$2426))","v":0},0,{"$f":"SUMPRODUCT((Projects!$A$5:$A$2426='MDOT FTA Detail'!$M$3)*(Projects!$L$5:$L$2426='MDOT FTA Detail'!$A126)*(Projects!$Q$5:$Q$2426))","v":0}]
[5322,"Section 5322 - Human Resources and Training","Transit",{"$f":"SUMPRODUCT((Projects!$A$5:$A$2426='MDOT FTA Detail'!$D$3)*(Projects!$L$5:$L$2426='MDOT FTA Detail'!$A127)*(Projects!$K$5:$K$2426))","v":0},{"$f":"F127-D127","v":0},{"$f":"SUMPRODUCT((Projects!$A$5:$A$2426='MDOT FTA Detail'!$D$3)*(Projects!$L$5:$L$2426='MDOT FTA Detail'!$A127)*(Projects!$Q$5:$Q$2426))","v":0},{"$f":"SUMPRODUCT((Projects!$A$5:$A$2426='MDOT FTA Detail'!$G$3)*(Projects!$L$5:$L$2426='MDOT FTA Detail'!$A127)*(Projects!$K$5:$K$2426))","v":0},{"$f":"I127-G127","v":0},{"$f":"SUMPRODUCT((Projects!$A$5:$A$2426='MDOT FTA Detail'!$G$3)*(Projects!$L$5:$L$2426='MDOT FTA Detail'!$A127)*(Projects!$Q$5:$Q$2426))","v":0},{"$f":"SUMPRODUCT((Projects!$A$5:$A$2426='MDOT FTA Detail'!$J$3)*(Projects!$L$5:$L$2426='MDOT FTA Detail'!$A127)*(Projects!$K$5:$K$2426))","v":0},{"$f":"L127-J127","v":0},{"$f":"SUMPRODUCT((Projects!$A$5:$A$2426='MDOT FTA Detail'!$J$3)*(Projects!$L$5:$L$2426='MDOT FTA Detail'!$A127)*(Projects!$Q$5:$Q$2426))","v":0},{"$f":"SUMPRODUCT((Projects!$A$5:$A$2426='MDOT FTA Detail'!$M$3)*(Projects!$L$5:$L$2426='MDOT FTA Detail'!$A127)*(Projects!$K$5:$K$2426))","v":0},{"$f":"O127-M127","v":0},{"$f":"SUMPRODUCT((Projects!$A$5:$A$2426='MDOT FTA Detail'!$M$3)*(Projects!$L$5:$L$2426='MDOT FTA Detail'!$A127)*(Projects!$Q$5:$Q$2426))","v":0}]
[5324,"Section 5324 - Emergency Relief","Transit",{"$f":"SUMPRODUCT((Projects!$A$5:$A$2426='MDOT FTA Detail'!$D$3)*(Projects!$L$5:$L$2426='MDOT FTA Detail'!$A128)*(Projects!$K$5:$K$2426))","v":0},0,{"$f":"SUMPRODUCT((Projects!$A$5:$A$2426='MDOT FTA Detail'!$D$3)*(Projects!$L$5:$L$2426='MDOT FTA Detail'!$A128)*(Projects!$Q$5:$Q$2426))","v":0},{"$f":"SUMPRODUCT((Projects!$A$5:$A$2426='MDOT FTA Detail'!$G$3)*(Projects!$L$5:$L$2426='MDOT FTA Detail'!$A128)*(Projects!$K$5:$K$2426))","v":0},0,{"$f":"SUMPRODUCT((Projects!$A$5:$A$2426='MDOT FTA Detail'!$G$3)*(Projects!$L$5:$L$2426='MDOT FTA Detail'!$A128)*(Projects!$Q$5:$Q$2426))","v":0},{"$f":"SUMPRODUCT((Projects!$A$5:$A$2426='MDOT FTA Detail'!$J$3)*(Projects!$L$5:$L$2426='MDOT FTA Detail'!$A128)*(Projects!$K$5:$K$2426))","v":0},0,{"$f":"SUMPRODUCT((Projects!$A$5:$A$2426='MDOT FTA Detail'!$J$3)*(Projects!$L$5:$L$2426='MDOT FTA Detail'!$A128)*(Projects!$Q$5:$Q$2426))","v":0},{"$f":"SUMPRODUCT((Projects!$A$5:$A$2426='MDOT FTA Detail'!$M$3)*(Projects!$L$5:$L$2426='MDOT FTA Detail'!$A128)*(Projects!$K$5:$K$2426))","v":0},0,{"$f":"SUMPRODUCT((Projects!$A$5:$A$2426='MDOT FTA Detail'!$M$3)*(Projects!$L$5:$L$2426='MDOT FTA Detail'!$A128)*(Projects!$Q$5:$Q$2426))","v":0}]
[5326,"Section 5326 - Asset Management Provisions","Transit",{"$f":"SUMPRODUCT((Projects!$A$5:$A$2426='MDOT FTA Detail'!$D$3)*(Projects!$L$5:$L$2426='MDOT FTA Detail'!$A129)*(Projects!$K$5:$K$2426))","v":0},0,{"$f":"SUMPRODUCT((Projects!$A$5:$A$2426='MDOT FTA Detail'!$D$3)*(Projects!$L$5:$L$2426='MDOT FTA Detail'!$A129)*(Projects!$Q$5:$Q$2426))","v":0},{"$f":"SUMPRODUCT((Projects!$A$5:$A$2426='MDOT FTA Detail'!$G$3)*(Projects!$L$5:$L$2426='MDOT FTA Detail'!$A129)*(Projects!$K$5:$K$2426))","v":0},0,{"$f":"SUMPRODUCT((Projects!$A$5:$A$2426='MDOT FTA Detail'!$G$3)*(Projects!$L$5:$L$2426='MDOT FTA Detail'!$A129)*(Projects!$Q$5:$Q$2426))","v":0},{"$f":"SUMPRODUCT((Projects!$A$5:$A$2426='MDOT FTA Detail'!$J$3)*(Projects!$L$5:$L$2426='MDOT FTA Detail'!$A129)*(Projects!$K$5:$K$2426))","v":0},0,{"$f":"SUMPRODUCT((Projects!$A$5:$A$2426='MDOT FTA Detail'!$J$3)*(Projects!$L$5:$L$2426='MDOT FTA Detail'!$A129)*(Projects!$Q$5:$Q$2426))","v":0},{"$f":"SUMPRODUCT((Projects!$A$5:$A$2426='MDOT FTA Detail'!$M$3)*(Projects!$L$5:$L$2426='MDOT FTA Detail'!$A129)*(Projects!$K$5:$K$2426))","v":0},0,{"$f":"SUMPRODUCT((Projects!$A$5:$A$2426='MDOT FTA Detail'!$M$3)*(Projects!$L$5:$L$2426='MDOT FTA Detail'!$A129)*(Projects!$Q$5:$Q$2426))","v":0}]
[5329,"Section 5329 - Safety","Transit",{"$f":"SUMPRODUCT((Projects!$A$5:$A$2426='MDOT FTA Detail'!$D$3)*(Projects!$L$5:$L$2426='MDOT FTA Detail'!$A130)*(Projects!$K$5:$K$2426))","v":0},0,{"$f":"SUMPRODUCT((Projects!$A$5:$A$2426='MDOT FTA Detail'!$D$3)*(Projects!$L$5:$L$2426='MDOT FTA Detail'!$A130)*(Projects!$Q$5:$Q$2426))","v":0},{"$f":"SUMPRODUCT((Projects!$A$5:$A$2426='MDOT FTA Detail'!$G$3)*(Projects!$L$5:$L$2426='MDOT FTA Detail'!$A130)*(Projects!$K$5:$K$2426))","v":0},0,{"$f":"SUMPRODUCT((Projects!$A$5:$A$2426='MDOT FTA Detail'!$G$3)*(Projects!$L$5:$L$2426='MDOT FTA Detail'!$A130)*(Projects!$Q$5:$Q$2426))","v":0},{"$f":"SUMPRODUCT((Projects!$A$5:$A$2426='MDOT FTA Detail'!$J$3)*(Projects!$L$5:$L$2426='MDOT FTA Detail'!$A130)*(Projects!$K$5:$K$2426))","v":0},0,{"$f":"SUMPRODUCT((Projects!$A$5:$A$2426='MDOT FTA Detail'!$J$3)*(Projects!$L$5:$L$2426='MDOT FTA Detail'!$A130)*(Projects!$Q$5:$Q$2426))","v":0},{"$f":"SUMPRODUCT((Projects!$A$5:$A$2426='MDOT FTA Detail'!$M$3)*(Projects!$L$5:$L$2426='MDOT FTA Detail'!$A130)*(Projects!$K$5:$K$2426))","v":0},0,{"$f":"SUMPRODUCT((Projects!$A$5:$A$2426='MDOT FTA Detail'!$M$3)*(Projects!$L$5:$L$2426='MDOT FTA Detail'!$A130)*(Projects!$Q$5:$Q$2426))","v":0}]
[5337,"Section 5337 - State of Good Repair Grants","Transit",{"$f":"SUMPRODUCT((Projects!$A$5:$A$2426='MDOT FTA Detail'!$D$3)*(Projects!$L$5:$L$2426='MDOT FTA Detail'!$A131)*(Projects!$K$5:$K$2426))","v":0},0,{"$f":"SUMPRODUCT((Projects!$A$5:$A$2426='MDOT FTA Detail'!$D$3)*(Projects!$L$5:$L$2426='MDOT FTA Detail'!$A131)*(Projects!$Q$5:$Q$2426))","v":0},{"$f":"SUMPRODUCT((Projects!$A$5:$A$2426='MDOT FTA Detail'!$G$3)*(Projects!$L$5:$L$2426='MDOT FTA Detail'!$A131)*(Projects!$K$5:$K$2426))","v":0},0,{"$f":"SUMPRODUCT((Projects!$A$5:$A$2426='MDOT FTA Detail'!$G$3)*(Projects!$L$5:$L$2426='MDOT FTA Detail'!$A131)*(Projects!$Q$5:$Q$2426))","v":0},{"$f":"SUMPRODUCT((Projects!$A$5:$A$2426='MDOT FTA Detail'!$J$3)*(Projects!$L$5:$L$2426='MDOT FTA Detail'!$A131)*(Projects!$K$5:$K$2426))","v":0},0,{"$f":"SUMPRODUCT((Projects!$A$5:$A$2426='MDOT FTA Detail'!$J$3)*(Projects!$L$5:$L$2426='MDOT FTA Detail'!$A131)*(Projects!$Q$5:$Q$2426))","v":0},{"$f":"SUMPRODUCT((Projects!$A$5:$A$2426='MDOT FTA Detail'!$M$3)*(Projects!$L$5:$L$2426='MDOT FTA Detail'!$A131)*(Projects!$K$5:$K$2426))","v":0},0,{"$f":"SUMPRODUCT((Projects!$A$5:$A$2426='MDOT FTA Detail'!$M$3)*(Projects!$L$5:$L$2426='MDOT FTA Detail'!$A131)*(Projects!$Q$5:$Q$2426))","v":0}]
[5339,"Section 5339 - Bus and Bus Facilities","Transit",{"$f":"SUMPRODUCT((Projects!$A$5:$A$2426='MDOT FTA Detail'!$D$3)*(Projects!$L$5:$L$2426='MDOT FTA Detail'!$A132)*(Projects!$K$5:$K$2426))","v":101947},{"$f":"F132-D132","v":25486},{"$f":"SUMPRODUCT((Projects!$A$5:$A$2426='MDOT FTA Detail'!$D$3)*(Projects!$L$5:$L$2426='MDOT FTA Detail'!$A132)*(Projects!$Q$5:$Q$2426))","v":127433},{"$f":"SUMPRODUCT((Projects!$A$5:$A$2426='MDOT FTA Detail'!$G$3)*(Projects!$L$5:$L$2426='MDOT FTA Detail'!$A132)*(Projects!$K$5:$K$2426))","v":80000},{"$f":"I132-G132","v":20000},{"$f":"SUMPRODUCT((Projects!$A$5:$A$2426='MDOT FTA Detail'!$G$3)*(Projects!$L$5:$L$2426='MDOT FTA Detail'!$A132)*(Projects!$Q$5:$Q$2426))","v":100000},{"$f":"SUMPRODUCT((Projects!$A$5:$A$2426='MDOT FTA Detail'!$J$3)*(Projects!$L$5:$L$2426='MDOT FTA Detail'!$A132)*(Projects!$K$5:$K$2426))","v":72000},{"$f":"L132-J132","v":18000},{"$f":"SUMPRODUCT((Projects!$A$5:$A$2426='MDOT FTA Detail'!$J$3)*(Projects!$L$5:$L$2426='MDOT FTA Detail'!$A132)*(Projects!$Q$5:$Q$2426))","v":90000},{"$f":"SUMPRODUCT((Projects!$A$5:$A$2426='MDOT FTA Detail'!$M$3)*(Projects!$L$5:$L$2426='MDOT FTA Detail'!$A132)*(Projects!$K$5:$K$2426))","v":74400},{"$f":"O132-M132","v":18600},{"$f":"SUMPRODUCT((Projects!$A$5:$A$2426='MDOT FTA Detail'!$M$3)*(Projects!$L$5:$L$2426='MDOT FTA Detail'!$A132)*(Projects!$Q$5:$Q$2426))","v":93000}]
[5505,"Section 5505 - University Transportation Centers Program","Transit",{"$f":"SUMPRODUCT((Projects!$A$5:$A$2426='MDOT FTA Detail'!$D$3)*(Projects!$L$5:$L$2426='MDOT FTA Detail'!$A133)*(Projects!$K$5:$K$2426))","v":0},0,{"$f":"SUMPRODUCT((Projects!$A$5:$A$2426='MDOT FTA Detail'!$D$3)*(Projects!$L$5:$L$2426='MDOT FTA Detail'!$A133)*(Projects!$Q$5:$Q$2426))","v":0},{"$f":"SUMPRODUCT((Projects!$A$5:$A$2426='MDOT FTA Detail'!$G$3)*(Projects!$L$5:$L$2426='MDOT FTA Detail'!$A133)*(Projects!$K$5:$K$2426))","v":0},0,{"$f":"SUMPRODUCT((Projects!$A$5:$A$2426='MDOT FTA Detail'!$G$3)*(Projects!$L$5:$L$2426='MDOT FTA Detail'!$A133)*(Projects!$Q$5:$Q$2426))","v":0},{"$f":"SUMPRODUCT((Projects!$A$5:$A$2426='MDOT FTA Detail'!$J$3)*(Projects!$L$5:$L$2426='MDOT FTA Detail'!$A133)*(Projects!$K$5:$K$2426))","v":0},0,{"$f":"SUMPRODUCT((Projects!$A$5:$A$2426='MDOT FTA Detail'!$J$3)*(Projects!$L$5:$L$2426='MDOT FTA Detail'!$A133)*(Projects!$Q$5:$Q$2426))","v":0},{"$f":"SUMPRODUCT((Projects!$A$5:$A$2426='MDOT FTA Detail'!$M$3)*(Projects!$L$5:$L$2426='MDOT FTA Detail'!$A133)*(Projects!$K$5:$K$2426))","v":0},0,{"$f":"SUMPRODUCT((Projects!$A$5:$A$2426='MDOT FTA Detail'!$M$3)*(Projects!$L$5:$L$2426='MDOT FTA Detail'!$A133)*(Projects!$Q$5:$Q$2426))","v":0}]
["CTF","Comprehensive Transit Fund","Transit","No FF",{"$f":"SUMPRODUCT((Projects!$A$5:$A$2426='MDOT FTA Detail'!$D$3)*(Projects!$K$5:$K$2426=0)*(Projects!$C$5:$C$2426='MDOT FTA Detail'!$C$4)*(Projects!$N$5:$N$2426='MDOT FTA Detail'!$A134)*(Projects!$J$5:$J$2426<>'MDOT FTA Detail'!$A$171)*(Projects!$M$5:$M$2426))","v":0},{"$f":"E134","v":0},"No FF",{"$f":"SUMPRODUCT((Projects!$A$5:$A$2426='MDOT FTA Detail'!$G$3)*(Projects!$K$5:$K$2426=0)*(Projects!$C$5:$C$2426='MDOT FTA Detail'!$C$4)*(Projects!$N$5:$N$2426='MDOT FTA Detail'!$A134)*(Projects!$J$5:$J$2426<>'MDOT FTA Detail'!$A$171)*(Projects!$M$5:$M$2426))","v":0},{"$f":"H134","v":0},"No FF",{"$f":"SUMPRODUCT((Projects!$A$5:$A$2426='MDOT FTA Detail'!$J$3)*(Projects!$K$5:$K$2426=0)*(Projects!$C$5:$C$2426='MDOT FTA Detail'!$C$4)*(Projects!$N$5:$N$2426='MDOT FTA Detail'!$A134)*(Projects!$J$5:$J$2426<>'MDOT FTA Detail'!$A$171)*(Projects!$M$5:$M$2426))","v":0},{"$f":"K134","v":0},"No FF",{"$f":"SUMPRODUCT((Projects!$A$5:$A$2426='MDOT FTA Detail'!$M$3)*(Projects!$K$5:$K$2426=0)*(Projects!$C$5:$C$2426='MDOT FTA Detail'!$C$4)*(Projects!$N$5:$N$2426='MDOT FTA Detail'!$A134)*(Projects!$J$5:$J$2426<>'MDOT FTA Detail'!$A$171)*(Projects!$M$5:$M$2426))","v":0},{"$f":"N134","v":0}]
["BI04","Build Michigan Bond Issue 2004","MDOT M","No FF",{"$f":"SUMPRODUCT((Projects!$A$5:$A$2426='MDOT FTA Detail'!$D$3)*(Projects!$K$5:$K$2426=0)*(Projects!$C$5:$C$2426='MDOT FTA Detail'!$C$4)*(Projects!$N$5:$N$2426='MDOT FTA Detail'!$A135)*(Projects!$J$5:$J$2426<>'MDOT FTA Detail'!$A$171)*(Projects!$M$5:$M$2426))","v":0},0,"No FF",{"$f":"SUMPRODUCT((Projects!$A$5:$A$2426='MDOT FTA Detail'!$G$3)*(Projects!$K$5:$K$2426=0)*(Projects!$C$5:$C$2426='MDOT FTA Detail'!$C$4)*(Projects!$N$5:$N$2426='MDOT FTA Detail'!$A135)*(Projects!$J$5:$J$2426<>'MDOT FTA Detail'!$A$171)*(Projects!$M$5:$M$2426))","v":0},0,"No FF",{"$f":"SUMPRODUCT((Projects!$A$5:$A$2426='MDOT FTA Detail'!$J$3)*(Projects!$K$5:$K$2426=0)*(Projects!$C$5:$C$2426='MDOT FTA Detail'!$C$4)*(Projects!$N$5:$N$2426='MDOT FTA Detail'!$A135)*(Projects!$J$5:$J$2426<>'MDOT FTA Detail'!$A$171)*(Projects!$M$5:$M$2426))","v":0},0,"No FF",{"$f":"SUMPRODUCT((Projects!$A$5:$A$2426='MDOT FTA Detail'!$M$3)*(Projects!$K$5:$K$2426=0)*(Projects!$C$5:$C$2426='MDOT FTA Detail'!$C$4)*(Projects!$N$5:$N$2426='MDOT FTA Detail'!$A135)*(Projects!$J$5:$J$2426<>'MDOT FTA Detail'!$A$171)*(Projects!$M$5:$M$2426))","v":0},0]
["BI06","Build Michigan Bond Issue 2006","MDOT M","No FF",{"$f":"SUMPRODUCT((Projects!$A$5:$A$2426='MDOT FTA Detail'!$D$3)*(Projects!$K$5:$K$2426=0)*(Projects!$C$5:$C$2426='MDOT FTA Detail'!$C$4)*(Projects!$N$5:$N$2426='MDOT FTA Detail'!$A136)*(Projects!$J$5:$J$2426<>'MDOT FTA Detail'!$A$171)*(Projects!$M$5:$M$2426))","v":0},0,"No FF",{"$f":"SUMPRODUCT((Projects!$A$5:$A$2426='MDOT FTA Detail'!$G$3)*(Projects!$K$5:$K$2426=0)*(Projects!$C$5:$C$2426='MDOT FTA Detail'!$C$4)*(Projects!$N$5:$N$2426='MDOT FTA Detail'!$A136)*(Projects!$J$5:$J$2426<>'MDOT FTA Detail'!$A$171)*(Projects!$M$5:$M$2426))","v":0},0,"No FF",{"$f":"SUMPRODUCT((Projects!$A$5:$A$2426='MDOT FTA Detail'!$J$3)*(Projects!$K$5:$K$2426=0)*(Projects!$C$5:$C$2426='MDOT FTA Detail'!$C$4)*(Projects!$N$5:$N$2426='MDOT FTA Detail'!$A136)*(Projects!$J$5:$J$2426<>'MDOT FTA Detail'!$A$171)*(Projects!$M$5:$M$2426))","v":0},0,"No FF",{"$f":"SUMPRODUCT((Projects!$A$5:$A$2426='MDOT FTA Detail'!$M$3)*(Projects!$K$5:$K$2426=0)*(Projects!$C$5:$C$2426='MDOT FTA Detail'!$C$4)*(Projects!$N$5:$N$2426='MDOT FTA Detail'!$A136)*(Projects!$J$5:$J$2426<>'MDOT FTA Detail'!$A$171)*(Projects!$M$5:$M$2426))","v":0},0]
["BI08","Build Michigan Bond Issue 2008","MDOT M","No FF",{"$f":"SUMPRODUCT((Projects!$A$5:$A$2426='MDOT FTA Detail'!$D$3)*(Projects!$K$5:$K$2426=0)*(Projects!$C$5:$C$2426='MDOT FTA Detail'!$C$4)*(Projects!$N$5:$N$2426='MDOT FTA Detail'!$A137)*(Projects!$J$5:$J$2426<>'MDOT FTA Detail'!$A$171)*(Projects!$M$5:$M$2426))","v":0},0,"No FF",{"$f":"SUMPRODUCT((Projects!$A$5:$A$2426='MDOT FTA Detail'!$G$3)*(Projects!$K$5:$K$2426=0)*(Projects!$C$5:$C$2426='MDOT FTA Detail'!$C$4)*(Projects!$N$5:$N$2426='MDOT FTA Detail'!$A137)*(Projects!$J$5:$J$2426<>'MDOT FTA Detail'!$A$171)*(Projects!$M$5:$M$2426))","v":0},0,"No FF",{"$f":"SUMPRODUCT((Projects!$A$5:$A$2426='MDOT FTA Detail'!$J$3)*(Projects!$K$5:$K$2426=0)*(Projects!$C$5:$C$2426='MDOT FTA Detail'!$C$4)*(Projects!$N$5:$N$2426='MDOT FTA Detail'!$A137)*(Projects!$J$5:$J$2426<>'MDOT FTA Detail'!$A$171)*(Projects!$M$5:$M$2426))","v":0},0,"No FF",{"$f":"SUMPRODUCT((Projects!$A$5:$A$2426='MDOT FTA Detail'!$M$3)*(Projects!$K$5:$K$2426=0)*(Projects!$C$5:$C$2426='MDOT FTA Detail'!$C$4)*(Projects!$N$5:$N$2426='MDOT FTA Detail'!$A137)*(Projects!$J$5:$J$2426<>'MDOT FTA Detail'!$A$171)*(Projects!$M$5:$M$2426))","v":0},0]
["BT01","Bond Trunkline Roads for First Issue","MDOT M","No FF",{"$f":"SUMPRODUCT((Projects!$A$5:$A$2426='MDOT FTA Detail'!$D$3)*(Projects!$K$5:$K$2426=0)*(Projects!$C$5:$C$2426='MDOT FTA Detail'!$C$4)*(Projects!$N$5:$N$2426='MDOT FTA Detail'!$A138)*(Projects!$J$5:$J$2426<>'MDOT FTA Detail'!$A$171)*(Projects!$M$5:$M$2426))","v":0},0,"No FF",{"$f":"SUMPRODUCT((Projects!$A$5:$A$2426='MDOT FTA Detail'!$G$3)*(Projects!$K$5:$K$2426=0)*(Projects!$C$5:$C$2426='MDOT FTA Detail'!$C$4)*(Projects!$N$5:$N$2426='MDOT FTA Detail'!$A138)*(Projects!$J$5:$J$2426<>'MDOT FTA Detail'!$A$171)*(Projects!$M$5:$M$2426))","v":0},0,"No FF",{"$f":"SUMPRODUCT((Projects!$A$5:$A$2426='MDOT FTA Detail'!$J$3)*(Projects!$K$5:$K$2426=0)*(Projects!$C$5:$C$2426='MDOT FTA Detail'!$C$4)*(Projects!$N$5:$N$2426='MDOT FTA Detail'!$A138)*(Projects!$J$5:$J$2426<>'MDOT FTA Detail'!$A$171)*(Projects!$M$5:$M$2426))","v":0},0,"No FF",{"$f":"SUMPRODUCT((Projects!$A$5:$A$2426='MDOT FTA Detail'!$M$3)*(Projects!$K$5:$K$2426=0)*(Projects!$C$5:$C$2426='MDOT FTA Detail'!$C$4)*(Projects!$N$5:$N$2426='MDOT FTA Detail'!$A138)*(Projects!$J$5:$J$2426<>'MDOT FTA Detail'!$A$171)*(Projects!$M$5:$M$2426))","v":0},0]
["CANX","Canadian Bridge Funds","MDOT M","No FF",{"$f":"SUMPRODUCT((Projects!$A$5:$A$2426='MDOT FTA Detail'!$D$3)*(Projects!$K$5:$K$2426=0)*(Projects!$C$5:$C$2426='MDOT FTA Detail'!$C$4)*(Projects!$N$5:$N$2426='MDOT FTA Detail'!$A139)*(Projects!$J$5:$J$2426<>'MDOT FTA Detail'!$A$171)*(Projects!$M$5:$M$2426))","v":0},0,"No FF",{"$f":"SUMPRODUCT((Projects!$A$5:$A$2426='MDOT FTA Detail'!$G$3)*(Projects!$K$5:$K$2426=0)*(Projects!$C$5:$C$2426='MDOT FTA Detail'!$C$4)*(Projects!$N$5:$N$2426='MDOT FTA Detail'!$A139)*(Projects!$J$5:$J$2426<>'MDOT FTA Detail'!$A$171)*(Projects!$M$5:$M$2426))","v":0},0,"No FF",{"$f":"SUMPRODUCT((Projects!$A$5:$A$2426='MDOT FTA Detail'!$J$3)*(Projects!$K$5:$K$2426=0)*(Projects!$C$5:$C$2426='MDOT FTA Detail'!$C$4)*(Projects!$N$5:$N$2426='MDOT FTA Detail'!$A139)*(Projects!$J$5:$J$2426<>'MDOT FTA Detail'!$A$171)*(Projects!$M$5:$M$2426))","v":0},0,"No FF",{"$f":"SUMPRODUCT((Projects!$A$5:$A$2426='MDOT FTA Detail'!$M$3)*(Projects!$K$5:$K$2426=0)*(Projects!$C$5:$C$2426='MDOT FTA Detail'!$C$4)*(Projects!$N$5:$N$2426='MDOT FTA Detail'!$A139)*(Projects!$J$5:$J$2426<>'MDOT FTA Detail'!$A$171)*(Projects!$M$5:$M$2426))","v":0},0]
["EDA","Economic Development - Category A","MDOT M","No FF",{"$f":"SUMPRODUCT((Projects!$A$5:$A$2426='MDOT FTA Detail'!$D$3)*(Projects!$K$5:$K$2426=0)*(Projects!$C$5:$C$2426='MDOT FTA Detail'!$C$4)*(Projects!$N$5:$N$2426='MDOT FTA Detail'!$A140)*(Projects!$J$5:$J$2426<>'MDOT FTA Detail'!$A$171)*(Projects!$M$5:$M$2426))","v":0},0,"No FF",{"$f":"SUMPRODUCT((Projects!$A$5:$A$2426='MDOT FTA Detail'!$G$3)*(Projects!$K$5:$K$2426=0)*(Projects!$C$5:$C$2426='MDOT FTA Detail'!$C$4)*(Projects!$N$5:$N$2426='MDOT FTA Detail'!$A140)*(Projects!$J$5:$J$2426<>'MDOT FTA Detail'!$A$171)*(Projects!$M$5:$M$2426))","v":0},0,"No FF",{"$f":"SUMPRODUCT((Projects!$A$5:$A$2426='MDOT FTA Detail'!$J$3)*(Projects!$K$5:$K$2426=0)*(Projects!$C$5:$C$2426='MDOT FTA Detail'!$C$4)*(Projects!$N$5:$N$2426='MDOT FTA Detail'!$A140)*(Projects!$J$5:$J$2426<>'MDOT FTA Detail'!$A$171)*(Projects!$M$5:$M$2426))","v":0},0,"No FF",{"$f":"SUMPRODUCT((Projects!$A$5:$A$2426='MDOT FTA Detail'!$M$3)*(Projects!$K$5:$K$2426=0)*(Projects!$C$5:$C$2426='MDOT FTA Detail'!$C$4)*(Projects!$N$5:$N$2426='MDOT FTA Detail'!$A140)*(Projects!$J$5:$J$2426<>'MDOT FTA Detail'!$A$171)*(Projects!$M$5:$M$2426))","v":0},0]
["EDC","Economic Development - Category C","MDOT M","No FF",{"$f":"SUMPRODUCT((Projects!$A$5:$A$2426='MDOT FTA Detail'!$D$3)*(Projects!$K$5:$K$2426=0)*(Projects!$C$5:$C$2426='MDOT FTA Detail'!$C$4)*(Projects!$N$5:$N$2426='MDOT FTA Detail'!$A141)*(Projects!$J$5:$J$2426<>'MDOT FTA Detail'!$A$171)*(Projects!$M$5:$M$2426))","v":0},0,"No FF",{"$f":"SUMPRODUCT((Projects!$A$5:$A$2426='MDOT FTA Detail'!$G$3)*(Projects!$K$5:$K$2426=0)*(Projects!$C$5:$C$2426='MDOT FTA Detail'!$C$4)*(Projects!$N$5:$N$2426='MDOT FTA Detail'!$A141)*(Projects!$J$5:$J$2426<>'MDOT FTA Detail'!$A$171)*(Projects!$M$5:$M$2426))","v":0},0,"No FF",{"$f":"SUMPRODUCT((Projects!$A$5:$A$2426='MDOT FTA Detail'!$J$3)*(Projects!$K$5:$K$2426=0)*(Projects!$C$5:$C$2426='MDOT FTA Detail'!$C$4)*(Projects!$N$5:$N$2426='MDOT FTA Detail'!$A141)*(Projects!$J$5:$J$2426<>'MDOT FTA Detail'!$A$171)*(Projects!$M$5:$M$2426))","v":0},0,"No FF",{"$f":"SUMPRODUCT((Projects!$A$5:$A$2426='MDOT FTA Detail'!$M$3)*(Projects!$K$5:$K$2426=0)*(Projects!$C$5:$C$2426='MDOT FTA Detail'!$C$4)*(Projects!$N$5:$N$2426='MDOT FTA Detail'!$A141)*(Projects!$J$5:$J$2426<>'MDOT FTA Detail'!$A$171)*(Projects!$M$5:$M$2426))","v":0},0]
["EDD","Economic Development - Category D","MDOT M","No FF",{"$f":"SUMPRODUCT((Projects!$A$5:$A$2426='MDOT FTA Detail'!$D$3)*(Projects!$K$5:$K$2426=0)*(Projects!$C$5:$C$2426='MDOT FTA Detail'!$C$4)*(Projects!$N$5:$N$2426='MDOT FTA Detail'!$A142)*(Projects!$J$5:$J$2426<>'MDOT FTA Detail'!$A$171)*(Projects!$M$5:$M$2426))","v":0},0,"No FF",{"$f":"SUMPRODUCT((Projects!$A$5:$A$2426='MDOT FTA Detail'!$G$3)*(Projects!$K$5:$K$2426=0)*(Projects!$C$5:$C$2426='MDOT FTA Detail'!$C$4)*(Projects!$N$5:$N$2426='MDOT FTA Detail'!$A142)*(Projects!$J$5:$J$2426<>'MDOT FTA Detail'!$A$171)*(Projects!$M$5:$M$2426))","v":0},0,"No FF",{"$f":"SUMPRODUCT((Projects!$A$5:$A$2426='MDOT FTA Detail'!$J$3)*(Projects!$K$5:$K$2426=0)*(Projects!$C$5:$C$2426='MDOT FTA Detail'!$C$4)*(Projects!$N$5:$N$2426='MDOT FTA Detail'!$A142)*(Projects!$J$5:$J$2426<>'MDOT FTA Detail'!$A$171)*(Projects!$M$5:$M$2426))","v":0},0,"No FF",{"$f":"SUMPRODUCT((Projects!$A$5:$A$2426='MDOT FTA Detail'!$M$3)*(Projects!$K$5:$K$2426=0)*(Projects!$C$5:$C$2426='MDOT FTA Detail'!$C$4)*(Projects!$N$5:$N$2426='MDOT FTA Detail'!$A142)*(Projects!$J$5:$J$2426<>'MDOT FTA Detail'!$A$171)*(Projects!$M$5:$M$2426))","v":0},0]
["EDF","Economic Development - Category F","MDOT M","No FF",{"$f":"SUMPRODUCT((Projects!$A$5:$A$2426='MDOT FTA Detail'!$D$3)*(Projects!$K$5:$K$2426=0)*(Projects!$C$5:$C$2426='MDOT FTA Detail'!$C$4)*(Projects!$N$5:$N$2426='MDOT FTA Detail'!$A143)*(Projects!$J$5:$J$2426<>'MDOT FTA Detail'!$A$171)*(Projects!$M$5:$M$2426))","v":0},0,"No FF",{"$f":"SUMPRODUCT((Projects!$A$5:$A$2426='MDOT FTA Detail'!$G$3)*(Projects!$K$5:$K$2426=0)*(Projects!$C$5:$C$2426='MDOT FTA Detail'!$C$4)*(Projects!$N$5:$N$2426='MDOT FTA Detail'!$A143)*(Projects!$J$5:$J$2426<>'MDOT FTA Detail'!$A$171)*(Projects!$M$5:$M$2426))","v":0},0,"No FF",{"$f":"SUMPRODUCT((Projects!$A$5:$A$2426='MDOT FTA Detail'!$J$3)*(Projects!$K$5:$K$2426=0)*(Projects!$C$5:$C$2426='MDOT FTA Detail'!$C$4)*(Projects!$N$5:$N$2426='MDOT FTA Detail'!$A143)*(Projects!$J$5:$J$2426<>'MDOT FTA Detail'!$A$171)*(Projects!$M$5:$M$2426))","v":0},0,"No FF",{"$f":"SUMPRODUCT((Projects!$A$5:$A$2426='MDOT FTA Detail'!$M$3)*(Projects!$K$5:$K$2426=0)*(Projects!$C$5:$C$2426='MDOT FTA Detail'!$C$4)*(Projects!$N$5:$N$2426='MDOT FTA Detail'!$A143)*(Projects!$J$5:$J$2426<>'MDOT FTA Detail'!$A$171)*(Projects!$M$5:$M$2426))","v":0},0]
["GF15","General Fund 2015","MDOT M","No FF",{"$f":"SUMPRODUCT((Projects!$A$5:$A$2426='MDOT FTA Detail'!$D$3)*(Projects!$K$5:$K$2426=0)*(Projects!$C$5:$C$2426='MDOT FTA Detail'!$C$4)*(Projects!$N$5:$N$2426='MDOT FTA Detail'!$A144)*(Projects!$J$5:$J$2426<>'MDOT FTA Detail'!$A$171)*(Projects!$M$5:$M$2426))","v":0},{"$f":"E144","v":0},"No FF",{"$f":"SUMPRODUCT((Projects!$A$5:$A$2426='MDOT FTA Detail'!$G$3)*(Projects!$K$5:$K$2426=0)*(Projects!$C$5:$C$2426='MDOT FTA Detail'!$C$4)*(Projects!$N$5:$N$2426='MDOT FTA Detail'!$A144)*(Projects!$J$5:$J$2426<>'MDOT FTA Detail'!$A$171)*(Projects!$M$5:$M$2426))","v":0},{"$f":"H144","v":0},"No FF",{"$f":"SUMPRODUCT((Projects!$A$5:$A$2426='MDOT FTA Detail'!$J$3)*(Projects!$K$5:$K$2426=0)*(Projects!$C$5:$C$2426='MDOT FTA Detail'!$C$4)*(Projects!$N$5:$N$2426='MDOT FTA Detail'!$A144)*(Projects!$J$5:$J$2426<>'MDOT FTA Detail'!$A$171)*(Projects!$M$5:$M$2426))","v":0},{"$f":"K144","v":0},"No FF",{"$f":"SUMPRODUCT((Projects!$A$5:$A$2426='MDOT FTA Detail'!$M$3)*(Projects!$K$5:$K$2426=0)*(Projects!$C$5:$C$2426='MDOT FTA Detail'!$C$4)*(Projects!$N$5:$N$2426='MDOT FTA Detail'!$A144)*(Projects!$J$5:$J$2426<>'MDOT FTA Detail'!$A$171)*(Projects!$M$5:$M$2426))","v":0},{"$f":"N144","v":0}]
["GF16","General Fund 2016","MDOT M","No FF",{"$f":"SUMPRODUCT((Projects!$A$5:$A$2426='MDOT FTA Detail'!$D$3)*(Projects!$K$5:$K$2426=0)*(Projects!$C$5:$C$2426='MDOT FTA Detail'!$C$4)*(Projects!$N$5:$N$2426='MDOT FTA Detail'!$A145)*(Projects!$J$5:$J$2426<>'MDOT FTA Detail'!$A$171)*(Projects!$M$5:$M$2426))","v":0},0,"No FF",{"$f":"SUMPRODUCT((Projects!$A$5:$A$2426='MDOT FTA Detail'!$G$3)*(Projects!$K$5:$K$2426=0)*(Projects!$C$5:$C$2426='MDOT FTA Detail'!$C$4)*(Projects!$N$5:$N$2426='MDOT FTA Detail'!$A145)*(Projects!$J$5:$J$2426<>'MDOT FTA Detail'!$A$171)*(Projects!$M$5:$M$2426))","v":0},0,"No FF",{"$f":"SUMPRODUCT((Projects!$A$5:$A$2426='MDOT FTA Detail'!$J$3)*(Projects!$K$5:$K$2426=0)*(Projects!$C$5:$C$2426='MDOT FTA Detail'!$C$4)*(Projects!$N$5:$N$2426='MDOT FTA Detail'!$A145)*(Projects!$J$5:$J$2426<>'MDOT FTA Detail'!$A$171)*(Projects!$M$5:$M$2426))","v":0},0,"No FF",{"$f":"SUMPRODUCT((Projects!$A$5:$A$2426='MDOT FTA Detail'!$M$3)*(Projects!$K$5:$K$2426=0)*(Projects!$C$5:$C$2426='MDOT FTA Detail'!$C$4)*(Projects!$N$5:$N$2426='MDOT FTA Detail'!$A145)*(Projects!$J$5:$J$2426<>'MDOT FTA Detail'!$A$171)*(Projects!$M$5:$M$2426))","v":0},0]
["JT07","Jobs Today Bond Issue 2007 GARVEE (State AC for Federal GARVEE Bonds)","MDOT M","No FF",{"$f":"SUMPRODUCT((Projects!$A$5:$A$2426='MDOT FTA Detail'!$D$3)*(Projects!$K$5:$K$2426=0)*(Projects!$C$5:$C$2426='MDOT FTA Detail'!$C$4)*(Projects!$N$5:$N$2426='MDOT FTA Detail'!$A146)*(Projects!$J$5:$J$2426<>'MDOT FTA Detail'!$A$171)*(Projects!$M$5:$M$2426))","v":0},0,"No FF",{"$f":"SUMPRODUCT((Projects!$A$5:$A$2426='MDOT FTA Detail'!$G$3)*(Projects!$K$5:$K$2426=0)*(Projects!$C$5:$C$2426='MDOT FTA Detail'!$C$4)*(Projects!$N$5:$N$2426='MDOT FTA Detail'!$A146)*(Projects!$J$5:$J$2426<>'MDOT FTA Detail'!$A$171)*(Projects!$M$5:$M$2426))","v":0},0,"No FF",{"$f":"SUMPRODUCT((Projects!$A$5:$A$2426='MDOT FTA Detail'!$J$3)*(Projects!$K$5:$K$2426=0)*(Projects!$C$5:$C$2426='MDOT FTA Detail'!$C$4)*(Projects!$N$5:$N$2426='MDOT FTA Detail'!$A146)*(Projects!$J$5:$J$2426<>'MDOT FTA Detail'!$A$171)*(Projects!$M$5:$M$2426))","v":0},0,"No FF",{"$f":"SUMPRODUCT((Projects!$A$5:$A$2426='MDOT FTA Detail'!$M$3)*(Projects!$K$5:$K$2426=0)*(Projects!$C$5:$C$2426='MDOT FTA Detail'!$C$4)*(Projects!$N$5:$N$2426='MDOT FTA Detail'!$A146)*(Projects!$J$5:$J$2426<>'MDOT FTA Detail'!$A$171)*(Projects!$M$5:$M$2426))","v":0},0]
["LFMP","Local Fund Match Program - 100% Local","MDOT M","No FF",{"$f":"SUMPRODUCT((Projects!$A$5:$A$2426='MDOT FTA Detail'!$D$3)*(Projects!$K$5:$K$2426=0)*(Projects!$C$5:$C$2426='MDOT FTA Detail'!$C$4)*(Projects!$N$5:$N$2426='MDOT FTA Detail'!$A147)*(Projects!$J$5:$J$2426<>'MDOT FTA Detail'!$A$171)*(Projects!$M$5:$M$2426))","v":0},0,"No FF",{"$f":"SUMPRODUCT((Projects!$A$5:$A$2426='MDOT FTA Detail'!$G$3)*(Projects!$K$5:$K$2426=0)*(Projects!$C$5:$C$2426='MDOT FTA Detail'!$C$4)*(Projects!$N$5:$N$2426='MDOT FTA Detail'!$A147)*(Projects!$J$5:$J$2426<>'MDOT FTA Detail'!$A$171)*(Projects!$M$5:$M$2426))","v":0},0,"No FF",{"$f":"SUMPRODUCT((Projects!$A$5:$A$2426='MDOT FTA Detail'!$J$3)*(Projects!$K$5:$K$2426=0)*(Projects!$C$5:$C$2426='MDOT FTA Detail'!$C$4)*(Projects!$N$5:$N$2426='MDOT FTA Detail'!$A147)*(Projects!$J$5:$J$2426<>'MDOT FTA Detail'!$A$171)*(Projects!$M$5:$M$2426))","v":0},0,"No FF",{"$f":"SUMPRODUCT((Projects!$A$5:$A$2426='MDOT FTA Detail'!$M$3)*(Projects!$K$5:$K$2426=0)*(Projects!$C$5:$C$2426='MDOT FTA Detail'!$C$4)*(Projects!$N$5:$N$2426='MDOT FTA Detail'!$A147)*(Projects!$J$5:$J$2426<>'MDOT FTA Detail'!$A$171)*(Projects!$M$5:$M$2426))","v":0},0]
["M","State Funds - Michigan Betterment","MDOT M","No FF",{"$f":"SUMPRODUCT((Projects!$A$5:$A$2426='MDOT FTA Detail'!$D$3)*(Projects!$K$5:$K$2426=0)*(Projects!$C$5:$C$2426='MDOT FTA Detail'!$C$4)*(Projects!$N$5:$N$2426='MDOT FTA Detail'!$A148)*(Projects!$J$5:$J$2426<>'MDOT FTA Detail'!$A$171)*(Projects!$M$5:$M$2426))","v":469259},469259,"No FF",{"$f":"SUMPRODUCT((Projects!$A$5:$A$2426='MDOT FTA Detail'!$G$3)*(Projects!$K$5:$K$2426=0)*(Projects!$C$5:$C$2426='MDOT FTA Detail'!$C$4)*(Projects!$N$5:$N$2426='MDOT FTA Detail'!$A148)*(Projects!$J$5:$J$2426<>'MDOT FTA Detail'!$A$171)*(Projects!$M$5:$M$2426))","v":0},0,"No FF",{"$f":"SUMPRODUCT((Projects!$A$5:$A$2426='MDOT FTA Detail'!$J$3)*(Projects!$K$5:$K$2426=0)*(Projects!$C$5:$C$2426='MDOT FTA Detail'!$C$4)*(Projects!$N$5:$N$2426='MDOT FTA Detail'!$A148)*(Projects!$J$5:$J$2426<>'MDOT FTA Detail'!$A$171)*(Projects!$M$5:$M$2426))","v":0},0,"No FF",{"$f":"SUMPRODUCT((Projects!$A$5:$A$2426='MDOT FTA Detail'!$M$3)*(Projects!$K$5:$K$2426=0)*(Projects!$C$5:$C$2426='MDOT FTA Detail'!$C$4)*(Projects!$N$5:$N$2426='MDOT FTA Detail'!$A148)*(Projects!$J$5:$J$2426<>'MDOT FTA Detail'!$A$171)*(Projects!$M$5:$M$2426))","v":0},0]
["MBS","Michigan Budget Stabilization","MDOT M","No FF",{"$f":"SUMPRODUCT((Projects!$A$5:$A$2426='MDOT FTA Detail'!$D$3)*(Projects!$K$5:$K$2426=0)*(Projects!$C$5:$C$2426='MDOT FTA Detail'!$C$4)*(Projects!$N$5:$N$2426='MDOT FTA Detail'!$A149)*(Projects!$J$5:$J$2426<>'MDOT FTA Detail'!$A$171)*(Projects!$M$5:$M$2426))","v":0},0,"No FF",{"$f":"SUMPRODUCT((Projects!$A$5:$A$2426='MDOT FTA Detail'!$G$3)*(Projects!$K$5:$K$2426=0)*(Projects!$C$5:$C$2426='MDOT FTA Detail'!$C$4)*(Projects!$N$5:$N$2426='MDOT FTA Detail'!$A149)*(Projects!$J$5:$J$2426<>'MDOT FTA Detail'!$A$171)*(Projects!$M$5:$M$2426))","v":0},0,"No FF",{"$f":"SUMPRODUCT((Projects!$A$5:$A$2426='MDOT FTA Detail'!$J$3)*(Projects!$K$5:$K$2426=0)*(Projects!$C$5:$C$2426='MDOT FTA Detail'!$C$4)*(Projects!$N$5:$N$2426='MDOT FTA Detail'!$A149)*(Projects!$J$5:$J$2426<>'MDOT FTA Detail'!$A$171)*(Projects!$M$5:$M$2426))","v":0},0,"No FF",{"$f":"SUMPRODUCT((Projects!$A$5:$A$2426='MDOT FTA Detail'!$M$3)*(Projects!$K$5:$K$2426=0)*(Projects!$C$5:$C$2426='MDOT FTA Detail'!$C$4)*(Projects!$N$5:$N$2426='MDOT FTA Detail'!$A149)*(Projects!$J$5:$J$2426<>'MDOT FTA Detail'!$A$171)*(Projects!$M$5:$M$2426))","v":0},0]
["MBWB","Michigan Blue Water Bridge","MDOT M","No FF",{"$f":"SUMPRODUCT((Projects!$A$5:$A$2426='MDOT FTA Detail'!$D$3)*(Projects!$K$5:$K$2426=0)*(Projects!$C$5:$C$2426='MDOT FTA Detail'!$C$4)*(Projects!$N$5:$N$2426='MDOT FTA Detail'!$A150)*(Projects!$J$5:$J$2426<>'MDOT FTA Detail'!$A$171)*(Projects!$M$5:$M$2426))","v":0},0,"No FF",{"$f":"SUMPRODUCT((Projects!$A$5:$A$2426='MDOT FTA Detail'!$G$3)*(Projects!$K$5:$K$2426=0)*(Projects!$C$5:$C$2426='MDOT FTA Detail'!$C$4)*(Projects!$N$5:$N$2426='MDOT FTA Detail'!$A150)*(Projects!$J$5:$J$2426<>'MDOT FTA Detail'!$A$171)*(Projects!$M$5:$M$2426))","v":0},0,"No FF",{"$f":"SUMPRODUCT((Projects!$A$5:$A$2426='MDOT FTA Detail'!$J$3)*(Projects!$K$5:$K$2426=0)*(Projects!$C$5:$C$2426='MDOT FTA Detail'!$C$4)*(Projects!$N$5:$N$2426='MDOT FTA Detail'!$A150)*(Projects!$J$5:$J$2426<>'MDOT FTA Detail'!$A$171)*(Projects!$M$5:$M$2426))","v":0},0,"No FF",{"$f":"SUMPRODUCT((Projects!$A$5:$A$2426='MDOT FTA Detail'!$M$3)*(Projects!$K$5:$K$2426=0)*(Projects!$C$5:$C$2426='MDOT FTA Detail'!$C$4)*(Projects!$N$5:$N$2426='MDOT FTA Detail'!$A150)*(Projects!$J$5:$J$2426<>'MDOT FTA Detail'!$A$171)*(Projects!$M$5:$M$2426))","v":0},0]
["MCS","State Funds - Critical Structures","MDOT M","No FF",{"$f":"SUMPRODUCT((Projects!$A$5:$A$2426='MDOT FTA Detail'!$D$3)*(Projects!$K$5:$K$2426=0)*(Projects!$C$5:$C$2426='MDOT FTA Detail'!$C$4)*(Projects!$N$5:$N$2426='MDOT FTA Detail'!$A151)*(Projects!$J$5:$J$2426<>'MDOT FTA Detail'!$A$171)*(Projects!$M$5:$M$2426))","v":0},0,"No FF",{"$f":"SUMPRODUCT((Projects!$A$5:$A$2426='MDOT FTA Detail'!$G$3)*(Projects!$K$5:$K$2426=0)*(Projects!$C$5:$C$2426='MDOT FTA Detail'!$C$4)*(Projects!$N$5:$N$2426='MDOT FTA Detail'!$A151)*(Projects!$J$5:$J$2426<>'MDOT FTA Detail'!$A$171)*(Projects!$M$5:$M$2426))","v":0},0,"No FF",{"$f":"SUMPRODUCT((Projects!$A$5:$A$2426='MDOT FTA Detail'!$J$3)*(Projects!$K$5:$K$2426=0)*(Projects!$C$5:$C$2426='MDOT FTA Detail'!$C$4)*(Projects!$N$5:$N$2426='MDOT FTA Detail'!$A151)*(Projects!$J$5:$J$2426<>'MDOT FTA Detail'!$A$171)*(Projects!$M$5:$M$2426))","v":0},0,"No FF",{"$f":"SUMPRODUCT((Projects!$A$5:$A$2426='MDOT FTA Detail'!$M$3)*(Projects!$K$5:$K$2426=0)*(Projects!$C$5:$C$2426='MDOT FTA Detail'!$C$4)*(Projects!$N$5:$N$2426='MDOT FTA Detail'!$A151)*(Projects!$J$5:$J$2426<>'MDOT FTA Detail'!$A$171)*(Projects!$M$5:$M$2426))","v":0},0]
["MDA","Drainage Assessment","MDOT M","No FF",{"$f":"SUMPRODUCT((Projects!$A$5:$A$2426='MDOT FTA Detail'!$D$3)*(Projects!$K$5:$K$2426=0)*(Projects!$C$5:$C$2426='MDOT FTA Detail'!$C$4)*(Projects!$N$5:$N$2426='MDOT FTA Detail'!$A152)*(Projects!$J$5:$J$2426<>'MDOT FTA Detail'!$A$171)*(Projects!$M$5:$M$2426))","v":0},0,"No FF",{"$f":"SUMPRODUCT((Projects!$A$5:$A$2426='MDOT FTA Detail'!$G$3)*(Projects!$K$5:$K$2426=0)*(Projects!$C$5:$C$2426='MDOT FTA Detail'!$C$4)*(Projects!$N$5:$N$2426='MDOT FTA Detail'!$A152)*(Projects!$J$5:$J$2426<>'MDOT FTA Detail'!$A$171)*(Projects!$M$5:$M$2426))","v":0},0,"No FF",{"$f":"SUMPRODUCT((Projects!$A$5:$A$2426='MDOT FTA Detail'!$J$3)*(Projects!$K$5:$K$2426=0)*(Projects!$C$5:$C$2426='MDOT FTA Detail'!$C$4)*(Projects!$N$5:$N$2426='MDOT FTA Detail'!$A152)*(Projects!$J$5:$J$2426<>'MDOT FTA Detail'!$A$171)*(Projects!$M$5:$M$2426))","v":0},0,"No FF",{"$f":"SUMPRODUCT((Projects!$A$5:$A$2426='MDOT FTA Detail'!$M$3)*(Projects!$K$5:$K$2426=0)*(Projects!$C$5:$C$2426='MDOT FTA Detail'!$C$4)*(Projects!$N$5:$N$2426='MDOT FTA Detail'!$A152)*(Projects!$J$5:$J$2426<>'MDOT FTA Detail'!$A$171)*(Projects!$M$5:$M$2426))","v":0},0]
["MER","Emergency Program","MDOT M","No FF",{"$f":"SUMPRODUCT((Projects!$A$5:$A$2426='MDOT FTA Detail'!$D$3)*(Projects!$K$5:$K$2426=0)*(Projects!$C$5:$C$2426='MDOT FTA Detail'!$C$4)*(Projects!$N$5:$N$2426='MDOT FTA Detail'!$A153)*(Projects!$J$5:$J$2426<>'MDOT FTA Detail'!$A$171)*(Projects!$M$5:$M$2426))","v":0},0,"No FF",{"$f":"SUMPRODUCT((Projects!$A$5:$A$2426='MDOT FTA Detail'!$G$3)*(Projects!$K$5:$K$2426=0)*(Projects!$C$5:$C$2426='MDOT FTA Detail'!$C$4)*(Projects!$N$5:$N$2426='MDOT FTA Detail'!$A153)*(Projects!$J$5:$J$2426<>'MDOT FTA Detail'!$A$171)*(Projects!$M$5:$M$2426))","v":0},0,"No FF",{"$f":"SUMPRODUCT((Projects!$A$5:$A$2426='MDOT FTA Detail'!$J$3)*(Projects!$K$5:$K$2426=0)*(Projects!$C$5:$C$2426='MDOT FTA Detail'!$C$4)*(Projects!$N$5:$N$2426='MDOT FTA Detail'!$A153)*(Projects!$J$5:$J$2426<>'MDOT FTA Detail'!$A$171)*(Projects!$M$5:$M$2426))","v":0},0,"No FF",{"$f":"SUMPRODUCT((Projects!$A$5:$A$2426='MDOT FTA Detail'!$M$3)*(Projects!$K$5:$K$2426=0)*(Projects!$C$5:$C$2426='MDOT FTA Detail'!$C$4)*(Projects!$N$5:$N$2426='MDOT FTA Detail'!$A153)*(Projects!$J$5:$J$2426<>'MDOT FTA Detail'!$A$171)*(Projects!$M$5:$M$2426))","v":0},0]
["MIR","State Funds - Institutional Roads","MDOT M","No FF",{"$f":"SUMPRODUCT((Projects!$A$5:$A$2426='MDOT FTA Detail'!$D$3)*(Projects!$K$5:$K$2426=0)*(Projects!$C$5:$C$2426='MDOT FTA Detail'!$C$4)*(Projects!$N$5:$N$2426='MDOT FTA Detail'!$A154)*(Projects!$J$5:$J$2426<>'MDOT FTA Detail'!$A$171)*(Projects!$M$5:$M$2426))","v":0},0,"No FF",{"$f":"SUMPRODUCT((Projects!$A$5:$A$2426='MDOT FTA Detail'!$G$3)*(Projects!$K$5:$K$2426=0)*(Projects!$C$5:$C$2426='MDOT FTA Detail'!$C$4)*(Projects!$N$5:$N$2426='MDOT FTA Detail'!$A154)*(Projects!$J$5:$J$2426<>'MDOT FTA Detail'!$A$171)*(Projects!$M$5:$M$2426))","v":0},0,"No FF",{"$f":"SUMPRODUCT((Projects!$A$5:$A$2426='MDOT FTA Detail'!$J$3)*(Projects!$K$5:$K$2426=0)*(Projects!$C$5:$C$2426='MDOT FTA Detail'!$C$4)*(Projects!$N$5:$N$2426='MDOT FTA Detail'!$A154)*(Projects!$J$5:$J$2426<>'MDOT FTA Detail'!$A$171)*(Projects!$M$5:$M$2426))","v":0},0,"No FF",{"$f":"SUMPRODUCT((Projects!$A$5:$A$2426='MDOT FTA Detail'!$M$3)*(Projects!$K$5:$K$2426=0)*(Projects!$C$5:$C$2426='MDOT FTA Detail'!$C$4)*(Projects!$N$5:$N$2426='MDOT FTA Detail'!$A154)*(Projects!$J$5:$J$2426<>'MDOT FTA Detail'!$A$171)*(Projects!$M$5:$M$2426))","v":0},0]
["MRR","Michigan Railroad","MDOT M","No FF",{"$f":"SUMPRODUCT((Projects!$A$5:$A$2426='MDOT FTA Detail'!$D$3)*(Projects!$K$5:$K$2426=0)*(Projects!$C$5:$C$2426='MDOT FTA Detail'!$C$4)*(Projects!$N$5:$N$2426='MDOT FTA Detail'!$A155)*(Projects!$J$5:$J$2426<>'MDOT FTA Detail'!$A$171)*(Projects!$M$5:$M$2426))","v":0},0,"No FF",{"$f":"SUMPRODUCT((Projects!$A$5:$A$2426='MDOT FTA Detail'!$G$3)*(Projects!$K$5:$K$2426=0)*(Projects!$C$5:$C$2426='MDOT FTA Detail'!$C$4)*(Projects!$N$5:$N$2426='MDOT FTA Detail'!$A155)*(Projects!$J$5:$J$2426<>'MDOT FTA Detail'!$A$171)*(Projects!$M$5:$M$2426))","v":0},0,"No FF",{"$f":"SUMPRODUCT((Projects!$A$5:$A$2426='MDOT FTA Detail'!$J$3)*(Projects!$K$5:$K$2426=0)*(Projects!$C$5:$C$2426='MDOT FTA Detail'!$C$4)*(Projects!$N$5:$N$2426='MDOT FTA Detail'!$A155)*(Projects!$J$5:$J$2426<>'MDOT FTA Detail'!$A$171)*(Projects!$M$5:$M$2426))","v":0},0,"No FF",{"$f":"SUMPRODUCT((Projects!$A$5:$A$2426='MDOT FTA Detail'!$M$3)*(Projects!$K$5:$K$2426=0)*(Projects!$C$5:$C$2426='MDOT FTA Detail'!$C$4)*(Projects!$N$5:$N$2426='MDOT FTA Detail'!$A155)*(Projects!$J$5:$J$2426<>'MDOT FTA Detail'!$A$171)*(Projects!$M$5:$M$2426))","v":0},0]
["MRRF","Michigan Revolving Real Estate Fund","MDOT M","No FF",{"$f":"SUMPRODUCT((Projects!$A$5:$A$2426='MDOT FTA Detail'!$D$3)*(Projects!$K$5:$K$2426=0)*(Projects!$C$5:$C$2426='MDOT FTA Detail'!$C$4)*(Projects!$N$5:$N$2426='MDOT FTA Detail'!$A156)*(Projects!$J$5:$J$2426<>'MDOT FTA Detail'!$A$171)*(Projects!$M$5:$M$2426))","v":0},0,"No FF",{"$f":"SUMPRODUCT((Projects!$A$5:$A$2426='MDOT FTA Detail'!$G$3)*(Projects!$K$5:$K$2426=0)*(Projects!$C$5:$C$2426='MDOT FTA Detail'!$C$4)*(Projects!$N$5:$N$2426='MDOT FTA Detail'!$A156)*(Projects!$J$5:$J$2426<>'MDOT FTA Detail'!$A$171)*(Projects!$M$5:$M$2426))","v":0},0,"No FF",{"$f":"SUMPRODUCT((Projects!$A$5:$A$2426='MDOT FTA Detail'!$J$3)*(Projects!$K$5:$K$2426=0)*(Projects!$C$5:$C$2426='MDOT FTA Detail'!$C$4)*(Projects!$N$5:$N$2426='MDOT FTA Detail'!$A156)*(Projects!$J$5:$J$2426<>'MDOT FTA Detail'!$A$171)*(Projects!$M$5:$M$2426))","v":0},0,"No FF",{"$f":"SUMPRODUCT((Projects!$A$5:$A$2426='MDOT FTA Detail'!$M$3)*(Projects!$K$5:$K$2426=0)*(Projects!$C$5:$C$2426='MDOT FTA Detail'!$C$4)*(Projects!$N$5:$N$2426='MDOT FTA Detail'!$A156)*(Projects!$J$5:$J$2426<>'MDOT FTA Detail'!$A$171)*(Projects!$M$5:$M$2426))","v":0},0]
["MS","Safety Program","MDOT M","No FF",{"$f":"SUMPRODUCT((Projects!$A$5:$A$2426='MDOT FTA Detail'!$D$3)*(Projects!$K$5:$K$2426=0)*(Projects!$C$5:$C$2426='MDOT FTA Detail'!$C$4)*(Projects!$N$5:$N$2426='MDOT FTA Detail'!$A157)*(Projects!$J$5:$J$2426<>'MDOT FTA Detail'!$A$171)*(Projects!$M$5:$M$2426))","v":0},0,"No FF",{"$f":"SUMPRODUCT((Projects!$A$5:$A$2426='MDOT FTA Detail'!$G$3)*(Projects!$K$5:$K$2426=0)*(Projects!$C$5:$C$2426='MDOT FTA Detail'!$C$4)*(Projects!$N$5:$N$2426='MDOT FTA Detail'!$A157)*(Projects!$J$5:$J$2426<>'MDOT FTA Detail'!$A$171)*(Projects!$M$5:$M$2426))","v":0},0,"No FF",{"$f":"SUMPRODUCT((Projects!$A$5:$A$2426='MDOT FTA Detail'!$J$3)*(Projects!$K$5:$K$2426=0)*(Projects!$C$5:$C$2426='MDOT FTA Detail'!$C$4)*(Projects!$N$5:$N$2426='MDOT FTA Detail'!$A157)*(Projects!$J$5:$J$2426<>'MDOT FTA Detail'!$A$171)*(Projects!$M$5:$M$2426))","v":0},0,"No FF",{"$f":"SUMPRODUCT((Projects!$A$5:$A$2426='MDOT FTA Detail'!$M$3)*(Projects!$K$5:$K$2426=0)*(Projects!$C$5:$C$2426='MDOT FTA Detail'!$C$4)*(Projects!$N$5:$N$2426='MDOT FTA Detail'!$A157)*(Projects!$J$5:$J$2426<>'MDOT FTA Detail'!$A$171)*(Projects!$M$5:$M$2426))","v":0},0]
["MTB","Turnback Program","MDOT M","No FF",{"$f":"SUMPRODUCT((Projects!$A$5:$A$2426='MDOT FTA Detail'!$D$3)*(Projects!$K$5:$K$2426=0)*(Projects!$C$5:$C$2426='MDOT FTA Detail'!$C$4)*(Projects!$N$5:$N$2426='MDOT FTA Detail'!$A158)*(Projects!$J$5:$J$2426<>'MDOT FTA Detail'!$A$171)*(Projects!$M$5:$M$2426))","v":0},0,"No FF",{"$f":"SUMPRODUCT((Projects!$A$5:$A$2426='MDOT FTA Detail'!$G$3)*(Projects!$K$5:$K$2426=0)*(Projects!$C$5:$C$2426='MDOT FTA Detail'!$C$4)*(Projects!$N$5:$N$2426='MDOT FTA Detail'!$A158)*(Projects!$J$5:$J$2426<>'MDOT FTA Detail'!$A$171)*(Projects!$M$5:$M$2426))","v":0},0,"No FF",{"$f":"SUMPRODUCT((Projects!$A$5:$A$2426='MDOT FTA Detail'!$J$3)*(Projects!$K$5:$K$2426=0)*(Projects!$C$5:$C$2426='MDOT FTA Detail'!$C$4)*(Projects!$N$5:$N$2426='MDOT FTA Detail'!$A158)*(Projects!$J$5:$J$2426<>'MDOT FTA Detail'!$A$171)*(Projects!$M$5:$M$2426))","v":0},0,"No FF",{"$f":"SUMPRODUCT((Projects!$A$5:$A$2426='MDOT FTA Detail'!$M$3)*(Projects!$K$5:$K$2426=0)*(Projects!$C$5:$C$2426='MDOT FTA Detail'!$C$4)*(Projects!$N$5:$N$2426='MDOT FTA Detail'!$A158)*(Projects!$J$5:$J$2426<>'MDOT FTA Detail'!$A$171)*(Projects!$M$5:$M$2426))","v":0},0]
["PRIP","Priority Roads Investment Program","MDOT M","No FF",{"$f":"SUMPRODUCT((Projects!$A$5:$A$2426='MDOT FTA Detail'!$D$3)*(Projects!$K$5:$K$2426=0)*(Projects!$C$5:$C$2426='MDOT FTA Detail'!$C$4)*(Projects!$N$5:$N$2426='MDOT FTA Detail'!$A159)*(Projects!$J$5:$J$2426<>'MDOT FTA Detail'!$A$171)*(Projects!$M$5:$M$2426))","v":0},{"$f":"E159","v":0},"No FF",{"$f":"SUMPRODUCT((Projects!$A$5:$A$2426='MDOT FTA Detail'!$G$3)*(Projects!$K$5:$K$2426=0)*(Projects!$C$5:$C$2426='MDOT FTA Detail'!$C$4)*(Projects!$N$5:$N$2426='MDOT FTA Detail'!$A159)*(Projects!$J$5:$J$2426<>'MDOT FTA Detail'!$A$171)*(Projects!$M$5:$M$2426))","v":0},{"$f":"H159","v":0},"No FF",{"$f":"SUMPRODUCT((Projects!$A$5:$A$2426='MDOT FTA Detail'!$J$3)*(Projects!$K$5:$K$2426=0)*(Projects!$C$5:$C$2426='MDOT FTA Detail'!$C$4)*(Projects!$N$5:$N$2426='MDOT FTA Detail'!$A159)*(Projects!$J$5:$J$2426<>'MDOT FTA Detail'!$A$171)*(Projects!$M$5:$M$2426))","v":0},{"$f":"K159","v":0},"No FF",{"$f":"SUMPRODUCT((Projects!$A$5:$A$2426='MDOT FTA Detail'!$M$3)*(Projects!$K$5:$K$2426=0)*(Projects!$C$5:$C$2426='MDOT FTA Detail'!$C$4)*(Projects!$N$5:$N$2426='MDOT FTA Detail'!$A159)*(Projects!$J$5:$J$2426<>'MDOT FTA Detail'!$A$171)*(Projects!$M$5:$M$2426))","v":0},{"$f":"N159","v":0}]
["RRRF","Michigan Road and Risk Reserve Fund","MDOT M","No FF",{"$f":"SUMPRODUCT((Projects!$A$5:$A$2426='MDOT FTA Detail'!$D$3)*(Projects!$K$5:$K$2426=0)*(Projects!$C$5:$C$2426='MDOT FTA Detail'!$C$4)*(Projects!$N$5:$N$2426='MDOT FTA Detail'!$A160)*(Projects!$J$5:$J$2426<>'MDOT FTA Detail'!$A$171)*(Projects!$M$5:$M$2426))","v":0},{"$f":"E160","v":0},"No FF",{"$f":"SUMPRODUCT((Projects!$A$5:$A$2426='MDOT FTA Detail'!$G$3)*(Projects!$K$5:$K$2426=0)*(Projects!$C$5:$C$2426='MDOT FTA Detail'!$C$4)*(Projects!$N$5:$N$2426='MDOT FTA Detail'!$A160)*(Projects!$J$5:$J$2426<>'MDOT FTA Detail'!$A$171)*(Projects!$M$5:$M$2426))","v":0},{"$f":"H160","v":0},"No FF",{"$f":"SUMPRODUCT((Projects!$A$5:$A$2426='MDOT FTA Detail'!$J$3)*(Projects!$K$5:$K$2426=0)*(Projects!$C$5:$C$2426='MDOT FTA Detail'!$C$4)*(Projects!$N$5:$N$2426='MDOT FTA Detail'!$A160)*(Projects!$J$5:$J$2426<>'MDOT FTA Detail'!$A$171)*(Projects!$M$5:$M$2426))","v":0},{"$f":"K160","v":0},"No FF",{"$f":"SUMPRODUCT((Projects!$A$5:$A$2426='MDOT FTA Detail'!$M$3)*(Projects!$K$5:$K$2426=0)*(Projects!$C$5:$C$2426='MDOT FTA Detail'!$C$4)*(Projects!$N$5:$N$2426='MDOT FTA Detail'!$A160)*(Projects!$J$5:$J$2426<>'MDOT FTA Detail'!$A$171)*(Projects!$M$5:$M$2426))","v":0},{"$f":"N160","v":0}]
["SIBG","100% State Infrastructure Bank","MDOT M","No FF",{"$f":"SUMPRODUCT((Projects!$A$5:$A$2426='MDOT FTA Detail'!$D$3)*(Projects!$K$5:$K$2426=0)*(Projects!$C$5:$C$2426='MDOT FTA Detail'!$C$4)*(Projects!$N$5:$N$2426='MDOT FTA Detail'!$A161)*(Projects!$J$5:$J$2426<>'MDOT FTA Detail'!$A$171)*(Projects!$M$5:$M$2426))","v":0},0,"No FF",{"$f":"SUMPRODUCT((Projects!$A$5:$A$2426='MDOT FTA Detail'!$G$3)*(Projects!$K$5:$K$2426=0)*(Projects!$C$5:$C$2426='MDOT FTA Detail'!$C$4)*(Projects!$N$5:$N$2426='MDOT FTA Detail'!$A161)*(Projects!$J$5:$J$2426<>'MDOT FTA Detail'!$A$171)*(Projects!$M$5:$M$2426))","v":0},0,"No FF",{"$f":"SUMPRODUCT((Projects!$A$5:$A$2426='MDOT FTA Detail'!$J$3)*(Projects!$K$5:$K$2426=0)*(Projects!$C$5:$C$2426='MDOT FTA Detail'!$C$4)*(Projects!$N$5:$N$2426='MDOT FTA Detail'!$A161)*(Projects!$J$5:$J$2426<>'MDOT FTA Detail'!$A$171)*(Projects!$M$5:$M$2426))","v":0},0,"No FF",{"$f":"SUMPRODUCT((Projects!$A$5:$A$2426='MDOT FTA Detail'!$M$3)*(Projects!$K$5:$K$2426=0)*(Projects!$C$5:$C$2426='MDOT FTA Detail'!$C$4)*(Projects!$N$5:$N$2426='MDOT FTA Detail'!$A161)*(Projects!$J$5:$J$2426<>'MDOT FTA Detail'!$A$171)*(Projects!$M$5:$M$2426))","v":0},0]
["CITY","Local - City (Specify city in Comments)","MDOT M","No FF",{"$f":"SUMPRODUCT((Projects!$A$5:$A$2426='MDOT FTA Detail'!$D$3)*(Projects!$K$5:$K$2426=0)*(Projects!$C$5:$C$2426='MDOT FTA Detail'!$C$4)*(Projects!$P$5:$P$2426='MDOT FTA Detail'!$A162)*(Projects!$J$5:$J$2426<>'MDOT FTA Detail'!$A$171)*(Projects!$O$5:$O$2426))","v":0},0,"No FF",{"$f":"SUMPRODUCT((Projects!$A$5:$A$2426='MDOT FTA Detail'!$G$3)*(Projects!$K$5:$K$2426=0)*(Projects!$C$5:$C$2426='MDOT FTA Detail'!$C$4)*(Projects!$P$5:$P$2426='MDOT FTA Detail'!$A162)*(Projects!$J$5:$J$2426<>'MDOT FTA Detail'!$A$171)*(Projects!$O$5:$O$2426))","v":0},0,"No FF",{"$f":"SUMPRODUCT((Projects!$A$5:$A$2426='MDOT FTA Detail'!$J$3)*(Projects!$K$5:$K$2426=0)*(Projects!$C$5:$C$2426='MDOT FTA Detail'!$C$4)*(Projects!$P$5:$P$2426='MDOT FTA Detail'!$A162)*(Projects!$J$5:$J$2426<>'MDOT FTA Detail'!$A$171)*(Projects!$O$5:$O$2426))","v":0},0,"No FF",{"$f":"SUMPRODUCT((Projects!$A$5:$A$2426='MDOT FTA Detail'!$M$3)*(Projects!$K$5:$K$2426=0)*(Projects!$C$5:$C$2426='MDOT FTA Detail'!$C$4)*(Projects!$P$5:$P$2426='MDOT FTA Detail'!$A162)*(Projects!$J$5:$J$2426<>'MDOT FTA Detail'!$A$171)*(Projects!$O$5:$O$2426))","v":0},0]
["CANX","Canadian Bridge Funds","MDOT M","No FF",{"$f":"SUMPRODUCT((Projects!$A$5:$A$2426='MDOT FTA Detail'!$D$3)*(Projects!$K$5:$K$2426=0)*(Projects!$C$5:$C$2426='MDOT FTA Detail'!$C$4)*(Projects!$P$5:$P$2426='MDOT FTA Detail'!$A163)*(Projects!$J$5:$J$2426<>'MDOT FTA Detail'!$A$171)*(Projects!$O$5:$O$2426))","v":0},0,"No FF",{"$f":"SUMPRODUCT((Projects!$A$5:$A$2426='MDOT FTA Detail'!$G$3)*(Projects!$K$5:$K$2426=0)*(Projects!$C$5:$C$2426='MDOT FTA Detail'!$C$4)*(Projects!$P$5:$P$2426='MDOT FTA Detail'!$A163)*(Projects!$J$5:$J$2426<>'MDOT FTA Detail'!$A$171)*(Projects!$O$5:$O$2426))","v":0},0,"No FF",{"$f":"SUMPRODUCT((Projects!$A$5:$A$2426='MDOT FTA Detail'!$J$3)*(Projects!$K$5:$K$2426=0)*(Projects!$C$5:$C$2426='MDOT FTA Detail'!$C$4)*(Projects!$P$5:$P$2426='MDOT FTA Detail'!$A163)*(Projects!$J$5:$J$2426<>'MDOT FTA Detail'!$A$171)*(Projects!$O$5:$O$2426))","v":0},0,"No FF",{"$f":"SUMPRODUCT((Projects!$A$5:$A$2426='MDOT FTA Detail'!$M$3)*(Projects!$K$5:$K$2426=0)*(Projects!$C$5:$C$2426='MDOT FTA Detail'!$C$4)*(Projects!$P$5:$P$2426='MDOT FTA Detail'!$A163)*(Projects!$J$5:$J$2426<>'MDOT FTA Detail'!$A$171)*(Projects!$O$5:$O$2426))","v":0},0]
["CNTY","Local - County (Specify county in Comments) ","MDOT M","No FF",{"$f":"SUMPRODUCT((Projects!$A$5:$A$2426='MDOT FTA Detail'!$D$3)*(Projects!$K$5:$K$2426=0)*(Projects!$C$5:$C$2426='MDOT FTA Detail'!$C$4)*(Projects!$P$5:$P$2426='MDOT FTA Detail'!$A164)*(Projects!$J$5:$J$2426<>'MDOT FTA Detail'!$A$171)*(Projects!$O$5:$O$2426))","v":0},0,"No FF",{"$f":"SUMPRODUCT((Projects!$A$5:$A$2426='MDOT FTA Detail'!$G$3)*(Projects!$K$5:$K$2426=0)*(Projects!$C$5:$C$2426='MDOT FTA Detail'!$C$4)*(Projects!$P$5:$P$2426='MDOT FTA Detail'!$A164)*(Projects!$J$5:$J$2426<>'MDOT FTA Detail'!$A$171)*(Projects!$O$5:$O$2426))","v":0},0,"No FF",{"$f":"SUMPRODUCT((Projects!$A$5:$A$2426='MDOT FTA Detail'!$J$3)*(Projects!$K$5:$K$2426=0)*(Projects!$C$5:$C$2426='MDOT FTA Detail'!$C$4)*(Projects!$P$5:$P$2426='MDOT FTA Detail'!$A164)*(Projects!$J$5:$J$2426<>'MDOT FTA Detail'!$A$171)*(Projects!$O$5:$O$2426))","v":0},0,"No FF",{"$f":"SUMPRODUCT((Projects!$A$5:$A$2426='MDOT FTA Detail'!$M$3)*(Projects!$K$5:$K$2426=0)*(Projects!$C$5:$C$2426='MDOT FTA Detail'!$C$4)*(Projects!$P$5:$P$2426='MDOT FTA Detail'!$A164)*(Projects!$J$5:$J$2426<>'MDOT FTA Detail'!$A$171)*(Projects!$O$5:$O$2426))","v":0},0]
["OLF","Other Local Funds (Specify local fund source in Comments) ","MDOT M","No FF",{"$f":"SUMPRODUCT((Projects!$A$5:$A$2426='MDOT FTA Detail'!$D$3)*(Projects!$K$5:$K$2426=0)*(Projects!$C$5:$C$2426='MDOT FTA Detail'!$C$4)*(Projects!$P$5:$P$2426='MDOT FTA Detail'!$A165)*(Projects!$J$5:$J$2426<>'MDOT FTA Detail'!$A$171)*(Projects!$O$5:$O$2426))","v":0},0,"No FF",{"$f":"SUMPRODUCT((Projects!$A$5:$A$2426='MDOT FTA Detail'!$G$3)*(Projects!$K$5:$K$2426=0)*(Projects!$C$5:$C$2426='MDOT FTA Detail'!$C$4)*(Projects!$P$5:$P$2426='MDOT FTA Detail'!$A165)*(Projects!$J$5:$J$2426<>'MDOT FTA Detail'!$A$171)*(Projects!$O$5:$O$2426))","v":0},0,"No FF",{"$f":"SUMPRODUCT((Projects!$A$5:$A$2426='MDOT FTA Detail'!$J$3)*(Projects!$K$5:$K$2426=0)*(Projects!$C$5:$C$2426='MDOT FTA Detail'!$C$4)*(Projects!$P$5:$P$2426='MDOT FTA Detail'!$A165)*(Projects!$J$5:$J$2426<>'MDOT FTA Detail'!$A$171)*(Projects!$O$5:$O$2426))","v":0},0,"No FF",{"$f":"SUMPRODUCT((Projects!$A$5:$A$2426='MDOT FTA Detail'!$M$3)*(Projects!$K$5:$K$2426=0)*(Projects!$C$5:$C$2426='MDOT FTA Detail'!$C$4)*(Projects!$P$5:$P$2426='MDOT FTA Detail'!$A165)*(Projects!$J$5:$J$2426<>'MDOT FTA Detail'!$A$171)*(Projects!$O$5:$O$2426))","v":0},0]
["PRVT","Private (Non-governmental)","MDOT M","No FF",{"$f":"SUMPRODUCT((Projects!$A$5:$A$2426='MDOT FTA Detail'!$D$3)*(Projects!$K$5:$K$2426=0)*(Projects!$C$5:$C$2426='MDOT FTA Detail'!$C$4)*(Projects!$P$5:$P$2426='MDOT FTA Detail'!$A166)*(Projects!$J$5:$J$2426<>'MDOT FTA Detail'!$A$171)*(Projects!$O$5:$O$2426))","v":0},0,"No FF",{"$f":"SUMPRODUCT((Projects!$A$5:$A$2426='MDOT FTA Detail'!$G$3)*(Projects!$K$5:$K$2426=0)*(Projects!$C$5:$C$2426='MDOT FTA Detail'!$C$4)*(Projects!$P$5:$P$2426='MDOT FTA Detail'!$A166)*(Projects!$J$5:$J$2426<>'MDOT FTA Detail'!$A$171)*(Projects!$O$5:$O$2426))","v":0},0,"No FF",{"$f":"SUMPRODUCT((Projects!$A$5:$A$2426='MDOT FTA Detail'!$J$3)*(Projects!$K$5:$K$2426=0)*(Projects!$C$5:$C$2426='MDOT FTA Detail'!$C$4)*(Projects!$P$5:$P$2426='MDOT FTA Detail'!$A166)*(Projects!$J$5:$J$2426<>'MDOT FTA Detail'!$A$171)*(Projects!$O$5:$O$2426))","v":0},0,"No FF",{"$f":"SUMPRODUCT((Projects!$A$5:$A$2426='MDOT FTA Detail'!$M$3)*(Projects!$K$5:$K$2426=0)*(Projects!$C$5:$C$2426='MDOT FTA Detail'!$C$4)*(Projects!$P$5:$P$2426='MDOT FTA Detail'!$A166)*(Projects!$J$5:$J$2426<>'MDOT FTA Detail'!$A$171)*(Projects!$O$5:$O$2426))","v":0},0]
["TRAL","Local - Transit Authority Funds (Specify transit authority in Comments)","MDOT M","No FF",{"$f":"SUMPRODUCT((Projects!$A$5:$A$2426='MDOT FTA Detail'!$D$3)*(Projects!$K$5:$K$2426=0)*(Projects!$C$5:$C$2426='MDOT FTA Detail'!$C$4)*(Projects!$P$5:$P$2426='MDOT FTA Detail'!$A167)*(Projects!$J$5:$J$2426<>'MDOT FTA Detail'!$A$171)*(Projects!$O$5:$O$2426))","v":0},0,"No FF",{"$f":"SUMPRODUCT((Projects!$A$5:$A$2426='MDOT FTA Detail'!$G$3)*(Projects!$K$5:$K$2426=0)*(Projects!$C$5:$C$2426='MDOT FTA Detail'!$C$4)*(Projects!$P$5:$P$2426='MDOT FTA Detail'!$A167)*(Projects!$J$5:$J$2426<>'MDOT FTA Detail'!$A$171)*(Projects!$O$5:$O$2426))","v":0},0,"No FF",{"$f":"SUMPRODUCT((Projects!$A$5:$A$2426='MDOT FTA Detail'!$J$3)*(Projects!$K$5:$K$2426=0)*(Projects!$C$5:$C$2426='MDOT FTA Detail'!$C$4)*(Projects!$P$5:$P$2426='MDOT FTA Detail'!$A167)*(Projects!$J$5:$J$2426<>'MDOT FTA Detail'!$A$171)*(Projects!$O$5:$O$2426))","v":0},0,"No FF",{"$f":"SUMPRODUCT((Projects!$A$5:$A$2426='MDOT FTA Detail'!$M$3)*(Projects!$K$5:$K$2426=0)*(Projects!$C$5:$C$2426='MDOT FTA Detail'!$C$4)*(Projects!$P$5:$P$2426='MDOT FTA Detail'!$A167)*(Projects!$J$5:$J$2426<>'MDOT FTA Detail'!$A$171)*(Projects!$O$5:$O$2426))","v":0},0]
["TWP","Local - Township (Specify township in Comments)","MDOT M","No FF",{"$f":"SUMPRODUCT((Projects!$A$5:$A$2426='MDOT FTA Detail'!$D$3)*(Projects!$K$5:$K$2426=0)*(Projects!$C$5:$C$2426='MDOT FTA Detail'!$C$4)*(Projects!$P$5:$P$2426='MDOT FTA Detail'!$A168)*(Projects!$J$5:$J$2426<>'MDOT FTA Detail'!$A$171)*(Projects!$O$5:$O$2426))","v":0},0,"No FF",{"$f":"SUMPRODUCT((Projects!$A$5:$A$2426='MDOT FTA Detail'!$G$3)*(Projects!$K$5:$K$2426=0)*(Projects!$C$5:$C$2426='MDOT FTA Detail'!$C$4)*(Projects!$P$5:$P$2426='MDOT FTA Detail'!$A168)*(Projects!$J$5:$J$2426<>'MDOT FTA Detail'!$A$171)*(Projects!$O$5:$O$2426))","v":0},0,"No FF",{"$f":"SUMPRODUCT((Projects!$A$5:$A$2426='MDOT FTA Detail'!$J$3)*(Projects!$K$5:$K$2426=0)*(Projects!$C$5:$C$2426='MDOT FTA Detail'!$C$4)*(Projects!$P$5:$P$2426='MDOT FTA Detail'!$A168)*(Projects!$J$5:$J$2426<>'MDOT FTA Detail'!$A$171)*(Projects!$O$5:$O$2426))","v":0},0,"No FF",{"$f":"SUMPRODUCT((Projects!$A$5:$A$2426='MDOT FTA Detail'!$M$3)*(Projects!$K$5:$K$2426=0)*(Projects!$C$5:$C$2426='MDOT FTA Detail'!$C$4)*(Projects!$P$5:$P$2426='MDOT FTA Detail'!$A168)*(Projects!$J$5:$J$2426<>'MDOT FTA Detail'!$A$171)*(Projects!$O$5:$O$2426))","v":0},0]
["VLG","Local - Village (Specify village in Comments)","MDOT M","No FF",{"$f":"SUMPRODUCT((Projects!$A$5:$A$2426='MDOT FTA Detail'!$D$3)*(Projects!$K$5:$K$2426=0)*(Projects!$C$5:$C$2426='MDOT FTA Detail'!$C$4)*(Projects!$P$5:$P$2426='MDOT FTA Detail'!$A169)*(Projects!$J$5:$J$2426<>'MDOT FTA Detail'!$A$171)*(Projects!$O$5:$O$2426))","v":0},0,"No FF",{"$f":"SUMPRODUCT((Projects!$A$5:$A$2426='MDOT FTA Detail'!$G$3)*(Projects!$K$5:$K$2426=0)*(Projects!$C$5:$C$2426='MDOT FTA Detail'!$C$4)*(Projects!$P$5:$P$2426='MDOT FTA Detail'!$A169)*(Projects!$J$5:$J$2426<>'MDOT FTA Detail'!$A$171)*(Projects!$O$5:$O$2426))","v":0},0,"No FF",{"$f":"SUMPRODUCT((Projects!$A$5:$A$2426='MDOT FTA Detail'!$J$3)*(Projects!$K$5:$K$2426=0)*(Projects!$C$5:$C$2426='MDOT FTA Detail'!$C$4)*(Projects!$P$5:$P$2426='MDOT FTA Detail'!$A169)*(Projects!$J$5:$J$2426<>'MDOT FTA Detail'!$A$171)*(Projects!$O$5:$O$2426))","v":0},0,"No FF",{"$f":"SUMPRODUCT((Projects!$A$5:$A$2426='MDOT FTA Detail'!$M$3)*(Projects!$K$5:$K$2426=0)*(Projects!$C$5:$C$2426='MDOT FTA Detail'!$C$4)*(Projects!$P$5:$P$2426='MDOT FTA Detail'!$A169)*(Projects!$J$5:$J$2426<>'MDOT FTA Detail'!$A$171)*(Projects!$O$5:$O$2426))","v":0},0]
[]
["AC","MDOT AC Projects","MDOT AC",{"$f":"SUMPRODUCT((Projects!$A$5:$A$2426='MDOT FTA Detail'!$D$3)*(Projects!$C$5:$C$2426='MDOT FTA Detail'!$C$4)*(Projects!$J$5:$J$2426='MDOT FTA Detail'!$A$171)*(Projects!$K$5:$K$2426))","v":0},{"$f":"F171-D171","v":0},{"$f":"SUMPRODUCT((Projects!$A$5:$A$2426='MDOT FTA Detail'!$D$3)*(Projects!$C$5:$C$2426='MDOT FTA Detail'!$C$4)*(Projects!$J$5:$J$2426='MDOT FTA Detail'!$A$171)*(Projects!$Q$5:$Q$2426))","v":0},{"$f":"SUMPRODUCT((Projects!$A$5:$A$2426='MDOT FTA Detail'!$G$3)*(Projects!$C$5:$C$2426='MDOT FTA Detail'!$C$4)*(Projects!$J$5:$J$2426='MDOT FTA Detail'!$A$171)*(Projects!$K$5:$K$2426))","v":0},{"$f":"I171-G171","v":0},{"$f":"SUMPRODUCT((Projects!$A$5:$A$2426='MDOT FTA Detail'!$G$3)*(Projects!$C$5:$C$2426='MDOT FTA Detail'!$C$4)*(Projects!$J$5:$J$2426='MDOT FTA Detail'!$A$171)*(Projects!$Q$5:$Q$2426))","v":0},{"$f":"SUMPRODUCT((Projects!$A$5:$A$2426='MDOT FTA Detail'!$J$3)*(Projects!$C$5:$C$2426='MDOT FTA Detail'!$C$4)*(Projects!$J$5:$J$2426='MDOT FTA Detail'!$A$171)*(Projects!$K$5:$K$2426))","v":0},{"$f":"L171-J171","v":0},{"$f":"SUMPRODUCT((Projects!$A$5:$A$2426='MDOT FTA Detail'!$J$3)*(Projects!$C$5:$C$2426='MDOT FTA Detail'!$C$4)*(Projects!$J$5:$J$2426='MDOT FTA Detail'!$A$171)*(Projects!$Q$5:$Q$2426))","v":0},{"$f":"SUMPRODUCT((Projects!$A$5:$A$2426='MDOT FTA Detail'!$M$3)*(Projects!$C$5:$C$2426='MDOT FTA Detail'!$C$4)*(Projects!$J$5:$J$2426='MDOT FTA Detail'!$A$171)*(Projects!$K$5:$K$2426))","v":0},{"$f":"O171-M171","v":0},{"$f":"SUMPRODUCT((Projects!$A$5:$A$2426='MDOT FTA Detail'!$M$3)*(Projects!$C$5:$C$2426='MDOT FTA Detail'!$C$4)*(Projects!$J$5:$J$2426='MDOT FTA Detail'!$A$171)*(Projects!$Q$5:$Q$2426))","v":0}]

{"sheet":"Local Detail","index":12,"n_rows":147,"n_cols":15,"rows_kept":147,"cut":false,"hidden":false,"merged":[[2,3,2,5],[2,6,2,8],[2,9,2,11],[2,12,2,14]]}
[]
[]
[null,null,null,2017,null,null,2018,null,null,2019,null,null,2020]
["Fund","Fund Sources","Local Program","Proposed Federal Commitments","Proposed Non-Federal Commitments","Total Proposed Commitments","Proposed Federal Commitments","Proposed Non-Federal Commitments","Total Proposed Commitments","Proposed Federal Commitments","Proposed Non-Federal Commitments","Total Proposed Commitments","Proposed Federal Commitments","Proposed Non-Federal Commitments","Total Proposed Commitments"]
[]
["BHI","Bridge Rehabilitation - Prior 1991 - Interstate","Local Bridge",{"$f":"SUMPRODUCT((Projects!$A$5:$A$2426='Local Detail'!$D$3)*(Projects!$C$5:$C$2426<>'MDOT FTA Detail'!$C$4)*(Projects!$L$5:$L$2426='Local Detail'!$A6)*(Projects!$K$5:$K$2426))","v":0},{"$f":"((SUMPRODUCT((Projects!$A$5:$A$2426='Local Detail'!$D$3)*(Projects!$C$5:$C$2426<>'MDOT FTA Detail'!$C$4)*(Projects!$L$5:$L$2426='Local Detail'!$A6)*(Projects!$J$5:$J$2426<>'Local Detail'!$A$147)*(Projects!$M$5:$M$2426)))+(SUMPRODUCT((Projects!$A$5:$A$2426='Local Detail'!$D$3)*(Projects!$C$5:$C$2426<>'MDOT FTA Detail'!$C$4)*(Projects!$L$5:$L$2426='Local Detail'!$A6)*(Projects!$J$5:$J$2426<>'Local Detail'!$A$147)*(Projects!$O$5:$O$2426))))","v":0},{"$f":"D6+E6","v":0},{"$f":"SUMPRODUCT((Projects!$A$5:$A$2426='Local Detail'!$G$3)*(Projects!$C$5:$C$2426<>'MDOT FTA Detail'!$C$4)*(Projects!$L$5:$L$2426='Local Detail'!$A6)*(Projects!$K$5:$K$2426))","v":0},{"$f":"((SUMPRODUCT((Projects!$A$5:$A$2426='Local Detail'!$G$3)*(Projects!$C$5:$C$2426<>'MDOT FTA Detail'!$C$4)*(Projects!$L$5:$L$2426='Local Detail'!$A6)*(Projects!$J$5:$J$2426<>'Local Detail'!$A$147)*(Projects!$M$5:$M$2426)))+(SUMPRODUCT((Projects!$A$5:$A$2426='Local Detail'!$G$3)*(Projects!$C$5:$C$2426<>'MDOT FTA Detail'!$C$4)*(Projects!$L$5:$L$2426='Local Detail'!$A6)*(Projects!$J$5:$J$2426<>'Local Detail'!$A$147)*(Projects!$O$5:$O$2426))))","v":0},{"$f":"G6+H6","v":0},{"$f":"SUMPRODUCT((Projects!$A$5:$A$2426='Local Detail'!$J$3)*(Projects!$C$5:$C$2426<>'MDOT FTA Detail'!$C$4)*(Projects!$L$5:$L$2426='Local Detail'!$A6)*(Projects!$K$5:$K$2426))","v":0},{"$f":"((SUMPRODUCT((Projects!$A$5:$A$2426='Local Detail'!$J$3)*(Projects!$C$5:$C$2426<>'MDOT FTA Detail'!$C$4)*(Projects!$L$5:$L$2426='Local Detail'!$A6)*(Projects!$J$5:$J$2426<>'Local Detail'!$A$147)*(Projects!$M$5:$M$2426)))+(SUMPRODUCT((Projects!$A$5:$A$2426='Local Detail'!$J$3)*(Projects!$C$5:$C$2426<>'MDOT FTA Detail'!$C$4)*(Projects!$L$5:$L$2426='Local Detail'!$A6)*(Projects!$J$5:$J$2426<>'Local Detail'!$A$147)*(Projects!$O$5:$O$2426))))","v":0},{"$f":"J6+K6","v":0},{"$f":"SUMPRODUCT((Projects!$A$5:$A$2426='Local Detail'!$M$3)*(Projects!$C$5:$C$2426<>'MDOT FTA Detail'!$C$4)*(Projects!$L$5:$L$2426='Local Detail'!$A6)*(Projects!$K$5:$K$2426))","v":0},{"$f":"((SUMPRODUCT((Projects!$A$5:$A$2426='Local Detail'!$M$3)*(Projects!$C$5:$C$2426<>'MDOT FTA Detail'!$C$4)*(Projects!$L$5:$L$2426='Local Detail'!$A6)*(Projects!$J$5:$J$2426<>'Local Detail'!$A$147)*(Projects!$M$5:$M$2426)))+(SUMPRODUCT((Projects!$A$5:$A$2426='Local Detail'!$M$3)*(Projects!$C$5:$C$2426<>'MDOT FTA Detail'!$C$4)*(Projects!$L$5:$L$2426='Local Detail'!$A6)*(Projects!$J$5:$J$2426<>'Local Detail'!$A$147)*(Projects!$O$5:$O$2426))))","v":0},{"$f":"M6+N6","v":0}]
["BHN","Bridge Rehabilitation - National Highway System (NHS)","Local Bridge",{"$f":"SUMPRODUCT((Projects!$A$5:$A$2426='Local Detail'!$D$3)*(Projects!$C$5:$C$2426<>'MDOT FTA Detail'!$C$4)*(Projects!$L$5:$L$2426='Local Detail'!$A7)*(Projects!$K$5:$K$2426))","v":0},{"$f":"((SUMPRODUCT((Projects!$A$5:$A$2426='Local Detail'!$D$3)*(Projects!$C$5:$C$2426<>'MDOT FTA Detail'!$C$4)*(Projects!$L$5:$L$2426='Local Detail'!$A7)*(Projects!$J$5:$J$2426<>'Local Detail'!$A$147)*(Projects!$M$5:$M$2426)))+(SUMPRODUCT((Projects!$A$5:$A$2426='Local Detail'!$D$3)*(Projects!$C$5:$C$2426<>'MDOT FTA Detail'!$C$4)*(Projects!$L$5:$L$2426='Local Detail'!$A7)*(Projects!$J$5:$J$2426<>'Local Detail'!$A$147)*(Projects!$O$5:$O$2426))))","v":0},0,{"$f":"SUMPRODUCT((Projects!$A$5:$A$2426='Local Detail'!$G$3)*(Projects!$C$5:$C$2426<>'MDOT FTA Detail'!$C$4)*(Projects!$L$5:$L$2426='Local Detail'!$A7)*(Projects!$K$5:$K$2426))","v":0},{"$f":"((SUMPRODUCT((Projects!$A$5:$A$2426='Local Detail'!$G$3)*(Projects!$C$5:$C$2426<>'MDOT FTA Detail'!$C$4)*(Projects!$L$5:$L$2426='Local Detail'!$A7)*(Projects!$J$5:$J$2426<>'Local Detail'!$A$147)*(Projects!$M$5:$M$2426)))+(SUMPRODUCT((Projects!$A$5:$A$2426='Local Detail'!$G$3)*(Projects!$C$5:$C$2426<>'MDOT FTA Detail'!$C$4)*(Projects!$L$5:$L$2426='Local Detail'!$A7)*(Projects!$J$5:$J$2426<>'Local Detail'!$A$147)*(Projects!$O$5:$O$2426))))","v":0},0,{"$f":"SUMPRODUCT((Projects!$A$5:$A$2426='Local Detail'!$J$3)*(Projects!$C$5:$C$2426<>'MDOT FTA Detail'!$C$4)*(Projects!$L$5:$L$2426='Local Detail'!$A7)*(Projects!$K$5:$K$2426))","v":0},{"$f":"((SUMPRODUCT((Projects!$A$5:$A$2426='Local Detail'!$J$3)*(Projects!$C$5:$C$2426<>'MDOT FTA Detail'!$C$4)*(Projects!$L$5:$L$2426='Local Detail'!$A7)*(Projects!$J$5:$J$2426<>'Local Detail'!$A$147)*(Projects!$M$5:$M$2426)))+(SUMPRODUCT((Projects!$A$5:$A$2426='Local Detail'!$J$3)*(Projects!$C$5:$C$2426<>'MDOT FTA Detail'!$C$4)*(Projects!$L$5:$L$2426='Local Detail'!$A7)*(Projects!$J$5:$J$2426<>'Local Detail'!$A$147)*(Projects!$O$5:$O$2426))))","v":0},0,{"$f":"SUMPRODUCT((Projects!$A$5:$A$2426='Local Detail'!$M$3)*(Projects!$C$5:$C$2426<>'MDOT FTA Detail'!$C$4)*(Projects!$L$5:$L$2426='Local Detail'!$A7)*(Projects!$K$5:$K$2426))","v":0},{"$f":"((SUMPRODUCT((Projects!$A$5:$A$2426='Local Detail'!$M$3)*(Projects!$C$5:$C$2426<>'MDOT FTA Detail'!$C$4)*(Projects!$L$5:$L$2426='Local Detail'!$A7)*(Projects!$J$5:$J$2426<>'Local Detail'!$A$147)*(Projects!$M$5:$M$2426)))+(SUMPRODUCT((Projects!$A$5:$A$2426='Local Detail'!$M$3)*(Projects!$C$5:$C$2426<>'MDOT FTA Detail'!$C$4)*(Projects!$L$5:$L$2426='Local Detail'!$A7)*(Projects!$J$5:$J$2426<>'Local Detail'!$A$147)*(Projects!$O$5:$O$2426))))","v":0},0]
["BHO","Bridge Rehabilitation - Not Classified, Off System","Local Bridge",{"$f":"SUMPRODUCT((Projects!$A$5:$A$2426='Local Detail'!$D$3)*(Projects!$C$5:$C$2426<>'MDOT FTA Detail'!$C$4)*(Projects!$L$5:$L$2426='Local Detail'!$A8)*(Projects!$K$5:$K$2426))","v":0},{"$f":"((SUMPRODUCT((Projects!$A$5:$A$2426='Local Detail'!$D$3)*(Projects!$C$5:$C$2426<>'MDOT FTA Detail'!$C$4)*(Projects!$L$5:$L$2426='Local Detail'!$A8)*(Projects!$J$5:$J$2426<>'Local Detail'!$A$147)*(Projects!$M$5:$M$2426)))+(SUMPRODUCT((Projects!$A$5:$A$2426='Local Detail'!$D$3)*(Projects!$C$5:$C$2426<>'MDOT FTA Detail'!$C$4)*(Projects!$L$5:$L$2426='Local Detail'!$A8)*(Projects!$J$5:$J$2426<>'Local Detail'!$A$147)*(Projects!$O$5:$O$2426))))","v":0},0,{"$f":"SUMPRODUCT((Projects!$A$5:$A$2426='Local Detail'!$G$3)*(Projects!$C$5:$C$2426<>'MDOT FTA Detail'!$C$4)*(Projects!$L$5:$L$2426='Local Detail'!$A8)*(Projects!$K$5:$K$2426))","v":0},{"$f":"((SUMPRODUCT((Projects!$A$5:$A$2426='Local Detail'!$G$3)*(Projects!$C$5:$C$2426<>'MDOT FTA Detail'!$C$4)*(Projects!$L$5:$L$2426='Local Detail'!$A8)*(Projects!$J$5:$J$2426<>'Local Detail'!$A$147)*(Projects!$M$5:$M$2426)))+(SUMPRODUCT((Projects!$A$5:$A$2426='Local Detail'!$G$3)*(Projects!$C$5:$C$2426<>'MDOT FTA Detail'!$C$4)*(Projects!$L$5:$L$2426='Local Detail'!$A8)*(Projects!$J$5:$J$2426<>'Local Detail'!$A$147)*(Projects!$O$5:$O$2426))))","v":0},0,{"$f":"SUMPRODUCT((Projects!$A$5:$A$2426='Local Detail'!$J$3)*(Projects!$C$5:$C$2426<>'MDOT FTA Detail'!$C$4)*(Projects!$L$5:$L$2426='Local Detail'!$A8)*(Projects!$K$5:$K$2426))","v":0},{"$f":"((SUMPRODUCT((Projects!$A$5:$A$2426='Local Detail'!$J$3)*(Projects!$C$5:$C$2426<>'MDOT FTA Detail'!$C$4)*(Projects!$L$5:$L$2426='Local Detail'!$A8)*(Projects!$J$5:$J$2426<>'Local Detail'!$A$147)*(Projects!$M$5:$M$2426)))+(SUMPRODUCT((Projects!$A$5:$A$2426='Local Detail'!$J$3)*(Projects!$C$5:$C$2426<>'MDOT FTA Detail'!$C$4)*(Projects!$L$5:$L$2426='Local Detail'!$A8)*(Projects!$J$5:$J$2426<>'Local Detail'!$A$147)*(Projects!$O$5:$O$2426))))","v":0},0,{"$f":"SUMPRODUCT((Projects!$A$5:$A$2426='Local Detail'!$M$3)*(Projects!$C$5:$C$2426<>'MDOT FTA Detail'!$C$4)*(Projects!$L$5:$L$2426='Local Detail'!$A8)*(Projects!$K$5:$K$2426))","v":0},{"$f":"((SUMPRODUCT((Projects!$A$5:$A$2426='Local Detail'!$M$3)*(Projects!$C$5:$C$2426<>'MDOT FTA Detail'!$C$4)*(Projects!$L$5:$L$2426='Local Detail'!$A8)*(Projects!$J$5:$J$2426<>'Local Detail'!$A$147)*(Projects!$M$5:$M$2426)))+(SUMPRODUCT((Projects!$A$5:$A$2426='Local Detail'!$M$3)*(Projects!$C$5:$C$2426<>'MDOT FTA Detail'!$C$4)*(Projects!$L$5:$L$2426='Local Detail'!$A8)*(Projects!$J$5:$J$2426<>'Local Detail'!$A$147)*(Projects!$O$5:$O$2426))))","v":0},0]
["BHT","Bridge Rehabilitation - Surface Transportation Program (STP)","Local Bridge",{"$f":"SUMPRODUCT((Projects!$A$5:$A$2426='Local Detail'!$D$3)*(Projects!$C$5:$C$2426<>'MDOT FTA Detail'!$C$4)*(Projects!$L$5:$L$2426='Local Detail'!$A9)*(Projects!$K$5:$K$2426))","v":0},{"$f":"((SUMPRODUCT((Projects!$A$5:$A$2426='Local Detail'!$D$3)*(Projects!$C$5:$C$2426<>'MDOT FTA Detail'!$C$4)*(Projects!$L$5:$L$2426='Local Detail'!$A9)*(Projects!$J$5:$J$2426<>'Local Detail'!$A$147)*(Projects!$M$5:$M$2426)))+(SUMPRODUCT((Projects!$A$5:$A$2426='Local Detail'!$D$3)*(Projects!$C$5:$C$2426<>'MDOT FTA Detail'!$C$4)*(Projects!$L$5:$L$2426='Local Detail'!$A9)*(Projects!$J$5:$J$2426<>'Local Detail'!$A$147)*(Projects!$O$5:$O$2426))))","v":0},0,{"$f":"SUMPRODUCT((Projects!$A$5:$A$2426='Local Detail'!$G$3)*(Projects!$C$5:$C$2426<>'MDOT FTA Detail'!$C$4)*(Projects!$L$5:$L$2426='Local Detail'!$A9)*(Projects!$K$5:$K$2426))","v":0},{"$f":"((SUMPRODUCT((Projects!$A$5:$A$2426='Local Detail'!$G$3)*(Projects!$C$5:$C$2426<>'MDOT FTA Detail'!$C$4)*(Projects!$L$5:$L$2426='Local Detail'!$A9)*(Projects!$J$5:$J$2426<>'Local Detail'!$A$147)*(Projects!$M$5:$M$2426)))+(SUMPRODUCT((Projects!$A$5:$A$2426='Local Detail'!$G$3)*(Projects!$C$5:$C$2426<>'MDOT FTA Detail'!$C$4)*(Projects!$L$5:$L$2426='Local Detail'!$A9)*(Projects!$J$5:$J$2426<>'Local Detail'!$A$147)*(Projects!$O$5:$O$2426))))","v":0},0,{"$f":"SUMPRODUCT((Projects!$A$5:$A$2426='Local Detail'!$J$3)*(Projects!$C$5:$C$2426<>'MDOT FTA Detail'!$C$4)*(Projects!$L$5:$L$2426='Local Detail'!$A9)*(Projects!$K$5:$K$2426))","v":0},{"$f":"((SUMPRODUCT((Projects!$A$5:$A$2426='Local Detail'!$J$3)*(Projects!$C$5:$C$2426<>'MDOT FTA Detail'!$C$4)*(Projects!$L$5:$L$2426='Local Detail'!$A9)*(Projects!$J$5:$J$2426<>'Local Detail'!$A$147)*(Projects!$M$5:$M$2426)))+(SUMPRODUCT((Projects!$A$5:$A$2426='Local Detail'!$J$3)*(Projects!$C$5:$C$2426<>'MDOT FTA Detail'!$C$4)*(Projects!$L$5:$L$2426='Local Detail'!$A9)*(Projects!$J$5:$J$2426<>'Local Detail'!$A$147)*(Projects!$O$5:$O$2426))))","v":0},0,{"$f":"SUMPRODUCT((Projects!$A$5:$A$2426='Local Detail'!$M$3)*(Projects!$C$5:$C$2426<>'MDOT FTA Detail'!$C$4)*(Projects!$L$5:$L$2426='Local Detail'!$A9)*(Projects!$K$5:$K$2426))","v":0},{"$f":"((SUMPRODUCT((Projects!$A$5:$A$2426='Local Detail'!$M$3)*(Projects!$C$5:$C$2426<>'MDOT FTA Detail'!$C$4)*(Projects!$L$5:$L$2426='Local Detail'!$A9)*(Projects!$J$5:$J$2426<>'Local Detail'!$A$147)*(Projects!$M$5:$M$2426)))+(SUMPRODUCT((Projects!$A$5:$A$2426='Local Detail'!$M$3)*(Projects!$C$5:$C$2426<>'MDOT FTA Detail'!$C$4)*(Projects!$L$5:$L$2426='Local Detail'!$A9)*(Projects!$J$5:$J$2426<>'Local Detail'!$A$147)*(Projects!$O$5:$O$2426))))","v":0},0]
["BI08","Build Michigan FY08","Local Other FHWA",{"$f":"SUMPRODUCT((Projects!$A$5:$A$2426='Local Detail'!$D$3)*(Projects!$C$5:$C$2426<>'MDOT FTA Detail'!$C$4)*(Projects!$L$5:$L$2426='Local Detail'!$A10)*(Projects!$K$5:$K$2426))","v":0},{"$f":"((SUMPRODUCT((Projects!$A$5:$A$2426='Local Detail'!$D$3)*(Projects!$C$5:$C$2426<>'MDOT FTA Detail'!$C$4)*(Projects!$L$5:$L$2426='Local Detail'!$A10)*(Projects!$J$5:$J$2426<>'Local Detail'!$A$147)*(Projects!$M$5:$M$2426)))+(SUMPRODUCT((Projects!$A$5:$A$2426='Local Detail'!$D$3)*(Projects!$C$5:$C$2426<>'MDOT FTA Detail'!$C$4)*(Projects!$L$5:$L$2426='Local Detail'!$A10)*(Projects!$J$5:$J$2426<>'Local Detail'!$A$147)*(Projects!$O$5:$O$2426))))","v":0},0,{"$f":"SUMPRODUCT((Projects!$A$5:$A$2426='Local Detail'!$G$3)*(Projects!$C$5:$C$2426<>'MDOT FTA Detail'!$C$4)*(Projects!$L$5:$L$2426='Local Detail'!$A10)*(Projects!$K$5:$K$2426))","v":0},{"$f":"((SUMPRODUCT((Projects!$A$5:$A$2426='Local Detail'!$G$3)*(Projects!$C$5:$C$2426<>'MDOT FTA Detail'!$C$4)*(Projects!$L$5:$L$2426='Local Detail'!$A10)*(Projects!$J$5:$J$2426<>'Local Detail'!$A$147)*(Projects!$M$5:$M$2426)))+(SUMPRODUCT((Projects!$A$5:$A$2426='Local Detail'!$G$3)*(Projects!$C$5:$C$2426<>'MDOT FTA Detail'!$C$4)*(Projects!$L$5:$L$2426='Local Detail'!$A10)*(Projects!$J$5:$J$2426<>'Local Detail'!$A$147)*(Projects!$O$5:$O$2426))))","v":0},0,{"$f":"SUMPRODUCT((Projects!$A$5:$A$2426='Local Detail'!$J$3)*(Projects!$C$5:$C$2426<>'MDOT FTA Detail'!$C$4)*(Projects!$L$5:$L$2426='Local Detail'!$A10)*(Projects!$K$5:$K$2426))","v":0},{"$f":"((SUMPRODUCT((Projects!$A$5:$A$2426='Local Detail'!$J$3)*(Projects!$C$5:$C$2426<>'MDOT FTA Detail'!$C$4)*(Projects!$L$5:$L$2426='Local Detail'!$A10)*(Projects!$J$5:$J$2426<>'Local Detail'!$A$147)*(Projects!$M$5:$M$2426)))+(SUMPRODUCT((Projects!$A$5:$A$2426='Local Detail'!$J$3)*(Projects!$C$5:$C$2426<>'MDOT FTA Detail'!$C$4)*(Projects!$L$5:$L$2426='Local Detail'!$A10)*(Projects!$J$5:$J$2426<>'Local Detail'!$A$147)*(Projects!$O$5:$O$2426))))","v":0},0,{"$f":"SUMPRODUCT((Projects!$A$5:$A$2426='Local Detail'!$M$3)*(Projects!$C$5:$C$2426<>'MDOT FTA Detail'!$C$4)*(Projects!$L$5:$L$2426='Local Detail'!$A10)*(Projects!$K$5:$K$2426))","v":0},{"$f":"((SUMPRODUCT((Projects!$A$5:$A$2426='Local Detail'!$M$3)*(Projects!$C$5:$C$2426<>'MDOT FTA Detail'!$C$4)*(Projects!$L$5:$L$2426='Local Detail'!$A10)*(Projects!$J$5:$J$2426<>'Local Detail'!$A$147)*(Projects!$M$5:$M$2426)))+(SUMPRODUCT((Projects!$A$5:$A$2426='Local Detail'!$M$3)*(Projects!$C$5:$C$2426<>'MDOT FTA Detail'!$C$4)*(Projects!$L$5:$L$2426='Local Detail'!$A10)*(Projects!$J$5:$J$2426<>'Local Detail'!$A$147)*(Projects!$O$5:$O$2426))))","v":0},0]
["BO","Bridge Not Classified Off System","Local Bridge",{"$f":"SUMPRODUCT((Projects!$A$5:$A$2426='Local Detail'!$D$3)*(Projects!$C$5:$C$2426<>'MDOT FTA Detail'!$C$4)*(Projects!$L$5:$L$2426='Local Detail'!$A11)*(Projects!$K$5:$K$2426))","v":0},{"$f":"((SUMPRODUCT((Projects!$A$5:$A$2426='Local Detail'!$D$3)*(Projects!$C$5:$C$2426<>'MDOT FTA Detail'!$C$4)*(Projects!$L$5:$L$2426='Local Detail'!$A11)*(Projects!$J$5:$J$2426<>'Local Detail'!$A$147)*(Projects!$M$5:$M$2426)))+(SUMPRODUCT((Projects!$A$5:$A$2426='Local Detail'!$D$3)*(Projects!$C$5:$C$2426<>'MDOT FTA Detail'!$C$4)*(Projects!$L$5:$L$2426='Local Detail'!$A11)*(Projects!$J$5:$J$2426<>'Local Detail'!$A$147)*(Projects!$O$5:$O$2426))))","v":0},{"$f":"D11+E11","v":0},{"$f":"SUMPRODUCT((Projects!$A$5:$A$2426='Local Detail'!$G$3)*(Projects!$C$5:$C$2426<>'MDOT FTA Detail'!$C$4)*(Projects!$L$5:$L$2426='Local Detail'!$A11)*(Projects!$K$5:$K$2426))","v":0},{"$f":"((SUMPRODUCT((Projects!$A$5:$A$2426='Local Detail'!$G$3)*(Projects!$C$5:$C$2426<>'MDOT FTA Detail'!$C$4)*(Projects!$L$5:$L$2426='Local Detail'!$A11)*(Projects!$J$5:$J$2426<>'Local Detail'!$A$147)*(Projects!$M$5:$M$2426)))+(SUMPRODUCT((Projects!$A$5:$A$2426='Local Detail'!$G$3)*(Projects!$C$5:$C$2426<>'MDOT FTA Detail'!$C$4)*(Projects!$L$5:$L$2426='Local Detail'!$A11)*(Projects!$J$5:$J$2426<>'Local Detail'!$A$147)*(Projects!$O$5:$O$2426))))","v":0},{"$f":"G11+H11","v":0},{"$f":"SUMPRODUCT((Projects!$A$5:$A$2426='Local Detail'!$J$3)*(Projects!$C$5:$C$2426<>'MDOT FTA Detail'!$C$4)*(Projects!$L$5:$L$2426='Local Detail'!$A11)*(Projects!$K$5:$K$2426))","v":0},{"$f":"((SUMPRODUCT((Projects!$A$5:$A$2426='Local Detail'!$J$3)*(Projects!$C$5:$C$2426<>'MDOT FTA Detail'!$C$4)*(Projects!$L$5:$L$2426='Local Detail'!$A11)*(Projects!$J$5:$J$2426<>'Local Detail'!$A$147)*(Projects!$M$5:$M$2426)))+(SUMPRODUCT((Projects!$A$5:$A$2426='Local Detail'!$J$3)*(Projects!$C$5:$C$2426<>'MDOT FTA Detail'!$C$4)*(Projects!$L$5:$L$2426='Local Detail'!$A11)*(Projects!$J$5:$J$2426<>'Local Detail'!$A$147)*(Projects!$O$5:$O$2426))))","v":0},{"$f":"J11+K11","v":0},{"$f":"SUMPRODUCT((Projects!$A$5:$A$2426='Local Detail'!$M$3)*(Projects!$C$5:$C$2426<>'MDOT FTA Detail'!$C$4)*(Projects!$L$5:$L$2426='Local Detail'!$A11)*(Projects!$K$5:$K$2426))","v":0},{"$f":"((SUMPRODUCT((Projects!$A$5:$A$2426='Local Detail'!$M$3)*(Projects!$C$5:$C$2426<>'MDOT FTA Detail'!$C$4)*(Projects!$L$5:$L$2426='Local Detail'!$A11)*(Projects!$J$5:$J$2426<>'Local Detail'!$A$147)*(Projects!$M$5:$M$2426)))+(SUMPRODUCT((Projects!$A$5:$A$2426='Local Detail'!$M$3)*(Projects!$C$5:$C$2426<>'MDOT FTA Detail'!$C$4)*(Projects!$L$5:$L$2426='Local Detail'!$A11)*(Projects!$J$5:$J$2426<>'Local Detail'!$A$147)*(Projects!$O$5:$O$2426))))","v":0},{"$f":"M11+N11","v":0}]
["BOWD","Business Opportunity & Workforce Development Center","Local Other FHWA",{"$f":"SUMPRODUCT((Projects!$A$5:$A$2426='Local Detail'!$D$3)*(Projects!$C$5:$C$2426<>'MDOT FTA Detail'!$C$4)*(Projects!$L$5:$L$2426='Local Detail'!$A12)*(Projects!$K$5:$K$2426))","v":0},{"$f":"((SUMPRODUCT((Projects!$A$5:$A$2426='Local Detail'!$D$3)*(Projects!$C$5:$C$2426<>'MDOT FTA Detail'!$C$4)*(Projects!$L$5:$L$2426='Local Detail'!$A12)*(Projects!$J$5:$J$2426<>'Local Detail'!$A$147)*(Projects!$M$5:$M$2426)))+(SUMPRODUCT((Projects!$A$5:$A$2426='Local Detail'!$D$3)*(Projects!$C$5:$C$2426<>'MDOT FTA Detail'!$C$4)*(Projects!$L$5:$L$2426='Local Detail'!$A12)*(Projects!$J$5:$J$2426<>'Local Detail'!$A$147)*(Projects!$O$5:$O$2426))))","v":0},0,{"$f":"SUMPRODUCT((Projects!$A$5:$A$2426='Local Detail'!$G$3)*(Projects!$C$5:$C$2426<>'MDOT FTA Detail'!$C$4)*(Projects!$L$5:$L$2426='Local Detail'!$A12)*(Projects!$K$5:$K$2426))","v":0},{"$f":"((SUMPRODUCT((Projects!$A$5:$A$2426='Local Detail'!$G$3)*(Projects!$C$5:$C$2426<>'MDOT FTA Detail'!$C$4)*(Projects!$L$5:$L$2426='Local Detail'!$A12)*(Projects!$J$5:$J$2426<>'Local Detail'!$A$147)*(Projects!$M$5:$M$2426)))+(SUMPRODUCT((Projects!$A$5:$A$2426='Local Detail'!$G$3)*(Projects!$C$5:$C$2426<>'MDOT FTA Detail'!$C$4)*(Projects!$L$5:$L$2426='Local Detail'!$A12)*(Projects!$J$5:$J$2426<>'Local Detail'!$A$147)*(Projects!$O$5:$O$2426))))","v":0},0,{"$f":"SUMPRODUCT((Projects!$A$5:$A$2426='Local Detail'!$J$3)*(Projects!$C$5:$C$2426<>'MDOT FTA Detail'!$C$4)*(Projects!$L$5:$L$2426='Local Detail'!$A12)*(Projects!$K$5:$K$2426))","v":0},{"$f":"((SUMPRODUCT((Projects!$A$5:$A$2426='Local Detail'!$J$3)*(Projects!$C$5:$C$2426<>'MDOT FTA Detail'!$C$4)*(Projects!$L$5:$L$2426='Local Detail'!$A12)*(Projects!$J$5:$J$2426<>'Local Detail'!$A$147)*(Projects!$M$5:$M$2426)))+(SUMPRODUCT((Projects!$A$5:$A$2426='Local Detail'!$J$3)*(Projects!$C$5:$C$2426<>'MDOT FTA Detail'!$C$4)*(Projects!$L$5:$L$2426='Local Detail'!$A12)*(Projects!$J$5:$J$2426<>'Local Detail'!$A$147)*(Projects!$O$5:$O$2426))))","v":0},0,{"$f":"SUMPRODUCT((Projects!$A$5:$A$2426='Local Detail'!$M$3)*(Projects!$C$5:$C$2426<>'MDOT FTA Detail'!$C$4)*(Projects!$L$5:$L$2426='Local Detail'!$A12)*(Projects!$K$5:$K$2426))","v":0},{"$f":"((SUMPRODUCT((Projects!$A$5:$A$2426='Local Detail'!$M$3)*(Projects!$C$5:$C$2426<>'MDOT FTA Detail'!$C$4)*(Projects!$L$5:$L$2426='Local Detail'!$A12)*(Projects!$J$5:$J$2426<>'Local Detail'!$A$147)*(Projects!$M$5:$M$2426)))+(SUMPRODUCT((Projects!$A$5:$A$2426='Local Detail'!$M$3)*(Projects!$C$5:$C$2426<>'MDOT FTA Detail'!$C$4)*(Projects!$L$5:$L$2426='Local Detail'!$A12)*(Projects!$J$5:$J$2426<>'Local Detail'!$A$147)*(Projects!$O$5:$O$2426))))","v":0},0]
["BRI","Bridge Replacement - Pre 1991 Interstate","Local Bridge",{"$f":"SUMPRODUCT((Projects!$A$5:$A$2426='Local Detail'!$D$3)*(Projects!$C$5:$C$2426<>'MDOT FTA Detail'!$C$4)*(Projects!$L$5:$L$2426='Local Detail'!$A13)*(Projects!$K$5:$K$2426))","v":0},{"$f":"((SUMPRODUCT((Projects!$A$5:$A$2426='Local Detail'!$D$3)*(Projects!$C$5:$C$2426<>'MDOT FTA Detail'!$C$4)*(Projects!$L$5:$L$2426='Local Detail'!$A13)*(Projects!$J$5:$J$2426<>'Local Detail'!$A$147)*(Projects!$M$5:$M$2426)))+(SUMPRODUCT((Projects!$A$5:$A$2426='Local Detail'!$D$3)*(Projects!$C$5:$C$2426<>'MDOT FTA Detail'!$C$4)*(Projects!$L$5:$L$2426='Local Detail'!$A13)*(Projects!$J$5:$J$2426<>'Local Detail'!$A$147)*(Projects!$O$5:$O$2426))))","v":0},0,{"$f":"SUMPRODUCT((Projects!$A$5:$A$2426='Local Detail'!$G$3)*(Projects!$C$5:$C$2426<>'MDOT FTA Detail'!$C$4)*(Projects!$L$5:$L$2426='Local Detail'!$A13)*(Projects!$K$5:$K$2426))","v":0},{"$f":"((SUMPRODUCT((Projects!$A$5:$A$2426='Local Detail'!$G$3)*(Projects!$C$5:$C$2426<>'MDOT FTA Detail'!$C$4)*(Projects!$L$5:$L$2426='Local Detail'!$A13)*(Projects!$J$5:$J$2426<>'Local Detail'!$A$147)*(Projects!$M$5:$M$2426)))+(SUMPRODUCT((Projects!$A$5:$A$2426='Local Detail'!$G$3)*(Projects!$C$5:$C$2426<>'MDOT FTA Detail'!$C$4)*(Projects!$L$5:$L$2426='Local Detail'!$A13)*(Projects!$J$5:$J$2426<>'Local Detail'!$A$147)*(Projects!$O$5:$O$2426))))","v":0},0,{"$f":"SUMPRODUCT((Projects!$A$5:$A$2426='Local Detail'!$J$3)*(Projects!$C$5:$C$2426<>'MDOT FTA Detail'!$C$4)*(Projects!$L$5:$L$2426='Local Detail'!$A13)*(Projects!$K$5:$K$2426))","v":0},{"$f":"((SUMPRODUCT((Projects!$A$5:$A$2426='Local Detail'!$J$3)*(Projects!$C$5:$C$2426<>'MDOT FTA Detail'!$C$4)*(Projects!$L$5:$L$2426='Local Detail'!$A13)*(Projects!$J$5:$J$2426<>'Local Detail'!$A$147)*(Projects!$M$5:$M$2426)))+(SUMPRODUCT((Projects!$A$5:$A$2426='Local Detail'!$J$3)*(Projects!$C$5:$C$2426<>'MDOT FTA Detail'!$C$4)*(Projects!$L$5:$L$2426='Local Detail'!$A13)*(Projects!$J$5:$J$2426<>'Local Detail'!$A$147)*(Projects!$O$5:$O$2426))))","v":0},0,{"$f":"SUMPRODUCT((Projects!$A$5:$A$2426='Local Detail'!$M$3)*(Projects!$C$5:$C$2426<>'MDOT FTA Detail'!$C$4)*(Projects!$L$5:$L$2426='Local Detail'!$A13)*(Projects!$K$5:$K$2426))","v":0},{"$f":"((SUMPRODUCT((Projects!$A$5:$A$2426='Local Detail'!$M$3)*(Projects!$C$5:$C$2426<>'MDOT FTA Detail'!$C$4)*(Projects!$L$5:$L$2426='Local Detail'!$A13)*(Projects!$J$5:$J$2426<>'Local Detail'!$A$147)*(Projects!$M$5:$M$2426)))+(SUMPRODUCT((Projects!$A$5:$A$2426='Local Detail'!$M$3)*(Projects!$C$5:$C$2426<>'MDOT FTA Detail'!$C$4)*(Projects!$L$5:$L$2426='Local Detail'!$A13)*(Projects!$J$5:$J$2426<>'Local Detail'!$A$147)*(Projects!$O$5:$O$2426))))","v":0},0]
["BRN","Bridge Replacement - National Highway System (NHS)","Local Bridge",{"$f":"SUMPRODUCT((Projects!$A$5:$A$2426='Local Detail'!$D$3)*(Projects!$C$5:$C$2426<>'MDOT FTA Detail'!$C$4)*(Projects!$L$5:$L$2426='Local Detail'!$A14)*(Projects!$K$5:$K$2426))","v":0},{"$f":"((SUMPRODUCT((Projects!$A$5:$A$2426='Local Detail'!$D$3)*(Projects!$C$5:$C$2426<>'MDOT FTA Detail'!$C$4)*(Projects!$L$5:$L$2426='Local Detail'!$A14)*(Projects!$J$5:$J$2426<>'Local Detail'!$A$147)*(Projects!$M$5:$M$2426)))+(SUMPRODUCT((Projects!$A$5:$A$2426='Local Detail'!$D$3)*(Projects!$C$5:$C$2426<>'MDOT FTA Detail'!$C$4)*(Projects!$L$5:$L$2426='Local Detail'!$A14)*(Projects!$J$5:$J$2426<>'Local Detail'!$A$147)*(Projects!$O$5:$O$2426))))","v":0},0,{"$f":"SUMPRODUCT((Projects!$A$5:$A$2426='Local Detail'!$G$3)*(Projects!$C$5:$C$2426<>'MDOT FTA Detail'!$C$4)*(Projects!$L$5:$L$2426='Local Detail'!$A14)*(Projects!$K$5:$K$2426))","v":0},{"$f":"((SUMPRODUCT((Projects!$A$5:$A$2426='Local Detail'!$G$3)*(Projects!$C$5:$C$2426<>'MDOT FTA Detail'!$C$4)*(Projects!$L$5:$L$2426='Local Detail'!$A14)*(Projects!$J$5:$J$2426<>'Local Detail'!$A$147)*(Projects!$M$5:$M$2426)))+(SUMPRODUCT((Projects!$A$5:$A$2426='Local Detail'!$G$3)*(Projects!$C$5:$C$2426<>'MDOT FTA Detail'!$C$4)*(Projects!$L$5:$L$2426='Local Detail'!$A14)*(Projects!$J$5:$J$2426<>'Local Detail'!$A$147)*(Projects!$O$5:$O$2426))))","v":0},0,{"$f":"SUMPRODUCT((Projects!$A$5:$A$2426='Local Detail'!$J$3)*(Projects!$C$5:$C$2426<>'MDOT FTA Detail'!$C$4)*(Projects!$L$5:$L$2426='Local Detail'!$A14)*(Projects!$K$5:$K$2426))","v":0},{"$f":"((SUMPRODUCT((Projects!$A$5:$A$2426='Local Detail'!$J$3)*(Projects!$C$5:$C$2426<>'MDOT FTA Detail'!$C$4)*(Projects!$L$5:$L$2426='Local Detail'!$A14)*(Projects!$J$5:$J$2426<>'Local Detail'!$A$147)*(Projects!$M$5:$M$2426)))+(SUMPRODUCT((Projects!$A$5:$A$2426='Local Detail'!$J$3)*(Projects!$C$5:$C$2426<>'MDOT FTA Detail'!$C$4)*(Projects!$L$5:$L$2426='Local Detail'!$A14)*(Projects!$J$5:$J$2426<>'Local Detail'!$A$147)*(Projects!$O$5:$O$2426))))","v":0},0,{"$f":"SUMPRODUCT((Projects!$A$5:$A$2426='Local Detail'!$M$3)*(Projects!$C$5:$C$2426<>'MDOT FTA Detail'!$C$4)*(Projects!$L$5:$L$2426='Local Detail'!$A14)*(Projects!$K$5:$K$2426))","v":0},{"$f":"((SUMPRODUCT((Projects!$A$5:$A$2426='Local Detail'!$M$3)*(Projects!$C$5:$C$2426<>'MDOT FTA Detail'!$C$4)*(Projects!$L$5:$L$2426='Local Detail'!$A14)*(Projects!$J$5:$J$2426<>'Local Detail'!$A$147)*(Projects!$M$5:$M$2426)))+(SUMPRODUCT((Projects!$A$5:$A$2426='Local Detail'!$M$3)*(Projects!$C$5:$C$2426<>'MDOT FTA Detail'!$C$4)*(Projects!$L$5:$L$2426='Local Detail'!$A14)*(Projects!$J$5:$J$2426<>'Local Detail'!$A$147)*(Projects!$O$5:$O$2426))))","v":0},0]
["BRO","Bridge Replacement - Not Classified, Off System","Local Bridge",{"$f":"SUMPRODUCT((Projects!$A$5:$A$2426='Local Detail'!$D$3)*(Projects!$C$5:$C$2426<>'MDOT FTA Detail'!$C$4)*(Projects!$L$5:$L$2426='Local Detail'!$A15)*(Projects!$K$5:$K$2426))","v":0},{"$f":"((SUMPRODUCT((Projects!$A$5:$A$2426='Local Detail'!$D$3)*(Projects!$C$5:$C$2426<>'MDOT FTA Detail'!$C$4)*(Projects!$L$5:$L$2426='Local Detail'!$A15)*(Projects!$J$5:$J$2426<>'Local Detail'!$A$147)*(Projects!$M$5:$M$2426)))+(SUMPRODUCT((Projects!$A$5:$A$2426='Local Detail'!$D$3)*(Projects!$C$5:$C$2426<>'MDOT FTA Detail'!$C$4)*(Projects!$L$5:$L$2426='Local Detail'!$A15)*(Projects!$J$5:$J$2426<>'Local Detail'!$A$147)*(Projects!$O$5:$O$2426))))","v":0},0,{"$f":"SUMPRODUCT((Projects!$A$5:$A$2426='Local Detail'!$G$3)*(Projects!$C$5:$C$2426<>'MDOT FTA Detail'!$C$4)*(Projects!$L$5:$L$2426='Local Detail'!$A15)*(Projects!$K$5:$K$2426))","v":0},{"$f":"((SUMPRODUCT((Projects!$A$5:$A$2426='Local Detail'!$G$3)*(Projects!$C$5:$C$2426<>'MDOT FTA Detail'!$C$4)*(Projects!$L$5:$L$2426='Local Detail'!$A15)*(Projects!$J$5:$J$2426<>'Local Detail'!$A$147)*(Projects!$M$5:$M$2426)))+(SUMPRODUCT((Projects!$A$5:$A$2426='Local Detail'!$G$3)*(Projects!$C$5:$C$2426<>'MDOT FTA Detail'!$C$4)*(Projects!$L$5:$L$2426='Local Detail'!$A15)*(Projects!$J$5:$J$2426<>'Local Detail'!$A$147)*(Projects!$O$5:$O$2426))))","v":0},0,{"$f":"SUMPRODUCT((Projects!$A$5:$A$2426='Local Detail'!$J$3)*(Projects!$C$5:$C$2426<>'MDOT FTA Detail'!$C$4)*(Projects!$L$5:$L$2426='Local Detail'!$A15)*(Projects!$K$5:$K$2426))","v":0},{"$f":"((SUMPRODUCT((Projects!$A$5:$A$2426='Local Detail'!$J$3)*(Projects!$C$5:$C$2426<>'MDOT FTA Detail'!$C$4)*(Projects!$L$5:$L$2426='Local Detail'!$A15)*(Projects!$J$5:$J$2426<>'Local Detail'!$A$147)*(Projects!$M$5:$M$2426)))+(SUMPRODUCT((Projects!$A$5:$A$2426='Local Detail'!$J$3)*(Projects!$C$5:$C$2426<>'MDOT FTA Detail'!$C$4)*(Projects!$L$5:$L$2426='Local Detail'!$A15)*(Projects!$J$5:$J$2426<>'Local Detail'!$A$147)*(Projects!$O$5:$O$2426))))","v":0},0,{"$f":"SUMPRODUCT((Projects!$A$5:$A$2426='Local Detail'!$M$3)*(Projects!$C$5:$C$2426<>'MDOT FTA Detail'!$C$4)*(Projects!$L$5:$L$2426='Local Detail'!$A15)*(Projects!$K$5:$K$2426))","v":0},{"$f":"((SUMPRODUCT((Projects!$A$5:$A$2426='Local Detail'!$M$3)*(Projects!$C$5:$C$2426<>'MDOT FTA Detail'!$C$4)*(Projects!$L$5:$L$2426='Local Detail'!$A15)*(Projects!$J$5:$J$2426<>'Local Detail'!$A$147)*(Projects!$M$5:$M$2426)))+(SUMPRODUCT((Projects!$A$5:$A$2426='Local Detail'!$M$3)*(Projects!$C$5:$C$2426<>'MDOT FTA Detail'!$C$4)*(Projects!$L$5:$L$2426='Local Detail'!$A15)*(Projects!$J$5:$J$2426<>'Local Detail'!$A$147)*(Projects!$O$5:$O$2426))))","v":0},0]
["BRT","Bridge Replacement - Surface Transportation Program (STP)","Local Bridge",{"$f":"SUMPRODUCT((Projects!$A$5:$A$2426='Local Detail'!$D$3)*(Projects!$C$5:$C$2426<>'MDOT FTA Detail'!$C$4)*(Projects!$L$5:$L$2426='Local Detail'!$A16)*(Projects!$K$5:$K$2426))","v":864000},{"$f":"((SUMPRODUCT((Projects!$A$5:$A$2426='Local Detail'!$D$3)*(Projects!$C$5:$C$2426<>'MDOT FTA Detail'!$C$4)*(Projects!$L$5:$L$2426='Local Detail'!$A16)*(Projects!$J$5:$J$2426<>'Local Detail'!$A$147)*(Projects!$M$5:$M$2426)))+(SUMPRODUCT((Projects!$A$5:$A$2426='Local Detail'!$D$3)*(Projects!$C$5:$C$2426<>'MDOT FTA Detail'!$C$4)*(Projects!$L$5:$L$2426='Local Detail'!$A16)*(Projects!$J$5:$J$2426<>'Local Detail'!$A$147)*(Projects!$O$5:$O$2426))))","v":216000},1080000,{"$f":"SUMPRODUCT((Projects!$A$5:$A$2426='Local Detail'!$G$3)*(Projects!$C$5:$C$2426<>'MDOT FTA Detail'!$C$4)*(Projects!$L$5:$L$2426='Local Detail'!$A16)*(Projects!$K$5:$K$2426))","v":0},{"$f":"((SUMPRODUCT((Projects!$A$5:$A$2426='Local Detail'!$G$3)*(Projects!$C$5:$C$2426<>'MDOT FTA Detail'!$C$4)*(Projects!$L$5:$L$2426='Local Detail'!$A16)*(Projects!$J$5:$J$2426<>'Local Detail'!$A$147)*(Projects!$M$5:$M$2426)))+(SUMPRODUCT((Projects!$A$5:$A$2426='Local Detail'!$G$3)*(Projects!$C$5:$C$2426<>'MDOT FTA Detail'!$C$4)*(Projects!$L$5:$L$2426='Local Detail'!$A16)*(Projects!$J$5:$J$2426<>'Local Detail'!$A$147)*(Projects!$O$5:$O$2426))))","v":0},0,{"$f":"SUMPRODUCT((Projects!$A$5:$A$2426='Local Detail'!$J$3)*(Projects!$C$5:$C$2426<>'MDOT FTA Detail'!$C$4)*(Projects!$L$5:$L$2426='Local Detail'!$A16)*(Projects!$K$5:$K$2426))","v":0},{"$f":"((SUMPRODUCT((Projects!$A$5:$A$2426='Local Detail'!$J$3)*(Projects!$C$5:$C$2426<>'MDOT FTA Detail'!$C$4)*(Projects!$L$5:$L$2426='Local Detail'!$A16)*(Projects!$J$5:$J$2426<>'Local Detail'!$A$147)*(Projects!$M$5:$M$2426)))+(SUMPRODUCT((Projects!$A$5:$A$2426='Local Detail'!$J$3)*(Projects!$C$5:$C$2426<>'MDOT FTA Detail'!$C$4)*(Projects!$L$5:$L$2426='Local Detail'!$A16)*(Projects!$J$5:$J$2426<>'Local Detail'!$A$147)*(Projects!$O$5:$O$2426))))","v":0},0,{"$f":"SUMPRODUCT((Projects!$A$5:$A$2426='Local Detail'!$M$3)*(Projects!$C$5:$C$2426<>'MDOT FTA Detail'!$C$4)*(Projects!$L$5:$L$2426='Local Detail'!$A16)*(Projects!$K$5:$K$2426))","v":0},{"$f":"((SUMPRODUCT((Projects!$A$5:$A$2426='Local Detail'!$M$3)*(Projects!$C$5:$C$2426<>'MDOT FTA Detail'!$C$4)*(Projects!$L$5:$L$2426='Local Detail'!$A16)*(Projects!$J$5:$J$2426<>'Local Detail'!$A$147)*(Projects!$M$5:$M$2426)))+(SUMPRODUCT((Projects!$A$5:$A$2426='Local Detail'!$M$3)*(Projects!$C$5:$C$2426<>'MDOT FTA Detail'!$C$4)*(Projects!$L$5:$L$2426='Local Detail'!$A16)*(Projects!$J$5:$J$2426<>'Local Detail'!$A$147)*(Projects!$O$5:$O$2426))))","v":0},0]
["CANX","Canadian Bridge Funds","Local Other FHWA",{"$f":"SUMPRODUCT((Projects!$A$5:$A$2426='Local Detail'!$D$3)*(Projects!$C$5:$C$2426<>'MDOT FTA Detail'!$C$4)*(Projects!$L$5:$L$2426='Local Detail'!$A17)*(Projects!$K$5:$K$2426))","v":0},{"$f":"((SUMPRODUCT((Projects!$A$5:$A$2426='Local Detail'!$D$3)*(Projects!$C$5:$C$2426<>'MDOT FTA Detail'!$C$4)*(Projects!$L$5:$L$2426='Local Detail'!$A17)*(Projects!$J$5:$J$2426<>'Local Detail'!$A$147)*(Projects!$M$5:$M$2426)))+(SUMPRODUCT((Projects!$A$5:$A$2426='Local Detail'!$D$3)*(Projects!$C$5:$C$2426<>'MDOT FTA Detail'!$C$4)*(Projects!$L$5:$L$2426='Local Detail'!$A17)*(Projects!$J$5:$J$2426<>'Local Detail'!$A$147)*(Projects!$O$5:$O$2426))))","v":0},{"$f":"D17+E17","v":0},{"$f":"SUMPRODUCT((Projects!$A$5:$A$2426='Local Detail'!$G$3)*(Projects!$C$5:$C$2426<>'MDOT FTA Detail'!$C$4)*(Projects!$L$5:$L$2426='Local Detail'!$A17)*(Projects!$K$5:$K$2426))","v":0},{"$f":"((SUMPRODUCT((Projects!$A$5:$A$2426='Local Detail'!$G$3)*(Projects!$C$5:$C$2426<>'MDOT FTA Detail'!$C$4)*(Projects!$L$5:$L$2426='Local Detail'!$A17)*(Projects!$J$5:$J$2426<>'Local Detail'!$A$147)*(Projects!$M$5:$M$2426)))+(SUMPRODUCT((Projects!$A$5:$A$2426='Local Detail'!$G$3)*(Projects!$C$5:$C$2426<>'MDOT FTA Detail'!$C$4)*(Projects!$L$5:$L$2426='Local Detail'!$A17)*(Projects!$J$5:$J$2426<>'Local Detail'!$A$147)*(Projects!$O$5:$O$2426))))","v":0},{"$f":"G17+H17","v":0},{"$f":"SUMPRODUCT((Projects!$A$5:$A$2426='Local Detail'!$J$3)*(Projects!$C$5:$C$2426<>'MDOT FTA Detail'!$C$4)*(Projects!$L$5:$L$2426='Local Detail'!$A17)*(Projects!$K$5:$K$2426))","v":0},{"$f":"((SUMPRODUCT((Projects!$A$5:$A$2426='Local Detail'!$J$3)*(Projects!$C$5:$C$2426<>'MDOT FTA Detail'!$C$4)*(Projects!$L$5:$L$2426='Local Detail'!$A17)*(Projects!$J$5:$J$2426<>'Local Detail'!$A$147)*(Projects!$M$5:$M$2426)))+(SUMPRODUCT((Projects!$A$5:$A$2426='Local Detail'!$J$3)*(Projects!$C$5:$C$2426<>'MDOT FTA Detail'!$C$4)*(Projects!$L$5:$L$2426='Local Detail'!$A17)*(Projects!$J$5:$J$2426<>'Local Detail'!$A$147)*(Projects!$O$5:$O$2426))))","v":0},{"$f":"J17+K17","v":0},{"$f":"SUMPRODUCT((Projects!$A$5:$A$2426='Local Detail'!$M$3)*(Projects!$C$5:$C$2426<>'MDOT FTA Detail'!$C$4)*(Projects!$L$5:$L$2426='Local Detail'!$A17)*(Projects!$K$5:$K$2426))","v":0},{"$f":"((SUMPRODUCT((Projects!$A$5:$A$2426='Local Detail'!$M$3)*(Projects!$C$5:$C$2426<>'MDOT FTA Detail'!$C$4)*(Projects!$L$5:$L$2426='Local Detail'!$A17)*(Projects!$J$5:$J$2426<>'Local Detail'!$A$147)*(Projects!$M$5:$M$2426)))+(SUMPRODUCT((Projects!$A$5:$A$2426='Local Detail'!$M$3)*(Projects!$C$5:$C$2426<>'MDOT FTA Detail'!$C$4)*(Projects!$L$5:$L$2426='Local Detail'!$A17)*(Projects!$J$5:$J$2426<>'Local Detail'!$A$147)*(Projects!$O$5:$O$2426))))","v":0},{"$f":"M17+N17","v":0}]
["CBCD","Corridor & Border Crossing Discretionary","Local Other FHWA",{"$f":"SUMPRODUCT((Projects!$A$5:$A$2426='Local Detail'!$D$3)*(Projects!$C$5:$C$2426<>'MDOT FTA Detail'!$C$4)*(Projects!$L$5:$L$2426='Local Detail'!$A18)*(Projects!$K$5:$K$2426))","v":0},{"$f":"((SUMPRODUCT((Projects!$A$5:$A$2426='Local Detail'!$D$3)*(Projects!$C$5:$C$2426<>'MDOT FTA Detail'!$C$4)*(Projects!$L$5:$L$2426='Local Detail'!$A18)*(Projects!$J$5:$J$2426<>'Local Detail'!$A$147)*(Projects!$M$5:$M$2426)))+(SUMPRODUCT((Projects!$A$5:$A$2426='Local Detail'!$D$3)*(Projects!$C$5:$C$2426<>'MDOT FTA Detail'!$C$4)*(Projects!$L$5:$L$2426='Local Detail'!$A18)*(Projects!$J$5:$J$2426<>'Local Detail'!$A$147)*(Projects!$O$5:$O$2426))))","v":0},0,{"$f":"SUMPRODUCT((Projects!$A$5:$A$2426='Local Detail'!$G$3)*(Projects!$C$5:$C$2426<>'MDOT FTA Detail'!$C$4)*(Projects!$L$5:$L$2426='Local Detail'!$A18)*(Projects!$K$5:$K$2426))","v":0},{"$f":"((SUMPRODUCT((Projects!$A$5:$A$2426='Local Detail'!$G$3)*(Projects!$C$5:$C$2426<>'MDOT FTA Detail'!$C$4)*(Projects!$L$5:$L$2426='Local Detail'!$A18)*(Projects!$J$5:$J$2426<>'Local Detail'!$A$147)*(Projects!$M$5:$M$2426)))+(SUMPRODUCT((Projects!$A$5:$A$2426='Local Detail'!$G$3)*(Projects!$C$5:$C$2426<>'MDOT FTA Detail'!$C$4)*(Projects!$L$5:$L$2426='Local Detail'!$A18)*(Projects!$J$5:$J$2426<>'Local Detail'!$A$147)*(Projects!$O$5:$O$2426))))","v":0},0,{"$f":"SUMPRODUCT((Projects!$A$5:$A$2426='Local Detail'!$J$3)*(Projects!$C$5:$C$2426<>'MDOT FTA Detail'!$C$4)*(Projects!$L$5:$L$2426='Local Detail'!$A18)*(Projects!$K$5:$K$2426))","v":0},{"$f":"((SUMPRODUCT((Projects!$A$5:$A$2426='Local Detail'!$J$3)*(Projects!$C$5:$C$2426<>'MDOT FTA Detail'!$C$4)*(Projects!$L$5:$L$2426='Local Detail'!$A18)*(Projects!$J$5:$J$2426<>'Local Detail'!$A$147)*(Projects!$M$5:$M$2426)))+(SUMPRODUCT((Projects!$A$5:$A$2426='Local Detail'!$J$3)*(Projects!$C$5:$C$2426<>'MDOT FTA Detail'!$C$4)*(Projects!$L$5:$L$2426='Local Detail'!$A18)*(Projects!$J$5:$J$2426<>'Local Detail'!$A$147)*(Projects!$O$5:$O$2426))))","v":0},0,{"$f":"SUMPRODUCT((Projects!$A$5:$A$2426='Local Detail'!$M$3)*(Projects!$C$5:$C$2426<>'MDOT FTA Detail'!$C$4)*(Projects!$L$5:$L$2426='Local Detail'!$A18)*(Projects!$K$5:$K$2426))","v":0},{"$f":"((SUMPRODUCT((Projects!$A$5:$A$2426='Local Detail'!$M$3)*(Projects!$C$5:$C$2426<>'MDOT FTA Detail'!$C$4)*(Projects!$L$5:$L$2426='Local Detail'!$A18)*(Projects!$J$5:$J$2426<>'Local Detail'!$A$147)*(Projects!$M$5:$M$2426)))+(SUMPRODUCT((Projects!$A$5:$A$2426='Local Detail'!$M$3)*(Projects!$C$5:$C$2426<>'MDOT FTA Detail'!$C$4)*(Projects!$L$5:$L$2426='Local Detail'!$A18)*(Projects!$J$5:$J$2426<>'Local Detail'!$A$147)*(Projects!$O$5:$O$2426))))","v":0},0]
["CBIP","Coordinated Border Infrastructure Program - SAFETEA-LU","Local Other FHWA",{"$f":"SUMPRODUCT((Projects!$A$5:$A$2426='Local Detail'!$D$3)*(Projects!$C$5:$C$2426<>'MDOT FTA Detail'!$C$4)*(Projects!$L$5:$L$2426='Local Detail'!$A19)*(Projects!$K$5:$K$2426))","v":0},{"$f":"((SUMPRODUCT((Projects!$A$5:$A$2426='Local Detail'!$D$3)*(Projects!$C$5:$C$2426<>'MDOT FTA Detail'!$C$4)*(Projects!$L$5:$L$2426='Local Detail'!$A19)*(Projects!$J$5:$J$2426<>'Local Detail'!$A$147)*(Projects!$M$5:$M$2426)))+(SUMPRODUCT((Projects!$A$5:$A$2426='Local Detail'!$D$3)*(Projects!$C$5:$C$2426<>'MDOT FTA Detail'!$C$4)*(Projects!$L$5:$L$2426='Local Detail'!$A19)*(Projects!$J$5:$J$2426<>'Local Detail'!$A$147)*(Projects!$O$5:$O$2426))))","v":0},0,{"$f":"SUMPRODUCT((Projects!$A$5:$A$2426='Local Detail'!$G$3)*(Projects!$C$5:$C$2426<>'MDOT FTA Detail'!$C$4)*(Projects!$L$5:$L$2426='Local Detail'!$A19)*(Projects!$K$5:$K$2426))","v":0},{"$f":"((SUMPRODUCT((Projects!$A$5:$A$2426='Local Detail'!$G$3)*(Projects!$C$5:$C$2426<>'MDOT FTA Detail'!$C$4)*(Projects!$L$5:$L$2426='Local Detail'!$A19)*(Projects!$J$5:$J$2426<>'Local Detail'!$A$147)*(Projects!$M$5:$M$2426)))+(SUMPRODUCT((Projects!$A$5:$A$2426='Local Detail'!$G$3)*(Projects!$C$5:$C$2426<>'MDOT FTA Detail'!$C$4)*(Projects!$L$5:$L$2426='Local Detail'!$A19)*(Projects!$J$5:$J$2426<>'Local Detail'!$A$147)*(Projects!$O$5:$O$2426))))","v":0},0,{"$f":"SUMPRODUCT((Projects!$A$5:$A$2426='Local Detail'!$J$3)*(Projects!$C$5:$C$2426<>'MDOT FTA Detail'!$C$4)*(Projects!$L$5:$L$2426='Local Detail'!$A19)*(Projects!$K$5:$K$2426))","v":0},{"$f":"((SUMPRODUCT((Projects!$A$5:$A$2426='Local Detail'!$J$3)*(Projects!$C$5:$C$2426<>'MDOT FTA Detail'!$C$4)*(Projects!$L$5:$L$2426='Local Detail'!$A19)*(Projects!$J$5:$J$2426<>'Local Detail'!$A$147)*(Projects!$M$5:$M$2426)))+(SUMPRODUCT((Projects!$A$5:$A$2426='Local Detail'!$J$3)*(Projects!$C$5:$C$2426<>'MDOT FTA Detail'!$C$4)*(Projects!$L$5:$L$2426='Local Detail'!$A19)*(Projects!$J$5:$J$2426<>'Local Detail'!$A$147)*(Projects!$O$5:$O$2426))))","v":0},0,{"$f":"SUMPRODUCT((Projects!$A$5:$A$2426='Local Detail'!$M$3)*(Projects!$C$5:$C$2426<>'MDOT FTA Detail'!$C$4)*(Projects!$L$5:$L$2426='Local Detail'!$A19)*(Projects!$K$5:$K$2426))","v":0},{"$f":"((SUMPRODUCT((Projects!$A$5:$A$2426='Local Detail'!$M$3)*(Projects!$C$5:$C$2426<>'MDOT FTA Detail'!$C$4)*(Projects!$L$5:$L$2426='Local Detail'!$A19)*(Projects!$J$5:$J$2426<>'Local Detail'!$A$147)*(Projects!$M$5:$M$2426)))+(SUMPRODUCT((Projects!$A$5:$A$2426='Local Detail'!$M$3)*(Projects!$C$5:$C$2426<>'MDOT FTA Detail'!$C$4)*(Projects!$L$5:$L$2426='Local Detail'!$A19)*(Projects!$J$5:$J$2426<>'Local Detail'!$A$147)*(Projects!$O$5:$O$2426))))","v":0},0]
["CM","Congestion Mitigation & Air Quality","Local CMAQ",{"$f":"SUMPRODUCT((Projects!$A$5:$A$2426='Local Detail'!$D$3)*(Projects!$C$5:$C$2426<>'MDOT FTA Detail'!$C$4)*(Projects!$L$5:$L$2426='Local Detail'!$A20)*(Projects!$K$5:$K$2426))","v":230000},{"$f":"((SUMPRODUCT((Projects!$A$5:$A$2426='Local Detail'!$D$3)*(Projects!$C$5:$C$2426<>'MDOT FTA Detail'!$C$4)*(Projects!$L$5:$L$2426='Local Detail'!$A20)*(Projects!$J$5:$J$2426<>'Local Detail'!$A$147)*(Projects!$M$5:$M$2426)))+(SUMPRODUCT((Projects!$A$5:$A$2426='Local Detail'!$D$3)*(Projects!$C$5:$C$2426<>'MDOT FTA Detail'!$C$4)*(Projects!$L$5:$L$2426='Local Detail'!$A20)*(Projects!$J$5:$J$2426<>'Local Detail'!$A$147)*(Projects!$O$5:$O$2426))))","v":57500},287500,{"$f":"SUMPRODUCT((Projects!$A$5:$A$2426='Local Detail'!$G$3)*(Projects!$C$5:$C$2426<>'MDOT FTA Detail'!$C$4)*(Projects!$L$5:$L$2426='Local Detail'!$A20)*(Projects!$K$5:$K$2426))","v":0},{"$f":"((SUMPRODUCT((Projects!$A$5:$A$2426='Local Detail'!$G$3)*(Projects!$C$5:$C$2426<>'MDOT FTA Detail'!$C$4)*(Projects!$L$5:$L$2426='Local Detail'!$A20)*(Projects!$J$5:$J$2426<>'Local Detail'!$A$147)*(Projects!$M$5:$M$2426)))+(SUMPRODUCT((Projects!$A$5:$A$2426='Local Detail'!$G$3)*(Projects!$C$5:$C$2426<>'MDOT FTA Detail'!$C$4)*(Projects!$L$5:$L$2426='Local Detail'!$A20)*(Projects!$J$5:$J$2426<>'Local Detail'!$A$147)*(Projects!$O$5:$O$2426))))","v":0},0,{"$f":"SUMPRODUCT((Projects!$A$5:$A$2426='Local Detail'!$J$3)*(Projects!$C$5:$C$2426<>'MDOT FTA Detail'!$C$4)*(Projects!$L$5:$L$2426='Local Detail'!$A20)*(Projects!$K$5:$K$2426))","v":0},{"$f":"((SUMPRODUCT((Projects!$A$5:$A$2426='Local Detail'!$J$3)*(Projects!$C$5:$C$2426<>'MDOT FTA Detail'!$C$4)*(Projects!$L$5:$L$2426='Local Detail'!$A20)*(Projects!$J$5:$J$2426<>'Local Detail'!$A$147)*(Projects!$M$5:$M$2426)))+(SUMPRODUCT((Projects!$A$5:$A$2426='Local Detail'!$J$3)*(Projects!$C$5:$C$2426<>'MDOT FTA Detail'!$C$4)*(Projects!$L$5:$L$2426='Local Detail'!$A20)*(Projects!$J$5:$J$2426<>'Local Detail'!$A$147)*(Projects!$O$5:$O$2426))))","v":0},0,{"$f":"SUMPRODUCT((Projects!$A$5:$A$2426='Local Detail'!$M$3)*(Projects!$C$5:$C$2426<>'MDOT FTA Detail'!$C$4)*(Projects!$L$5:$L$2426='Local Detail'!$A20)*(Projects!$K$5:$K$2426))","v":0},{"$f":"((SUMPRODUCT((Projects!$A$5:$A$2426='Local Detail'!$M$3)*(Projects!$C$5:$C$2426<>'MDOT FTA Detail'!$C$4)*(Projects!$L$5:$L$2426='Local Detail'!$A20)*(Projects!$J$5:$J$2426<>'Local Detail'!$A$147)*(Projects!$M$5:$M$2426)))+(SUMPRODUCT((Projects!$A$5:$A$2426='Local Detail'!$M$3)*(Projects!$C$5:$C$2426<>'MDOT FTA Detail'!$C$4)*(Projects!$L$5:$L$2426='Local Detail'!$A20)*(Projects!$J$5:$J$2426<>'Local Detail'!$A$147)*(Projects!$O$5:$O$2426))))","v":0},0]
["CMG","Congestion Mitigation & Air Quality - 100% Federal","Local CMAQ",{"$f":"SUMPRODUCT((Projects!$A$5:$A$2426='Local Detail'!$D$3)*(Projects!$C$5:$C$2426<>'MDOT FTA Detail'!$C$4)*(Projects!$L$5:$L$2426='Local Detail'!$A21)*(Projects!$K$5:$K$2426))","v":12000},{"$f":"((SUMPRODUCT((Projects!$A$5:$A$2426='Local Detail'!$D$3)*(Projects!$C$5:$C$2426<>'MDOT FTA Detail'!$C$4)*(Projects!$L$5:$L$2426='Local Detail'!$A21)*(Projects!$J$5:$J$2426<>'Local Detail'!$A$147)*(Projects!$M$5:$M$2426)))+(SUMPRODUCT((Projects!$A$5:$A$2426='Local Detail'!$D$3)*(Projects!$C$5:$C$2426<>'MDOT FTA Detail'!$C$4)*(Projects!$L$5:$L$2426='Local Detail'!$A21)*(Projects!$J$5:$J$2426<>'Local Detail'!$A$147)*(Projects!$O$5:$O$2426))))","v":0},12000,{"$f":"SUMPRODUCT((Projects!$A$5:$A$2426='Local Detail'!$G$3)*(Projects!$C$5:$C$2426<>'MDOT FTA Detail'!$C$4)*(Projects!$L$5:$L$2426='Local Detail'!$A21)*(Projects!$K$5:$K$2426))","v":276254},{"$f":"((SUMPRODUCT((Projects!$A$5:$A$2426='Local Detail'!$G$3)*(Projects!$C$5:$C$2426<>'MDOT FTA Detail'!$C$4)*(Projects!$L$5:$L$2426='Local Detail'!$A21)*(Projects!$J$5:$J$2426<>'Local Detail'!$A$147)*(Projects!$M$5:$M$2426)))+(SUMPRODUCT((Projects!$A$5:$A$2426='Local Detail'!$G$3)*(Projects!$C$5:$C$2426<>'MDOT FTA Detail'!$C$4)*(Projects!$L$5:$L$2426='Local Detail'!$A21)*(Projects!$J$5:$J$2426<>'Local Detail'!$A$147)*(Projects!$O$5:$O$2426))))","v":0},276254,{"$f":"SUMPRODUCT((Projects!$A$5:$A$2426='Local Detail'!$J$3)*(Projects!$C$5:$C$2426<>'MDOT FTA Detail'!$C$4)*(Projects!$L$5:$L$2426='Local Detail'!$A21)*(Projects!$K$5:$K$2426))","v":0},{"$f":"((SUMPRODUCT((Projects!$A$5:$A$2426='Local Detail'!$J$3)*(Projects!$C$5:$C$2426<>'MDOT FTA Detail'!$C$4)*(Projects!$L$5:$L$2426='Local Detail'!$A21)*(Projects!$J$5:$J$2426<>'Local Detail'!$A$147)*(Projects!$M$5:$M$2426)))+(SUMPRODUCT((Projects!$A$5:$A$2426='Local Detail'!$J$3)*(Projects!$C$5:$C$2426<>'MDOT FTA Detail'!$C$4)*(Projects!$L$5:$L$2426='Local Detail'!$A21)*(Projects!$J$5:$J$2426<>'Local Detail'!$A$147)*(Projects!$O$5:$O$2426))))","v":0},0,{"$f":"SUMPRODUCT((Projects!$A$5:$A$2426='Local Detail'!$M$3)*(Projects!$C$5:$C$2426<>'MDOT FTA Detail'!$C$4)*(Projects!$L$5:$L$2426='Local Detail'!$A21)*(Projects!$K$5:$K$2426))","v":252000},{"$f":"((SUMPRODUCT((Projects!$A$5:$A$2426='Local Detail'!$M$3)*(Projects!$C$5:$C$2426<>'MDOT FTA Detail'!$C$4)*(Projects!$L$5:$L$2426='Local Detail'!$A21)*(Projects!$J$5:$J$2426<>'Local Detail'!$A$147)*(Projects!$M$5:$M$2426)))+(SUMPRODUCT((Projects!$A$5:$A$2426='Local Detail'!$M$3)*(Projects!$C$5:$C$2426<>'MDOT FTA Detail'!$C$4)*(Projects!$L$5:$L$2426='Local Detail'!$A21)*(Projects!$J$5:$J$2426<>'Local Detail'!$A$147)*(Projects!$O$5:$O$2426))))","v":0},252000]
["CPM","Congestion Mititagion & Air Quality for PM 2.5 Emissions","Local CMAQ",{"$f":"SUMPRODUCT((Projects!$A$5:$A$2426='Local Detail'!$D$3)*(Projects!$C$5:$C$2426<>'MDOT FTA Detail'!$C$4)*(Projects!$L$5:$L$2426='Local Detail'!$A22)*(Projects!$K$5:$K$2426))","v":0},{"$f":"((SUMPRODUCT((Projects!$A$5:$A$2426='Local Detail'!$D$3)*(Projects!$C$5:$C$2426<>'MDOT FTA Detail'!$C$4)*(Projects!$L$5:$L$2426='Local Detail'!$A22)*(Projects!$J$5:$J$2426<>'Local Detail'!$A$147)*(Projects!$M$5:$M$2426)))+(SUMPRODUCT((Projects!$A$5:$A$2426='Local Detail'!$D$3)*(Projects!$C$5:$C$2426<>'MDOT FTA Detail'!$C$4)*(Projects!$L$5:$L$2426='Local Detail'!$A22)*(Projects!$J$5:$J$2426<>'Local Detail'!$A$147)*(Projects!$O$5:$O$2426))))","v":0},{"$f":"D22+E22","v":0},{"$f":"SUMPRODUCT((Projects!$A$5:$A$2426='Local Detail'!$G$3)*(Projects!$C$5:$C$2426<>'MDOT FTA Detail'!$C$4)*(Projects!$L$5:$L$2426='Local Detail'!$A22)*(Projects!$K$5:$K$2426))","v":0},{"$f":"((SUMPRODUCT((Projects!$A$5:$A$2426='Local Detail'!$G$3)*(Projects!$C$5:$C$2426<>'MDOT FTA Detail'!$C$4)*(Projects!$L$5:$L$2426='Local Detail'!$A22)*(Projects!$J$5:$J$2426<>'Local Detail'!$A$147)*(Projects!$M$5:$M$2426)))+(SUMPRODUCT((Projects!$A$5:$A$2426='Local Detail'!$G$3)*(Projects!$C$5:$C$2426<>'MDOT FTA Detail'!$C$4)*(Projects!$L$5:$L$2426='Local Detail'!$A22)*(Projects!$J$5:$J$2426<>'Local Detail'!$A$147)*(Projects!$O$5:$O$2426))))","v":0},{"$f":"G22+H22","v":0},{"$f":"SUMPRODUCT((Projects!$A$5:$A$2426='Local Detail'!$J$3)*(Projects!$C$5:$C$2426<>'MDOT FTA Detail'!$C$4)*(Projects!$L$5:$L$2426='Local Detail'!$A22)*(Projects!$K$5:$K$2426))","v":0},{"$f":"((SUMPRODUCT((Projects!$A$5:$A$2426='Local Detail'!$J$3)*(Projects!$C$5:$C$2426<>'MDOT FTA Detail'!$C$4)*(Projects!$L$5:$L$2426='Local Detail'!$A22)*(Projects!$J$5:$J$2426<>'Local Detail'!$A$147)*(Projects!$M$5:$M$2426)))+(SUMPRODUCT((Projects!$A$5:$A$2426='Local Detail'!$J$3)*(Projects!$C$5:$C$2426<>'MDOT FTA Detail'!$C$4)*(Projects!$L$5:$L$2426='Local Detail'!$A22)*(Projects!$J$5:$J$2426<>'Local Detail'!$A$147)*(Projects!$O$5:$O$2426))))","v":0},{"$f":"J22+K22","v":0},{"$f":"SUMPRODUCT((Projects!$A$5:$A$2426='Local Detail'!$M$3)*(Projects!$C$5:$C$2426<>'MDOT FTA Detail'!$C$4)*(Projects!$L$5:$L$2426='Local Detail'!$A22)*(Projects!$K$5:$K$2426))","v":0},{"$f":"((SUMPRODUCT((Projects!$A$5:$A$2426='Local Detail'!$M$3)*(Projects!$C$5:$C$2426<>'MDOT FTA Detail'!$C$4)*(Projects!$L$5:$L$2426='Local Detail'!$A22)*(Projects!$J$5:$J$2426<>'Local Detail'!$A$147)*(Projects!$M$5:$M$2426)))+(SUMPRODUCT((Projects!$A$5:$A$2426='Local Detail'!$M$3)*(Projects!$C$5:$C$2426<>'MDOT FTA Detail'!$C$4)*(Projects!$L$5:$L$2426='Local Detail'!$A22)*(Projects!$J$5:$J$2426<>'Local Detail'!$A$147)*(Projects!$O$5:$O$2426))))","v":0},{"$f":"M22+N22","v":0}]
["CPMG","Congestion Mititagion & Air Quality for PM 2.5 Emissions - 100% Federal","Local CMAQ",{"$f":"SUMPRODUCT((Projects!$A$5:$A$2426='Local Detail'!$D$3)*(Projects!$C$5:$C$2426<>'MDOT FTA Detail'!$C$4)*(Projects!$L$5:$L$2426='Local Detail'!$A23)*(Projects!$K$5:$K$2426))","v":0},{"$f":"((SUMPRODUCT((Projects!$A$5:$A$2426='Local Detail'!$D$3)*(Projects!$C$5:$C$2426<>'MDOT FTA Detail'!$C$4)*(Projects!$L$5:$L$2426='Local Detail'!$A23)*(Projects!$J$5:$J$2426<>'Local Detail'!$A$147)*(Projects!$M$5:$M$2426)))+(SUMPRODUCT((Projects!$A$5:$A$2426='Local Detail'!$D$3)*(Projects!$C$5:$C$2426<>'MDOT FTA Detail'!$C$4)*(Projects!$L$5:$L$2426='Local Detail'!$A23)*(Projects!$J$5:$J$2426<>'Local Detail'!$A$147)*(Projects!$O$5:$O$2426))))","v":0},0,{"$f":"SUMPRODUCT((Projects!$A$5:$A$2426='Local Detail'!$G$3)*(Projects!$C$5:$C$2426<>'MDOT FTA Detail'!$C$4)*(Projects!$L$5:$L$2426='Local Detail'!$A23)*(Projects!$K$5:$K$2426))","v":0},{"$f":"((SUMPRODUCT((Projects!$A$5:$A$2426='Local Detail'!$G$3)*(Projects!$C$5:$C$2426<>'MDOT FTA Detail'!$C$4)*(Projects!$L$5:$L$2426='Local Detail'!$A23)*(Projects!$J$5:$J$2426<>'Local Detail'!$A$147)*(Projects!$M$5:$M$2426)))+(SUMPRODUCT((Projects!$A$5:$A$2426='Local Detail'!$G$3)*(Projects!$C$5:$C$2426<>'MDOT FTA Detail'!$C$4)*(Projects!$L$5:$L$2426='Local Detail'!$A23)*(Projects!$J$5:$J$2426<>'Local Detail'!$A$147)*(Projects!$O$5:$O$2426))))","v":0},0,{"$f":"SUMPRODUCT((Projects!$A$5:$A$2426='Local Detail'!$J$3)*(Projects!$C$5:$C$2426<>'MDOT FTA Detail'!$C$4)*(Projects!$L$5:$L$2426='Local Detail'!$A23)*(Projects!$K$5:$K$2426))","v":0},{"$f":"((SUMPRODUCT((Projects!$A$5:$A$2426='Local Detail'!$J$3)*(Projects!$C$5:$C$2426<>'MDOT FTA Detail'!$C$4)*(Projects!$L$5:$L$2426='Local Detail'!$A23)*(Projects!$J$5:$J$2426<>'Local Detail'!$A$147)*(Projects!$M$5:$M$2426)))+(SUMPRODUCT((Projects!$A$5:$A$2426='Local Detail'!$J$3)*(Projects!$C$5:$C$2426<>'MDOT FTA Detail'!$C$4)*(Projects!$L$5:$L$2426='Local Detail'!$A23)*(Projects!$J$5:$J$2426<>'Local Detail'!$A$147)*(Projects!$O$5:$O$2426))))","v":0},0,{"$f":"SUMPRODUCT((Projects!$A$5:$A$2426='Local Detail'!$M$3)*(Projects!$C$5:$C$2426<>'MDOT FTA Detail'!$C$4)*(Projects!$L$5:$L$2426='Local Detail'!$A23)*(Projects!$K$5:$K$2426))","v":0},{"$f":"((SUMPRODUCT((Projects!$A$5:$A$2426='Local Detail'!$M$3)*(Projects!$C$5:$C$2426<>'MDOT FTA Detail'!$C$4)*(Projects!$L$5:$L$2426='Local Detail'!$A23)*(Projects!$J$5:$J$2426<>'Local Detail'!$A$147)*(Projects!$M$5:$M$2426)))+(SUMPRODUCT((Projects!$A$5:$A$2426='Local Detail'!$M$3)*(Projects!$C$5:$C$2426<>'MDOT FTA Detail'!$C$4)*(Projects!$L$5:$L$2426='Local Detail'!$A23)*(Projects!$J$5:$J$2426<>'Local Detail'!$A$147)*(Projects!$O$5:$O$2426))))","v":0},0]
["D129","Demonstration for Surface Transportation - Section 129","Local STP",{"$f":"SUMPRODUCT((Projects!$A$5:$A$2426='Local Detail'!$D$3)*(Projects!$C$5:$C$2426<>'MDOT FTA Detail'!$C$4)*(Projects!$L$5:$L$2426='Local Detail'!$A24)*(Projects!$K$5:$K$2426))","v":0},{"$f":"((SUMPRODUCT((Projects!$A$5:$A$2426='Local Detail'!$D$3)*(Projects!$C$5:$C$2426<>'MDOT FTA Detail'!$C$4)*(Projects!$L$5:$L$2426='Local Detail'!$A24)*(Projects!$J$5:$J$2426<>'Local Detail'!$A$147)*(Projects!$M$5:$M$2426)))+(SUMPRODUCT((Projects!$A$5:$A$2426='Local Detail'!$D$3)*(Projects!$C$5:$C$2426<>'MDOT FTA Detail'!$C$4)*(Projects!$L$5:$L$2426='Local Detail'!$A24)*(Projects!$J$5:$J$2426<>'Local Detail'!$A$147)*(Projects!$O$5:$O$2426))))","v":0},{"$f":"D24+E24","v":0},{"$f":"SUMPRODUCT((Projects!$A$5:$A$2426='Local Detail'!$G$3)*(Projects!$C$5:$C$2426<>'MDOT FTA Detail'!$C$4)*(Projects!$L$5:$L$2426='Local Detail'!$A24)*(Projects!$K$5:$K$2426))","v":0},{"$f":"((SUMPRODUCT((Projects!$A$5:$A$2426='Local Detail'!$G$3)*(Projects!$C$5:$C$2426<>'MDOT FTA Detail'!$C$4)*(Projects!$L$5:$L$2426='Local Detail'!$A24)*(Projects!$J$5:$J$2426<>'Local Detail'!$A$147)*(Projects!$M$5:$M$2426)))+(SUMPRODUCT((Projects!$A$5:$A$2426='Local Detail'!$G$3)*(Projects!$C$5:$C$2426<>'MDOT FTA Detail'!$C$4)*(Projects!$L$5:$L$2426='Local Detail'!$A24)*(Projects!$J$5:$J$2426<>'Local Detail'!$A$147)*(Projects!$O$5:$O$2426))))","v":0},{"$f":"G24+H24","v":0},{"$f":"SUMPRODUCT((Projects!$A$5:$A$2426='Local Detail'!$J$3)*(Projects!$C$5:$C$2426<>'MDOT FTA Detail'!$C$4)*(Projects!$L$5:$L$2426='Local Detail'!$A24)*(Projects!$K$5:$K$2426))","v":0},{"$f":"((SUMPRODUCT((Projects!$A$5:$A$2426='Local Detail'!$J$3)*(Projects!$C$5:$C$2426<>'MDOT FTA Detail'!$C$4)*(Projects!$L$5:$L$2426='Local Detail'!$A24)*(Projects!$J$5:$J$2426<>'Local Detail'!$A$147)*(Projects!$M$5:$M$2426)))+(SUMPRODUCT((Projects!$A$5:$A$2426='Local Detail'!$J$3)*(Projects!$C$5:$C$2426<>'MDOT FTA Detail'!$C$4)*(Projects!$L$5:$L$2426='Local Detail'!$A24)*(Projects!$J$5:$J$2426<>'Local Detail'!$A$147)*(Projects!$O$5:$O$2426))))","v":0},{"$f":"J24+K24","v":0},{"$f":"SUMPRODUCT((Projects!$A$5:$A$2426='Local Detail'!$M$3)*(Projects!$C$5:$C$2426<>'MDOT FTA Detail'!$C$4)*(Projects!$L$5:$L$2426='Local Detail'!$A24)*(Projects!$K$5:$K$2426))","v":0},{"$f":"((SUMPRODUCT((Projects!$A$5:$A$2426='Local Detail'!$M$3)*(Projects!$C$5:$C$2426<>'MDOT FTA Detail'!$C$4)*(Projects!$L$5:$L$2426='Local Detail'!$A24)*(Projects!$J$5:$J$2426<>'Local Detail'!$A$147)*(Projects!$M$5:$M$2426)))+(SUMPRODUCT((Projects!$A$5:$A$2426='Local Detail'!$M$3)*(Projects!$C$5:$C$2426<>'MDOT FTA Detail'!$C$4)*(Projects!$L$5:$L$2426='Local Detail'!$A24)*(Projects!$J$5:$J$2426<>'Local Detail'!$A$147)*(Projects!$O$5:$O$2426))))","v":0},{"$f":"M24+N24","v":0}]
["DIG","ISTEA Demonstration 100% Federal on Interstate","Local Other FHWA",{"$f":"SUMPRODUCT((Projects!$A$5:$A$2426='Local Detail'!$D$3)*(Projects!$C$5:$C$2426<>'MDOT FTA Detail'!$C$4)*(Projects!$L$5:$L$2426='Local Detail'!$A25)*(Projects!$K$5:$K$2426))","v":0},{"$f":"((SUMPRODUCT((Projects!$A$5:$A$2426='Local Detail'!$D$3)*(Projects!$C$5:$C$2426<>'MDOT FTA Detail'!$C$4)*(Projects!$L$5:$L$2426='Local Detail'!$A25)*(Projects!$J$5:$J$2426<>'Local Detail'!$A$147)*(Projects!$M$5:$M$2426)))+(SUMPRODUCT((Projects!$A$5:$A$2426='Local Detail'!$D$3)*(Projects!$C$5:$C$2426<>'MDOT FTA Detail'!$C$4)*(Projects!$L$5:$L$2426='Local Detail'!$A25)*(Projects!$J$5:$J$2426<>'Local Detail'!$A$147)*(Projects!$O$5:$O$2426))))","v":0},0,{"$f":"SUMPRODUCT((Projects!$A$5:$A$2426='Local Detail'!$G$3)*(Projects!$C$5:$C$2426<>'MDOT FTA Detail'!$C$4)*(Projects!$L$5:$L$2426='Local Detail'!$A25)*(Projects!$K$5:$K$2426))","v":0},{"$f":"((SUMPRODUCT((Projects!$A$5:$A$2426='Local Detail'!$G$3)*(Projects!$C$5:$C$2426<>'MDOT FTA Detail'!$C$4)*(Projects!$L$5:$L$2426='Local Detail'!$A25)*(Projects!$J$5:$J$2426<>'Local Detail'!$A$147)*(Projects!$M$5:$M$2426)))+(SUMPRODUCT((Projects!$A$5:$A$2426='Local Detail'!$G$3)*(Projects!$C$5:$C$2426<>'MDOT FTA Detail'!$C$4)*(Projects!$L$5:$L$2426='Local Detail'!$A25)*(Projects!$J$5:$J$2426<>'Local Detail'!$A$147)*(Projects!$O$5:$O$2426))))","v":0},0,{"$f":"SUMPRODUCT((Projects!$A$5:$A$2426='Local Detail'!$J$3)*(Projects!$C$5:$C$2426<>'MDOT FTA Detail'!$C$4)*(Projects!$L$5:$L$2426='Local Detail'!$A25)*(Projects!$K$5:$K$2426))","v":0},{"$f":"((SUMPRODUCT((Projects!$A$5:$A$2426='Local Detail'!$J$3)*(Projects!$C$5:$C$2426<>'MDOT FTA Detail'!$C$4)*(Projects!$L$5:$L$2426='Local Detail'!$A25)*(Projects!$J$5:$J$2426<>'Local Detail'!$A$147)*(Projects!$M$5:$M$2426)))+(SUMPRODUCT((Projects!$A$5:$A$2426='Local Detail'!$J$3)*(Projects!$C$5:$C$2426<>'MDOT FTA Detail'!$C$4)*(Projects!$L$5:$L$2426='Local Detail'!$A25)*(Projects!$J$5:$J$2426<>'Local Detail'!$A$147)*(Projects!$O$5:$O$2426))))","v":0},0,{"$f":"SUMPRODUCT((Projects!$A$5:$A$2426='Local Detail'!$M$3)*(Projects!$C$5:$C$2426<>'MDOT FTA Detail'!$C$4)*(Projects!$L$5:$L$2426='Local Detail'!$A25)*(Projects!$K$5:$K$2426))","v":0},{"$f":"((SUMPRODUCT((Projects!$A$5:$A$2426='Local Detail'!$M$3)*(Projects!$C$5:$C$2426<>'MDOT FTA Detail'!$C$4)*(Projects!$L$5:$L$2426='Local Detail'!$A25)*(Projects!$J$5:$J$2426<>'Local Detail'!$A$147)*(Projects!$M$5:$M$2426)))+(SUMPRODUCT((Projects!$A$5:$A$2426='Local Detail'!$M$3)*(Projects!$C$5:$C$2426<>'MDOT FTA Detail'!$C$4)*(Projects!$L$5:$L$2426='Local Detail'!$A25)*(Projects!$J$5:$J$2426<>'Local Detail'!$A$147)*(Projects!$O$5:$O$2426))))","v":0},0]
["DOG","ISTEA Demonstration 100% Federal Not Classified","Local Other FHWA",{"$f":"SUMPRODUCT((Projects!$A$5:$A$2426='Local Detail'!$D$3)*(Projects!$C$5:$C$2426<>'MDOT FTA Detail'!$C$4)*(Projects!$L$5:$L$2426='Local Detail'!$A26)*(Projects!$K$5:$K$2426))","v":0},{"$f":"((SUMPRODUCT((Projects!$A$5:$A$2426='Local Detail'!$D$3)*(Projects!$C$5:$C$2426<>'MDOT FTA Detail'!$C$4)*(Projects!$L$5:$L$2426='Local Detail'!$A26)*(Projects!$J$5:$J$2426<>'Local Detail'!$A$147)*(Projects!$M$5:$M$2426)))+(SUMPRODUCT((Projects!$A$5:$A$2426='Local Detail'!$D$3)*(Projects!$C$5:$C$2426<>'MDOT FTA Detail'!$C$4)*(Projects!$L$5:$L$2426='Local Detail'!$A26)*(Projects!$J$5:$J$2426<>'Local Detail'!$A$147)*(Projects!$O$5:$O$2426))))","v":0},0,{"$f":"SUMPRODUCT((Projects!$A$5:$A$2426='Local Detail'!$G$3)*(Projects!$C$5:$C$2426<>'MDOT FTA Detail'!$C$4)*(Projects!$L$5:$L$2426='Local Detail'!$A26)*(Projects!$K$5:$K$2426))","v":0},{"$f":"((SUMPRODUCT((Projects!$A$5:$A$2426='Local Detail'!$G$3)*(Projects!$C$5:$C$2426<>'MDOT FTA Detail'!$C$4)*(Projects!$L$5:$L$2426='Local Detail'!$A26)*(Projects!$J$5:$J$2426<>'Local Detail'!$A$147)*(Projects!$M$5:$M$2426)))+(SUMPRODUCT((Projects!$A$5:$A$2426='Local Detail'!$G$3)*(Projects!$C$5:$C$2426<>'MDOT FTA Detail'!$C$4)*(Projects!$L$5:$L$2426='Local Detail'!$A26)*(Projects!$J$5:$J$2426<>'Local Detail'!$A$147)*(Projects!$O$5:$O$2426))))","v":0},0,{"$f":"SUMPRODUCT((Projects!$A$5:$A$2426='Local Detail'!$J$3)*(Projects!$C$5:$C$2426<>'MDOT FTA Detail'!$C$4)*(Projects!$L$5:$L$2426='Local Detail'!$A26)*(Projects!$K$5:$K$2426))","v":0},{"$f":"((SUMPRODUCT((Projects!$A$5:$A$2426='Local Detail'!$J$3)*(Projects!$C$5:$C$2426<>'MDOT FTA Detail'!$C$4)*(Projects!$L$5:$L$2426='Local Detail'!$A26)*(Projects!$J$5:$J$2426<>'Local Detail'!$A$147)*(Projects!$M$5:$M$2426)))+(SUMPRODUCT((Projects!$A$5:$A$2426='Local Detail'!$J$3)*(Projects!$C$5:$C$2426<>'MDOT FTA Detail'!$C$4)*(Projects!$L$5:$L$2426='Local Detail'!$A26)*(Projects!$J$5:$J$2426<>'Local Detail'!$A$147)*(Projects!$O$5:$O$2426))))","v":0},0,{"$f":"SUMPRODUCT((Projects!$A$5:$A$2426='Local Detail'!$M$3)*(Projects!$C$5:$C$2426<>'MDOT FTA Detail'!$C$4)*(Projects!$L$5:$L$2426='Local Detail'!$A26)*(Projects!$K$5:$K$2426))","v":0},{"$f":"((SUMPRODUCT((Projects!$A$5:$A$2426='Local Detail'!$M$3)*(Projects!$C$5:$C$2426<>'MDOT FTA Detail'!$C$4)*(Projects!$L$5:$L$2426='Local Detail'!$A26)*(Projects!$J$5:$J$2426<>'Local Detail'!$A$147)*(Projects!$M$5:$M$2426)))+(SUMPRODUCT((Projects!$A$5:$A$2426='Local Detail'!$M$3)*(Projects!$C$5:$C$2426<>'MDOT FTA Detail'!$C$4)*(Projects!$L$5:$L$2426='Local Detail'!$A26)*(Projects!$J$5:$J$2426<>'Local Detail'!$A$147)*(Projects!$O$5:$O$2426))))","v":0},0]
["DPN","ISTEA Demonstration 80% Federal on NHS","Local Other FHWA",{"$f":"SUMPRODUCT((Projects!$A$5:$A$2426='Local Detail'!$D$3)*(Projects!$C$5:$C$2426<>'MDOT FTA Detail'!$C$4)*(Projects!$L$5:$L$2426='Local Detail'!$A27)*(Projects!$K$5:$K$2426))","v":0},{"$f":"((SUMPRODUCT((Projects!$A$5:$A$2426='Local Detail'!$D$3)*(Projects!$C$5:$C$2426<>'MDOT FTA Detail'!$C$4)*(Projects!$L$5:$L$2426='Local Detail'!$A27)*(Projects!$J$5:$J$2426<>'Local Detail'!$A$147)*(Projects!$M$5:$M$2426)))+(SUMPRODUCT((Projects!$A$5:$A$2426='Local Detail'!$D$3)*(Projects!$C$5:$C$2426<>'MDOT FTA Detail'!$C$4)*(Projects!$L$5:$L$2426='Local Detail'!$A27)*(Projects!$J$5:$J$2426<>'Local Detail'!$A$147)*(Projects!$O$5:$O$2426))))","v":0},0,{"$f":"SUMPRODUCT((Projects!$A$5:$A$2426='Local Detail'!$G$3)*(Projects!$C$5:$C$2426<>'MDOT FTA Detail'!$C$4)*(Projects!$L$5:$L$2426='Local Detail'!$A27)*(Projects!$K$5:$K$2426))","v":0},{"$f":"((SUMPRODUCT((Projects!$A$5:$A$2426='Local Detail'!$G$3)*(Projects!$C$5:$C$2426<>'MDOT FTA Detail'!$C$4)*(Projects!$L$5:$L$2426='Local Detail'!$A27)*(Projects!$J$5:$J$2426<>'Local Detail'!$A$147)*(Projects!$M$5:$M$2426)))+(SUMPRODUCT((Projects!$A$5:$A$2426='Local Detail'!$G$3)*(Projects!$C$5:$C$2426<>'MDOT FTA Detail'!$C$4)*(Projects!$L$5:$L$2426='Local Detail'!$A27)*(Projects!$J$5:$J$2426<>'Local Detail'!$A$147)*(Projects!$O$5:$O$2426))))","v":0},0,{"$f":"SUMPRODUCT((Projects!$A$5:$A$2426='Local Detail'!$J$3)*(Projects!$C$5:$C$2426<>'MDOT FTA Detail'!$C$4)*(Projects!$L$5:$L$2426='Local Detail'!$A27)*(Projects!$K$5:$K$2426))","v":0},{"$f":"((SUMPRODUCT((Projects!$A$5:$A$2426='Local Detail'!$J$3)*(Projects!$C$5:$C$2426<>'MDOT FTA Detail'!$C$4)*(Projects!$L$5:$L$2426='Local Detail'!$A27)*(Projects!$J$5:$J$2426<>'Local Detail'!$A$147)*(Projects!$M$5:$M$2426)))+(SUMPRODUCT((Projects!$A$5:$A$2426='Local Detail'!$J$3)*(Projects!$C$5:$C$2426<>'MDOT FTA Detail'!$C$4)*(Projects!$L$5:$L$2426='Local Detail'!$A27)*(Projects!$J$5:$J$2426<>'Local Detail'!$A$147)*(Projects!$O$5:$O$2426))))","v":0},0,{"$f":"SUMPRODUCT((Projects!$A$5:$A$2426='Local Detail'!$M$3)*(Projects!$C$5:$C$2426<>'MDOT FTA Detail'!$C$4)*(Projects!$L$5:$L$2426='Local Detail'!$A27)*(Projects!$K$5:$K$2426))","v":0},{"$f":"((SUMPRODUCT((Projects!$A$5:$A$2426='Local Detail'!$M$3)*(Projects!$C$5:$C$2426<>'MDOT FTA Detail'!$C$4)*(Projects!$L$5:$L$2426='Local Detail'!$A27)*(Projects!$J$5:$J$2426<>'Local Detail'!$A$147)*(Projects!$M$5:$M$2426)))+(SUMPRODUCT((Projects!$A$5:$A$2426='Local Detail'!$M$3)*(Projects!$C$5:$C$2426<>'MDOT FTA Detail'!$C$4)*(Projects!$L$5:$L$2426='Local Detail'!$A27)*(Projects!$J$5:$J$2426<>'Local Detail'!$A$147)*(Projects!$O$5:$O$2426))))","v":0},0]
["DPO","ISTEA Demonstration 80% Federal Not Classified","Local Other FHWA",{"$f":"SUMPRODUCT((Projects!$A$5:$A$2426='Local Detail'!$D$3)*(Projects!$C$5:$C$2426<>'MDOT FTA Detail'!$C$4)*(Projects!$L$5:$L$2426='Local Detail'!$A28)*(Projects!$K$5:$K$2426))","v":0},{"$f":"((SUMPRODUCT((Projects!$A$5:$A$2426='Local Detail'!$D$3)*(Projects!$C$5:$C$2426<>'MDOT FTA Detail'!$C$4)*(Projects!$L$5:$L$2426='Local Detail'!$A28)*(Projects!$J$5:$J$2426<>'Local Detail'!$A$147)*(Projects!$M$5:$M$2426)))+(SUMPRODUCT((Projects!$A$5:$A$2426='Local Detail'!$D$3)*(Projects!$C$5:$C$2426<>'MDOT FTA Detail'!$C$4)*(Projects!$L$5:$L$2426='Local Detail'!$A28)*(Projects!$J$5:$J$2426<>'Local Detail'!$A$147)*(Projects!$O$5:$O$2426))))","v":0},0,{"$f":"SUMPRODUCT((Projects!$A$5:$A$2426='Local Detail'!$G$3)*(Projects!$C$5:$C$2426<>'MDOT FTA Detail'!$C$4)*(Projects!$L$5:$L$2426='Local Detail'!$A28)*(Projects!$K$5:$K$2426))","v":0},{"$f":"((SUMPRODUCT((Projects!$A$5:$A$2426='Local Detail'!$G$3)*(Projects!$C$5:$C$2426<>'MDOT FTA Detail'!$C$4)*(Projects!$L$5:$L$2426='Local Detail'!$A28)*(Projects!$J$5:$J$2426<>'Local Detail'!$A$147)*(Projects!$M$5:$M$2426)))+(SUMPRODUCT((Projects!$A$5:$A$2426='Local Detail'!$G$3)*(Projects!$C$5:$C$2426<>'MDOT FTA Detail'!$C$4)*(Projects!$L$5:$L$2426='Local Detail'!$A28)*(Projects!$J$5:$J$2426<>'Local Detail'!$A$147)*(Projects!$O$5:$O$2426))))","v":0},0,{"$f":"SUMPRODUCT((Projects!$A$5:$A$2426='Local Detail'!$J$3)*(Projects!$C$5:$C$2426<>'MDOT FTA Detail'!$C$4)*(Projects!$L$5:$L$2426='Local Detail'!$A28)*(Projects!$K$5:$K$2426))","v":0},{"$f":"((SUMPRODUCT((Projects!$A$5:$A$2426='Local Detail'!$J$3)*(Projects!$C$5:$C$2426<>'MDOT FTA Detail'!$C$4)*(Projects!$L$5:$L$2426='Local Detail'!$A28)*(Projects!$J$5:$J$2426<>'Local Detail'!$A$147)*(Projects!$M$5:$M$2426)))+(SUMPRODUCT((Projects!$A$5:$A$2426='Local Detail'!$J$3)*(Projects!$C$5:$C$2426<>'MDOT FTA Detail'!$C$4)*(Projects!$L$5:$L$2426='Local Detail'!$A28)*(Projects!$J$5:$J$2426<>'Local Detail'!$A$147)*(Projects!$O$5:$O$2426))))","v":0},0,{"$f":"SUMPRODUCT((Projects!$A$5:$A$2426='Local Detail'!$M$3)*(Projects!$C$5:$C$2426<>'MDOT FTA Detail'!$C$4)*(Projects!$L$5:$L$2426='Local Detail'!$A28)*(Projects!$K$5:$K$2426))","v":0},{"$f":"((SUMPRODUCT((Projects!$A$5:$A$2426='Local Detail'!$M$3)*(Projects!$C$5:$C$2426<>'MDOT FTA Detail'!$C$4)*(Projects!$L$5:$L$2426='Local Detail'!$A28)*(Projects!$J$5:$J$2426<>'Local Detail'!$A$147)*(Projects!$M$5:$M$2426)))+(SUMPRODUCT((Projects!$A$5:$A$2426='Local Detail'!$M$3)*(Projects!$C$5:$C$2426<>'MDOT FTA Detail'!$C$4)*(Projects!$L$5:$L$2426='Local Detail'!$A28)*(Projects!$J$5:$J$2426<>'Local Detail'!$A$147)*(Projects!$O$5:$O$2426))))","v":0},0]
["DPS","ISTEA Demonstration 80% Federal on STP","Local Other FHWA",{"$f":"SUMPRODUCT((Projects!$A$5:$A$2426='Local Detail'!$D$3)*(Projects!$C$5:$C$2426<>'MDOT FTA Detail'!$C$4)*(Projects!$L$5:$L$2426='Local Detail'!$A29)*(Projects!$K$5:$K$2426))","v":0},{"$f":"((SUMPRODUCT((Projects!$A$5:$A$2426='Local Detail'!$D$3)*(Projects!$C$5:$C$2426<>'MDOT FTA Detail'!$C$4)*(Projects!$L$5:$L$2426='Local Detail'!$A29)*(Projects!$J$5:$J$2426<>'Local Detail'!$A$147)*(Projects!$M$5:$M$2426)))+(SUMPRODUCT((Projects!$A$5:$A$2426='Local Detail'!$D$3)*(Projects!$C$5:$C$2426<>'MDOT FTA Detail'!$C$4)*(Projects!$L$5:$L$2426='Local Detail'!$A29)*(Projects!$J$5:$J$2426<>'Local Detail'!$A$147)*(Projects!$O$5:$O$2426))))","v":0},0,{"$f":"SUMPRODUCT((Projects!$A$5:$A$2426='Local Detail'!$G$3)*(Projects!$C$5:$C$2426<>'MDOT FTA Detail'!$C$4)*(Projects!$L$5:$L$2426='Local Detail'!$A29)*(Projects!$K$5:$K$2426))","v":0},{"$f":"((SUMPRODUCT((Projects!$A$5:$A$2426='Local Detail'!$G$3)*(Projects!$C$5:$C$2426<>'MDOT FTA Detail'!$C$4)*(Projects!$L$5:$L$2426='Local Detail'!$A29)*(Projects!$J$5:$J$2426<>'Local Detail'!$A$147)*(Projects!$M$5:$M$2426)))+(SUMPRODUCT((Projects!$A$5:$A$2426='Local Detail'!$G$3)*(Projects!$C$5:$C$2426<>'MDOT FTA Detail'!$C$4)*(Projects!$L$5:$L$2426='Local Detail'!$A29)*(Projects!$J$5:$J$2426<>'Local Detail'!$A$147)*(Projects!$O$5:$O$2426))))","v":0},0,{"$f":"SUMPRODUCT((Projects!$A$5:$A$2426='Local Detail'!$J$3)*(Projects!$C$5:$C$2426<>'MDOT FTA Detail'!$C$4)*(Projects!$L$5:$L$2426='Local Detail'!$A29)*(Projects!$K$5:$K$2426))","v":0},{"$f":"((SUMPRODUCT((Projects!$A$5:$A$2426='Local Detail'!$J$3)*(Projects!$C$5:$C$2426<>'MDOT FTA Detail'!$C$4)*(Projects!$L$5:$L$2426='Local Detail'!$A29)*(Projects!$J$5:$J$2426<>'Local Detail'!$A$147)*(Projects!$M$5:$M$2426)))+(SUMPRODUCT((Projects!$A$5:$A$2426='Local Detail'!$J$3)*(Projects!$C$5:$C$2426<>'MDOT FTA Detail'!$C$4)*(Projects!$L$5:$L$2426='Local Detail'!$A29)*(Projects!$J$5:$J$2426<>'Local Detail'!$A$147)*(Projects!$O$5:$O$2426))))","v":0},0,{"$f":"SUMPRODUCT((Projects!$A$5:$A$2426='Local Detail'!$M$3)*(Projects!$C$5:$C$2426<>'MDOT FTA Detail'!$C$4)*(Projects!$L$5:$L$2426='Local Detail'!$A29)*(Projects!$K$5:$K$2426))","v":0},{"$f":"((SUMPRODUCT((Projects!$A$5:$A$2426='Local Detail'!$M$3)*(Projects!$C$5:$C$2426<>'MDOT FTA Detail'!$C$4)*(Projects!$L$5:$L$2426='Local Detail'!$A29)*(Projects!$J$5:$J$2426<>'Local Detail'!$A$147)*(Projects!$M$5:$M$2426)))+(SUMPRODUCT((Projects!$A$5:$A$2426='Local Detail'!$M$3)*(Projects!$C$5:$C$2426<>'MDOT FTA Detail'!$C$4)*(Projects!$L$5:$L$2426='Local Detail'!$A29)*(Projects!$J$5:$J$2426<>'Local Detail'!$A$147)*(Projects!$O$5:$O$2426))))","v":0},0]
["DPSA","Demonstration Project Section 112 Division A","Local Other FHWA",{"$f":"SUMPRODUCT((Projects!$A$5:$A$2426='Local Detail'!$D$3)*(Projects!$C$5:$C$2426<>'MDOT FTA Detail'!$C$4)*(Projects!$L$5:$L$2426='Local Detail'!$A30)*(Projects!$K$5:$K$2426))","v":0},{"$f":"((SUMPRODUCT((Projects!$A$5:$A$2426='Local Detail'!$D$3)*(Projects!$C$5:$C$2426<>'MDOT FTA Detail'!$C$4)*(Projects!$L$5:$L$2426='Local Detail'!$A30)*(Projects!$J$5:$J$2426<>'Local Detail'!$A$147)*(Projects!$M$5:$M$2426)))+(SUMPRODUCT((Projects!$A$5:$A$2426='Local Detail'!$D$3)*(Projects!$C$5:$C$2426<>'MDOT FTA Detail'!$C$4)*(Projects!$L$5:$L$2426='Local Detail'!$A30)*(Projects!$J$5:$J$2426<>'Local Detail'!$A$147)*(Projects!$O$5:$O$2426))))","v":0},0,{"$f":"SUMPRODUCT((Projects!$A$5:$A$2426='Local Detail'!$G$3)*(Projects!$C$5:$C$2426<>'MDOT FTA Detail'!$C$4)*(Projects!$L$5:$L$2426='Local Detail'!$A30)*(Projects!$K$5:$K$2426))","v":0},{"$f":"((SUMPRODUCT((Projects!$A$5:$A$2426='Local Detail'!$G$3)*(Projects!$C$5:$C$2426<>'MDOT FTA Detail'!$C$4)*(Projects!$L$5:$L$2426='Local Detail'!$A30)*(Projects!$J$5:$J$2426<>'Local Detail'!$A$147)*(Projects!$M$5:$M$2426)))+(SUMPRODUCT((Projects!$A$5:$A$2426='Local Detail'!$G$3)*(Projects!$C$5:$C$2426<>'MDOT FTA Detail'!$C$4)*(Projects!$L$5:$L$2426='Local Detail'!$A30)*(Projects!$J$5:$J$2426<>'Local Detail'!$A$147)*(Projects!$O$5:$O$2426))))","v":0},0,{"$f":"SUMPRODUCT((Projects!$A$5:$A$2426='Local Detail'!$J$3)*(Projects!$C$5:$C$2426<>'MDOT FTA Detail'!$C$4)*(Projects!$L$5:$L$2426='Local Detail'!$A30)*(Projects!$K$5:$K$2426))","v":0},{"$f":"((SUMPRODUCT((Projects!$A$5:$A$2426='Local Detail'!$J$3)*(Projects!$C$5:$C$2426<>'MDOT FTA Detail'!$C$4)*(Projects!$L$5:$L$2426='Local Detail'!$A30)*(Projects!$J$5:$J$2426<>'Local Detail'!$A$147)*(Projects!$M$5:$M$2426)))+(SUMPRODUCT((Projects!$A$5:$A$2426='Local Detail'!$J$3)*(Projects!$C$5:$C$2426<>'MDOT FTA Detail'!$C$4)*(Projects!$L$5:$L$2426='Local Detail'!$A30)*(Projects!$J$5:$J$2426<>'Local Detail'!$A$147)*(Projects!$O$5:$O$2426))))","v":0},0,{"$f":"SUMPRODUCT((Projects!$A$5:$A$2426='Local Detail'!$M$3)*(Projects!$C$5:$C$2426<>'MDOT FTA Detail'!$C$4)*(Projects!$L$5:$L$2426='Local Detail'!$A30)*(Projects!$K$5:$K$2426))","v":0},{"$f":"((SUMPRODUCT((Projects!$A$5:$A$2426='Local Detail'!$M$3)*(Projects!$C$5:$C$2426<>'MDOT FTA Detail'!$C$4)*(Projects!$L$5:$L$2426='Local Detail'!$A30)*(Projects!$J$5:$J$2426<>'Local Detail'!$A$147)*(Projects!$M$5:$M$2426)))+(SUMPRODUCT((Projects!$A$5:$A$2426='Local Detail'!$M$3)*(Projects!$C$5:$C$2426<>'MDOT FTA Detail'!$C$4)*(Projects!$L$5:$L$2426='Local Detail'!$A30)*(Projects!$J$5:$J$2426<>'Local Detail'!$A$147)*(Projects!$O$5:$O$2426))))","v":0},0]
["DST","Donor Bonus Surface Transportation","Local EB",{"$f":"SUMPRODUCT((Projects!$A$5:$A$2426='Local Detail'!$D$3)*(Projects!$C$5:$C$2426<>'MDOT FTA Detail'!$C$4)*(Projects!$L$5:$L$2426='Local Detail'!$A31)*(Projects!$K$5:$K$2426))","v":0},{"$f":"((SUMPRODUCT((Projects!$A$5:$A$2426='Local Detail'!$D$3)*(Projects!$C$5:$C$2426<>'MDOT FTA Detail'!$C$4)*(Projects!$L$5:$L$2426='Local Detail'!$A31)*(Projects!$J$5:$J$2426<>'Local Detail'!$A$147)*(Projects!$M$5:$M$2426)))+(SUMPRODUCT((Projects!$A$5:$A$2426='Local Detail'!$D$3)*(Projects!$C$5:$C$2426<>'MDOT FTA Detail'!$C$4)*(Projects!$L$5:$L$2426='Local Detail'!$A31)*(Projects!$J$5:$J$2426<>'Local Detail'!$A$147)*(Projects!$O$5:$O$2426))))","v":0},0,{"$f":"SUMPRODUCT((Projects!$A$5:$A$2426='Local Detail'!$G$3)*(Projects!$C$5:$C$2426<>'MDOT FTA Detail'!$C$4)*(Projects!$L$5:$L$2426='Local Detail'!$A31)*(Projects!$K$5:$K$2426))","v":0},{"$f":"((SUMPRODUCT((Projects!$A$5:$A$2426='Local Detail'!$G$3)*(Projects!$C$5:$C$2426<>'MDOT FTA Detail'!$C$4)*(Projects!$L$5:$L$2426='Local Detail'!$A31)*(Projects!$J$5:$J$2426<>'Local Detail'!$A$147)*(Projects!$M$5:$M$2426)))+(SUMPRODUCT((Projects!$A$5:$A$2426='Local Detail'!$G$3)*(Projects!$C$5:$C$2426<>'MDOT FTA Detail'!$C$4)*(Projects!$L$5:$L$2426='Local Detail'!$A31)*(Projects!$J$5:$J$2426<>'Local Detail'!$A$147)*(Projects!$O$5:$O$2426))))","v":0},0,{"$f":"SUMPRODUCT((Projects!$A$5:$A$2426='Local Detail'!$J$3)*(Projects!$C$5:$C$2426<>'MDOT FTA Detail'!$C$4)*(Projects!$L$5:$L$2426='Local Detail'!$A31)*(Projects!$K$5:$K$2426))","v":0},{"$f":"((SUMPRODUCT((Projects!$A$5:$A$2426='Local Detail'!$J$3)*(Projects!$C$5:$C$2426<>'MDOT FTA Detail'!$C$4)*(Projects!$L$5:$L$2426='Local Detail'!$A31)*(Projects!$J$5:$J$2426<>'Local Detail'!$A$147)*(Projects!$M$5:$M$2426)))+(SUMPRODUCT((Projects!$A$5:$A$2426='Local Detail'!$J$3)*(Projects!$C$5:$C$2426<>'MDOT FTA Detail'!$C$4)*(Projects!$L$5:$L$2426='Local Detail'!$A31)*(Projects!$J$5:$J$2426<>'Local Detail'!$A$147)*(Projects!$O$5:$O$2426))))","v":0},0,{"$f":"SUMPRODUCT((Projects!$A$5:$A$2426='Local Detail'!$M$3)*(Projects!$C$5:$C$2426<>'MDOT FTA Detail'!$C$4)*(Projects!$L$5:$L$2426='Local Detail'!$A31)*(Projects!$K$5:$K$2426))","v":0},{"$f":"((SUMPRODUCT((Projects!$A$5:$A$2426='Local Detail'!$M$3)*(Projects!$C$5:$C$2426<>'MDOT FTA Detail'!$C$4)*(Projects!$L$5:$L$2426='Local Detail'!$A31)*(Projects!$J$5:$J$2426<>'Local Detail'!$A$147)*(Projects!$M$5:$M$2426)))+(SUMPRODUCT((Projects!$A$5:$A$2426='Local Detail'!$M$3)*(Projects!$C$5:$C$2426<>'MDOT FTA Detail'!$C$4)*(Projects!$L$5:$L$2426='Local Detail'!$A31)*(Projects!$J$5:$J$2426<>'Local Detail'!$A$147)*(Projects!$O$5:$O$2426))))","v":0},0]
["DSTU","Donor Bonus Surface Transportation - (Urban > 2499,000)","Local EB",{"$f":"SUMPRODUCT((Projects!$A$5:$A$2426='Local Detail'!$D$3)*(Projects!$C$5:$C$2426<>'MDOT FTA Detail'!$C$4)*(Projects!$L$5:$L$2426='Local Detail'!$A32)*(Projects!$K$5:$K$2426))","v":0},{"$f":"((SUMPRODUCT((Projects!$A$5:$A$2426='Local Detail'!$D$3)*(Projects!$C$5:$C$2426<>'MDOT FTA Detail'!$C$4)*(Projects!$L$5:$L$2426='Local Detail'!$A32)*(Projects!$J$5:$J$2426<>'Local Detail'!$A$147)*(Projects!$M$5:$M$2426)))+(SUMPRODUCT((Projects!$A$5:$A$2426='Local Detail'!$D$3)*(Projects!$C$5:$C$2426<>'MDOT FTA Detail'!$C$4)*(Projects!$L$5:$L$2426='Local Detail'!$A32)*(Projects!$J$5:$J$2426<>'Local Detail'!$A$147)*(Projects!$O$5:$O$2426))))","v":0},0,{"$f":"SUMPRODUCT((Projects!$A$5:$A$2426='Local Detail'!$G$3)*(Projects!$C$5:$C$2426<>'MDOT FTA Detail'!$C$4)*(Projects!$L$5:$L$2426='Local Detail'!$A32)*(Projects!$K$5:$K$2426))","v":0},{"$f":"((SUMPRODUCT((Projects!$A$5:$A$2426='Local Detail'!$G$3)*(Projects!$C$5:$C$2426<>'MDOT FTA Detail'!$C$4)*(Projects!$L$5:$L$2426='Local Detail'!$A32)*(Projects!$J$5:$J$2426<>'Local Detail'!$A$147)*(Projects!$M$5:$M$2426)))+(SUMPRODUCT((Projects!$A$5:$A$2426='Local Detail'!$G$3)*(Projects!$C$5:$C$2426<>'MDOT FTA Detail'!$C$4)*(Projects!$L$5:$L$2426='Local Detail'!$A32)*(Projects!$J$5:$J$2426<>'Local Detail'!$A$147)*(Projects!$O$5:$O$2426))))","v":0},0,{"$f":"SUMPRODUCT((Projects!$A$5:$A$2426='Local Detail'!$J$3)*(Projects!$C$5:$C$2426<>'MDOT FTA Detail'!$C$4)*(Projects!$L$5:$L$2426='Local Detail'!$A32)*(Projects!$K$5:$K$2426))","v":0},{"$f":"((SUMPRODUCT((Projects!$A$5:$A$2426='Local Detail'!$J$3)*(Projects!$C$5:$C$2426<>'MDOT FTA Detail'!$C$4)*(Projects!$L$5:$L$2426='Local Detail'!$A32)*(Projects!$J$5:$J$2426<>'Local Detail'!$A$147)*(Projects!$M$5:$M$2426)))+(SUMPRODUCT((Projects!$A$5:$A$2426='Local Detail'!$J$3)*(Projects!$C$5:$C$2426<>'MDOT FTA Detail'!$C$4)*(Projects!$L$5:$L$2426='Local Detail'!$A32)*(Projects!$J$5:$J$2426<>'Local Detail'!$A$147)*(Projects!$O$5:$O$2426))))","v":0},0,{"$f":"SUMPRODUCT((Projects!$A$5:$A$2426='Local Detail'!$M$3)*(Projects!$C$5:$C$2426<>'MDOT FTA Detail'!$C$4)*(Projects!$L$5:$L$2426='Local Detail'!$A32)*(Projects!$K$5:$K$2426))","v":0},{"$f":"((SUMPRODUCT((Projects!$A$5:$A$2426='Local Detail'!$M$3)*(Projects!$C$5:$C$2426<>'MDOT FTA Detail'!$C$4)*(Projects!$L$5:$L$2426='Local Detail'!$A32)*(Projects!$J$5:$J$2426<>'Local Detail'!$A$147)*(Projects!$M$5:$M$2426)))+(SUMPRODUCT((Projects!$A$5:$A$2426='Local Detail'!$M$3)*(Projects!$C$5:$C$2426<>'MDOT FTA Detail'!$C$4)*(Projects!$L$5:$L$2426='Local Detail'!$A32)*(Projects!$J$5:$J$2426<>'Local Detail'!$A$147)*(Projects!$O$5:$O$2426))))","v":0},0]
["DSTT","Donor Bonus Surface Transportation - Rural - Trunkline","Local EB",{"$f":"SUMPRODUCT((Projects!$A$5:$A$2426='Local Detail'!$D$3)*(Projects!$C$5:$C$2426<>'MDOT FTA Detail'!$C$4)*(Projects!$L$5:$L$2426='Local Detail'!$A33)*(Projects!$K$5:$K$2426))","v":0},{"$f":"((SUMPRODUCT((Projects!$A$5:$A$2426='Local Detail'!$D$3)*(Projects!$C$5:$C$2426<>'MDOT FTA Detail'!$C$4)*(Projects!$L$5:$L$2426='Local Detail'!$A33)*(Projects!$J$5:$J$2426<>'Local Detail'!$A$147)*(Projects!$M$5:$M$2426)))+(SUMPRODUCT((Projects!$A$5:$A$2426='Local Detail'!$D$3)*(Projects!$C$5:$C$2426<>'MDOT FTA Detail'!$C$4)*(Projects!$L$5:$L$2426='Local Detail'!$A33)*(Projects!$J$5:$J$2426<>'Local Detail'!$A$147)*(Projects!$O$5:$O$2426))))","v":0},0,{"$f":"SUMPRODUCT((Projects!$A$5:$A$2426='Local Detail'!$G$3)*(Projects!$C$5:$C$2426<>'MDOT FTA Detail'!$C$4)*(Projects!$L$5:$L$2426='Local Detail'!$A33)*(Projects!$K$5:$K$2426))","v":0},{"$f":"((SUMPRODUCT((Projects!$A$5:$A$2426='Local Detail'!$G$3)*(Projects!$C$5:$C$2426<>'MDOT FTA Detail'!$C$4)*(Projects!$L$5:$L$2426='Local Detail'!$A33)*(Projects!$J$5:$J$2426<>'Local Detail'!$A$147)*(Projects!$M$5:$M$2426)))+(SUMPRODUCT((Projects!$A$5:$A$2426='Local Detail'!$G$3)*(Projects!$C$5:$C$2426<>'MDOT FTA Detail'!$C$4)*(Projects!$L$5:$L$2426='Local Detail'!$A33)*(Projects!$J$5:$J$2426<>'Local Detail'!$A$147)*(Projects!$O$5:$O$2426))))","v":0},0,{"$f":"SUMPRODUCT((Projects!$A$5:$A$2426='Local Detail'!$J$3)*(Projects!$C$5:$C$2426<>'MDOT FTA Detail'!$C$4)*(Projects!$L$5:$L$2426='Local Detail'!$A33)*(Projects!$K$5:$K$2426))","v":0},{"$f":"((SUMPRODUCT((Projects!$A$5:$A$2426='Local Detail'!$J$3)*(Projects!$C$5:$C$2426<>'MDOT FTA Detail'!$C$4)*(Projects!$L$5:$L$2426='Local Detail'!$A33)*(Projects!$J$5:$J$2426<>'Local Detail'!$A$147)*(Projects!$M$5:$M$2426)))+(SUMPRODUCT((Projects!$A$5:$A$2426='Local Detail'!$J$3)*(Projects!$C$5:$C$2426<>'MDOT FTA Detail'!$C$4)*(Projects!$L$5:$L$2426='Local Detail'!$A33)*(Projects!$J$5:$J$2426<>'Local Detail'!$A$147)*(Projects!$O$5:$O$2426))))","v":0},0,{"$f":"SUMPRODUCT((Projects!$A$5:$A$2426='Local Detail'!$M$3)*(Projects!$C$5:$C$2426<>'MDOT FTA Detail'!$C$4)*(Projects!$L$5:$L$2426='Local Detail'!$A33)*(Projects!$K$5:$K$2426))","v":0},{"$f":"((SUMPRODUCT((Projects!$A$5:$A$2426='Local Detail'!$M$3)*(Projects!$C$5:$C$2426<>'MDOT FTA Detail'!$C$4)*(Projects!$L$5:$L$2426='Local Detail'!$A33)*(Projects!$J$5:$J$2426<>'Local Detail'!$A$147)*(Projects!$M$5:$M$2426)))+(SUMPRODUCT((Projects!$A$5:$A$2426='Local Detail'!$M$3)*(Projects!$C$5:$C$2426<>'MDOT FTA Detail'!$C$4)*(Projects!$L$5:$L$2426='Local Detail'!$A33)*(Projects!$J$5:$J$2426<>'Local Detail'!$A$147)*(Projects!$O$5:$O$2426))))","v":0},0]
["EBSL","Equity Bonus - SAFETEA-LU","Local EB",{"$f":"SUMPRODUCT((Projects!$A$5:$A$2426='Local Detail'!$D$3)*(Projects!$C$5:$C$2426<>'MDOT FTA Detail'!$C$4)*(Projects!$L$5:$L$2426='Local Detail'!$A34)*(Projects!$K$5:$K$2426))","v":0},{"$f":"((SUMPRODUCT((Projects!$A$5:$A$2426='Local Detail'!$D$3)*(Projects!$C$5:$C$2426<>'MDOT FTA Detail'!$C$4)*(Projects!$L$5:$L$2426='Local Detail'!$A34)*(Projects!$J$5:$J$2426<>'Local Detail'!$A$147)*(Projects!$M$5:$M$2426)))+(SUMPRODUCT((Projects!$A$5:$A$2426='Local Detail'!$D$3)*(Projects!$C$5:$C$2426<>'MDOT FTA Detail'!$C$4)*(Projects!$L$5:$L$2426='Local Detail'!$A34)*(Projects!$J$5:$J$2426<>'Local Detail'!$A$147)*(Projects!$O$5:$O$2426))))","v":0},0,{"$f":"SUMPRODUCT((Projects!$A$5:$A$2426='Local Detail'!$G$3)*(Projects!$C$5:$C$2426<>'MDOT FTA Detail'!$C$4)*(Projects!$L$5:$L$2426='Local Detail'!$A34)*(Projects!$K$5:$K$2426))","v":0},{"$f":"((SUMPRODUCT((Projects!$A$5:$A$2426='Local Detail'!$G$3)*(Projects!$C$5:$C$2426<>'MDOT FTA Detail'!$C$4)*(Projects!$L$5:$L$2426='Local Detail'!$A34)*(Projects!$J$5:$J$2426<>'Local Detail'!$A$147)*(Projects!$M$5:$M$2426)))+(SUMPRODUCT((Projects!$A$5:$A$2426='Local Detail'!$G$3)*(Projects!$C$5:$C$2426<>'MDOT FTA Detail'!$C$4)*(Projects!$L$5:$L$2426='Local Detail'!$A34)*(Projects!$J$5:$J$2426<>'Local Detail'!$A$147)*(Projects!$O$5:$O$2426))))","v":0},0,{"$f":"SUMPRODUCT((Projects!$A$5:$A$2426='Local Detail'!$J$3)*(Projects!$C$5:$C$2426<>'MDOT FTA Detail'!$C$4)*(Projects!$L$5:$L$2426='Local Detail'!$A34)*(Projects!$K$5:$K$2426))","v":0},{"$f":"((SUMPRODUCT((Projects!$A$5:$A$2426='Local Detail'!$J$3)*(Projects!$C$5:$C$2426<>'MDOT FTA Detail'!$C$4)*(Projects!$L$5:$L$2426='Local Detail'!$A34)*(Projects!$J$5:$J$2426<>'Local Detail'!$A$147)*(Projects!$M$5:$M$2426)))+(SUMPRODUCT((Projects!$A$5:$A$2426='Local Detail'!$J$3)*(Projects!$C$5:$C$2426<>'MDOT FTA Detail'!$C$4)*(Projects!$L$5:$L$2426='Local Detail'!$A34)*(Projects!$J$5:$J$2426<>'Local Detail'!$A$147)*(Projects!$O$5:$O$2426))))","v":0},0,{"$f":"SUMPRODUCT((Projects!$A$5:$A$2426='Local Detail'!$M$3)*(Projects!$C$5:$C$2426<>'MDOT FTA Detail'!$C$4)*(Projects!$L$5:$L$2426='Local Detail'!$A34)*(Projects!$K$5:$K$2426))","v":0},{"$f":"((SUMPRODUCT((Projects!$A$5:$A$2426='Local Detail'!$M$3)*(Projects!$C$5:$C$2426<>'MDOT FTA Detail'!$C$4)*(Projects!$L$5:$L$2426='Local Detail'!$A34)*(Projects!$J$5:$J$2426<>'Local Detail'!$A$147)*(Projects!$M$5:$M$2426)))+(SUMPRODUCT((Projects!$A$5:$A$2426='Local Detail'!$M$3)*(Projects!$C$5:$C$2426<>'MDOT FTA Detail'!$C$4)*(Projects!$L$5:$L$2426='Local Detail'!$A34)*(Projects!$J$5:$J$2426<>'Local Detail'!$A$147)*(Projects!$O$5:$O$2426))))","v":0},0]
["EDAF","Economic Development - Category A with Federal Aid","Local EB",{"$f":"SUMPRODUCT((Projects!$A$5:$A$2426='Local Detail'!$D$3)*(Projects!$C$5:$C$2426<>'MDOT FTA Detail'!$C$4)*(Projects!$L$5:$L$2426='Local Detail'!$A35)*(Projects!$K$5:$K$2426))","v":0},{"$f":"((SUMPRODUCT((Projects!$A$5:$A$2426='Local Detail'!$D$3)*(Projects!$C$5:$C$2426<>'MDOT FTA Detail'!$C$4)*(Projects!$L$5:$L$2426='Local Detail'!$A35)*(Projects!$J$5:$J$2426<>'Local Detail'!$A$147)*(Projects!$M$5:$M$2426)))+(SUMPRODUCT((Projects!$A$5:$A$2426='Local Detail'!$D$3)*(Projects!$C$5:$C$2426<>'MDOT FTA Detail'!$C$4)*(Projects!$L$5:$L$2426='Local Detail'!$A35)*(Projects!$J$5:$J$2426<>'Local Detail'!$A$147)*(Projects!$O$5:$O$2426))))","v":0},0,{"$f":"SUMPRODUCT((Projects!$A$5:$A$2426='Local Detail'!$G$3)*(Projects!$C$5:$C$2426<>'MDOT FTA Detail'!$C$4)*(Projects!$L$5:$L$2426='Local Detail'!$A35)*(Projects!$K$5:$K$2426))","v":0},{"$f":"((SUMPRODUCT((Projects!$A$5:$A$2426='Local Detail'!$G$3)*(Projects!$C$5:$C$2426<>'MDOT FTA Detail'!$C$4)*(Projects!$L$5:$L$2426='Local Detail'!$A35)*(Projects!$J$5:$J$2426<>'Local Detail'!$A$147)*(Projects!$M$5:$M$2426)))+(SUMPRODUCT((Projects!$A$5:$A$2426='Local Detail'!$G$3)*(Projects!$C$5:$C$2426<>'MDOT FTA Detail'!$C$4)*(Projects!$L$5:$L$2426='Local Detail'!$A35)*(Projects!$J$5:$J$2426<>'Local Detail'!$A$147)*(Projects!$O$5:$O$2426))))","v":0},0,{"$f":"SUMPRODUCT((Projects!$A$5:$A$2426='Local Detail'!$J$3)*(Projects!$C$5:$C$2426<>'MDOT FTA Detail'!$C$4)*(Projects!$L$5:$L$2426='Local Detail'!$A35)*(Projects!$K$5:$K$2426))","v":0},{"$f":"((SUMPRODUCT((Projects!$A$5:$A$2426='Local Detail'!$J$3)*(Projects!$C$5:$C$2426<>'MDOT FTA Detail'!$C$4)*(Projects!$L$5:$L$2426='Local Detail'!$A35)*(Projects!$J$5:$J$2426<>'Local Detail'!$A$147)*(Projects!$M$5:$M$2426)))+(SUMPRODUCT((Projects!$A$5:$A$2426='Local Detail'!$J$3)*(Projects!$C$5:$C$2426<>'MDOT FTA Detail'!$C$4)*(Projects!$L$5:$L$2426='Local Detail'!$A35)*(Projects!$J$5:$J$2426<>'Local Detail'!$A$147)*(Projects!$O$5:$O$2426))))","v":0},0,{"$f":"SUMPRODUCT((Projects!$A$5:$A$2426='Local Detail'!$M$3)*(Projects!$C$5:$C$2426<>'MDOT FTA Detail'!$C$4)*(Projects!$L$5:$L$2426='Local Detail'!$A35)*(Projects!$K$5:$K$2426))","v":0},{"$f":"((SUMPRODUCT((Projects!$A$5:$A$2426='Local Detail'!$M$3)*(Projects!$C$5:$C$2426<>'MDOT FTA Detail'!$C$4)*(Projects!$L$5:$L$2426='Local Detail'!$A35)*(Projects!$J$5:$J$2426<>'Local Detail'!$A$147)*(Projects!$M$5:$M$2426)))+(SUMPRODUCT((Projects!$A$5:$A$2426='Local Detail'!$M$3)*(Projects!$C$5:$C$2426<>'MDOT FTA Detail'!$C$4)*(Projects!$L$5:$L$2426='Local Detail'!$A35)*(Projects!$J$5:$J$2426<>'Local Detail'!$A$147)*(Projects!$O$5:$O$2426))))","v":0},0]
["EDCF","Economic Development - Category C with Federal Aid","Local EB",{"$f":"SUMPRODUCT((Projects!$A$5:$A$2426='Local Detail'!$D$3)*(Projects!$C$5:$C$2426<>'MDOT FTA Detail'!$C$4)*(Projects!$L$5:$L$2426='Local Detail'!$A36)*(Projects!$K$5:$K$2426))","v":0},{"$f":"((SUMPRODUCT((Projects!$A$5:$A$2426='Local Detail'!$D$3)*(Projects!$C$5:$C$2426<>'MDOT FTA Detail'!$C$4)*(Projects!$L$5:$L$2426='Local Detail'!$A36)*(Projects!$J$5:$J$2426<>'Local Detail'!$A$147)*(Projects!$M$5:$M$2426)))+(SUMPRODUCT((Projects!$A$5:$A$2426='Local Detail'!$D$3)*(Projects!$C$5:$C$2426<>'MDOT FTA Detail'!$C$4)*(Projects!$L$5:$L$2426='Local Detail'!$A36)*(Projects!$J$5:$J$2426<>'Local Detail'!$A$147)*(Projects!$O$5:$O$2426))))","v":0},0,{"$f":"SUMPRODUCT((Projects!$A$5:$A$2426='Local Detail'!$G$3)*(Projects!$C$5:$C$2426<>'MDOT FTA Detail'!$C$4)*(Projects!$L$5:$L$2426='Local Detail'!$A36)*(Projects!$K$5:$K$2426))","v":0},{"$f":"((SUMPRODUCT((Projects!$A$5:$A$2426='Local Detail'!$G$3)*(Projects!$C$5:$C$2426<>'MDOT FTA Detail'!$C$4)*(Projects!$L$5:$L$2426='Local Detail'!$A36)*(Projects!$J$5:$J$2426<>'Local Detail'!$A$147)*(Projects!$M$5:$M$2426)))+(SUMPRODUCT((Projects!$A$5:$A$2426='Local Detail'!$G$3)*(Projects!$C$5:$C$2426<>'MDOT FTA Detail'!$C$4)*(Projects!$L$5:$L$2426='Local Detail'!$A36)*(Projects!$J$5:$J$2426<>'Local Detail'!$A$147)*(Projects!$O$5:$O$2426))))","v":0},0,{"$f":"SUMPRODUCT((Projects!$A$5:$A$2426='Local Detail'!$J$3)*(Projects!$C$5:$C$2426<>'MDOT FTA Detail'!$C$4)*(Projects!$L$5:$L$2426='Local Detail'!$A36)*(Projects!$K$5:$K$2426))","v":0},{"$f":"((SUMPRODUCT((Projects!$A$5:$A$2426='Local Detail'!$J$3)*(Projects!$C$5:$C$2426<>'MDOT FTA Detail'!$C$4)*(Projects!$L$5:$L$2426='Local Detail'!$A36)*(Projects!$J$5:$J$2426<>'Local Detail'!$A$147)*(Projects!$M$5:$M$2426)))+(SUMPRODUCT((Projects!$A$5:$A$2426='Local Detail'!$J$3)*(Projects!$C$5:$C$2426<>'MDOT FTA Detail'!$C$4)*(Projects!$L$5:$L$2426='Local Detail'!$A36)*(Projects!$J$5:$J$2426<>'Local Detail'!$A$147)*(Projects!$O$5:$O$2426))))","v":0},0,{"$f":"SUMPRODUCT((Projects!$A$5:$A$2426='Local Detail'!$M$3)*(Projects!$C$5:$C$2426<>'MDOT FTA Detail'!$C$4)*(Projects!$L$5:$L$2426='Local Detail'!$A36)*(Projects!$K$5:$K$2426))","v":0},{"$f":"((SUMPRODUCT((Projects!$A$5:$A$2426='Local Detail'!$M$3)*(Projects!$C$5:$C$2426<>'MDOT FTA Detail'!$C$4)*(Projects!$L$5:$L$2426='Local Detail'!$A36)*(Projects!$J$5:$J$2426<>'Local Detail'!$A$147)*(Projects!$M$5:$M$2426)))+(SUMPRODUCT((Projects!$A$5:$A$2426='Local Detail'!$M$3)*(Projects!$C$5:$C$2426<>'MDOT FTA Detail'!$C$4)*(Projects!$L$5:$L$2426='Local Detail'!$A36)*(Projects!$J$5:$J$2426<>'Local Detail'!$A$147)*(Projects!$O$5:$O$2426))))","v":0},0]
["EDDF","Economic Development - Category D with Federal Aid","Local EB",{"$f":"SUMPRODUCT((Projects!$A$5:$A$2426='Local Detail'!$D$3)*(Projects!$C$5:$C$2426<>'MDOT FTA Detail'!$C$4)*(Projects!$L$5:$L$2426='Local Detail'!$A37)*(Projects!$K$5:$K$2426))","v":0},{"$f":"((SUMPRODUCT((Projects!$A$5:$A$2426='Local Detail'!$D$3)*(Projects!$C$5:$C$2426<>'MDOT FTA Detail'!$C$4)*(Projects!$L$5:$L$2426='Local Detail'!$A37)*(Projects!$J$5:$J$2426<>'Local Detail'!$A$147)*(Projects!$M$5:$M$2426)))+(SUMPRODUCT((Projects!$A$5:$A$2426='Local Detail'!$D$3)*(Projects!$C$5:$C$2426<>'MDOT FTA Detail'!$C$4)*(Projects!$L$5:$L$2426='Local Detail'!$A37)*(Projects!$J$5:$J$2426<>'Local Detail'!$A$147)*(Projects!$O$5:$O$2426))))","v":0},0,{"$f":"SUMPRODUCT((Projects!$A$5:$A$2426='Local Detail'!$G$3)*(Projects!$C$5:$C$2426<>'MDOT FTA Detail'!$C$4)*(Projects!$L$5:$L$2426='Local Detail'!$A37)*(Projects!$K$5:$K$2426))","v":0},{"$f":"((SUMPRODUCT((Projects!$A$5:$A$2426='Local Detail'!$G$3)*(Projects!$C$5:$C$2426<>'MDOT FTA Detail'!$C$4)*(Projects!$L$5:$L$2426='Local Detail'!$A37)*(Projects!$J$5:$J$2426<>'Local Detail'!$A$147)*(Projects!$M$5:$M$2426)))+(SUMPRODUCT((Projects!$A$5:$A$2426='Local Detail'!$G$3)*(Projects!$C$5:$C$2426<>'MDOT FTA Detail'!$C$4)*(Projects!$L$5:$L$2426='Local Detail'!$A37)*(Projects!$J$5:$J$2426<>'Local Detail'!$A$147)*(Projects!$O$5:$O$2426))))","v":0},0,{"$f":"SUMPRODUCT((Projects!$A$5:$A$2426='Local Detail'!$J$3)*(Projects!$C$5:$C$2426<>'MDOT FTA Detail'!$C$4)*(Projects!$L$5:$L$2426='Local Detail'!$A37)*(Projects!$K$5:$K$2426))","v":0},{"$f":"((SUMPRODUCT((Projects!$A$5:$A$2426='Local Detail'!$J$3)*(Projects!$C$5:$C$2426<>'MDOT FTA Detail'!$C$4)*(Projects!$L$5:$L$2426='Local Detail'!$A37)*(Projects!$J$5:$J$2426<>'Local Detail'!$A$147)*(Projects!$M$5:$M$2426)))+(SUMPRODUCT((Projects!$A$5:$A$2426='Local Detail'!$J$3)*(Projects!$C$5:$C$2426<>'MDOT FTA Detail'!$C$4)*(Projects!$L$5:$L$2426='Local Detail'!$A37)*(Projects!$J$5:$J$2426<>'Local Detail'!$A$147)*(Projects!$O$5:$O$2426))))","v":0},0,{"$f":"SUMPRODUCT((Projects!$A$5:$A$2426='Local Detail'!$M$3)*(Projects!$C$5:$C$2426<>'MDOT FTA Detail'!$C$4)*(Projects!$L$5:$L$2426='Local Detail'!$A37)*(Projects!$K$5:$K$2426))","v":0},{"$f":"((SUMPRODUCT((Projects!$A$5:$A$2426='Local Detail'!$M$3)*(Projects!$C$5:$C$2426<>'MDOT FTA Detail'!$C$4)*(Projects!$L$5:$L$2426='Local Detail'!$A37)*(Projects!$J$5:$J$2426<>'Local Detail'!$A$147)*(Projects!$M$5:$M$2426)))+(SUMPRODUCT((Projects!$A$5:$A$2426='Local Detail'!$M$3)*(Projects!$C$5:$C$2426<>'MDOT FTA Detail'!$C$4)*(Projects!$L$5:$L$2426='Local Detail'!$A37)*(Projects!$J$5:$J$2426<>'Local Detail'!$A$147)*(Projects!$O$5:$O$2426))))","v":0},0]
["EDFF","Economic Development - Category F with Federal Aid","Local EB",{"$f":"SUMPRODUCT((Projects!$A$5:$A$2426='Local Detail'!$D$3)*(Projects!$C$5:$C$2426<>'MDOT FTA Detail'!$C$4)*(Projects!$L$5:$L$2426='Local Detail'!$A38)*(Projects!$K$5:$K$2426))","v":0},{"$f":"((SUMPRODUCT((Projects!$A$5:$A$2426='Local Detail'!$D$3)*(Projects!$C$5:$C$2426<>'MDOT FTA Detail'!$C$4)*(Projects!$L$5:$L$2426='Local Detail'!$A38)*(Projects!$J$5:$J$2426<>'Local Detail'!$A$147)*(Projects!$M$5:$M$2426)))+(SUMPRODUCT((Projects!$A$5:$A$2426='Local Detail'!$D$3)*(Projects!$C$5:$C$2426<>'MDOT FTA Detail'!$C$4)*(Projects!$L$5:$L$2426='Local Detail'!$A38)*(Projects!$J$5:$J$2426<>'Local Detail'!$A$147)*(Projects!$O$5:$O$2426))))","v":0},0,{"$f":"SUMPRODUCT((Projects!$A$5:$A$2426='Local Detail'!$G$3)*(Projects!$C$5:$C$2426<>'MDOT FTA Detail'!$C$4)*(Projects!$L$5:$L$2426='Local Detail'!$A38)*(Projects!$K$5:$K$2426))","v":0},{"$f":"((SUMPRODUCT((Projects!$A$5:$A$2426='Local Detail'!$G$3)*(Projects!$C$5:$C$2426<>'MDOT FTA Detail'!$C$4)*(Projects!$L$5:$L$2426='Local Detail'!$A38)*(Projects!$J$5:$J$2426<>'Local Detail'!$A$147)*(Projects!$M$5:$M$2426)))+(SUMPRODUCT((Projects!$A$5:$A$2426='Local Detail'!$G$3)*(Projects!$C$5:$C$2426<>'MDOT FTA Detail'!$C$4)*(Projects!$L$5:$L$2426='Local Detail'!$A38)*(Projects!$J$5:$J$2426<>'Local Detail'!$A$147)*(Projects!$O$5:$O$2426))))","v":0},0,{"$f":"SUMPRODUCT((Projects!$A$5:$A$2426='Local Detail'!$J$3)*(Projects!$C$5:$C$2426<>'MDOT FTA Detail'!$C$4)*(Projects!$L$5:$L$2426='Local Detail'!$A38)*(Projects!$K$5:$K$2426))","v":0},{"$f":"((SUMPRODUCT((Projects!$A$5:$A$2426='Local Detail'!$J$3)*(Projects!$C$5:$C$2426<>'MDOT FTA Detail'!$C$4)*(Projects!$L$5:$L$2426='Local Detail'!$A38)*(Projects!$J$5:$J$2426<>'Local Detail'!$A$147)*(Projects!$M$5:$M$2426)))+(SUMPRODUCT((Projects!$A$5:$A$2426='Local Detail'!$J$3)*(Projects!$C$5:$C$2426<>'MDOT FTA Detail'!$C$4)*(Projects!$L$5:$L$2426='Local Detail'!$A38)*(Projects!$J$5:$J$2426<>'Local Detail'!$A$147)*(Projects!$O$5:$O$2426))))","v":0},0,{"$f":"SUMPRODUCT((Projects!$A$5:$A$2426='Local Detail'!$M$3)*(Projects!$C$5:$C$2426<>'MDOT FTA Detail'!$C$4)*(Projects!$L$5:$L$2426='Local Detail'!$A38)*(Projects!$K$5:$K$2426))","v":0},{"$f":"((SUMPRODUCT((Projects!$A$5:$A$2426='Local Detail'!$M$3)*(Projects!$C$5:$C$2426<>'MDOT FTA Detail'!$C$4)*(Projects!$L$5:$L$2426='Local Detail'!$A38)*(Projects!$J$5:$J$2426<>'Local Detail'!$A$147)*(Projects!$M$5:$M$2426)))+(SUMPRODUCT((Projects!$A$5:$A$2426='Local Detail'!$M$3)*(Projects!$C$5:$C$2426<>'MDOT FTA Detail'!$C$4)*(Projects!$L$5:$L$2426='Local Detail'!$A38)*(Projects!$J$5:$J$2426<>'Local Detail'!$A$147)*(Projects!$O$5:$O$2426))))","v":0},0]
["ER","Emergency Relief","Local Other FHWA",{"$f":"SUMPRODUCT((Projects!$A$5:$A$2426='Local Detail'!$D$3)*(Projects!$C$5:$C$2426<>'MDOT FTA Detail'!$C$4)*(Projects!$L$5:$L$2426='Local Detail'!$A39)*(Projects!$K$5:$K$2426))","v":0},{"$f":"((SUMPRODUCT((Projects!$A$5:$A$2426='Local Detail'!$D$3)*(Projects!$C$5:$C$2426<>'MDOT FTA Detail'!$C$4)*(Projects!$L$5:$L$2426='Local Detail'!$A39)*(Projects!$J$5:$J$2426<>'Local Detail'!$A$147)*(Projects!$M$5:$M$2426)))+(SUMPRODUCT((Projects!$A$5:$A$2426='Local Detail'!$D$3)*(Projects!$C$5:$C$2426<>'MDOT FTA Detail'!$C$4)*(Projects!$L$5:$L$2426='Local Detail'!$A39)*(Projects!$J$5:$J$2426<>'Local Detail'!$A$147)*(Projects!$O$5:$O$2426))))","v":0},0,{"$f":"SUMPRODUCT((Projects!$A$5:$A$2426='Local Detail'!$G$3)*(Projects!$C$5:$C$2426<>'MDOT FTA Detail'!$C$4)*(Projects!$L$5:$L$2426='Local Detail'!$A39)*(Projects!$K$5:$K$2426))","v":0},{"$f":"((SUMPRODUCT((Projects!$A$5:$A$2426='Local Detail'!$G$3)*(Projects!$C$5:$C$2426<>'MDOT FTA Detail'!$C$4)*(Projects!$L$5:$L$2426='Local Detail'!$A39)*(Projects!$J$5:$J$2426<>'Local Detail'!$A$147)*(Projects!$M$5:$M$2426)))+(SUMPRODUCT((Projects!$A$5:$A$2426='Local Detail'!$G$3)*(Projects!$C$5:$C$2426<>'MDOT FTA Detail'!$C$4)*(Projects!$L$5:$L$2426='Local Detail'!$A39)*(Projects!$J$5:$J$2426<>'Local Detail'!$A$147)*(Projects!$O$5:$O$2426))))","v":0},0,{"$f":"SUMPRODUCT((Projects!$A$5:$A$2426='Local Detail'!$J$3)*(Projects!$C$5:$C$2426<>'MDOT FTA Detail'!$C$4)*(Projects!$L$5:$L$2426='Local Detail'!$A39)*(Projects!$K$5:$K$2426))","v":0},{"$f":"((SUMPRODUCT((Projects!$A$5:$A$2426='Local Detail'!$J$3)*(Projects!$C$5:$C$2426<>'MDOT FTA Detail'!$C$4)*(Projects!$L$5:$L$2426='Local Detail'!$A39)*(Projects!$J$5:$J$2426<>'Local Detail'!$A$147)*(Projects!$M$5:$M$2426)))+(SUMPRODUCT((Projects!$A$5:$A$2426='Local Detail'!$J$3)*(Projects!$C$5:$C$2426<>'MDOT FTA Detail'!$C$4)*(Projects!$L$5:$L$2426='Local Detail'!$A39)*(Projects!$J$5:$J$2426<>'Local Detail'!$A$147)*(Projects!$O$5:$O$2426))))","v":0},0,{"$f":"SUMPRODUCT((Projects!$A$5:$A$2426='Local Detail'!$M$3)*(Projects!$C$5:$C$2426<>'MDOT FTA Detail'!$C$4)*(Projects!$L$5:$L$2426='Local Detail'!$A39)*(Projects!$K$5:$K$2426))","v":0},{"$f":"((SUMPRODUCT((Projects!$A$5:$A$2426='Local Detail'!$M$3)*(Projects!$C$5:$C$2426<>'MDOT FTA Detail'!$C$4)*(Projects!$L$5:$L$2426='Local Detail'!$A39)*(Projects!$J$5:$J$2426<>'Local Detail'!$A$147)*(Projects!$M$5:$M$2426)))+(SUMPRODUCT((Projects!$A$5:$A$2426='Local Detail'!$M$3)*(Projects!$C$5:$C$2426<>'MDOT FTA Detail'!$C$4)*(Projects!$L$5:$L$2426='Local Detail'!$A39)*(Projects!$J$5:$J$2426<>'Local Detail'!$A$147)*(Projects!$O$5:$O$2426))))","v":0},0]
["FBD","Ferry Boat & Terminal Discretionary","Local Other FHWA",{"$f":"SUMPRODUCT((Projects!$A$5:$A$2426='Local Detail'!$D$3)*(Projects!$C$5:$C$2426<>'MDOT FTA Detail'!$C$4)*(Projects!$L$5:$L$2426='Local Detail'!$A40)*(Projects!$K$5:$K$2426))","v":0},{"$f":"((SUMPRODUCT((Projects!$A$5:$A$2426='Local Detail'!$D$3)*(Projects!$C$5:$C$2426<>'MDOT FTA Detail'!$C$4)*(Projects!$L$5:$L$2426='Local Detail'!$A40)*(Projects!$J$5:$J$2426<>'Local Detail'!$A$147)*(Projects!$M$5:$M$2426)))+(SUMPRODUCT((Projects!$A$5:$A$2426='Local Detail'!$D$3)*(Projects!$C$5:$C$2426<>'MDOT FTA Detail'!$C$4)*(Projects!$L$5:$L$2426='Local Detail'!$A40)*(Projects!$J$5:$J$2426<>'Local Detail'!$A$147)*(Projects!$O$5:$O$2426))))","v":0},0,{"$f":"SUMPRODUCT((Projects!$A$5:$A$2426='Local Detail'!$G$3)*(Projects!$C$5:$C$2426<>'MDOT FTA Detail'!$C$4)*(Projects!$L$5:$L$2426='Local Detail'!$A40)*(Projects!$K$5:$K$2426))","v":0},{"$f":"((SUMPRODUCT((Projects!$A$5:$A$2426='Local Detail'!$G$3)*(Projects!$C$5:$C$2426<>'MDOT FTA Detail'!$C$4)*(Projects!$L$5:$L$2426='Local Detail'!$A40)*(Projects!$J$5:$J$2426<>'Local Detail'!$A$147)*(Projects!$M$5:$M$2426)))+(SUMPRODUCT((Projects!$A$5:$A$2426='Local Detail'!$G$3)*(Projects!$C$5:$C$2426<>'MDOT FTA Detail'!$C$4)*(Projects!$L$5:$L$2426='Local Detail'!$A40)*(Projects!$J$5:$J$2426<>'Local Detail'!$A$147)*(Projects!$O$5:$O$2426))))","v":0},0,{"$f":"SUMPRODUCT((Projects!$A$5:$A$2426='Local Detail'!$J$3)*(Projects!$C$5:$C$2426<>'MDOT FTA Detail'!$C$4)*(Projects!$L$5:$L$2426='Local Detail'!$A40)*(Projects!$K$5:$K$2426))","v":0},{"$f":"((SUMPRODUCT((Projects!$A$5:$A$2426='Local Detail'!$J$3)*(Projects!$C$5:$C$2426<>'MDOT FTA Detail'!$C$4)*(Projects!$L$5:$L$2426='Local Detail'!$A40)*(Projects!$J$5:$J$2426<>'Local Detail'!$A$147)*(Projects!$M$5:$M$2426)))+(SUMPRODUCT((Projects!$A$5:$A$2426='Local Detail'!$J$3)*(Projects!$C$5:$C$2426<>'MDOT FTA Detail'!$C$4)*(Projects!$L$5:$L$2426='Local Detail'!$A40)*(Projects!$J$5:$J$2426<>'Local Detail'!$A$147)*(Projects!$O$5:$O$2426))))","v":0},0,{"$f":"SUMPRODUCT((Projects!$A$5:$A$2426='Local Detail'!$M$3)*(Projects!$C$5:$C$2426<>'MDOT FTA Detail'!$C$4)*(Projects!$L$5:$L$2426='Local Detail'!$A40)*(Projects!$K$5:$K$2426))","v":0},{"$f":"((SUMPRODUCT((Projects!$A$5:$A$2426='Local Detail'!$M$3)*(Projects!$C$5:$C$2426<>'MDOT FTA Detail'!$C$4)*(Projects!$L$5:$L$2426='Local Detail'!$A40)*(Projects!$J$5:$J$2426<>'Local Detail'!$A$147)*(Projects!$M$5:$M$2426)))+(SUMPRODUCT((Projects!$A$5:$A$2426='Local Detail'!$M$3)*(Projects!$C$5:$C$2426<>'MDOT FTA Detail'!$C$4)*(Projects!$L$5:$L$2426='Local Detail'!$A40)*(Projects!$J$5:$J$2426<>'Local Detail'!$A$147)*(Projects!$O$5:$O$2426))))","v":0},0]
["FFH","Federal Forest Highway","Local Other FHWA",{"$f":"SUMPRODUCT((Projects!$A$5:$A$2426='Local Detail'!$D$3)*(Projects!$C$5:$C$2426<>'MDOT FTA Detail'!$C$4)*(Projects!$L$5:$L$2426='Local Detail'!$A41)*(Projects!$K$5:$K$2426))","v":0},{"$f":"((SUMPRODUCT((Projects!$A$5:$A$2426='Local Detail'!$D$3)*(Projects!$C$5:$C$2426<>'MDOT FTA Detail'!$C$4)*(Projects!$L$5:$L$2426='Local Detail'!$A41)*(Projects!$J$5:$J$2426<>'Local Detail'!$A$147)*(Projects!$M$5:$M$2426)))+(SUMPRODUCT((Projects!$A$5:$A$2426='Local Detail'!$D$3)*(Projects!$C$5:$C$2426<>'MDOT FTA Detail'!$C$4)*(Projects!$L$5:$L$2426='Local Detail'!$A41)*(Projects!$J$5:$J$2426<>'Local Detail'!$A$147)*(Projects!$O$5:$O$2426))))","v":0},0,{"$f":"SUMPRODUCT((Projects!$A$5:$A$2426='Local Detail'!$G$3)*(Projects!$C$5:$C$2426<>'MDOT FTA Detail'!$C$4)*(Projects!$L$5:$L$2426='Local Detail'!$A41)*(Projects!$K$5:$K$2426))","v":0},{"$f":"((SUMPRODUCT((Projects!$A$5:$A$2426='Local Detail'!$G$3)*(Projects!$C$5:$C$2426<>'MDOT FTA Detail'!$C$4)*(Projects!$L$5:$L$2426='Local Detail'!$A41)*(Projects!$J$5:$J$2426<>'Local Detail'!$A$147)*(Projects!$M$5:$M$2426)))+(SUMPRODUCT((Projects!$A$5:$A$2426='Local Detail'!$G$3)*(Projects!$C$5:$C$2426<>'MDOT FTA Detail'!$C$4)*(Projects!$L$5:$L$2426='Local Detail'!$A41)*(Projects!$J$5:$J$2426<>'Local Detail'!$A$147)*(Projects!$O$5:$O$2426))))","v":0},0,{"$f":"SUMPRODUCT((Projects!$A$5:$A$2426='Local Detail'!$J$3)*(Projects!$C$5:$C$2426<>'MDOT FTA Detail'!$C$4)*(Projects!$L$5:$L$2426='Local Detail'!$A41)*(Projects!$K$5:$K$2426))","v":0},{"$f":"((SUMPRODUCT((Projects!$A$5:$A$2426='Local Detail'!$J$3)*(Projects!$C$5:$C$2426<>'MDOT FTA Detail'!$C$4)*(Projects!$L$5:$L$2426='Local Detail'!$A41)*(Projects!$J$5:$J$2426<>'Local Detail'!$A$147)*(Projects!$M$5:$M$2426)))+(SUMPRODUCT((Projects!$A$5:$A$2426='Local Detail'!$J$3)*(Projects!$C$5:$C$2426<>'MDOT FTA Detail'!$C$4)*(Projects!$L$5:$L$2426='Local Detail'!$A41)*(Projects!$J$5:$J$2426<>'Local Detail'!$A$147)*(Projects!$O$5:$O$2426))))","v":0},0,{"$f":"SUMPRODUCT((Projects!$A$5:$A$2426='Local Detail'!$M$3)*(Projects!$C$5:$C$2426<>'MDOT FTA Detail'!$C$4)*(Projects!$L$5:$L$2426='Local Detail'!$A41)*(Projects!$K$5:$K$2426))","v":0},{"$f":"((SUMPRODUCT((Projects!$A$5:$A$2426='Local Detail'!$M$3)*(Projects!$C$5:$C$2426<>'MDOT FTA Detail'!$C$4)*(Projects!$L$5:$L$2426='Local Detail'!$A41)*(Projects!$J$5:$J$2426<>'Local Detail'!$A$147)*(Projects!$M$5:$M$2426)))+(SUMPRODUCT((Projects!$A$5:$A$2426='Local Detail'!$M$3)*(Projects!$C$5:$C$2426<>'MDOT FTA Detail'!$C$4)*(Projects!$L$5:$L$2426='Local Detail'!$A41)*(Projects!$J$5:$J$2426<>'Local Detail'!$A$147)*(Projects!$O$5:$O$2426))))","v":0},0]
["FLAP","Federal Lands Access Program","Local Other FHWA",{"$f":"SUMPRODUCT((Projects!$A$5:$A$2426='Local Detail'!$D$3)*(Projects!$C$5:$C$2426<>'MDOT FTA Detail'!$C$4)*(Projects!$L$5:$L$2426='Local Detail'!$A42)*(Projects!$K$5:$K$2426))","v":0},{"$f":"((SUMPRODUCT((Projects!$A$5:$A$2426='Local Detail'!$D$3)*(Projects!$C$5:$C$2426<>'MDOT FTA Detail'!$C$4)*(Projects!$L$5:$L$2426='Local Detail'!$A42)*(Projects!$J$5:$J$2426<>'Local Detail'!$A$147)*(Projects!$M$5:$M$2426)))+(SUMPRODUCT((Projects!$A$5:$A$2426='Local Detail'!$D$3)*(Projects!$C$5:$C$2426<>'MDOT FTA Detail'!$C$4)*(Projects!$L$5:$L$2426='Local Detail'!$A42)*(Projects!$J$5:$J$2426<>'Local Detail'!$A$147)*(Projects!$O$5:$O$2426))))","v":0},0,{"$f":"SUMPRODUCT((Projects!$A$5:$A$2426='Local Detail'!$G$3)*(Projects!$C$5:$C$2426<>'MDOT FTA Detail'!$C$4)*(Projects!$L$5:$L$2426='Local Detail'!$A42)*(Projects!$K$5:$K$2426))","v":0},{"$f":"((SUMPRODUCT((Projects!$A$5:$A$2426='Local Detail'!$G$3)*(Projects!$C$5:$C$2426<>'MDOT FTA Detail'!$C$4)*(Projects!$L$5:$L$2426='Local Detail'!$A42)*(Projects!$J$5:$J$2426<>'Local Detail'!$A$147)*(Projects!$M$5:$M$2426)))+(SUMPRODUCT((Projects!$A$5:$A$2426='Local Detail'!$G$3)*(Projects!$C$5:$C$2426<>'MDOT FTA Detail'!$C$4)*(Projects!$L$5:$L$2426='Local Detail'!$A42)*(Projects!$J$5:$J$2426<>'Local Detail'!$A$147)*(Projects!$O$5:$O$2426))))","v":0},0,{"$f":"SUMPRODUCT((Projects!$A$5:$A$2426='Local Detail'!$J$3)*(Projects!$C$5:$C$2426<>'MDOT FTA Detail'!$C$4)*(Projects!$L$5:$L$2426='Local Detail'!$A42)*(Projects!$K$5:$K$2426))","v":0},{"$f":"((SUMPRODUCT((Projects!$A$5:$A$2426='Local Detail'!$J$3)*(Projects!$C$5:$C$2426<>'MDOT FTA Detail'!$C$4)*(Projects!$L$5:$L$2426='Local Detail'!$A42)*(Projects!$J$5:$J$2426<>'Local Detail'!$A$147)*(Projects!$M$5:$M$2426)))+(SUMPRODUCT((Projects!$A$5:$A$2426='Local Detail'!$J$3)*(Projects!$C$5:$C$2426<>'MDOT FTA Detail'!$C$4)*(Projects!$L$5:$L$2426='Local Detail'!$A42)*(Projects!$J$5:$J$2426<>'Local Detail'!$A$147)*(Projects!$O$5:$O$2426))))","v":0},0,{"$f":"SUMPRODUCT((Projects!$A$5:$A$2426='Local Detail'!$M$3)*(Projects!$C$5:$C$2426<>'MDOT FTA Detail'!$C$4)*(Projects!$L$5:$L$2426='Local Detail'!$A42)*(Projects!$K$5:$K$2426))","v":0},{"$f":"((SUMPRODUCT((Projects!$A$5:$A$2426='Local Detail'!$M$3)*(Projects!$C$5:$C$2426<>'MDOT FTA Detail'!$C$4)*(Projects!$L$5:$L$2426='Local Detail'!$A42)*(Projects!$J$5:$J$2426<>'Local Detail'!$A$147)*(Projects!$M$5:$M$2426)))+(SUMPRODUCT((Projects!$A$5:$A$2426='Local Detail'!$M$3)*(Projects!$C$5:$C$2426<>'MDOT FTA Detail'!$C$4)*(Projects!$L$5:$L$2426='Local Detail'!$A42)*(Projects!$J$5:$J$2426<>'Local Detail'!$A$147)*(Projects!$O$5:$O$2426))))","v":0},0]
["HBOA","Highway Bridge Obligation  Authority","Local Bridge",{"$f":"SUMPRODUCT((Projects!$A$5:$A$2426='Local Detail'!$D$3)*(Projects!$C$5:$C$2426<>'MDOT FTA Detail'!$C$4)*(Projects!$L$5:$L$2426='Local Detail'!$A43)*(Projects!$K$5:$K$2426))","v":0},{"$f":"((SUMPRODUCT((Projects!$A$5:$A$2426='Local Detail'!$D$3)*(Projects!$C$5:$C$2426<>'MDOT FTA Detail'!$C$4)*(Projects!$L$5:$L$2426='Local Detail'!$A43)*(Projects!$J$5:$J$2426<>'Local Detail'!$A$147)*(Projects!$M$5:$M$2426)))+(SUMPRODUCT((Projects!$A$5:$A$2426='Local Detail'!$D$3)*(Projects!$C$5:$C$2426<>'MDOT FTA Detail'!$C$4)*(Projects!$L$5:$L$2426='Local Detail'!$A43)*(Projects!$J$5:$J$2426<>'Local Detail'!$A$147)*(Projects!$O$5:$O$2426))))","v":0},0,{"$f":"SUMPRODUCT((Projects!$A$5:$A$2426='Local Detail'!$G$3)*(Projects!$C$5:$C$2426<>'MDOT FTA Detail'!$C$4)*(Projects!$L$5:$L$2426='Local Detail'!$A43)*(Projects!$K$5:$K$2426))","v":0},{"$f":"((SUMPRODUCT((Projects!$A$5:$A$2426='Local Detail'!$G$3)*(Projects!$C$5:$C$2426<>'MDOT FTA Detail'!$C$4)*(Projects!$L$5:$L$2426='Local Detail'!$A43)*(Projects!$J$5:$J$2426<>'Local Detail'!$A$147)*(Projects!$M$5:$M$2426)))+(SUMPRODUCT((Projects!$A$5:$A$2426='Local Detail'!$G$3)*(Projects!$C$5:$C$2426<>'MDOT FTA Detail'!$C$4)*(Projects!$L$5:$L$2426='Local Detail'!$A43)*(Projects!$J$5:$J$2426<>'Local Detail'!$A$147)*(Projects!$O$5:$O$2426))))","v":0},0,{"$f":"SUMPRODUCT((Projects!$A$5:$A$2426='Local Detail'!$J$3)*(Projects!$C$5:$C$2426<>'MDOT FTA Detail'!$C$4)*(Projects!$L$5:$L$2426='Local Detail'!$A43)*(Projects!$K$5:$K$2426))","v":0},{"$f":"((SUMPRODUCT((Projects!$A$5:$A$2426='Local Detail'!$J$3)*(Projects!$C$5:$C$2426<>'MDOT FTA Detail'!$C$4)*(Projects!$L$5:$L$2426='Local Detail'!$A43)*(Projects!$J$5:$J$2426<>'Local Detail'!$A$147)*(Projects!$M$5:$M$2426)))+(SUMPRODUCT((Projects!$A$5:$A$2426='Local Detail'!$J$3)*(Projects!$C$5:$C$2426<>'MDOT FTA Detail'!$C$4)*(Projects!$L$5:$L$2426='Local Detail'!$A43)*(Projects!$J$5:$J$2426<>'Local Detail'!$A$147)*(Projects!$O$5:$O$2426))))","v":0},0,{"$f":"SUMPRODUCT((Projects!$A$5:$A$2426='Local Detail'!$M$3)*(Projects!$C$5:$C$2426<>'MDOT FTA Detail'!$C$4)*(Projects!$L$5:$L$2426='Local Detail'!$A43)*(Projects!$K$5:$K$2426))","v":0},{"$f":"((SUMPRODUCT((Projects!$A$5:$A$2426='Local Detail'!$M$3)*(Projects!$C$5:$C$2426<>'MDOT FTA Detail'!$C$4)*(Projects!$L$5:$L$2426='Local Detail'!$A43)*(Projects!$J$5:$J$2426<>'Local Detail'!$A$147)*(Projects!$M$5:$M$2426)))+(SUMPRODUCT((Projects!$A$5:$A$2426='Local Detail'!$M$3)*(Projects!$C$5:$C$2426<>'MDOT FTA Detail'!$C$4)*(Projects!$L$5:$L$2426='Local Detail'!$A43)*(Projects!$J$5:$J$2426<>'Local Detail'!$A$147)*(Projects!$O$5:$O$2426))))","v":0},0]
["HPP","High Priority Projects (Demo)","Local Other FHWA",{"$f":"SUMPRODUCT((Projects!$A$5:$A$2426='Local Detail'!$D$3)*(Projects!$C$5:$C$2426<>'MDOT FTA Detail'!$C$4)*(Projects!$L$5:$L$2426='Local Detail'!$A44)*(Projects!$K$5:$K$2426))","v":0},{"$f":"((SUMPRODUCT((Projects!$A$5:$A$2426='Local Detail'!$D$3)*(Projects!$C$5:$C$2426<>'MDOT FTA Detail'!$C$4)*(Projects!$L$5:$L$2426='Local Detail'!$A44)*(Projects!$J$5:$J$2426<>'Local Detail'!$A$147)*(Projects!$M$5:$M$2426)))+(SUMPRODUCT((Projects!$A$5:$A$2426='Local Detail'!$D$3)*(Projects!$C$5:$C$2426<>'MDOT FTA Detail'!$C$4)*(Projects!$L$5:$L$2426='Local Detail'!$A44)*(Projects!$J$5:$J$2426<>'Local Detail'!$A$147)*(Projects!$O$5:$O$2426))))","v":0},0,{"$f":"SUMPRODUCT((Projects!$A$5:$A$2426='Local Detail'!$G$3)*(Projects!$C$5:$C$2426<>'MDOT FTA Detail'!$C$4)*(Projects!$L$5:$L$2426='Local Detail'!$A44)*(Projects!$K$5:$K$2426))","v":0},{"$f":"((SUMPRODUCT((Projects!$A$5:$A$2426='Local Detail'!$G$3)*(Projects!$C$5:$C$2426<>'MDOT FTA Detail'!$C$4)*(Projects!$L$5:$L$2426='Local Detail'!$A44)*(Projects!$J$5:$J$2426<>'Local Detail'!$A$147)*(Projects!$M$5:$M$2426)))+(SUMPRODUCT((Projects!$A$5:$A$2426='Local Detail'!$G$3)*(Projects!$C$5:$C$2426<>'MDOT FTA Detail'!$C$4)*(Projects!$L$5:$L$2426='Local Detail'!$A44)*(Projects!$J$5:$J$2426<>'Local Detail'!$A$147)*(Projects!$O$5:$O$2426))))","v":0},0,{"$f":"SUMPRODUCT((Projects!$A$5:$A$2426='Local Detail'!$J$3)*(Projects!$C$5:$C$2426<>'MDOT FTA Detail'!$C$4)*(Projects!$L$5:$L$2426='Local Detail'!$A44)*(Projects!$K$5:$K$2426))","v":0},{"$f":"((SUMPRODUCT((Projects!$A$5:$A$2426='Local Detail'!$J$3)*(Projects!$C$5:$C$2426<>'MDOT FTA Detail'!$C$4)*(Projects!$L$5:$L$2426='Local Detail'!$A44)*(Projects!$J$5:$J$2426<>'Local Detail'!$A$147)*(Projects!$M$5:$M$2426)))+(SUMPRODUCT((Projects!$A$5:$A$2426='Local Detail'!$J$3)*(Projects!$C$5:$C$2426<>'MDOT FTA Detail'!$C$4)*(Projects!$L$5:$L$2426='Local Detail'!$A44)*(Projects!$J$5:$J$2426<>'Local Detail'!$A$147)*(Projects!$O$5:$O$2426))))","v":0},0,{"$f":"SUMPRODUCT((Projects!$A$5:$A$2426='Local Detail'!$M$3)*(Projects!$C$5:$C$2426<>'MDOT FTA Detail'!$C$4)*(Projects!$L$5:$L$2426='Local Detail'!$A44)*(Projects!$K$5:$K$2426))","v":0},{"$f":"((SUMPRODUCT((Projects!$A$5:$A$2426='Local Detail'!$M$3)*(Projects!$C$5:$C$2426<>'MDOT FTA Detail'!$C$4)*(Projects!$L$5:$L$2426='Local Detail'!$A44)*(Projects!$J$5:$J$2426<>'Local Detail'!$A$147)*(Projects!$M$5:$M$2426)))+(SUMPRODUCT((Projects!$A$5:$A$2426='Local Detail'!$M$3)*(Projects!$C$5:$C$2426<>'MDOT FTA Detail'!$C$4)*(Projects!$L$5:$L$2426='Local Detail'!$A44)*(Projects!$J$5:$J$2426<>'Local Detail'!$A$147)*(Projects!$O$5:$O$2426))))","v":0},0]
["HPSL","High Priority Projects - SAFETEA-LU","Local Other FHWA",{"$f":"SUMPRODUCT((Projects!$A$5:$A$2426='Local Detail'!$D$3)*(Projects!$C$5:$C$2426<>'MDOT FTA Detail'!$C$4)*(Projects!$L$5:$L$2426='Local Detail'!$A45)*(Projects!$K$5:$K$2426))","v":0},{"$f":"((SUMPRODUCT((Projects!$A$5:$A$2426='Local Detail'!$D$3)*(Projects!$C$5:$C$2426<>'MDOT FTA Detail'!$C$4)*(Projects!$L$5:$L$2426='Local Detail'!$A45)*(Projects!$J$5:$J$2426<>'Local Detail'!$A$147)*(Projects!$M$5:$M$2426)))+(SUMPRODUCT((Projects!$A$5:$A$2426='Local Detail'!$D$3)*(Projects!$C$5:$C$2426<>'MDOT FTA Detail'!$C$4)*(Projects!$L$5:$L$2426='Local Detail'!$A45)*(Projects!$J$5:$J$2426<>'Local Detail'!$A$147)*(Projects!$O$5:$O$2426))))","v":0},0,{"$f":"SUMPRODUCT((Projects!$A$5:$A$2426='Local Detail'!$G$3)*(Projects!$C$5:$C$2426<>'MDOT FTA Detail'!$C$4)*(Projects!$L$5:$L$2426='Local Detail'!$A45)*(Projects!$K$5:$K$2426))","v":0},{"$f":"((SUMPRODUCT((Projects!$A$5:$A$2426='Local Detail'!$G$3)*(Projects!$C$5:$C$2426<>'MDOT FTA Detail'!$C$4)*(Projects!$L$5:$L$2426='Local Detail'!$A45)*(Projects!$J$5:$J$2426<>'Local Detail'!$A$147)*(Projects!$M$5:$M$2426)))+(SUMPRODUCT((Projects!$A$5:$A$2426='Local Detail'!$G$3)*(Projects!$C$5:$C$2426<>'MDOT FTA Detail'!$C$4)*(Projects!$L$5:$L$2426='Local Detail'!$A45)*(Projects!$J$5:$J$2426<>'Local Detail'!$A$147)*(Projects!$O$5:$O$2426))))","v":0},0,{"$f":"SUMPRODUCT((Projects!$A$5:$A$2426='Local Detail'!$J$3)*(Projects!$C$5:$C$2426<>'MDOT FTA Detail'!$C$4)*(Projects!$L$5:$L$2426='Local Detail'!$A45)*(Projects!$K$5:$K$2426))","v":0},{"$f":"((SUMPRODUCT((Projects!$A$5:$A$2426='Local Detail'!$J$3)*(Projects!$C$5:$C$2426<>'MDOT FTA Detail'!$C$4)*(Projects!$L$5:$L$2426='Local Detail'!$A45)*(Projects!$J$5:$J$2426<>'Local Detail'!$A$147)*(Projects!$M$5:$M$2426)))+(SUMPRODUCT((Projects!$A$5:$A$2426='Local Detail'!$J$3)*(Projects!$C$5:$C$2426<>'MDOT FTA Detail'!$C$4)*(Projects!$L$5:$L$2426='Local Detail'!$A45)*(Projects!$J$5:$J$2426<>'Local Detail'!$A$147)*(Projects!$O$5:$O$2426))))","v":0},0,{"$f":"SUMPRODUCT((Projects!$A$5:$A$2426='Local Detail'!$M$3)*(Projects!$C$5:$C$2426<>'MDOT FTA Detail'!$C$4)*(Projects!$L$5:$L$2426='Local Detail'!$A45)*(Projects!$K$5:$K$2426))","v":0},{"$f":"((SUMPRODUCT((Projects!$A$5:$A$2426='Local Detail'!$M$3)*(Projects!$C$5:$C$2426<>'MDOT FTA Detail'!$C$4)*(Projects!$L$5:$L$2426='Local Detail'!$A45)*(Projects!$J$5:$J$2426<>'Local Detail'!$A$147)*(Projects!$M$5:$M$2426)))+(SUMPRODUCT((Projects!$A$5:$A$2426='Local Detail'!$M$3)*(Projects!$C$5:$C$2426<>'MDOT FTA Detail'!$C$4)*(Projects!$L$5:$L$2426='Local Detail'!$A45)*(Projects!$J$5:$J$2426<>'Local Detail'!$A$147)*(Projects!$O$5:$O$2426))))","v":0},0]
["HRRR","High Risk Rural Roads - SAFETEA-LU","Local Safety",{"$f":"SUMPRODUCT((Projects!$A$5:$A$2426='Local Detail'!$D$3)*(Projects!$C$5:$C$2426<>'MDOT FTA Detail'!$C$4)*(Projects!$L$5:$L$2426='Local Detail'!$A46)*(Projects!$K$5:$K$2426))","v":0},{"$f":"((SUMPRODUCT((Projects!$A$5:$A$2426='Local Detail'!$D$3)*(Projects!$C$5:$C$2426<>'MDOT FTA Detail'!$C$4)*(Projects!$L$5:$L$2426='Local Detail'!$A46)*(Projects!$J$5:$J$2426<>'Local Detail'!$A$147)*(Projects!$M$5:$M$2426)))+(SUMPRODUCT((Projects!$A$5:$A$2426='Local Detail'!$D$3)*(Projects!$C$5:$C$2426<>'MDOT FTA Detail'!$C$4)*(Projects!$L$5:$L$2426='Local Detail'!$A46)*(Projects!$J$5:$J$2426<>'Local Detail'!$A$147)*(Projects!$O$5:$O$2426))))","v":0},0,{"$f":"SUMPRODUCT((Projects!$A$5:$A$2426='Local Detail'!$G$3)*(Projects!$C$5:$C$2426<>'MDOT FTA Detail'!$C$4)*(Projects!$L$5:$L$2426='Local Detail'!$A46)*(Projects!$K$5:$K$2426))","v":0},{"$f":"((SUMPRODUCT((Projects!$A$5:$A$2426='Local Detail'!$G$3)*(Projects!$C$5:$C$2426<>'MDOT FTA Detail'!$C$4)*(Projects!$L$5:$L$2426='Local Detail'!$A46)*(Projects!$J$5:$J$2426<>'Local Detail'!$A$147)*(Projects!$M$5:$M$2426)))+(SUMPRODUCT((Projects!$A$5:$A$2426='Local Detail'!$G$3)*(Projects!$C$5:$C$2426<>'MDOT FTA Detail'!$C$4)*(Projects!$L$5:$L$2426='Local Detail'!$A46)*(Projects!$J$5:$J$2426<>'Local Detail'!$A$147)*(Projects!$O$5:$O$2426))))","v":0},0,{"$f":"SUMPRODUCT((Projects!$A$5:$A$2426='Local Detail'!$J$3)*(Projects!$C$5:$C$2426<>'MDOT FTA Detail'!$C$4)*(Projects!$L$5:$L$2426='Local Detail'!$A46)*(Projects!$K$5:$K$2426))","v":0},{"$f":"((SUMPRODUCT((Projects!$A$5:$A$2426='Local Detail'!$J$3)*(Projects!$C$5:$C$2426<>'MDOT FTA Detail'!$C$4)*(Projects!$L$5:$L$2426='Local Detail'!$A46)*(Projects!$J$5:$J$2426<>'Local Detail'!$A$147)*(Projects!$M$5:$M$2426)))+(SUMPRODUCT((Projects!$A$5:$A$2426='Local Detail'!$J$3)*(Projects!$C$5:$C$2426<>'MDOT FTA Detail'!$C$4)*(Projects!$L$5:$L$2426='Local Detail'!$A46)*(Projects!$J$5:$J$2426<>'Local Detail'!$A$147)*(Projects!$O$5:$O$2426))))","v":0},0,{"$f":"SUMPRODUCT((Projects!$A$5:$A$2426='Local Detail'!$M$3)*(Projects!$C$5:$C$2426<>'MDOT FTA Detail'!$C$4)*(Projects!$L$5:$L$2426='Local Detail'!$A46)*(Projects!$K$5:$K$2426))","v":0},{"$f":"((SUMPRODUCT((Projects!$A$5:$A$2426='Local Detail'!$M$3)*(Projects!$C$5:$C$2426<>'MDOT FTA Detail'!$C$4)*(Projects!$L$5:$L$2426='Local Detail'!$A46)*(Projects!$J$5:$J$2426<>'Local Detail'!$A$147)*(Projects!$M$5:$M$2426)))+(SUMPRODUCT((Projects!$A$5:$A$2426='Local Detail'!$M$3)*(Projects!$C$5:$C$2426<>'MDOT FTA Detail'!$C$4)*(Projects!$L$5:$L$2426='Local Detail'!$A46)*(Projects!$J$5:$J$2426<>'Local Detail'!$A$147)*(Projects!$O$5:$O$2426))))","v":0},0]
["HSG","High Speed Raix Crossings - 100% Federal","Local Other FHWA",{"$f":"SUMPRODUCT((Projects!$A$5:$A$2426='Local Detail'!$D$3)*(Projects!$C$5:$C$2426<>'MDOT FTA Detail'!$C$4)*(Projects!$L$5:$L$2426='Local Detail'!$A47)*(Projects!$K$5:$K$2426))","v":0},{"$f":"((SUMPRODUCT((Projects!$A$5:$A$2426='Local Detail'!$D$3)*(Projects!$C$5:$C$2426<>'MDOT FTA Detail'!$C$4)*(Projects!$L$5:$L$2426='Local Detail'!$A47)*(Projects!$J$5:$J$2426<>'Local Detail'!$A$147)*(Projects!$M$5:$M$2426)))+(SUMPRODUCT((Projects!$A$5:$A$2426='Local Detail'!$D$3)*(Projects!$C$5:$C$2426<>'MDOT FTA Detail'!$C$4)*(Projects!$L$5:$L$2426='Local Detail'!$A47)*(Projects!$J$5:$J$2426<>'Local Detail'!$A$147)*(Projects!$O$5:$O$2426))))","v":0},0,{"$f":"SUMPRODUCT((Projects!$A$5:$A$2426='Local Detail'!$G$3)*(Projects!$C$5:$C$2426<>'MDOT FTA Detail'!$C$4)*(Projects!$L$5:$L$2426='Local Detail'!$A47)*(Projects!$K$5:$K$2426))","v":0},{"$f":"((SUMPRODUCT((Projects!$A$5:$A$2426='Local Detail'!$G$3)*(Projects!$C$5:$C$2426<>'MDOT FTA Detail'!$C$4)*(Projects!$L$5:$L$2426='Local Detail'!$A47)*(Projects!$J$5:$J$2426<>'Local Detail'!$A$147)*(Projects!$M$5:$M$2426)))+(SUMPRODUCT((Projects!$A$5:$A$2426='Local Detail'!$G$3)*(Projects!$C$5:$C$2426<>'MDOT FTA Detail'!$C$4)*(Projects!$L$5:$L$2426='Local Detail'!$A47)*(Projects!$J$5:$J$2426<>'Local Detail'!$A$147)*(Projects!$O$5:$O$2426))))","v":0},0,{"$f":"SUMPRODUCT((Projects!$A$5:$A$2426='Local Detail'!$J$3)*(Projects!$C$5:$C$2426<>'MDOT FTA Detail'!$C$4)*(Projects!$L$5:$L$2426='Local Detail'!$A47)*(Projects!$K$5:$K$2426))","v":0},{"$f":"((SUMPRODUCT((Projects!$A$5:$A$2426='Local Detail'!$J$3)*(Projects!$C$5:$C$2426<>'MDOT FTA Detail'!$C$4)*(Projects!$L$5:$L$2426='Local Detail'!$A47)*(Projects!$J$5:$J$2426<>'Local Detail'!$A$147)*(Projects!$M$5:$M$2426)))+(SUMPRODUCT((Projects!$A$5:$A$2426='Local Detail'!$J$3)*(Projects!$C$5:$C$2426<>'MDOT FTA Detail'!$C$4)*(Projects!$L$5:$L$2426='Local Detail'!$A47)*(Projects!$J$5:$J$2426<>'Local Detail'!$A$147)*(Projects!$O$5:$O$2426))))","v":0},0,{"$f":"SUMPRODUCT((Projects!$A$5:$A$2426='Local Detail'!$M$3)*(Projects!$C$5:$C$2426<>'MDOT FTA Detail'!$C$4)*(Projects!$L$5:$L$2426='Local Detail'!$A47)*(Projects!$K$5:$K$2426))","v":0},{"$f":"((SUMPRODUCT((Projects!$A$5:$A$2426='Local Detail'!$M$3)*(Projects!$C$5:$C$2426<>'MDOT FTA Detail'!$C$4)*(Projects!$L$5:$L$2426='Local Detail'!$A47)*(Projects!$J$5:$J$2426<>'Local Detail'!$A$147)*(Projects!$M$5:$M$2426)))+(SUMPRODUCT((Projects!$A$5:$A$2426='Local Detail'!$M$3)*(Projects!$C$5:$C$2426<>'MDOT FTA Detail'!$C$4)*(Projects!$L$5:$L$2426='Local Detail'!$A47)*(Projects!$J$5:$J$2426<>'Local Detail'!$A$147)*(Projects!$O$5:$O$2426))))","v":0},0]
["HSIP","Highway Safety Improvement Program - SAFETEA-LU","Local Safety",{"$f":"SUMPRODUCT((Projects!$A$5:$A$2426='Local Detail'!$D$3)*(Projects!$C$5:$C$2426<>'MDOT FTA Detail'!$C$4)*(Projects!$L$5:$L$2426='Local Detail'!$A48)*(Projects!$K$5:$K$2426))","v":364504.5},{"$f":"((SUMPRODUCT((Projects!$A$5:$A$2426='Local Detail'!$D$3)*(Projects!$C$5:$C$2426<>'MDOT FTA Detail'!$C$4)*(Projects!$L$5:$L$2426='Local Detail'!$A48)*(Projects!$J$5:$J$2426<>'Local Detail'!$A$147)*(Projects!$M$5:$M$2426)))+(SUMPRODUCT((Projects!$A$5:$A$2426='Local Detail'!$D$3)*(Projects!$C$5:$C$2426<>'MDOT FTA Detail'!$C$4)*(Projects!$L$5:$L$2426='Local Detail'!$A48)*(Projects!$J$5:$J$2426<>'Local Detail'!$A$147)*(Projects!$O$5:$O$2426))))","v":40500.5},405005,{"$f":"SUMPRODUCT((Projects!$A$5:$A$2426='Local Detail'!$G$3)*(Projects!$C$5:$C$2426<>'MDOT FTA Detail'!$C$4)*(Projects!$L$5:$L$2426='Local Detail'!$A48)*(Projects!$K$5:$K$2426))","v":0},{"$f":"((SUMPRODUCT((Projects!$A$5:$A$2426='Local Detail'!$G$3)*(Projects!$C$5:$C$2426<>'MDOT FTA Detail'!$C$4)*(Projects!$L$5:$L$2426='Local Detail'!$A48)*(Projects!$J$5:$J$2426<>'Local Detail'!$A$147)*(Projects!$M$5:$M$2426)))+(SUMPRODUCT((Projects!$A$5:$A$2426='Local Detail'!$G$3)*(Projects!$C$5:$C$2426<>'MDOT FTA Detail'!$C$4)*(Projects!$L$5:$L$2426='Local Detail'!$A48)*(Projects!$J$5:$J$2426<>'Local Detail'!$A$147)*(Projects!$O$5:$O$2426))))","v":0},0,{"$f":"SUMPRODUCT((Projects!$A$5:$A$2426='Local Detail'!$J$3)*(Projects!$C$5:$C$2426<>'MDOT FTA Detail'!$C$4)*(Projects!$L$5:$L$2426='Local Detail'!$A48)*(Projects!$K$5:$K$2426))","v":0},{"$f":"((SUMPRODUCT((Projects!$A$5:$A$2426='Local Detail'!$J$3)*(Projects!$C$5:$C$2426<>'MDOT FTA Detail'!$C$4)*(Projects!$L$5:$L$2426='Local Detail'!$A48)*(Projects!$J$5:$J$2426<>'Local Detail'!$A$147)*(Projects!$M$5:$M$2426)))+(SUMPRODUCT((Projects!$A$5:$A$2426='Local Detail'!$J$3)*(Projects!$C$5:$C$2426<>'MDOT FTA Detail'!$C$4)*(Projects!$L$5:$L$2426='Local Detail'!$A48)*(Projects!$J$5:$J$2426<>'Local Detail'!$A$147)*(Projects!$O$5:$O$2426))))","v":0},0,{"$f":"SUMPRODUCT((Projects!$A$5:$A$2426='Local Detail'!$M$3)*(Projects!$C$5:$C$2426<>'MDOT FTA Detail'!$C$4)*(Projects!$L$5:$L$2426='Local Detail'!$A48)*(Projects!$K$5:$K$2426))","v":0},{"$f":"((SUMPRODUCT((Projects!$A$5:$A$2426='Local Detail'!$M$3)*(Projects!$C$5:$C$2426<>'MDOT FTA Detail'!$C$4)*(Projects!$L$5:$L$2426='Local Detail'!$A48)*(Projects!$J$5:$J$2426<>'Local Detail'!$A$147)*(Projects!$M$5:$M$2426)))+(SUMPRODUCT((Projects!$A$5:$A$2426='Local Detail'!$M$3)*(Projects!$C$5:$C$2426<>'MDOT FTA Detail'!$C$4)*(Projects!$L$5:$L$2426='Local Detail'!$A48)*(Projects!$J$5:$J$2426<>'Local Detail'!$A$147)*(Projects!$O$5:$O$2426))))","v":0},0]
["IM","Interstate Maintenance - No Added Lanes","Local Other FHWA",{"$f":"SUMPRODUCT((Projects!$A$5:$A$2426='Local Detail'!$D$3)*(Projects!$C$5:$C$2426<>'MDOT FTA Detail'!$C$4)*(Projects!$L$5:$L$2426='Local Detail'!$A49)*(Projects!$K$5:$K$2426))","v":0},{"$f":"((SUMPRODUCT((Projects!$A$5:$A$2426='Local Detail'!$D$3)*(Projects!$C$5:$C$2426<>'MDOT FTA Detail'!$C$4)*(Projects!$L$5:$L$2426='Local Detail'!$A49)*(Projects!$J$5:$J$2426<>'Local Detail'!$A$147)*(Projects!$M$5:$M$2426)))+(SUMPRODUCT((Projects!$A$5:$A$2426='Local Detail'!$D$3)*(Projects!$C$5:$C$2426<>'MDOT FTA Detail'!$C$4)*(Projects!$L$5:$L$2426='Local Detail'!$A49)*(Projects!$J$5:$J$2426<>'Local Detail'!$A$147)*(Projects!$O$5:$O$2426))))","v":0},0,{"$f":"SUMPRODUCT((Projects!$A$5:$A$2426='Local Detail'!$G$3)*(Projects!$C$5:$C$2426<>'MDOT FTA Detail'!$C$4)*(Projects!$L$5:$L$2426='Local Detail'!$A49)*(Projects!$K$5:$K$2426))","v":0},{"$f":"((SUMPRODUCT((Projects!$A$5:$A$2426='Local Detail'!$G$3)*(Projects!$C$5:$C$2426<>'MDOT FTA Detail'!$C$4)*(Projects!$L$5:$L$2426='Local Detail'!$A49)*(Projects!$J$5:$J$2426<>'Local Detail'!$A$147)*(Projects!$M$5:$M$2426)))+(SUMPRODUCT((Projects!$A$5:$A$2426='Local Detail'!$G$3)*(Projects!$C$5:$C$2426<>'MDOT FTA Detail'!$C$4)*(Projects!$L$5:$L$2426='Local Detail'!$A49)*(Projects!$J$5:$J$2426<>'Local Detail'!$A$147)*(Projects!$O$5:$O$2426))))","v":0},0,{"$f":"SUMPRODUCT((Projects!$A$5:$A$2426='Local Detail'!$J$3)*(Projects!$C$5:$C$2426<>'MDOT FTA Detail'!$C$4)*(Projects!$L$5:$L$2426='Local Detail'!$A49)*(Projects!$K$5:$K$2426))","v":0},{"$f":"((SUMPRODUCT((Projects!$A$5:$A$2426='Local Detail'!$J$3)*(Projects!$C$5:$C$2426<>'MDOT FTA Detail'!$C$4)*(Projects!$L$5:$L$2426='Local Detail'!$A49)*(Projects!$J$5:$J$2426<>'Local Detail'!$A$147)*(Projects!$M$5:$M$2426)))+(SUMPRODUCT((Projects!$A$5:$A$2426='Local Detail'!$J$3)*(Projects!$C$5:$C$2426<>'MDOT FTA Detail'!$C$4)*(Projects!$L$5:$L$2426='Local Detail'!$A49)*(Projects!$J$5:$J$2426<>'Local Detail'!$A$147)*(Projects!$O$5:$O$2426))))","v":0},0,{"$f":"SUMPRODUCT((Projects!$A$5:$A$2426='Local Detail'!$M$3)*(Projects!$C$5:$C$2426<>'MDOT FTA Detail'!$C$4)*(Projects!$L$5:$L$2426='Local Detail'!$A49)*(Projects!$K$5:$K$2426))","v":0},{"$f":"((SUMPRODUCT((Projects!$A$5:$A$2426='Local Detail'!$M$3)*(Projects!$C$5:$C$2426<>'MDOT FTA Detail'!$C$4)*(Projects!$L$5:$L$2426='Local Detail'!$A49)*(Projects!$J$5:$J$2426<>'Local Detail'!$A$147)*(Projects!$M$5:$M$2426)))+(SUMPRODUCT((Projects!$A$5:$A$2426='Local Detail'!$M$3)*(Projects!$C$5:$C$2426<>'MDOT FTA Detail'!$C$4)*(Projects!$L$5:$L$2426='Local Detail'!$A49)*(Projects!$J$5:$J$2426<>'Local Detail'!$A$147)*(Projects!$O$5:$O$2426))))","v":0},0]
["IMD","Interstate Maintenance Discretionary","Local Other FHWA",{"$f":"SUMPRODUCT((Projects!$A$5:$A$2426='Local Detail'!$D$3)*(Projects!$C$5:$C$2426<>'MDOT FTA Detail'!$C$4)*(Projects!$L$5:$L$2426='Local Detail'!$A50)*(Projects!$K$5:$K$2426))","v":0},{"$f":"((SUMPRODUCT((Projects!$A$5:$A$2426='Local Detail'!$D$3)*(Projects!$C$5:$C$2426<>'MDOT FTA Detail'!$C$4)*(Projects!$L$5:$L$2426='Local Detail'!$A50)*(Projects!$J$5:$J$2426<>'Local Detail'!$A$147)*(Projects!$M$5:$M$2426)))+(SUMPRODUCT((Projects!$A$5:$A$2426='Local Detail'!$D$3)*(Projects!$C$5:$C$2426<>'MDOT FTA Detail'!$C$4)*(Projects!$L$5:$L$2426='Local Detail'!$A50)*(Projects!$J$5:$J$2426<>'Local Detail'!$A$147)*(Projects!$O$5:$O$2426))))","v":0},0,{"$f":"SUMPRODUCT((Projects!$A$5:$A$2426='Local Detail'!$G$3)*(Projects!$C$5:$C$2426<>'MDOT FTA Detail'!$C$4)*(Projects!$L$5:$L$2426='Local Detail'!$A50)*(Projects!$K$5:$K$2426))","v":0},{"$f":"((SUMPRODUCT((Projects!$A$5:$A$2426='Local Detail'!$G$3)*(Projects!$C$5:$C$2426<>'MDOT FTA Detail'!$C$4)*(Projects!$L$5:$L$2426='Local Detail'!$A50)*(Projects!$J$5:$J$2426<>'Local Detail'!$A$147)*(Projects!$M$5:$M$2426)))+(SUMPRODUCT((Projects!$A$5:$A$2426='Local Detail'!$G$3)*(Projects!$C$5:$C$2426<>'MDOT FTA Detail'!$C$4)*(Projects!$L$5:$L$2426='Local Detail'!$A50)*(Projects!$J$5:$J$2426<>'Local Detail'!$A$147)*(Projects!$O$5:$O$2426))))","v":0},0,{"$f":"SUMPRODUCT((Projects!$A$5:$A$2426='Local Detail'!$J$3)*(Projects!$C$5:$C$2426<>'MDOT FTA Detail'!$C$4)*(Projects!$L$5:$L$2426='Local Detail'!$A50)*(Projects!$K$5:$K$2426))","v":0},{"$f":"((SUMPRODUCT((Projects!$A$5:$A$2426='Local Detail'!$J$3)*(Projects!$C$5:$C$2426<>'MDOT FTA Detail'!$C$4)*(Projects!$L$5:$L$2426='Local Detail'!$A50)*(Projects!$J$5:$J$2426<>'Local Detail'!$A$147)*(Projects!$M$5:$M$2426)))+(SUMPRODUCT((Projects!$A$5:$A$2426='Local Detail'!$J$3)*(Projects!$C$5:$C$2426<>'MDOT FTA Detail'!$C$4)*(Projects!$L$5:$L$2426='Local Detail'!$A50)*(Projects!$J$5:$J$2426<>'Local Detail'!$A$147)*(Projects!$O$5:$O$2426))))","v":0},0,{"$f":"SUMPRODUCT((Projects!$A$5:$A$2426='Local Detail'!$M$3)*(Projects!$C$5:$C$2426<>'MDOT FTA Detail'!$C$4)*(Projects!$L$5:$L$2426='Local Detail'!$A50)*(Projects!$K$5:$K$2426))","v":0},{"$f":"((SUMPRODUCT((Projects!$A$5:$A$2426='Local Detail'!$M$3)*(Projects!$C$5:$C$2426<>'MDOT FTA Detail'!$C$4)*(Projects!$L$5:$L$2426='Local Detail'!$A50)*(Projects!$J$5:$J$2426<>'Local Detail'!$A$147)*(Projects!$M$5:$M$2426)))+(SUMPRODUCT((Projects!$A$5:$A$2426='Local Detail'!$M$3)*(Projects!$C$5:$C$2426<>'MDOT FTA Detail'!$C$4)*(Projects!$L$5:$L$2426='Local Detail'!$A50)*(Projects!$J$5:$J$2426<>'Local Detail'!$A$147)*(Projects!$O$5:$O$2426))))","v":0},0]
["IMG","Interstate Maintenance - Safety - 100% Federal","Local Other FHWA",{"$f":"SUMPRODUCT((Projects!$A$5:$A$2426='Local Detail'!$D$3)*(Projects!$C$5:$C$2426<>'MDOT FTA Detail'!$C$4)*(Projects!$L$5:$L$2426='Local Detail'!$A51)*(Projects!$K$5:$K$2426))","v":0},{"$f":"((SUMPRODUCT((Projects!$A$5:$A$2426='Local Detail'!$D$3)*(Projects!$C$5:$C$2426<>'MDOT FTA Detail'!$C$4)*(Projects!$L$5:$L$2426='Local Detail'!$A51)*(Projects!$J$5:$J$2426<>'Local Detail'!$A$147)*(Projects!$M$5:$M$2426)))+(SUMPRODUCT((Projects!$A$5:$A$2426='Local Detail'!$D$3)*(Projects!$C$5:$C$2426<>'MDOT FTA Detail'!$C$4)*(Projects!$L$5:$L$2426='Local Detail'!$A51)*(Projects!$J$5:$J$2426<>'Local Detail'!$A$147)*(Projects!$O$5:$O$2426))))","v":0},0,{"$f":"SUMPRODUCT((Projects!$A$5:$A$2426='Local Detail'!$G$3)*(Projects!$C$5:$C$2426<>'MDOT FTA Detail'!$C$4)*(Projects!$L$5:$L$2426='Local Detail'!$A51)*(Projects!$K$5:$K$2426))","v":0},{"$f":"((SUMPRODUCT((Projects!$A$5:$A$2426='Local Detail'!$G$3)*(Projects!$C$5:$C$2426<>'MDOT FTA Detail'!$C$4)*(Projects!$L$5:$L$2426='Local Detail'!$A51)*(Projects!$J$5:$J$2426<>'Local Detail'!$A$147)*(Projects!$M$5:$M$2426)))+(SUMPRODUCT((Projects!$A$5:$A$2426='Local Detail'!$G$3)*(Projects!$C$5:$C$2426<>'MDOT FTA Detail'!$C$4)*(Projects!$L$5:$L$2426='Local Detail'!$A51)*(Projects!$J$5:$J$2426<>'Local Detail'!$A$147)*(Projects!$O$5:$O$2426))))","v":0},0,{"$f":"SUMPRODUCT((Projects!$A$5:$A$2426='Local Detail'!$J$3)*(Projects!$C$5:$C$2426<>'MDOT FTA Detail'!$C$4)*(Projects!$L$5:$L$2426='Local Detail'!$A51)*(Projects!$K$5:$K$2426))","v":0},{"$f":"((SUMPRODUCT((Projects!$A$5:$A$2426='Local Detail'!$J$3)*(Projects!$C$5:$C$2426<>'MDOT FTA Detail'!$C$4)*(Projects!$L$5:$L$2426='Local Detail'!$A51)*(Projects!$J$5:$J$2426<>'Local Detail'!$A$147)*(Projects!$M$5:$M$2426)))+(SUMPRODUCT((Projects!$A$5:$A$2426='Local Detail'!$J$3)*(Projects!$C$5:$C$2426<>'MDOT FTA Detail'!$C$4)*(Projects!$L$5:$L$2426='Local Detail'!$A51)*(Projects!$J$5:$J$2426<>'Local Detail'!$A$147)*(Projects!$O$5:$O$2426))))","v":0},0,{"$f":"SUMPRODUCT((Projects!$A$5:$A$2426='Local Detail'!$M$3)*(Projects!$C$5:$C$2426<>'MDOT FTA Detail'!$C$4)*(Projects!$L$5:$L$2426='Local Detail'!$A51)*(Projects!$K$5:$K$2426))","v":0},{"$f":"((SUMPRODUCT((Projects!$A$5:$A$2426='Local Detail'!$M$3)*(Projects!$C$5:$C$2426<>'MDOT FTA Detail'!$C$4)*(Projects!$L$5:$L$2426='Local Detail'!$A51)*(Projects!$J$5:$J$2426<>'Local Detail'!$A$147)*(Projects!$M$5:$M$2426)))+(SUMPRODUCT((Projects!$A$5:$A$2426='Local Detail'!$M$3)*(Projects!$C$5:$C$2426<>'MDOT FTA Detail'!$C$4)*(Projects!$L$5:$L$2426='Local Detail'!$A51)*(Projects!$J$5:$J$2426<>'Local Detail'!$A$147)*(Projects!$O$5:$O$2426))))","v":0},0]
["ITS","Intelligent Transportation Systems","Local Other FHWA",{"$f":"SUMPRODUCT((Projects!$A$5:$A$2426='Local Detail'!$D$3)*(Projects!$C$5:$C$2426<>'MDOT FTA Detail'!$C$4)*(Projects!$L$5:$L$2426='Local Detail'!$A52)*(Projects!$K$5:$K$2426))","v":0},{"$f":"((SUMPRODUCT((Projects!$A$5:$A$2426='Local Detail'!$D$3)*(Projects!$C$5:$C$2426<>'MDOT FTA Detail'!$C$4)*(Projects!$L$5:$L$2426='Local Detail'!$A52)*(Projects!$J$5:$J$2426<>'Local Detail'!$A$147)*(Projects!$M$5:$M$2426)))+(SUMPRODUCT((Projects!$A$5:$A$2426='Local Detail'!$D$3)*(Projects!$C$5:$C$2426<>'MDOT FTA Detail'!$C$4)*(Projects!$L$5:$L$2426='Local Detail'!$A52)*(Projects!$J$5:$J$2426<>'Local Detail'!$A$147)*(Projects!$O$5:$O$2426))))","v":0},0,{"$f":"SUMPRODUCT((Projects!$A$5:$A$2426='Local Detail'!$G$3)*(Projects!$C$5:$C$2426<>'MDOT FTA Detail'!$C$4)*(Projects!$L$5:$L$2426='Local Detail'!$A52)*(Projects!$K$5:$K$2426))","v":0},{"$f":"((SUMPRODUCT((Projects!$A$5:$A$2426='Local Detail'!$G$3)*(Projects!$C$5:$C$2426<>'MDOT FTA Detail'!$C$4)*(Projects!$L$5:$L$2426='Local Detail'!$A52)*(Projects!$J$5:$J$2426<>'Local Detail'!$A$147)*(Projects!$M$5:$M$2426)))+(SUMPRODUCT((Projects!$A$5:$A$2426='Local Detail'!$G$3)*(Projects!$C$5:$C$2426<>'MDOT FTA Detail'!$C$4)*(Projects!$L$5:$L$2426='Local Detail'!$A52)*(Projects!$J$5:$J$2426<>'Local Detail'!$A$147)*(Projects!$O$5:$O$2426))))","v":0},0,{"$f":"SUMPRODUCT((Projects!$A$5:$A$2426='Local Detail'!$J$3)*(Projects!$C$5:$C$2426<>'MDOT FTA Detail'!$C$4)*(Projects!$L$5:$L$2426='Local Detail'!$A52)*(Projects!$K$5:$K$2426))","v":0},{"$f":"((SUMPRODUCT((Projects!$A$5:$A$2426='Local Detail'!$J$3)*(Projects!$C$5:$C$2426<>'MDOT FTA Detail'!$C$4)*(Projects!$L$5:$L$2426='Local Detail'!$A52)*(Projects!$J$5:$J$2426<>'Local Detail'!$A$147)*(Projects!$M$5:$M$2426)))+(SUMPRODUCT((Projects!$A$5:$A$2426='Local Detail'!$J$3)*(Projects!$C$5:$C$2426<>'MDOT FTA Detail'!$C$4)*(Projects!$L$5:$L$2426='Local Detail'!$A52)*(Projects!$J$5:$J$2426<>'Local Detail'!$A$147)*(Projects!$O$5:$O$2426))))","v":0},0,{"$f":"SUMPRODUCT((Projects!$A$5:$A$2426='Local Detail'!$M$3)*(Projects!$C$5:$C$2426<>'MDOT FTA Detail'!$C$4)*(Projects!$L$5:$L$2426='Local Detail'!$A52)*(Projects!$K$5:$K$2426))","v":0},{"$f":"((SUMPRODUCT((Projects!$A$5:$A$2426='Local Detail'!$M$3)*(Projects!$C$5:$C$2426<>'MDOT FTA Detail'!$C$4)*(Projects!$L$5:$L$2426='Local Detail'!$A52)*(Projects!$J$5:$J$2426<>'Local Detail'!$A$147)*(Projects!$M$5:$M$2426)))+(SUMPRODUCT((Projects!$A$5:$A$2426='Local Detail'!$M$3)*(Projects!$C$5:$C$2426<>'MDOT FTA Detail'!$C$4)*(Projects!$L$5:$L$2426='Local Detail'!$A52)*(Projects!$J$5:$J$2426<>'Local Detail'!$A$147)*(Projects!$O$5:$O$2426))))","v":0},0]
["JST","85% Minimum Floor Surface Transportation","Local STP",{"$f":"SUMPRODUCT((Projects!$A$5:$A$2426='Local Detail'!$D$3)*(Projects!$C$5:$C$2426<>'MDOT FTA Detail'!$C$4)*(Projects!$L$5:$L$2426='Local Detail'!$A53)*(Projects!$K$5:$K$2426))","v":0},{"$f":"((SUMPRODUCT((Projects!$A$5:$A$2426='Local Detail'!$D$3)*(Projects!$C$5:$C$2426<>'MDOT FTA Detail'!$C$4)*(Projects!$L$5:$L$2426='Local Detail'!$A53)*(Projects!$J$5:$J$2426<>'Local Detail'!$A$147)*(Projects!$M$5:$M$2426)))+(SUMPRODUCT((Projects!$A$5:$A$2426='Local Detail'!$D$3)*(Projects!$C$5:$C$2426<>'MDOT FTA Detail'!$C$4)*(Projects!$L$5:$L$2426='Local Detail'!$A53)*(Projects!$J$5:$J$2426<>'Local Detail'!$A$147)*(Projects!$O$5:$O$2426))))","v":0},0,{"$f":"SUMPRODUCT((Projects!$A$5:$A$2426='Local Detail'!$G$3)*(Projects!$C$5:$C$2426<>'MDOT FTA Detail'!$C$4)*(Projects!$L$5:$L$2426='Local Detail'!$A53)*(Projects!$K$5:$K$2426))","v":0},{"$f":"((SUMPRODUCT((Projects!$A$5:$A$2426='Local Detail'!$G$3)*(Projects!$C$5:$C$2426<>'MDOT FTA Detail'!$C$4)*(Projects!$L$5:$L$2426='Local Detail'!$A53)*(Projects!$J$5:$J$2426<>'Local Detail'!$A$147)*(Projects!$M$5:$M$2426)))+(SUMPRODUCT((Projects!$A$5:$A$2426='Local Detail'!$G$3)*(Projects!$C$5:$C$2426<>'MDOT FTA Detail'!$C$4)*(Projects!$L$5:$L$2426='Local Detail'!$A53)*(Projects!$J$5:$J$2426<>'Local Detail'!$A$147)*(Projects!$O$5:$O$2426))))","v":0},0,{"$f":"SUMPRODUCT((Projects!$A$5:$A$2426='Local Detail'!$J$3)*(Projects!$C$5:$C$2426<>'MDOT FTA Detail'!$C$4)*(Projects!$L$5:$L$2426='Local Detail'!$A53)*(Projects!$K$5:$K$2426))","v":0},{"$f":"((SUMPRODUCT((Projects!$A$5:$A$2426='Local Detail'!$J$3)*(Projects!$C$5:$C$2426<>'MDOT FTA Detail'!$C$4)*(Projects!$L$5:$L$2426='Local Detail'!$A53)*(Projects!$J$5:$J$2426<>'Local Detail'!$A$147)*(Projects!$M$5:$M$2426)))+(SUMPRODUCT((Projects!$A$5:$A$2426='Local Detail'!$J$3)*(Projects!$C$5:$C$2426<>'MDOT FTA Detail'!$C$4)*(Projects!$L$5:$L$2426='Local Detail'!$A53)*(Projects!$J$5:$J$2426<>'Local Detail'!$A$147)*(Projects!$O$5:$O$2426))))","v":0},0,{"$f":"SUMPRODUCT((Projects!$A$5:$A$2426='Local Detail'!$M$3)*(Projects!$C$5:$C$2426<>'MDOT FTA Detail'!$C$4)*(Projects!$L$5:$L$2426='Local Detail'!$A53)*(Projects!$K$5:$K$2426))","v":0},{"$f":"((SUMPRODUCT((Projects!$A$5:$A$2426='Local Detail'!$M$3)*(Projects!$C$5:$C$2426<>'MDOT FTA Detail'!$C$4)*(Projects!$L$5:$L$2426='Local Detail'!$A53)*(Projects!$J$5:$J$2426<>'Local Detail'!$A$147)*(Projects!$M$5:$M$2426)))+(SUMPRODUCT((Projects!$A$5:$A$2426='Local Detail'!$M$3)*(Projects!$C$5:$C$2426<>'MDOT FTA Detail'!$C$4)*(Projects!$L$5:$L$2426='Local Detail'!$A53)*(Projects!$J$5:$J$2426<>'Local Detail'!$A$147)*(Projects!$O$5:$O$2426))))","v":0},0]
["JSTU","85% Minimum Floor Surface Transportation (Urban Area > 2499,000)","Local STP",{"$f":"SUMPRODUCT((Projects!$A$5:$A$2426='Local Detail'!$D$3)*(Projects!$C$5:$C$2426<>'MDOT FTA Detail'!$C$4)*(Projects!$L$5:$L$2426='Local Detail'!$A54)*(Projects!$K$5:$K$2426))","v":0},{"$f":"((SUMPRODUCT((Projects!$A$5:$A$2426='Local Detail'!$D$3)*(Projects!$C$5:$C$2426<>'MDOT FTA Detail'!$C$4)*(Projects!$L$5:$L$2426='Local Detail'!$A54)*(Projects!$J$5:$J$2426<>'Local Detail'!$A$147)*(Projects!$M$5:$M$2426)))+(SUMPRODUCT((Projects!$A$5:$A$2426='Local Detail'!$D$3)*(Projects!$C$5:$C$2426<>'MDOT FTA Detail'!$C$4)*(Projects!$L$5:$L$2426='Local Detail'!$A54)*(Projects!$J$5:$J$2426<>'Local Detail'!$A$147)*(Projects!$O$5:$O$2426))))","v":0},0,{"$f":"SUMPRODUCT((Projects!$A$5:$A$2426='Local Detail'!$G$3)*(Projects!$C$5:$C$2426<>'MDOT FTA Detail'!$C$4)*(Projects!$L$5:$L$2426='Local Detail'!$A54)*(Projects!$K$5:$K$2426))","v":0},{"$f":"((SUMPRODUCT((Projects!$A$5:$A$2426='Local Detail'!$G$3)*(Projects!$C$5:$C$2426<>'MDOT FTA Detail'!$C$4)*(Projects!$L$5:$L$2426='Local Detail'!$A54)*(Projects!$J$5:$J$2426<>'Local Detail'!$A$147)*(Projects!$M$5:$M$2426)))+(SUMPRODUCT((Projects!$A$5:$A$2426='Local Detail'!$G$3)*(Projects!$C$5:$C$2426<>'MDOT FTA Detail'!$C$4)*(Projects!$L$5:$L$2426='Local Detail'!$A54)*(Projects!$J$5:$J$2426<>'Local Detail'!$A$147)*(Projects!$O$5:$O$2426))))","v":0},0,{"$f":"SUMPRODUCT((Projects!$A$5:$A$2426='Local Detail'!$J$3)*(Projects!$C$5:$C$2426<>'MDOT FTA Detail'!$C$4)*(Projects!$L$5:$L$2426='Local Detail'!$A54)*(Projects!$K$5:$K$2426))","v":0},{"$f":"((SUMPRODUCT((Projects!$A$5:$A$2426='Local Detail'!$J$3)*(Projects!$C$5:$C$2426<>'MDOT FTA Detail'!$C$4)*(Projects!$L$5:$L$2426='Local Detail'!$A54)*(Projects!$J$5:$J$2426<>'Local Detail'!$A$147)*(Projects!$M$5:$M$2426)))+(SUMPRODUCT((Projects!$A$5:$A$2426='Local Detail'!$J$3)*(Projects!$C$5:$C$2426<>'MDOT FTA Detail'!$C$4)*(Projects!$L$5:$L$2426='Local Detail'!$A54)*(Projects!$J$5:$J$2426<>'Local Detail'!$A$147)*(Projects!$O$5:$O$2426))))","v":0},0,{"$f":"SUMPRODUCT((Projects!$A$5:$A$2426='Local Detail'!$M$3)*(Projects!$C$5:$C$2426<>'MDOT FTA Detail'!$C$4)*(Projects!$L$5:$L$2426='Local Detail'!$A54)*(Projects!$K$5:$K$2426))","v":0},{"$f":"((SUMPRODUCT((Projects!$A$5:$A$2426='Local Detail'!$M$3)*(Projects!$C$5:$C$2426<>'MDOT FTA Detail'!$C$4)*(Projects!$L$5:$L$2426='Local Detail'!$A54)*(Projects!$J$5:$J$2426<>'Local Detail'!$A$147)*(Projects!$M$5:$M$2426)))+(SUMPRODUCT((Projects!$A$5:$A$2426='Local Detail'!$M$3)*(Projects!$C$5:$C$2426<>'MDOT FTA Detail'!$C$4)*(Projects!$L$5:$L$2426='Local Detail'!$A54)*(Projects!$J$5:$J$2426<>'Local Detail'!$A$147)*(Projects!$O$5:$O$2426))))","v":0},0]
["LTA","Local Technical Assistance Program","Local Other FHWA",{"$f":"SUMPRODUCT((Projects!$A$5:$A$2426='Local Detail'!$D$3)*(Projects!$C$5:$C$2426<>'MDOT FTA Detail'!$C$4)*(Projects!$L$5:$L$2426='Local Detail'!$A55)*(Projects!$K$5:$K$2426))","v":0},{"$f":"((SUMPRODUCT((Projects!$A$5:$A$2426='Local Detail'!$D$3)*(Projects!$C$5:$C$2426<>'MDOT FTA Detail'!$C$4)*(Projects!$L$5:$L$2426='Local Detail'!$A55)*(Projects!$J$5:$J$2426<>'Local Detail'!$A$147)*(Projects!$M$5:$M$2426)))+(SUMPRODUCT((Projects!$A$5:$A$2426='Local Detail'!$D$3)*(Projects!$C$5:$C$2426<>'MDOT FTA Detail'!$C$4)*(Projects!$L$5:$L$2426='Local Detail'!$A55)*(Projects!$J$5:$J$2426<>'Local Detail'!$A$147)*(Projects!$O$5:$O$2426))))","v":0},0,{"$f":"SUMPRODUCT((Projects!$A$5:$A$2426='Local Detail'!$G$3)*(Projects!$C$5:$C$2426<>'MDOT FTA Detail'!$C$4)*(Projects!$L$5:$L$2426='Local Detail'!$A55)*(Projects!$K$5:$K$2426))","v":0},{"$f":"((SUMPRODUCT((Projects!$A$5:$A$2426='Local Detail'!$G$3)*(Projects!$C$5:$C$2426<>'MDOT FTA Detail'!$C$4)*(Projects!$L$5:$L$2426='Local Detail'!$A55)*(Projects!$J$5:$J$2426<>'Local Detail'!$A$147)*(Projects!$M$5:$M$2426)))+(SUMPRODUCT((Projects!$A$5:$A$2426='Local Detail'!$G$3)*(Projects!$C$5:$C$2426<>'MDOT FTA Detail'!$C$4)*(Projects!$L$5:$L$2426='Local Detail'!$A55)*(Projects!$J$5:$J$2426<>'Local Detail'!$A$147)*(Projects!$O$5:$O$2426))))","v":0},0,{"$f":"SUMPRODUCT((Projects!$A$5:$A$2426='Local Detail'!$J$3)*(Projects!$C$5:$C$2426<>'MDOT FTA Detail'!$C$4)*(Projects!$L$5:$L$2426='Local Detail'!$A55)*(Projects!$K$5:$K$2426))","v":0},{"$f":"((SUMPRODUCT((Projects!$A$5:$A$2426='Local Detail'!$J$3)*(Projects!$C$5:$C$2426<>'MDOT FTA Detail'!$C$4)*(Projects!$L$5:$L$2426='Local Detail'!$A55)*(Projects!$J$5:$J$2426<>'Local Detail'!$A$147)*(Projects!$M$5:$M$2426)))+(SUMPRODUCT((Projects!$A$5:$A$2426='Local Detail'!$J$3)*(Projects!$C$5:$C$2426<>'MDOT FTA Detail'!$C$4)*(Projects!$L$5:$L$2426='Local Detail'!$A55)*(Projects!$J$5:$J$2426<>'Local Detail'!$A$147)*(Projects!$O$5:$O$2426))))","v":0},0,{"$f":"SUMPRODUCT((Projects!$A$5:$A$2426='Local Detail'!$M$3)*(Projects!$C$5:$C$2426<>'MDOT FTA Detail'!$C$4)*(Projects!$L$5:$L$2426='Local Detail'!$A55)*(Projects!$K$5:$K$2426))","v":0},{"$f":"((SUMPRODUCT((Projects!$A$5:$A$2426='Local Detail'!$M$3)*(Projects!$C$5:$C$2426<>'MDOT FTA Detail'!$C$4)*(Projects!$L$5:$L$2426='Local Detail'!$A55)*(Projects!$J$5:$J$2426<>'Local Detail'!$A$147)*(Projects!$M$5:$M$2426)))+(SUMPRODUCT((Projects!$A$5:$A$2426='Local Detail'!$M$3)*(Projects!$C$5:$C$2426<>'MDOT FTA Detail'!$C$4)*(Projects!$L$5:$L$2426='Local Detail'!$A55)*(Projects!$J$5:$J$2426<>'Local Detail'!$A$147)*(Projects!$O$5:$O$2426))))","v":0},0]
["MG","Minimum Guarantee","Local Other FHWA",{"$f":"SUMPRODUCT((Projects!$A$5:$A$2426='Local Detail'!$D$3)*(Projects!$C$5:$C$2426<>'MDOT FTA Detail'!$C$4)*(Projects!$L$5:$L$2426='Local Detail'!$A56)*(Projects!$K$5:$K$2426))","v":0},{"$f":"((SUMPRODUCT((Projects!$A$5:$A$2426='Local Detail'!$D$3)*(Projects!$C$5:$C$2426<>'MDOT FTA Detail'!$C$4)*(Projects!$L$5:$L$2426='Local Detail'!$A56)*(Projects!$J$5:$J$2426<>'Local Detail'!$A$147)*(Projects!$M$5:$M$2426)))+(SUMPRODUCT((Projects!$A$5:$A$2426='Local Detail'!$D$3)*(Projects!$C$5:$C$2426<>'MDOT FTA Detail'!$C$4)*(Projects!$L$5:$L$2426='Local Detail'!$A56)*(Projects!$J$5:$J$2426<>'Local Detail'!$A$147)*(Projects!$O$5:$O$2426))))","v":0},0,{"$f":"SUMPRODUCT((Projects!$A$5:$A$2426='Local Detail'!$G$3)*(Projects!$C$5:$C$2426<>'MDOT FTA Detail'!$C$4)*(Projects!$L$5:$L$2426='Local Detail'!$A56)*(Projects!$K$5:$K$2426))","v":0},{"$f":"((SUMPRODUCT((Projects!$A$5:$A$2426='Local Detail'!$G$3)*(Projects!$C$5:$C$2426<>'MDOT FTA Detail'!$C$4)*(Projects!$L$5:$L$2426='Local Detail'!$A56)*(Projects!$J$5:$J$2426<>'Local Detail'!$A$147)*(Projects!$M$5:$M$2426)))+(SUMPRODUCT((Projects!$A$5:$A$2426='Local Detail'!$G$3)*(Projects!$C$5:$C$2426<>'MDOT FTA Detail'!$C$4)*(Projects!$L$5:$L$2426='Local Detail'!$A56)*(Projects!$J$5:$J$2426<>'Local Detail'!$A$147)*(Projects!$O$5:$O$2426))))","v":0},0,{"$f":"SUMPRODUCT((Projects!$A$5:$A$2426='Local Detail'!$J$3)*(Projects!$C$5:$C$2426<>'MDOT FTA Detail'!$C$4)*(Projects!$L$5:$L$2426='Local Detail'!$A56)*(Projects!$K$5:$K$2426))","v":0},{"$f":"((SUMPRODUCT((Projects!$A$5:$A$2426='Local Detail'!$J$3)*(Projects!$C$5:$C$2426<>'MDOT FTA Detail'!$C$4)*(Projects!$L$5:$L$2426='Local Detail'!$A56)*(Projects!$J$5:$J$2426<>'Local Detail'!$A$147)*(Projects!$M$5:$M$2426)))+(SUMPRODUCT((Projects!$A$5:$A$2426='Local Detail'!$J$3)*(Projects!$C$5:$C$2426<>'MDOT FTA Detail'!$C$4)*(Projects!$L$5:$L$2426='Local Detail'!$A56)*(Projects!$J$5:$J$2426<>'Local Detail'!$A$147)*(Projects!$O$5:$O$2426))))","v":0},0,{"$f":"SUMPRODUCT((Projects!$A$5:$A$2426='Local Detail'!$M$3)*(Projects!$C$5:$C$2426<>'MDOT FTA Detail'!$C$4)*(Projects!$L$5:$L$2426='Local Detail'!$A56)*(Projects!$K$5:$K$2426))","v":0},{"$f":"((SUMPRODUCT((Projects!$A$5:$A$2426='Local Detail'!$M$3)*(Projects!$C$5:$C$2426<>'MDOT FTA Detail'!$C$4)*(Projects!$L$5:$L$2426='Local Detail'!$A56)*(Projects!$J$5:$J$2426<>'Local Detail'!$A$147)*(Projects!$M$5:$M$2426)))+(SUMPRODUCT((Projects!$A$5:$A$2426='Local Detail'!$M$3)*(Projects!$C$5:$C$2426<>'MDOT FTA Detail'!$C$4)*(Projects!$L$5:$L$2426='Local Detail'!$A56)*(Projects!$J$5:$J$2426<>'Local Detail'!$A$147)*(Projects!$O$5:$O$2426))))","v":0},0]
["NCII","National Corridor Infrastructure Improvement - SAFETEA-LU","Local Other FHWA",{"$f":"SUMPRODUCT((Projects!$A$5:$A$2426='Local Detail'!$D$3)*(Projects!$C$5:$C$2426<>'MDOT FTA Detail'!$C$4)*(Projects!$L$5:$L$2426='Local Detail'!$A57)*(Projects!$K$5:$K$2426))","v":0},{"$f":"((SUMPRODUCT((Projects!$A$5:$A$2426='Local Detail'!$D$3)*(Projects!$C$5:$C$2426<>'MDOT FTA Detail'!$C$4)*(Projects!$L$5:$L$2426='Local Detail'!$A57)*(Projects!$J$5:$J$2426<>'Local Detail'!$A$147)*(Projects!$M$5:$M$2426)))+(SUMPRODUCT((Projects!$A$5:$A$2426='Local Detail'!$D$3)*(Projects!$C$5:$C$2426<>'MDOT FTA Detail'!$C$4)*(Projects!$L$5:$L$2426='Local Detail'!$A57)*(Projects!$J$5:$J$2426<>'Local Detail'!$A$147)*(Projects!$O$5:$O$2426))))","v":0},0,{"$f":"SUMPRODUCT((Projects!$A$5:$A$2426='Local Detail'!$G$3)*(Projects!$C$5:$C$2426<>'MDOT FTA Detail'!$C$4)*(Projects!$L$5:$L$2426='Local Detail'!$A57)*(Projects!$K$5:$K$2426))","v":0},{"$f":"((SUMPRODUCT((Projects!$A$5:$A$2426='Local Detail'!$G$3)*(Projects!$C$5:$C$2426<>'MDOT FTA Detail'!$C$4)*(Projects!$L$5:$L$2426='Local Detail'!$A57)*(Projects!$J$5:$J$2426<>'Local Detail'!$A$147)*(Projects!$M$5:$M$2426)))+(SUMPRODUCT((Projects!$A$5:$A$2426='Local Detail'!$G$3)*(Projects!$C$5:$C$2426<>'MDOT FTA Detail'!$C$4)*(Projects!$L$5:$L$2426='Local Detail'!$A57)*(Projects!$J$5:$J$2426<>'Local Detail'!$A$147)*(Projects!$O$5:$O$2426))))","v":0},0,{"$f":"SUMPRODUCT((Projects!$A$5:$A$2426='Local Detail'!$J$3)*(Projects!$C$5:$C$2426<>'MDOT FTA Detail'!$C$4)*(Projects!$L$5:$L$2426='Local Detail'!$A57)*(Projects!$K$5:$K$2426))","v":0},{"$f":"((SUMPRODUCT((Projects!$A$5:$A$2426='Local Detail'!$J$3)*(Projects!$C$5:$C$2426<>'MDOT FTA Detail'!$C$4)*(Projects!$L$5:$L$2426='Local Detail'!$A57)*(Projects!$J$5:$J$2426<>'Local Detail'!$A$147)*(Projects!$M$5:$M$2426)))+(SUMPRODUCT((Projects!$A$5:$A$2426='Local Detail'!$J$3)*(Projects!$C$5:$C$2426<>'MDOT FTA Detail'!$C$4)*(Projects!$L$5:$L$2426='Local Detail'!$A57)*(Projects!$J$5:$J$2426<>'Local Detail'!$A$147)*(Projects!$O$5:$O$2426))))","v":0},0,{"$f":"SUMPRODUCT((Projects!$A$5:$A$2426='Local Detail'!$M$3)*(Projects!$C$5:$C$2426<>'MDOT FTA Detail'!$C$4)*(Projects!$L$5:$L$2426='Local Detail'!$A57)*(Projects!$K$5:$K$2426))","v":0},{"$f":"((SUMPRODUCT((Projects!$A$5:$A$2426='Local Detail'!$M$3)*(Projects!$C$5:$C$2426<>'MDOT FTA Detail'!$C$4)*(Projects!$L$5:$L$2426='Local Detail'!$A57)*(Projects!$J$5:$J$2426<>'Local Detail'!$A$147)*(Projects!$M$5:$M$2426)))+(SUMPRODUCT((Projects!$A$5:$A$2426='Local Detail'!$M$3)*(Projects!$C$5:$C$2426<>'MDOT FTA Detail'!$C$4)*(Projects!$L$5:$L$2426='Local Detail'!$A57)*(Projects!$J$5:$J$2426<>'Local Detail'!$A$147)*(Projects!$O$5:$O$2426))))","v":0},0]
["NH","National Highway System","Local Other FHWA",{"$f":"SUMPRODUCT((Projects!$A$5:$A$2426='Local Detail'!$D$3)*(Projects!$C$5:$C$2426<>'MDOT FTA Detail'!$C$4)*(Projects!$L$5:$L$2426='Local Detail'!$A58)*(Projects!$K$5:$K$2426))","v":0},{"$f":"((SUMPRODUCT((Projects!$A$5:$A$2426='Local Detail'!$D$3)*(Projects!$C$5:$C$2426<>'MDOT FTA Detail'!$C$4)*(Projects!$L$5:$L$2426='Local Detail'!$A58)*(Projects!$J$5:$J$2426<>'Local Detail'!$A$147)*(Projects!$M$5:$M$2426)))+(SUMPRODUCT((Projects!$A$5:$A$2426='Local Detail'!$D$3)*(Projects!$C$5:$C$2426<>'MDOT FTA Detail'!$C$4)*(Projects!$L$5:$L$2426='Local Detail'!$A58)*(Projects!$J$5:$J$2426<>'Local Detail'!$A$147)*(Projects!$O$5:$O$2426))))","v":0},0,{"$f":"SUMPRODUCT((Projects!$A$5:$A$2426='Local Detail'!$G$3)*(Projects!$C$5:$C$2426<>'MDOT FTA Detail'!$C$4)*(Projects!$L$5:$L$2426='Local Detail'!$A58)*(Projects!$K$5:$K$2426))","v":0},{"$f":"((SUMPRODUCT((Projects!$A$5:$A$2426='Local Detail'!$G$3)*(Projects!$C$5:$C$2426<>'MDOT FTA Detail'!$C$4)*(Projects!$L$5:$L$2426='Local Detail'!$A58)*(Projects!$J$5:$J$2426<>'Local Detail'!$A$147)*(Projects!$M$5:$M$2426)))+(SUMPRODUCT((Projects!$A$5:$A$2426='Local Detail'!$G$3)*(Projects!$C$5:$C$2426<>'MDOT FTA Detail'!$C$4)*(Projects!$L$5:$L$2426='Local Detail'!$A58)*(Projects!$J$5:$J$2426<>'Local Detail'!$A$147)*(Projects!$O$5:$O$2426))))","v":0},0,{"$f":"SUMPRODUCT((Projects!$A$5:$A$2426='Local Detail'!$J$3)*(Projects!$C$5:$C$2426<>'MDOT FTA Detail'!$C$4)*(Projects!$L$5:$L$2426='Local Detail'!$A58)*(Projects!$K$5:$K$2426))","v":0},{"$f":"((SUMPRODUCT((Projects!$A$5:$A$2426='Local Detail'!$J$3)*(Projects!$C$5:$C$2426<>'MDOT FTA Detail'!$C$4)*(Projects!$L$5:$L$2426='Local Detail'!$A58)*(Projects!$J$5:$J$2426<>'Local Detail'!$A$147)*(Projects!$M$5:$M$2426)))+(SUMPRODUCT((Projects!$A$5:$A$2426='Local Detail'!$J$3)*(Projects!$C$5:$C$2426<>'MDOT FTA Detail'!$C$4)*(Projects!$L$5:$L$2426='Local Detail'!$A58)*(Projects!$J$5:$J$2426<>'Local Detail'!$A$147)*(Projects!$O$5:$O$2426))))","v":0},0,{"$f":"SUMPRODUCT((Projects!$A$5:$A$2426='Local Detail'!$M$3)*(Projects!$C$5:$C$2426<>'MDOT FTA Detail'!$C$4)*(Projects!$L$5:$L$2426='Local Detail'!$A58)*(Projects!$K$5:$K$2426))","v":0},{"$f":"((SUMPRODUCT((Projects!$A$5:$A$2426='Local Detail'!$M$3)*(Projects!$C$5:$C$2426<>'MDOT FTA Detail'!$C$4)*(Projects!$L$5:$L$2426='Local Detail'!$A58)*(Projects!$J$5:$J$2426<>'Local Detail'!$A$147)*(Projects!$M$5:$M$2426)))+(SUMPRODUCT((Projects!$A$5:$A$2426='Local Detail'!$M$3)*(Projects!$C$5:$C$2426<>'MDOT FTA Detail'!$C$4)*(Projects!$L$5:$L$2426='Local Detail'!$A58)*(Projects!$J$5:$J$2426<>'Local Detail'!$A$147)*(Projects!$O$5:$O$2426))))","v":0},0]
["NHG","National Highway System - Safety - 100% Federal","Local Other FHWA",{"$f":"SUMPRODUCT((Projects!$A$5:$A$2426='Local Detail'!$D$3)*(Projects!$C$5:$C$2426<>'MDOT FTA Detail'!$C$4)*(Projects!$L$5:$L$2426='Local Detail'!$A59)*(Projects!$K$5:$K$2426))","v":0},{"$f":"((SUMPRODUCT((Projects!$A$5:$A$2426='Local Detail'!$D$3)*(Projects!$C$5:$C$2426<>'MDOT FTA Detail'!$C$4)*(Projects!$L$5:$L$2426='Local Detail'!$A59)*(Projects!$J$5:$J$2426<>'Local Detail'!$A$147)*(Projects!$M$5:$M$2426)))+(SUMPRODUCT((Projects!$A$5:$A$2426='Local Detail'!$D$3)*(Projects!$C$5:$C$2426<>'MDOT FTA Detail'!$C$4)*(Projects!$L$5:$L$2426='Local Detail'!$A59)*(Projects!$J$5:$J$2426<>'Local Detail'!$A$147)*(Projects!$O$5:$O$2426))))","v":0},0,{"$f":"SUMPRODUCT((Projects!$A$5:$A$2426='Local Detail'!$G$3)*(Projects!$C$5:$C$2426<>'MDOT FTA Detail'!$C$4)*(Projects!$L$5:$L$2426='Local Detail'!$A59)*(Projects!$K$5:$K$2426))","v":0},{"$f":"((SUMPRODUCT((Projects!$A$5:$A$2426='Local Detail'!$G$3)*(Projects!$C$5:$C$2426<>'MDOT FTA Detail'!$C$4)*(Projects!$L$5:$L$2426='Local Detail'!$A59)*(Projects!$J$5:$J$2426<>'Local Detail'!$A$147)*(Projects!$M$5:$M$2426)))+(SUMPRODUCT((Projects!$A$5:$A$2426='Local Detail'!$G$3)*(Projects!$C$5:$C$2426<>'MDOT FTA Detail'!$C$4)*(Projects!$L$5:$L$2426='Local Detail'!$A59)*(Projects!$J$5:$J$2426<>'Local Detail'!$A$147)*(Projects!$O$5:$O$2426))))","v":0},0,{"$f":"SUMPRODUCT((Projects!$A$5:$A$2426='Local Detail'!$J$3)*(Projects!$C$5:$C$2426<>'MDOT FTA Detail'!$C$4)*(Projects!$L$5:$L$2426='Local Detail'!$A59)*(Projects!$K$5:$K$2426))","v":0},{"$f":"((SUMPRODUCT((Projects!$A$5:$A$2426='Local Detail'!$J$3)*(Projects!$C$5:$C$2426<>'MDOT FTA Detail'!$C$4)*(Projects!$L$5:$L$2426='Local Detail'!$A59)*(Projects!$J$5:$J$2426<>'Local Detail'!$A$147)*(Projects!$M$5:$M$2426)))+(SUMPRODUCT((Projects!$A$5:$A$2426='Local Detail'!$J$3)*(Projects!$C$5:$C$2426<>'MDOT FTA Detail'!$C$4)*(Projects!$L$5:$L$2426='Local Detail'!$A59)*(Projects!$J$5:$J$2426<>'Local Detail'!$A$147)*(Projects!$O$5:$O$2426))))","v":0},0,{"$f":"SUMPRODUCT((Projects!$A$5:$A$2426='Local Detail'!$M$3)*(Projects!$C$5:$C$2426<>'MDOT FTA Detail'!$C$4)*(Projects!$L$5:$L$2426='Local Detail'!$A59)*(Projects!$K$5:$K$2426))","v":0},{"$f":"((SUMPRODUCT((Projects!$A$5:$A$2426='Local Detail'!$M$3)*(Projects!$C$5:$C$2426<>'MDOT FTA Detail'!$C$4)*(Projects!$L$5:$L$2426='Local Detail'!$A59)*(Projects!$J$5:$J$2426<>'Local Detail'!$A$147)*(Projects!$M$5:$M$2426)))+(SUMPRODUCT((Projects!$A$5:$A$2426='Local Detail'!$M$3)*(Projects!$C$5:$C$2426<>'MDOT FTA Detail'!$C$4)*(Projects!$L$5:$L$2426='Local Detail'!$A59)*(Projects!$J$5:$J$2426<>'Local Detail'!$A$147)*(Projects!$O$5:$O$2426))))","v":0},0]
["NHI","National Highway Funds on I (Does not Qualify for I)","Local Other FHWA",{"$f":"SUMPRODUCT((Projects!$A$5:$A$2426='Local Detail'!$D$3)*(Projects!$C$5:$C$2426<>'MDOT FTA Detail'!$C$4)*(Projects!$L$5:$L$2426='Local Detail'!$A60)*(Projects!$K$5:$K$2426))","v":0},{"$f":"((SUMPRODUCT((Projects!$A$5:$A$2426='Local Detail'!$D$3)*(Projects!$C$5:$C$2426<>'MDOT FTA Detail'!$C$4)*(Projects!$L$5:$L$2426='Local Detail'!$A60)*(Projects!$J$5:$J$2426<>'Local Detail'!$A$147)*(Projects!$M$5:$M$2426)))+(SUMPRODUCT((Projects!$A$5:$A$2426='Local Detail'!$D$3)*(Projects!$C$5:$C$2426<>'MDOT FTA Detail'!$C$4)*(Projects!$L$5:$L$2426='Local Detail'!$A60)*(Projects!$J$5:$J$2426<>'Local Detail'!$A$147)*(Projects!$O$5:$O$2426))))","v":0},0,{"$f":"SUMPRODUCT((Projects!$A$5:$A$2426='Local Detail'!$G$3)*(Projects!$C$5:$C$2426<>'MDOT FTA Detail'!$C$4)*(Projects!$L$5:$L$2426='Local Detail'!$A60)*(Projects!$K$5:$K$2426))","v":0},{"$f":"((SUMPRODUCT((Projects!$A$5:$A$2426='Local Detail'!$G$3)*(Projects!$C$5:$C$2426<>'MDOT FTA Detail'!$C$4)*(Projects!$L$5:$L$2426='Local Detail'!$A60)*(Projects!$J$5:$J$2426<>'Local Detail'!$A$147)*(Projects!$M$5:$M$2426)))+(SUMPRODUCT((Projects!$A$5:$A$2426='Local Detail'!$G$3)*(Projects!$C$5:$C$2426<>'MDOT FTA Detail'!$C$4)*(Projects!$L$5:$L$2426='Local Detail'!$A60)*(Projects!$J$5:$J$2426<>'Local Detail'!$A$147)*(Projects!$O$5:$O$2426))))","v":0},0,{"$f":"SUMPRODUCT((Projects!$A$5:$A$2426='Local Detail'!$J$3)*(Projects!$C$5:$C$2426<>'MDOT FTA Detail'!$C$4)*(Projects!$L$5:$L$2426='Local Detail'!$A60)*(Projects!$K$5:$K$2426))","v":0},{"$f":"((SUMPRODUCT((Projects!$A$5:$A$2426='Local Detail'!$J$3)*(Projects!$C$5:$C$2426<>'MDOT FTA Detail'!$C$4)*(Projects!$L$5:$L$2426='Local Detail'!$A60)*(Projects!$J$5:$J$2426<>'Local Detail'!$A$147)*(Projects!$M$5:$M$2426)))+(SUMPRODUCT((Projects!$A$5:$A$2426='Local Detail'!$J$3)*(Projects!$C$5:$C$2426<>'MDOT FTA Detail'!$C$4)*(Projects!$L$5:$L$2426='Local Detail'!$A60)*(Projects!$J$5:$J$2426<>'Local Detail'!$A$147)*(Projects!$O$5:$O$2426))))","v":0},0,{"$f":"SUMPRODUCT((Projects!$A$5:$A$2426='Local Detail'!$M$3)*(Projects!$C$5:$C$2426<>'MDOT FTA Detail'!$C$4)*(Projects!$L$5:$L$2426='Local Detail'!$A60)*(Projects!$K$5:$K$2426))","v":0},{"$f":"((SUMPRODUCT((Projects!$A$5:$A$2426='Local Detail'!$M$3)*(Projects!$C$5:$C$2426<>'MDOT FTA Detail'!$C$4)*(Projects!$L$5:$L$2426='Local Detail'!$A60)*(Projects!$J$5:$J$2426<>'Local Detail'!$A$147)*(Projects!$M$5:$M$2426)))+(SUMPRODUCT((Projects!$A$5:$A$2426='Local Detail'!$M$3)*(Projects!$C$5:$C$2426<>'MDOT FTA Detail'!$C$4)*(Projects!$L$5:$L$2426='Local Detail'!$A60)*(Projects!$J$5:$J$2426<>'Local Detail'!$A$147)*(Projects!$O$5:$O$2426))))","v":0},0]
["NHIM","National Highway Funds on I (Qualifies for IM)","Local Other FHWA",{"$f":"SUMPRODUCT((Projects!$A$5:$A$2426='Local Detail'!$D$3)*(Projects!$C$5:$C$2426<>'MDOT FTA Detail'!$C$4)*(Projects!$L$5:$L$2426='Local Detail'!$A61)*(Projects!$K$5:$K$2426))","v":0},{"$f":"((SUMPRODUCT((Projects!$A$5:$A$2426='Local Detail'!$D$3)*(Projects!$C$5:$C$2426<>'MDOT FTA Detail'!$C$4)*(Projects!$L$5:$L$2426='Local Detail'!$A61)*(Projects!$J$5:$J$2426<>'Local Detail'!$A$147)*(Projects!$M$5:$M$2426)))+(SUMPRODUCT((Projects!$A$5:$A$2426='Local Detail'!$D$3)*(Projects!$C$5:$C$2426<>'MDOT FTA Detail'!$C$4)*(Projects!$L$5:$L$2426='Local Detail'!$A61)*(Projects!$J$5:$J$2426<>'Local Detail'!$A$147)*(Projects!$O$5:$O$2426))))","v":0},0,{"$f":"SUMPRODUCT((Projects!$A$5:$A$2426='Local Detail'!$G$3)*(Projects!$C$5:$C$2426<>'MDOT FTA Detail'!$C$4)*(Projects!$L$5:$L$2426='Local Detail'!$A61)*(Projects!$K$5:$K$2426))","v":0},{"$f":"((SUMPRODUCT((Projects!$A$5:$A$2426='Local Detail'!$G$3)*(Projects!$C$5:$C$2426<>'MDOT FTA Detail'!$C$4)*(Projects!$L$5:$L$2426='Local Detail'!$A61)*(Projects!$J$5:$J$2426<>'Local Detail'!$A$147)*(Projects!$M$5:$M$2426)))+(SUMPRODUCT((Projects!$A$5:$A$2426='Local Detail'!$G$3)*(Projects!$C$5:$C$2426<>'MDOT FTA Detail'!$C$4)*(Projects!$L$5:$L$2426='Local Detail'!$A61)*(Projects!$J$5:$J$2426<>'Local Detail'!$A$147)*(Projects!$O$5:$O$2426))))","v":0},0,{"$f":"SUMPRODUCT((Projects!$A$5:$A$2426='Local Detail'!$J$3)*(Projects!$C$5:$C$2426<>'MDOT FTA Detail'!$C$4)*(Projects!$L$5:$L$2426='Local Detail'!$A61)*(Projects!$K$5:$K$2426))","v":0},{"$f":"((SUMPRODUCT((Projects!$A$5:$A$2426='Local Detail'!$J$3)*(Projects!$C$5:$C$2426<>'MDOT FTA Detail'!$C$4)*(Projects!$L$5:$L$2426='Local Detail'!$A61)*(Projects!$J$5:$J$2426<>'Local Detail'!$A$147)*(Projects!$M$5:$M$2426)))+(SUMPRODUCT((Projects!$A$5:$A$2426='Local Detail'!$J$3)*(Projects!$C$5:$C$2426<>'MDOT FTA Detail'!$C$4)*(Projects!$L$5:$L$2426='Local Detail'!$A61)*(Projects!$J$5:$J$2426<>'Local Detail'!$A$147)*(Projects!$O$5:$O$2426))))","v":0},0,{"$f":"SUMPRODUCT((Projects!$A$5:$A$2426='Local Detail'!$M$3)*(Projects!$C$5:$C$2426<>'MDOT FTA Detail'!$C$4)*(Projects!$L$5:$L$2426='Local Detail'!$A61)*(Projects!$K$5:$K$2426))","v":0},{"$f":"((SUMPRODUCT((Projects!$A$5:$A$2426='Local Detail'!$M$3)*(Projects!$C$5:$C$2426<>'MDOT FTA Detail'!$C$4)*(Projects!$L$5:$L$2426='Local Detail'!$A61)*(Projects!$J$5:$J$2426<>'Local Detail'!$A$147)*(Projects!$M$5:$M$2426)))+(SUMPRODUCT((Projects!$A$5:$A$2426='Local Detail'!$M$3)*(Projects!$C$5:$C$2426<>'MDOT FTA Detail'!$C$4)*(Projects!$L$5:$L$2426='Local Detail'!$A61)*(Projects!$J$5:$J$2426<>'Local Detail'!$A$147)*(Projects!$O$5:$O$2426))))","v":0},0]
["NHS","National Highway System - MDOT Safety Program","Local Other FHWA",{"$f":"SUMPRODUCT((Projects!$A$5:$A$2426='Local Detail'!$D$3)*(Projects!$C$5:$C$2426<>'MDOT FTA Detail'!$C$4)*(Projects!$L$5:$L$2426='Local Detail'!$A62)*(Projects!$K$5:$K$2426))","v":0},{"$f":"((SUMPRODUCT((Projects!$A$5:$A$2426='Local Detail'!$D$3)*(Projects!$C$5:$C$2426<>'MDOT FTA Detail'!$C$4)*(Projects!$L$5:$L$2426='Local Detail'!$A62)*(Projects!$J$5:$J$2426<>'Local Detail'!$A$147)*(Projects!$M$5:$M$2426)))+(SUMPRODUCT((Projects!$A$5:$A$2426='Local Detail'!$D$3)*(Projects!$C$5:$C$2426<>'MDOT FTA Detail'!$C$4)*(Projects!$L$5:$L$2426='Local Detail'!$A62)*(Projects!$J$5:$J$2426<>'Local Detail'!$A$147)*(Projects!$O$5:$O$2426))))","v":0},0,{"$f":"SUMPRODUCT((Projects!$A$5:$A$2426='Local Detail'!$G$3)*(Projects!$C$5:$C$2426<>'MDOT FTA Detail'!$C$4)*(Projects!$L$5:$L$2426='Local Detail'!$A62)*(Projects!$K$5:$K$2426))","v":0},{"$f":"((SUMPRODUCT((Projects!$A$5:$A$2426='Local Detail'!$G$3)*(Projects!$C$5:$C$2426<>'MDOT FTA Detail'!$C$4)*(Projects!$L$5:$L$2426='Local Detail'!$A62)*(Projects!$J$5:$J$2426<>'Local Detail'!$A$147)*(Projects!$M$5:$M$2426)))+(SUMPRODUCT((Projects!$A$5:$A$2426='Local Detail'!$G$3)*(Projects!$C$5:$C$2426<>'MDOT FTA Detail'!$C$4)*(Projects!$L$5:$L$2426='Local Detail'!$A62)*(Projects!$J$5:$J$2426<>'Local Detail'!$A$147)*(Projects!$O$5:$O$2426))))","v":0},0,{"$f":"SUMPRODUCT((Projects!$A$5:$A$2426='Local Detail'!$J$3)*(Projects!$C$5:$C$2426<>'MDOT FTA Detail'!$C$4)*(Projects!$L$5:$L$2426='Local Detail'!$A62)*(Projects!$K$5:$K$2426))","v":0},{"$f":"((SUMPRODUCT((Projects!$A$5:$A$2426='Local Detail'!$J$3)*(Projects!$C$5:$C$2426<>'MDOT FTA Detail'!$C$4)*(Projects!$L$5:$L$2426='Local Detail'!$A62)*(Projects!$J$5:$J$2426<>'Local Detail'!$A$147)*(Projects!$M$5:$M$2426)))+(SUMPRODUCT((Projects!$A$5:$A$2426='Local Detail'!$J$3)*(Projects!$C$5:$C$2426<>'MDOT FTA Detail'!$C$4)*(Projects!$L$5:$L$2426='Local Detail'!$A62)*(Projects!$J$5:$J$2426<>'Local Detail'!$A$147)*(Projects!$O$5:$O$2426))))","v":0},0,{"$f":"SUMPRODUCT((Projects!$A$5:$A$2426='Local Detail'!$M$3)*(Projects!$C$5:$C$2426<>'MDOT FTA Detail'!$C$4)*(Projects!$L$5:$L$2426='Local Detail'!$A62)*(Projects!$K$5:$K$2426))","v":0},{"$f":"((SUMPRODUCT((Projects!$A$5:$A$2426='Local Detail'!$M$3)*(Projects!$C$5:$C$2426<>'MDOT FTA Detail'!$C$4)*(Projects!$L$5:$L$2426='Local Detail'!$A62)*(Projects!$J$5:$J$2426<>'Local Detail'!$A$147)*(Projects!$M$5:$M$2426)))+(SUMPRODUCT((Projects!$A$5:$A$2426='Local Detail'!$M$3)*(Projects!$C$5:$C$2426<>'MDOT FTA Detail'!$C$4)*(Projects!$L$5:$L$2426='Local Detail'!$A62)*(Projects!$J$5:$J$2426<>'Local Detail'!$A$147)*(Projects!$O$5:$O$2426))))","v":0},0]
["NRT","National Recreational Trails","Local Other FHWA",{"$f":"SUMPRODUCT((Projects!$A$5:$A$2426='Local Detail'!$D$3)*(Projects!$C$5:$C$2426<>'MDOT FTA Detail'!$C$4)*(Projects!$L$5:$L$2426='Local Detail'!$A63)*(Projects!$K$5:$K$2426))","v":0},{"$f":"((SUMPRODUCT((Projects!$A$5:$A$2426='Local Detail'!$D$3)*(Projects!$C$5:$C$2426<>'MDOT FTA Detail'!$C$4)*(Projects!$L$5:$L$2426='Local Detail'!$A63)*(Projects!$J$5:$J$2426<>'Local Detail'!$A$147)*(Projects!$M$5:$M$2426)))+(SUMPRODUCT((Projects!$A$5:$A$2426='Local Detail'!$D$3)*(Projects!$C$5:$C$2426<>'MDOT FTA Detail'!$C$4)*(Projects!$L$5:$L$2426='Local Detail'!$A63)*(Projects!$J$5:$J$2426<>'Local Detail'!$A$147)*(Projects!$O$5:$O$2426))))","v":0},0,{"$f":"SUMPRODUCT((Projects!$A$5:$A$2426='Local Detail'!$G$3)*(Projects!$C$5:$C$2426<>'MDOT FTA Detail'!$C$4)*(Projects!$L$5:$L$2426='Local Detail'!$A63)*(Projects!$K$5:$K$2426))","v":0},{"$f":"((SUMPRODUCT((Projects!$A$5:$A$2426='Local Detail'!$G$3)*(Projects!$C$5:$C$2426<>'MDOT FTA Detail'!$C$4)*(Projects!$L$5:$L$2426='Local Detail'!$A63)*(Projects!$J$5:$J$2426<>'Local Detail'!$A$147)*(Projects!$M$5:$M$2426)))+(SUMPRODUCT((Projects!$A$5:$A$2426='Local Detail'!$G$3)*(Projects!$C$5:$C$2426<>'MDOT FTA Detail'!$C$4)*(Projects!$L$5:$L$2426='Local Detail'!$A63)*(Projects!$J$5:$J$2426<>'Local Detail'!$A$147)*(Projects!$O$5:$O$2426))))","v":0},0,{"$f":"SUMPRODUCT((Projects!$A$5:$A$2426='Local Detail'!$J$3)*(Projects!$C$5:$C$2426<>'MDOT FTA Detail'!$C$4)*(Projects!$L$5:$L$2426='Local Detail'!$A63)*(Projects!$K$5:$K$2426))","v":0},{"$f":"((SUMPRODUCT((Projects!$A$5:$A$2426='Local Detail'!$J$3)*(Projects!$C$5:$C$2426<>'MDOT FTA Detail'!$C$4)*(Projects!$L$5:$L$2426='Local Detail'!$A63)*(Projects!$J$5:$J$2426<>'Local Detail'!$A$147)*(Projects!$M$5:$M$2426)))+(SUMPRODUCT((Projects!$A$5:$A$2426='Local Detail'!$J$3)*(Projects!$C$5:$C$2426<>'MDOT FTA Detail'!$C$4)*(Projects!$L$5:$L$2426='Local Detail'!$A63)*(Projects!$J$5:$J$2426<>'Local Detail'!$A$147)*(Projects!$O$5:$O$2426))))","v":0},0,{"$f":"SUMPRODUCT((Projects!$A$5:$A$2426='Local Detail'!$M$3)*(Projects!$C$5:$C$2426<>'MDOT FTA Detail'!$C$4)*(Projects!$L$5:$L$2426='Local Detail'!$A63)*(Projects!$K$5:$K$2426))","v":0},{"$f":"((SUMPRODUCT((Projects!$A$5:$A$2426='Local Detail'!$M$3)*(Projects!$C$5:$C$2426<>'MDOT FTA Detail'!$C$4)*(Projects!$L$5:$L$2426='Local Detail'!$A63)*(Projects!$J$5:$J$2426<>'Local Detail'!$A$147)*(Projects!$M$5:$M$2426)))+(SUMPRODUCT((Projects!$A$5:$A$2426='Local Detail'!$M$3)*(Projects!$C$5:$C$2426<>'MDOT FTA Detail'!$C$4)*(Projects!$L$5:$L$2426='Local Detail'!$A63)*(Projects!$J$5:$J$2426<>'Local Detail'!$A$147)*(Projects!$O$5:$O$2426))))","v":0},0]
["OFHWA","Other FHWA Funds (Specify source in Comments)","Local Other FHWA",{"$f":"SUMPRODUCT((Projects!$A$5:$A$2426='Local Detail'!$D$3)*(Projects!$C$5:$C$2426<>'MDOT FTA Detail'!$C$4)*(Projects!$L$5:$L$2426='Local Detail'!$A64)*(Projects!$K$5:$K$2426))","v":0},{"$f":"((SUMPRODUCT((Projects!$A$5:$A$2426='Local Detail'!$D$3)*(Projects!$C$5:$C$2426<>'MDOT FTA Detail'!$C$4)*(Projects!$L$5:$L$2426='Local Detail'!$A64)*(Projects!$J$5:$J$2426<>'Local Detail'!$A$147)*(Projects!$M$5:$M$2426)))+(SUMPRODUCT((Projects!$A$5:$A$2426='Local Detail'!$D$3)*(Projects!$C$5:$C$2426<>'MDOT FTA Detail'!$C$4)*(Projects!$L$5:$L$2426='Local Detail'!$A64)*(Projects!$J$5:$J$2426<>'Local Detail'!$A$147)*(Projects!$O$5:$O$2426))))","v":0},0,{"$f":"SUMPRODUCT((Projects!$A$5:$A$2426='Local Detail'!$G$3)*(Projects!$C$5:$C$2426<>'MDOT FTA Detail'!$C$4)*(Projects!$L$5:$L$2426='Local Detail'!$A64)*(Projects!$K$5:$K$2426))","v":0},{"$f":"((SUMPRODUCT((Projects!$A$5:$A$2426='Local Detail'!$G$3)*(Projects!$C$5:$C$2426<>'MDOT FTA Detail'!$C$4)*(Projects!$L$5:$L$2426='Local Detail'!$A64)*(Projects!$J$5:$J$2426<>'Local Detail'!$A$147)*(Projects!$M$5:$M$2426)))+(SUMPRODUCT((Projects!$A$5:$A$2426='Local Detail'!$G$3)*(Projects!$C$5:$C$2426<>'MDOT FTA Detail'!$C$4)*(Projects!$L$5:$L$2426='Local Detail'!$A64)*(Projects!$J$5:$J$2426<>'Local Detail'!$A$147)*(Projects!$O$5:$O$2426))))","v":0},0,{"$f":"SUMPRODUCT((Projects!$A$5:$A$2426='Local Detail'!$J$3)*(Projects!$C$5:$C$2426<>'MDOT FTA Detail'!$C$4)*(Projects!$L$5:$L$2426='Local Detail'!$A64)*(Projects!$K$5:$K$2426))","v":0},{"$f":"((SUMPRODUCT((Projects!$A$5:$A$2426='Local Detail'!$J$3)*(Projects!$C$5:$C$2426<>'MDOT FTA Detail'!$C$4)*(Projects!$L$5:$L$2426='Local Detail'!$A64)*(Projects!$J$5:$J$2426<>'Local Detail'!$A$147)*(Projects!$M$5:$M$2426)))+(SUMPRODUCT((Projects!$A$5:$A$2426='Local Detail'!$J$3)*(Projects!$C$5:$C$2426<>'MDOT FTA Detail'!$C$4)*(Projects!$L$5:$L$2426='Local Detail'!$A64)*(Projects!$J$5:$J$2426<>'Local Detail'!$A$147)*(Projects!$O$5:$O$2426))))","v":0},0,{"$f":"SUMPRODUCT((Projects!$A$5:$A$2426='Local Detail'!$M$3)*(Projects!$C$5:$C$2426<>'MDOT FTA Detail'!$C$4)*(Projects!$L$5:$L$2426='Local Detail'!$A64)*(Projects!$K$5:$K$2426))","v":0},{"$f":"((SUMPRODUCT((Projects!$A$5:$A$2426='Local Detail'!$M$3)*(Projects!$C$5:$C$2426<>'MDOT FTA Detail'!$C$4)*(Projects!$L$5:$L$2426='Local Detail'!$A64)*(Projects!$J$5:$J$2426<>'Local Detail'!$A$147)*(Projects!$M$5:$M$2426)))+(SUMPRODUCT((Projects!$A$5:$A$2426='Local Detail'!$M$3)*(Projects!$C$5:$C$2426<>'MDOT FTA Detail'!$C$4)*(Projects!$L$5:$L$2426='Local Detail'!$A64)*(Projects!$J$5:$J$2426<>'Local Detail'!$A$147)*(Projects!$O$5:$O$2426))))","v":0},0]
["PNRS","Projects of National and Regional Significance","Local Other FHWA",{"$f":"SUMPRODUCT((Projects!$A$5:$A$2426='Local Detail'!$D$3)*(Projects!$C$5:$C$2426<>'MDOT FTA Detail'!$C$4)*(Projects!$L$5:$L$2426='Local Detail'!$A65)*(Projects!$K$5:$K$2426))","v":0},{"$f":"((SUMPRODUCT((Projects!$A$5:$A$2426='Local Detail'!$D$3)*(Projects!$C$5:$C$2426<>'MDOT FTA Detail'!$C$4)*(Projects!$L$5:$L$2426='Local Detail'!$A65)*(Projects!$J$5:$J$2426<>'Local Detail'!$A$147)*(Projects!$M$5:$M$2426)))+(SUMPRODUCT((Projects!$A$5:$A$2426='Local Detail'!$D$3)*(Projects!$C$5:$C$2426<>'MDOT FTA Detail'!$C$4)*(Projects!$L$5:$L$2426='Local Detail'!$A65)*(Projects!$J$5:$J$2426<>'Local Detail'!$A$147)*(Projects!$O$5:$O$2426))))","v":0},{"$f":"D65+E65","v":0},{"$f":"SUMPRODUCT((Projects!$A$5:$A$2426='Local Detail'!$G$3)*(Projects!$C$5:$C$2426<>'MDOT FTA Detail'!$C$4)*(Projects!$L$5:$L$2426='Local Detail'!$A65)*(Projects!$K$5:$K$2426))","v":0},{"$f":"((SUMPRODUCT((Projects!$A$5:$A$2426='Local Detail'!$G$3)*(Projects!$C$5:$C$2426<>'MDOT FTA Detail'!$C$4)*(Projects!$L$5:$L$2426='Local Detail'!$A65)*(Projects!$J$5:$J$2426<>'Local Detail'!$A$147)*(Projects!$M$5:$M$2426)))+(SUMPRODUCT((Projects!$A$5:$A$2426='Local Detail'!$G$3)*(Projects!$C$5:$C$2426<>'MDOT FTA Detail'!$C$4)*(Projects!$L$5:$L$2426='Local Detail'!$A65)*(Projects!$J$5:$J$2426<>'Local Detail'!$A$147)*(Projects!$O$5:$O$2426))))","v":0},{"$f":"G65+H65","v":0},{"$f":"SUMPRODUCT((Projects!$A$5:$A$2426='Local Detail'!$J$3)*(Projects!$C$5:$C$2426<>'MDOT FTA Detail'!$C$4)*(Projects!$L$5:$L$2426='Local Detail'!$A65)*(Projects!$K$5:$K$2426))","v":0},{"$f":"((SUMPRODUCT((Projects!$A$5:$A$2426='Local Detail'!$J$3)*(Projects!$C$5:$C$2426<>'MDOT FTA Detail'!$C$4)*(Projects!$L$5:$L$2426='Local Detail'!$A65)*(Projects!$J$5:$J$2426<>'Local Detail'!$A$147)*(Projects!$M$5:$M$2426)))+(SUMPRODUCT((Projects!$A$5:$A$2426='Local Detail'!$J$3)*(Projects!$C$5:$C$2426<>'MDOT FTA Detail'!$C$4)*(Projects!$L$5:$L$2426='Local Detail'!$A65)*(Projects!$J$5:$J$2426<>'Local Detail'!$A$147)*(Projects!$O$5:$O$2426))))","v":0},{"$f":"J65+K65","v":0},{"$f":"SUMPRODUCT((Projects!$A$5:$A$2426='Local Detail'!$M$3)*(Projects!$C$5:$C$2426<>'MDOT FTA Detail'!$C$4)*(Projects!$L$5:$L$2426='Local Detail'!$A65)*(Projects!$K$5:$K$2426))","v":0},{"$f":"((SUMPRODUCT((Projects!$A$5:$A$2426='Local Detail'!$M$3)*(Projects!$C$5:$C$2426<>'MDOT FTA Detail'!$C$4)*(Projects!$L$5:$L$2426='Local Detail'!$A65)*(Projects!$J$5:$J$2426<>'Local Detail'!$A$147)*(Projects!$M$5:$M$2426)))+(SUMPRODUCT((Projects!$A$5:$A$2426='Local Detail'!$M$3)*(Projects!$C$5:$C$2426<>'MDOT FTA Detail'!$C$4)*(Projects!$L$5:$L$2426='Local Detail'!$A65)*(Projects!$J$5:$J$2426<>'Local Detail'!$A$147)*(Projects!$O$5:$O$2426))))","v":0},{"$f":"M65+N65","v":0}]
["PRIP","Priority Roads Investment Program","Local Other FHWA",{"$f":"SUMPRODUCT((Projects!$A$5:$A$2426='Local Detail'!$D$3)*(Projects!$C$5:$C$2426<>'MDOT FTA Detail'!$C$4)*(Projects!$L$5:$L$2426='Local Detail'!$A66)*(Projects!$K$5:$K$2426))","v":0},{"$f":"((SUMPRODUCT((Projects!$A$5:$A$2426='Local Detail'!$D$3)*(Projects!$C$5:$C$2426<>'MDOT FTA Detail'!$C$4)*(Projects!$L$5:$L$2426='Local Detail'!$A66)*(Projects!$J$5:$J$2426<>'Local Detail'!$A$147)*(Projects!$M$5:$M$2426)))+(SUMPRODUCT((Projects!$A$5:$A$2426='Local Detail'!$D$3)*(Projects!$C$5:$C$2426<>'MDOT FTA Detail'!$C$4)*(Projects!$L$5:$L$2426='Local Detail'!$A66)*(Projects!$J$5:$J$2426<>'Local Detail'!$A$147)*(Projects!$O$5:$O$2426))))","v":0},{"$f":"D66+E66","v":0},{"$f":"SUMPRODUCT((Projects!$A$5:$A$2426='Local Detail'!$G$3)*(Projects!$C$5:$C$2426<>'MDOT FTA Detail'!$C$4)*(Projects!$L$5:$L$2426='Local Detail'!$A66)*(Projects!$K$5:$K$2426))","v":0},{"$f":"((SUMPRODUCT((Projects!$A$5:$A$2426='Local Detail'!$G$3)*(Projects!$C$5:$C$2426<>'MDOT FTA Detail'!$C$4)*(Projects!$L$5:$L$2426='Local Detail'!$A66)*(Projects!$J$5:$J$2426<>'Local Detail'!$A$147)*(Projects!$M$5:$M$2426)))+(SUMPRODUCT((Projects!$A$5:$A$2426='Local Detail'!$G$3)*(Projects!$C$5:$C$2426<>'MDOT FTA Detail'!$C$4)*(Projects!$L$5:$L$2426='Local Detail'!$A66)*(Projects!$J$5:$J$2426<>'Local Detail'!$A$147)*(Projects!$O$5:$O$2426))))","v":0},{"$f":"G66+H66","v":0},{"$f":"SUMPRODUCT((Projects!$A$5:$A$2426='Local Detail'!$J$3)*(Projects!$C$5:$C$2426<>'MDOT FTA Detail'!$C$4)*(Projects!$L$5:$L$2426='Local Detail'!$A66)*(Projects!$K$5:$K$2426))","v":0},{"$f":"((SUMPRODUCT((Projects!$A$5:$A$2426='Local Detail'!$J$3)*(Projects!$C$5:$C$2426<>'MDOT FTA Detail'!$C$4)*(Projects!$L$5:$L$2426='Local Detail'!$A66)*(Projects!$J$5:$J$2426<>'Local Detail'!$A$147)*(Projects!$M$5:$M$2426)))+(SUMPRODUCT((Projects!$A$5:$A$2426='Local Detail'!$J$3)*(Projects!$C$5:$C$2426<>'MDOT FTA Detail'!$C$4)*(Projects!$L$5:$L$2426='Local Detail'!$A66)*(Projects!$J$5:$J$2426<>'Local Detail'!$A$147)*(Projects!$O$5:$O$2426))))","v":0},{"$f":"J66+K66","v":0},{"$f":"SUMPRODUCT((Projects!$A$5:$A$2426='Local Detail'!$M$3)*(Projects!$C$5:$C$2426<>'MDOT FTA Detail'!$C$4)*(Projects!$L$5:$L$2426='Local Detail'!$A66)*(Projects!$K$5:$K$2426))","v":0},{"$f":"((SUMPRODUCT((Projects!$A$5:$A$2426='Local Detail'!$M$3)*(Projects!$C$5:$C$2426<>'MDOT FTA Detail'!$C$4)*(Projects!$L$5:$L$2426='Local Detail'!$A66)*(Projects!$J$5:$J$2426<>'Local Detail'!$A$147)*(Projects!$M$5:$M$2426)))+(SUMPRODUCT((Projects!$A$5:$A$2426='Local Detail'!$M$3)*(Projects!$C$5:$C$2426<>'MDOT FTA Detail'!$C$4)*(Projects!$L$5:$L$2426='Local Detail'!$A66)*(Projects!$J$5:$J$2426<>'Local Detail'!$A$147)*(Projects!$O$5:$O$2426))))","v":0},{"$f":"M66+N66","v":0}]
["RP","Research Project","Local Other FHWA",{"$f":"SUMPRODUCT((Projects!$A$5:$A$2426='Local Detail'!$D$3)*(Projects!$C$5:$C$2426<>'MDOT FTA Detail'!$C$4)*(Projects!$L$5:$L$2426='Local Detail'!$A67)*(Projects!$K$5:$K$2426))","v":0},{"$f":"((SUMPRODUCT((Projects!$A$5:$A$2426='Local Detail'!$D$3)*(Projects!$C$5:$C$2426<>'MDOT FTA Detail'!$C$4)*(Projects!$L$5:$L$2426='Local Detail'!$A67)*(Projects!$J$5:$J$2426<>'Local Detail'!$A$147)*(Projects!$M$5:$M$2426)))+(SUMPRODUCT((Projects!$A$5:$A$2426='Local Detail'!$D$3)*(Projects!$C$5:$C$2426<>'MDOT FTA Detail'!$C$4)*(Projects!$L$5:$L$2426='Local Detail'!$A67)*(Projects!$J$5:$J$2426<>'Local Detail'!$A$147)*(Projects!$O$5:$O$2426))))","v":0},0,{"$f":"SUMPRODUCT((Projects!$A$5:$A$2426='Local Detail'!$G$3)*(Projects!$C$5:$C$2426<>'MDOT FTA Detail'!$C$4)*(Projects!$L$5:$L$2426='Local Detail'!$A67)*(Projects!$K$5:$K$2426))","v":0},{"$f":"((SUMPRODUCT((Projects!$A$5:$A$2426='Local Detail'!$G$3)*(Projects!$C$5:$C$2426<>'MDOT FTA Detail'!$C$4)*(Projects!$L$5:$L$2426='Local Detail'!$A67)*(Projects!$J$5:$J$2426<>'Local Detail'!$A$147)*(Projects!$M$5:$M$2426)))+(SUMPRODUCT((Projects!$A$5:$A$2426='Local Detail'!$G$3)*(Projects!$C$5:$C$2426<>'MDOT FTA Detail'!$C$4)*(Projects!$L$5:$L$2426='Local Detail'!$A67)*(Projects!$J$5:$J$2426<>'Local Detail'!$A$147)*(Projects!$O$5:$O$2426))))","v":0},0,{"$f":"SUMPRODUCT((Projects!$A$5:$A$2426='Local Detail'!$J$3)*(Projects!$C$5:$C$2426<>'MDOT FTA Detail'!$C$4)*(Projects!$L$5:$L$2426='Local Detail'!$A67)*(Projects!$K$5:$K$2426))","v":0},{"$f":"((SUMPRODUCT((Projects!$A$5:$A$2426='Local Detail'!$J$3)*(Projects!$C$5:$C$2426<>'MDOT FTA Detail'!$C$4)*(Projects!$L$5:$L$2426='Local Detail'!$A67)*(Projects!$J$5:$J$2426<>'Local Detail'!$A$147)*(Projects!$M$5:$M$2426)))+(SUMPRODUCT((Projects!$A$5:$A$2426='Local Detail'!$J$3)*(Projects!$C$5:$C$2426<>'MDOT FTA Detail'!$C$4)*(Projects!$L$5:$L$2426='Local Detail'!$A67)*(Projects!$J$5:$J$2426<>'Local Detail'!$A$147)*(Projects!$O$5:$O$2426))))","v":0},0,{"$f":"SUMPRODUCT((Projects!$A$5:$A$2426='Local Detail'!$M$3)*(Projects!$C$5:$C$2426<>'MDOT FTA Detail'!$C$4)*(Projects!$L$5:$L$2426='Local Detail'!$A67)*(Projects!$K$5:$K$2426))","v":0},{"$f":"((SUMPRODUCT((Projects!$A$5:$A$2426='Local Detail'!$M$3)*(Projects!$C$5:$C$2426<>'MDOT FTA Detail'!$C$4)*(Projects!$L$5:$L$2426='Local Detail'!$A67)*(Projects!$J$5:$J$2426<>'Local Detail'!$A$147)*(Projects!$M$5:$M$2426)))+(SUMPRODUCT((Projects!$A$5:$A$2426='Local Detail'!$M$3)*(Projects!$C$5:$C$2426<>'MDOT FTA Detail'!$C$4)*(Projects!$L$5:$L$2426='Local Detail'!$A67)*(Projects!$J$5:$J$2426<>'Local Detail'!$A$147)*(Projects!$O$5:$O$2426))))","v":0},0]
["RPH","American Recovery and Reinvestment Act","Local Other FHWA",{"$f":"SUMPRODUCT((Projects!$A$5:$A$2426='Local Detail'!$D$3)*(Projects!$C$5:$C$2426<>'MDOT FTA Detail'!$C$4)*(Projects!$L$5:$L$2426='Local Detail'!$A68)*(Projects!$K$5:$K$2426))","v":0},{"$f":"((SUMPRODUCT((Projects!$A$5:$A$2426='Local Detail'!$D$3)*(Projects!$C$5:$C$2426<>'MDOT FTA Detail'!$C$4)*(Projects!$L$5:$L$2426='Local Detail'!$A68)*(Projects!$J$5:$J$2426<>'Local Detail'!$A$147)*(Projects!$M$5:$M$2426)))+(SUMPRODUCT((Projects!$A$5:$A$2426='Local Detail'!$D$3)*(Projects!$C$5:$C$2426<>'MDOT FTA Detail'!$C$4)*(Projects!$L$5:$L$2426='Local Detail'!$A68)*(Projects!$J$5:$J$2426<>'Local Detail'!$A$147)*(Projects!$O$5:$O$2426))))","v":0},0,{"$f":"SUMPRODUCT((Projects!$A$5:$A$2426='Local Detail'!$G$3)*(Projects!$C$5:$C$2426<>'MDOT FTA Detail'!$C$4)*(Projects!$L$5:$L$2426='Local Detail'!$A68)*(Projects!$K$5:$K$2426))","v":0},{"$f":"((SUMPRODUCT((Projects!$A$5:$A$2426='Local Detail'!$G$3)*(Projects!$C$5:$C$2426<>'MDOT FTA Detail'!$C$4)*(Projects!$L$5:$L$2426='Local Detail'!$A68)*(Projects!$J$5:$J$2426<>'Local Detail'!$A$147)*(Projects!$M$5:$M$2426)))+(SUMPRODUCT((Projects!$A$5:$A$2426='Local Detail'!$G$3)*(Projects!$C$5:$C$2426<>'MDOT FTA Detail'!$C$4)*(Projects!$L$5:$L$2426='Local Detail'!$A68)*(Projects!$J$5:$J$2426<>'Local Detail'!$A$147)*(Projects!$O$5:$O$2426))))","v":0},0,{"$f":"SUMPRODUCT((Projects!$A$5:$A$2426='Local Detail'!$J$3)*(Projects!$C$5:$C$2426<>'MDOT FTA Detail'!$C$4)*(Projects!$L$5:$L$2426='Local Detail'!$A68)*(Projects!$K$5:$K$2426))","v":0},{"$f":"((SUMPRODUCT((Projects!$A$5:$A$2426='Local Detail'!$J$3)*(Projects!$C$5:$C$2426<>'MDOT FTA Detail'!$C$4)*(Projects!$L$5:$L$2426='Local Detail'!$A68)*(Projects!$J$5:$J$2426<>'Local Detail'!$A$147)*(Projects!$M$5:$M$2426)))+(SUMPRODUCT((Projects!$A$5:$A$2426='Local Detail'!$J$3)*(Projects!$C$5:$C$2426<>'MDOT FTA Detail'!$C$4)*(Projects!$L$5:$L$2426='Local Detail'!$A68)*(Projects!$J$5:$J$2426<>'Local Detail'!$A$147)*(Projects!$O$5:$O$2426))))","v":0},0,{"$f":"SUMPRODUCT((Projects!$A$5:$A$2426='Local Detail'!$M$3)*(Projects!$C$5:$C$2426<>'MDOT FTA Detail'!$C$4)*(Projects!$L$5:$L$2426='Local Detail'!$A68)*(Projects!$K$5:$K$2426))","v":0},{"$f":"((SUMPRODUCT((Projects!$A$5:$A$2426='Local Detail'!$M$3)*(Projects!$C$5:$C$2426<>'MDOT FTA Detail'!$C$4)*(Projects!$L$5:$L$2426='Local Detail'!$A68)*(Projects!$J$5:$J$2426<>'Local Detail'!$A$147)*(Projects!$M$5:$M$2426)))+(SUMPRODUCT((Projects!$A$5:$A$2426='Local Detail'!$M$3)*(Projects!$C$5:$C$2426<>'MDOT FTA Detail'!$C$4)*(Projects!$L$5:$L$2426='Local Detail'!$A68)*(Projects!$J$5:$J$2426<>'Local Detail'!$A$147)*(Projects!$O$5:$O$2426))))","v":0},0]
["SBD","Scenic Byways - Discretionary","Local Other FHWA",{"$f":"SUMPRODUCT((Projects!$A$5:$A$2426='Local Detail'!$D$3)*(Projects!$C$5:$C$2426<>'MDOT FTA Detail'!$C$4)*(Projects!$L$5:$L$2426='Local Detail'!$A69)*(Projects!$K$5:$K$2426))","v":0},{"$f":"((SUMPRODUCT((Projects!$A$5:$A$2426='Local Detail'!$D$3)*(Projects!$C$5:$C$2426<>'MDOT FTA Detail'!$C$4)*(Projects!$L$5:$L$2426='Local Detail'!$A69)*(Projects!$J$5:$J$2426<>'Local Detail'!$A$147)*(Projects!$M$5:$M$2426)))+(SUMPRODUCT((Projects!$A$5:$A$2426='Local Detail'!$D$3)*(Projects!$C$5:$C$2426<>'MDOT FTA Detail'!$C$4)*(Projects!$L$5:$L$2426='Local Detail'!$A69)*(Projects!$J$5:$J$2426<>'Local Detail'!$A$147)*(Projects!$O$5:$O$2426))))","v":0},0,{"$f":"SUMPRODUCT((Projects!$A$5:$A$2426='Local Detail'!$G$3)*(Projects!$C$5:$C$2426<>'MDOT FTA Detail'!$C$4)*(Projects!$L$5:$L$2426='Local Detail'!$A69)*(Projects!$K$5:$K$2426))","v":0},{"$f":"((SUMPRODUCT((Projects!$A$5:$A$2426='Local Detail'!$G$3)*(Projects!$C$5:$C$2426<>'MDOT FTA Detail'!$C$4)*(Projects!$L$5:$L$2426='Local Detail'!$A69)*(Projects!$J$5:$J$2426<>'Local Detail'!$A$147)*(Projects!$M$5:$M$2426)))+(SUMPRODUCT((Projects!$A$5:$A$2426='Local Detail'!$G$3)*(Projects!$C$5:$C$2426<>'MDOT FTA Detail'!$C$4)*(Projects!$L$5:$L$2426='Local Detail'!$A69)*(Projects!$J$5:$J$2426<>'Local Detail'!$A$147)*(Projects!$O$5:$O$2426))))","v":0},0,{"$f":"SUMPRODUCT((Projects!$A$5:$A$2426='Local Detail'!$J$3)*(Projects!$C$5:$C$2426<>'MDOT FTA Detail'!$C$4)*(Projects!$L$5:$L$2426='Local Detail'!$A69)*(Projects!$K$5:$K$2426))","v":0},{"$f":"((SUMPRODUCT((Projects!$A$5:$A$2426='Local Detail'!$J$3)*(Projects!$C$5:$C$2426<>'MDOT FTA Detail'!$C$4)*(Projects!$L$5:$L$2426='Local Detail'!$A69)*(Projects!$J$5:$J$2426<>'Local Detail'!$A$147)*(Projects!$M$5:$M$2426)))+(SUMPRODUCT((Projects!$A$5:$A$2426='Local Detail'!$J$3)*(Projects!$C$5:$C$2426<>'MDOT FTA Detail'!$C$4)*(Projects!$L$5:$L$2426='Local Detail'!$A69)*(Projects!$J$5:$J$2426<>'Local Detail'!$A$147)*(Projects!$O$5:$O$2426))))","v":0},0,{"$f":"SUMPRODUCT((Projects!$A$5:$A$2426='Local Detail'!$M$3)*(Projects!$C$5:$C$2426<>'MDOT FTA Detail'!$C$4)*(Projects!$L$5:$L$2426='Local Detail'!$A69)*(Projects!$K$5:$K$2426))","v":0},{"$f":"((SUMPRODUCT((Projects!$A$5:$A$2426='Local Detail'!$M$3)*(Projects!$C$5:$C$2426<>'MDOT FTA Detail'!$C$4)*(Projects!$L$5:$L$2426='Local Detail'!$A69)*(Projects!$J$5:$J$2426<>'Local Detail'!$A$147)*(Projects!$M$5:$M$2426)))+(SUMPRODUCT((Projects!$A$5:$A$2426='Local Detail'!$M$3)*(Projects!$C$5:$C$2426<>'MDOT FTA Detail'!$C$4)*(Projects!$L$5:$L$2426='Local Detail'!$A69)*(Projects!$J$5:$J$2426<>'Local Detail'!$A$147)*(Projects!$O$5:$O$2426))))","v":0},0]
["SIB","State Infrastructure Bank","Local Other FHWA",{"$f":"SUMPRODUCT((Projects!$A$5:$A$2426='Local Detail'!$D$3)*(Projects!$C$5:$C$2426<>'MDOT FTA Detail'!$C$4)*(Projects!$L$5:$L$2426='Local Detail'!$A70)*(Projects!$K$5:$K$2426))","v":0},{"$f":"((SUMPRODUCT((Projects!$A$5:$A$2426='Local Detail'!$D$3)*(Projects!$C$5:$C$2426<>'MDOT FTA Detail'!$C$4)*(Projects!$L$5:$L$2426='Local Detail'!$A70)*(Projects!$J$5:$J$2426<>'Local Detail'!$A$147)*(Projects!$M$5:$M$2426)))+(SUMPRODUCT((Projects!$A$5:$A$2426='Local Detail'!$D$3)*(Projects!$C$5:$C$2426<>'MDOT FTA Detail'!$C$4)*(Projects!$L$5:$L$2426='Local Detail'!$A70)*(Projects!$J$5:$J$2426<>'Local Detail'!$A$147)*(Projects!$O$5:$O$2426))))","v":0},0,{"$f":"SUMPRODUCT((Projects!$A$5:$A$2426='Local Detail'!$G$3)*(Projects!$C$5:$C$2426<>'MDOT FTA Detail'!$C$4)*(Projects!$L$5:$L$2426='Local Detail'!$A70)*(Projects!$K$5:$K$2426))","v":0},{"$f":"((SUMPRODUCT((Projects!$A$5:$A$2426='Local Detail'!$G$3)*(Projects!$C$5:$C$2426<>'MDOT FTA Detail'!$C$4)*(Projects!$L$5:$L$2426='Local Detail'!$A70)*(Projects!$J$5:$J$2426<>'Local Detail'!$A$147)*(Projects!$M$5:$M$2426)))+(SUMPRODUCT((Projects!$A$5:$A$2426='Local Detail'!$G$3)*(Projects!$C$5:$C$2426<>'MDOT FTA Detail'!$C$4)*(Projects!$L$5:$L$2426='Local Detail'!$A70)*(Projects!$J$5:$J$2426<>'Local Detail'!$A$147)*(Projects!$O$5:$O$2426))))","v":0},0,{"$f":"SUMPRODUCT((Projects!$A$5:$A$2426='Local Detail'!$J$3)*(Projects!$C$5:$C$2426<>'MDOT FTA Detail'!$C$4)*(Projects!$L$5:$L$2426='Local Detail'!$A70)*(Projects!$K$5:$K$2426))","v":0},{"$f":"((SUMPRODUCT((Projects!$A$5:$A$2426='Local Detail'!$J$3)*(Projects!$C$5:$C$2426<>'MDOT FTA Detail'!$C$4)*(Projects!$L$5:$L$2426='Local Detail'!$A70)*(Projects!$J$5:$J$2426<>'Local Detail'!$A$147)*(Projects!$M$5:$M$2426)))+(SUMPRODUCT((Projects!$A$5:$A$2426='Local Detail'!$J$3)*(Projects!$C$5:$C$2426<>'MDOT FTA Detail'!$C$4)*(Projects!$L$5:$L$2426='Local Detail'!$A70)*(Projects!$J$5:$J$2426<>'Local Detail'!$A$147)*(Projects!$O$5:$O$2426))))","v":0},0,{"$f":"SUMPRODUCT((Projects!$A$5:$A$2426='Local Detail'!$M$3)*(Projects!$C$5:$C$2426<>'MDOT FTA Detail'!$C$4)*(Projects!$L$5:$L$2426='Local Detail'!$A70)*(Projects!$K$5:$K$2426))","v":0},{"$f":"((SUMPRODUCT((Projects!$A$5:$A$2426='Local Detail'!$M$3)*(Projects!$C$5:$C$2426<>'MDOT FTA Detail'!$C$4)*(Projects!$L$5:$L$2426='Local Detail'!$A70)*(Projects!$J$5:$J$2426<>'Local Detail'!$A$147)*(Projects!$M$5:$M$2426)))+(SUMPRODUCT((Projects!$A$5:$A$2426='Local Detail'!$M$3)*(Projects!$C$5:$C$2426<>'MDOT FTA Detail'!$C$4)*(Projects!$L$5:$L$2426='Local Detail'!$A70)*(Projects!$J$5:$J$2426<>'Local Detail'!$A$147)*(Projects!$O$5:$O$2426))))","v":0},0]
["SLG","Surface Transportation Safety","Local Other FHWA",{"$f":"SUMPRODUCT((Projects!$A$5:$A$2426='Local Detail'!$D$3)*(Projects!$C$5:$C$2426<>'MDOT FTA Detail'!$C$4)*(Projects!$L$5:$L$2426='Local Detail'!$A71)*(Projects!$K$5:$K$2426))","v":0},{"$f":"((SUMPRODUCT((Projects!$A$5:$A$2426='Local Detail'!$D$3)*(Projects!$C$5:$C$2426<>'MDOT FTA Detail'!$C$4)*(Projects!$L$5:$L$2426='Local Detail'!$A71)*(Projects!$J$5:$J$2426<>'Local Detail'!$A$147)*(Projects!$M$5:$M$2426)))+(SUMPRODUCT((Projects!$A$5:$A$2426='Local Detail'!$D$3)*(Projects!$C$5:$C$2426<>'MDOT FTA Detail'!$C$4)*(Projects!$L$5:$L$2426='Local Detail'!$A71)*(Projects!$J$5:$J$2426<>'Local Detail'!$A$147)*(Projects!$O$5:$O$2426))))","v":0},0,{"$f":"SUMPRODUCT((Projects!$A$5:$A$2426='Local Detail'!$G$3)*(Projects!$C$5:$C$2426<>'MDOT FTA Detail'!$C$4)*(Projects!$L$5:$L$2426='Local Detail'!$A71)*(Projects!$K$5:$K$2426))","v":0},{"$f":"((SUMPRODUCT((Projects!$A$5:$A$2426='Local Detail'!$G$3)*(Projects!$C$5:$C$2426<>'MDOT FTA Detail'!$C$4)*(Projects!$L$5:$L$2426='Local Detail'!$A71)*(Projects!$J$5:$J$2426<>'Local Detail'!$A$147)*(Projects!$M$5:$M$2426)))+(SUMPRODUCT((Projects!$A$5:$A$2426='Local Detail'!$G$3)*(Projects!$C$5:$C$2426<>'MDOT FTA Detail'!$C$4)*(Projects!$L$5:$L$2426='Local Detail'!$A71)*(Projects!$J$5:$J$2426<>'Local Detail'!$A$147)*(Projects!$O$5:$O$2426))))","v":0},0,{"$f":"SUMPRODUCT((Projects!$A$5:$A$2426='Local Detail'!$J$3)*(Projects!$C$5:$C$2426<>'MDOT FTA Detail'!$C$4)*(Projects!$L$5:$L$2426='Local Detail'!$A71)*(Projects!$K$5:$K$2426))","v":0},{"$f":"((SUMPRODUCT((Projects!$A$5:$A$2426='Local Detail'!$J$3)*(Projects!$C$5:$C$2426<>'MDOT FTA Detail'!$C$4)*(Projects!$L$5:$L$2426='Local Detail'!$A71)*(Projects!$J$5:$J$2426<>'Local Detail'!$A$147)*(Projects!$M$5:$M$2426)))+(SUMPRODUCT((Projects!$A$5:$A$2426='Local Detail'!$J$3)*(Projects!$C$5:$C$2426<>'MDOT FTA Detail'!$C$4)*(Projects!$L$5:$L$2426='Local Detail'!$A71)*(Projects!$J$5:$J$2426<>'Local Detail'!$A$147)*(Projects!$O$5:$O$2426))))","v":0},0,{"$f":"SUMPRODUCT((Projects!$A$5:$A$2426='Local Detail'!$M$3)*(Projects!$C$5:$C$2426<>'MDOT FTA Detail'!$C$4)*(Projects!$L$5:$L$2426='Local Detail'!$A71)*(Projects!$K$5:$K$2426))","v":0},{"$f":"((SUMPRODUCT((Projects!$A$5:$A$2426='Local Detail'!$M$3)*(Projects!$C$5:$C$2426<>'MDOT FTA Detail'!$C$4)*(Projects!$L$5:$L$2426='Local Detail'!$A71)*(Projects!$J$5:$J$2426<>'Local Detail'!$A$147)*(Projects!$M$5:$M$2426)))+(SUMPRODUCT((Projects!$A$5:$A$2426='Local Detail'!$M$3)*(Projects!$C$5:$C$2426<>'MDOT FTA Detail'!$C$4)*(Projects!$L$5:$L$2426='Local Detail'!$A71)*(Projects!$J$5:$J$2426<>'Local Detail'!$A$147)*(Projects!$O$5:$O$2426))))","v":0},0]
["SRHG","Surface Transportation Safety Highway Crossing Hazard Elimination","Local STP",{"$f":"SUMPRODUCT((Projects!$A$5:$A$2426='Local Detail'!$D$3)*(Projects!$C$5:$C$2426<>'MDOT FTA Detail'!$C$4)*(Projects!$L$5:$L$2426='Local Detail'!$A72)*(Projects!$K$5:$K$2426))","v":0},{"$f":"((SUMPRODUCT((Projects!$A$5:$A$2426='Local Detail'!$D$3)*(Projects!$C$5:$C$2426<>'MDOT FTA Detail'!$C$4)*(Projects!$L$5:$L$2426='Local Detail'!$A72)*(Projects!$J$5:$J$2426<>'Local Detail'!$A$147)*(Projects!$M$5:$M$2426)))+(SUMPRODUCT((Projects!$A$5:$A$2426='Local Detail'!$D$3)*(Projects!$C$5:$C$2426<>'MDOT FTA Detail'!$C$4)*(Projects!$L$5:$L$2426='Local Detail'!$A72)*(Projects!$J$5:$J$2426<>'Local Detail'!$A$147)*(Projects!$O$5:$O$2426))))","v":0},{"$f":"D72+E72","v":0},{"$f":"SUMPRODUCT((Projects!$A$5:$A$2426='Local Detail'!$G$3)*(Projects!$C$5:$C$2426<>'MDOT FTA Detail'!$C$4)*(Projects!$L$5:$L$2426='Local Detail'!$A72)*(Projects!$K$5:$K$2426))","v":0},{"$f":"((SUMPRODUCT((Projects!$A$5:$A$2426='Local Detail'!$G$3)*(Projects!$C$5:$C$2426<>'MDOT FTA Detail'!$C$4)*(Projects!$L$5:$L$2426='Local Detail'!$A72)*(Projects!$J$5:$J$2426<>'Local Detail'!$A$147)*(Projects!$M$5:$M$2426)))+(SUMPRODUCT((Projects!$A$5:$A$2426='Local Detail'!$G$3)*(Projects!$C$5:$C$2426<>'MDOT FTA Detail'!$C$4)*(Projects!$L$5:$L$2426='Local Detail'!$A72)*(Projects!$J$5:$J$2426<>'Local Detail'!$A$147)*(Projects!$O$5:$O$2426))))","v":0},{"$f":"G72+H72","v":0},{"$f":"SUMPRODUCT((Projects!$A$5:$A$2426='Local Detail'!$J$3)*(Projects!$C$5:$C$2426<>'MDOT FTA Detail'!$C$4)*(Projects!$L$5:$L$2426='Local Detail'!$A72)*(Projects!$K$5:$K$2426))","v":0},{"$f":"((SUMPRODUCT((Projects!$A$5:$A$2426='Local Detail'!$J$3)*(Projects!$C$5:$C$2426<>'MDOT FTA Detail'!$C$4)*(Projects!$L$5:$L$2426='Local Detail'!$A72)*(Projects!$J$5:$J$2426<>'Local Detail'!$A$147)*(Projects!$M$5:$M$2426)))+(SUMPRODUCT((Projects!$A$5:$A$2426='Local Detail'!$J$3)*(Projects!$C$5:$C$2426<>'MDOT FTA Detail'!$C$4)*(Projects!$L$5:$L$2426='Local Detail'!$A72)*(Projects!$J$5:$J$2426<>'Local Detail'!$A$147)*(Projects!$O$5:$O$2426))))","v":0},{"$f":"J72+K72","v":0},{"$f":"SUMPRODUCT((Projects!$A$5:$A$2426='Local Detail'!$M$3)*(Projects!$C$5:$C$2426<>'MDOT FTA Detail'!$C$4)*(Projects!$L$5:$L$2426='Local Detail'!$A72)*(Projects!$K$5:$K$2426))","v":0},{"$f":"((SUMPRODUCT((Projects!$A$5:$A$2426='Local Detail'!$M$3)*(Projects!$C$5:$C$2426<>'MDOT FTA Detail'!$C$4)*(Projects!$L$5:$L$2426='Local Detail'!$A72)*(Projects!$J$5:$J$2426<>'Local Detail'!$A$147)*(Projects!$M$5:$M$2426)))+(SUMPRODUCT((Projects!$A$5:$A$2426='Local Detail'!$M$3)*(Projects!$C$5:$C$2426<>'MDOT FTA Detail'!$C$4)*(Projects!$L$5:$L$2426='Local Detail'!$A72)*(Projects!$J$5:$J$2426<>'Local Detail'!$A$147)*(Projects!$O$5:$O$2426))))","v":0},{"$f":"M72+N72","v":0}]
["SRPG","Surface Transportation Safety Highway Crossing Protection Devices 100%","Local STP",{"$f":"SUMPRODUCT((Projects!$A$5:$A$2426='Local Detail'!$D$3)*(Projects!$C$5:$C$2426<>'MDOT FTA Detail'!$C$4)*(Projects!$L$5:$L$2426='Local Detail'!$A73)*(Projects!$K$5:$K$2426))","v":0},{"$f":"((SUMPRODUCT((Projects!$A$5:$A$2426='Local Detail'!$D$3)*(Projects!$C$5:$C$2426<>'MDOT FTA Detail'!$C$4)*(Projects!$L$5:$L$2426='Local Detail'!$A73)*(Projects!$J$5:$J$2426<>'Local Detail'!$A$147)*(Projects!$M$5:$M$2426)))+(SUMPRODUCT((Projects!$A$5:$A$2426='Local Detail'!$D$3)*(Projects!$C$5:$C$2426<>'MDOT FTA Detail'!$C$4)*(Projects!$L$5:$L$2426='Local Detail'!$A73)*(Projects!$J$5:$J$2426<>'Local Detail'!$A$147)*(Projects!$O$5:$O$2426))))","v":0},{"$f":"D73+E73","v":0},{"$f":"SUMPRODUCT((Projects!$A$5:$A$2426='Local Detail'!$G$3)*(Projects!$C$5:$C$2426<>'MDOT FTA Detail'!$C$4)*(Projects!$L$5:$L$2426='Local Detail'!$A73)*(Projects!$K$5:$K$2426))","v":0},{"$f":"((SUMPRODUCT((Projects!$A$5:$A$2426='Local Detail'!$G$3)*(Projects!$C$5:$C$2426<>'MDOT FTA Detail'!$C$4)*(Projects!$L$5:$L$2426='Local Detail'!$A73)*(Projects!$J$5:$J$2426<>'Local Detail'!$A$147)*(Projects!$M$5:$M$2426)))+(SUMPRODUCT((Projects!$A$5:$A$2426='Local Detail'!$G$3)*(Projects!$C$5:$C$2426<>'MDOT FTA Detail'!$C$4)*(Projects!$L$5:$L$2426='Local Detail'!$A73)*(Projects!$J$5:$J$2426<>'Local Detail'!$A$147)*(Projects!$O$5:$O$2426))))","v":0},{"$f":"G73+H73","v":0},{"$f":"SUMPRODUCT((Projects!$A$5:$A$2426='Local Detail'!$J$3)*(Projects!$C$5:$C$2426<>'MDOT FTA Detail'!$C$4)*(Projects!$L$5:$L$2426='Local Detail'!$A73)*(Projects!$K$5:$K$2426))","v":0},{"$f":"((SUMPRODUCT((Projects!$A$5:$A$2426='Local Detail'!$J$3)*(Projects!$C$5:$C$2426<>'MDOT FTA Detail'!$C$4)*(Projects!$L$5:$L$2426='Local Detail'!$A73)*(Projects!$J$5:$J$2426<>'Local Detail'!$A$147)*(Projects!$M$5:$M$2426)))+(SUMPRODUCT((Projects!$A$5:$A$2426='Local Detail'!$J$3)*(Projects!$C$5:$C$2426<>'MDOT FTA Detail'!$C$4)*(Projects!$L$5:$L$2426='Local Detail'!$A73)*(Projects!$J$5:$J$2426<>'Local Detail'!$A$147)*(Projects!$O$5:$O$2426))))","v":0},{"$f":"J73+K73","v":0},{"$f":"SUMPRODUCT((Projects!$A$5:$A$2426='Local Detail'!$M$3)*(Projects!$C$5:$C$2426<>'MDOT FTA Detail'!$C$4)*(Projects!$L$5:$L$2426='Local Detail'!$A73)*(Projects!$K$5:$K$2426))","v":0},{"$f":"((SUMPRODUCT((Projects!$A$5:$A$2426='Local Detail'!$M$3)*(Projects!$C$5:$C$2426<>'MDOT FTA Detail'!$C$4)*(Projects!$L$5:$L$2426='Local Detail'!$A73)*(Projects!$J$5:$J$2426<>'Local Detail'!$A$147)*(Projects!$M$5:$M$2426)))+(SUMPRODUCT((Projects!$A$5:$A$2426='Local Detail'!$M$3)*(Projects!$C$5:$C$2426<>'MDOT FTA Detail'!$C$4)*(Projects!$L$5:$L$2426='Local Detail'!$A73)*(Projects!$J$5:$J$2426<>'Local Detail'!$A$147)*(Projects!$O$5:$O$2426))))","v":0},{"$f":"M73+N73","v":0}]
["SRSE","Safe Routes to School - Either - SAFETEA-LU","Local Other FHWA",{"$f":"SUMPRODUCT((Projects!$A$5:$A$2426='Local Detail'!$D$3)*(Projects!$C$5:$C$2426<>'MDOT FTA Detail'!$C$4)*(Projects!$L$5:$L$2426='Local Detail'!$A74)*(Projects!$K$5:$K$2426))","v":0},{"$f":"((SUMPRODUCT((Projects!$A$5:$A$2426='Local Detail'!$D$3)*(Projects!$C$5:$C$2426<>'MDOT FTA Detail'!$C$4)*(Projects!$L$5:$L$2426='Local Detail'!$A74)*(Projects!$J$5:$J$2426<>'Local Detail'!$A$147)*(Projects!$M$5:$M$2426)))+(SUMPRODUCT((Projects!$A$5:$A$2426='Local Detail'!$D$3)*(Projects!$C$5:$C$2426<>'MDOT FTA Detail'!$C$4)*(Projects!$L$5:$L$2426='Local Detail'!$A74)*(Projects!$J$5:$J$2426<>'Local Detail'!$A$147)*(Projects!$O$5:$O$2426))))","v":0},0,{"$f":"SUMPRODUCT((Projects!$A$5:$A$2426='Local Detail'!$G$3)*(Projects!$C$5:$C$2426<>'MDOT FTA Detail'!$C$4)*(Projects!$L$5:$L$2426='Local Detail'!$A74)*(Projects!$K$5:$K$2426))","v":0},{"$f":"((SUMPRODUCT((Projects!$A$5:$A$2426='Local Detail'!$G$3)*(Projects!$C$5:$C$2426<>'MDOT FTA Detail'!$C$4)*(Projects!$L$5:$L$2426='Local Detail'!$A74)*(Projects!$J$5:$J$2426<>'Local Detail'!$A$147)*(Projects!$M$5:$M$2426)))+(SUMPRODUCT((Projects!$A$5:$A$2426='Local Detail'!$G$3)*(Projects!$C$5:$C$2426<>'MDOT FTA Detail'!$C$4)*(Projects!$L$5:$L$2426='Local Detail'!$A74)*(Projects!$J$5:$J$2426<>'Local Detail'!$A$147)*(Projects!$O$5:$O$2426))))","v":0},0,{"$f":"SUMPRODUCT((Projects!$A$5:$A$2426='Local Detail'!$J$3)*(Projects!$C$5:$C$2426<>'MDOT FTA Detail'!$C$4)*(Projects!$L$5:$L$2426='Local Detail'!$A74)*(Projects!$K$5:$K$2426))","v":0},{"$f":"((SUMPRODUCT((Projects!$A$5:$A$2426='Local Detail'!$J$3)*(Projects!$C$5:$C$2426<>'MDOT FTA Detail'!$C$4)*(Projects!$L$5:$L$2426='Local Detail'!$A74)*(Projects!$J$5:$J$2426<>'Local Detail'!$A$147)*(Projects!$M$5:$M$2426)))+(SUMPRODUCT((Projects!$A$5:$A$2426='Local Detail'!$J$3)*(Projects!$C$5:$C$2426<>'MDOT FTA Detail'!$C$4)*(Projects!$L$5:$L$2426='Local Detail'!$A74)*(Projects!$J$5:$J$2426<>'Local Detail'!$A$147)*(Projects!$O$5:$O$2426))))","v":0},0,{"$f":"SUMPRODUCT((Projects!$A$5:$A$2426='Local Detail'!$M$3)*(Projects!$C$5:$C$2426<>'MDOT FTA Detail'!$C$4)*(Projects!$L$5:$L$2426='Local Detail'!$A74)*(Projects!$K$5:$K$2426))","v":0},{"$f":"((SUMPRODUCT((Projects!$A$5:$A$2426='Local Detail'!$M$3)*(Projects!$C$5:$C$2426<>'MDOT FTA Detail'!$C$4)*(Projects!$L$5:$L$2426='Local Detail'!$A74)*(Projects!$J$5:$J$2426<>'Local Detail'!$A$147)*(Projects!$M$5:$M$2426)))+(SUMPRODUCT((Projects!$A$5:$A$2426='Local Detail'!$M$3)*(Projects!$C$5:$C$2426<>'MDOT FTA Detail'!$C$4)*(Projects!$L$5:$L$2426='Local Detail'!$A74)*(Projects!$J$5:$J$2426<>'Local Detail'!$A$147)*(Projects!$O$5:$O$2426))))","v":0},0]
["SRSI","Safe Routes to School - Infrastructure - SAFETEA-LU","Local Other FHWA",{"$f":"SUMPRODUCT((Projects!$A$5:$A$2426='Local Detail'!$D$3)*(Projects!$C$5:$C$2426<>'MDOT FTA Detail'!$C$4)*(Projects!$L$5:$L$2426='Local Detail'!$A75)*(Projects!$K$5:$K$2426))","v":0},{"$f":"((SUMPRODUCT((Projects!$A$5:$A$2426='Local Detail'!$D$3)*(Projects!$C$5:$C$2426<>'MDOT FTA Detail'!$C$4)*(Projects!$L$5:$L$2426='Local Detail'!$A75)*(Projects!$J$5:$J$2426<>'Local Detail'!$A$147)*(Projects!$M$5:$M$2426)))+(SUMPRODUCT((Projects!$A$5:$A$2426='Local Detail'!$D$3)*(Projects!$C$5:$C$2426<>'MDOT FTA Detail'!$C$4)*(Projects!$L$5:$L$2426='Local Detail'!$A75)*(Projects!$J$5:$J$2426<>'Local Detail'!$A$147)*(Projects!$O$5:$O$2426))))","v":0},0,{"$f":"SUMPRODUCT((Projects!$A$5:$A$2426='Local Detail'!$G$3)*(Projects!$C$5:$C$2426<>'MDOT FTA Detail'!$C$4)*(Projects!$L$5:$L$2426='Local Detail'!$A75)*(Projects!$K$5:$K$2426))","v":0},{"$f":"((SUMPRODUCT((Projects!$A$5:$A$2426='Local Detail'!$G$3)*(Projects!$C$5:$C$2426<>'MDOT FTA Detail'!$C$4)*(Projects!$L$5:$L$2426='Local Detail'!$A75)*(Projects!$J$5:$J$2426<>'Local Detail'!$A$147)*(Projects!$M$5:$M$2426)))+(SUMPRODUCT((Projects!$A$5:$A$2426='Local Detail'!$G$3)*(Projects!$C$5:$C$2426<>'MDOT FTA Detail'!$C$4)*(Projects!$L$5:$L$2426='Local Detail'!$A75)*(Projects!$J$5:$J$2426<>'Local Detail'!$A$147)*(Projects!$O$5:$O$2426))))","v":0},0,{"$f":"SUMPRODUCT((Projects!$A$5:$A$2426='Local Detail'!$J$3)*(Projects!$C$5:$C$2426<>'MDOT FTA Detail'!$C$4)*(Projects!$L$5:$L$2426='Local Detail'!$A75)*(Projects!$K$5:$K$2426))","v":0},{"$f":"((SUMPRODUCT((Projects!$A$5:$A$2426='Local Detail'!$J$3)*(Projects!$C$5:$C$2426<>'MDOT FTA Detail'!$C$4)*(Projects!$L$5:$L$2426='Local Detail'!$A75)*(Projects!$J$5:$J$2426<>'Local Detail'!$A$147)*(Projects!$M$5:$M$2426)))+(SUMPRODUCT((Projects!$A$5:$A$2426='Local Detail'!$J$3)*(Projects!$C$5:$C$2426<>'MDOT FTA Detail'!$C$4)*(Projects!$L$5:$L$2426='Local Detail'!$A75)*(Projects!$J$5:$J$2426<>'Local Detail'!$A$147)*(Projects!$O$5:$O$2426))))","v":0},0,{"$f":"SUMPRODUCT((Projects!$A$5:$A$2426='Local Detail'!$M$3)*(Projects!$C$5:$C$2426<>'MDOT FTA Detail'!$C$4)*(Projects!$L$5:$L$2426='Local Detail'!$A75)*(Projects!$K$5:$K$2426))","v":0},{"$f":"((SUMPRODUCT((Projects!$A$5:$A$2426='Local Detail'!$M$3)*(Projects!$C$5:$C$2426<>'MDOT FTA Detail'!$C$4)*(Projects!$L$5:$L$2426='Local Detail'!$A75)*(Projects!$J$5:$J$2426<>'Local Detail'!$A$147)*(Projects!$M$5:$M$2426)))+(SUMPRODUCT((Projects!$A$5:$A$2426='Local Detail'!$M$3)*(Projects!$C$5:$C$2426<>'MDOT FTA Detail'!$C$4)*(Projects!$L$5:$L$2426='Local Detail'!$A75)*(Projects!$J$5:$J$2426<>'Local Detail'!$A$147)*(Projects!$O$5:$O$2426))))","v":0},0]
["SRSN","Safe Routes to School - Non-infrastructure - SAFETEA-LU","Local Other FHWA",{"$f":"SUMPRODUCT((Projects!$A$5:$A$2426='Local Detail'!$D$3)*(Projects!$C$5:$C$2426<>'MDOT FTA Detail'!$C$4)*(Projects!$L$5:$L$2426='Local Detail'!$A76)*(Projects!$K$5:$K$2426))","v":0},{"$f":"((SUMPRODUCT((Projects!$A$5:$A$2426='Local Detail'!$D$3)*(Projects!$C$5:$C$2426<>'MDOT FTA Detail'!$C$4)*(Projects!$L$5:$L$2426='Local Detail'!$A76)*(Projects!$J$5:$J$2426<>'Local Detail'!$A$147)*(Projects!$M$5:$M$2426)))+(SUMPRODUCT((Projects!$A$5:$A$2426='Local Detail'!$D$3)*(Projects!$C$5:$C$2426<>'MDOT FTA Detail'!$C$4)*(Projects!$L$5:$L$2426='Local Detail'!$A76)*(Projects!$J$5:$J$2426<>'Local Detail'!$A$147)*(Projects!$O$5:$O$2426))))","v":0},0,{"$f":"SUMPRODUCT((Projects!$A$5:$A$2426='Local Detail'!$G$3)*(Projects!$C$5:$C$2426<>'MDOT FTA Detail'!$C$4)*(Projects!$L$5:$L$2426='Local Detail'!$A76)*(Projects!$K$5:$K$2426))","v":0},{"$f":"((SUMPRODUCT((Projects!$A$5:$A$2426='Local Detail'!$G$3)*(Projects!$C$5:$C$2426<>'MDOT FTA Detail'!$C$4)*(Projects!$L$5:$L$2426='Local Detail'!$A76)*(Projects!$J$5:$J$2426<>'Local Detail'!$A$147)*(Projects!$M$5:$M$2426)))+(SUMPRODUCT((Projects!$A$5:$A$2426='Local Detail'!$G$3)*(Projects!$C$5:$C$2426<>'MDOT FTA Detail'!$C$4)*(Projects!$L$5:$L$2426='Local Detail'!$A76)*(Projects!$J$5:$J$2426<>'Local Detail'!$A$147)*(Projects!$O$5:$O$2426))))","v":0},0,{"$f":"SUMPRODUCT((Projects!$A$5:$A$2426='Local Detail'!$J$3)*(Projects!$C$5:$C$2426<>'MDOT FTA Detail'!$C$4)*(Projects!$L$5:$L$2426='Local Detail'!$A76)*(Projects!$K$5:$K$2426))","v":0},{"$f":"((SUMPRODUCT((Projects!$A$5:$A$2426='Local Detail'!$J$3)*(Projects!$C$5:$C$2426<>'MDOT FTA Detail'!$C$4)*(Projects!$L$5:$L$2426='Local Detail'!$A76)*(Projects!$J$5:$J$2426<>'Local Detail'!$A$147)*(Projects!$M$5:$M$2426)))+(SUMPRODUCT((Projects!$A$5:$A$2426='Local Detail'!$J$3)*(Projects!$C$5:$C$2426<>'MDOT FTA Detail'!$C$4)*(Projects!$L$5:$L$2426='Local Detail'!$A76)*(Projects!$J$5:$J$2426<>'Local Detail'!$A$147)*(Projects!$O$5:$O$2426))))","v":0},0,{"$f":"SUMPRODUCT((Projects!$A$5:$A$2426='Local Detail'!$M$3)*(Projects!$C$5:$C$2426<>'MDOT FTA Detail'!$C$4)*(Projects!$L$5:$L$2426='Local Detail'!$A76)*(Projects!$K$5:$K$2426))","v":0},{"$f":"((SUMPRODUCT((Projects!$A$5:$A$2426='Local Detail'!$M$3)*(Projects!$C$5:$C$2426<>'MDOT FTA Detail'!$C$4)*(Projects!$L$5:$L$2426='Local Detail'!$A76)*(Projects!$J$5:$J$2426<>'Local Detail'!$A$147)*(Projects!$M$5:$M$2426)))+(SUMPRODUCT((Projects!$A$5:$A$2426='Local Detail'!$M$3)*(Projects!$C$5:$C$2426<>'MDOT FTA Detail'!$C$4)*(Projects!$L$5:$L$2426='Local Detail'!$A76)*(Projects!$J$5:$J$2426<>'Local Detail'!$A$147)*(Projects!$O$5:$O$2426))))","v":0},0]
["SST","Supportive Services Training","Local Other FHWA",{"$f":"SUMPRODUCT((Projects!$A$5:$A$2426='Local Detail'!$D$3)*(Projects!$C$5:$C$2426<>'MDOT FTA Detail'!$C$4)*(Projects!$L$5:$L$2426='Local Detail'!$A77)*(Projects!$K$5:$K$2426))","v":0},{"$f":"((SUMPRODUCT((Projects!$A$5:$A$2426='Local Detail'!$D$3)*(Projects!$C$5:$C$2426<>'MDOT FTA Detail'!$C$4)*(Projects!$L$5:$L$2426='Local Detail'!$A77)*(Projects!$J$5:$J$2426<>'Local Detail'!$A$147)*(Projects!$M$5:$M$2426)))+(SUMPRODUCT((Projects!$A$5:$A$2426='Local Detail'!$D$3)*(Projects!$C$5:$C$2426<>'MDOT FTA Detail'!$C$4)*(Projects!$L$5:$L$2426='Local Detail'!$A77)*(Projects!$J$5:$J$2426<>'Local Detail'!$A$147)*(Projects!$O$5:$O$2426))))","v":0},0,{"$f":"SUMPRODUCT((Projects!$A$5:$A$2426='Local Detail'!$G$3)*(Projects!$C$5:$C$2426<>'MDOT FTA Detail'!$C$4)*(Projects!$L$5:$L$2426='Local Detail'!$A77)*(Projects!$K$5:$K$2426))","v":0},{"$f":"((SUMPRODUCT((Projects!$A$5:$A$2426='Local Detail'!$G$3)*(Projects!$C$5:$C$2426<>'MDOT FTA Detail'!$C$4)*(Projects!$L$5:$L$2426='Local Detail'!$A77)*(Projects!$J$5:$J$2426<>'Local Detail'!$A$147)*(Projects!$M$5:$M$2426)))+(SUMPRODUCT((Projects!$A$5:$A$2426='Local Detail'!$G$3)*(Projects!$C$5:$C$2426<>'MDOT FTA Detail'!$C$4)*(Projects!$L$5:$L$2426='Local Detail'!$A77)*(Projects!$J$5:$J$2426<>'Local Detail'!$A$147)*(Projects!$O$5:$O$2426))))","v":0},0,{"$f":"SUMPRODUCT((Projects!$A$5:$A$2426='Local Detail'!$J$3)*(Projects!$C$5:$C$2426<>'MDOT FTA Detail'!$C$4)*(Projects!$L$5:$L$2426='Local Detail'!$A77)*(Projects!$K$5:$K$2426))","v":0},{"$f":"((SUMPRODUCT((Projects!$A$5:$A$2426='Local Detail'!$J$3)*(Projects!$C$5:$C$2426<>'MDOT FTA Detail'!$C$4)*(Projects!$L$5:$L$2426='Local Detail'!$A77)*(Projects!$J$5:$J$2426<>'Local Detail'!$A$147)*(Projects!$M$5:$M$2426)))+(SUMPRODUCT((Projects!$A$5:$A$2426='Local Detail'!$J$3)*(Projects!$C$5:$C$2426<>'MDOT FTA Detail'!$C$4)*(Projects!$L$5:$L$2426='Local Detail'!$A77)*(Projects!$J$5:$J$2426<>'Local Detail'!$A$147)*(Projects!$O$5:$O$2426))))","v":0},0,{"$f":"SUMPRODUCT((Projects!$A$5:$A$2426='Local Detail'!$M$3)*(Projects!$C$5:$C$2426<>'MDOT FTA Detail'!$C$4)*(Projects!$L$5:$L$2426='Local Detail'!$A77)*(Projects!$K$5:$K$2426))","v":0},{"$f":"((SUMPRODUCT((Projects!$A$5:$A$2426='Local Detail'!$M$3)*(Projects!$C$5:$C$2426<>'MDOT FTA Detail'!$C$4)*(Projects!$L$5:$L$2426='Local Detail'!$A77)*(Projects!$J$5:$J$2426<>'Local Detail'!$A$147)*(Projects!$M$5:$M$2426)))+(SUMPRODUCT((Projects!$A$5:$A$2426='Local Detail'!$M$3)*(Projects!$C$5:$C$2426<>'MDOT FTA Detail'!$C$4)*(Projects!$L$5:$L$2426='Local Detail'!$A77)*(Projects!$J$5:$J$2426<>'Local Detail'!$A$147)*(Projects!$O$5:$O$2426))))","v":0},0]
["ST","Surface Transportation Program (STP) - Any Area","Local STP",{"$f":"SUMPRODUCT((Projects!$A$5:$A$2426='Local Detail'!$D$3)*(Projects!$C$5:$C$2426<>'MDOT FTA Detail'!$C$4)*(Projects!$L$5:$L$2426='Local Detail'!$A78)*(Projects!$K$5:$K$2426))","v":0},{"$f":"((SUMPRODUCT((Projects!$A$5:$A$2426='Local Detail'!$D$3)*(Projects!$C$5:$C$2426<>'MDOT FTA Detail'!$C$4)*(Projects!$L$5:$L$2426='Local Detail'!$A78)*(Projects!$J$5:$J$2426<>'Local Detail'!$A$147)*(Projects!$M$5:$M$2426)))+(SUMPRODUCT((Projects!$A$5:$A$2426='Local Detail'!$D$3)*(Projects!$C$5:$C$2426<>'MDOT FTA Detail'!$C$4)*(Projects!$L$5:$L$2426='Local Detail'!$A78)*(Projects!$J$5:$J$2426<>'Local Detail'!$A$147)*(Projects!$O$5:$O$2426))))","v":0},0,{"$f":"SUMPRODUCT((Projects!$A$5:$A$2426='Local Detail'!$G$3)*(Projects!$C$5:$C$2426<>'MDOT FTA Detail'!$C$4)*(Projects!$L$5:$L$2426='Local Detail'!$A78)*(Projects!$K$5:$K$2426))","v":0},{"$f":"((SUMPRODUCT((Projects!$A$5:$A$2426='Local Detail'!$G$3)*(Projects!$C$5:$C$2426<>'MDOT FTA Detail'!$C$4)*(Projects!$L$5:$L$2426='Local Detail'!$A78)*(Projects!$J$5:$J$2426<>'Local Detail'!$A$147)*(Projects!$M$5:$M$2426)))+(SUMPRODUCT((Projects!$A$5:$A$2426='Local Detail'!$G$3)*(Projects!$C$5:$C$2426<>'MDOT FTA Detail'!$C$4)*(Projects!$L$5:$L$2426='Local Detail'!$A78)*(Projects!$J$5:$J$2426<>'Local Detail'!$A$147)*(Projects!$O$5:$O$2426))))","v":0},0,{"$f":"SUMPRODUCT((Projects!$A$5:$A$2426='Local Detail'!$J$3)*(Projects!$C$5:$C$2426<>'MDOT FTA Detail'!$C$4)*(Projects!$L$5:$L$2426='Local Detail'!$A78)*(Projects!$K$5:$K$2426))","v":0},{"$f":"((SUMPRODUCT((Projects!$A$5:$A$2426='Local Detail'!$J$3)*(Projects!$C$5:$C$2426<>'MDOT FTA Detail'!$C$4)*(Projects!$L$5:$L$2426='Local Detail'!$A78)*(Projects!$J$5:$J$2426<>'Local Detail'!$A$147)*(Projects!$M$5:$M$2426)))+(SUMPRODUCT((Projects!$A$5:$A$2426='Local Detail'!$J$3)*(Projects!$C$5:$C$2426<>'MDOT FTA Detail'!$C$4)*(Projects!$L$5:$L$2426='Local Detail'!$A78)*(Projects!$J$5:$J$2426<>'Local Detail'!$A$147)*(Projects!$O$5:$O$2426))))","v":0},0,{"$f":"SUMPRODUCT((Projects!$A$5:$A$2426='Local Detail'!$M$3)*(Projects!$C$5:$C$2426<>'MDOT FTA Detail'!$C$4)*(Projects!$L$5:$L$2426='Local Detail'!$A78)*(Projects!$K$5:$K$2426))","v":0},{"$f":"((SUMPRODUCT((Projects!$A$5:$A$2426='Local Detail'!$M$3)*(Projects!$C$5:$C$2426<>'MDOT FTA Detail'!$C$4)*(Projects!$L$5:$L$2426='Local Detail'!$A78)*(Projects!$J$5:$J$2426<>'Local Detail'!$A$147)*(Projects!$M$5:$M$2426)))+(SUMPRODUCT((Projects!$A$5:$A$2426='Local Detail'!$M$3)*(Projects!$C$5:$C$2426<>'MDOT FTA Detail'!$C$4)*(Projects!$L$5:$L$2426='Local Detail'!$A78)*(Projects!$J$5:$J$2426<>'Local Detail'!$A$147)*(Projects!$O$5:$O$2426))))","v":0},0]
["STE","STP - Enhancement","Local STP",{"$f":"SUMPRODUCT((Projects!$A$5:$A$2426='Local Detail'!$D$3)*(Projects!$C$5:$C$2426<>'MDOT FTA Detail'!$C$4)*(Projects!$L$5:$L$2426='Local Detail'!$A79)*(Projects!$K$5:$K$2426))","v":0},{"$f":"((SUMPRODUCT((Projects!$A$5:$A$2426='Local Detail'!$D$3)*(Projects!$C$5:$C$2426<>'MDOT FTA Detail'!$C$4)*(Projects!$L$5:$L$2426='Local Detail'!$A79)*(Projects!$J$5:$J$2426<>'Local Detail'!$A$147)*(Projects!$M$5:$M$2426)))+(SUMPRODUCT((Projects!$A$5:$A$2426='Local Detail'!$D$3)*(Projects!$C$5:$C$2426<>'MDOT FTA Detail'!$C$4)*(Projects!$L$5:$L$2426='Local Detail'!$A79)*(Projects!$J$5:$J$2426<>'Local Detail'!$A$147)*(Projects!$O$5:$O$2426))))","v":0},0,{"$f":"SUMPRODUCT((Projects!$A$5:$A$2426='Local Detail'!$G$3)*(Projects!$C$5:$C$2426<>'MDOT FTA Detail'!$C$4)*(Projects!$L$5:$L$2426='Local Detail'!$A79)*(Projects!$K$5:$K$2426))","v":0},{"$f":"((SUMPRODUCT((Projects!$A$5:$A$2426='Local Detail'!$G$3)*(Projects!$C$5:$C$2426<>'MDOT FTA Detail'!$C$4)*(Projects!$L$5:$L$2426='Local Detail'!$A79)*(Projects!$J$5:$J$2426<>'Local Detail'!$A$147)*(Projects!$M$5:$M$2426)))+(SUMPRODUCT((Projects!$A$5:$A$2426='Local Detail'!$G$3)*(Projects!$C$5:$C$2426<>'MDOT FTA Detail'!$C$4)*(Projects!$L$5:$L$2426='Local Detail'!$A79)*(Projects!$J$5:$J$2426<>'Local Detail'!$A$147)*(Projects!$O$5:$O$2426))))","v":0},0,{"$f":"SUMPRODUCT((Projects!$A$5:$A$2426='Local Detail'!$J$3)*(Projects!$C$5:$C$2426<>'MDOT FTA Detail'!$C$4)*(Projects!$L$5:$L$2426='Local Detail'!$A79)*(Projects!$K$5:$K$2426))","v":0},{"$f":"((SUMPRODUCT((Projects!$A$5:$A$2426='Local Detail'!$J$3)*(Projects!$C$5:$C$2426<>'MDOT FTA Detail'!$C$4)*(Projects!$L$5:$L$2426='Local Detail'!$A79)*(Projects!$J$5:$J$2426<>'Local Detail'!$A$147)*(Projects!$M$5:$M$2426)))+(SUMPRODUCT((Projects!$A$5:$A$2426='Local Detail'!$J$3)*(Projects!$C$5:$C$2426<>'MDOT FTA Detail'!$C$4)*(Projects!$L$5:$L$2426='Local Detail'!$A79)*(Projects!$J$5:$J$2426<>'Local Detail'!$A$147)*(Projects!$O$5:$O$2426))))","v":0},0,{"$f":"SUMPRODUCT((Projects!$A$5:$A$2426='Local Detail'!$M$3)*(Projects!$C$5:$C$2426<>'MDOT FTA Detail'!$C$4)*(Projects!$L$5:$L$2426='Local Detail'!$A79)*(Projects!$K$5:$K$2426))","v":0},{"$f":"((SUMPRODUCT((Projects!$A$5:$A$2426='Local Detail'!$M$3)*(Projects!$C$5:$C$2426<>'MDOT FTA Detail'!$C$4)*(Projects!$L$5:$L$2426='Local Detail'!$A79)*(Projects!$J$5:$J$2426<>'Local Detail'!$A$147)*(Projects!$M$5:$M$2426)))+(SUMPRODUCT((Projects!$A$5:$A$2426='Local Detail'!$M$3)*(Projects!$C$5:$C$2426<>'MDOT FTA Detail'!$C$4)*(Projects!$L$5:$L$2426='Local Detail'!$A79)*(Projects!$J$5:$J$2426<>'Local Detail'!$A$147)*(Projects!$O$5:$O$2426))))","v":0},0]
["STG","STP - Safety - 100% Federal for ST","Local Safety",{"$f":"SUMPRODUCT((Projects!$A$5:$A$2426='Local Detail'!$D$3)*(Projects!$C$5:$C$2426<>'MDOT FTA Detail'!$C$4)*(Projects!$L$5:$L$2426='Local Detail'!$A80)*(Projects!$K$5:$K$2426))","v":0},{"$f":"((SUMPRODUCT((Projects!$A$5:$A$2426='Local Detail'!$D$3)*(Projects!$C$5:$C$2426<>'MDOT FTA Detail'!$C$4)*(Projects!$L$5:$L$2426='Local Detail'!$A80)*(Projects!$J$5:$J$2426<>'Local Detail'!$A$147)*(Projects!$M$5:$M$2426)))+(SUMPRODUCT((Projects!$A$5:$A$2426='Local Detail'!$D$3)*(Projects!$C$5:$C$2426<>'MDOT FTA Detail'!$C$4)*(Projects!$L$5:$L$2426='Local Detail'!$A80)*(Projects!$J$5:$J$2426<>'Local Detail'!$A$147)*(Projects!$O$5:$O$2426))))","v":0},0,{"$f":"SUMPRODUCT((Projects!$A$5:$A$2426='Local Detail'!$G$3)*(Projects!$C$5:$C$2426<>'MDOT FTA Detail'!$C$4)*(Projects!$L$5:$L$2426='Local Detail'!$A80)*(Projects!$K$5:$K$2426))","v":0},{"$f":"((SUMPRODUCT((Projects!$A$5:$A$2426='Local Detail'!$G$3)*(Projects!$C$5:$C$2426<>'MDOT FTA Detail'!$C$4)*(Projects!$L$5:$L$2426='Local Detail'!$A80)*(Projects!$J$5:$J$2426<>'Local Detail'!$A$147)*(Projects!$M$5:$M$2426)))+(SUMPRODUCT((Projects!$A$5:$A$2426='Local Detail'!$G$3)*(Projects!$C$5:$C$2426<>'MDOT FTA Detail'!$C$4)*(Projects!$L$5:$L$2426='Local Detail'!$A80)*(Projects!$J$5:$J$2426<>'Local Detail'!$A$147)*(Projects!$O$5:$O$2426))))","v":0},0,{"$f":"SUMPRODUCT((Projects!$A$5:$A$2426='Local Detail'!$J$3)*(Projects!$C$5:$C$2426<>'MDOT FTA Detail'!$C$4)*(Projects!$L$5:$L$2426='Local Detail'!$A80)*(Projects!$K$5:$K$2426))","v":0},{"$f":"((SUMPRODUCT((Projects!$A$5:$A$2426='Local Detail'!$J$3)*(Projects!$C$5:$C$2426<>'MDOT FTA Detail'!$C$4)*(Projects!$L$5:$L$2426='Local Detail'!$A80)*(Projects!$J$5:$J$2426<>'Local Detail'!$A$147)*(Projects!$M$5:$M$2426)))+(SUMPRODUCT((Projects!$A$5:$A$2426='Local Detail'!$J$3)*(Projects!$C$5:$C$2426<>'MDOT FTA Detail'!$C$4)*(Projects!$L$5:$L$2426='Local Detail'!$A80)*(Projects!$J$5:$J$2426<>'Local Detail'!$A$147)*(Projects!$O$5:$O$2426))))","v":0},0,{"$f":"SUMPRODUCT((Projects!$A$5:$A$2426='Local Detail'!$M$3)*(Projects!$C$5:$C$2426<>'MDOT FTA Detail'!$C$4)*(Projects!$L$5:$L$2426='Local Detail'!$A80)*(Projects!$K$5:$K$2426))","v":0},{"$f":"((SUMPRODUCT((Projects!$A$5:$A$2426='Local Detail'!$M$3)*(Projects!$C$5:$C$2426<>'MDOT FTA Detail'!$C$4)*(Projects!$L$5:$L$2426='Local Detail'!$A80)*(Projects!$J$5:$J$2426<>'Local Detail'!$A$147)*(Projects!$M$5:$M$2426)))+(SUMPRODUCT((Projects!$A$5:$A$2426='Local Detail'!$M$3)*(Projects!$C$5:$C$2426<>'MDOT FTA Detail'!$C$4)*(Projects!$L$5:$L$2426='Local Detail'!$A80)*(Projects!$J$5:$J$2426<>'Local Detail'!$A$147)*(Projects!$O$5:$O$2426))))","v":0},0]
["STH","STP - Safety - Hazard Elimination","Local Safety",{"$f":"SUMPRODUCT((Projects!$A$5:$A$2426='Local Detail'!$D$3)*(Projects!$C$5:$C$2426<>'MDOT FTA Detail'!$C$4)*(Projects!$L$5:$L$2426='Local Detail'!$A81)*(Projects!$K$5:$K$2426))","v":0},{"$f":"((SUMPRODUCT((Projects!$A$5:$A$2426='Local Detail'!$D$3)*(Projects!$C$5:$C$2426<>'MDOT FTA Detail'!$C$4)*(Projects!$L$5:$L$2426='Local Detail'!$A81)*(Projects!$J$5:$J$2426<>'Local Detail'!$A$147)*(Projects!$M$5:$M$2426)))+(SUMPRODUCT((Projects!$A$5:$A$2426='Local Detail'!$D$3)*(Projects!$C$5:$C$2426<>'MDOT FTA Detail'!$C$4)*(Projects!$L$5:$L$2426='Local Detail'!$A81)*(Projects!$J$5:$J$2426<>'Local Detail'!$A$147)*(Projects!$O$5:$O$2426))))","v":0},0,{"$f":"SUMPRODUCT((Projects!$A$5:$A$2426='Local Detail'!$G$3)*(Projects!$C$5:$C$2426<>'MDOT FTA Detail'!$C$4)*(Projects!$L$5:$L$2426='Local Detail'!$A81)*(Projects!$K$5:$K$2426))","v":0},{"$f":"((SUMPRODUCT((Projects!$A$5:$A$2426='Local Detail'!$G$3)*(Projects!$C$5:$C$2426<>'MDOT FTA Detail'!$C$4)*(Projects!$L$5:$L$2426='Local Detail'!$A81)*(Projects!$J$5:$J$2426<>'Local Detail'!$A$147)*(Projects!$M$5:$M$2426)))+(SUMPRODUCT((Projects!$A$5:$A$2426='Local Detail'!$G$3)*(Projects!$C$5:$C$2426<>'MDOT FTA Detail'!$C$4)*(Projects!$L$5:$L$2426='Local Detail'!$A81)*(Projects!$J$5:$J$2426<>'Local Detail'!$A$147)*(Projects!$O$5:$O$2426))))","v":0},0,{"$f":"SUMPRODUCT((Projects!$A$5:$A$2426='Local Detail'!$J$3)*(Projects!$C$5:$C$2426<>'MDOT FTA Detail'!$C$4)*(Projects!$L$5:$L$2426='Local Detail'!$A81)*(Projects!$K$5:$K$2426))","v":0},{"$f":"((SUMPRODUCT((Projects!$A$5:$A$2426='Local Detail'!$J$3)*(Projects!$C$5:$C$2426<>'MDOT FTA Detail'!$C$4)*(Projects!$L$5:$L$2426='Local Detail'!$A81)*(Projects!$J$5:$J$2426<>'Local Detail'!$A$147)*(Projects!$M$5:$M$2426)))+(SUMPRODUCT((Projects!$A$5:$A$2426='Local Detail'!$J$3)*(Projects!$C$5:$C$2426<>'MDOT FTA Detail'!$C$4)*(Projects!$L$5:$L$2426='Local Detail'!$A81)*(Projects!$J$5:$J$2426<>'Local Detail'!$A$147)*(Projects!$O$5:$O$2426))))","v":0},0,{"$f":"SUMPRODUCT((Projects!$A$5:$A$2426='Local Detail'!$M$3)*(Projects!$C$5:$C$2426<>'MDOT FTA Detail'!$C$4)*(Projects!$L$5:$L$2426='Local Detail'!$A81)*(Projects!$K$5:$K$2426))","v":0},{"$f":"((SUMPRODUCT((Projects!$A$5:$A$2426='Local Detail'!$M$3)*(Projects!$C$5:$C$2426<>'MDOT FTA Detail'!$C$4)*(Projects!$L$5:$L$2426='Local Detail'!$A81)*(Projects!$J$5:$J$2426<>'Local Detail'!$A$147)*(Projects!$M$5:$M$2426)))+(SUMPRODUCT((Projects!$A$5:$A$2426='Local Detail'!$M$3)*(Projects!$C$5:$C$2426<>'MDOT FTA Detail'!$C$4)*(Projects!$L$5:$L$2426='Local Detail'!$A81)*(Projects!$J$5:$J$2426<>'Local Detail'!$A$147)*(Projects!$O$5:$O$2426))))","v":0},0]
["STI","STP - Interstate (90%)","Local STP",{"$f":"SUMPRODUCT((Projects!$A$5:$A$2426='Local Detail'!$D$3)*(Projects!$C$5:$C$2426<>'MDOT FTA Detail'!$C$4)*(Projects!$L$5:$L$2426='Local Detail'!$A82)*(Projects!$K$5:$K$2426))","v":0},{"$f":"((SUMPRODUCT((Projects!$A$5:$A$2426='Local Detail'!$D$3)*(Projects!$C$5:$C$2426<>'MDOT FTA Detail'!$C$4)*(Projects!$L$5:$L$2426='Local Detail'!$A82)*(Projects!$J$5:$J$2426<>'Local Detail'!$A$147)*(Projects!$M$5:$M$2426)))+(SUMPRODUCT((Projects!$A$5:$A$2426='Local Detail'!$D$3)*(Projects!$C$5:$C$2426<>'MDOT FTA Detail'!$C$4)*(Projects!$L$5:$L$2426='Local Detail'!$A82)*(Projects!$J$5:$J$2426<>'Local Detail'!$A$147)*(Projects!$O$5:$O$2426))))","v":0},0,{"$f":"SUMPRODUCT((Projects!$A$5:$A$2426='Local Detail'!$G$3)*(Projects!$C$5:$C$2426<>'MDOT FTA Detail'!$C$4)*(Projects!$L$5:$L$2426='Local Detail'!$A82)*(Projects!$K$5:$K$2426))","v":0},{"$f":"((SUMPRODUCT((Projects!$A$5:$A$2426='Local Detail'!$G$3)*(Projects!$C$5:$C$2426<>'MDOT FTA Detail'!$C$4)*(Projects!$L$5:$L$2426='Local Detail'!$A82)*(Projects!$J$5:$J$2426<>'Local Detail'!$A$147)*(Projects!$M$5:$M$2426)))+(SUMPRODUCT((Projects!$A$5:$A$2426='Local Detail'!$G$3)*(Projects!$C$5:$C$2426<>'MDOT FTA Detail'!$C$4)*(Projects!$L$5:$L$2426='Local Detail'!$A82)*(Projects!$J$5:$J$2426<>'Local Detail'!$A$147)*(Projects!$O$5:$O$2426))))","v":0},0,{"$f":"SUMPRODUCT((Projects!$A$5:$A$2426='Local Detail'!$J$3)*(Projects!$C$5:$C$2426<>'MDOT FTA Detail'!$C$4)*(Projects!$L$5:$L$2426='Local Detail'!$A82)*(Projects!$K$5:$K$2426))","v":0},{"$f":"((SUMPRODUCT((Projects!$A$5:$A$2426='Local Detail'!$J$3)*(Projects!$C$5:$C$2426<>'MDOT FTA Detail'!$C$4)*(Projects!$L$5:$L$2426='Local Detail'!$A82)*(Projects!$J$5:$J$2426<>'Local Detail'!$A$147)*(Projects!$M$5:$M$2426)))+(SUMPRODUCT((Projects!$A$5:$A$2426='Local Detail'!$J$3)*(Projects!$C$5:$C$2426<>'MDOT FTA Detail'!$C$4)*(Projects!$L$5:$L$2426='Local Detail'!$A82)*(Projects!$J$5:$J$2426<>'Local Detail'!$A$147)*(Projects!$O$5:$O$2426))))","v":0},0,{"$f":"SUMPRODUCT((Projects!$A$5:$A$2426='Local Detail'!$M$3)*(Projects!$C$5:$C$2426<>'MDOT FTA Detail'!$C$4)*(Projects!$L$5:$L$2426='Local Detail'!$A82)*(Projects!$K$5:$K$2426))","v":0},{"$f":"((SUMPRODUCT((Projects!$A$5:$A$2426='Local Detail'!$M$3)*(Projects!$C$5:$C$2426<>'MDOT FTA Detail'!$C$4)*(Projects!$L$5:$L$2426='Local Detail'!$A82)*(Projects!$J$5:$J$2426<>'Local Detail'!$A$147)*(Projects!$M$5:$M$2426)))+(SUMPRODUCT((Projects!$A$5:$A$2426='Local Detail'!$M$3)*(Projects!$C$5:$C$2426<>'MDOT FTA Detail'!$C$4)*(Projects!$L$5:$L$2426='Local Detail'!$A82)*(Projects!$J$5:$J$2426<>'Local Detail'!$A$147)*(Projects!$O$5:$O$2426))))","v":0},0]
["STL","STP - Local","Local STP",{"$f":"SUMPRODUCT((Projects!$A$5:$A$2426='Local Detail'!$D$3)*(Projects!$C$5:$C$2426<>'MDOT FTA Detail'!$C$4)*(Projects!$L$5:$L$2426='Local Detail'!$A83)*(Projects!$K$5:$K$2426))","v":0},{"$f":"((SUMPRODUCT((Projects!$A$5:$A$2426='Local Detail'!$D$3)*(Projects!$C$5:$C$2426<>'MDOT FTA Detail'!$C$4)*(Projects!$L$5:$L$2426='Local Detail'!$A83)*(Projects!$J$5:$J$2426<>'Local Detail'!$A$147)*(Projects!$M$5:$M$2426)))+(SUMPRODUCT((Projects!$A$5:$A$2426='Local Detail'!$D$3)*(Projects!$C$5:$C$2426<>'MDOT FTA Detail'!$C$4)*(Projects!$L$5:$L$2426='Local Detail'!$A83)*(Projects!$J$5:$J$2426<>'Local Detail'!$A$147)*(Projects!$O$5:$O$2426))))","v":0},0,{"$f":"SUMPRODUCT((Projects!$A$5:$A$2426='Local Detail'!$G$3)*(Projects!$C$5:$C$2426<>'MDOT FTA Detail'!$C$4)*(Projects!$L$5:$L$2426='Local Detail'!$A83)*(Projects!$K$5:$K$2426))","v":0},{"$f":"((SUMPRODUCT((Projects!$A$5:$A$2426='Local Detail'!$G$3)*(Projects!$C$5:$C$2426<>'MDOT FTA Detail'!$C$4)*(Projects!$L$5:$L$2426='Local Detail'!$A83)*(Projects!$J$5:$J$2426<>'Local Detail'!$A$147)*(Projects!$M$5:$M$2426)))+(SUMPRODUCT((Projects!$A$5:$A$2426='Local Detail'!$G$3)*(Projects!$C$5:$C$2426<>'MDOT FTA Detail'!$C$4)*(Projects!$L$5:$L$2426='Local Detail'!$A83)*(Projects!$J$5:$J$2426<>'Local Detail'!$A$147)*(Projects!$O$5:$O$2426))))","v":0},0,{"$f":"SUMPRODUCT((Projects!$A$5:$A$2426='Local Detail'!$J$3)*(Projects!$C$5:$C$2426<>'MDOT FTA Detail'!$C$4)*(Projects!$L$5:$L$2426='Local Detail'!$A83)*(Projects!$K$5:$K$2426))","v":0},{"$f":"((SUMPRODUCT((Projects!$A$5:$A$2426='Local Detail'!$J$3)*(Projects!$C$5:$C$2426<>'MDOT FTA Detail'!$C$4)*(Projects!$L$5:$L$2426='Local Detail'!$A83)*(Projects!$J$5:$J$2426<>'Local Detail'!$A$147)*(Projects!$M$5:$M$2426)))+(SUMPRODUCT((Projects!$A$5:$A$2426='Local Detail'!$J$3)*(Projects!$C$5:$C$2426<>'MDOT FTA Detail'!$C$4)*(Projects!$L$5:$L$2426='Local Detail'!$A83)*(Projects!$J$5:$J$2426<>'Local Detail'!$A$147)*(Projects!$O$5:$O$2426))))","v":0},0,{"$f":"SUMPRODUCT((Projects!$A$5:$A$2426='Local Detail'!$M$3)*(Projects!$C$5:$C$2426<>'MDOT FTA Detail'!$C$4)*(Projects!$L$5:$L$2426='Local Detail'!$A83)*(Projects!$K$5:$K$2426))","v":0},{"$f":"((SUMPRODUCT((Projects!$A$5:$A$2426='Local Detail'!$M$3)*(Projects!$C$5:$C$2426<>'MDOT FTA Detail'!$C$4)*(Projects!$L$5:$L$2426='Local Detail'!$A83)*(Projects!$J$5:$J$2426<>'Local Detail'!$A$147)*(Projects!$M$5:$M$2426)))+(SUMPRODUCT((Projects!$A$5:$A$2426='Local Detail'!$M$3)*(Projects!$C$5:$C$2426<>'MDOT FTA Detail'!$C$4)*(Projects!$L$5:$L$2426='Local Detail'!$A83)*(Projects!$J$5:$J$2426<>'Local Detail'!$A$147)*(Projects!$O$5:$O$2426))))","v":0},0]
["STLG","Surface Transportation Safety 100% Federal for STL Items","Local STP",{"$f":"SUMPRODUCT((Projects!$A$5:$A$2426='Local Detail'!$D$3)*(Projects!$C$5:$C$2426<>'MDOT FTA Detail'!$C$4)*(Projects!$L$5:$L$2426='Local Detail'!$A84)*(Projects!$K$5:$K$2426))","v":0},{"$f":"((SUMPRODUCT((Projects!$A$5:$A$2426='Local Detail'!$D$3)*(Projects!$C$5:$C$2426<>'MDOT FTA Detail'!$C$4)*(Projects!$L$5:$L$2426='Local Detail'!$A84)*(Projects!$J$5:$J$2426<>'Local Detail'!$A$147)*(Projects!$M$5:$M$2426)))+(SUMPRODUCT((Projects!$A$5:$A$2426='Local Detail'!$D$3)*(Projects!$C$5:$C$2426<>'MDOT FTA Detail'!$C$4)*(Projects!$L$5:$L$2426='Local Detail'!$A84)*(Projects!$J$5:$J$2426<>'Local Detail'!$A$147)*(Projects!$O$5:$O$2426))))","v":0},{"$f":"D84+E84","v":0},{"$f":"SUMPRODUCT((Projects!$A$5:$A$2426='Local Detail'!$G$3)*(Projects!$C$5:$C$2426<>'MDOT FTA Detail'!$C$4)*(Projects!$L$5:$L$2426='Local Detail'!$A84)*(Projects!$K$5:$K$2426))","v":0},{"$f":"((SUMPRODUCT((Projects!$A$5:$A$2426='Local Detail'!$G$3)*(Projects!$C$5:$C$2426<>'MDOT FTA Detail'!$C$4)*(Projects!$L$5:$L$2426='Local Detail'!$A84)*(Projects!$J$5:$J$2426<>'Local Detail'!$A$147)*(Projects!$M$5:$M$2426)))+(SUMPRODUCT((Projects!$A$5:$A$2426='Local Detail'!$G$3)*(Projects!$C$5:$C$2426<>'MDOT FTA Detail'!$C$4)*(Projects!$L$5:$L$2426='Local Detail'!$A84)*(Projects!$J$5:$J$2426<>'Local Detail'!$A$147)*(Projects!$O$5:$O$2426))))","v":0},{"$f":"G84+H84","v":0},{"$f":"SUMPRODUCT((Projects!$A$5:$A$2426='Local Detail'!$J$3)*(Projects!$C$5:$C$2426<>'MDOT FTA Detail'!$C$4)*(Projects!$L$5:$L$2426='Local Detail'!$A84)*(Projects!$K$5:$K$2426))","v":0},{"$f":"((SUMPRODUCT((Projects!$A$5:$A$2426='Local Detail'!$J$3)*(Projects!$C$5:$C$2426<>'MDOT FTA Detail'!$C$4)*(Projects!$L$5:$L$2426='Local Detail'!$A84)*(Projects!$J$5:$J$2426<>'Local Detail'!$A$147)*(Projects!$M$5:$M$2426)))+(SUMPRODUCT((Projects!$A$5:$A$2426='Local Detail'!$J$3)*(Projects!$C$5:$C$2426<>'MDOT FTA Detail'!$C$4)*(Projects!$L$5:$L$2426='Local Detail'!$A84)*(Projects!$J$5:$J$2426<>'Local Detail'!$A$147)*(Projects!$O$5:$O$2426))))","v":0},{"$f":"J84+K84","v":0},{"$f":"SUMPRODUCT((Projects!$A$5:$A$2426='Local Detail'!$M$3)*(Projects!$C$5:$C$2426<>'MDOT FTA Detail'!$C$4)*(Projects!$L$5:$L$2426='Local Detail'!$A84)*(Projects!$K$5:$K$2426))","v":0},{"$f":"((SUMPRODUCT((Projects!$A$5:$A$2426='Local Detail'!$M$3)*(Projects!$C$5:$C$2426<>'MDOT FTA Detail'!$C$4)*(Projects!$L$5:$L$2426='Local Detail'!$A84)*(Projects!$J$5:$J$2426<>'Local Detail'!$A$147)*(Projects!$M$5:$M$2426)))+(SUMPRODUCT((Projects!$A$5:$A$2426='Local Detail'!$M$3)*(Projects!$C$5:$C$2426<>'MDOT FTA Detail'!$C$4)*(Projects!$L$5:$L$2426='Local Detail'!$A84)*(Projects!$J$5:$J$2426<>'Local Detail'!$A$147)*(Projects!$O$5:$O$2426))))","v":0},{"$f":"M84+N84","v":0}]
["STR","STP - Safety - Rail-Highway Crossing Protection","Local STP",{"$f":"SUMPRODUCT((Projects!$A$5:$A$2426='Local Detail'!$D$3)*(Projects!$C$5:$C$2426<>'MDOT FTA Detail'!$C$4)*(Projects!$L$5:$L$2426='Local Detail'!$A85)*(Projects!$K$5:$K$2426))","v":0},{"$f":"((SUMPRODUCT((Projects!$A$5:$A$2426='Local Detail'!$D$3)*(Projects!$C$5:$C$2426<>'MDOT FTA Detail'!$C$4)*(Projects!$L$5:$L$2426='Local Detail'!$A85)*(Projects!$J$5:$J$2426<>'Local Detail'!$A$147)*(Projects!$M$5:$M$2426)))+(SUMPRODUCT((Projects!$A$5:$A$2426='Local Detail'!$D$3)*(Projects!$C$5:$C$2426<>'MDOT FTA Detail'!$C$4)*(Projects!$L$5:$L$2426='Local Detail'!$A85)*(Projects!$J$5:$J$2426<>'Local Detail'!$A$147)*(Projects!$O$5:$O$2426))))","v":0},0,{"$f":"SUMPRODUCT((Projects!$A$5:$A$2426='Local Detail'!$G$3)*(Projects!$C$5:$C$2426<>'MDOT FTA Detail'!$C$4)*(Projects!$L$5:$L$2426='Local Detail'!$A85)*(Projects!$K$5:$K$2426))","v":0},{"$f":"((SUMPRODUCT((Projects!$A$5:$A$2426='Local Detail'!$G$3)*(Projects!$C$5:$C$2426<>'MDOT FTA Detail'!$C$4)*(Projects!$L$5:$L$2426='Local Detail'!$A85)*(Projects!$J$5:$J$2426<>'Local Detail'!$A$147)*(Projects!$M$5:$M$2426)))+(SUMPRODUCT((Projects!$A$5:$A$2426='Local Detail'!$G$3)*(Projects!$C$5:$C$2426<>'MDOT FTA Detail'!$C$4)*(Projects!$L$5:$L$2426='Local Detail'!$A85)*(Projects!$J$5:$J$2426<>'Local Detail'!$A$147)*(Projects!$O$5:$O$2426))))","v":0},0,{"$f":"SUMPRODUCT((Projects!$A$5:$A$2426='Local Detail'!$J$3)*(Projects!$C$5:$C$2426<>'MDOT FTA Detail'!$C$4)*(Projects!$L$5:$L$2426='Local Detail'!$A85)*(Projects!$K$5:$K$2426))","v":0},{"$f":"((SUMPRODUCT((Projects!$A$5:$A$2426='Local Detail'!$J$3)*(Projects!$C$5:$C$2426<>'MDOT FTA Detail'!$C$4)*(Projects!$L$5:$L$2426='Local Detail'!$A85)*(Projects!$J$5:$J$2426<>'Local Detail'!$A$147)*(Projects!$M$5:$M$2426)))+(SUMPRODUCT((Projects!$A$5:$A$2426='Local Detail'!$J$3)*(Projects!$C$5:$C$2426<>'MDOT FTA Detail'!$C$4)*(Projects!$L$5:$L$2426='Local Detail'!$A85)*(Projects!$J$5:$J$2426<>'Local Detail'!$A$147)*(Projects!$O$5:$O$2426))))","v":0},0,{"$f":"SUMPRODUCT((Projects!$A$5:$A$2426='Local Detail'!$M$3)*(Projects!$C$5:$C$2426<>'MDOT FTA Detail'!$C$4)*(Projects!$L$5:$L$2426='Local Detail'!$A85)*(Projects!$K$5:$K$2426))","v":0},{"$f":"((SUMPRODUCT((Projects!$A$5:$A$2426='Local Detail'!$M$3)*(Projects!$C$5:$C$2426<>'MDOT FTA Detail'!$C$4)*(Projects!$L$5:$L$2426='Local Detail'!$A85)*(Projects!$J$5:$J$2426<>'Local Detail'!$A$147)*(Projects!$M$5:$M$2426)))+(SUMPRODUCT((Projects!$A$5:$A$2426='Local Detail'!$M$3)*(Projects!$C$5:$C$2426<>'MDOT FTA Detail'!$C$4)*(Projects!$L$5:$L$2426='Local Detail'!$A85)*(Projects!$J$5:$J$2426<>'Local Detail'!$A$147)*(Projects!$O$5:$O$2426))))","v":0},0]
["STRG","STP - Safety Rail-Highway & Incentive Payment - 100% Federal","Local STP",{"$f":"SUMPRODUCT((Projects!$A$5:$A$2426='Local Detail'!$D$3)*(Projects!$C$5:$C$2426<>'MDOT FTA Detail'!$C$4)*(Projects!$L$5:$L$2426='Local Detail'!$A86)*(Projects!$K$5:$K$2426))","v":0},{"$f":"((SUMPRODUCT((Projects!$A$5:$A$2426='Local Detail'!$D$3)*(Projects!$C$5:$C$2426<>'MDOT FTA Detail'!$C$4)*(Projects!$L$5:$L$2426='Local Detail'!$A86)*(Projects!$J$5:$J$2426<>'Local Detail'!$A$147)*(Projects!$M$5:$M$2426)))+(SUMPRODUCT((Projects!$A$5:$A$2426='Local Detail'!$D$3)*(Projects!$C$5:$C$2426<>'MDOT FTA Detail'!$C$4)*(Projects!$L$5:$L$2426='Local Detail'!$A86)*(Projects!$J$5:$J$2426<>'Local Detail'!$A$147)*(Projects!$O$5:$O$2426))))","v":0},0,{"$f":"SUMPRODUCT((Projects!$A$5:$A$2426='Local Detail'!$G$3)*(Projects!$C$5:$C$2426<>'MDOT FTA Detail'!$C$4)*(Projects!$L$5:$L$2426='Local Detail'!$A86)*(Projects!$K$5:$K$2426))","v":0},{"$f":"((SUMPRODUCT((Projects!$A$5:$A$2426='Local Detail'!$G$3)*(Projects!$C$5:$C$2426<>'MDOT FTA Detail'!$C$4)*(Projects!$L$5:$L$2426='Local Detail'!$A86)*(Projects!$J$5:$J$2426<>'Local Detail'!$A$147)*(Projects!$M$5:$M$2426)))+(SUMPRODUCT((Projects!$A$5:$A$2426='Local Detail'!$G$3)*(Projects!$C$5:$C$2426<>'MDOT FTA Detail'!$C$4)*(Projects!$L$5:$L$2426='Local Detail'!$A86)*(Projects!$J$5:$J$2426<>'Local Detail'!$A$147)*(Projects!$O$5:$O$2426))))","v":0},0,{"$f":"SUMPRODUCT((Projects!$A$5:$A$2426='Local Detail'!$J$3)*(Projects!$C$5:$C$2426<>'MDOT FTA Detail'!$C$4)*(Projects!$L$5:$L$2426='Local Detail'!$A86)*(Projects!$K$5:$K$2426))","v":0},{"$f":"((SUMPRODUCT((Projects!$A$5:$A$2426='Local Detail'!$J$3)*(Projects!$C$5:$C$2426<>'MDOT FTA Detail'!$C$4)*(Projects!$L$5:$L$2426='Local Detail'!$A86)*(Projects!$J$5:$J$2426<>'Local Detail'!$A$147)*(Projects!$M$5:$M$2426)))+(SUMPRODUCT((Projects!$A$5:$A$2426='Local Detail'!$J$3)*(Projects!$C$5:$C$2426<>'MDOT FTA Detail'!$C$4)*(Projects!$L$5:$L$2426='Local Detail'!$A86)*(Projects!$J$5:$J$2426<>'Local Detail'!$A$147)*(Projects!$O$5:$O$2426))))","v":0},0,{"$f":"SUMPRODUCT((Projects!$A$5:$A$2426='Local Detail'!$M$3)*(Projects!$C$5:$C$2426<>'MDOT FTA Detail'!$C$4)*(Projects!$L$5:$L$2426='Local Detail'!$A86)*(Projects!$K$5:$K$2426))","v":0},{"$f":"((SUMPRODUCT((Projects!$A$5:$A$2426='Local Detail'!$M$3)*(Projects!$C$5:$C$2426<>'MDOT FTA Detail'!$C$4)*(Projects!$L$5:$L$2426='Local Detail'!$A86)*(Projects!$J$5:$J$2426<>'Local Detail'!$A$147)*(Projects!$M$5:$M$2426)))+(SUMPRODUCT((Projects!$A$5:$A$2426='Local Detail'!$M$3)*(Projects!$C$5:$C$2426<>'MDOT FTA Detail'!$C$4)*(Projects!$L$5:$L$2426='Local Detail'!$A86)*(Projects!$J$5:$J$2426<>'Local Detail'!$A$147)*(Projects!$O$5:$O$2426))))","v":0},0]
["STRH","Surface Transportation Safety Highway Crossing Hazard Elimination","Local STP",{"$f":"SUMPRODUCT((Projects!$A$5:$A$2426='Local Detail'!$D$3)*(Projects!$C$5:$C$2426<>'MDOT FTA Detail'!$C$4)*(Projects!$L$5:$L$2426='Local Detail'!$A87)*(Projects!$K$5:$K$2426))","v":0},{"$f":"((SUMPRODUCT((Projects!$A$5:$A$2426='Local Detail'!$D$3)*(Projects!$C$5:$C$2426<>'MDOT FTA Detail'!$C$4)*(Projects!$L$5:$L$2426='Local Detail'!$A87)*(Projects!$J$5:$J$2426<>'Local Detail'!$A$147)*(Projects!$M$5:$M$2426)))+(SUMPRODUCT((Projects!$A$5:$A$2426='Local Detail'!$D$3)*(Projects!$C$5:$C$2426<>'MDOT FTA Detail'!$C$4)*(Projects!$L$5:$L$2426='Local Detail'!$A87)*(Projects!$J$5:$J$2426<>'Local Detail'!$A$147)*(Projects!$O$5:$O$2426))))","v":0},{"$f":"D87+E87","v":0},{"$f":"SUMPRODUCT((Projects!$A$5:$A$2426='Local Detail'!$G$3)*(Projects!$C$5:$C$2426<>'MDOT FTA Detail'!$C$4)*(Projects!$L$5:$L$2426='Local Detail'!$A87)*(Projects!$K$5:$K$2426))","v":0},{"$f":"((SUMPRODUCT((Projects!$A$5:$A$2426='Local Detail'!$G$3)*(Projects!$C$5:$C$2426<>'MDOT FTA Detail'!$C$4)*(Projects!$L$5:$L$2426='Local Detail'!$A87)*(Projects!$J$5:$J$2426<>'Local Detail'!$A$147)*(Projects!$M$5:$M$2426)))+(SUMPRODUCT((Projects!$A$5:$A$2426='Local Detail'!$G$3)*(Projects!$C$5:$C$2426<>'MDOT FTA Detail'!$C$4)*(Projects!$L$5:$L$2426='Local Detail'!$A87)*(Projects!$J$5:$J$2426<>'Local Detail'!$A$147)*(Projects!$O$5:$O$2426))))","v":0},{"$f":"G87+H87","v":0},{"$f":"SUMPRODUCT((Projects!$A$5:$A$2426='Local Detail'!$J$3)*(Projects!$C$5:$C$2426<>'MDOT FTA Detail'!$C$4)*(Projects!$L$5:$L$2426='Local Detail'!$A87)*(Projects!$K$5:$K$2426))","v":0},{"$f":"((SUMPRODUCT((Projects!$A$5:$A$2426='Local Detail'!$J$3)*(Projects!$C$5:$C$2426<>'MDOT FTA Detail'!$C$4)*(Projects!$L$5:$L$2426='Local Detail'!$A87)*(Projects!$J$5:$J$2426<>'Local Detail'!$A$147)*(Projects!$M$5:$M$2426)))+(SUMPRODUCT((Projects!$A$5:$A$2426='Local Detail'!$J$3)*(Projects!$C$5:$C$2426<>'MDOT FTA Detail'!$C$4)*(Projects!$L$5:$L$2426='Local Detail'!$A87)*(Projects!$J$5:$J$2426<>'Local Detail'!$A$147)*(Projects!$O$5:$O$2426))))","v":0},{"$f":"J87+K87","v":0},{"$f":"SUMPRODUCT((Projects!$A$5:$A$2426='Local Detail'!$M$3)*(Projects!$C$5:$C$2426<>'MDOT FTA Detail'!$C$4)*(Projects!$L$5:$L$2426='Local Detail'!$A87)*(Projects!$K$5:$K$2426))","v":0},{"$f":"((SUMPRODUCT((Projects!$A$5:$A$2426='Local Detail'!$M$3)*(Projects!$C$5:$C$2426<>'MDOT FTA Detail'!$C$4)*(Projects!$L$5:$L$2426='Local Detail'!$A87)*(Projects!$J$5:$J$2426<>'Local Detail'!$A$147)*(Projects!$M$5:$M$2426)))+(SUMPRODUCT((Projects!$A$5:$A$2426='Local Detail'!$M$3)*(Projects!$C$5:$C$2426<>'MDOT FTA Detail'!$C$4)*(Projects!$L$5:$L$2426='Local Detail'!$A87)*(Projects!$J$5:$J$2426<>'Local Detail'!$A$147)*(Projects!$O$5:$O$2426))))","v":0},{"$f":"M87+N87","v":0}]
["STRP","Surface Transportation Safety Highway Crossing Protection Devices","Local STP",{"$f":"SUMPRODUCT((Projects!$A$5:$A$2426='Local Detail'!$D$3)*(Projects!$C$5:$C$2426<>'MDOT FTA Detail'!$C$4)*(Projects!$L$5:$L$2426='Local Detail'!$A88)*(Projects!$K$5:$K$2426))","v":0},{"$f":"((SUMPRODUCT((Projects!$A$5:$A$2426='Local Detail'!$D$3)*(Projects!$C$5:$C$2426<>'MDOT FTA Detail'!$C$4)*(Projects!$L$5:$L$2426='Local Detail'!$A88)*(Projects!$J$5:$J$2426<>'Local Detail'!$A$147)*(Projects!$M$5:$M$2426)))+(SUMPRODUCT((Projects!$A$5:$A$2426='Local Detail'!$D$3)*(Projects!$C$5:$C$2426<>'MDOT FTA Detail'!$C$4)*(Projects!$L$5:$L$2426='Local Detail'!$A88)*(Projects!$J$5:$J$2426<>'Local Detail'!$A$147)*(Projects!$O$5:$O$2426))))","v":0},{"$f":"D88+E88","v":0},{"$f":"SUMPRODUCT((Projects!$A$5:$A$2426='Local Detail'!$G$3)*(Projects!$C$5:$C$2426<>'MDOT FTA Detail'!$C$4)*(Projects!$L$5:$L$2426='Local Detail'!$A88)*(Projects!$K$5:$K$2426))","v":0},{"$f":"((SUMPRODUCT((Projects!$A$5:$A$2426='Local Detail'!$G$3)*(Projects!$C$5:$C$2426<>'MDOT FTA Detail'!$C$4)*(Projects!$L$5:$L$2426='Local Detail'!$A88)*(Projects!$J$5:$J$2426<>'Local Detail'!$A$147)*(Projects!$M$5:$M$2426)))+(SUMPRODUCT((Projects!$A$5:$A$2426='Local Detail'!$G$3)*(Projects!$C$5:$C$2426<>'MDOT FTA Detail'!$C$4)*(Projects!$L$5:$L$2426='Local Detail'!$A88)*(Projects!$J$5:$J$2426<>'Local Detail'!$A$147)*(Projects!$O$5:$O$2426))))","v":0},{"$f":"G88+H88","v":0},{"$f":"SUMPRODUCT((Projects!$A$5:$A$2426='Local Detail'!$J$3)*(Projects!$C$5:$C$2426<>'MDOT FTA Detail'!$C$4)*(Projects!$L$5:$L$2426='Local Detail'!$A88)*(Projects!$K$5:$K$2426))","v":0},{"$f":"((SUMPRODUCT((Projects!$A$5:$A$2426='Local Detail'!$J$3)*(Projects!$C$5:$C$2426<>'MDOT FTA Detail'!$C$4)*(Projects!$L$5:$L$2426='Local Detail'!$A88)*(Projects!$J$5:$J$2426<>'Local Detail'!$A$147)*(Projects!$M$5:$M$2426)))+(SUMPRODUCT((Projects!$A$5:$A$2426='Local Detail'!$J$3)*(Projects!$C$5:$C$2426<>'MDOT FTA Detail'!$C$4)*(Projects!$L$5:$L$2426='Local Detail'!$A88)*(Projects!$J$5:$J$2426<>'Local Detail'!$A$147)*(Projects!$O$5:$O$2426))))","v":0},{"$f":"J88+K88","v":0},{"$f":"SUMPRODUCT((Projects!$A$5:$A$2426='Local Detail'!$M$3)*(Projects!$C$5:$C$2426<>'MDOT FTA Detail'!$C$4)*(Projects!$L$5:$L$2426='Local Detail'!$A88)*(Projects!$K$5:$K$2426))","v":0},{"$f":"((SUMPRODUCT((Projects!$A$5:$A$2426='Local Detail'!$M$3)*(Projects!$C$5:$C$2426<>'MDOT FTA Detail'!$C$4)*(Projects!$L$5:$L$2426='Local Detail'!$A88)*(Projects!$J$5:$J$2426<>'Local Detail'!$A$147)*(Projects!$M$5:$M$2426)))+(SUMPRODUCT((Projects!$A$5:$A$2426='Local Detail'!$M$3)*(Projects!$C$5:$C$2426<>'MDOT FTA Detail'!$C$4)*(Projects!$L$5:$L$2426='Local Detail'!$A88)*(Projects!$J$5:$J$2426<>'Local Detail'!$A$147)*(Projects!$O$5:$O$2426))))","v":0},{"$f":"M88+N88","v":0}]
["STS","STP - Any Area- MDOT Safety Program","Local STP",{"$f":"SUMPRODUCT((Projects!$A$5:$A$2426='Local Detail'!$D$3)*(Projects!$C$5:$C$2426<>'MDOT FTA Detail'!$C$4)*(Projects!$L$5:$L$2426='Local Detail'!$A89)*(Projects!$K$5:$K$2426))","v":0},{"$f":"((SUMPRODUCT((Projects!$A$5:$A$2426='Local Detail'!$D$3)*(Projects!$C$5:$C$2426<>'MDOT FTA Detail'!$C$4)*(Projects!$L$5:$L$2426='Local Detail'!$A89)*(Projects!$J$5:$J$2426<>'Local Detail'!$A$147)*(Projects!$M$5:$M$2426)))+(SUMPRODUCT((Projects!$A$5:$A$2426='Local Detail'!$D$3)*(Projects!$C$5:$C$2426<>'MDOT FTA Detail'!$C$4)*(Projects!$L$5:$L$2426='Local Detail'!$A89)*(Projects!$J$5:$J$2426<>'Local Detail'!$A$147)*(Projects!$O$5:$O$2426))))","v":0},0,{"$f":"SUMPRODUCT((Projects!$A$5:$A$2426='Local Detail'!$G$3)*(Projects!$C$5:$C$2426<>'MDOT FTA Detail'!$C$4)*(Projects!$L$5:$L$2426='Local Detail'!$A89)*(Projects!$K$5:$K$2426))","v":0},{"$f":"((SUMPRODUCT((Projects!$A$5:$A$2426='Local Detail'!$G$3)*(Projects!$C$5:$C$2426<>'MDOT FTA Detail'!$C$4)*(Projects!$L$5:$L$2426='Local Detail'!$A89)*(Projects!$J$5:$J$2426<>'Local Detail'!$A$147)*(Projects!$M$5:$M$2426)))+(SUMPRODUCT((Projects!$A$5:$A$2426='Local Detail'!$G$3)*(Projects!$C$5:$C$2426<>'MDOT FTA Detail'!$C$4)*(Projects!$L$5:$L$2426='Local Detail'!$A89)*(Projects!$J$5:$J$2426<>'Local Detail'!$A$147)*(Projects!$O$5:$O$2426))))","v":0},0,{"$f":"SUMPRODUCT((Projects!$A$5:$A$2426='Local Detail'!$J$3)*(Projects!$C$5:$C$2426<>'MDOT FTA Detail'!$C$4)*(Projects!$L$5:$L$2426='Local Detail'!$A89)*(Projects!$K$5:$K$2426))","v":0},{"$f":"((SUMPRODUCT((Projects!$A$5:$A$2426='Local Detail'!$J$3)*(Projects!$C$5:$C$2426<>'MDOT FTA Detail'!$C$4)*(Projects!$L$5:$L$2426='Local Detail'!$A89)*(Projects!$J$5:$J$2426<>'Local Detail'!$A$147)*(Projects!$M$5:$M$2426)))+(SUMPRODUCT((Projects!$A$5:$A$2426='Local Detail'!$J$3)*(Projects!$C$5:$C$2426<>'MDOT FTA Detail'!$C$4)*(Projects!$L$5:$L$2426='Local Detail'!$A89)*(Projects!$J$5:$J$2426<>'Local Detail'!$A$147)*(Projects!$O$5:$O$2426))))","v":0},0,{"$f":"SUMPRODUCT((Projects!$A$5:$A$2426='Local Detail'!$M$3)*(Projects!$C$5:$C$2426<>'MDOT FTA Detail'!$C$4)*(Projects!$L$5:$L$2426='Local Detail'!$A89)*(Projects!$K$5:$K$2426))","v":0},{"$f":"((SUMPRODUCT((Projects!$A$5:$A$2426='Local Detail'!$M$3)*(Projects!$C$5:$C$2426<>'MDOT FTA Detail'!$C$4)*(Projects!$L$5:$L$2426='Local Detail'!$A89)*(Projects!$J$5:$J$2426<>'Local Detail'!$A$147)*(Projects!$M$5:$M$2426)))+(SUMPRODUCT((Projects!$A$5:$A$2426='Local Detail'!$M$3)*(Projects!$C$5:$C$2426<>'MDOT FTA Detail'!$C$4)*(Projects!$L$5:$L$2426='Local Detail'!$A89)*(Projects!$J$5:$J$2426<>'Local Detail'!$A$147)*(Projects!$O$5:$O$2426))))","v":0},0]
["STT","STP - Trunkline","Local STP",{"$f":"SUMPRODUCT((Projects!$A$5:$A$2426='Local Detail'!$D$3)*(Projects!$C$5:$C$2426<>'MDOT FTA Detail'!$C$4)*(Projects!$L$5:$L$2426='Local Detail'!$A90)*(Projects!$K$5:$K$2426))","v":0},{"$f":"((SUMPRODUCT((Projects!$A$5:$A$2426='Local Detail'!$D$3)*(Projects!$C$5:$C$2426<>'MDOT FTA Detail'!$C$4)*(Projects!$L$5:$L$2426='Local Detail'!$A90)*(Projects!$J$5:$J$2426<>'Local Detail'!$A$147)*(Projects!$M$5:$M$2426)))+(SUMPRODUCT((Projects!$A$5:$A$2426='Local Detail'!$D$3)*(Projects!$C$5:$C$2426<>'MDOT FTA Detail'!$C$4)*(Projects!$L$5:$L$2426='Local Detail'!$A90)*(Projects!$J$5:$J$2426<>'Local Detail'!$A$147)*(Projects!$O$5:$O$2426))))","v":0},0,{"$f":"SUMPRODUCT((Projects!$A$5:$A$2426='Local Detail'!$G$3)*(Projects!$C$5:$C$2426<>'MDOT FTA Detail'!$C$4)*(Projects!$L$5:$L$2426='Local Detail'!$A90)*(Projects!$K$5:$K$2426))","v":0},{"$f":"((SUMPRODUCT((Projects!$A$5:$A$2426='Local Detail'!$G$3)*(Projects!$C$5:$C$2426<>'MDOT FTA Detail'!$C$4)*(Projects!$L$5:$L$2426='Local Detail'!$A90)*(Projects!$J$5:$J$2426<>'Local Detail'!$A$147)*(Projects!$M$5:$M$2426)))+(SUMPRODUCT((Projects!$A$5:$A$2426='Local Detail'!$G$3)*(Projects!$C$5:$C$2426<>'MDOT FTA Detail'!$C$4)*(Projects!$L$5:$L$2426='Local Detail'!$A90)*(Projects!$J$5:$J$2426<>'Local Detail'!$A$147)*(Projects!$O$5:$O$2426))))","v":0},0,{"$f":"SUMPRODUCT((Projects!$A$5:$A$2426='Local Detail'!$J$3)*(Projects!$C$5:$C$2426<>'MDOT FTA Detail'!$C$4)*(Projects!$L$5:$L$2426='Local Detail'!$A90)*(Projects!$K$5:$K$2426))","v":0},{"$f":"((SUMPRODUCT((Projects!$A$5:$A$2426='Local Detail'!$J$3)*(Projects!$C$5:$C$2426<>'MDOT FTA Detail'!$C$4)*(Projects!$L$5:$L$2426='Local Detail'!$A90)*(Projects!$J$5:$J$2426<>'Local Detail'!$A$147)*(Projects!$M$5:$M$2426)))+(SUMPRODUCT((Projects!$A$5:$A$2426='Local Detail'!$J$3)*(Projects!$C$5:$C$2426<>'MDOT FTA Detail'!$C$4)*(Projects!$L$5:$L$2426='Local Detail'!$A90)*(Projects!$J$5:$J$2426<>'Local Detail'!$A$147)*(Projects!$O$5:$O$2426))))","v":0},0,{"$f":"SUMPRODUCT((Projects!$A$5:$A$2426='Local Detail'!$M$3)*(Projects!$C$5:$C$2426<>'MDOT FTA Detail'!$C$4)*(Projects!$L$5:$L$2426='Local Detail'!$A90)*(Projects!$K$5:$K$2426))","v":0},{"$f":"((SUMPRODUCT((Projects!$A$5:$A$2426='Local Detail'!$M$3)*(Projects!$C$5:$C$2426<>'MDOT FTA Detail'!$C$4)*(Projects!$L$5:$L$2426='Local Detail'!$A90)*(Projects!$J$5:$J$2426<>'Local Detail'!$A$147)*(Projects!$M$5:$M$2426)))+(SUMPRODUCT((Projects!$A$5:$A$2426='Local Detail'!$M$3)*(Projects!$C$5:$C$2426<>'MDOT FTA Detail'!$C$4)*(Projects!$L$5:$L$2426='Local Detail'!$A90)*(Projects!$J$5:$J$2426<>'Local Detail'!$A$147)*(Projects!$O$5:$O$2426))))","v":0},0]
["STU","STP - Urban Areas > 200,000 Population","Local STP",{"$f":"SUMPRODUCT((Projects!$A$5:$A$2426='Local Detail'!$D$3)*(Projects!$C$5:$C$2426<>'MDOT FTA Detail'!$C$4)*(Projects!$L$5:$L$2426='Local Detail'!$A91)*(Projects!$K$5:$K$2426))","v":0},{"$f":"((SUMPRODUCT((Projects!$A$5:$A$2426='Local Detail'!$D$3)*(Projects!$C$5:$C$2426<>'MDOT FTA Detail'!$C$4)*(Projects!$L$5:$L$2426='Local Detail'!$A91)*(Projects!$J$5:$J$2426<>'Local Detail'!$A$147)*(Projects!$M$5:$M$2426)))+(SUMPRODUCT((Projects!$A$5:$A$2426='Local Detail'!$D$3)*(Projects!$C$5:$C$2426<>'MDOT FTA Detail'!$C$4)*(Projects!$L$5:$L$2426='Local Detail'!$A91)*(Projects!$J$5:$J$2426<>'Local Detail'!$A$147)*(Projects!$O$5:$O$2426))))","v":0},0,{"$f":"SUMPRODUCT((Projects!$A$5:$A$2426='Local Detail'!$G$3)*(Projects!$C$5:$C$2426<>'MDOT FTA Detail'!$C$4)*(Projects!$L$5:$L$2426='Local Detail'!$A91)*(Projects!$K$5:$K$2426))","v":0},{"$f":"((SUMPRODUCT((Projects!$A$5:$A$2426='Local Detail'!$G$3)*(Projects!$C$5:$C$2426<>'MDOT FTA Detail'!$C$4)*(Projects!$L$5:$L$2426='Local Detail'!$A91)*(Projects!$J$5:$J$2426<>'Local Detail'!$A$147)*(Projects!$M$5:$M$2426)))+(SUMPRODUCT((Projects!$A$5:$A$2426='Local Detail'!$G$3)*(Projects!$C$5:$C$2426<>'MDOT FTA Detail'!$C$4)*(Projects!$L$5:$L$2426='Local Detail'!$A91)*(Projects!$J$5:$J$2426<>'Local Detail'!$A$147)*(Projects!$O$5:$O$2426))))","v":0},0,{"$f":"SUMPRODUCT((Projects!$A$5:$A$2426='Local Detail'!$J$3)*(Projects!$C$5:$C$2426<>'MDOT FTA Detail'!$C$4)*(Projects!$L$5:$L$2426='Local Detail'!$A91)*(Projects!$K$5:$K$2426))","v":0},{"$f":"((SUMPRODUCT((Projects!$A$5:$A$2426='Local Detail'!$J$3)*(Projects!$C$5:$C$2426<>'MDOT FTA Detail'!$C$4)*(Projects!$L$5:$L$2426='Local Detail'!$A91)*(Projects!$J$5:$J$2426<>'Local Detail'!$A$147)*(Projects!$M$5:$M$2426)))+(SUMPRODUCT((Projects!$A$5:$A$2426='Local Detail'!$J$3)*(Projects!$C$5:$C$2426<>'MDOT FTA Detail'!$C$4)*(Projects!$L$5:$L$2426='Local Detail'!$A91)*(Projects!$J$5:$J$2426<>'Local Detail'!$A$147)*(Projects!$O$5:$O$2426))))","v":0},0,{"$f":"SUMPRODUCT((Projects!$A$5:$A$2426='Local Detail'!$M$3)*(Projects!$C$5:$C$2426<>'MDOT FTA Detail'!$C$4)*(Projects!$L$5:$L$2426='Local Detail'!$A91)*(Projects!$K$5:$K$2426))","v":0},{"$f":"((SUMPRODUCT((Projects!$A$5:$A$2426='Local Detail'!$M$3)*(Projects!$C$5:$C$2426<>'MDOT FTA Detail'!$C$4)*(Projects!$L$5:$L$2426='Local Detail'!$A91)*(Projects!$J$5:$J$2426<>'Local Detail'!$A$147)*(Projects!$M$5:$M$2426)))+(SUMPRODUCT((Projects!$A$5:$A$2426='Local Detail'!$M$3)*(Projects!$C$5:$C$2426<>'MDOT FTA Detail'!$C$4)*(Projects!$L$5:$L$2426='Local Detail'!$A91)*(Projects!$J$5:$J$2426<>'Local Detail'!$A$147)*(Projects!$O$5:$O$2426))))","v":0},0]
["STUG","STP - Urban Areas < 200,000 Population 100%","Local STP",{"$f":"SUMPRODUCT((Projects!$A$5:$A$2426='Local Detail'!$D$3)*(Projects!$C$5:$C$2426<>'MDOT FTA Detail'!$C$4)*(Projects!$L$5:$L$2426='Local Detail'!$A92)*(Projects!$K$5:$K$2426))","v":0},{"$f":"((SUMPRODUCT((Projects!$A$5:$A$2426='Local Detail'!$D$3)*(Projects!$C$5:$C$2426<>'MDOT FTA Detail'!$C$4)*(Projects!$L$5:$L$2426='Local Detail'!$A92)*(Projects!$J$5:$J$2426<>'Local Detail'!$A$147)*(Projects!$M$5:$M$2426)))+(SUMPRODUCT((Projects!$A$5:$A$2426='Local Detail'!$D$3)*(Projects!$C$5:$C$2426<>'MDOT FTA Detail'!$C$4)*(Projects!$L$5:$L$2426='Local Detail'!$A92)*(Projects!$J$5:$J$2426<>'Local Detail'!$A$147)*(Projects!$O$5:$O$2426))))","v":0},{"$f":"D92+E92","v":0},{"$f":"SUMPRODUCT((Projects!$A$5:$A$2426='Local Detail'!$G$3)*(Projects!$C$5:$C$2426<>'MDOT FTA Detail'!$C$4)*(Projects!$L$5:$L$2426='Local Detail'!$A92)*(Projects!$K$5:$K$2426))","v":0},{"$f":"((SUMPRODUCT((Projects!$A$5:$A$2426='Local Detail'!$G$3)*(Projects!$C$5:$C$2426<>'MDOT FTA Detail'!$C$4)*(Projects!$L$5:$L$2426='Local Detail'!$A92)*(Projects!$J$5:$J$2426<>'Local Detail'!$A$147)*(Projects!$M$5:$M$2426)))+(SUMPRODUCT((Projects!$A$5:$A$2426='Local Detail'!$G$3)*(Projects!$C$5:$C$2426<>'MDOT FTA Detail'!$C$4)*(Projects!$L$5:$L$2426='Local Detail'!$A92)*(Projects!$J$5:$J$2426<>'Local Detail'!$A$147)*(Projects!$O$5:$O$2426))))","v":0},{"$f":"G92+H92","v":0},{"$f":"SUMPRODUCT((Projects!$A$5:$A$2426='Local Detail'!$J$3)*(Projects!$C$5:$C$2426<>'MDOT FTA Detail'!$C$4)*(Projects!$L$5:$L$2426='Local Detail'!$A92)*(Projects!$K$5:$K$2426))","v":0},{"$f":"((SUMPRODUCT((Projects!$A$5:$A$2426='Local Detail'!$J$3)*(Projects!$C$5:$C$2426<>'MDOT FTA Detail'!$C$4)*(Projects!$L$5:$L$2426='Local Detail'!$A92)*(Projects!$J$5:$J$2426<>'Local Detail'!$A$147)*(Projects!$M$5:$M$2426)))+(SUMPRODUCT((Projects!$A$5:$A$2426='Local Detail'!$J$3)*(Projects!$C$5:$C$2426<>'MDOT FTA Detail'!$C$4)*(Projects!$L$5:$L$2426='Local Detail'!$A92)*(Projects!$J$5:$J$2426<>'Local Detail'!$A$147)*(Projects!$O$5:$O$2426))))","v":0},{"$f":"J92+K92","v":0},{"$f":"SUMPRODUCT((Projects!$A$5:$A$2426='Local Detail'!$M$3)*(Projects!$C$5:$C$2426<>'MDOT FTA Detail'!$C$4)*(Projects!$L$5:$L$2426='Local Detail'!$A92)*(Projects!$K$5:$K$2426))","v":0},{"$f":"((SUMPRODUCT((Projects!$A$5:$A$2426='Local Detail'!$M$3)*(Projects!$C$5:$C$2426<>'MDOT FTA Detail'!$C$4)*(Projects!$L$5:$L$2426='Local Detail'!$A92)*(Projects!$J$5:$J$2426<>'Local Detail'!$A$147)*(Projects!$M$5:$M$2426)))+(SUMPRODUCT((Projects!$A$5:$A$2426='Local Detail'!$M$3)*(Projects!$C$5:$C$2426<>'MDOT FTA Detail'!$C$4)*(Projects!$L$5:$L$2426='Local Detail'!$A92)*(Projects!$J$5:$J$2426<>'Local Detail'!$A$147)*(Projects!$O$5:$O$2426))))","v":0},{"$f":"M92+N92","v":0}]
["STUL","STP - Urban Areas < 200,000 Population","Local STP",{"$f":"SUMPRODUCT((Projects!$A$5:$A$2426='Local Detail'!$D$3)*(Projects!$C$5:$C$2426<>'MDOT FTA Detail'!$C$4)*(Projects!$L$5:$L$2426='Local Detail'!$A93)*(Projects!$K$5:$K$2426))","v":844163},{"$f":"((SUMPRODUCT((Projects!$A$5:$A$2426='Local Detail'!$D$3)*(Projects!$C$5:$C$2426<>'MDOT FTA Detail'!$C$4)*(Projects!$L$5:$L$2426='Local Detail'!$A93)*(Projects!$J$5:$J$2426<>'Local Detail'!$A$147)*(Projects!$M$5:$M$2426)))+(SUMPRODUCT((Projects!$A$5:$A$2426='Local Detail'!$D$3)*(Projects!$C$5:$C$2426<>'MDOT FTA Detail'!$C$4)*(Projects!$L$5:$L$2426='Local Detail'!$A93)*(Projects!$J$5:$J$2426<>'Local Detail'!$A$147)*(Projects!$O$5:$O$2426))))","v":171798},1015961,{"$f":"SUMPRODUCT((Projects!$A$5:$A$2426='Local Detail'!$G$3)*(Projects!$C$5:$C$2426<>'MDOT FTA Detail'!$C$4)*(Projects!$L$5:$L$2426='Local Detail'!$A93)*(Projects!$K$5:$K$2426))","v":871925},{"$f":"((SUMPRODUCT((Projects!$A$5:$A$2426='Local Detail'!$G$3)*(Projects!$C$5:$C$2426<>'MDOT FTA Detail'!$C$4)*(Projects!$L$5:$L$2426='Local Detail'!$A93)*(Projects!$J$5:$J$2426<>'Local Detail'!$A$147)*(Projects!$M$5:$M$2426)))+(SUMPRODUCT((Projects!$A$5:$A$2426='Local Detail'!$G$3)*(Projects!$C$5:$C$2426<>'MDOT FTA Detail'!$C$4)*(Projects!$L$5:$L$2426='Local Detail'!$A93)*(Projects!$J$5:$J$2426<>'Local Detail'!$A$147)*(Projects!$O$5:$O$2426))))","v":1216075},2088000,{"$f":"SUMPRODUCT((Projects!$A$5:$A$2426='Local Detail'!$J$3)*(Projects!$C$5:$C$2426<>'MDOT FTA Detail'!$C$4)*(Projects!$L$5:$L$2426='Local Detail'!$A93)*(Projects!$K$5:$K$2426))","v":783597},{"$f":"((SUMPRODUCT((Projects!$A$5:$A$2426='Local Detail'!$J$3)*(Projects!$C$5:$C$2426<>'MDOT FTA Detail'!$C$4)*(Projects!$L$5:$L$2426='Local Detail'!$A93)*(Projects!$J$5:$J$2426<>'Local Detail'!$A$147)*(Projects!$M$5:$M$2426)))+(SUMPRODUCT((Projects!$A$5:$A$2426='Local Detail'!$J$3)*(Projects!$C$5:$C$2426<>'MDOT FTA Detail'!$C$4)*(Projects!$L$5:$L$2426='Local Detail'!$A93)*(Projects!$J$5:$J$2426<>'Local Detail'!$A$147)*(Projects!$O$5:$O$2426))))","v":245000},1028597,{"$f":"SUMPRODUCT((Projects!$A$5:$A$2426='Local Detail'!$M$3)*(Projects!$C$5:$C$2426<>'MDOT FTA Detail'!$C$4)*(Projects!$L$5:$L$2426='Local Detail'!$A93)*(Projects!$K$5:$K$2426))","v":871000},{"$f":"((SUMPRODUCT((Projects!$A$5:$A$2426='Local Detail'!$M$3)*(Projects!$C$5:$C$2426<>'MDOT FTA Detail'!$C$4)*(Projects!$L$5:$L$2426='Local Detail'!$A93)*(Projects!$J$5:$J$2426<>'Local Detail'!$A$147)*(Projects!$M$5:$M$2426)))+(SUMPRODUCT((Projects!$A$5:$A$2426='Local Detail'!$M$3)*(Projects!$C$5:$C$2426<>'MDOT FTA Detail'!$C$4)*(Projects!$L$5:$L$2426='Local Detail'!$A93)*(Projects!$J$5:$J$2426<>'Local Detail'!$A$147)*(Projects!$O$5:$O$2426))))","v":204100},1075100]
["STUT","STP - Urban Areas < 200,000 Population - Trunkline","Local STP",{"$f":"SUMPRODUCT((Projects!$A$5:$A$2426='Local Detail'!$D$3)*(Projects!$C$5:$C$2426<>'MDOT FTA Detail'!$C$4)*(Projects!$L$5:$L$2426='Local Detail'!$A94)*(Projects!$K$5:$K$2426))","v":0},{"$f":"((SUMPRODUCT((Projects!$A$5:$A$2426='Local Detail'!$D$3)*(Projects!$C$5:$C$2426<>'MDOT FTA Detail'!$C$4)*(Projects!$L$5:$L$2426='Local Detail'!$A94)*(Projects!$J$5:$J$2426<>'Local Detail'!$A$147)*(Projects!$M$5:$M$2426)))+(SUMPRODUCT((Projects!$A$5:$A$2426='Local Detail'!$D$3)*(Projects!$C$5:$C$2426<>'MDOT FTA Detail'!$C$4)*(Projects!$L$5:$L$2426='Local Detail'!$A94)*(Projects!$J$5:$J$2426<>'Local Detail'!$A$147)*(Projects!$O$5:$O$2426))))","v":0},0,{"$f":"SUMPRODUCT((Projects!$A$5:$A$2426='Local Detail'!$G$3)*(Projects!$C$5:$C$2426<>'MDOT FTA Detail'!$C$4)*(Projects!$L$5:$L$2426='Local Detail'!$A94)*(Projects!$K$5:$K$2426))","v":0},{"$f":"((SUMPRODUCT((Projects!$A$5:$A$2426='Local Detail'!$G$3)*(Projects!$C$5:$C$2426<>'MDOT FTA Detail'!$C$4)*(Projects!$L$5:$L$2426='Local Detail'!$A94)*(Projects!$J$5:$J$2426<>'Local Detail'!$A$147)*(Projects!$M$5:$M$2426)))+(SUMPRODUCT((Projects!$A$5:$A$2426='Local Detail'!$G$3)*(Projects!$C$5:$C$2426<>'MDOT FTA Detail'!$C$4)*(Projects!$L$5:$L$2426='Local Detail'!$A94)*(Projects!$J$5:$J$2426<>'Local Detail'!$A$147)*(Projects!$O$5:$O$2426))))","v":0},0,{"$f":"SUMPRODUCT((Projects!$A$5:$A$2426='Local Detail'!$J$3)*(Projects!$C$5:$C$2426<>'MDOT FTA Detail'!$C$4)*(Projects!$L$5:$L$2426='Local Detail'!$A94)*(Projects!$K$5:$K$2426))","v":0},{"$f":"((SUMPRODUCT((Projects!$A$5:$A$2426='Local Detail'!$J$3)*(Projects!$C$5:$C$2426<>'MDOT FTA Detail'!$C$4)*(Projects!$L$5:$L$2426='Local Detail'!$A94)*(Projects!$J$5:$J$2426<>'Local Detail'!$A$147)*(Projects!$M$5:$M$2426)))+(SUMPRODUCT((Projects!$A$5:$A$2426='Local Detail'!$J$3)*(Projects!$C$5:$C$2426<>'MDOT FTA Detail'!$C$4)*(Projects!$L$5:$L$2426='Local Detail'!$A94)*(Projects!$J$5:$J$2426<>'Local Detail'!$A$147)*(Projects!$O$5:$O$2426))))","v":0},0,{"$f":"SUMPRODUCT((Projects!$A$5:$A$2426='Local Detail'!$M$3)*(Projects!$C$5:$C$2426<>'MDOT FTA Detail'!$C$4)*(Projects!$L$5:$L$2426='Local Detail'!$A94)*(Projects!$K$5:$K$2426))","v":0},{"$f":"((SUMPRODUCT((Projects!$A$5:$A$2426='Local Detail'!$M$3)*(Projects!$C$5:$C$2426<>'MDOT FTA Detail'!$C$4)*(Projects!$L$5:$L$2426='Local Detail'!$A94)*(Projects!$J$5:$J$2426<>'Local Detail'!$A$147)*(Projects!$M$5:$M$2426)))+(SUMPRODUCT((Projects!$A$5:$A$2426='Local Detail'!$M$3)*(Projects!$C$5:$C$2426<>'MDOT FTA Detail'!$C$4)*(Projects!$L$5:$L$2426='Local Detail'!$A94)*(Projects!$J$5:$J$2426<>'Local Detail'!$A$147)*(Projects!$O$5:$O$2426))))","v":0},0]
["SUG","STP - Safety - 100% Federal for STU","Local STP",{"$f":"SUMPRODUCT((Projects!$A$5:$A$2426='Local Detail'!$D$3)*(Projects!$C$5:$C$2426<>'MDOT FTA Detail'!$C$4)*(Projects!$L$5:$L$2426='Local Detail'!$A95)*(Projects!$K$5:$K$2426))","v":0},{"$f":"((SUMPRODUCT((Projects!$A$5:$A$2426='Local Detail'!$D$3)*(Projects!$C$5:$C$2426<>'MDOT FTA Detail'!$C$4)*(Projects!$L$5:$L$2426='Local Detail'!$A95)*(Projects!$J$5:$J$2426<>'Local Detail'!$A$147)*(Projects!$M$5:$M$2426)))+(SUMPRODUCT((Projects!$A$5:$A$2426='Local Detail'!$D$3)*(Projects!$C$5:$C$2426<>'MDOT FTA Detail'!$C$4)*(Projects!$L$5:$L$2426='Local Detail'!$A95)*(Projects!$J$5:$J$2426<>'Local Detail'!$A$147)*(Projects!$O$5:$O$2426))))","v":0},0,{"$f":"SUMPRODUCT((Projects!$A$5:$A$2426='Local Detail'!$G$3)*(Projects!$C$5:$C$2426<>'MDOT FTA Detail'!$C$4)*(Projects!$L$5:$L$2426='Local Detail'!$A95)*(Projects!$K$5:$K$2426))","v":0},{"$f":"((SUMPRODUCT((Projects!$A$5:$A$2426='Local Detail'!$G$3)*(Projects!$C$5:$C$2426<>'MDOT FTA Detail'!$C$4)*(Projects!$L$5:$L$2426='Local Detail'!$A95)*(Projects!$J$5:$J$2426<>'Local Detail'!$A$147)*(Projects!$M$5:$M$2426)))+(SUMPRODUCT((Projects!$A$5:$A$2426='Local Detail'!$G$3)*(Projects!$C$5:$C$2426<>'MDOT FTA Detail'!$C$4)*(Projects!$L$5:$L$2426='Local Detail'!$A95)*(Projects!$J$5:$J$2426<>'Local Detail'!$A$147)*(Projects!$O$5:$O$2426))))","v":0},0,{"$f":"SUMPRODUCT((Projects!$A$5:$A$2426='Local Detail'!$J$3)*(Projects!$C$5:$C$2426<>'MDOT FTA Detail'!$C$4)*(Projects!$L$5:$L$2426='Local Detail'!$A95)*(Projects!$K$5:$K$2426))","v":0},{"$f":"((SUMPRODUCT((Projects!$A$5:$A$2426='Local Detail'!$J$3)*(Projects!$C$5:$C$2426<>'MDOT FTA Detail'!$C$4)*(Projects!$L$5:$L$2426='Local Detail'!$A95)*(Projects!$J$5:$J$2426<>'Local Detail'!$A$147)*(Projects!$M$5:$M$2426)))+(SUMPRODUCT((Projects!$A$5:$A$2426='Local Detail'!$J$3)*(Projects!$C$5:$C$2426<>'MDOT FTA Detail'!$C$4)*(Projects!$L$5:$L$2426='Local Detail'!$A95)*(Projects!$J$5:$J$2426<>'Local Detail'!$A$147)*(Projects!$O$5:$O$2426))))","v":0},0,{"$f":"SUMPRODUCT((Projects!$A$5:$A$2426='Local Detail'!$M$3)*(Projects!$C$5:$C$2426<>'MDOT FTA Detail'!$C$4)*(Projects!$L$5:$L$2426='Local Detail'!$A95)*(Projects!$K$5:$K$2426))","v":0},{"$f":"((SUMPRODUCT((Projects!$A$5:$A$2426='Local Detail'!$M$3)*(Projects!$C$5:$C$2426<>'MDOT FTA Detail'!$C$4)*(Projects!$L$5:$L$2426='Local Detail'!$A95)*(Projects!$J$5:$J$2426<>'Local Detail'!$A$147)*(Projects!$M$5:$M$2426)))+(SUMPRODUCT((Projects!$A$5:$A$2426='Local Detail'!$M$3)*(Projects!$C$5:$C$2426<>'MDOT FTA Detail'!$C$4)*(Projects!$L$5:$L$2426='Local Detail'!$A95)*(Projects!$J$5:$J$2426<>'Local Detail'!$A$147)*(Projects!$O$5:$O$2426))))","v":0},0]
["SUL","Surface Transportation Urban Areas  <200,000 Population","Local STP",{"$f":"SUMPRODUCT((Projects!$A$5:$A$2426='Local Detail'!$D$3)*(Projects!$C$5:$C$2426<>'MDOT FTA Detail'!$C$4)*(Projects!$L$5:$L$2426='Local Detail'!$A96)*(Projects!$K$5:$K$2426))","v":0},{"$f":"((SUMPRODUCT((Projects!$A$5:$A$2426='Local Detail'!$D$3)*(Projects!$C$5:$C$2426<>'MDOT FTA Detail'!$C$4)*(Projects!$L$5:$L$2426='Local Detail'!$A96)*(Projects!$J$5:$J$2426<>'Local Detail'!$A$147)*(Projects!$M$5:$M$2426)))+(SUMPRODUCT((Projects!$A$5:$A$2426='Local Detail'!$D$3)*(Projects!$C$5:$C$2426<>'MDOT FTA Detail'!$C$4)*(Projects!$L$5:$L$2426='Local Detail'!$A96)*(Projects!$J$5:$J$2426<>'Local Detail'!$A$147)*(Projects!$O$5:$O$2426))))","v":0},{"$f":"D96+E96","v":0},{"$f":"SUMPRODUCT((Projects!$A$5:$A$2426='Local Detail'!$G$3)*(Projects!$C$5:$C$2426<>'MDOT FTA Detail'!$C$4)*(Projects!$L$5:$L$2426='Local Detail'!$A96)*(Projects!$K$5:$K$2426))","v":0},{"$f":"((SUMPRODUCT((Projects!$A$5:$A$2426='Local Detail'!$G$3)*(Projects!$C$5:$C$2426<>'MDOT FTA Detail'!$C$4)*(Projects!$L$5:$L$2426='Local Detail'!$A96)*(Projects!$J$5:$J$2426<>'Local Detail'!$A$147)*(Projects!$M$5:$M$2426)))+(SUMPRODUCT((Projects!$A$5:$A$2426='Local Detail'!$G$3)*(Projects!$C$5:$C$2426<>'MDOT FTA Detail'!$C$4)*(Projects!$L$5:$L$2426='Local Detail'!$A96)*(Projects!$J$5:$J$2426<>'Local Detail'!$A$147)*(Projects!$O$5:$O$2426))))","v":0},{"$f":"G96+H96","v":0},{"$f":"SUMPRODUCT((Projects!$A$5:$A$2426='Local Detail'!$J$3)*(Projects!$C$5:$C$2426<>'MDOT FTA Detail'!$C$4)*(Projects!$L$5:$L$2426='Local Detail'!$A96)*(Projects!$K$5:$K$2426))","v":0},{"$f":"((SUMPRODUCT((Projects!$A$5:$A$2426='Local Detail'!$J$3)*(Projects!$C$5:$C$2426<>'MDOT FTA Detail'!$C$4)*(Projects!$L$5:$L$2426='Local Detail'!$A96)*(Projects!$J$5:$J$2426<>'Local Detail'!$A$147)*(Projects!$M$5:$M$2426)))+(SUMPRODUCT((Projects!$A$5:$A$2426='Local Detail'!$J$3)*(Projects!$C$5:$C$2426<>'MDOT FTA Detail'!$C$4)*(Projects!$L$5:$L$2426='Local Detail'!$A96)*(Projects!$J$5:$J$2426<>'Local Detail'!$A$147)*(Projects!$O$5:$O$2426))))","v":0},{"$f":"J96+K96","v":0},{"$f":"SUMPRODUCT((Projects!$A$5:$A$2426='Local Detail'!$M$3)*(Projects!$C$5:$C$2426<>'MDOT FTA Detail'!$C$4)*(Projects!$L$5:$L$2426='Local Detail'!$A96)*(Projects!$K$5:$K$2426))","v":0},{"$f":"((SUMPRODUCT((Projects!$A$5:$A$2426='Local Detail'!$M$3)*(Projects!$C$5:$C$2426<>'MDOT FTA Detail'!$C$4)*(Projects!$L$5:$L$2426='Local Detail'!$A96)*(Projects!$J$5:$J$2426<>'Local Detail'!$A$147)*(Projects!$M$5:$M$2426)))+(SUMPRODUCT((Projects!$A$5:$A$2426='Local Detail'!$M$3)*(Projects!$C$5:$C$2426<>'MDOT FTA Detail'!$C$4)*(Projects!$L$5:$L$2426='Local Detail'!$A96)*(Projects!$J$5:$J$2426<>'Local Detail'!$A$147)*(Projects!$O$5:$O$2426))))","v":0},{"$f":"M96+N96","v":0}]
["SULG","Surfcace Transportation Urban Areas <200,000 Population 100%","Local STP",{"$f":"SUMPRODUCT((Projects!$A$5:$A$2426='Local Detail'!$D$3)*(Projects!$C$5:$C$2426<>'MDOT FTA Detail'!$C$4)*(Projects!$L$5:$L$2426='Local Detail'!$A97)*(Projects!$K$5:$K$2426))","v":0},{"$f":"((SUMPRODUCT((Projects!$A$5:$A$2426='Local Detail'!$D$3)*(Projects!$C$5:$C$2426<>'MDOT FTA Detail'!$C$4)*(Projects!$L$5:$L$2426='Local Detail'!$A97)*(Projects!$J$5:$J$2426<>'Local Detail'!$A$147)*(Projects!$M$5:$M$2426)))+(SUMPRODUCT((Projects!$A$5:$A$2426='Local Detail'!$D$3)*(Projects!$C$5:$C$2426<>'MDOT FTA Detail'!$C$4)*(Projects!$L$5:$L$2426='Local Detail'!$A97)*(Projects!$J$5:$J$2426<>'Local Detail'!$A$147)*(Projects!$O$5:$O$2426))))","v":0},0,{"$f":"SUMPRODUCT((Projects!$A$5:$A$2426='Local Detail'!$G$3)*(Projects!$C$5:$C$2426<>'MDOT FTA Detail'!$C$4)*(Projects!$L$5:$L$2426='Local Detail'!$A97)*(Projects!$K$5:$K$2426))","v":0},{"$f":"((SUMPRODUCT((Projects!$A$5:$A$2426='Local Detail'!$G$3)*(Projects!$C$5:$C$2426<>'MDOT FTA Detail'!$C$4)*(Projects!$L$5:$L$2426='Local Detail'!$A97)*(Projects!$J$5:$J$2426<>'Local Detail'!$A$147)*(Projects!$M$5:$M$2426)))+(SUMPRODUCT((Projects!$A$5:$A$2426='Local Detail'!$G$3)*(Projects!$C$5:$C$2426<>'MDOT FTA Detail'!$C$4)*(Projects!$L$5:$L$2426='Local Detail'!$A97)*(Projects!$J$5:$J$2426<>'Local Detail'!$A$147)*(Projects!$O$5:$O$2426))))","v":0},0,{"$f":"SUMPRODUCT((Projects!$A$5:$A$2426='Local Detail'!$J$3)*(Projects!$C$5:$C$2426<>'MDOT FTA Detail'!$C$4)*(Projects!$L$5:$L$2426='Local Detail'!$A97)*(Projects!$K$5:$K$2426))","v":0},{"$f":"((SUMPRODUCT((Projects!$A$5:$A$2426='Local Detail'!$J$3)*(Projects!$C$5:$C$2426<>'MDOT FTA Detail'!$C$4)*(Projects!$L$5:$L$2426='Local Detail'!$A97)*(Projects!$J$5:$J$2426<>'Local Detail'!$A$147)*(Projects!$M$5:$M$2426)))+(SUMPRODUCT((Projects!$A$5:$A$2426='Local Detail'!$J$3)*(Projects!$C$5:$C$2426<>'MDOT FTA Detail'!$C$4)*(Projects!$L$5:$L$2426='Local Detail'!$A97)*(Projects!$J$5:$J$2426<>'Local Detail'!$A$147)*(Projects!$O$5:$O$2426))))","v":0},0,{"$f":"SUMPRODUCT((Projects!$A$5:$A$2426='Local Detail'!$M$3)*(Projects!$C$5:$C$2426<>'MDOT FTA Detail'!$C$4)*(Projects!$L$5:$L$2426='Local Detail'!$A97)*(Projects!$K$5:$K$2426))","v":0},{"$f":"((SUMPRODUCT((Projects!$A$5:$A$2426='Local Detail'!$M$3)*(Projects!$C$5:$C$2426<>'MDOT FTA Detail'!$C$4)*(Projects!$L$5:$L$2426='Local Detail'!$A97)*(Projects!$J$5:$J$2426<>'Local Detail'!$A$147)*(Projects!$M$5:$M$2426)))+(SUMPRODUCT((Projects!$A$5:$A$2426='Local Detail'!$M$3)*(Projects!$C$5:$C$2426<>'MDOT FTA Detail'!$C$4)*(Projects!$L$5:$L$2426='Local Detail'!$A97)*(Projects!$J$5:$J$2426<>'Local Detail'!$A$147)*(Projects!$O$5:$O$2426))))","v":0},0]
["TA","Transportation Alternatives Program Flex","Local Other FHWA",{"$f":"SUMPRODUCT((Projects!$A$5:$A$2426='Local Detail'!$D$3)*(Projects!$C$5:$C$2426<>'MDOT FTA Detail'!$C$4)*(Projects!$L$5:$L$2426='Local Detail'!$A98)*(Projects!$K$5:$K$2426))","v":0},{"$f":"((SUMPRODUCT((Projects!$A$5:$A$2426='Local Detail'!$D$3)*(Projects!$C$5:$C$2426<>'MDOT FTA Detail'!$C$4)*(Projects!$L$5:$L$2426='Local Detail'!$A98)*(Projects!$J$5:$J$2426<>'Local Detail'!$A$147)*(Projects!$M$5:$M$2426)))+(SUMPRODUCT((Projects!$A$5:$A$2426='Local Detail'!$D$3)*(Projects!$C$5:$C$2426<>'MDOT FTA Detail'!$C$4)*(Projects!$L$5:$L$2426='Local Detail'!$A98)*(Projects!$J$5:$J$2426<>'Local Detail'!$A$147)*(Projects!$O$5:$O$2426))))","v":0},0,{"$f":"SUMPRODUCT((Projects!$A$5:$A$2426='Local Detail'!$G$3)*(Projects!$C$5:$C$2426<>'MDOT FTA Detail'!$C$4)*(Projects!$L$5:$L$2426='Local Detail'!$A98)*(Projects!$K$5:$K$2426))","v":0},{"$f":"((SUMPRODUCT((Projects!$A$5:$A$2426='Local Detail'!$G$3)*(Projects!$C$5:$C$2426<>'MDOT FTA Detail'!$C$4)*(Projects!$L$5:$L$2426='Local Detail'!$A98)*(Projects!$J$5:$J$2426<>'Local Detail'!$A$147)*(Projects!$M$5:$M$2426)))+(SUMPRODUCT((Projects!$A$5:$A$2426='Local Detail'!$G$3)*(Projects!$C$5:$C$2426<>'MDOT FTA Detail'!$C$4)*(Projects!$L$5:$L$2426='Local Detail'!$A98)*(Projects!$J$5:$J$2426<>'Local Detail'!$A$147)*(Projects!$O$5:$O$2426))))","v":0},0,{"$f":"SUMPRODUCT((Projects!$A$5:$A$2426='Local Detail'!$J$3)*(Projects!$C$5:$C$2426<>'MDOT FTA Detail'!$C$4)*(Projects!$L$5:$L$2426='Local Detail'!$A98)*(Projects!$K$5:$K$2426))","v":0},{"$f":"((SUMPRODUCT((Projects!$A$5:$A$2426='Local Detail'!$J$3)*(Projects!$C$5:$C$2426<>'MDOT FTA Detail'!$C$4)*(Projects!$L$5:$L$2426='Local Detail'!$A98)*(Projects!$J$5:$J$2426<>'Local Detail'!$A$147)*(Projects!$M$5:$M$2426)))+(SUMPRODUCT((Projects!$A$5:$A$2426='Local Detail'!$J$3)*(Projects!$C$5:$C$2426<>'MDOT FTA Detail'!$C$4)*(Projects!$L$5:$L$2426='Local Detail'!$A98)*(Projects!$J$5:$J$2426<>'Local Detail'!$A$147)*(Projects!$O$5:$O$2426))))","v":0},0,{"$f":"SUMPRODUCT((Projects!$A$5:$A$2426='Local Detail'!$M$3)*(Projects!$C$5:$C$2426<>'MDOT FTA Detail'!$C$4)*(Projects!$L$5:$L$2426='Local Detail'!$A98)*(Projects!$K$5:$K$2426))","v":0},{"$f":"((SUMPRODUCT((Projects!$A$5:$A$2426='Local Detail'!$M$3)*(Projects!$C$5:$C$2426<>'MDOT FTA Detail'!$C$4)*(Projects!$L$5:$L$2426='Local Detail'!$A98)*(Projects!$J$5:$J$2426<>'Local Detail'!$A$147)*(Projects!$M$5:$M$2426)))+(SUMPRODUCT((Projects!$A$5:$A$2426='Local Detail'!$M$3)*(Projects!$C$5:$C$2426<>'MDOT FTA Detail'!$C$4)*(Projects!$L$5:$L$2426='Local Detail'!$A98)*(Projects!$J$5:$J$2426<>'Local Detail'!$A$147)*(Projects!$O$5:$O$2426))))","v":0},0]
["TAL","Transportation Alternatives Rural","Local Other FHWA",{"$f":"SUMPRODUCT((Projects!$A$5:$A$2426='Local Detail'!$D$3)*(Projects!$C$5:$C$2426<>'MDOT FTA Detail'!$C$4)*(Projects!$L$5:$L$2426='Local Detail'!$A99)*(Projects!$K$5:$K$2426))","v":0},{"$f":"((SUMPRODUCT((Projects!$A$5:$A$2426='Local Detail'!$D$3)*(Projects!$C$5:$C$2426<>'MDOT FTA Detail'!$C$4)*(Projects!$L$5:$L$2426='Local Detail'!$A99)*(Projects!$J$5:$J$2426<>'Local Detail'!$A$147)*(Projects!$M$5:$M$2426)))+(SUMPRODUCT((Projects!$A$5:$A$2426='Local Detail'!$D$3)*(Projects!$C$5:$C$2426<>'MDOT FTA Detail'!$C$4)*(Projects!$L$5:$L$2426='Local Detail'!$A99)*(Projects!$J$5:$J$2426<>'Local Detail'!$A$147)*(Projects!$O$5:$O$2426))))","v":0},0,{"$f":"SUMPRODUCT((Projects!$A$5:$A$2426='Local Detail'!$G$3)*(Projects!$C$5:$C$2426<>'MDOT FTA Detail'!$C$4)*(Projects!$L$5:$L$2426='Local Detail'!$A99)*(Projects!$K$5:$K$2426))","v":0},{"$f":"((SUMPRODUCT((Projects!$A$5:$A$2426='Local Detail'!$G$3)*(Projects!$C$5:$C$2426<>'MDOT FTA Detail'!$C$4)*(Projects!$L$5:$L$2426='Local Detail'!$A99)*(Projects!$J$5:$J$2426<>'Local Detail'!$A$147)*(Projects!$M$5:$M$2426)))+(SUMPRODUCT((Projects!$A$5:$A$2426='Local Detail'!$G$3)*(Projects!$C$5:$C$2426<>'MDOT FTA Detail'!$C$4)*(Projects!$L$5:$L$2426='Local Detail'!$A99)*(Projects!$J$5:$J$2426<>'Local Detail'!$A$147)*(Projects!$O$5:$O$2426))))","v":0},0,{"$f":"SUMPRODUCT((Projects!$A$5:$A$2426='Local Detail'!$J$3)*(Projects!$C$5:$C$2426<>'MDOT FTA Detail'!$C$4)*(Projects!$L$5:$L$2426='Local Detail'!$A99)*(Projects!$K$5:$K$2426))","v":0},{"$f":"((SUMPRODUCT((Projects!$A$5:$A$2426='Local Detail'!$J$3)*(Projects!$C$5:$C$2426<>'MDOT FTA Detail'!$C$4)*(Projects!$L$5:$L$2426='Local Detail'!$A99)*(Projects!$J$5:$J$2426<>'Local Detail'!$A$147)*(Projects!$M$5:$M$2426)))+(SUMPRODUCT((Projects!$A$5:$A$2426='Local Detail'!$J$3)*(Projects!$C$5:$C$2426<>'MDOT FTA Detail'!$C$4)*(Projects!$L$5:$L$2426='Local Detail'!$A99)*(Projects!$J$5:$J$2426<>'Local Detail'!$A$147)*(Projects!$O$5:$O$2426))))","v":0},0,{"$f":"SUMPRODUCT((Projects!$A$5:$A$2426='Local Detail'!$M$3)*(Projects!$C$5:$C$2426<>'MDOT FTA Detail'!$C$4)*(Projects!$L$5:$L$2426='Local Detail'!$A99)*(Projects!$K$5:$K$2426))","v":0},{"$f":"((SUMPRODUCT((Projects!$A$5:$A$2426='Local Detail'!$M$3)*(Projects!$C$5:$C$2426<>'MDOT FTA Detail'!$C$4)*(Projects!$L$5:$L$2426='Local Detail'!$A99)*(Projects!$J$5:$J$2426<>'Local Detail'!$A$147)*(Projects!$M$5:$M$2426)))+(SUMPRODUCT((Projects!$A$5:$A$2426='Local Detail'!$M$3)*(Projects!$C$5:$C$2426<>'MDOT FTA Detail'!$C$4)*(Projects!$L$5:$L$2426='Local Detail'!$A99)*(Projects!$J$5:$J$2426<>'Local Detail'!$A$147)*(Projects!$O$5:$O$2426))))","v":0},0]
["TAU","Transportation Alternatives Urban Areas > 200,000 Population","Local Other FHWA",{"$f":"SUMPRODUCT((Projects!$A$5:$A$2426='Local Detail'!$D$3)*(Projects!$C$5:$C$2426<>'MDOT FTA Detail'!$C$4)*(Projects!$L$5:$L$2426='Local Detail'!$A100)*(Projects!$K$5:$K$2426))","v":0},{"$f":"((SUMPRODUCT((Projects!$A$5:$A$2426='Local Detail'!$D$3)*(Projects!$C$5:$C$2426<>'MDOT FTA Detail'!$C$4)*(Projects!$L$5:$L$2426='Local Detail'!$A100)*(Projects!$J$5:$J$2426<>'Local Detail'!$A$147)*(Projects!$M$5:$M$2426)))+(SUMPRODUCT((Projects!$A$5:$A$2426='Local Detail'!$D$3)*(Projects!$C$5:$C$2426<>'MDOT FTA Detail'!$C$4)*(Projects!$L$5:$L$2426='Local Detail'!$A100)*(Projects!$J$5:$J$2426<>'Local Detail'!$A$147)*(Projects!$O$5:$O$2426))))","v":0},0,{"$f":"SUMPRODUCT((Projects!$A$5:$A$2426='Local Detail'!$G$3)*(Projects!$C$5:$C$2426<>'MDOT FTA Detail'!$C$4)*(Projects!$L$5:$L$2426='Local Detail'!$A100)*(Projects!$K$5:$K$2426))","v":0},{"$f":"((SUMPRODUCT((Projects!$A$5:$A$2426='Local Detail'!$G$3)*(Projects!$C$5:$C$2426<>'MDOT FTA Detail'!$C$4)*(Projects!$L$5:$L$2426='Local Detail'!$A100)*(Projects!$J$5:$J$2426<>'Local Detail'!$A$147)*(Projects!$M$5:$M$2426)))+(SUMPRODUCT((Projects!$A$5:$A$2426='Local Detail'!$G$3)*(Projects!$C$5:$C$2426<>'MDOT FTA Detail'!$C$4)*(Projects!$L$5:$L$2426='Local Detail'!$A100)*(Projects!$J$5:$J$2426<>'Local Detail'!$A$147)*(Projects!$O$5:$O$2426))))","v":0},0,{"$f":"SUMPRODUCT((Projects!$A$5:$A$2426='Local Detail'!$J$3)*(Projects!$C$5:$C$2426<>'MDOT FTA Detail'!$C$4)*(Projects!$L$5:$L$2426='Local Detail'!$A100)*(Projects!$K$5:$K$2426))","v":0},{"$f":"((SUMPRODUCT((Projects!$A$5:$A$2426='Local Detail'!$J$3)*(Projects!$C$5:$C$2426<>'MDOT FTA Detail'!$C$4)*(Projects!$L$5:$L$2426='Local Detail'!$A100)*(Projects!$J$5:$J$2426<>'Local Detail'!$A$147)*(Projects!$M$5:$M$2426)))+(SUMPRODUCT((Projects!$A$5:$A$2426='Local Detail'!$J$3)*(Projects!$C$5:$C$2426<>'MDOT FTA Detail'!$C$4)*(Projects!$L$5:$L$2426='Local Detail'!$A100)*(Projects!$J$5:$J$2426<>'Local Detail'!$A$147)*(Projects!$O$5:$O$2426))))","v":0},0,{"$f":"SUMPRODUCT((Projects!$A$5:$A$2426='Local Detail'!$M$3)*(Projects!$C$5:$C$2426<>'MDOT FTA Detail'!$C$4)*(Projects!$L$5:$L$2426='Local Detail'!$A100)*(Projects!$K$5:$K$2426))","v":0},{"$f":"((SUMPRODUCT((Projects!$A$5:$A$2426='Local Detail'!$M$3)*(Projects!$C$5:$C$2426<>'MDOT FTA Detail'!$C$4)*(Projects!$L$5:$L$2426='Local Detail'!$A100)*(Projects!$J$5:$J$2426<>'Local Detail'!$A$147)*(Projects!$M$5:$M$2426)))+(SUMPRODUCT((Projects!$A$5:$A$2426='Local Detail'!$M$3)*(Projects!$C$5:$C$2426<>'MDOT FTA Detail'!$C$4)*(Projects!$L$5:$L$2426='Local Detail'!$A100)*(Projects!$J$5:$J$2426<>'Local Detail'!$A$147)*(Projects!$O$5:$O$2426))))","v":0},0]
["TAUL","Transporation Alternatives Urban Areas < 200,000 Population","Local Other FHWA",{"$f":"SUMPRODUCT((Projects!$A$5:$A$2426='Local Detail'!$D$3)*(Projects!$C$5:$C$2426<>'MDOT FTA Detail'!$C$4)*(Projects!$L$5:$L$2426='Local Detail'!$A101)*(Projects!$K$5:$K$2426))","v":0},{"$f":"((SUMPRODUCT((Projects!$A$5:$A$2426='Local Detail'!$D$3)*(Projects!$C$5:$C$2426<>'MDOT FTA Detail'!$C$4)*(Projects!$L$5:$L$2426='Local Detail'!$A101)*(Projects!$J$5:$J$2426<>'Local Detail'!$A$147)*(Projects!$M$5:$M$2426)))+(SUMPRODUCT((Projects!$A$5:$A$2426='Local Detail'!$D$3)*(Projects!$C$5:$C$2426<>'MDOT FTA Detail'!$C$4)*(Projects!$L$5:$L$2426='Local Detail'!$A101)*(Projects!$J$5:$J$2426<>'Local Detail'!$A$147)*(Projects!$O$5:$O$2426))))","v":0},0,{"$f":"SUMPRODUCT((Projects!$A$5:$A$2426='Local Detail'!$G$3)*(Projects!$C$5:$C$2426<>'MDOT FTA Detail'!$C$4)*(Projects!$L$5:$L$2426='Local Detail'!$A101)*(Projects!$K$5:$K$2426))","v":0},{"$f":"((SUMPRODUCT((Projects!$A$5:$A$2426='Local Detail'!$G$3)*(Projects!$C$5:$C$2426<>'MDOT FTA Detail'!$C$4)*(Projects!$L$5:$L$2426='Local Detail'!$A101)*(Projects!$J$5:$J$2426<>'Local Detail'!$A$147)*(Projects!$M$5:$M$2426)))+(SUMPRODUCT((Projects!$A$5:$A$2426='Local Detail'!$G$3)*(Projects!$C$5:$C$2426<>'MDOT FTA Detail'!$C$4)*(Projects!$L$5:$L$2426='Local Detail'!$A101)*(Projects!$J$5:$J$2426<>'Local Detail'!$A$147)*(Projects!$O$5:$O$2426))))","v":0},0,{"$f":"SUMPRODUCT((Projects!$A$5:$A$2426='Local Detail'!$J$3)*(Projects!$C$5:$C$2426<>'MDOT FTA Detail'!$C$4)*(Projects!$L$5:$L$2426='Local Detail'!$A101)*(Projects!$K$5:$K$2426))","v":0},{"$f":"((SUMPRODUCT((Projects!$A$5:$A$2426='Local Detail'!$J$3)*(Projects!$C$5:$C$2426<>'MDOT FTA Detail'!$C$4)*(Projects!$L$5:$L$2426='Local Detail'!$A101)*(Projects!$J$5:$J$2426<>'Local Detail'!$A$147)*(Projects!$M$5:$M$2426)))+(SUMPRODUCT((Projects!$A$5:$A$2426='Local Detail'!$J$3)*(Projects!$C$5:$C$2426<>'MDOT FTA Detail'!$C$4)*(Projects!$L$5:$L$2426='Local Detail'!$A101)*(Projects!$J$5:$J$2426<>'Local Detail'!$A$147)*(Projects!$O$5:$O$2426))))","v":0},0,{"$f":"SUMPRODUCT((Projects!$A$5:$A$2426='Local Detail'!$M$3)*(Projects!$C$5:$C$2426<>'MDOT FTA Detail'!$C$4)*(Projects!$L$5:$L$2426='Local Detail'!$A101)*(Projects!$K$5:$K$2426))","v":0},{"$f":"((SUMPRODUCT((Projects!$A$5:$A$2426='Local Detail'!$M$3)*(Projects!$C$5:$C$2426<>'MDOT FTA Detail'!$C$4)*(Projects!$L$5:$L$2426='Local Detail'!$A101)*(Projects!$J$5:$J$2426<>'Local Detail'!$A$147)*(Projects!$M$5:$M$2426)))+(SUMPRODUCT((Projects!$A$5:$A$2426='Local Detail'!$M$3)*(Projects!$C$5:$C$2426<>'MDOT FTA Detail'!$C$4)*(Projects!$L$5:$L$2426='Local Detail'!$A101)*(Projects!$J$5:$J$2426<>'Local Detail'!$A$147)*(Projects!$O$5:$O$2426))))","v":0},0]
["TBR","Timber Bridge Fund","Local Bridge",{"$f":"SUMPRODUCT((Projects!$A$5:$A$2426='Local Detail'!$D$3)*(Projects!$C$5:$C$2426<>'MDOT FTA Detail'!$C$4)*(Projects!$L$5:$L$2426='Local Detail'!$A102)*(Projects!$K$5:$K$2426))","v":0},{"$f":"((SUMPRODUCT((Projects!$A$5:$A$2426='Local Detail'!$D$3)*(Projects!$C$5:$C$2426<>'MDOT FTA Detail'!$C$4)*(Projects!$L$5:$L$2426='Local Detail'!$A102)*(Projects!$J$5:$J$2426<>'Local Detail'!$A$147)*(Projects!$M$5:$M$2426)))+(SUMPRODUCT((Projects!$A$5:$A$2426='Local Detail'!$D$3)*(Projects!$C$5:$C$2426<>'MDOT FTA Detail'!$C$4)*(Projects!$L$5:$L$2426='Local Detail'!$A102)*(Projects!$J$5:$J$2426<>'Local Detail'!$A$147)*(Projects!$O$5:$O$2426))))","v":0},0,{"$f":"SUMPRODUCT((Projects!$A$5:$A$2426='Local Detail'!$G$3)*(Projects!$C$5:$C$2426<>'MDOT FTA Detail'!$C$4)*(Projects!$L$5:$L$2426='Local Detail'!$A102)*(Projects!$K$5:$K$2426))","v":0},{"$f":"((SUMPRODUCT((Projects!$A$5:$A$2426='Local Detail'!$G$3)*(Projects!$C$5:$C$2426<>'MDOT FTA Detail'!$C$4)*(Projects!$L$5:$L$2426='Local Detail'!$A102)*(Projects!$J$5:$J$2426<>'Local Detail'!$A$147)*(Projects!$M$5:$M$2426)))+(SUMPRODUCT((Projects!$A$5:$A$2426='Local Detail'!$G$3)*(Projects!$C$5:$C$2426<>'MDOT FTA Detail'!$C$4)*(Projects!$L$5:$L$2426='Local Detail'!$A102)*(Projects!$J$5:$J$2426<>'Local Detail'!$A$147)*(Projects!$O$5:$O$2426))))","v":0},0,{"$f":"SUMPRODUCT((Projects!$A$5:$A$2426='Local Detail'!$J$3)*(Projects!$C$5:$C$2426<>'MDOT FTA Detail'!$C$4)*(Projects!$L$5:$L$2426='Local Detail'!$A102)*(Projects!$K$5:$K$2426))","v":0},{"$f":"((SUMPRODUCT((Projects!$A$5:$A$2426='Local Detail'!$J$3)*(Projects!$C$5:$C$2426<>'MDOT FTA Detail'!$C$4)*(Projects!$L$5:$L$2426='Local Detail'!$A102)*(Projects!$J$5:$J$2426<>'Local Detail'!$A$147)*(Projects!$M$5:$M$2426)))+(SUMPRODUCT((Projects!$A$5:$A$2426='Local Detail'!$J$3)*(Projects!$C$5:$C$2426<>'MDOT FTA Detail'!$C$4)*(Projects!$L$5:$L$2426='Local Detail'!$A102)*(Projects!$J$5:$J$2426<>'Local Detail'!$A$147)*(Projects!$O$5:$O$2426))))","v":0},0,{"$f":"SUMPRODUCT((Projects!$A$5:$A$2426='Local Detail'!$M$3)*(Projects!$C$5:$C$2426<>'MDOT FTA Detail'!$C$4)*(Projects!$L$5:$L$2426='Local Detail'!$A102)*(Projects!$K$5:$K$2426))","v":0},{"$f":"((SUMPRODUCT((Projects!$A$5:$A$2426='Local Detail'!$M$3)*(Projects!$C$5:$C$2426<>'MDOT FTA Detail'!$C$4)*(Projects!$L$5:$L$2426='Local Detail'!$A102)*(Projects!$J$5:$J$2426<>'Local Detail'!$A$147)*(Projects!$M$5:$M$2426)))+(SUMPRODUCT((Projects!$A$5:$A$2426='Local Detail'!$M$3)*(Projects!$C$5:$C$2426<>'MDOT FTA Detail'!$C$4)*(Projects!$L$5:$L$2426='Local Detail'!$A102)*(Projects!$J$5:$J$2426<>'Local Detail'!$A$147)*(Projects!$O$5:$O$2426))))","v":0},0]
["TCP","Tax Compliance Program","Local Other FHWA",{"$f":"SUMPRODUCT((Projects!$A$5:$A$2426='Local Detail'!$D$3)*(Projects!$C$5:$C$2426<>'MDOT FTA Detail'!$C$4)*(Projects!$L$5:$L$2426='Local Detail'!$A103)*(Projects!$K$5:$K$2426))","v":0},{"$f":"((SUMPRODUCT((Projects!$A$5:$A$2426='Local Detail'!$D$3)*(Projects!$C$5:$C$2426<>'MDOT FTA Detail'!$C$4)*(Projects!$L$5:$L$2426='Local Detail'!$A103)*(Projects!$J$5:$J$2426<>'Local Detail'!$A$147)*(Projects!$M$5:$M$2426)))+(SUMPRODUCT((Projects!$A$5:$A$2426='Local Detail'!$D$3)*(Projects!$C$5:$C$2426<>'MDOT FTA Detail'!$C$4)*(Projects!$L$5:$L$2426='Local Detail'!$A103)*(Projects!$J$5:$J$2426<>'Local Detail'!$A$147)*(Projects!$O$5:$O$2426))))","v":0},0,{"$f":"SUMPRODUCT((Projects!$A$5:$A$2426='Local Detail'!$G$3)*(Projects!$C$5:$C$2426<>'MDOT FTA Detail'!$C$4)*(Projects!$L$5:$L$2426='Local Detail'!$A103)*(Projects!$K$5:$K$2426))","v":0},{"$f":"((SUMPRODUCT((Projects!$A$5:$A$2426='Local Detail'!$G$3)*(Projects!$C$5:$C$2426<>'MDOT FTA Detail'!$C$4)*(Projects!$L$5:$L$2426='Local Detail'!$A103)*(Projects!$J$5:$J$2426<>'Local Detail'!$A$147)*(Projects!$M$5:$M$2426)))+(SUMPRODUCT((Projects!$A$5:$A$2426='Local Detail'!$G$3)*(Projects!$C$5:$C$2426<>'MDOT FTA Detail'!$C$4)*(Projects!$L$5:$L$2426='Local Detail'!$A103)*(Projects!$J$5:$J$2426<>'Local Detail'!$A$147)*(Projects!$O$5:$O$2426))))","v":0},0,{"$f":"SUMPRODUCT((Projects!$A$5:$A$2426='Local Detail'!$J$3)*(Projects!$C$5:$C$2426<>'MDOT FTA Detail'!$C$4)*(Projects!$L$5:$L$2426='Local Detail'!$A103)*(Projects!$K$5:$K$2426))","v":0},{"$f":"((SUMPRODUCT((Projects!$A$5:$A$2426='Local Detail'!$J$3)*(Projects!$C$5:$C$2426<>'MDOT FTA Detail'!$C$4)*(Projects!$L$5:$L$2426='Local Detail'!$A103)*(Projects!$J$5:$J$2426<>'Local Detail'!$A$147)*(Projects!$M$5:$M$2426)))+(SUMPRODUCT((Projects!$A$5:$A$2426='Local Detail'!$J$3)*(Projects!$C$5:$C$2426<>'MDOT FTA Detail'!$C$4)*(Projects!$L$5:$L$2426='Local Detail'!$A103)*(Projects!$J$5:$J$2426<>'Local Detail'!$A$147)*(Projects!$O$5:$O$2426))))","v":0},0,{"$f":"SUMPRODUCT((Projects!$A$5:$A$2426='Local Detail'!$M$3)*(Projects!$C$5:$C$2426<>'MDOT FTA Detail'!$C$4)*(Projects!$L$5:$L$2426='Local Detail'!$A103)*(Projects!$K$5:$K$2426))","v":0},{"$f":"((SUMPRODUCT((Projects!$A$5:$A$2426='Local Detail'!$M$3)*(Projects!$C$5:$C$2426<>'MDOT FTA Detail'!$C$4)*(Projects!$L$5:$L$2426='Local Detail'!$A103)*(Projects!$J$5:$J$2426<>'Local Detail'!$A$147)*(Projects!$M$5:$M$2426)))+(SUMPRODUCT((Projects!$A$5:$A$2426='Local Detail'!$M$3)*(Projects!$C$5:$C$2426<>'MDOT FTA Detail'!$C$4)*(Projects!$L$5:$L$2426='Local Detail'!$A103)*(Projects!$J$5:$J$2426<>'Local Detail'!$A$147)*(Projects!$O$5:$O$2426))))","v":0},0]
["TCSP","Transportation, Community and System Preservation","Local Other FHWA",{"$f":"SUMPRODUCT((Projects!$A$5:$A$2426='Local Detail'!$D$3)*(Projects!$C$5:$C$2426<>'MDOT FTA Detail'!$C$4)*(Projects!$L$5:$L$2426='Local Detail'!$A104)*(Projects!$K$5:$K$2426))","v":0},{"$f":"((SUMPRODUCT((Projects!$A$5:$A$2426='Local Detail'!$D$3)*(Projects!$C$5:$C$2426<>'MDOT FTA Detail'!$C$4)*(Projects!$L$5:$L$2426='Local Detail'!$A104)*(Projects!$J$5:$J$2426<>'Local Detail'!$A$147)*(Projects!$M$5:$M$2426)))+(SUMPRODUCT((Projects!$A$5:$A$2426='Local Detail'!$D$3)*(Projects!$C$5:$C$2426<>'MDOT FTA Detail'!$C$4)*(Projects!$L$5:$L$2426='Local Detail'!$A104)*(Projects!$J$5:$J$2426<>'Local Detail'!$A$147)*(Projects!$O$5:$O$2426))))","v":0},0,{"$f":"SUMPRODUCT((Projects!$A$5:$A$2426='Local Detail'!$G$3)*(Projects!$C$5:$C$2426<>'MDOT FTA Detail'!$C$4)*(Projects!$L$5:$L$2426='Local Detail'!$A104)*(Projects!$K$5:$K$2426))","v":0},{"$f":"((SUMPRODUCT((Projects!$A$5:$A$2426='Local Detail'!$G$3)*(Projects!$C$5:$C$2426<>'MDOT FTA Detail'!$C$4)*(Projects!$L$5:$L$2426='Local Detail'!$A104)*(Projects!$J$5:$J$2426<>'Local Detail'!$A$147)*(Projects!$M$5:$M$2426)))+(SUMPRODUCT((Projects!$A$5:$A$2426='Local Detail'!$G$3)*(Projects!$C$5:$C$2426<>'MDOT FTA Detail'!$C$4)*(Projects!$L$5:$L$2426='Local Detail'!$A104)*(Projects!$J$5:$J$2426<>'Local Detail'!$A$147)*(Projects!$O$5:$O$2426))))","v":0},0,{"$f":"SUMPRODUCT((Projects!$A$5:$A$2426='Local Detail'!$J$3)*(Projects!$C$5:$C$2426<>'MDOT FTA Detail'!$C$4)*(Projects!$L$5:$L$2426='Local Detail'!$A104)*(Projects!$K$5:$K$2426))","v":0},{"$f":"((SUMPRODUCT((Projects!$A$5:$A$2426='Local Detail'!$J$3)*(Projects!$C$5:$C$2426<>'MDOT FTA Detail'!$C$4)*(Projects!$L$5:$L$2426='Local Detail'!$A104)*(Projects!$J$5:$J$2426<>'Local Detail'!$A$147)*(Projects!$M$5:$M$2426)))+(SUMPRODUCT((Projects!$A$5:$A$2426='Local Detail'!$J$3)*(Projects!$C$5:$C$2426<>'MDOT FTA Detail'!$C$4)*(Projects!$L$5:$L$2426='Local Detail'!$A104)*(Projects!$J$5:$J$2426<>'Local Detail'!$A$147)*(Projects!$O$5:$O$2426))))","v":0},0,{"$f":"SUMPRODUCT((Projects!$A$5:$A$2426='Local Detail'!$M$3)*(Projects!$C$5:$C$2426<>'MDOT FTA Detail'!$C$4)*(Projects!$L$5:$L$2426='Local Detail'!$A104)*(Projects!$K$5:$K$2426))","v":0},{"$f":"((SUMPRODUCT((Projects!$A$5:$A$2426='Local Detail'!$M$3)*(Projects!$C$5:$C$2426<>'MDOT FTA Detail'!$C$4)*(Projects!$L$5:$L$2426='Local Detail'!$A104)*(Projects!$J$5:$J$2426<>'Local Detail'!$A$147)*(Projects!$M$5:$M$2426)))+(SUMPRODUCT((Projects!$A$5:$A$2426='Local Detail'!$M$3)*(Projects!$C$5:$C$2426<>'MDOT FTA Detail'!$C$4)*(Projects!$L$5:$L$2426='Local Detail'!$A104)*(Projects!$J$5:$J$2426<>'Local Detail'!$A$147)*(Projects!$O$5:$O$2426))))","v":0},0]
["TG","Transportation  Grant (100% Fed)","Local Other FHWA",{"$f":"SUMPRODUCT((Projects!$A$5:$A$2426='Local Detail'!$D$3)*(Projects!$C$5:$C$2426<>'MDOT FTA Detail'!$C$4)*(Projects!$L$5:$L$2426='Local Detail'!$A105)*(Projects!$K$5:$K$2426))","v":0},{"$f":"((SUMPRODUCT((Projects!$A$5:$A$2426='Local Detail'!$D$3)*(Projects!$C$5:$C$2426<>'MDOT FTA Detail'!$C$4)*(Projects!$L$5:$L$2426='Local Detail'!$A105)*(Projects!$J$5:$J$2426<>'Local Detail'!$A$147)*(Projects!$M$5:$M$2426)))+(SUMPRODUCT((Projects!$A$5:$A$2426='Local Detail'!$D$3)*(Projects!$C$5:$C$2426<>'MDOT FTA Detail'!$C$4)*(Projects!$L$5:$L$2426='Local Detail'!$A105)*(Projects!$J$5:$J$2426<>'Local Detail'!$A$147)*(Projects!$O$5:$O$2426))))","v":0},0,{"$f":"SUMPRODUCT((Projects!$A$5:$A$2426='Local Detail'!$G$3)*(Projects!$C$5:$C$2426<>'MDOT FTA Detail'!$C$4)*(Projects!$L$5:$L$2426='Local Detail'!$A105)*(Projects!$K$5:$K$2426))","v":0},{"$f":"((SUMPRODUCT((Projects!$A$5:$A$2426='Local Detail'!$G$3)*(Projects!$C$5:$C$2426<>'MDOT FTA Detail'!$C$4)*(Projects!$L$5:$L$2426='Local Detail'!$A105)*(Projects!$J$5:$J$2426<>'Local Detail'!$A$147)*(Projects!$M$5:$M$2426)))+(SUMPRODUCT((Projects!$A$5:$A$2426='Local Detail'!$G$3)*(Projects!$C$5:$C$2426<>'MDOT FTA Detail'!$C$4)*(Projects!$L$5:$L$2426='Local Detail'!$A105)*(Projects!$J$5:$J$2426<>'Local Detail'!$A$147)*(Projects!$O$5:$O$2426))))","v":0},0,{"$f":"SUMPRODUCT((Projects!$A$5:$A$2426='Local Detail'!$J$3)*(Projects!$C$5:$C$2426<>'MDOT FTA Detail'!$C$4)*(Projects!$L$5:$L$2426='Local Detail'!$A105)*(Projects!$K$5:$K$2426))","v":0},{"$f":"((SUMPRODUCT((Projects!$A$5:$A$2426='Local Detail'!$J$3)*(Projects!$C$5:$C$2426<>'MDOT FTA Detail'!$C$4)*(Projects!$L$5:$L$2426='Local Detail'!$A105)*(Projects!$J$5:$J$2426<>'Local Detail'!$A$147)*(Projects!$M$5:$M$2426)))+(SUMPRODUCT((Projects!$A$5:$A$2426='Local Detail'!$J$3)*(Projects!$C$5:$C$2426<>'MDOT FTA Detail'!$C$4)*(Projects!$L$5:$L$2426='Local Detail'!$A105)*(Projects!$J$5:$J$2426<>'Local Detail'!$A$147)*(Projects!$O$5:$O$2426))))","v":0},0,{"$f":"SUMPRODUCT((Projects!$A$5:$A$2426='Local Detail'!$M$3)*(Projects!$C$5:$C$2426<>'MDOT FTA Detail'!$C$4)*(Projects!$L$5:$L$2426='Local Detail'!$A105)*(Projects!$K$5:$K$2426))","v":0},{"$f":"((SUMPRODUCT((Projects!$A$5:$A$2426='Local Detail'!$M$3)*(Projects!$C$5:$C$2426<>'MDOT FTA Detail'!$C$4)*(Projects!$L$5:$L$2426='Local Detail'!$A105)*(Projects!$J$5:$J$2426<>'Local Detail'!$A$147)*(Projects!$M$5:$M$2426)))+(SUMPRODUCT((Projects!$A$5:$A$2426='Local Detail'!$M$3)*(Projects!$C$5:$C$2426<>'MDOT FTA Detail'!$C$4)*(Projects!$L$5:$L$2426='Local Detail'!$A105)*(Projects!$J$5:$J$2426<>'Local Detail'!$A$147)*(Projects!$O$5:$O$2426))))","v":0},0]
["TGR2","TIGER II Discretionary Grant","Local Other FHWA",{"$f":"SUMPRODUCT((Projects!$A$5:$A$2426='Local Detail'!$D$3)*(Projects!$C$5:$C$2426<>'MDOT FTA Detail'!$C$4)*(Projects!$L$5:$L$2426='Local Detail'!$A106)*(Projects!$K$5:$K$2426))","v":0},{"$f":"((SUMPRODUCT((Projects!$A$5:$A$2426='Local Detail'!$D$3)*(Projects!$C$5:$C$2426<>'MDOT FTA Detail'!$C$4)*(Projects!$L$5:$L$2426='Local Detail'!$A106)*(Projects!$J$5:$J$2426<>'Local Detail'!$A$147)*(Projects!$M$5:$M$2426)))+(SUMPRODUCT((Projects!$A$5:$A$2426='Local Detail'!$D$3)*(Projects!$C$5:$C$2426<>'MDOT FTA Detail'!$C$4)*(Projects!$L$5:$L$2426='Local Detail'!$A106)*(Projects!$J$5:$J$2426<>'Local Detail'!$A$147)*(Projects!$O$5:$O$2426))))","v":0},{"$f":"D106+E106","v":0},{"$f":"SUMPRODUCT((Projects!$A$5:$A$2426='Local Detail'!$G$3)*(Projects!$C$5:$C$2426<>'MDOT FTA Detail'!$C$4)*(Projects!$L$5:$L$2426='Local Detail'!$A106)*(Projects!$K$5:$K$2426))","v":0},{"$f":"((SUMPRODUCT((Projects!$A$5:$A$2426='Local Detail'!$G$3)*(Projects!$C$5:$C$2426<>'MDOT FTA Detail'!$C$4)*(Projects!$L$5:$L$2426='Local Detail'!$A106)*(Projects!$J$5:$J$2426<>'Local Detail'!$A$147)*(Projects!$M$5:$M$2426)))+(SUMPRODUCT((Projects!$A$5:$A$2426='Local Detail'!$G$3)*(Projects!$C$5:$C$2426<>'MDOT FTA Detail'!$C$4)*(Projects!$L$5:$L$2426='Local Detail'!$A106)*(Projects!$J$5:$J$2426<>'Local Detail'!$A$147)*(Projects!$O$5:$O$2426))))","v":0},{"$f":"G106+H106","v":0},{"$f":"SUMPRODUCT((Projects!$A$5:$A$2426='Local Detail'!$J$3)*(Projects!$C$5:$C$2426<>'MDOT FTA Detail'!$C$4)*(Projects!$L$5:$L$2426='Local Detail'!$A106)*(Projects!$K$5:$K$2426))","v":0},{"$f":"((SUMPRODUCT((Projects!$A$5:$A$2426='Local Detail'!$J$3)*(Projects!$C$5:$C$2426<>'MDOT FTA Detail'!$C$4)*(Projects!$L$5:$L$2426='Local Detail'!$A106)*(Projects!$J$5:$J$2426<>'Local Detail'!$A$147)*(Projects!$M$5:$M$2426)))+(SUMPRODUCT((Projects!$A$5:$A$2426='Local Detail'!$J$3)*(Projects!$C$5:$C$2426<>'MDOT FTA Detail'!$C$4)*(Projects!$L$5:$L$2426='Local Detail'!$A106)*(Projects!$J$5:$J$2426<>'Local Detail'!$A$147)*(Projects!$O$5:$O$2426))))","v":0},{"$f":"J106+K106","v":0},{"$f":"SUMPRODUCT((Projects!$A$5:$A$2426='Local Detail'!$M$3)*(Projects!$C$5:$C$2426<>'MDOT FTA Detail'!$C$4)*(Projects!$L$5:$L$2426='Local Detail'!$A106)*(Projects!$K$5:$K$2426))","v":0},{"$f":"((SUMPRODUCT((Projects!$A$5:$A$2426='Local Detail'!$M$3)*(Projects!$C$5:$C$2426<>'MDOT FTA Detail'!$C$4)*(Projects!$L$5:$L$2426='Local Detail'!$A106)*(Projects!$J$5:$J$2426<>'Local Detail'!$A$147)*(Projects!$M$5:$M$2426)))+(SUMPRODUCT((Projects!$A$5:$A$2426='Local Detail'!$M$3)*(Projects!$C$5:$C$2426<>'MDOT FTA Detail'!$C$4)*(Projects!$L$5:$L$2426='Local Detail'!$A106)*(Projects!$J$5:$J$2426<>'Local Detail'!$A$147)*(Projects!$O$5:$O$2426))))","v":0},{"$f":"M106+N106","v":0}]
["TGR3","TIGER III Discretionary Grant","Local Other FHWA",{"$f":"SUMPRODUCT((Projects!$A$5:$A$2426='Local Detail'!$D$3)*(Projects!$C$5:$C$2426<>'MDOT FTA Detail'!$C$4)*(Projects!$L$5:$L$2426='Local Detail'!$A107)*(Projects!$K$5:$K$2426))","v":0},{"$f":"((SUMPRODUCT((Projects!$A$5:$A$2426='Local Detail'!$D$3)*(Projects!$C$5:$C$2426<>'MDOT FTA Detail'!$C$4)*(Projects!$L$5:$L$2426='Local Detail'!$A107)*(Projects!$J$5:$J$2426<>'Local Detail'!$A$147)*(Projects!$M$5:$M$2426)))+(SUMPRODUCT((Projects!$A$5:$A$2426='Local Detail'!$D$3)*(Projects!$C$5:$C$2426<>'MDOT FTA Detail'!$C$4)*(Projects!$L$5:$L$2426='Local Detail'!$A107)*(Projects!$J$5:$J$2426<>'Local Detail'!$A$147)*(Projects!$O$5:$O$2426))))","v":0},{"$f":"D107+E107","v":0},{"$f":"SUMPRODUCT((Projects!$A$5:$A$2426='Local Detail'!$G$3)*(Projects!$C$5:$C$2426<>'MDOT FTA Detail'!$C$4)*(Projects!$L$5:$L$2426='Local Detail'!$A107)*(Projects!$K$5:$K$2426))","v":0},{"$f":"((SUMPRODUCT((Projects!$A$5:$A$2426='Local Detail'!$G$3)*(Projects!$C$5:$C$2426<>'MDOT FTA Detail'!$C$4)*(Projects!$L$5:$L$2426='Local Detail'!$A107)*(Projects!$J$5:$J$2426<>'Local Detail'!$A$147)*(Projects!$M$5:$M$2426)))+(SUMPRODUCT((Projects!$A$5:$A$2426='Local Detail'!$G$3)*(Projects!$C$5:$C$2426<>'MDOT FTA Detail'!$C$4)*(Projects!$L$5:$L$2426='Local Detail'!$A107)*(Projects!$J$5:$J$2426<>'Local Detail'!$A$147)*(Projects!$O$5:$O$2426))))","v":0},{"$f":"G107+H107","v":0},{"$f":"SUMPRODUCT((Projects!$A$5:$A$2426='Local Detail'!$J$3)*(Projects!$C$5:$C$2426<>'MDOT FTA Detail'!$C$4)*(Projects!$L$5:$L$2426='Local Detail'!$A107)*(Projects!$K$5:$K$2426))","v":0},{"$f":"((SUMPRODUCT((Projects!$A$5:$A$2426='Local Detail'!$J$3)*(Projects!$C$5:$C$2426<>'MDOT FTA Detail'!$C$4)*(Projects!$L$5:$L$2426='Local Detail'!$A107)*(Projects!$J$5:$J$2426<>'Local Detail'!$A$147)*(Projects!$M$5:$M$2426)))+(SUMPRODUCT((Projects!$A$5:$A$2426='Local Detail'!$J$3)*(Projects!$C$5:$C$2426<>'MDOT FTA Detail'!$C$4)*(Projects!$L$5:$L$2426='Local Detail'!$A107)*(Projects!$J$5:$J$2426<>'Local Detail'!$A$147)*(Projects!$O$5:$O$2426))))","v":0},{"$f":"J107+K107","v":0},{"$f":"SUMPRODUCT((Projects!$A$5:$A$2426='Local Detail'!$M$3)*(Projects!$C$5:$C$2426<>'MDOT FTA Detail'!$C$4)*(Projects!$L$5:$L$2426='Local Detail'!$A107)*(Projects!$K$5:$K$2426))","v":0},{"$f":"((SUMPRODUCT((Projects!$A$5:$A$2426='Local Detail'!$M$3)*(Projects!$C$5:$C$2426<>'MDOT FTA Detail'!$C$4)*(Projects!$L$5:$L$2426='Local Detail'!$A107)*(Projects!$J$5:$J$2426<>'Local Detail'!$A$147)*(Projects!$M$5:$M$2426)))+(SUMPRODUCT((Projects!$A$5:$A$2426='Local Detail'!$M$3)*(Projects!$C$5:$C$2426<>'MDOT FTA Detail'!$C$4)*(Projects!$L$5:$L$2426='Local Detail'!$A107)*(Projects!$J$5:$J$2426<>'Local Detail'!$A$147)*(Projects!$O$5:$O$2426))))","v":0},{"$f":"M107+N107","v":0}]
["TIP","Transportation Improvements Projects SAFETEA-LU","Local Other FHWA",{"$f":"SUMPRODUCT((Projects!$A$5:$A$2426='Local Detail'!$D$3)*(Projects!$C$5:$C$2426<>'MDOT FTA Detail'!$C$4)*(Projects!$L$5:$L$2426='Local Detail'!$A108)*(Projects!$K$5:$K$2426))","v":0},{"$f":"((SUMPRODUCT((Projects!$A$5:$A$2426='Local Detail'!$D$3)*(Projects!$C$5:$C$2426<>'MDOT FTA Detail'!$C$4)*(Projects!$L$5:$L$2426='Local Detail'!$A108)*(Projects!$J$5:$J$2426<>'Local Detail'!$A$147)*(Projects!$M$5:$M$2426)))+(SUMPRODUCT((Projects!$A$5:$A$2426='Local Detail'!$D$3)*(Projects!$C$5:$C$2426<>'MDOT FTA Detail'!$C$4)*(Projects!$L$5:$L$2426='Local Detail'!$A108)*(Projects!$J$5:$J$2426<>'Local Detail'!$A$147)*(Projects!$O$5:$O$2426))))","v":0},{"$f":"D108+E108","v":0},{"$f":"SUMPRODUCT((Projects!$A$5:$A$2426='Local Detail'!$G$3)*(Projects!$C$5:$C$2426<>'MDOT FTA Detail'!$C$4)*(Projects!$L$5:$L$2426='Local Detail'!$A108)*(Projects!$K$5:$K$2426))","v":0},{"$f":"((SUMPRODUCT((Projects!$A$5:$A$2426='Local Detail'!$G$3)*(Projects!$C$5:$C$2426<>'MDOT FTA Detail'!$C$4)*(Projects!$L$5:$L$2426='Local Detail'!$A108)*(Projects!$J$5:$J$2426<>'Local Detail'!$A$147)*(Projects!$M$5:$M$2426)))+(SUMPRODUCT((Projects!$A$5:$A$2426='Local Detail'!$G$3)*(Projects!$C$5:$C$2426<>'MDOT FTA Detail'!$C$4)*(Projects!$L$5:$L$2426='Local Detail'!$A108)*(Projects!$J$5:$J$2426<>'Local Detail'!$A$147)*(Projects!$O$5:$O$2426))))","v":0},{"$f":"G108+H108","v":0},{"$f":"SUMPRODUCT((Projects!$A$5:$A$2426='Local Detail'!$J$3)*(Projects!$C$5:$C$2426<>'MDOT FTA Detail'!$C$4)*(Projects!$L$5:$L$2426='Local Detail'!$A108)*(Projects!$K$5:$K$2426))","v":0},{"$f":"((SUMPRODUCT((Projects!$A$5:$A$2426='Local Detail'!$J$3)*(Projects!$C$5:$C$2426<>'MDOT FTA Detail'!$C$4)*(Projects!$L$5:$L$2426='Local Detail'!$A108)*(Projects!$J$5:$J$2426<>'Local Detail'!$A$147)*(Projects!$M$5:$M$2426)))+(SUMPRODUCT((Projects!$A$5:$A$2426='Local Detail'!$J$3)*(Projects!$C$5:$C$2426<>'MDOT FTA Detail'!$C$4)*(Projects!$L$5:$L$2426='Local Detail'!$A108)*(Projects!$J$5:$J$2426<>'Local Detail'!$A$147)*(Projects!$O$5:$O$2426))))","v":0},{"$f":"J108+K108","v":0},{"$f":"SUMPRODUCT((Projects!$A$5:$A$2426='Local Detail'!$M$3)*(Projects!$C$5:$C$2426<>'MDOT FTA Detail'!$C$4)*(Projects!$L$5:$L$2426='Local Detail'!$A108)*(Projects!$K$5:$K$2426))","v":0},{"$f":"((SUMPRODUCT((Projects!$A$5:$A$2426='Local Detail'!$M$3)*(Projects!$C$5:$C$2426<>'MDOT FTA Detail'!$C$4)*(Projects!$L$5:$L$2426='Local Detail'!$A108)*(Projects!$J$5:$J$2426<>'Local Detail'!$A$147)*(Projects!$M$5:$M$2426)))+(SUMPRODUCT((Projects!$A$5:$A$2426='Local Detail'!$M$3)*(Projects!$C$5:$C$2426<>'MDOT FTA Detail'!$C$4)*(Projects!$L$5:$L$2426='Local Detail'!$A108)*(Projects!$J$5:$J$2426<>'Local Detail'!$A$147)*(Projects!$O$5:$O$2426))))","v":0},{"$f":"M108+N108","v":0}]
["TPFD","Truck Parking Faciilities Discretionary","Local Other FHWA",{"$f":"SUMPRODUCT((Projects!$A$5:$A$2426='Local Detail'!$D$3)*(Projects!$C$5:$C$2426<>'MDOT FTA Detail'!$C$4)*(Projects!$L$5:$L$2426='Local Detail'!$A109)*(Projects!$K$5:$K$2426))","v":0},{"$f":"((SUMPRODUCT((Projects!$A$5:$A$2426='Local Detail'!$D$3)*(Projects!$C$5:$C$2426<>'MDOT FTA Detail'!$C$4)*(Projects!$L$5:$L$2426='Local Detail'!$A109)*(Projects!$J$5:$J$2426<>'Local Detail'!$A$147)*(Projects!$M$5:$M$2426)))+(SUMPRODUCT((Projects!$A$5:$A$2426='Local Detail'!$D$3)*(Projects!$C$5:$C$2426<>'MDOT FTA Detail'!$C$4)*(Projects!$L$5:$L$2426='Local Detail'!$A109)*(Projects!$J$5:$J$2426<>'Local Detail'!$A$147)*(Projects!$O$5:$O$2426))))","v":0},0,{"$f":"SUMPRODUCT((Projects!$A$5:$A$2426='Local Detail'!$G$3)*(Projects!$C$5:$C$2426<>'MDOT FTA Detail'!$C$4)*(Projects!$L$5:$L$2426='Local Detail'!$A109)*(Projects!$K$5:$K$2426))","v":0},{"$f":"((SUMPRODUCT((Projects!$A$5:$A$2426='Local Detail'!$G$3)*(Projects!$C$5:$C$2426<>'MDOT FTA Detail'!$C$4)*(Projects!$L$5:$L$2426='Local Detail'!$A109)*(Projects!$J$5:$J$2426<>'Local Detail'!$A$147)*(Projects!$M$5:$M$2426)))+(SUMPRODUCT((Projects!$A$5:$A$2426='Local Detail'!$G$3)*(Projects!$C$5:$C$2426<>'MDOT FTA Detail'!$C$4)*(Projects!$L$5:$L$2426='Local Detail'!$A109)*(Projects!$J$5:$J$2426<>'Local Detail'!$A$147)*(Projects!$O$5:$O$2426))))","v":0},0,{"$f":"SUMPRODUCT((Projects!$A$5:$A$2426='Local Detail'!$J$3)*(Projects!$C$5:$C$2426<>'MDOT FTA Detail'!$C$4)*(Projects!$L$5:$L$2426='Local Detail'!$A109)*(Projects!$K$5:$K$2426))","v":0},{"$f":"((SUMPRODUCT((Projects!$A$5:$A$2426='Local Detail'!$J$3)*(Projects!$C$5:$C$2426<>'MDOT FTA Detail'!$C$4)*(Projects!$L$5:$L$2426='Local Detail'!$A109)*(Projects!$J$5:$J$2426<>'Local Detail'!$A$147)*(Projects!$M$5:$M$2426)))+(SUMPRODUCT((Projects!$A$5:$A$2426='Local Detail'!$J$3)*(Projects!$C$5:$C$2426<>'MDOT FTA Detail'!$C$4)*(Projects!$L$5:$L$2426='Local Detail'!$A109)*(Projects!$J$5:$J$2426<>'Local Detail'!$A$147)*(Projects!$O$5:$O$2426))))","v":0},0,{"$f":"SUMPRODUCT((Projects!$A$5:$A$2426='Local Detail'!$M$3)*(Projects!$C$5:$C$2426<>'MDOT FTA Detail'!$C$4)*(Projects!$L$5:$L$2426='Local Detail'!$A109)*(Projects!$K$5:$K$2426))","v":0},{"$f":"((SUMPRODUCT((Projects!$A$5:$A$2426='Local Detail'!$M$3)*(Projects!$C$5:$C$2426<>'MDOT FTA Detail'!$C$4)*(Projects!$L$5:$L$2426='Local Detail'!$A109)*(Projects!$J$5:$J$2426<>'Local Detail'!$A$147)*(Projects!$M$5:$M$2426)))+(SUMPRODUCT((Projects!$A$5:$A$2426='Local Detail'!$M$3)*(Projects!$C$5:$C$2426<>'MDOT FTA Detail'!$C$4)*(Projects!$L$5:$L$2426='Local Detail'!$A109)*(Projects!$J$5:$J$2426<>'Local Detail'!$A$147)*(Projects!$O$5:$O$2426))))","v":0},0]
["CTF","Comprehensive Transit Fund","Transit","No FF",{"$f":"SUMPRODUCT((Projects!$A$5:$A$2426='Local Detail'!$D$3)*(Projects!$K$5:$K$2426=0)*(Projects!$C$5:$C$2426<>'MDOT FTA Detail'!$C$4)*(Projects!$N$5:$N$2426='Local Detail'!$A110)*(Projects!$J$5:$J$2426<>'Local Detail'!$A$147)*(Projects!$M$5:$M$2426))","v":386040},{"$f":"E110","v":386040},"No FF",{"$f":"SUMPRODUCT((Projects!$A$5:$A$2426='Local Detail'!$G$3)*(Projects!$K$5:$K$2426=0)*(Projects!$C$5:$C$2426<>'MDOT FTA Detail'!$C$4)*(Projects!$N$5:$N$2426='Local Detail'!$A110)*(Projects!$J$5:$J$2426<>'Local Detail'!$A$147)*(Projects!$Q$5:$Q$2426))","v":430347},{"$f":"H110","v":430347},"No FF",{"$f":"SUMPRODUCT((Projects!$A$5:$A$2426='Local Detail'!$J$3)*(Projects!$K$5:$K$2426=0)*(Projects!$C$5:$C$2426<>'MDOT FTA Detail'!$C$4)*(Projects!$N$5:$N$2426='Local Detail'!$A110)*(Projects!$J$5:$J$2426<>'Local Detail'!$A$147)*(Projects!$Q$5:$Q$2426))","v":386040},{"$f":"K110","v":386040},"No FF",{"$f":"SUMPRODUCT((Projects!$A$5:$A$2426='Local Detail'!$M$3)*(Projects!$K$5:$K$2426=0)*(Projects!$C$5:$C$2426<>'MDOT FTA Detail'!$C$4)*(Projects!$N$5:$N$2426='Local Detail'!$A110)*(Projects!$J$5:$J$2426<>'Local Detail'!$A$147)*(Projects!$Q$5:$Q$2426))","v":386040},{"$f":"N110","v":386040}]
["BI04","Build Michigan Bond Issue 2004","Local Non-Federal","No FF",{"$f":"SUMPRODUCT((Projects!$A$5:$A$2426='Local Detail'!$D$3)*(Projects!$K$5:$K$2426=0)*(Projects!$C$5:$C$2426<>'MDOT FTA Detail'!$C$4)*(Projects!$N$5:$N$2426='Local Detail'!$A111)*(Projects!$J$5:$J$2426<>'Local Detail'!$A$147)*(Projects!$M$5:$M$2426))","v":0},0,"No FF",{"$f":"SUMPRODUCT((Projects!$A$5:$A$2426='Local Detail'!$G$3)*(Projects!$K$5:$K$2426=0)*(Projects!$C$5:$C$2426<>'MDOT FTA Detail'!$C$4)*(Projects!$N$5:$N$2426='Local Detail'!$A111)*(Projects!$J$5:$J$2426<>'Local Detail'!$A$147)*(Projects!$M$5:$M$2426))","v":0},0,"No FF",{"$f":"SUMPRODUCT((Projects!$A$5:$A$2426='Local Detail'!$J$3)*(Projects!$K$5:$K$2426=0)*(Projects!$C$5:$C$2426<>'MDOT FTA Detail'!$C$4)*(Projects!$N$5:$N$2426='Local Detail'!$A111)*(Projects!$J$5:$J$2426<>'Local Detail'!$A$147)*(Projects!$M$5:$M$2426))","v":0},0,"No FF",{"$f":"SUMPRODUCT((Projects!$A$5:$A$2426='Local Detail'!$M$3)*(Projects!$K$5:$K$2426=0)*(Projects!$C$5:$C$2426<>'MDOT FTA Detail'!$C$4)*(Projects!$N$5:$N$2426='Local Detail'!$A111)*(Projects!$J$5:$J$2426<>'Local Detail'!$A$147)*(Projects!$M$5:$M$2426))","v":0},0]
["BI06","Build Michigan Bond Issue 2006","Local Non-Federal","No FF",{"$f":"SUMPRODUCT((Projects!$A$5:$A$2426='Local Detail'!$D$3)*(Projects!$K$5:$K$2426=0)*(Projects!$C$5:$C$2426<>'MDOT FTA Detail'!$C$4)*(Projects!$N$5:$N$2426='Local Detail'!$A112)*(Projects!$J$5:$J$2426<>'Local Detail'!$A$147)*(Projects!$M$5:$M$2426))","v":0},0,"No FF",{"$f":"SUMPRODUCT((Projects!$A$5:$A$2426='Local Detail'!$G$3)*(Projects!$K$5:$K$2426=0)*(Projects!$C$5:$C$2426<>'MDOT FTA Detail'!$C$4)*(Projects!$N$5:$N$2426='Local Detail'!$A112)*(Projects!$J$5:$J$2426<>'Local Detail'!$A$147)*(Projects!$M$5:$M$2426))","v":0},0,"No FF",{"$f":"SUMPRODUCT((Projects!$A$5:$A$2426='Local Detail'!$J$3)*(Projects!$K$5:$K$2426=0)*(Projects!$C$5:$C$2426<>'MDOT FTA Detail'!$C$4)*(Projects!$N$5:$N$2426='Local Detail'!$A112)*(Projects!$J$5:$J$2426<>'Local Detail'!$A$147)*(Projects!$M$5:$M$2426))","v":0},0,"No FF",{"$f":"SUMPRODUCT((Projects!$A$5:$A$2426='Local Detail'!$M$3)*(Projects!$K$5:$K$2426=0)*(Projects!$C$5:$C$2426<>'MDOT FTA Detail'!$C$4)*(Projects!$N$5:$N$2426='Local Detail'!$A112)*(Projects!$J$5:$J$2426<>'Local Detail'!$A$147)*(Projects!$M$5:$M$2426))","v":0},0]
["BI08","Build Michigan Bond Issue 2008","Local Non-Federal","No FF",{"$f":"SUMPRODUCT((Projects!$A$5:$A$2426='Local Detail'!$D$3)*(Projects!$K$5:$K$2426=0)*(Projects!$C$5:$C$2426<>'MDOT FTA Detail'!$C$4)*(Projects!$N$5:$N$2426='Local Detail'!$A113)*(Projects!$J$5:$J$2426<>'Local Detail'!$A$147)*(Projects!$M$5:$M$2426))","v":0},0,"No FF",{"$f":"SUMPRODUCT((Projects!$A$5:$A$2426='Local Detail'!$G$3)*(Projects!$K$5:$K$2426=0)*(Projects!$C$5:$C$2426<>'MDOT FTA Detail'!$C$4)*(Projects!$N$5:$N$2426='Local Detail'!$A113)*(Projects!$J$5:$J$2426<>'Local Detail'!$A$147)*(Projects!$M$5:$M$2426))","v":0},0,"No FF",{"$f":"SUMPRODUCT((Projects!$A$5:$A$2426='Local Detail'!$J$3)*(Projects!$K$5:$K$2426=0)*(Projects!$C$5:$C$2426<>'MDOT FTA Detail'!$C$4)*(Projects!$N$5:$N$2426='Local Detail'!$A113)*(Projects!$J$5:$J$2426<>'Local Detail'!$A$147)*(Projects!$M$5:$M$2426))","v":0},0,"No FF",{"$f":"SUMPRODUCT((Projects!$A$5:$A$2426='Local Detail'!$M$3)*(Projects!$K$5:$K$2426=0)*(Projects!$C$5:$C$2426<>'MDOT FTA Detail'!$C$4)*(Projects!$N$5:$N$2426='Local Detail'!$A113)*(Projects!$J$5:$J$2426<>'Local Detail'!$A$147)*(Projects!$M$5:$M$2426))","v":0},0]
["BT01","Bond Trunkline Roads for First Issue","Local Non-Federal","No FF",{"$f":"SUMPRODUCT((Projects!$A$5:$A$2426='Local Detail'!$D$3)*(Projects!$K$5:$K$2426=0)*(Projects!$C$5:$C$2426<>'MDOT FTA Detail'!$C$4)*(Projects!$N$5:$N$2426='Local Detail'!$A114)*(Projects!$J$5:$J$2426<>'Local Detail'!$A$147)*(Projects!$M$5:$M$2426))","v":0},0,"No FF",{"$f":"SUMPRODUCT((Projects!$A$5:$A$2426='Local Detail'!$G$3)*(Projects!$K$5:$K$2426=0)*(Projects!$C$5:$C$2426<>'MDOT FTA Detail'!$C$4)*(Projects!$N$5:$N$2426='Local Detail'!$A114)*(Projects!$J$5:$J$2426<>'Local Detail'!$A$147)*(Projects!$M$5:$M$2426))","v":0},0,"No FF",{"$f":"SUMPRODUCT((Projects!$A$5:$A$2426='Local Detail'!$J$3)*(Projects!$K$5:$K$2426=0)*(Projects!$C$5:$C$2426<>'MDOT FTA Detail'!$C$4)*(Projects!$N$5:$N$2426='Local Detail'!$A114)*(Projects!$J$5:$J$2426<>'Local Detail'!$A$147)*(Projects!$M$5:$M$2426))","v":0},0,"No FF",{"$f":"SUMPRODUCT((Projects!$A$5:$A$2426='Local Detail'!$M$3)*(Projects!$K$5:$K$2426=0)*(Projects!$C$5:$C$2426<>'MDOT FTA Detail'!$C$4)*(Projects!$N$5:$N$2426='Local Detail'!$A114)*(Projects!$J$5:$J$2426<>'Local Detail'!$A$147)*(Projects!$M$5:$M$2426))","v":0},0]
["CANX","Canadian Bridge Funds","Local Non-Federal","No FF",{"$f":"SUMPRODUCT((Projects!$A$5:$A$2426='Local Detail'!$D$3)*(Projects!$K$5:$K$2426=0)*(Projects!$C$5:$C$2426<>'MDOT FTA Detail'!$C$4)*(Projects!$N$5:$N$2426='Local Detail'!$A115)*(Projects!$J$5:$J$2426<>'Local Detail'!$A$147)*(Projects!$M$5:$M$2426))","v":0},{"$f":"E115","v":0},"No FF",{"$f":"SUMPRODUCT((Projects!$A$5:$A$2426='Local Detail'!$G$3)*(Projects!$K$5:$K$2426=0)*(Projects!$C$5:$C$2426<>'MDOT FTA Detail'!$C$4)*(Projects!$N$5:$N$2426='Local Detail'!$A115)*(Projects!$J$5:$J$2426<>'Local Detail'!$A$147)*(Projects!$M$5:$M$2426))","v":0},{"$f":"H115","v":0},"No FF",{"$f":"SUMPRODUCT((Projects!$A$5:$A$2426='Local Detail'!$J$3)*(Projects!$K$5:$K$2426=0)*(Projects!$C$5:$C$2426<>'MDOT FTA Detail'!$C$4)*(Projects!$N$5:$N$2426='Local Detail'!$A115)*(Projects!$J$5:$J$2426<>'Local Detail'!$A$147)*(Projects!$M$5:$M$2426))","v":0},{"$f":"K115","v":0},"No FF",{"$f":"SUMPRODUCT((Projects!$A$5:$A$2426='Local Detail'!$M$3)*(Projects!$K$5:$K$2426=0)*(Projects!$C$5:$C$2426<>'MDOT FTA Detail'!$C$4)*(Projects!$N$5:$N$2426='Local Detail'!$A115)*(Projects!$J$5:$J$2426<>'Local Detail'!$A$147)*(Projects!$M$5:$M$2426))","v":0},{"$f":"N115","v":0}]
["EDA","Economic Development - Category A","Local Non-Federal","No FF",{"$f":"SUMPRODUCT((Projects!$A$5:$A$2426='Local Detail'!$D$3)*(Projects!$K$5:$K$2426=0)*(Projects!$C$5:$C$2426<>'MDOT FTA Detail'!$C$4)*(Projects!$N$5:$N$2426='Local Detail'!$A116)*(Projects!$J$5:$J$2426<>'Local Detail'!$A$147)*(Projects!$M$5:$M$2426))","v":0},0,"No FF",{"$f":"SUMPRODUCT((Projects!$A$5:$A$2426='Local Detail'!$G$3)*(Projects!$K$5:$K$2426=0)*(Projects!$C$5:$C$2426<>'MDOT FTA Detail'!$C$4)*(Projects!$N$5:$N$2426='Local Detail'!$A116)*(Projects!$J$5:$J$2426<>'Local Detail'!$A$147)*(Projects!$M$5:$M$2426))","v":0},0,"No FF",{"$f":"SUMPRODUCT((Projects!$A$5:$A$2426='Local Detail'!$J$3)*(Projects!$K$5:$K$2426=0)*(Projects!$C$5:$C$2426<>'MDOT FTA Detail'!$C$4)*(Projects!$N$5:$N$2426='Local Detail'!$A116)*(Projects!$J$5:$J$2426<>'Local Detail'!$A$147)*(Projects!$M$5:$M$2426))","v":0},0,"No FF",{"$f":"SUMPRODUCT((Projects!$A$5:$A$2426='Local Detail'!$M$3)*(Projects!$K$5:$K$2426=0)*(Projects!$C$5:$C$2426<>'MDOT FTA Detail'!$C$4)*(Projects!$N$5:$N$2426='Local Detail'!$A116)*(Projects!$J$5:$J$2426<>'Local Detail'!$A$147)*(Projects!$M$5:$M$2426))","v":0},0]
["EDC","Economic Development - Category C","Local Non-Federal","No FF",{"$f":"SUMPRODUCT((Projects!$A$5:$A$2426='Local Detail'!$D$3)*(Projects!$K$5:$K$2426=0)*(Projects!$C$5:$C$2426<>'MDOT FTA Detail'!$C$4)*(Projects!$N$5:$N$2426='Local Detail'!$A117)*(Projects!$J$5:$J$2426<>'Local Detail'!$A$147)*(Projects!$M$5:$M$2426))","v":0},0,"No FF",{"$f":"SUMPRODUCT((Projects!$A$5:$A$2426='Local Detail'!$G$3)*(Projects!$K$5:$K$2426=0)*(Projects!$C$5:$C$2426<>'MDOT FTA Detail'!$C$4)*(Projects!$N$5:$N$2426='Local Detail'!$A117)*(Projects!$J$5:$J$2426<>'Local Detail'!$A$147)*(Projects!$M$5:$M$2426))","v":0},0,"No FF",{"$f":"SUMPRODUCT((Projects!$A$5:$A$2426='Local Detail'!$J$3)*(Projects!$K$5:$K$2426=0)*(Projects!$C$5:$C$2426<>'MDOT FTA Detail'!$C$4)*(Projects!$N$5:$N$2426='Local Detail'!$A117)*(Projects!$J$5:$J$2426<>'Local Detail'!$A$147)*(Projects!$M$5:$M$2426))","v":0},0,"No FF",{"$f":"SUMPRODUCT((Projects!$A$5:$A$2426='Local Detail'!$M$3)*(Projects!$K$5:$K$2426=0)*(Projects!$C$5:$C$2426<>'MDOT FTA Detail'!$C$4)*(Projects!$N$5:$N$2426='Local Detail'!$A117)*(Projects!$J$5:$J$2426<>'Local Detail'!$A$147)*(Projects!$M$5:$M$2426))","v":0},0]
["EDD","Economic Development - Category D","Local Non-Federal","No FF",{"$f":"SUMPRODUCT((Projects!$A$5:$A$2426='Local Detail'!$D$3)*(Projects!$K$5:$K$2426=0)*(Projects!$C$5:$C$2426<>'MDOT FTA Detail'!$C$4)*(Projects!$N$5:$N$2426='Local Detail'!$A118)*(Projects!$J$5:$J$2426<>'Local Detail'!$A$147)*(Projects!$M$5:$M$2426))","v":0},0,"No FF",{"$f":"SUMPRODUCT((Projects!$A$5:$A$2426='Local Detail'!$G$3)*(Projects!$K$5:$K$2426=0)*(Projects!$C$5:$C$2426<>'MDOT FTA Detail'!$C$4)*(Projects!$N$5:$N$2426='Local Detail'!$A118)*(Projects!$J$5:$J$2426<>'Local Detail'!$A$147)*(Projects!$M$5:$M$2426))","v":0},0,"No FF",{"$f":"SUMPRODUCT((Projects!$A$5:$A$2426='Local Detail'!$J$3)*(Projects!$K$5:$K$2426=0)*(Projects!$C$5:$C$2426<>'MDOT FTA Detail'!$C$4)*(Projects!$N$5:$N$2426='Local Detail'!$A118)*(Projects!$J$5:$J$2426<>'Local Detail'!$A$147)*(Projects!$M$5:$M$2426))","v":0},0,"No FF",{"$f":"SUMPRODUCT((Projects!$A$5:$A$2426='Local Detail'!$M$3)*(Projects!$K$5:$K$2426=0)*(Projects!$C$5:$C$2426<>'MDOT FTA Detail'!$C$4)*(Projects!$N$5:$N$2426='Local Detail'!$A118)*(Projects!$J$5:$J$2426<>'Local Detail'!$A$147)*(Projects!$M$5:$M$2426))","v":0},0]
["EDF","Economic Development - Category F","Local Non-Federal","No FF",{"$f":"SUMPRODUCT((Projects!$A$5:$A$2426='Local Detail'!$D$3)*(Projects!$K$5:$K$2426=0)*(Projects!$C$5:$C$2426<>'MDOT FTA Detail'!$C$4)*(Projects!$N$5:$N$2426='Local Detail'!$A119)*(Projects!$J$5:$J$2426<>'Local Detail'!$A$147)*(Projects!$M$5:$M$2426))","v":0},0,"No FF",{"$f":"SUMPRODUCT((Projects!$A$5:$A$2426='Local Detail'!$G$3)*(Projects!$K$5:$K$2426=0)*(Projects!$C$5:$C$2426<>'MDOT FTA Detail'!$C$4)*(Projects!$N$5:$N$2426='Local Detail'!$A119)*(Projects!$J$5:$J$2426<>'Local Detail'!$A$147)*(Projects!$M$5:$M$2426))","v":0},0,"No FF",{"$f":"SUMPRODUCT((Projects!$A$5:$A$2426='Local Detail'!$J$3)*(Projects!$K$5:$K$2426=0)*(Projects!$C$5:$C$2426<>'MDOT FTA Detail'!$C$4)*(Projects!$N$5:$N$2426='Local Detail'!$A119)*(Projects!$J$5:$J$2426<>'Local Detail'!$A$147)*(Projects!$M$5:$M$2426))","v":0},0,"No FF",{"$f":"SUMPRODUCT((Projects!$A$5:$A$2426='Local Detail'!$M$3)*(Projects!$K$5:$K$2426=0)*(Projects!$C$5:$C$2426<>'MDOT FTA Detail'!$C$4)*(Projects!$N$5:$N$2426='Local Detail'!$A119)*(Projects!$J$5:$J$2426<>'Local Detail'!$A$147)*(Projects!$M$5:$M$2426))","v":0},0]
["GF15","General Fund 2015","Local Non-Federal","No FF",{"$f":"SUMPRODUCT((Projects!$A$5:$A$2426='Local Detail'!$D$3)*(Projects!$K$5:$K$2426=0)*(Projects!$C$5:$C$2426<>'MDOT FTA Detail'!$C$4)*(Projects!$N$5:$N$2426='Local Detail'!$A120)*(Projects!$J$5:$J$2426<>'Local Detail'!$A$147)*(Projects!$M$5:$M$2426))","v":0},{"$f":"E120","v":0},"No FF",{"$f":"SUMPRODUCT((Projects!$A$5:$A$2426='Local Detail'!$G$3)*(Projects!$K$5:$K$2426=0)*(Projects!$C$5:$C$2426<>'MDOT FTA Detail'!$C$4)*(Projects!$N$5:$N$2426='Local Detail'!$A120)*(Projects!$J$5:$J$2426<>'Local Detail'!$A$147)*(Projects!$M$5:$M$2426))","v":0},{"$f":"H120","v":0},"No FF",{"$f":"SUMPRODUCT((Projects!$A$5:$A$2426='Local Detail'!$J$3)*(Projects!$K$5:$K$2426=0)*(Projects!$C$5:$C$2426<>'MDOT FTA Detail'!$C$4)*(Projects!$N$5:$N$2426='Local Detail'!$A120)*(Projects!$J$5:$J$2426<>'Local Detail'!$A$147)*(Projects!$M$5:$M$2426))","v":0},{"$f":"K120","v":0},"No FF",{"$f":"SUMPRODUCT((Projects!$A$5:$A$2426='Local Detail'!$M$3)*(Projects!$K$5:$K$2426=0)*(Projects!$C$5:$C$2426<>'MDOT FTA Detail'!$C$4)*(Projects!$N$5:$N$2426='Local Detail'!$A120)*(Projects!$J$5:$J$2426<>'Local Detail'!$A$147)*(Projects!$M$5:$M$2426))","v":0},{"$f":"N120","v":0}]
["GF16","General Fund 2016","Local Non-Federal","No FF",{"$f":"SUMPRODUCT((Projects!$A$5:$A$2426='Local Detail'!$D$3)*(Projects!$K$5:$K$2426=0)*(Projects!$C$5:$C$2426<>'MDOT FTA Detail'!$C$4)*(Projects!$N$5:$N$2426='Local Detail'!$A121)*(Projects!$J$5:$J$2426<>'Local Detail'!$A$147)*(Projects!$M$5:$M$2426))","v":0},0,"No FF",{"$f":"SUMPRODUCT((Projects!$A$5:$A$2426='Local Detail'!$G$3)*(Projects!$K$5:$K$2426=0)*(Projects!$C$5:$C$2426<>'MDOT FTA Detail'!$C$4)*(Projects!$N$5:$N$2426='Local Detail'!$A121)*(Projects!$J$5:$J$2426<>'Local Detail'!$A$147)*(Projects!$M$5:$M$2426))","v":0},0,"No FF",{"$f":"SUMPRODUCT((Projects!$A$5:$A$2426='Local Detail'!$J$3)*(Projects!$K$5:$K$2426=0)*(Projects!$C$5:$C$2426<>'MDOT FTA Detail'!$C$4)*(Projects!$N$5:$N$2426='Local Detail'!$A121)*(Projects!$J$5:$J$2426<>'Local Detail'!$A$147)*(Projects!$M$5:$M$2426))","v":0},0,"No FF",{"$f":"SUMPRODUCT((Projects!$A$5:$A$2426='Local Detail'!$M$3)*(Projects!$K$5:$K$2426=0)*(Projects!$C$5:$C$2426<>'MDOT FTA Detail'!$C$4)*(Projects!$N$5:$N$2426='Local Detail'!$A121)*(Projects!$J$5:$J$2426<>'Local Detail'!$A$147)*(Projects!$M$5:$M$2426))","v":0},0]
["JT07","Jobs Today Bond Issue 2007 GARVEE (State AC for Federal GARVEE Bonds)","Local Non-Federal","No FF",{"$f":"SUMPRODUCT((Projects!$A$5:$A$2426='Local Detail'!$D$3)*(Projects!$K$5:$K$2426=0)*(Projects!$C$5:$C$2426<>'MDOT FTA Detail'!$C$4)*(Projects!$N$5:$N$2426='Local Detail'!$A122)*(Projects!$J$5:$J$2426<>'Local Detail'!$A$147)*(Projects!$M$5:$M$2426))","v":0},0,"No FF",{"$f":"SUMPRODUCT((Projects!$A$5:$A$2426='Local Detail'!$G$3)*(Projects!$K$5:$K$2426=0)*(Projects!$C$5:$C$2426<>'MDOT FTA Detail'!$C$4)*(Projects!$N$5:$N$2426='Local Detail'!$A122)*(Projects!$J$5:$J$2426<>'Local Detail'!$A$147)*(Projects!$M$5:$M$2426))","v":0},0,"No FF",{"$f":"SUMPRODUCT((Projects!$A$5:$A$2426='Local Detail'!$J$3)*(Projects!$K$5:$K$2426=0)*(Projects!$C$5:$C$2426<>'MDOT FTA Detail'!$C$4)*(Projects!$N$5:$N$2426='Local Detail'!$A122)*(Projects!$J$5:$J$2426<>'Local Detail'!$A$147)*(Projects!$M$5:$M$2426))","v":0},0,"No FF",{"$f":"SUMPRODUCT((Projects!$A$5:$A$2426='Local Detail'!$M$3)*(Projects!$K$5:$K$2426=0)*(Projects!$C$5:$C$2426<>'MDOT FTA Detail'!$C$4)*(Projects!$N$5:$N$2426='Local Detail'!$A122)*(Projects!$J$5:$J$2426<>'Local Detail'!$A$147)*(Projects!$M$5:$M$2426))","v":0},0]
["LFMP","Local Fund Match Program - 100% Local","Local Non-Federal","No FF",{"$f":"SUMPRODUCT((Projects!$A$5:$A$2426='Local Detail'!$D$3)*(Projects!$K$5:$K$2426=0)*(Projects!$C$5:$C$2426<>'MDOT FTA Detail'!$C$4)*(Projects!$N$5:$N$2426='Local Detail'!$A123)*(Projects!$J$5:$J$2426<>'Local Detail'!$A$147)*(Projects!$M$5:$M$2426))","v":0},0,"No FF",{"$f":"SUMPRODUCT((Projects!$A$5:$A$2426='Local Detail'!$G$3)*(Projects!$K$5:$K$2426=0)*(Projects!$C$5:$C$2426<>'MDOT FTA Detail'!$C$4)*(Projects!$N$5:$N$2426='Local Detail'!$A123)*(Projects!$J$5:$J$2426<>'Local Detail'!$A$147)*(Projects!$M$5:$M$2426))","v":0},0,"No FF",{"$f":"SUMPRODUCT((Projects!$A$5:$A$2426='Local Detail'!$J$3)*(Projects!$K$5:$K$2426=0)*(Projects!$C$5:$C$2426<>'MDOT FTA Detail'!$C$4)*(Projects!$N$5:$N$2426='Local Detail'!$A123)*(Projects!$J$5:$J$2426<>'Local Detail'!$A$147)*(Projects!$M$5:$M$2426))","v":0},0,"No FF",{"$f":"SUMPRODUCT((Projects!$A$5:$A$2426='Local Detail'!$M$3)*(Projects!$K$5:$K$2426=0)*(Projects!$C$5:$C$2426<>'MDOT FTA Detail'!$C$4)*(Projects!$N$5:$N$2426='Local Detail'!$A123)*(Projects!$J$5:$J$2426<>'Local Detail'!$A$147)*(Projects!$M$5:$M$2426))","v":0},0]
["M","State Funds - Michigan Betterment","Local Non-Federal","No FF",{"$f":"SUMPRODUCT((Projects!$A$5:$A$2426='Local Detail'!$D$3)*(Projects!$K$5:$K$2426=0)*(Projects!$C$5:$C$2426<>'MDOT FTA Detail'!$C$4)*(Projects!$N$5:$N$2426='Local Detail'!$A124)*(Projects!$J$5:$J$2426<>'Local Detail'!$A$147)*(Projects!$M$5:$M$2426))","v":0},0,"No FF",{"$f":"SUMPRODUCT((Projects!$A$5:$A$2426='Local Detail'!$G$3)*(Projects!$K$5:$K$2426=0)*(Projects!$C$5:$C$2426<>'MDOT FTA Detail'!$C$4)*(Projects!$N$5:$N$2426='Local Detail'!$A124)*(Projects!$J$5:$J$2426<>'Local Detail'!$A$147)*(Projects!$M$5:$M$2426))","v":0},0,"No FF",{"$f":"SUMPRODUCT((Projects!$A$5:$A$2426='Local Detail'!$J$3)*(Projects!$K$5:$K$2426=0)*(Projects!$C$5:$C$2426<>'MDOT FTA Detail'!$C$4)*(Projects!$N$5:$N$2426='Local Detail'!$A124)*(Projects!$J$5:$J$2426<>'Local Detail'!$A$147)*(Projects!$M$5:$M$2426))","v":0},0,"No FF",{"$f":"SUMPRODUCT((Projects!$A$5:$A$2426='Local Detail'!$M$3)*(Projects!$K$5:$K$2426=0)*(Projects!$C$5:$C$2426<>'MDOT FTA Detail'!$C$4)*(Projects!$N$5:$N$2426='Local Detail'!$A124)*(Projects!$J$5:$J$2426<>'Local Detail'!$A$147)*(Projects!$M$5:$M$2426))","v":0},0]
["MBS","Michigan Budget Stabilization","Local Non-Federal","No FF",{"$f":"SUMPRODUCT((Projects!$A$5:$A$2426='Local Detail'!$D$3)*(Projects!$K$5:$K$2426=0)*(Projects!$C$5:$C$2426<>'MDOT FTA Detail'!$C$4)*(Projects!$N$5:$N$2426='Local Detail'!$A125)*(Projects!$J$5:$J$2426<>'Local Detail'!$A$147)*(Projects!$M$5:$M$2426))","v":0},0,"No FF",{"$f":"SUMPRODUCT((Projects!$A$5:$A$2426='Local Detail'!$G$3)*(Projects!$K$5:$K$2426=0)*(Projects!$C$5:$C$2426<>'MDOT FTA Detail'!$C$4)*(Projects!$N$5:$N$2426='Local Detail'!$A125)*(Projects!$J$5:$J$2426<>'Local Detail'!$A$147)*(Projects!$M$5:$M$2426))","v":0},0,"No FF",{"$f":"SUMPRODUCT((Projects!$A$5:$A$2426='Local Detail'!$J$3)*(Projects!$K$5:$K$2426=0)*(Projects!$C$5:$C$2426<>'MDOT FTA Detail'!$C$4)*(Projects!$N$5:$N$2426='Local Detail'!$A125)*(Projects!$J$5:$J$2426<>'Local Detail'!$A$147)*(Projects!$M$5:$M$2426))","v":0},0,"No FF",{"$f":"SUMPRODUCT((Projects!$A$5:$A$2426='Local Detail'!$M$3)*(Projects!$K$5:$K$2426=0)*(Projects!$C$5:$C$2426<>'MDOT FTA Detail'!$C$4)*(Projects!$N$5:$N$2426='Local Detail'!$A125)*(Projects!$J$5:$J$2426<>'Local Detail'!$A$147)*(Projects!$M$5:$M$2426))","v":0},0]
["MBWB","Michigan Blue Water Bridge","Local Non-Federal","No FF",{"$f":"SUMPRODUCT((Projects!$A$5:$A$2426='Local Detail'!$D$3)*(Projects!$K$5:$K$2426=0)*(Projects!$C$5:$C$2426<>'MDOT FTA Detail'!$C$4)*(Projects!$N$5:$N$2426='Local Detail'!$A126)*(Projects!$J$5:$J$2426<>'Local Detail'!$A$147)*(Projects!$M$5:$M$2426))","v":0},0,"No FF",{"$f":"SUMPRODUCT((Projects!$A$5:$A$2426='Local Detail'!$G$3)*(Projects!$K$5:$K$2426=0)*(Projects!$C$5:$C$2426<>'MDOT FTA Detail'!$C$4)*(Projects!$N$5:$N$2426='Local Detail'!$A126)*(Projects!$J$5:$J$2426<>'Local Detail'!$A$147)*(Projects!$M$5:$M$2426))","v":0},0,"No FF",{"$f":"SUMPRODUCT((Projects!$A$5:$A$2426='Local Detail'!$J$3)*(Projects!$K$5:$K$2426=0)*(Projects!$C$5:$C$2426<>'MDOT FTA Detail'!$C$4)*(Projects!$N$5:$N$2426='Local Detail'!$A126)*(Projects!$J$5:$J$2426<>'Local Detail'!$A$147)*(Projects!$M$5:$M$2426))","v":0},0,"No FF",{"$f":"SUMPRODUCT((Projects!$A$5:$A$2426='Local Detail'!$M$3)*(Projects!$K$5:$K$2426=0)*(Projects!$C$5:$C$2426<>'MDOT FTA Detail'!$C$4)*(Projects!$N$5:$N$2426='Local Detail'!$A126)*(Projects!$J$5:$J$2426<>'Local Detail'!$A$147)*(Projects!$M$5:$M$2426))","v":0},0]
["MCS","State Funds - Critical Structures","Local Non-Federal","No FF",{"$f":"SUMPRODUCT((Projects!$A$5:$A$2426='Local Detail'!$D$3)*(Projects!$K$5:$K$2426=0)*(Projects!$C$5:$C$2426<>'MDOT FTA Detail'!$C$4)*(Projects!$N$5:$N$2426='Local Detail'!$A127)*(Projects!$J$5:$J$2426<>'Local Detail'!$A$147)*(Projects!$M$5:$M$2426))","v":0},0,"No FF",{"$f":"SUMPRODUCT((Projects!$A$5:$A$2426='Local Detail'!$G$3)*(Projects!$K$5:$K$2426=0)*(Projects!$C$5:$C$2426<>'MDOT FTA Detail'!$C$4)*(Projects!$N$5:$N$2426='Local Detail'!$A127)*(Projects!$J$5:$J$2426<>'Local Detail'!$A$147)*(Projects!$M$5:$M$2426))","v":0},0,"No FF",{"$f":"SUMPRODUCT((Projects!$A$5:$A$2426='Local Detail'!$J$3)*(Projects!$K$5:$K$2426=0)*(Projects!$C$5:$C$2426<>'MDOT FTA Detail'!$C$4)*(Projects!$N$5:$N$2426='Local Detail'!$A127)*(Projects!$J$5:$J$2426<>'Local Detail'!$A$147)*(Projects!$M$5:$M$2426))","v":0},0,"No FF",{"$f":"SUMPRODUCT((Projects!$A$5:$A$2426='Local Detail'!$M$3)*(Projects!$K$5:$K$2426=0)*(Projects!$C$5:$C$2426<>'MDOT FTA Detail'!$C$4)*(Projects!$N$5:$N$2426='Local Detail'!$A127)*(Projects!$J$5:$J$2426<>'Local Detail'!$A$147)*(Projects!$M$5:$M$2426))","v":0},0]
["MDA","Drainage Assessment","Local Non-Federal","No FF",{"$f":"SUMPRODUCT((Projects!$A$5:$A$2426='Local Detail'!$D$3)*(Projects!$K$5:$K$2426=0)*(Projects!$C$5:$C$2426<>'MDOT FTA Detail'!$C$4)*(Projects!$N$5:$N$2426='Local Detail'!$A128)*(Projects!$J$5:$J$2426<>'Local Detail'!$A$147)*(Projects!$M$5:$M$2426))","v":0},0,"No FF",{"$f":"SUMPRODUCT((Projects!$A$5:$A$2426='Local Detail'!$G$3)*(Projects!$K$5:$K$2426=0)*(Projects!$C$5:$C$2426<>'MDOT FTA Detail'!$C$4)*(Projects!$N$5:$N$2426='Local Detail'!$A128)*(Projects!$J$5:$J$2426<>'Local Detail'!$A$147)*(Projects!$M$5:$M$2426))","v":0},0,"No FF",{"$f":"SUMPRODUCT((Projects!$A$5:$A$2426='Local Detail'!$J$3)*(Projects!$K$5:$K$2426=0)*(Projects!$C$5:$C$2426<>'MDOT FTA Detail'!$C$4)*(Projects!$N$5:$N$2426='Local Detail'!$A128)*(Projects!$J$5:$J$2426<>'Local Detail'!$A$147)*(Projects!$M$5:$M$2426))","v":0},0,"No FF",{"$f":"SUMPRODUCT((Projects!$A$5:$A$2426='Local Detail'!$M$3)*(Projects!$K$5:$K$2426=0)*(Projects!$C$5:$C$2426<>'MDOT FTA Detail'!$C$4)*(Projects!$N$5:$N$2426='Local Detail'!$A128)*(Projects!$J$5:$J$2426<>'Local Detail'!$A$147)*(Projects!$M$5:$M$2426))","v":0},0]
["MER","Emergency Program","Local Non-Federal","No FF",{"$f":"SUMPRODUCT((Projects!$A$5:$A$2426='Local Detail'!$D$3)*(Projects!$K$5:$K$2426=0)*(Projects!$C$5:$C$2426<>'MDOT FTA Detail'!$C$4)*(Projects!$N$5:$N$2426='Local Detail'!$A129)*(Projects!$J$5:$J$2426<>'Local Detail'!$A$147)*(Projects!$M$5:$M$2426))","v":0},0,"No FF",{"$f":"SUMPRODUCT((Projects!$A$5:$A$2426='Local Detail'!$G$3)*(Projects!$K$5:$K$2426=0)*(Projects!$C$5:$C$2426<>'MDOT FTA Detail'!$C$4)*(Projects!$N$5:$N$2426='Local Detail'!$A129)*(Projects!$J$5:$J$2426<>'Local Detail'!$A$147)*(Projects!$M$5:$M$2426))","v":0},0,"No FF",{"$f":"SUMPRODUCT((Projects!$A$5:$A$2426='Local Detail'!$J$3)*(Projects!$K$5:$K$2426=0)*(Projects!$C$5:$C$2426<>'MDOT FTA Detail'!$C$4)*(Projects!$N$5:$N$2426='Local Detail'!$A129)*(Projects!$J$5:$J$2426<>'Local Detail'!$A$147)*(Projects!$M$5:$M$2426))","v":0},0,"No FF",{"$f":"SUMPRODUCT((Projects!$A$5:$A$2426='Local Detail'!$M$3)*(Projects!$K$5:$K$2426=0)*(Projects!$C$5:$C$2426<>'MDOT FTA Detail'!$C$4)*(Projects!$N$5:$N$2426='Local Detail'!$A129)*(Projects!$J$5:$J$2426<>'Local Detail'!$A$147)*(Projects!$M$5:$M$2426))","v":0},0]
["MIR","State Funds - Institutional Roads","Local Non-Federal","No FF",{"$f":"SUMPRODUCT((Projects!$A$5:$A$2426='Local Detail'!$D$3)*(Projects!$K$5:$K$2426=0)*(Projects!$C$5:$C$2426<>'MDOT FTA Detail'!$C$4)*(Projects!$N$5:$N$2426='Local Detail'!$A130)*(Projects!$J$5:$J$2426<>'Local Detail'!$A$147)*(Projects!$M$5:$M$2426))","v":0},0,"No FF",{"$f":"SUMPRODUCT((Projects!$A$5:$A$2426='Local Detail'!$G$3)*(Projects!$K$5:$K$2426=0)*(Projects!$C$5:$C$2426<>'MDOT FTA Detail'!$C$4)*(Projects!$N$5:$N$2426='Local Detail'!$A130)*(Projects!$J$5:$J$2426<>'Local Detail'!$A$147)*(Projects!$M$5:$M$2426))","v":0},0,"No FF",{"$f":"SUMPRODUCT((Projects!$A$5:$A$2426='Local Detail'!$J$3)*(Projects!$K$5:$K$2426=0)*(Projects!$C$5:$C$2426<>'MDOT FTA Detail'!$C$4)*(Projects!$N$5:$N$2426='Local Detail'!$A130)*(Projects!$J$5:$J$2426<>'Local Detail'!$A$147)*(Projects!$M$5:$M$2426))","v":0},0,"No FF",{"$f":"SUMPRODUCT((Projects!$A$5:$A$2426='Local Detail'!$M$3)*(Projects!$K$5:$K$2426=0)*(Projects!$C$5:$C$2426<>'MDOT FTA Detail'!$C$4)*(Projects!$N$5:$N$2426='Local Detail'!$A130)*(Projects!$J$5:$J$2426<>'Local Detail'!$A$147)*(Projects!$M$5:$M$2426))","v":0},0]
["MRR","Michigan Railroad","Local Non-Federal","No FF",{"$f":"SUMPRODUCT((Projects!$A$5:$A$2426='Local Detail'!$D$3)*(Projects!$K$5:$K$2426=0)*(Projects!$C$5:$C$2426<>'MDOT FTA Detail'!$C$4)*(Projects!$N$5:$N$2426='Local Detail'!$A131)*(Projects!$J$5:$J$2426<>'Local Detail'!$A$147)*(Projects!$M$5:$M$2426))","v":37463},37463,"No FF",{"$f":"SUMPRODUCT((Projects!$A$5:$A$2426='Local Detail'!$G$3)*(Projects!$K$5:$K$2426=0)*(Projects!$C$5:$C$2426<>'MDOT FTA Detail'!$C$4)*(Projects!$N$5:$N$2426='Local Detail'!$A131)*(Projects!$J$5:$J$2426<>'Local Detail'!$A$147)*(Projects!$M$5:$M$2426))","v":0},0,"No FF",{"$f":"SUMPRODUCT((Projects!$A$5:$A$2426='Local Detail'!$J$3)*(Projects!$K$5:$K$2426=0)*(Projects!$C$5:$C$2426<>'MDOT FTA Detail'!$C$4)*(Projects!$N$5:$N$2426='Local Detail'!$A131)*(Projects!$J$5:$J$2426<>'Local Detail'!$A$147)*(Projects!$M$5:$M$2426))","v":0},0,"No FF",{"$f":"SUMPRODUCT((Projects!$A$5:$A$2426='Local Detail'!$M$3)*(Projects!$K$5:$K$2426=0)*(Projects!$C$5:$C$2426<>'MDOT FTA Detail'!$C$4)*(Projects!$N$5:$N$2426='Local Detail'!$A131)*(Projects!$J$5:$J$2426<>'Local Detail'!$A$147)*(Projects!$M$5:$M$2426))","v":0},0]
["MRRF","Michigan Revolving Real Estate Fund","Local Non-Federal","No FF",{"$f":"SUMPRODUCT((Projects!$A$5:$A$2426='Local Detail'!$D$3)*(Projects!$K$5:$K$2426=0)*(Projects!$C$5:$C$2426<>'MDOT FTA Detail'!$C$4)*(Projects!$N$5:$N$2426='Local Detail'!$A132)*(Projects!$J$5:$J$2426<>'Local Detail'!$A$147)*(Projects!$M$5:$M$2426))","v":0},0,"No FF",{"$f":"SUMPRODUCT((Projects!$A$5:$A$2426='Local Detail'!$G$3)*(Projects!$K$5:$K$2426=0)*(Projects!$C$5:$C$2426<>'MDOT FTA Detail'!$C$4)*(Projects!$N$5:$N$2426='Local Detail'!$A132)*(Projects!$J$5:$J$2426<>'Local Detail'!$A$147)*(Projects!$M$5:$M$2426))","v":0},0,"No FF",{"$f":"SUMPRODUCT((Projects!$A$5:$A$2426='Local Detail'!$J$3)*(Projects!$K$5:$K$2426=0)*(Projects!$C$5:$C$2426<>'MDOT FTA Detail'!$C$4)*(Projects!$N$5:$N$2426='Local Detail'!$A132)*(Projects!$J$5:$J$2426<>'Local Detail'!$A$147)*(Projects!$M$5:$M$2426))","v":0},0,"No FF",{"$f":"SUMPRODUCT((Projects!$A$5:$A$2426='Local Detail'!$M$3)*(Projects!$K$5:$K$2426=0)*(Projects!$C$5:$C$2426<>'MDOT FTA Detail'!$C$4)*(Projects!$N$5:$N$2426='Local Detail'!$A132)*(Projects!$J$5:$J$2426<>'Local Detail'!$A$147)*(Projects!$M$5:$M$2426))","v":0},0]
["MS","Safety Program","Local Non-Federal","No FF",{"$f":"SUMPRODUCT((Projects!$A$5:$A$2426='Local Detail'!$D$3)*(Projects!$K$5:$K$2426=0)*(Projects!$C$5:$C$2426<>'MDOT FTA Detail'!$C$4)*(Projects!$N$5:$N$2426='Local Detail'!$A133)*(Projects!$J$5:$J$2426<>'Local Detail'!$A$147)*(Projects!$M$5:$M$2426))","v":0},0,"No FF",{"$f":"SUMPRODUCT((Projects!$A$5:$A$2426='Local Detail'!$G$3)*(Projects!$K$5:$K$2426=0)*(Projects!$C$5:$C$2426<>'MDOT FTA Detail'!$C$4)*(Projects!$N$5:$N$2426='Local Detail'!$A133)*(Projects!$J$5:$J$2426<>'Local Detail'!$A$147)*(Projects!$M$5:$M$2426))","v":0},0,"No FF",{"$f":"SUMPRODUCT((Projects!$A$5:$A$2426='Local Detail'!$J$3)*(Projects!$K$5:$K$2426=0)*(Projects!$C$5:$C$2426<>'MDOT FTA Detail'!$C$4)*(Projects!$N$5:$N$2426='Local Detail'!$A133)*(Projects!$J$5:$J$2426<>'Local Detail'!$A$147)*(Projects!$M$5:$M$2426))","v":0},0,"No FF",{"$f":"SUMPRODUCT((Projects!$A$5:$A$2426='Local Detail'!$M$3)*(Projects!$K$5:$K$2426=0)*(Projects!$C$5:$C$2426<>'MDOT FTA Detail'!$C$4)*(Projects!$N$5:$N$2426='Local Detail'!$A133)*(Projects!$J$5:$J$2426<>'Local Detail'!$A$147)*(Projects!$M$5:$M$2426))","v":0},0]
["MTB","Turnback Program","Local Non-Federal","No FF",{"$f":"SUMPRODUCT((Projects!$A$5:$A$2426='Local Detail'!$D$3)*(Projects!$K$5:$K$2426=0)*(Projects!$C$5:$C$2426<>'MDOT FTA Detail'!$C$4)*(Projects!$N$5:$N$2426='Local Detail'!$A134)*(Projects!$J$5:$J$2426<>'Local Detail'!$A$147)*(Projects!$M$5:$M$2426))","v":0},0,"No FF",{"$f":"SUMPRODUCT((Projects!$A$5:$A$2426='Local Detail'!$G$3)*(Projects!$K$5:$K$2426=0)*(Projects!$C$5:$C$2426<>'MDOT FTA Detail'!$C$4)*(Projects!$N$5:$N$2426='Local Detail'!$A134)*(Projects!$J$5:$J$2426<>'Local Detail'!$A$147)*(Projects!$M$5:$M$2426))","v":0},0,"No FF",{"$f":"SUMPRODUCT((Projects!$A$5:$A$2426='Local Detail'!$J$3)*(Projects!$K$5:$K$2426=0)*(Projects!$C$5:$C$2426<>'MDOT FTA Detail'!$C$4)*(Projects!$N$5:$N$2426='Local Detail'!$A134)*(Projects!$J$5:$J$2426<>'Local Detail'!$A$147)*(Projects!$M$5:$M$2426))","v":0},0,"No FF",{"$f":"SUMPRODUCT((Projects!$A$5:$A$2426='Local Detail'!$M$3)*(Projects!$K$5:$K$2426=0)*(Projects!$C$5:$C$2426<>'MDOT FTA Detail'!$C$4)*(Projects!$N$5:$N$2426='Local Detail'!$A134)*(Projects!$J$5:$J$2426<>'Local Detail'!$A$147)*(Projects!$M$5:$M$2426))","v":0},0]
["PRIP","Priority Roads Investment Program","Local Non-Federal","No FF",{"$f":"SUMPRODUCT((Projects!$A$5:$A$2426='Local Detail'!$D$3)*(Projects!$K$5:$K$2426=0)*(Projects!$C$5:$C$2426<>'MDOT FTA Detail'!$C$4)*(Projects!$N$5:$N$2426='Local Detail'!$A135)*(Projects!$J$5:$J$2426<>'Local Detail'!$A$147)*(Projects!$M$5:$M$2426))","v":0},{"$f":"E135","v":0},"No FF",{"$f":"SUMPRODUCT((Projects!$A$5:$A$2426='Local Detail'!$G$3)*(Projects!$K$5:$K$2426=0)*(Projects!$C$5:$C$2426<>'MDOT FTA Detail'!$C$4)*(Projects!$N$5:$N$2426='Local Detail'!$A135)*(Projects!$J$5:$J$2426<>'Local Detail'!$A$147)*(Projects!$M$5:$M$2426))","v":0},{"$f":"H135","v":0},"No FF",{"$f":"SUMPRODUCT((Projects!$A$5:$A$2426='Local Detail'!$J$3)*(Projects!$K$5:$K$2426=0)*(Projects!$C$5:$C$2426<>'MDOT FTA Detail'!$C$4)*(Projects!$N$5:$N$2426='Local Detail'!$A135)*(Projects!$J$5:$J$2426<>'Local Detail'!$A$147)*(Projects!$M$5:$M$2426))","v":0},{"$f":"K135","v":0},"No FF",{"$f":"SUMPRODUCT((Projects!$A$5:$A$2426='Local Detail'!$M$3)*(Projects!$K$5:$K$2426=0)*(Projects!$C$5:$C$2426<>'MDOT FTA Detail'!$C$4)*(Projects!$N$5:$N$2426='Local Detail'!$A135)*(Projects!$J$5:$J$2426<>'Local Detail'!$A$147)*(Projects!$M$5:$M$2426))","v":0},{"$f":"N135","v":0}]
["RRRF","Michigan Road and Risk Reserver Funds","Local Non-Federal","No FF",{"$f":"SUMPRODUCT((Projects!$A$5:$A$2426='Local Detail'!$D$3)*(Projects!$K$5:$K$2426=0)*(Projects!$C$5:$C$2426<>'MDOT FTA Detail'!$C$4)*(Projects!$N$5:$N$2426='Local Detail'!$A136)*(Projects!$J$5:$J$2426<>'Local Detail'!$A$147)*(Projects!$M$5:$M$2426))","v":0},{"$f":"E136","v":0},"No FF",{"$f":"SUMPRODUCT((Projects!$A$5:$A$2426='Local Detail'!$G$3)*(Projects!$K$5:$K$2426=0)*(Projects!$C$5:$C$2426<>'MDOT FTA Detail'!$C$4)*(Projects!$N$5:$N$2426='Local Detail'!$A136)*(Projects!$J$5:$J$2426<>'Local Detail'!$A$147)*(Projects!$M$5:$M$2426))","v":0},{"$f":"H136","v":0},"No FF",{"$f":"SUMPRODUCT((Projects!$A$5:$A$2426='Local Detail'!$J$3)*(Projects!$K$5:$K$2426=0)*(Projects!$C$5:$C$2426<>'MDOT FTA Detail'!$C$4)*(Projects!$N$5:$N$2426='Local Detail'!$A136)*(Projects!$J$5:$J$2426<>'Local Detail'!$A$147)*(Projects!$M$5:$M$2426))","v":0},{"$f":"K136","v":0},"No FF",{"$f":"SUMPRODUCT((Projects!$A$5:$A$2426='Local Detail'!$M$3)*(Projects!$K$5:$K$2426=0)*(Projects!$C$5:$C$2426<>'MDOT FTA Detail'!$C$4)*(Projects!$N$5:$N$2426='Local Detail'!$A136)*(Projects!$J$5:$J$2426<>'Local Detail'!$A$147)*(Projects!$M$5:$M$2426))","v":0},{"$f":"N136","v":0}]
["SIBG","100% State Infrastructure Bank","Local Non-Federal","No FF",{"$f":"SUMPRODUCT((Projects!$A$5:$A$2426='Local Detail'!$D$3)*(Projects!$K$5:$K$2426=0)*(Projects!$C$5:$C$2426<>'MDOT FTA Detail'!$C$4)*(Projects!$N$5:$N$2426='Local Detail'!$A137)*(Projects!$J$5:$J$2426<>'Local Detail'!$A$147)*(Projects!$M$5:$M$2426))","v":0},0,"No FF",{"$f":"SUMPRODUCT((Projects!$A$5:$A$2426='Local Detail'!$G$3)*(Projects!$K$5:$K$2426=0)*(Projects!$C$5:$C$2426<>'MDOT FTA Detail'!$C$4)*(Projects!$N$5:$N$2426='Local Detail'!$A137)*(Projects!$J$5:$J$2426<>'Local Detail'!$A$147)*(Projects!$M$5:$M$2426))","v":0},0,"No FF",{"$f":"SUMPRODUCT((Projects!$A$5:$A$2426='Local Detail'!$J$3)*(Projects!$K$5:$K$2426=0)*(Projects!$C$5:$C$2426<>'MDOT FTA Detail'!$C$4)*(Projects!$N$5:$N$2426='Local Detail'!$A137)*(Projects!$J$5:$J$2426<>'Local Detail'!$A$147)*(Projects!$M$5:$M$2426))","v":0},0,"No FF",{"$f":"SUMPRODUCT((Projects!$A$5:$A$2426='Local Detail'!$M$3)*(Projects!$K$5:$K$2426=0)*(Projects!$C$5:$C$2426<>'MDOT FTA Detail'!$C$4)*(Projects!$N$5:$N$2426='Local Detail'!$A137)*(Projects!$J$5:$J$2426<>'Local Detail'!$A$147)*(Projects!$M$5:$M$2426))","v":0},0]
["CITY","Local - City (Specify city in Comments)","Local Non-Federal","No FF",{"$f":"SUMPRODUCT((Projects!$A$5:$A$2426='Local Detail'!$D$3)*(Projects!$K$5:$K$2426=0)*(Projects!$C$5:$C$2426<>'MDOT FTA Detail'!$C$4)*(Projects!$P$5:$P$2426='Local Detail'!$A138)*(Projects!$J$5:$J$2426<>'Local Detail'!$A$147)*(Projects!$O$5:$O$2426))","v":0},0,"No FF",{"$f":"SUMPRODUCT((Projects!$A$5:$A$2426='Local Detail'!$G$3)*(Projects!$K$5:$K$2426=0)*(Projects!$C$5:$C$2426<>'MDOT FTA Detail'!$C$4)*(Projects!$P$5:$P$2426='Local Detail'!$A138)*(Projects!$N$5:$N$2426<>'Local Detail'!$A$110)*(Projects!$J$5:$J$2426<>'Local Detail'!$A$147)*(Projects!$O$5:$O$2426))","v":0},{"$f":"H138","v":0},"No FF",{"$f":"SUMPRODUCT((Projects!$A$5:$A$2426='Local Detail'!$J$3)*(Projects!$K$5:$K$2426=0)*(Projects!$C$5:$C$2426<>'MDOT FTA Detail'!$C$4)*(Projects!$P$5:$P$2426='Local Detail'!$A138)*(Projects!$N$5:$N$2426<>'Local Detail'!$A$110)*(Projects!$J$5:$J$2426<>'Local Detail'!$A$147)*(Projects!$O$5:$O$2426))","v":0},0,"No FF",{"$f":"SUMPRODUCT((Projects!$A$5:$A$2426='Local Detail'!$M$3)*(Projects!$K$5:$K$2426=0)*(Projects!$C$5:$C$2426<>'MDOT FTA Detail'!$C$4)*(Projects!$P$5:$P$2426='Local Detail'!$A138)*(Projects!$N$5:$N$2426<>'Local Detail'!$A$110)*(Projects!$J$5:$J$2426<>'Local Detail'!$A$147)*(Projects!$O$5:$O$2426))","v":0},0]
["CANX","Canadian Bridge Funds","Local Non-Federal","No FF",{"$f":"SUMPRODUCT((Projects!$A$5:$A$2426='Local Detail'!$D$3)*(Projects!$K$5:$K$2426=0)*(Projects!$C$5:$C$2426<>'MDOT FTA Detail'!$C$4)*(Projects!$P$5:$P$2426='Local Detail'!$A139)*(Projects!$J$5:$J$2426<>'Local Detail'!$A$147)*(Projects!$O$5:$O$2426))","v":0},{"$f":"E139","v":0},"No FF",{"$f":"SUMPRODUCT((Projects!$A$5:$A$2426='Local Detail'!$G$3)*(Projects!$K$5:$K$2426=0)*(Projects!$C$5:$C$2426<>'MDOT FTA Detail'!$C$4)*(Projects!$P$5:$P$2426='Local Detail'!$A139)*(Projects!$J$5:$J$2426<>'Local Detail'!$A$147)*(Projects!$O$5:$O$2426))","v":0},{"$f":"H139","v":0},"No FF",{"$f":"SUMPRODUCT((Projects!$A$5:$A$2426='Local Detail'!$J$3)*(Projects!$K$5:$K$2426=0)*(Projects!$C$5:$C$2426<>'MDOT FTA Detail'!$C$4)*(Projects!$P$5:$P$2426='Local Detail'!$A139)*(Projects!$J$5:$J$2426<>'Local Detail'!$A$147)*(Projects!$O$5:$O$2426))","v":0},{"$f":"K139","v":0},"No FF",{"$f":"SUMPRODUCT((Projects!$A$5:$A$2426='Local Detail'!$M$3)*(Projects!$K$5:$K$2426=0)*(Projects!$C$5:$C$2426<>'MDOT FTA Detail'!$C$4)*(Projects!$P$5:$P$2426='Local Detail'!$A139)*(Projects!$J$5:$J$2426<>'Local Detail'!$A$147)*(Projects!$O$5:$O$2426))","v":0},{"$f":"N139","v":0}]
["CNTY","Local - County (Specify county in Comments) ","Local Non-Federal","No FF",{"$f":"SUMPRODUCT((Projects!$A$5:$A$2426='Local Detail'!$D$3)*(Projects!$K$5:$K$2426=0)*(Projects!$C$5:$C$2426<>'MDOT FTA Detail'!$C$4)*(Projects!$P$5:$P$2426='Local Detail'!$A140)*(Projects!$J$5:$J$2426<>'Local Detail'!$A$147)*(Projects!$O$5:$O$2426))","v":0},0,"No FF",{"$f":"SUMPRODUCT((Projects!$A$5:$A$2426='Local Detail'!$G$3)*(Projects!$K$5:$K$2426=0)*(Projects!$C$5:$C$2426<>'MDOT FTA Detail'!$C$4)*(Projects!$P$5:$P$2426='Local Detail'!$A140)*(Projects!$N$5:$N$2426<>'Local Detail'!$A$110)*(Projects!$J$5:$J$2426<>'Local Detail'!$A$147)*(Projects!$O$5:$O$2426))","v":0},0,"No FF",{"$f":"SUMPRODUCT((Projects!$A$5:$A$2426='Local Detail'!$J$3)*(Projects!$K$5:$K$2426=0)*(Projects!$C$5:$C$2426<>'MDOT FTA Detail'!$C$4)*(Projects!$P$5:$P$2426='Local Detail'!$A140)*(Projects!$N$5:$N$2426<>'Local Detail'!$A$110)*(Projects!$J$5:$J$2426<>'Local Detail'!$A$147)*(Projects!$O$5:$O$2426))","v":0},0,"No FF",{"$f":"SUMPRODUCT((Projects!$A$5:$A$2426='Local Detail'!$M$3)*(Projects!$K$5:$K$2426=0)*(Projects!$C$5:$C$2426<>'MDOT FTA Detail'!$C$4)*(Projects!$P$5:$P$2426='Local Detail'!$A140)*(Projects!$N$5:$N$2426<>'Local Detail'!$A$110)*(Projects!$J$5:$J$2426<>'Local Detail'!$A$147)*(Projects!$O$5:$O$2426))","v":0},0]
["OLF","Other Local Funds (Specify local fund source in Comments) ","Local Non-Federal","No FF",{"$f":"SUMPRODUCT((Projects!$A$5:$A$2426='Local Detail'!$D$3)*(Projects!$K$5:$K$2426=0)*(Projects!$C$5:$C$2426<>'MDOT FTA Detail'!$C$4)*(Projects!$P$5:$P$2426='Local Detail'!$A141)*(Projects!$J$5:$J$2426<>'Local Detail'!$A$147)*(Projects!$O$5:$O$2426))","v":0},0,"No FF",{"$f":"SUMPRODUCT((Projects!$A$5:$A$2426='Local Detail'!$G$3)*(Projects!$K$5:$K$2426=0)*(Projects!$C$5:$C$2426<>'MDOT FTA Detail'!$C$4)*(Projects!$P$5:$P$2426='Local Detail'!$A141)*(Projects!$N$5:$N$2426<>'Local Detail'!$A$110)*(Projects!$J$5:$J$2426<>'Local Detail'!$A$147)*(Projects!$O$5:$O$2426))","v":0},{"$f":"H141","v":0},"No FF",{"$f":"SUMPRODUCT((Projects!$A$5:$A$2426='Local Detail'!$J$3)*(Projects!$K$5:$K$2426=0)*(Projects!$C$5:$C$2426<>'MDOT FTA Detail'!$C$4)*(Projects!$P$5:$P$2426='Local Detail'!$A141)*(Projects!$N$5:$N$2426<>'Local Detail'!$A$110)*(Projects!$J$5:$J$2426<>'Local Detail'!$A$147)*(Projects!$O$5:$O$2426))","v":0},0,"No FF",{"$f":"SUMPRODUCT((Projects!$A$5:$A$2426='Local Detail'!$M$3)*(Projects!$K$5:$K$2426=0)*(Projects!$C$5:$C$2426<>'MDOT FTA Detail'!$C$4)*(Projects!$P$5:$P$2426='Local Detail'!$A141)*(Projects!$N$5:$N$2426<>'Local Detail'!$A$110)*(Projects!$J$5:$J$2426<>'Local Detail'!$A$147)*(Projects!$O$5:$O$2426))","v":0},0]
["PRVT","Private (Non-governmental)","Local Non-Federal","No FF",{"$f":"SUMPRODUCT((Projects!$A$5:$A$2426='Local Detail'!$D$3)*(Projects!$K$5:$K$2426=0)*(Projects!$C$5:$C$2426<>'MDOT FTA Detail'!$C$4)*(Projects!$P$5:$P$2426='Local Detail'!$A142)*(Projects!$J$5:$J$2426<>'Local Detail'!$A$147)*(Projects!$O$5:$O$2426))","v":24976},24976,"No FF",{"$f":"SUMPRODUCT((Projects!$A$5:$A$2426='Local Detail'!$G$3)*(Projects!$K$5:$K$2426=0)*(Projects!$C$5:$C$2426<>'MDOT FTA Detail'!$C$4)*(Projects!$P$5:$P$2426='Local Detail'!$A142)*(Projects!$N$5:$N$2426<>'Local Detail'!$A$110)*(Projects!$J$5:$J$2426<>'Local Detail'!$A$147)*(Projects!$O$5:$O$2426))","v":0},0,"No FF",{"$f":"SUMPRODUCT((Projects!$A$5:$A$2426='Local Detail'!$J$3)*(Projects!$K$5:$K$2426=0)*(Projects!$C$5:$C$2426<>'MDOT FTA Detail'!$C$4)*(Projects!$P$5:$P$2426='Local Detail'!$A142)*(Projects!$N$5:$N$2426<>'Local Detail'!$A$110)*(Projects!$J$5:$J$2426<>'Local Detail'!$A$147)*(Projects!$O$5:$O$2426))","v":0},0,"No FF",{"$f":"SUMPRODUCT((Projects!$A$5:$A$2426='Local Detail'!$M$3)*(Projects!$K$5:$K$2426=0)*(Projects!$C$5:$C$2426<>'MDOT FTA Detail'!$C$4)*(Projects!$P$5:$P$2426='Local Detail'!$A142)*(Projects!$N$5:$N$2426<>'Local Detail'!$A$110)*(Projects!$J$5:$J$2426<>'Local Detail'!$A$147)*(Projects!$O$5:$O$2426))","v":0},0]
["TRAL","Local - Transit Authority Funds (Specify transit authority in Comments)","Local Non-Federal","No FF",{"$f":"SUMPRODUCT((Projects!$A$5:$A$2426='Local Detail'!$D$3)*(Projects!$K$5:$K$2426=0)*(Projects!$C$5:$C$2426<>'MDOT FTA Detail'!$C$4)*(Projects!$P$5:$P$2426='Local Detail'!$A143)*(Projects!$J$5:$J$2426<>'Local Detail'!$A$147)*(Projects!$O$5:$O$2426))","v":0},0,"No FF",{"$f":"SUMPRODUCT((Projects!$A$5:$A$2426='Local Detail'!$G$3)*(Projects!$K$5:$K$2426=0)*(Projects!$C$5:$C$2426<>'MDOT FTA Detail'!$C$4)*(Projects!$P$5:$P$2426='Local Detail'!$A143)*(Projects!$N$5:$N$2426<>'Local Detail'!$A$110)*(Projects!$J$5:$J$2426<>'Local Detail'!$A$147)*(Projects!$O$5:$O$2426))","v":0},0,"No FF",{"$f":"SUMPRODUCT((Projects!$A$5:$A$2426='Local Detail'!$J$3)*(Projects!$K$5:$K$2426=0)*(Projects!$C$5:$C$2426<>'MDOT FTA Detail'!$C$4)*(Projects!$P$5:$P$2426='Local Detail'!$A143)*(Projects!$N$5:$N$2426<>'Local Detail'!$A$110)*(Projects!$J$5:$J$2426<>'Local Detail'!$A$147)*(Projects!$O$5:$O$2426))","v":0},0,"No FF",{"$f":"SUMPRODUCT((Projects!$A$5:$A$2426='Local Detail'!$M$3)*(Projects!$K$5:$K$2426=0)*(Projects!$C$5:$C$2426<>'MDOT FTA Detail'!$C$4)*(Projects!$P$5:$P$2426='Local Detail'!$A143)*(Projects!$N$5:$N$2426<>'Local Detail'!$A$110)*(Projects!$J$5:$J$2426<>'Local Detail'!$A$147)*(Projects!$O$5:$O$2426))","v":0},0]
["TWP","Local - Township (Specify township in Comments)","Local Non-Federal","No FF",{"$f":"SUMPRODUCT((Projects!$A$5:$A$2426='Local Detail'!$D$3)*(Projects!$K$5:$K$2426=0)*(Projects!$C$5:$C$2426<>'MDOT FTA Detail'!$C$4)*(Projects!$P$5:$P$2426='Local Detail'!$A144)*(Projects!$J$5:$J$2426<>'Local Detail'!$A$147)*(Projects!$O$5:$O$2426))","v":0},0,"No FF",{"$f":"SUMPRODUCT((Projects!$A$5:$A$2426='Local Detail'!$G$3)*(Projects!$K$5:$K$2426=0)*(Projects!$C$5:$C$2426<>'MDOT FTA Detail'!$C$4)*(Projects!$P$5:$P$2426='Local Detail'!$A144)*(Projects!$N$5:$N$2426<>'Local Detail'!$A$110)*(Projects!$J$5:$J$2426<>'Local Detail'!$A$147)*(Projects!$O$5:$O$2426))","v":0},0,"No FF",{"$f":"SUMPRODUCT((Projects!$A$5:$A$2426='Local Detail'!$J$3)*(Projects!$K$5:$K$2426=0)*(Projects!$C$5:$C$2426<>'MDOT FTA Detail'!$C$4)*(Projects!$P$5:$P$2426='Local Detail'!$A144)*(Projects!$N$5:$N$2426<>'Local Detail'!$A$110)*(Projects!$J$5:$J$2426<>'Local Detail'!$A$147)*(Projects!$O$5:$O$2426))","v":0},0,"No FF",{"$f":"SUMPRODUCT((Projects!$A$5:$A$2426='Local Detail'!$M$3)*(Projects!$K$5:$K$2426=0)*(Projects!$C$5:$C$2426<>'MDOT FTA Detail'!$C$4)*(Projects!$P$5:$P$2426='Local Detail'!$A144)*(Projects!$N$5:$N$2426<>'Local Detail'!$A$110)*(Projects!$J$5:$J$2426<>'Local Detail'!$A$147)*(Projects!$O$5:$O$2426))","v":0},0]
["VLG","Local - Village (Specify village in Comments)","Local Non-Federal","No FF",{"$f":"SUMPRODUCT((Projects!$A$5:$A$2426='Local Detail'!$D$3)*(Projects!$K$5:$K$2426=0)*(Projects!$C$5:$C$2426<>'MDOT FTA Detail'!$C$4)*(Projects!$P$5:$P$2426='Local Detail'!$A145)*(Projects!$J$5:$J$2426<>'Local Detail'!$A$147)*(Projects!$O$5:$O$2426))","v":0},0,"No FF",{"$f":"SUMPRODUCT((Projects!$A$5:$A$2426='Local Detail'!$G$3)*(Projects!$K$5:$K$2426=0)*(Projects!$C$5:$C$2426<>'MDOT FTA Detail'!$C$4)*(Projects!$P$5:$P$2426='Local Detail'!$A145)*(Projects!$N$5:$N$2426<>'Local Detail'!$A$110)*(Projects!$J$5:$J$2426<>'Local Detail'!$A$147)*(Projects!$O$5:$O$2426))","v":0},0,"No FF",{"$f":"SUMPRODUCT((Projects!$A$5:$A$2426='Local Detail'!$J$3)*(Projects!$K$5:$K$2426=0)*(Projects!$C$5:$C$2426<>'MDOT FTA Detail'!$C$4)*(Projects!$P$5:$P$2426='Local Detail'!$A145)*(Projects!$N$5:$N$2426<>'Local Detail'!$A$110)*(Projects!$J$5:$J$2426<>'Local Detail'!$A$147)*(Projects!$O$5:$O$2426))","v":0},0,"No FF",{"$f":"SUMPRODUCT((Projects!$A$5:$A$2426='Local Detail'!$M$3)*(Projects!$K$5:$K$2426=0)*(Projects!$C$5:$C$2426<>'MDOT FTA Detail'!$C$4)*(Projects!$P$5:$P$2426='Local Detail'!$A145)*(Projects!$N$5:$N$2426<>'Local Detail'!$A$110)*(Projects!$J$5:$J$2426<>'Local Detail'!$A$147)*(Projects!$O$5:$O$2426))","v":0},0]
[]
["AC","Local AC Projects","Local AC","No FF",{"$f":"((SUMPRODUCT((Projects!$A$5:$A$2426='Local Detail'!$D$3)*(Projects!$C$5:$C$2426<>'MDOT FTA Detail'!$C$4)*(Projects!$J$5:$J$2426='Local Detail'!$A$147)*(Projects!$M$5:$M$2426)))+(SUMPRODUCT((Projects!$A$5:$A$2426='Local Detail'!$D$3)*(Projects!$C$5:$C$2426<>'MDOT FTA Detail'!$C$4)*(Projects!$J$5:$J$2426='Local Detail'!$A$147)*(Projects!$O$5:$O$2426))))","v":140597},{"$f":"E147","v":140597},"No FF",{"$f":"((SUMPRODUCT((Projects!$A$5:$A$2426='Local Detail'!$G$3)*(Projects!$C$5:$C$2426<>'MDOT FTA Detail'!$C$4)*(Projects!$J$5:$J$2426='Local Detail'!$A$147)*(Projects!$M$5:$M$2426)))+(SUMPRODUCT((Projects!$A$5:$A$2426='Local Detail'!$G$3)*(Projects!$C$5:$C$2426<>'MDOT FTA Detail'!$C$4)*(Projects!$J$5:$J$2426='Local Detail'!$A$147)*(Projects!$O$5:$O$2426))))","v":0},{"$f":"H147","v":0},"No FF",{"$f":"((SUMPRODUCT((Projects!$A$5:$A$2426='Local Detail'!$J$3)*(Projects!$C$5:$C$2426<>'MDOT FTA Detail'!$C$4)*(Projects!$J$5:$J$2426='Local Detail'!$A$147)*(Projects!$M$5:$M$2426)))+(SUMPRODUCT((Projects!$A$5:$A$2426='Local Detail'!$J$3)*(Projects!$C$5:$C$2426<>'MDOT FTA Detail'!$C$4)*(Projects!$J$5:$J$2426='Local Detail'!$A$147)*(Projects!$O$5:$O$2426))))","v":0},{"$f":"K147","v":0},"No FF",{"$f":"((SUMPRODUCT((Projects!$A$5:$A$2426='Local Detail'!$M$3)*(Projects!$C$5:$C$2426<>'MDOT FTA Detail'!$C$4)*(Projects!$J$5:$J$2426='Local Detail'!$A$147)*(Projects!$M$5:$M$2426)))+(SUMPRODUCT((Projects!$A$5:$A$2426='Local Detail'!$M$3)*(Projects!$C$5:$C$2426<>'MDOT FTA Detail'!$C$4)*(Projects!$J$5:$J$2426='Local Detail'!$A$147)*(Projects!$O$5:$O$2426))))","v":0},{"$f":"N147","v":0}]

{"sheet":"Codes","index":13,"n_rows":221,"n_cols":4,"rows_kept":221,"cut":false,"hidden":false,"merged":[]}
[null,"Fund Sources"]
["BHI","Bridge Rehabilitation - Prior 1991 - Interstate","Federal"]
["BHN","Bridge Rehabilitation - National Highway System (NHS)","Federal"]
["BHO","Bridge Rehabilitation - Not Classified, Off System","Federal"]
["BHT","Bridge Rehabilitation - Surface Transportation Program (STP)","Federal"]
["BI08","Build Michigan FY08","Federal"]
["BO","Bridge Not Classified Off System","Federal","2012-12-14"]
["BOWD","Business Opportunity & Workforce Development Center","Federal"]
["BRI","Bridge Replacement - Pre 1991 Interstate","Federal"]
["BRN","Bridge Replacement - National Highway System (NHS)","Federal"]
["BRO","Bridge Replacement - Not Classified, Off System","Federal"]
["BRT","Bridge Replacement - Surface Transportation Program (STP)","Federal"]
["CANX","Canadian Bridge Funds",null,"2013-05-15"]
["CBCD","Corridor & Border Crossing Discretionary","Federal"]
["CBIP","Coordinated Border Infrastructure Program - SAFETEA-LU","Federal"]
["CM","Congestion Mitigation & Air Quality","Federal"]
["CMG","Congestion Mitigation & Air Quality - 100% Federal","Federal"]
["CPM","Congestion Mititagion & Air Quality for PM 2.5 Emissions","Federal"]
["CPMG","Congestion Mititagion & Air Quality for PM 2.5 Emissions - 100% Federal","Federal"]
["D129","Demonstration for Surface Transportation  - Section 129","Federal"]
["DIG","ISTEA Demonstration 100% Federal on Interstate","Federal"]
["DOG","ISTEA Demonstration 100% Federal Not Classified","Federal"]
["DPN","ISTEA Demonstration 80% Federal on NHS","Federal"]
["DPO","ISTEA Demonstration 80% Federal Not Classified","Federal"]
["DPS","ISTEA Demonstration 80% Federal on STP","Federal"]
["DPSA","Demonstration Project Section 112 Division A","Federal"]
["DST","Donor Bonus Surface Transportation","Federal"]
["DSTU","Donor Bonus Surface Transportation - (Urban > 200,000)","Federal"]
["DSTT","Donor Bonus Surface Transportation - Rural - Trunkline","Federal"]
["EBSL","Equity Bonus - SAFETEA-LU","Federal"]
["EDAF","Economic Development - Category A with Federal Aid","Federal"]
["EDCF","Economic Development - Category C with Federal Aid","Federal"]
["EDDF","Economic Development - Category D with Federal Aid","Federal"]
["EDFF","Economic Development - Category F with Federal Aid","Federal"]
["ER","Emergency Relief","Federal"]
["FBD","Ferry Boat & Terminal Discretionary","Federal"]
["FFH","Federal Forest Highway","Federal"]
["FLH","Federal Land Highways - Public Lands","Federal"]
["HBOA","Highway Bridge Obligation  Authority","Federal"]
["HPP","High Priority Projects (Demo)","Federal"]
["HPSL","High Priority Projects - SAFETEA-LU","Federal"]
["HRRR","High Risk Rural Roads - SAFETEA-LU","Federal"]
["HSG","High Speed Raix Crossings - 100% Federal","Federal"]
["HSIP","Highway Safety Improvement Program - SAFETEA-LU","Federal"]
["IM","Interstate Maintenance - No Added Lanes","Federal"]
["IMD","Interstate Maintenance Discretionary","Federal"]
["IMG","Interstate Maintenance - Safety - 100% Federal","Federal"]
["ITS","Intelligent Transportation Systems","Federal"]
["JST","85% Minimum Floor Surface Transportation","Federal"]
["JSTU","85% Minimum Floor Surface Transportation (Urban Area > 200,000)","Federal"]
["LTA","Local Technical Assistance Program","Federal"]
["MG","Minimum Guarantee","Federal"]
["NCII","National Corridor Infrastructure Improvement - SAFETEA-LU","Federal"]
["NH","National Highway System","Federal"]
["NHG","National Highway System - Safety - 100% Federal","Federal"]
["NHI","National Highway Funds on I (Does not Qualify for I)","Federal"]
["NHIM","National Highway Funds on I (Qualifies for IM)","Federal"]
["NHS","National Highway System - MDOT Safety Program","Federal"]
["NRT","National Recreational Trails","Federal"]
["OFHWA","Other FHWA Funds (Specify source in Comments)","Federal"]
["PNRS","Projects of National and Regional Significance","Federal"]
["PRIP","Priority Roads Investment Program","PRIP"]
["RP","Research Project","Federal"]
["RPH","American Recovery and Reinvestment Act","Federal"]
["SBD","Scenic Byways - Discretionary","Federal"]
["SIB","State Infrastructure Bank","Federal"]
["SLG","Surface Transportation Safety","Federal"]
["SRHG","Surface Transportation Safety Highway Crossing Hazard Elimination 100%","Federal","2012-12-14"]
["SRPG","Surface Transportation Safety Highway Crossing Protection Devices 100%","Federal","2012-12-14"]
["SRSE","Safe Routes to School - Either - SAFETEA-LU","Federal"]
["SRSI","Safe Routes to School - Infrastructure - SAFETEA-LU","Federal"]
["SRSN","Safe Routes to School - Non-infrastructure - SAFETEA-LU","Federal"]
["SST","Supportive Services Training","Federal"]
["ST","Surface Transportation Program (STP) - Any Area","Federal"]
["STE","STP - Enhancement","Federal"]
["STG","STP - Safety - 100% Federal for ST","Federal"]
["STH","STP - Safety - Hazard Elimination","Federal"]
["STI","STP - Interstate (90%)","Federal"]
["STL","STP - Local","Federal"]
["STLG","Surface Transportation Safety 100% Fed for STL-Items","Federal","2012-12-14"]
["STR","STP - Safety - Rail-Highway Crossing Protection","Federal"]
["STRG","STP - Safety Rail-Highway & Incentive Payment - 100% Federal","Federal"]
["STRH","Surface Transportation Safety Highway Crossing Hazard Elimination","Federal","2012-12-14"]
["STRP","Surface Transportation Safety Highway Crossing Protection Devices","Federal","2012-12-14"]
["STS","STP - Any Area- MDOT Safety Program","Federal"]
["STT","STP - Trunkline","Federal"]
["STU","STP - Urban Areas > 200,000 Population","Federal"]
["STUG","STP - Urban Areas < 200,000 Population 100%","Federal"]
["STUL","STP - Urban Areas < 200,000 Population","Federal"]
["STUT","STP - Urban Areas < 200,000 Population - Trunkline","Federal"]
["SUG","STP - Safety - 100% Federal for STU","Federal"]
["SUL","Surface Transportation Urban Areas < 200k Population","Federal","2012-12-14"]
["SULG","Surface Transportation Urban Areas < 200k Population 100%","Federal","2012-12-14"]
["TA","Transportation Alternatives Program Flex","Federal","2012-12-14"]
["TAL","Transportation Alternatives Rural","Federal","2012-12-14"]
["TAU","Transportation Alternatives Urban Areas > 200K Population","Federal","2012-12-14"]
["TAUL","Transportation Alternatives Urban Areas < 200K Population","Federal","2012-12-14"]
["TBR","Timber Bridge Fund","Federal"]
["TCP","Tax Compliance Program","Federal"]
["TCSP","Transportation, Community and System Preservation","Federal"]
["TG","Transportation  Grant (100% Fed)","Federal"]
["TGR2","TIGER II Discretionary Grant","Federal","2012-12-14"]
["TGR3","TIGER III Discretionary Grant","Federal","2012-12-14"]
["TIP","Transportation Improvements Projects SAFETEA-LU","Federal","2012-12-14"]
["TPFD","Truck Parking Facilities Discretionary","Federal","2012-12-14"]
["CTF","Comprehensive Transportation Fund","Transit","2014-04-24"]
[3038,"Section 3038 - Over the Road Bus Program","Transit"]
[3045,"Section 3045 - National Fuel Cell Technology Development Program","Transit"]
[5303,"Section 5303 - Metropolitan Transportation Planning","Transit"]
[5304,"Section 5304 - Statewide Transportation Planning","Transit"]
[5305,"Section 5305 - Metropolitan and Statewide Planning","Transit"]
[5307,"Section 5307 - UZA Formula","Transit"]
[5308,"Section 5308 - Clean Fuels Program","Transit"]
[5309,"Section 5309 - Fixed Guideway Capital Investment Grant","Transit"]
[5310,"Section 5310 - Enhanced Mobility of Seniors and Individuals with Disabilities","Transit"]
[5311,"Section 5311 - Non-UZA ","Transit"]
[5312,"Section 5312 - Research, Development, Demonstration, and Deployment","Transit","2013-01-07"]
[5313,"Section 5313 - Transit Cooperative Research Program","Transit"]
[5314,"Section 5314 - Technical Assistance and Standards","Transit"]
[5316,"Section 5316 - Transit - Section 5316 - Job Access/Reverse Commute","Transit"]
[5317,"Section 5317 - Transit - Section 5317 - New Freedom Initiative","Transit"]
[5320,"Section 5320 - Alternative Transportation in Parks and Public Lands","Transit"]
[5322,"Section 5322 - Human Resources and Training","Transit","2013-01-07"]
[5324,"Section 5324 - Emergency Relief","Transit","2013-01-07"]
[5326,"Section 5326 - Asset Management Provisions","Transit","2013-01-07"]
[5329,"Section 5329 - Safety","Transit","2013-01-07"]
[5337,"Section 5337 - State of Good Repair Grants","Transit","2013-01-07"]
[5339,"Section 5339 - Bus and Bus Facilities","Transit"]
[5505,"Section 5505 - University Transportation Centers Program","Transit"]
["BI04","Build Michigan Bond Issue 2004","State"]
["BI06","Build Michigan Bond Issue 2006","State"]
["BI08","Build Michigan Bond Issue 2008","State"]
["BT01","Bond Trunkline Roads for First Issue","State"]
["CANX","Canadian Bridge Funds",null,"2013-05-15"]
["CTF","Comprehensive Transportation Fund","State"]
["EDA","Economic Development - Category A","State"]
["EDC","Economic Development - Category C","State"]
["EDD","Economic Development - Category D","State"]
["EDF","Economic Development - Category F","State"]
["JT07","Jobs Today Bond Issue 2007 GARVEE (State AC for Federal GARVEE Bonds)","State"]
["LFMP","Local Fund Match Program - 100% Local","State"]
["M","State Funds - Michigan Betterment","State"]
["MBS","Michigan Budget Stabilization","State"]
["MBWB","Michigan Blue Water Bridge","State"]
["MCS","State Funds - Critical Structures","State"]
["MDA","Drainage Assessment","State"]
["MER","Emergency Program","State"]
["MIR","State Funds - Institutional Roads","State"]
["MRR","Michigan Railroad","State"]
["MRRF","Michigan Revolving Real Estate Fund","State"]
["MS","Safety Program","State"]
["MTB","Turnback Program","State"]
["PRIP","Priority Roads Investment Program","State"]
["RRRF","Michigan Road and Risk Reserve Funds","State"]
["SIBG","100% State Infrastructure Bank","State"]
["CITY","Local - City (Specify city in Comments)","Local"]
["CANX","Canadian Bridge Funds",null,"2013-05-15"]
["CNTY","Local - County (Specify county in Comments) ","Local"]
["OLF","Other Local Funds (Specify local fund source in Comments) ","Local"]
["PRVT","Private (Non-governmental)","Local"]
["TRAL","Local - Transit Authority Funds (Specify transit authority in Comments)","Local"]
["TWP","Local - Township (Specify township in Comments)","Local"]
["VLG","Local - Village (Specify village in Comments)","Local"]
[]
[null,"Primary Work Types"]
[null,"Bridge - other","Surface Transportation"]
[null,"Bridge replacement","Surface Transportation"]
[null,"Bridge restore & rehabilitate","Surface Transportation"]
[null,"New route/structure (capacity increase)","Surface Transportation"]
[null,"Reconstruct","Surface Transportation"]
[null,"Restore & rehabilitate","Surface Transportation"]
[null,"Resurface","Surface Transportation"]
[null,"Roadside facility","Surface Transportation"]
[null,"Traffic ops/safety","Surface Transportation"]
[null,"Widen - major (capacity increase)","Surface Transportation"]
[null,"Widen - minor","Surface Transportation"]
[null,"Transit","Transit"]
[null,"Transit capital","Transit"]
[null,"Transit communication equipment","Transit"]
[null,"Transit facility","Transit"]
[null,"Transit maintenance equipment and parts","Transit"]
[null,"Transit operations","Transit"]
[null,"Transit operations equipment","Transit"]
[null,"Transit vehicle additions/replacements","Transit"]
[null,"Transit vehicle rehabilitation","Transit"]
[null,"Aviation","Miscellaneous"]
[null,"GPA ","Miscellaneous"]
[null,"Heritage routes","Miscellaneous"]
[null,"Intermodal/multimodal","Miscellaneous"]
[null,"Marine/port","Miscellaneous"]
[null,"Miscellaneous","Miscellaneous"]
[null,"Planning and research","Miscellaneous"]
[null,"Rail","Miscellaneous"]
[null,"Studies","Miscellaneous"]
[null,"Wetland mitigation","Miscellaneous"]
[]
[]
[]
[]
[null,"Amendment Type"]
[null,"Add"]
[null,"Delete"]
[null,"Cost"]
[null,"Scope"]
[null,"Year"]
[]
[]
[]
[]
[null,"Phase"]
[]
[null,"EPE"]
[null,"PE"]
[null,"ROW"]
[null,"CON"]
[null,"T-Cap"]
[null,"T-Ops"]
[null,"SUB"]
[null,"UTL"]
[null,"OP"]
[null,"CAP"]

{"sheet":"Other Acronyms","index":14,"n_rows":41,"n_cols":2,"rows_kept":41,"cut":false,"hidden":false,"merged":[]}
["Acronym","Definition"]
["ADA","Americans with Disabilities Act"]
["ART","Apprenticeship Readiness Training"]
["BACEP","Bonding and Access to Capital Education Program"]
["C & S","Crush and Shape"]
["C & T","Construction and Technology"]
["CCTV","Closed Circuit Television"]
["CPM","Capital Prevenitve Maintenance"]
["CSM","Capital Scheduled Maintenance"]
["DBE","Disadvantaged Business Enterprises"]
["ESS","Environmental Sensing Stations"]
["FSU","Ferris State University"]
["FTA","Federal Transit Authority"]
["GPA","General Program Account"]
["HMA","Hot-Mix Asphalt"]
["ITS","Intelligent Transportation System"]
["LED","Light Emitting Diode"]
["LTAP","Local Technical Assistance Program"]
["MERL","Michigan Engineer's Resource Library"]
["MICCD","Michigan Construction Career Days"]
["MTU","Michigan Technological University"]
["NB","Northbound"]
["Non-UZA","Non-Urbanized Area"]
["NPS","National Park Service"]
["NSTI","National Summer Transportation Institute"]
["OHR","Office of Human Resources"]
["OJT","On the Job Training"]
["PEL","Planning and Environmental Linkage"]
["PITWS","Portable Intermittent Truck Weigh Stations"]
["RCAR","Road Construction Apprenticeship Readiness"]
["RCWD","Road Construction Work Force Development"]
["RTAP","Rural Transit Assistance Program"]
["RTF","Rural Task Force"]
["RWIS","Road Weather Information System"]
["SB","Southbound"]
["SRTS","Safe Routes to School"]
["SS","Support Services"]
["STOC","Statewide Operations Center"]
["TRAC","Training and Civil Engineering Pipeline"]
["Y Achievers","Young Achievers"]
["YDMP","Youth Development Mentoring Program"]