{"text_format":"1","workbook":"xlsx","n_sheets":15,"sheets":["Projects","FY 2017","FY 2018","FY 2019","FY 2020","Constraint","FHWA GPA","FTA GPA","FTA Candidate Projects","Illustrative","NonFHWA_NonFTA","MDOT FTA Detail","Local Detail","Codes","Other Acronyms"],"not_rendered":{"charts":0,"images":0,"macros":1,"external_links":0,"defined_names":32,"comments":0,"pivot_tables":0},"unopened":[],"bounds":{"document_bytes":16777216,"sheet_cells":100000,"rows_first":2000,"rows_last":500,"rows_between":2000,"halvings":0,"cell_chars":16384,"cell_head_chars":4096},"cells_cut":0,"cells_raw":0,"read":"whole","date_system":"1900"}

{"sheet":"Projects","index":0,"n_rows":68,"n_cols":33,"rows_kept":68,"cut":false,"hidden":false,"merged":[[0,0,0,22],[1,0,1,22],[2,30,2,31]]}
["Niles-Cass-Buchanan Transportaton Study 2017-2020 TIP efile"]
["2018-03-13"]
["Required Fields",null,null,null,null,null,null,null,null,null,null,null,null,null,null,null,null,null,null,null,null,null,null,null,null,"Optional Fields",null,null,null,null,{"$f":"'MDOT FTA Detail'!B1","v":"E-File v. 5.1 (01.15.15)"}]
["Fiscal Year","County","Respon-sible Agency","Project Name","Limits","Length","Primary Work Type","Project Description","Phase","Advance Construct","Federal Cost ($1000s)","Federal Fund Source","State Cost ($1000s)","State Fund Source","Local Cost ($1000s)","Local Fund Source","Total Phase Cost ($1000s)","MDOT Job No.","Local ID No.","MPO/ Rural Action Date","Amend-ment Type","Air Quality","Comments","Total Project Cost ($1000s)","x","Local Priority","EJ","Federal Approval Date ","Capped Federal Cost ($1000s)","Date Obligated","Amount Obligated ($1000s)","Let Date","MPO"]
[2017,"Berrien","Berrien County Road Commission","Dayton, Orange, Third, Fulkerson and Ontario","Dayton from US 12 to State Line; Orange from Bertrand to State Line; 3rd from Bell to Fulkerson; Fulkerson from 3rd to S 11th. Ontario: Third to Cass County",5.5,"Restore & rehabilitate","Hot Patching and Seal, Single Chip","CON",null,69210,"STU",null,"",24742,"CNTY",{"$f":"K5+M5+O5","v":93952},120683,null,"2016-06-28",null,"Exempt",null,93952]
[2017,"Berrien","Berrien County Road Commission","Red Bud Trail and Niles Buchanan Road ","Red Bud Trail: City of Buchanan to US 12 AND Niles Buchanan Road Niles to Buchanan",4,"Resurface","Hot mix asphalt and seal coat","CON",null,69210,"STU",null,"",24742,"CNTY",93952,120684,null,"2016-06-28",null,"Exempt",null,93952]
[2017,"Berrien","Berrien County Road Commission","Upgrading Guardrails on Various Primary Roads","North Main Street: City of Buchanan to Andrews Road ",0.2,"Traffic ops/safety","Upgrading guardrails","CON",null,54000,"HSIP",null,null,6000,"CNTY",60000,130875,null,"2017-02-28",null,"Exempt","Part of a countywide safety grant. Added to the TIP 2/27/17",600000]
[2017,"Berrien","City of Niles","Sycamore St","13th to 17th",0.82599999999999996,"Resurface","Mill existing pavement 1.5 deep Repave with 165/SYD HMA 5E1 Construct ADA sidewalk ramps","CON",null,100100,"STU",null,"",35785,"CITY",135885,120692,null,"2016-06-28",null,"Exempt",null,135885]
[2017,"Berrien","MDOT","M-139","1. On M-63 in the City of St. Joseph, from Winchester Avenue to S. JCT I-94 BL. 2. On M-139 in the City of Niles, from the turn at Front St. to Marmont St. (s. of NCL Niles). ",1.127,"Resurface","Cold Milling and HMA One Course Overlay","CON",null,80525,"ST",17856,"M",null,null,98381,127563,null,"2016-06-28",null,"Exempt","Added to TIP 6/28/16- Portion of the project is in NATS and other portion is in TwinCATS. ",439785]
[2017,"Berrien","Niles Dial-A-Ride","Public Transit Operations","City of Niles and Niles Township",null,"Transit operations","Regular Public Transit Operating Funds","T-Ops",null,159000,5307,139000,"CTF",93000,"CITY",391000,null,null,"2016-06-28",null,"Exempt",null,391000]
[2017,"Berrien","Niles Dial-A-Ride","Preventative Maintenance","City of Niles and Niles Township",null,"Transit maintenance equipment and parts","Preventative Maintenance","T-Cap",null,132000,5307,33000,"CTF",null,null,165000,null,null,"2016-06-28",null,"Exempt",null,165000]
[2017,"Berrien","Niles Dial-A-Ride","Bus Replacement","City of Niles and Niles Township",null,"Transit vehicle additions/replacements","Replace one cutaway bus that has met its age or mileage requirements with a new cutaway bus.","T-Cap",null,56000,5339,14000,"CTF",null,null,70000,null,null,"2016-06-28",null,"Exempt",null,70000]
[2017,"Berrien & Cass","MDOT","M 60 (Traffic Signal Modernization)","Multiple Locatiion in Berrien, Cass, and Kalamazoo Counties",null,"GPA ","Signal Modernization with connected vehicles instalations","PE",null,128000,"STG",null,null,null,null,128000,200366,null,"2017-08-22",null,"Exempt","Part of a GPA; See GPA tab for specific locations. ",null,null,null,null,"2017-08-31"]
[2017,"Berrien & Cass","MDOT","M 60 (Traffic Signal Modernization)","Multiple Locatiion in Berrien, Cass, and Kalamazoo Counties",null,"GPA ","Signal Modernization with connected vehicles instalations","ROW",null,5000,"STG",null,null,null,null,5000,200366,null,"2018-02-27",null,"Exempt","Part of a GPA: see GPA tab for specific locations",null,null,null,null,"2017-08-31"]
[2017,"Cass","Cass County Road Commission","Redfield Rd","Township Line - Cassopolis",0.872,"Resurface","Resurface","CON","",null,null,null,null,null,null,null,120116,null,"2016-01-20",null,"Exempt","RTF 1/20/16- RTF 4 Approved",84600,null,null,null,"2016-02-11"]
[2017,"Cass","Cass County Road Commission","Redfield Rd","Conrad - M-62",1,"Resurface","Resurface","CON","",null,null,null,null,null,null,null,120117,null,"2017-03-13",null,"Exempt","RTF - 1/20/16- RTF 4 Approved",93600,null,null,null,"2016-02-11"]
[2017,"CASS","Cass County Road Commission","Redfield St","Brande Creek to Oak",1.1319999999999999,"Reconstruct","Mill and structural overlay with shoulders, signs and striping","CON",null,276300,"STU",null,"",98700,"CNTY",{"$f":"K17+M17+O17","v":375000},120691,null,"2016-06-28",null,"Exempt",null,374500]
[2017,"Cass","Cass County Road Commission","Fir Road","Redfield o US 12",1.0229999999999999,"Resurface","1-1/2 inch HMA overlay with aggregate shoulders","CON",null,null,null,null,null,null,null,null,133108,null,"2016-11-21",null,"Exempt","RTF - 11/21/16 RTF 4 Approved",94000,null,null,null,"2016-12-01"]
[2017,"Cass","MDOT","US-12","West Village Limits of Edwardsburg to M-62",0.84,"Resurface","Cold Milling and Multiple Course HMA Overlay","ROW",null,16370,"STL",3630,"M",null,null,20000,"128723 ",null,"2017-08-22",null,"Exempt","Moved from 2016 to 2017",0,null,null,null,"2017-08-31"]
[2017,"CASS","Southwest Michigan Planning Commission","Countywide","Cass County","","Miscellaneous","Southwest Michigan Planning Comm Rideshare Program","EPE",null,12000,"CMG",null,"",0,"",{"$f":"K20+M20+O20","v":12000},124478,null,"2016-06-28",null,"Exempt",null,12000]
[2017,"Various","MDOT","Various","1. I-196 NB, Coloma Rd to Central Ave and I-196 SB, Coloma Rd to N. of CR 378\n2. M-63, I-94 to Midway Ave, St. Joseph\n3. US-12, Red Arrow Hwy to Galien River\n4. I-196 BL & M-140, I-196 to Blue Star Hwy\n5. M-40, N. of CR 669 to SVL Lawton\n6. M-60, W. of End Divided; UAL Niles to S. of SVL Cassopolis\n7. M-331, Kilgore Rd to M-43\n8. Kilgore Rd Park & Ride Lot at the Southwest Region Office\n9. M-89, 42nd St to W. Michigan Ave, Richland\n10. M-89, 12th St to 8th St, Plainwell",38.443300000000001,"Restore & rehabilitate","Overband Crack Fill","CON",null,53196.036899999999,"ST",11796.0915,"M",null,null,{"$f":"K21+M21+O21","v":64992.128400000001},128736,null,"2016-06-28",null,"Exempt"," Added to TIP 6/28/16. 62.04% rural; 5.56% TwinCATS; 22.00% KATS; 10.41% NATS; total phase cost $511,009 federal ST, $113,315 state M, $624,324 total",649324]
[2018,"Berrien","Berrien County Road Commission","Indiana Michigan River Valley Trail ","Brandywine Creek Nature Preserve to Fort St",1.2,"Roadside facility","Shared-Use Path","CON",null,501299,"TA",null,null,311600,"CNTY",{"$f":"K22+O22+M22","v":812899},131063,null,"2018-01-23","Add","Exempt",null,null,null,null,null,"2018-03-27"]
[2018,"BERRIEN","Buchanan Dial-A-Ride","Public transit Operations","City of Nuchanan & Buchanan Township",null,"Transit operations","Regular Public Transit Operating Funds","T-Ops",null,31927,5311,78256,"CTF",98315,"CITY",{"$f":"K23+M23+O23","v":208498},null,null,"2017-02-28",null,"Exempt","Added to TIP 2/28/17"]
[2018,"BERRIEN","Buchanan Dial-A-Ride","Bus Cameras","City of Buchanan and Buchanan Township",null,"Transit capital","Purchase three bus cameras to improve safety for passengers and drivers","T-Cap",null,7200,5339,1800,"CTF",null,null,9000,null,null,"2016-06-28",null,"Exempt",null,9000]
[2018,"BERRIEN","City of Buchanan","River Road Signal Project","at Red Bud Trail",null,"Traffic ops/safety","Signal replacement and video detection equipment","CON",null,203200,"STU",null,"",50800,"CITY",254000,130766,null,"2016-06-28",null,"Exempt",null,254000]
[2018,"BERRIEN","City of Niles","17th St","Broadway to Main",0.56799999999999995,"Resurface","Mill 1.5\" deep and repave","CON",null,159327,"STU",null,"",91000,"CITY",250327,130866,null,"2018-02-27","Cost","Exempt","2/27/18: Increase in local cost",194657,null,null,null,"2018-03-27"]
[2018,"BERRIEN","MDOT","US-31","over US-12",0.41,"Restore & rehabilitate","Shallow Overlay, Full Paint, Pin and Hangers","PE",null,41265,"NH",9150,"M",0,"",50415,129876,null,"2016-06-28",null,"Exempt",null,3784000]
[2018,"BERRIEN","MDOT","US-31","over US-12",0.41,"Restore & rehabilitate","Shallow Overlay, Full Paint, Pin and Hangers","SUB",null,331972,"NH",73613,"M",0,"",405585,129876,null,"2016-06-28",null,"Exempt",null,3784000]
[2018,"Berrien","MDOT","M-51","Indiana State Line to M-60BR and US-12 Interchange",7.1440000000000001,"Studies","Road Scoping and Interchange Study","EPE",null,0,null,600000,"M",null,null,{"$f":"K29+O29+M29","v":600000},131024,null,"2018-02-27","Add","Exempt",null,null,null,null,null,"2018-03-27"]
[2018,"BERRIEN","Niles Dial-A-Ride","Public Transit Operations","City of Niles and Niles Township",null,"Transit operations","Regular Public Transit Operating Funds","T-Ops",null,159000,5307,139000,"CTF",93000,"CITY",{"$f":"K30+M30+O30","v":391000},null,null,"2016-06-28",null,"Exempt",null,391000]
[2018,"BERRIEN","Niles Dial-A-Ride","Preventative Maintenance","City of Niles and Niles Township",null,"Transit maintenance equipment and parts","Preventative Maintenance","T-Cap",null,132000,5307,33000,"CTF",null,null,{"$f":"K31+M31+O31","v":165000},null,null,"2016-06-28",null,"Exempt",null,165000]
[2018,"BERRIEN","Niles Dial-A-Ride","Bus Replacement","City of Niles and Niles Township",null,"Transit vehicle additions/replacements","Replace one cutaway bus that has met its age or mileage requirements with a new cutaway bus.","T-Cap",null,56000,5339,14000,"CTF",null,null,{"$f":"K32+M32+O32","v":70000},null,null,"2016-06-28",null,"Exempt",null,70000]
[2018,"CASS","Cass County Road Commission","US-12","from Clair Street westbound to ESC",8.0190000000000001,"Roadside facility","Construction of a 10 ft Multi-Use Pathway to Connect to Edwardsburg Sports Complex","CON",null,148260,"CM",null,"",37065,"CITY",{"$f":"K33+M33+O33","v":185325},127757,null,"2016-06-28",null,"Exempt",null,201425]
[2018,"CASS","Cass County Road Commission","Mason St","Cassopolis Road to Calvin Center Road",2.1459999999999999,"Resurface","HMA overlay, shoulders, signage, pavement markings","CON","AC",128000,"STU",null,"",68918,"CNTY",{"$f":"K34+M34+O34","v":196918},130776,null,"2016-06-28",null,"Exempt","Added to TIP 6/28/16-Partial Advance Construct; $28,081 being Advance Constructed. Converting in 2020. ",224999]
[2018,"Cass","Cass County Road Commission","Gumwood road Phase 3","North of Indiana State line to 0.1 miles south of Redfield",0.2,"Intermodal/multimodal","Non-motorized, multi use path ","CON",null,80514,"TAU",null,null,17854,"CNTY",{"$f":"K35+O35","v":98368},200409,null,"2018-01-23","Year","Exempt","1/23/18: Cost and year change Added on3/28/17",98368,null,null,null,"2018-03-27"]
[2018,"Cass","Cass County Road Commission","Yankee Street","On Yankee Street east of M 60 in Howard Township",null,"Traffic ops/safety","Upgrading guardrails","CON",null,20464,"HSIP",null,null,2274,"CNTY",{"$f":"K36+M36+O36","v":22738},null,null,"2017-05-23",null,"Exempt","Adminstrative Mod - Added to TIP 6/6/17",22738]
[2018,"CASS","MDOT","US-12","West Village Limits of Edwardsburg to M-62",0.84,"Resurface","Cold Milling and Multiple Course HMA Overlay","CON",null,1456930,"ST",302370,"M",null,null,{"$f":"K37+M37+O37","v":1759300},128723,null,"2016-06-28",null,null,"This project includes the cost for  improvments to a rail crossing (JN 202211) $36,960 is being transferred from this job to a force acount to pay for job # 202211. ",2000000]
[2018,"CASS","MDOT","M-60","M-60 near Pine Lake Road",0.74,"Traffic ops/safety","High Friction Surface Treatment","CON",null,301119,"HSIP",33458,"M",null,null,{"$f":"K38+O38+M38","v":334577},132633,null,"2018-02-27","Add","exempt",null,null,null,null,null,"2018-03-27"]
[2018,"CASS","MDOT","M-60","M-60 near Pine Lake Road",0.74,"Traffic ops/safety","High Friction Surface Treatment","PE",null,52920,"HSIP",5880,"M",null,null,{"$f":"K39+O39+M39","v":58800},132633,null,"2018-02-27","Add","Exempt",null,null,null,null,null,"2018-03-27"]
[2018,"Cass","MDOT","M-62","M-62 from US-12 (in Edwardsburg)  to Hilton Steet (in Village of Cassopolis)",9.452,"Resurface","Mill and One Course Hot Mix Asphalt Overlay","CON",null,null,null,2347325,"M",null,null,{"$f":"K40+O40+M40","v":2347325},200483,null,"2018-02-27","Add","Exempt",null,null,null,null,null,"2018-03-27"]
[2018,"CASS","MDOT","US-12 Rail corssing","CN (Grand Trunk Western) crossing of US-12 in Edwardsburg",0,"Rail","The eastern railroad crossing of the double track will be raised so that it is in alignment with the western track","CON",null,null,null,null,null,null,null,null,202211,null,"2017-08-31",null,"Exempt","Adminstative Modification: $36,960 is being transferred from Job# 128723 in to a force acount to pay for this portion of the US-12 resurfacing project. ",2000000]
[2019,"BERRIEN","Berrien County","N Main St","City limits to 400 feet South of Reed",1.1100000000000001,"Resurface","2\" HMA overlay","CON","AC",115536,"STU",null,"",79732,"CNTY",{"$f":"K42+M42+O42","v":195268},130684,null,"2016-06-28",null,"Exempt","Added to TIP 6/28/16 Partial Advance Construct; $37,732 being converted. Converted in 2020",233000]
[2019,"BERRIEN","Berrien County","Bertrand Rd","Portage to Copp ",1.1499999999999999,"Resurface","2\" HMA overlay and gravel shoulders","CON",null,191000,"STU",null,"",43000,"CNTY",{"$f":"K43+M43+O43","v":234000},130775,null,"2016-06-28",null,"Exempt",null,234000]
[2019,"Berrien","Buchanan Dial-A-Ride","Public transit Operations","City of Nuchanan & Buchanan Township",null,"Transit operations","Regular Public Transit Operating Funds","T-Ops",null,24629,5311,81365,"CTF",101579,"TRAL",{"$f":"K44+O44+M44","v":207573},null,null,"2018-02-27","Add","Exempt",null,null,null,null,null,"2018-03-27"]
[2019,"Berrien","MDOT","US-12","Dayton Lake Road to Mayflower Road",6.8540000000000001,"Restore & rehabilitate","Mill & Two Course HMA Overlay","ROW",null,0,null,41700,"M",null,null,{"$f":"K45+O45+M45","v":41700},127449,null,"2018-02-27","Add","exempt",null,null,null,null,null,"2018-03-27"]
[2019,"BERRIEN","Niles Dial-A-Ride","Public Transit Operations","City of Niles and Niles Township",null,"Transit operations","Regular Public Transit Operating Funds","T-Ops",null,159000,5307,139000,"CTF",93000,"CITY",{"$f":"K46+M46+O46","v":391000},null,null,"2016-06-28",null,"Exempt",null,391000]
[2019,"BERRIEN","Niles Dial-A-Ride","Preventative Maintenance","City of Niles and Niles Township",null,"Transit maintenance equipment and parts","Preventative Maintenance","T-Cap",null,132000,5307,33000,"CTF",null,null,{"$f":"K47+M47+O47","v":165000},null,null,"2016-06-28",null,"Exempt",null,165000]
[2019,"Berrien","Niles Dial-A-Ride","Mobile Data System","City of Niles and Niles Township",null,"Transit operations equipment","Tablets and dispatch software for on-board mobile data system","T-Ops",null,9000,5339,2400,"CTF",null,null,{"$f":"K48+O48+M48","v":11400},null,null,"2018-01-23","Add","Exempt",null,null,null,null,null,"2018-03-27"]
[2019,"Berrien","Niles Dial-A-Ride","Electronic Door Locks","City of Niles and Niles Township",null,"Transit facility","electronic door locsk for the front enterance to the DART facility","T-Cap",null,7040,5339,1750,"CTF",null,null,{"$f":"K49+O49+M49","v":8790},null,null,"2018-01-23","Add","exempt",null,null,null,null,null,"2018-03-27"]
[2019,"CASS","Cass County","Redfield St","Conrad Road to M-62",1.0349999999999999,"Resurface","Mill and replace HMA ","CON",null,174340,"STU",null,"",38660,"CNTY",{"$f":"K50+M50+O50","v":213000},130772,null,"2016-06-28",null,"Exempt",null,213000]
[2019,"Cass","MDOT","M-51","City of Niles to City of Dowagiac",11.18,"Resurface","Mill and One Course Hot Mix Asphalt Overlay","PE",null,0,null,110673,"M",null,null,{"$f":"K51+O51+M51","v":110673},200642,null,"2018-02-27","Add","exempt",null,null,null,null,null,"2018-03-27"]
[2019,"Cass","MDOT","M-62","M-62 at May Street",0.16300000000000001,"Widen - minor","Offset Right Turn Lane","PE",null,53100,"HSIP",5900,"M",null,null,{"$f":"K52+O52+M52","v":59000},202018,null,"2018-02-27","Add","Exempt",null,null,null,null,null,"2018-03-27"]
[2020,"BERRIEN","Berrien County","N Main St","City limits to 400 feet South of Reed",1.1100000000000001,"Resurface","2\" HMA overlay","CON","ACC",37732,"STU",null,"",0,"CNTY",{"$f":"K53+M53+O53","v":37732},130684,null,"2016-06-28",null,"Exempt","Added to TIP 6/28/16 Partial Advance Construct; Conversion",233000]
[2020,"BERRIEN","Berrien County","3rd St","US-12 to Fulkerson Road",1.2290000000000001,"Resurface","2\" HMA overlay with gravel shoulders","CON",null,231800,"STU",null,"",51401,"CNTY",{"$f":"K54+M54+O54","v":283201},130769,null,"2016-06-28",null,"Exempt",null,283201]
[2020,"BERRIEN","MDOT","US-31","over US-12",0.41,"Restore & rehabilitate","Shallow Overlay, Full Paint, Pin and Hangers","CON",null,2723968,"NH",604032,"M",0,"",{"$f":"K55+M55+O55","v":3328000},129876,null,"2016-06-28",null,"Exempt",null,3784000]
[2020,"Berrien","MDOT","US-12 E","US-12 over St. Joseph River",0,"Bridge - other","Epoxy Ovly, Full Pt, Steel Beam Repairs, Pin & Hanger Rplc, Micropiles","PE",null,null,null,23619,"M",null,null,{"$f":"K56+O56+M56","v":23619},201224,null,"2018-02-27","Add","exempt",null,null,null,null,null,"2018-03-27"]
[2020,"Berrien","MDOT","US-12 E","US-12 over St. Joseph River",0,"Bridge - other","Epoxy Ovly, Full Pt, Steel Beam Repairs, Pin & Hanger Rplc, Micropiles","SUB",null,null,null,578670,"M",null,null,{"$f":"K57+O57+M57","v":578670},201224,null,"2018-02-27","Add","Exempt",null,null,null,null,null,"2018-03-27"]
[2020,"Berrien","MDOT","US-31 N","US-12 (Exit 3) to Walton Road (Exit 7)",4.3680000000000003,"Resurface","Hot Mix Asphalt Overlay","PE",null,null,null,1400000,"M",null,null,{"$f":"K58+O58+M58","v":1400000},201984,null,"2018-02-27","Add","exempt",null,null,null,null,null,"2018-03-27"]
[2020,"Berrien","MDOT","US-12 E","M-51 Interchange",1.0449999999999999,"Reconstruct","Bridge Replacement and Interchange Reconstruction","PE",null,null,null,1400000,"M",null,null,{"$f":"K59+O59+M59","v":1400000},202003,null,"2018-02-27","Add","Exempt",null,null,null,null,null,"2018-03-27"]
[2020,"Berrien","MDOT","US-12 E","M-51 Interchange",1.0449999999999999,"Reconstruct","Bridge Replacement and Interchange Reconstruction","SUB",null,null,null,850000,"M",null,null,{"$f":"K60+O60+M60","v":850000},202003,null,"2018-02-27","Add","exempt",null,null,null,null,null,"2018-03-27"]
[2020,"BERRIEN","Niles Dial-A-Ride","Public Transit Operations","City of Niles and Niles Township",null,"Transit operations","Regular Public Transit Operating Funds","T-Ops",null,159000,5307,139000,"CTF",93000,"CITY",{"$f":"K61+M61+O61","v":391000},null,null,"2016-06-28",null,"Exempt",null,391000]
[2020,"BERRIEN","Niles Dial-A-Ride","Preventative Maintenance","City of Niles and Niles Township",null,"Transit maintenance equipment and parts","Preventative Maintenance","T-Cap",null,111000,5307,28000,"CTF",null,null,139000,null,null,"2016-06-28",null,"Exempt",null,139000]
[2020,"BERRIEN","Niles Dial-A-Ride","Computers","City of Niles and Niles Township",null,"Transit capital","Purchase up to five (5) computers for use at Niles Dial-A-Ride Transportation","T-Cap",null,6400,5307,1600,"CTF",null,null,8000,null,null,"2016-06-28",null,"Exempt",null,8000]
[2020,"BERRIEN","Niles Dial-A-Ride","Bus Replacement","City of Niles and Niles Township",null,"Transit vehicle additions/replacements","Replace one cutaway bus that has met its age or mileage requirements with a new cutaway bus.","T-Cap",null,56000,5339,14000,"CTF",null,null,70000,null,null,"2016-06-28",null,"Exempt",null,70000]
[2020,"CASS","Cass County","Lake St","Airport Road to Huntly",1.514,"Resurface","Mill and Fill ","CON",null,220995,"STU",null,"",49005,"CNTY",270000,130763,null,"2016-06-28",null,"Exempt",null,270000]
[2020,"CASS","Cass County","Mason St","Cassopolis Road to Calvin Center Road",2.15,"Resurface","HMA overlay, shoulders, signage, pavement markings","CON","ACC",28081,"STU",null,"",0,"CNTY",28081,130776,null,"2016-06-28",null,"Exempt","Added to TIP 6/28/16 Partial Advance Construct Conversion. ",224999]
[2020,"Cass","Cass County Road Commission","Ontwa Township Complete Streets Phase 2","US-12 and Claire Street",0.1,"Traffic ops/safety","HAWK Signal and Bicyle/Pedestrial Pathway","CON",null,130777,"TAU",null,null,87120,"CNTY",{"$f":"K67+O67","v":217897},null,null,"2017-03-28",null,"exempt","Approved 3/28/17",217897]
[2020,"CASS","MDOT","M-51","City of Niles to City of Dowagiac",11.18,"Resurface","Mill and One Course Hot Mix Asphalt Overlay","CON",null,0,null,2988161,"M",null,null,{"$f":"K68+O68+M68","v":2988161},200642,null,"2018-02-27","Add","Exempt",null,null,null,null,null,"2018-03-27"]

{"sheet":"FY 2017","index":1,"n_rows":44,"n_cols":4,"rows_kept":44,"cut":false,"hidden":false,"merged":[[0,1,0,3]]}
[null,"FY 2017"]
["Highway Program","Estimated Federal Commitments","Estimated Non-Federal Commitments","Total Proposed Commitments"]
["MDOT AC & M Program",null,{"$f":"D3","v":0},{"$f":"SUM('MDOT FTA Detail'!F135:F169)+'MDOT FTA Detail'!F171","v":0}]
["MDOT FA Program",{"$f":"SUM('MDOT FTA Detail'!D6:D109)","v":283091.03690000001},{"$f":"SUM('MDOT FTA Detail'!E6:E109)","v":33282.09149999998},{"$f":"SUM('MDOT FTA Detail'!F6:F109)","v":316373.12839999999}]
["Sub-Total MDOT",{"$f":"B4","v":283091.03690000001},{"$f":"C3+C4","v":33282.09149999998},{"$f":"D3+D4","v":316373.12839999999}]
["Local STP",{"$f":"SUM('Local Detail'!D78,'Local Detail'!D79,'Local Detail'!D82:D97,'Local Detail'!D72:D73,'Local Detail'!D53:D54,'Local Detail'!D24)","v":514820},{"$f":"D6-B6","v":183969},{"$f":"SUM('Local Detail'!F78,'Local Detail'!F79,'Local Detail'!F82:F97,'Local Detail'!F72:F73,'Local Detail'!F53:F54,'Local Detail'!F24)","v":698789}]
["Local Bridge",{"$f":"SUM('Local Detail'!D6:D9,'Local Detail'!D13:D16,'Local Detail'!D102,'Local Detail'!D11:D11,'Local Detail'!D43)","v":0},0,{"$f":"SUM('Local Detail'!F6:F9,'Local Detail'!F13:F16,'Local Detail'!F102,'Local Detail'!F11:F11,'Local Detail'!F43)","v":0}]
["Local CMAQ",{"$f":"SUM('Local Detail'!D20:D23)","v":12000},0,{"$f":"SUM('Local Detail'!F20:F23)","v":12000}]
["Local Safety",{"$f":"SUM('Local Detail'!D46,'Local Detail'!D48,'Local Detail'!D80:D81)","v":54000},6000,{"$f":"SUM('Local Detail'!F46,'Local Detail'!F48,'Local Detail'!F80:F81)","v":60000}]
["Local Equity Bonus (TEDF)",{"$f":"SUM('Local Detail'!D31:D38)","v":0},0,{"$f":"SUM('Local Detail'!F31:F38)","v":0}]
["Local Other FHWA",{"$f":"SUM('Local Detail'!D10,'Local Detail'!D12,'Local Detail'!D17:D19,'Local Detail'!D25:D30,'Local Detail'!D39:D42,'Local Detail'!D44:D45,'Local Detail'!D47,'Local Detail'!D49:D52,'Local Detail'!D55:D71,'Local Detail'!D103:D109,'Local Detail'!D98:D101,'Local Detail'!D74:D77)","v":0},0,{"$f":"SUM('Local Detail'!F10,'Local Detail'!F12,'Local Detail'!F17:F19,'Local Detail'!F25:F30,'Local Detail'!F39:F42,'Local Detail'!F44:F45,'Local Detail'!F47,'Local Detail'!F49:F52,'Local Detail'!F55:F71,'Local Detail'!F103:F109,'Local Detail'!F98:F101,'Local Detail'!F74:F77)","v":0}]
["Local AC Starts",null,{"$f":"D12","v":0},{"$f":"'Local Detail'!F147","v":0}]
["Local Non-Federal",null,{"$f":"D13","v":0},{"$f":"SUM('Local Detail'!F111:F145)","v":0}]
["Sub-Total Local",{"$f":"SUM(B6:B11)","v":580820},{"$f":"SUM(C6:C13)","v":189969},{"$f":"SUM(D6:D13)","v":770789}]
["Total Highway",{"$f":"B14+B5","v":863911.03689999995},{"$f":"C14+C5","v":223251.09149999998},{"$f":"D14+D5","v":1087162.1284}]
[]
[]
["Transit Fund Source","Estimated Federal Commitments","Estimated Non-Federal Commitments","Total Proposed Commitments"]
["CTF - Comprehensive Transit Fund",{"$f":"'MDOT FTA Detail'!D110","v":0},{"$f":"IF(B19>0,D19-B19,'MDOT FTA Detail'!E134+'Local Detail'!E110)","v":0},{"$f":"'Local Detail'!F110+'MDOT FTA Detail'!F134+'MDOT FTA Detail'!F110","v":0}]
["Section 3038 - Over the Road Bus Program",{"$f":"'MDOT FTA Detail'!D111","v":0},{"$f":"D20-B20","v":0},{"$f":"'MDOT FTA Detail'!F111","v":0}]
["Section 3045 - National Fuel Cell Technology Development Program",{"$f":"'MDOT FTA Detail'!D112","v":0},{"$f":"D21-B21","v":0},{"$f":"'MDOT FTA Detail'!F112","v":0}]
["Section 5303 - Metropolitan Transportation Planning",{"$f":"'MDOT FTA Detail'!D113","v":0},0,{"$f":"'MDOT FTA Detail'!F113","v":0}]
["Section 5304 - Statewide Transportation Planning",{"$f":"'MDOT FTA Detail'!D114","v":0},0,{"$f":"'MDOT FTA Detail'!F114","v":0}]
["Section 5305 - Metropolitan and Statewide Planning",{"$f":"'MDOT FTA Detail'!D115","v":0},0,{"$f":"'MDOT FTA Detail'!F115","v":0}]
["Section 5307 - UZA Formula",{"$f":"'MDOT FTA Detail'!D116","v":291000},265000,{"$f":"'MDOT FTA Detail'!F116","v":556000}]
["Section 5308 - Clean Fuels Program",{"$f":"'MDOT FTA Detail'!D117","v":0},0,{"$f":"'MDOT FTA Detail'!F117","v":0}]
["Section 5309 - Fixed Guideway Capital Investment Grant",{"$f":"'MDOT FTA Detail'!D118","v":0},0,{"$f":"'MDOT FTA Detail'!F118","v":0}]
["Section 5310 - Enhanced Mobility of Seniors and Individuals with Disabilities",{"$f":"'MDOT FTA Detail'!D119","v":0},0,{"$f":"'MDOT FTA Detail'!F119","v":0}]
["Section 5311 - Non-UZA ",{"$f":"'MDOT FTA Detail'!D120","v":0},0,{"$f":"'MDOT FTA Detail'!F120","v":0}]
["Section 5312 - Research, Development, Demonstration, and Deployment",{"$f":"'MDOT FTA Detail'!D121","v":0},{"$f":"D30-B30","v":0},{"$f":"'MDOT FTA Detail'!F121","v":0}]
["Section 5313 - Transit Cooperative Research Program",{"$f":"'MDOT FTA Detail'!D122","v":0},0,{"$f":"'MDOT FTA Detail'!F122","v":0}]
["Section 5314 - Technical Assistance and Standards",{"$f":"'MDOT FTA Detail'!D123","v":0},0,{"$f":"'MDOT FTA Detail'!F123","v":0}]
["Section 5316 - Transit - Section 5316 - Job Access/Reverse Commute",{"$f":"'MDOT FTA Detail'!D124","v":0},0,{"$f":"'MDOT FTA Detail'!F124","v":0}]
["Section 5317 - Transit - Section 5317 - New Freedom Initiative",{"$f":"'MDOT FTA Detail'!D125","v":0},0,{"$f":"'MDOT FTA Detail'!F125","v":0}]
["Section 5320 - Alternative Transportation in Parks and Public Lands",{"$f":"'MDOT FTA Detail'!D126","v":0},0,{"$f":"'MDOT FTA Detail'!F126","v":0}]
["Section 5322 - Human Resources and Training",{"$f":"'MDOT FTA Detail'!D127","v":0},{"$f":"D36-B36","v":0},{"$f":"'MDOT FTA Detail'!F127","v":0}]
["Section 5324 - Emergency Relief",{"$f":"'MDOT FTA Detail'!D128","v":0},{"$f":"D37-B37","v":0},{"$f":"'MDOT FTA Detail'!F128","v":0}]
["Section 5326 - Asset Management Provisions",{"$f":"'MDOT FTA Detail'!D129","v":0},{"$f":"D38-B38","v":0},{"$f":"'MDOT FTA Detail'!F129","v":0}]
["Section 5329 - Safety",{"$f":"'MDOT FTA Detail'!D130","v":0},{"$f":"D39-B39","v":0},{"$f":"'MDOT FTA Detail'!F130","v":0}]
["Section 5337 - State of Good Repair Grants",{"$f":"'MDOT FTA Detail'!D131","v":0},{"$f":"D40-B40","v":0},{"$f":"'MDOT FTA Detail'!F131","v":0}]
["Section 5339 - Bus and Bus Facilities",{"$f":"'MDOT FTA Detail'!D132","v":56000},14000,{"$f":"'MDOT FTA Detail'!F132","v":70000}]
["Section 5505 - University Transportation Centers Program",{"$f":"'MDOT FTA Detail'!D133","v":0},0,{"$f":"'MDOT FTA Detail'!F133","v":0}]
["Total Transit",{"$f":"SUM(B19:B42)","v":347000},{"$f":"SUM(C19:C42)","v":279000},{"$f":"SUM(D19:D42)","v":626000}]
["Grand Total",{"$f":"B43+B15","v":1210911.0368999999},{"$f":"C43+C15","v":502251.09149999998},{"$f":"D43+D15","v":1713162.1284}]

{"sheet":"FY 2018","index":2,"n_rows":44,"n_cols":4,"rows_kept":44,"cut":false,"hidden":false,"merged":[[0,1,0,3]]}
[null,"FY 2018"]
["Highway Program","Estimated Federal Commitments","Estimated Non-Federal Commitments","Total Proposed Commitments"]
["MDOT AC & M Program",null,{"$f":"D3","v":2947325},{"$f":"SUM('MDOT FTA Detail'!I135:I169)+'MDOT FTA Detail'!I171","v":2947325}]
["MDOT FA Program",{"$f":"SUM('MDOT FTA Detail'!G6:G109)","v":2184206},{"$f":"D4-B4","v":424471},{"$f":"SUM('MDOT FTA Detail'!I6:I109)","v":2608677}]
["Sub-Total MDOT",{"$f":"B4","v":2184206},{"$f":"C3+C4","v":3371796},{"$f":"D3+D4","v":5556002}]
["Local STP",{"$f":"SUM('Local Detail'!G78,'Local Detail'!G79,'Local Detail'!G82:G97,'Local Detail'!G72:G73,'Local Detail'!G53:G54,'Local Detail'!G24)","v":490527},{"$f":"D6-B6","v":141800},{"$f":"SUM('Local Detail'!I78,'Local Detail'!I79,'Local Detail'!I82:I97,'Local Detail'!I72:I73,'Local Detail'!I53:I54,'Local Detail'!I24)","v":632327}]
["Local Bridge",{"$f":"SUM('Local Detail'!G6:G9,'Local Detail'!G13:G16,'Local Detail'!G102,'Local Detail'!G11:G11,'Local Detail'!G43)","v":0},0,{"$f":"SUM('Local Detail'!I6:I9,'Local Detail'!I13:I16,'Local Detail'!I102,'Local Detail'!I11:I11,'Local Detail'!I43)","v":0}]
["Local CMAQ",{"$f":"SUM('Local Detail'!G20:G23)","v":148260},37065,{"$f":"SUM('Local Detail'!I20:I23)","v":185325}]
["Local Safety",{"$f":"SUM('Local Detail'!G46,'Local Detail'!G48,'Local Detail'!G80:G81)","v":20464},2274,{"$f":"SUM('Local Detail'!I46,'Local Detail'!I48,'Local Detail'!I80:I81)","v":22738}]
["Local Equity Bonus (TEDF)",{"$f":"SUM('Local Detail'!G31:G38)","v":0},0,{"$f":"SUM('Local Detail'!I31:I38)","v":0}]
["Local Other FHWA",{"$f":"SUM('Local Detail'!G10,'Local Detail'!G12,'Local Detail'!G17:G19,'Local Detail'!G25:G30,'Local Detail'!G39:G42,'Local Detail'!G44:G45,'Local Detail'!G47,'Local Detail'!G49:G52,'Local Detail'!G55:G71,'Local Detail'!G103:G109,'Local Detail'!G98:G101,'Local Detail'!G74:G77)","v":581813},329454,{"$f":"SUM('Local Detail'!I10,'Local Detail'!I12,'Local Detail'!I17:I19,'Local Detail'!I25:I30,'Local Detail'!I39:I42,'Local Detail'!I44:I45,'Local Detail'!I47,'Local Detail'!I49:I52,'Local Detail'!I55:I71,'Local Detail'!I103:I109,'Local Detail'!I98:I101,'Local Detail'!I74:I77)","v":911267}]
["Local AC Starts",null,{"$f":"D12","v":68918},{"$f":"'Local Detail'!I147","v":68918}]
["Local Non-Federal",null,{"$f":"D13","v":0},{"$f":"SUM('Local Detail'!I111:I145)","v":0}]
["Sub-Total Local",{"$f":"SUM(B6:B11)","v":1241064},{"$f":"SUM(C6:C13)","v":579511},{"$f":"SUM(D6:D13)","v":1820575}]
["Total Highway",{"$f":"B14+B5","v":3425270},{"$f":"C14+C5","v":3951307},{"$f":"D14+D5","v":7376577}]
[]
[]
["Transit Fund Source","Estimated Federal Commitments","Estimated Non-Federal Commitments","Total Proposed Commitments"]
["CTF - Comprehensive Transit Fund",{"$f":"'MDOT FTA Detail'!G110","v":0},{"$f":"IF(B19>0,D19-B19,'MDOT FTA Detail'!H134+'Local Detail'!H110)","v":0},{"$f":"'MDOT FTA Detail'!I110+'MDOT FTA Detail'!I134+'Local Detail'!I110","v":0}]
["Section 3038 - Over the Road Bus Program",{"$f":"'MDOT FTA Detail'!G111","v":0},{"$f":"D20-B20","v":0},{"$f":"'MDOT FTA Detail'!I111","v":0}]
["Section 3045 - National Fuel Cell Technology Development Program",{"$f":"'MDOT FTA Detail'!G112","v":0},{"$f":"D21-B21","v":0},{"$f":"'MDOT FTA Detail'!I112","v":0}]
["Section 5303 - Metropolitan Transportation Planning",{"$f":"'MDOT FTA Detail'!G113","v":0},0,{"$f":"'MDOT FTA Detail'!I113","v":0}]
["Section 5304 - Statewide Transportation Planning",{"$f":"'MDOT FTA Detail'!G114","v":0},0,{"$f":"'MDOT FTA Detail'!I114","v":0}]
["Section 5305 - Metropolitan and Statewide Planning",{"$f":"'MDOT FTA Detail'!G115","v":0},0,{"$f":"'MDOT FTA Detail'!I115","v":0}]
["Section 5307 - UZA Formula",{"$f":"'MDOT FTA Detail'!G116","v":291000},265000,{"$f":"'MDOT FTA Detail'!I116","v":556000}]
["Section 5308 - Clean Fuels Program",{"$f":"'MDOT FTA Detail'!G117","v":0},0,{"$f":"'MDOT FTA Detail'!I117","v":0}]
["Section 5309 - Fixed Guideway Capital Investment Grant",{"$f":"'MDOT FTA Detail'!G118","v":0},0,{"$f":"'MDOT FTA Detail'!I118","v":0}]
["Section 5310 - Enhanced Mobility of Seniors and Individuals with Disabilities",{"$f":"'MDOT FTA Detail'!G119","v":0},0,{"$f":"'MDOT FTA Detail'!I119","v":0}]
["Section 5311 - Non-UZA ",{"$f":"'MDOT FTA Detail'!G120","v":31927},176571,{"$f":"'MDOT FTA Detail'!I120","v":208498}]
["Section 5312 - Research, Development, Demonstration, and Deployment",{"$f":"'MDOT FTA Detail'!G121","v":0},{"$f":"D30-B30","v":0},{"$f":"'MDOT FTA Detail'!I121","v":0}]
["Section 5313 - Transit Cooperative Research Program",{"$f":"'MDOT FTA Detail'!G122","v":0},0,{"$f":"'MDOT FTA Detail'!I122","v":0}]
["Section 5314 - Technical Assistance and Standards",{"$f":"'MDOT FTA Detail'!G123","v":0},0,{"$f":"'MDOT FTA Detail'!I123","v":0}]
["Section 5316 - Transit - Section 5316 - Job Access/Reverse Commute",{"$f":"'MDOT FTA Detail'!G124","v":0},0,{"$f":"'MDOT FTA Detail'!I124","v":0}]
["Section 5317 - Transit - Section 5317 - New Freedom Initiative",{"$f":"'MDOT FTA Detail'!G125","v":0},0,{"$f":"'MDOT FTA Detail'!I125","v":0}]
["Section 5320 - Alternative Transportation in Parks and Public Lands",{"$f":"'MDOT FTA Detail'!G126","v":0},0,{"$f":"'MDOT FTA Detail'!I126","v":0}]
["Section 5322 - Human Resources and Training",{"$f":"'MDOT FTA Detail'!G127","v":0},{"$f":"D36-B36","v":0},{"$f":"'MDOT FTA Detail'!I127","v":0}]
["Section 5324 - Emergency Relief",{"$f":"'MDOT FTA Detail'!G128","v":0},{"$f":"D37-B37","v":0},{"$f":"'MDOT FTA Detail'!I128","v":0}]
["Section 5326 - Asset Management Provisions",{"$f":"'MDOT FTA Detail'!G129","v":0},{"$f":"D38-B38","v":0},{"$f":"'MDOT FTA Detail'!I129","v":0}]
["Section 5329 - Safety",{"$f":"'MDOT FTA Detail'!G130","v":0},{"$f":"D39-B39","v":0},{"$f":"'MDOT FTA Detail'!I130","v":0}]
["Section 5337 - State of Good Repair Grants",{"$f":"'MDOT FTA Detail'!G131","v":0},{"$f":"D40-B40","v":0},{"$f":"'MDOT FTA Detail'!I131","v":0}]
["Section 5339 - Bus and Bus Facilities",{"$f":"'MDOT FTA Detail'!G132","v":63200},15800,{"$f":"'MDOT FTA Detail'!I132","v":79000}]
["Section 5505 - University Transportation Centers Program",{"$f":"'MDOT FTA Detail'!G133","v":0},0,{"$f":"'MDOT FTA Detail'!I133","v":0}]
["Total Transit",{"$f":"SUM(B19:B42)","v":386127},{"$f":"SUM(C19:C42)","v":457371},{"$f":"SUM(D19:D42)","v":843498}]
["Grand Total",{"$f":"B43+B15","v":3811397},{"$f":"C43+C15","v":4408678},{"$f":"D43+D15","v":8220075}]

{"sheet":"FY 2019","index":3,"n_rows":44,"n_cols":4,"rows_kept":44,"cut":false,"hidden":false,"merged":[[0,1,0,3]]}
[null,"FY 2019"]
["Highway Program","Estimated Federal Commitments","Estimated Non-Federal Commitments","Total Proposed Commitments"]
["MDOT AC & M Program",null,{"$f":"D3","v":152373},{"$f":"SUM('MDOT FTA Detail'!L135:L169)+'MDOT FTA Detail'!L171","v":152373}]
["MDOT FA Program",{"$f":"SUM('MDOT FTA Detail'!J6:J109)","v":53100},{"$f":"D4-B4","v":5900},{"$f":"SUM('MDOT FTA Detail'!L6:L109)","v":59000}]
["Sub-Total MDOT",{"$f":"B4","v":53100},{"$f":"C3+C4","v":158273},{"$f":"D3+D4","v":211373}]
["Local STP",{"$f":"SUM('Local Detail'!J78,'Local Detail'!J79,'Local Detail'!J82:J97,'Local Detail'!J72:J73,'Local Detail'!J53:J54,'Local Detail'!J24)","v":480876},{"$f":"D6-B6","v":81660},{"$f":"SUM('Local Detail'!L78,'Local Detail'!L79,'Local Detail'!L82:L97,'Local Detail'!L72:L73,'Local Detail'!L53:L54,'Local Detail'!L24)","v":562536}]
["Local Bridge",{"$f":"SUM('Local Detail'!J6:J9,'Local Detail'!J13:J16,'Local Detail'!J102,'Local Detail'!J11:J11,'Local Detail'!J43)","v":0},0,{"$f":"SUM('Local Detail'!L6:L9,'Local Detail'!L13:L16,'Local Detail'!L102,'Local Detail'!L11:L11,'Local Detail'!L43)","v":0}]
["Local CMAQ",{"$f":"SUM('Local Detail'!J20:J23)","v":0},0,{"$f":"SUM('Local Detail'!L20:L23)","v":0}]
["Local Safety",{"$f":"SUM('Local Detail'!J46,'Local Detail'!J48,'Local Detail'!J80:J81)","v":0},0,{"$f":"SUM('Local Detail'!L46,'Local Detail'!L48,'Local Detail'!L80:L81)","v":0}]
["Local Equity Bonus (TEDF)",{"$f":"SUM('Local Detail'!J31:J38)","v":0},0,{"$f":"SUM('Local Detail'!L31:L38)","v":0}]
["Local Other FHWA",{"$f":"SUM('Local Detail'!J10,'Local Detail'!J12,'Local Detail'!J17:J19,'Local Detail'!J25:J30,'Local Detail'!J39:J42,'Local Detail'!J44:J45,'Local Detail'!J47,'Local Detail'!J49:J52,'Local Detail'!J55:J71,'Local Detail'!J103:J109,'Local Detail'!J98:J101,'Local Detail'!J74:J77)","v":0},0,{"$f":"SUM('Local Detail'!L10,'Local Detail'!L12,'Local Detail'!L17:L19,'Local Detail'!L25:L30,'Local Detail'!L39:L42,'Local Detail'!L44:L45,'Local Detail'!L47,'Local Detail'!L49:L52,'Local Detail'!L55:L71,'Local Detail'!L103:L109,'Local Detail'!L98:L101,'Local Detail'!L74:L77)","v":0}]
["Local AC Starts",null,{"$f":"D12","v":79732},{"$f":"'Local Detail'!L147","v":79732}]
["Local Non-Federal",null,{"$f":"D13","v":0},{"$f":"SUM('Local Detail'!L111:L145)","v":0}]
["Sub-Total Local",{"$f":"SUM(B6:B11)","v":480876},{"$f":"SUM(C6:C13)","v":161392},{"$f":"SUM(D6:D13)","v":642268}]
["Total Highway",{"$f":"B14+B5","v":533976},{"$f":"C14+C5","v":319665},{"$f":"D14+D5","v":853641}]
[]
[]
["Transit Fund Source","Estimated Federal Commitments","Estimated Non-Federal Commitments","Total Proposed Commitments"]
["CTF - Comprehensive Transit Fund",{"$f":"'MDOT FTA Detail'!J110","v":0},{"$f":"IF(B19>0,D19-B19,'MDOT FTA Detail'!K134+'Local Detail'!K110)","v":0},{"$f":"'MDOT FTA Detail'!L110+'MDOT FTA Detail'!L134+'Local Detail'!L110","v":0}]
["Section 3038 - Over the Road Bus Program",{"$f":"'MDOT FTA Detail'!J111","v":0},{"$f":"D20-B20","v":0},{"$f":"'MDOT FTA Detail'!L111","v":0}]
["Section 3045 - National Fuel Cell Technology Development Program",{"$f":"'MDOT FTA Detail'!J112","v":0},{"$f":"D21-B21","v":0},{"$f":"'MDOT FTA Detail'!L112","v":0}]
["Section 5303 - Metropolitan Transportation Planning",{"$f":"'MDOT FTA Detail'!J113","v":0},0,{"$f":"'MDOT FTA Detail'!L113","v":0}]
["Section 5304 - Statewide Transportation Planning",{"$f":"'MDOT FTA Detail'!J114","v":0},0,{"$f":"'MDOT FTA Detail'!L114","v":0}]
["Section 5305 - Metropolitan and Statewide Planning",{"$f":"'MDOT FTA Detail'!J115","v":0},0,{"$f":"'MDOT FTA Detail'!L115","v":0}]
["Section 5307 - UZA Formula",{"$f":"'MDOT FTA Detail'!J116","v":291000},265000,{"$f":"'MDOT FTA Detail'!L116","v":556000}]
["Section 5308 - Clean Fuels Program",{"$f":"'MDOT FTA Detail'!J117","v":0},0,{"$f":"'MDOT FTA Detail'!L117","v":0}]
["Section 5309 - Fixed Guideway Capital Investment Grant",{"$f":"'MDOT FTA Detail'!J118","v":0},0,{"$f":"'MDOT FTA Detail'!L118","v":0}]
["Section 5310 - Enhanced Mobility of Seniors and Individuals with Disabilities",{"$f":"'MDOT FTA Detail'!J119","v":0},0,{"$f":"'MDOT FTA Detail'!L119","v":0}]
["Section 5311 - Non-UZA ",{"$f":"'MDOT FTA Detail'!J120","v":24629},182944,{"$f":"'MDOT FTA Detail'!L120","v":207573}]
["Section 5312 - Research, Development, Demonstration, and Deployment",{"$f":"'MDOT FTA Detail'!J121","v":0},{"$f":"D30-B30","v":0},{"$f":"'MDOT FTA Detail'!L121","v":0}]
["Section 5313 - Transit Cooperative Research Program",{"$f":"'MDOT FTA Detail'!J122","v":0},0,{"$f":"'MDOT FTA Detail'!L122","v":0}]
["Section 5314 - Technical Assistance and Standards",{"$f":"'MDOT FTA Detail'!J123","v":0},0,{"$f":"'MDOT FTA Detail'!L123","v":0}]
["Section 5316 - Transit - Section 5316 - Job Access/Reverse Commute",{"$f":"'MDOT FTA Detail'!J124","v":0},0,{"$f":"'MDOT FTA Detail'!L124","v":0}]
["Section 5317 - Transit - Section 5317 - New Freedom Initiative",{"$f":"'MDOT FTA Detail'!J125","v":0},0,{"$f":"'MDOT FTA Detail'!L125","v":0}]
["Section 5320 - Alternative Transportation in Parks and Public Lands",{"$f":"'MDOT FTA Detail'!J126","v":0},0,{"$f":"'MDOT FTA Detail'!L126","v":0}]
["Section 5322 - Human Resources and Training",{"$f":"'MDOT FTA Detail'!J127","v":0},{"$f":"D36-B36","v":0},{"$f":"'MDOT FTA Detail'!L127","v":0}]
["Section 5324 - Emergency Relief",{"$f":"'MDOT FTA Detail'!J128","v":0},{"$f":"D37-B37","v":0},{"$f":"'MDOT FTA Detail'!L128","v":0}]
["Section 5326 - Asset Management Provisions",{"$f":"'MDOT FTA Detail'!J129","v":0},{"$f":"D38-B38","v":0},{"$f":"'MDOT FTA Detail'!L129","v":0}]
["Section 5329 - Safety",{"$f":"'MDOT FTA Detail'!J130","v":0},{"$f":"D39-B39","v":0},{"$f":"'MDOT FTA Detail'!L130","v":0}]
["Section 5337 - State of Good Repair Grants",{"$f":"'MDOT FTA Detail'!J131","v":0},{"$f":"D40-B40","v":0},{"$f":"'MDOT FTA Detail'!L131","v":0}]
["Section 5339 - Bus and Bus Facilities",{"$f":"'MDOT FTA Detail'!J132","v":16040},4150,{"$f":"'MDOT FTA Detail'!L132","v":20190}]
["Section 5505 - University Transportation Centers Program",{"$f":"'MDOT FTA Detail'!J133","v":0},0,{"$f":"'MDOT FTA Detail'!L133","v":0}]
["Total Transit",{"$f":"SUM(B19:B42)","v":331669},{"$f":"SUM(C19:C42)","v":452094},{"$f":"SUM(D19:D42)","v":783763}]
["Grand Total",{"$f":"B43+B15","v":865645},{"$f":"C43+C15","v":771759},{"$f":"D43+D15","v":1637404}]

{"sheet":"FY 2020","index":4,"n_rows":44,"n_cols":4,"rows_kept":44,"cut":false,"hidden":false,"merged":[[0,1,0,3]]}
[null,"FY 2020"]
["Highway Program","Estimated Federal Commitments","Estimated Non-Federal Commitments","Total Proposed Commitments"]
["MDOT AC & M Program",null,{"$f":"D3","v":7240450},{"$f":"SUM('MDOT FTA Detail'!O135:O169)+'MDOT FTA Detail'!O171","v":7240450}]
["MDOT FA Program",{"$f":"SUM('MDOT FTA Detail'!M6:M109)","v":2723968},{"$f":"D4-B4","v":604032},{"$f":"SUM('MDOT FTA Detail'!O6:O109)","v":3328000}]
["Sub-Total MDOT",{"$f":"B3+B4","v":2723968},{"$f":"D5-B5","v":7844482},{"$f":"D3+D4","v":10568450}]
["Local STP",{"$f":"SUM('Local Detail'!M78,'Local Detail'!M79,'Local Detail'!M82:M97,'Local Detail'!M72:M73,'Local Detail'!M53:M54,'Local Detail'!M24)","v":518608},100406,{"$f":"SUM('Local Detail'!O78,'Local Detail'!O79,'Local Detail'!O82:O97,'Local Detail'!O72:O73,'Local Detail'!O53:O54,'Local Detail'!O24)","v":619014}]
["Local Bridge",{"$f":"SUM('Local Detail'!M6:M9,'Local Detail'!M13:M16,'Local Detail'!M102,'Local Detail'!M11:M11,'Local Detail'!M43)","v":0},0,{"$f":"SUM('Local Detail'!O6:O9,'Local Detail'!O13:O16,'Local Detail'!O102,'Local Detail'!O11:O11,'Local Detail'!O43)","v":0}]
["Local CMAQ",{"$f":"SUM('Local Detail'!M20:M23)","v":0},0,{"$f":"SUM('Local Detail'!O20:O23)","v":0}]
["Local Safety",{"$f":"SUM('Local Detail'!M46,'Local Detail'!M48,'Local Detail'!M80:M81)","v":0},0,{"$f":"SUM('Local Detail'!O46,'Local Detail'!O48,'Local Detail'!O80:O81)","v":0}]
["Local Equity Bonus (TEDF)",{"$f":"SUM('Local Detail'!M31:M38)","v":0},0,{"$f":"SUM('Local Detail'!O31:O38)","v":0}]
["Local Other FHWA",{"$f":"SUM('Local Detail'!M10,'Local Detail'!M12,'Local Detail'!M17:M19,'Local Detail'!M25:M30,'Local Detail'!M39:M42,'Local Detail'!M44:M45,'Local Detail'!M47,'Local Detail'!M49:M52,'Local Detail'!M55:M71,'Local Detail'!M103:M109,'Local Detail'!M98:M101,'Local Detail'!M74:M77)","v":130777},87120,{"$f":"SUM('Local Detail'!O10,'Local Detail'!O12,'Local Detail'!O17:O19,'Local Detail'!O25:O30,'Local Detail'!O39:O42,'Local Detail'!O44:O45,'Local Detail'!O47,'Local Detail'!O49:O52,'Local Detail'!O55:O71,'Local Detail'!O103:O109,'Local Detail'!O98:O101,'Local Detail'!O74:O77)","v":217897}]
["Local AC Starts",null,{"$f":"D12","v":0},{"$f":"'Local Detail'!O147","v":0}]
["Local Non-Federal",null,{"$f":"D13","v":0},{"$f":"SUM('Local Detail'!O111:O145)","v":0}]
["Sub-Total Local",{"$f":"SUM(B6:B11)","v":649385},{"$f":"SUM(C6:C13)","v":187526},{"$f":"SUM(D6:D13)","v":836911}]
["Total Highway",{"$f":"B14+B5","v":3373353},{"$f":"C14+C5","v":8032008},{"$f":"D14+D5","v":11405361}]
[]
[]
["Transit Fund Source","Estimated Federal Commitments","Estimated Non-Federal Commitments","Total Proposed Commitments"]
["CTF - Comprehensive Transit Fund",{"$f":"'MDOT FTA Detail'!M110","v":0},{"$f":"IF(B19>0,D19-B19,'MDOT FTA Detail'!N134+'Local Detail'!N110)","v":0},{"$f":"'MDOT FTA Detail'!O110+'MDOT FTA Detail'!O134+'Local Detail'!O110","v":0}]
["Section 3038 - Over the Road Bus Program",{"$f":"'MDOT FTA Detail'!M111","v":0},{"$f":"D20-B20","v":0},{"$f":"'MDOT FTA Detail'!O111","v":0}]
["Section 3045 - National Fuel Cell Technology Development Program",{"$f":"'MDOT FTA Detail'!M112","v":0},{"$f":"D21-B21","v":0},{"$f":"'MDOT FTA Detail'!O112","v":0}]
["Section 5303 - Metropolitan Transportation Planning",{"$f":"'MDOT FTA Detail'!M113","v":0},0,{"$f":"'MDOT FTA Detail'!O113","v":0}]
["Section 5304 - Statewide Transportation Planning",{"$f":"'MDOT FTA Detail'!M114","v":0},0,{"$f":"'MDOT FTA Detail'!O114","v":0}]
["Section 5305 - Metropolitan and Statewide Planning",{"$f":"'MDOT FTA Detail'!M115","v":0},0,{"$f":"'MDOT FTA Detail'!O115","v":0}]
["Section 5307 - UZA Formula",{"$f":"'MDOT FTA Detail'!M116","v":276400},261600,{"$f":"'MDOT FTA Detail'!O116","v":538000}]
["Section 5308 - Clean Fuels Program",{"$f":"'MDOT FTA Detail'!M117","v":0},0,{"$f":"'MDOT FTA Detail'!O117","v":0}]
["Section 5309 - Fixed Guideway Capital Investment Grant",{"$f":"'MDOT FTA Detail'!M118","v":0},0,{"$f":"'MDOT FTA Detail'!O118","v":0}]
["Section 5310 - Enhanced Mobility of Seniors and Individuals with Disabilities",{"$f":"'MDOT FTA Detail'!M119","v":0},0,{"$f":"'MDOT FTA Detail'!O119","v":0}]
["Section 5311 - Non-UZA ",{"$f":"'MDOT FTA Detail'!M120","v":0},0,{"$f":"'MDOT FTA Detail'!O120","v":0}]
["Section 5312 - Research, Development, Demonstration, and Deployment",{"$f":"'MDOT FTA Detail'!M121","v":0},{"$f":"D30-B30","v":0},{"$f":"'MDOT FTA Detail'!O121","v":0}]
["Section 5313 - Transit Cooperative Research Program",{"$f":"'MDOT FTA Detail'!M122","v":0},0,{"$f":"'MDOT FTA Detail'!O122","v":0}]
["Section 5314 - Technical Assistance and Standards",{"$f":"'MDOT FTA Detail'!M123","v":0},0,{"$f":"'MDOT FTA Detail'!O123","v":0}]
["Section 5316 - Transit - Section 5316 - Job Access/Reverse Commute",{"$f":"'MDOT FTA Detail'!M124","v":0},0,{"$f":"'MDOT FTA Detail'!O124","v":0}]
["Section 5317 - Transit - Section 5317 - New Freedom Initiative",{"$f":"'MDOT FTA Detail'!M125","v":0},0,{"$f":"'MDOT FTA Detail'!O125","v":0}]
["Section 5320 - Alternative Transportation in Parks and Public Lands",{"$f":"'MDOT FTA Detail'!M126","v":0},0,{"$f":"'MDOT FTA Detail'!O126","v":0}]
["Section 5322 - Human Resources and Training",{"$f":"'MDOT FTA Detail'!M127","v":0},{"$f":"D36-B36","v":0},{"$f":"'MDOT FTA Detail'!O127","v":0}]
["Section 5324 - Emergency Relief",{"$f":"'MDOT FTA Detail'!M128","v":0},{"$f":"D37-B37","v":0},{"$f":"'MDOT FTA Detail'!O128","v":0}]
["Section 5326 - Asset Management Provisions",{"$f":"'MDOT FTA Detail'!M129","v":0},{"$f":"D38-B38","v":0},{"$f":"'MDOT FTA Detail'!O129","v":0}]
["Section 5329 - Safety",{"$f":"'MDOT FTA Detail'!M130","v":0},{"$f":"D39-B39","v":0},{"$f":"'MDOT FTA Detail'!O130","v":0}]
["Section 5337 - State of Good Repair Grants",{"$f":"'MDOT FTA Detail'!M131","v":0},{"$f":"D40-B40","v":0},{"$f":"'MDOT FTA Detail'!O131","v":0}]
["Section 5339 - Bus and Bus Facilities",{"$f":"'MDOT FTA Detail'!M132","v":56000},14000,{"$f":"'MDOT FTA Detail'!O132","v":70000}]
["Section 5505 - University Transportation Centers Program",{"$f":"'MDOT FTA Detail'!M133","v":0},0,{"$f":"'MDOT FTA Detail'!O133","v":0}]
["Total Transit",{"$f":"SUM(B19:B42)","v":332400},{"$f":"SUM(C19:C42)","v":275600},{"$f":"SUM(D19:D42)","v":608000}]
["Grand Total",{"$f":"B43+B15","v":3705753},{"$f":"C43+C15","v":8307608},{"$f":"D43+D15","v":12013361}]

{"sheet":"Constraint","index":5,"n_rows":44,"n_cols":17,"rows_kept":44,"cut":false,"hidden":false,"merged":[[0,13,0,16],[0,1,0,4],[0,5,0,8],[0,9,0,12]]}
["2016-07-08",2017,null,null,null,2018,null,null,null,2019,null,null,null,2020]
["Highway Program","Estimated Federal Revenue","Estimated Non-Federal Revenue","Estimated Total Revenue","Total Proposed Commitments","Estimated Federal Revenue","Estimated Non-Federal Revenue","Estimated Total Revenue","Total Proposed Commitments","Estimated Federal Revenue","Estimated Non-Federal Revenue","Estimated Total Revenue","Total Proposed Commitments","Estimated Federal Revenue","Estimated Non-Federal Revenue","Estimated Total Revenue","Total Proposed Commitments"]
["MDOT AC & M Program",null,0,{"$f":"C3","v":0},{"$f":"'FY 2017'!D3","v":0},null,2947325,{"$f":"G3","v":2947325},{"$f":"'FY 2018'!D3","v":2947325},null,152373,{"$f":"K3","v":152373},{"$f":"'FY 2019'!D3","v":152373},null,7240450,{"$f":"O3","v":7240450},{"$f":"'FY 2020'!D3","v":7240450}]
["MDOT FA Program",{"$f":"SUM('MDOT FTA Detail'!D6:D109)","v":283091.03690000001},{"$f":"SUM('MDOT FTA Detail'!E6:E109)","v":33282.09149999998},{"$f":"B4+C4","v":316373.12839999999},{"$f":"'FY 2017'!D4","v":316373.12839999999},2184206,424471,{"$f":"F4+G4","v":2608677},{"$f":"'FY 2018'!D4","v":2608677},53100,5900,{"$f":"J4+K4","v":59000},{"$f":"'FY 2019'!D4","v":59000},3580128,604032,{"$f":"N4+O4","v":4184160},{"$f":"'FY 2020'!D4","v":3328000}]
["Sub-Total MDOT",{"$f":"B3+B4","v":283091.03690000001},{"$f":"C3+C4","v":33282.09149999998},{"$f":"D3+D4","v":316373.12839999999},{"$f":"'FY 2017'!D5","v":316373.12839999999},{"$f":"F3+F4","v":2184206},{"$f":"G3+G4","v":3371796},{"$f":"H3+H4","v":5556002},{"$f":"'FY 2018'!D5","v":5556002},{"$f":"J3+J4","v":53100},{"$f":"K3+K4","v":158273},{"$f":"L3+L4","v":211373},{"$f":"'FY 2019'!D5","v":211373},{"$f":"N3+N4","v":3580128},{"$f":"O3+O4","v":7844482},{"$f":"P3+P4","v":11424610},{"$f":"'FY 2020'!D5","v":10568450}]
["Local STP",518608,183969,{"$f":"B6+C6","v":702577},{"$f":"'FY 2017'!D6","v":698789},534650,141800,{"$f":"F6+G6","v":676450},{"$f":"'FY 2018'!D6","v":632327},518608,81660,{"$f":"J6+K6","v":600268},{"$f":"'FY 2019'!D6","v":562536},518608,100406,{"$f":"N6+O6","v":619014},{"$f":"'FY 2020'!D6","v":619014}]
["Local Bridge",0,0,{"$f":"B7+C7","v":0},{"$f":"'FY 2017'!D7","v":0},0,0,{"$f":"F7+G7","v":0},{"$f":"'FY 2018'!D7","v":0},0,0,{"$f":"J7+K7","v":0},{"$f":"'FY 2019'!D7","v":0},0,0,{"$f":"N7+O7","v":0},{"$f":"'FY 2020'!D7","v":0}]
["Local CMAQ",12000,0,12000,{"$f":"'FY 2017'!D8","v":12000},148260,37065,185325,{"$f":"'FY 2018'!D8","v":185325},0,0,0,{"$f":"'FY 2019'!D8","v":0},0,0,0,{"$f":"'FY 2020'!D8","v":0}]
["Local Safety",54000,6000,60000,{"$f":"'FY 2017'!D9","v":60000},20464,2274,22738,{"$f":"'FY 2018'!D9","v":22738},0,0,0,{"$f":"'FY 2019'!D9","v":0},0,0,0,{"$f":"'FY 2020'!D9","v":0}]
["Local Equity Bonus (TEDF)",0,0,0,{"$f":"'FY 2017'!D10","v":0},0,0,0,{"$f":"'FY 2018'!D10","v":0},0,0,0,{"$f":"'FY 2019'!D10","v":0},0,0,0,{"$f":"'FY 2020'!D10","v":0}]
["Local Other FHWA",null,null,0,{"$f":"'FY 2017'!D11","v":0},581813,329454,911267,{"$f":"'FY 2018'!D11","v":911267},0,0,0,{"$f":"'FY 2019'!D11","v":0},130777,87120,217897,{"$f":"'FY 2020'!D11","v":217897}]
["Local AC Starts",null,0,0,{"$f":"'FY 2017'!D12","v":0},null,68918,68918,{"$f":"'FY 2018'!D12","v":68918},null,79732,79732,{"$f":"'FY 2019'!D12","v":79732},null,0,0,{"$f":"'FY 2020'!D12","v":0}]
["Local Non-Federal",null,0,0,{"$f":"'FY 2017'!D13","v":0},null,null,null,{"$f":"'FY 2018'!D13","v":0},null,0,0,{"$f":"'FY 2019'!D13","v":0},null,0,0,{"$f":"'FY 2020'!D13","v":0}]
["Sub-Total Local",{"$f":"SUM(B6:B11)","v":584608},{"$f":"SUM(C6:C13)","v":189969},{"$f":"SUM(D6:D13)","v":774577},{"$f":"'FY 2017'!D14","v":770789},{"$f":"SUM(F6:F11)","v":1285187},{"$f":"SUM(G6:G13)","v":579511},{"$f":"SUM(H6:H13)","v":1864698},{"$f":"'FY 2018'!D14","v":1820575},{"$f":"SUM(J6:J11)","v":518608},{"$f":"SUM(K6:K13)","v":161392},{"$f":"SUM(L6:L13)","v":680000},{"$f":"'FY 2019'!D14","v":642268},{"$f":"SUM(N6:N11)","v":649385},{"$f":"SUM(O6:O13)","v":187526},{"$f":"SUM(P6:P13)","v":836911},{"$f":"'FY 2020'!D14","v":836911}]
["Total Highway",{"$f":"B14+B5","v":867699.03689999995},{"$f":"C14+C5","v":223251.09149999998},{"$f":"D14+D5","v":1090950.1284},{"$f":"'FY 2017'!D15","v":1087162.1284},{"$f":"F14+F5","v":3469393},{"$f":"G14+G5","v":3951307},{"$f":"H14+H5","v":7420700},{"$f":"'FY 2018'!D15","v":7376577},{"$f":"J14+J5","v":571708},{"$f":"K14+K5","v":319665},{"$f":"L14+L5","v":891373},{"$f":"'FY 2019'!D15","v":853641},{"$f":"N14+N5","v":4229513},{"$f":"O14+O5","v":8032008},{"$f":"P14+P5","v":12261521},{"$f":"'FY 2020'!D15","v":11405361}]
[]
[]
["Transit Fund Source","Estimated Federal Revenue","Estimated Non-Federal Revenue","Estimated Total Revenue","Total Proposed Commitments","Estimated Federal Revenue","Estimated Non-Federal Revenue","Estimated Total Revenue","Total Proposed Commitments","Estimated Federal Revenue","Estimated Non-Federal Revenue","Estimated Total Revenue","Total Proposed Commitments","Estimated Federal Revenue","Estimated Non-Federal Revenue","Estimated Total Revenue","Total Proposed Commitments"]
["CTF - Comprehensive Transit Fund",0,0,{"$f":"B19+C19","v":0},{"$f":"'FY 2017'!D19","v":0},0,0,{"$f":"F19+G19","v":0},{"$f":"'FY 2018'!D19","v":0},0,0,{"$f":"J19+K19","v":0},{"$f":"'FY 2019'!D19","v":0},0,0,{"$f":"N19+O19","v":0},{"$f":"'FY 2020'!D19","v":0}]
["Section 3038 - Over the Road Bus Program",0,0,{"$f":"B20+C20","v":0},{"$f":"'FY 2017'!D20","v":0},0,0,{"$f":"F20+G20","v":0},{"$f":"'FY 2018'!D20","v":0},0,0,{"$f":"J20+K20","v":0},{"$f":"'FY 2019'!D20","v":0},0,0,{"$f":"N20+O20","v":0},{"$f":"'FY 2020'!D20","v":0}]
["Section 3045 - National Fuel Cell Technology Development Program",0,0,{"$f":"B21+C21","v":0},{"$f":"'FY 2017'!D21","v":0},0,0,{"$f":"F21+G21","v":0},{"$f":"'FY 2018'!D21","v":0},0,0,{"$f":"J21+K21","v":0},{"$f":"'FY 2019'!D21","v":0},0,0,{"$f":"N21+O21","v":0},{"$f":"'FY 2020'!D21","v":0}]
["Section 5303 - Metropolitan Transportation Planning",0,0,0,{"$f":"'FY 2017'!D22","v":0},0,0,0,{"$f":"'FY 2018'!D22","v":0},0,0,0,{"$f":"'FY 2019'!D22","v":0},0,0,0,{"$f":"'FY 2020'!D22","v":0}]
["Section 5304 - Statewide Transportation Planning",0,0,0,{"$f":"'FY 2017'!D23","v":0},0,0,0,{"$f":"'FY 2018'!D23","v":0},0,0,0,{"$f":"'FY 2019'!D23","v":0},0,0,0,{"$f":"'FY 2020'!D23","v":0}]
["Section 5305 - Metropolitan and Statewide Planning",0,0,0,{"$f":"'FY 2017'!D24","v":0},0,0,0,{"$f":"'FY 2018'!D24","v":0},0,0,0,{"$f":"'FY 2019'!D24","v":0},0,0,0,{"$f":"'FY 2020'!D24","v":0}]
["Section 5307 - UZA Formula",291000,265000,556000,{"$f":"'FY 2017'!D25","v":556000},291000,265000,556000,{"$f":"'FY 2018'!D25","v":556000},291000,265000,556000,{"$f":"'FY 2019'!D25","v":556000},276400,261600,538000,{"$f":"'FY 2020'!D25","v":538000}]
["Section 5308 - Clean Fuels Program",0,0,0,{"$f":"'FY 2017'!D26","v":0},0,0,0,{"$f":"'FY 2018'!D26","v":0},0,0,0,{"$f":"'FY 2019'!D26","v":0},0,0,0,{"$f":"'FY 2020'!D26","v":0}]
["Section 5309 - Capital Bus and Capital New Starts ",0,0,0,{"$f":"'FY 2017'!D27","v":0},0,0,0,{"$f":"'FY 2018'!D27","v":0},0,0,0,{"$f":"'FY 2019'!D27","v":0},0,0,0,{"$f":"'FY 2020'!D27","v":0}]
["Section 5310 - Elderly & Disabled",0,0,0,{"$f":"'FY 2017'!D28","v":0},0,0,0,{"$f":"'FY 2018'!D28","v":0},0,0,0,{"$f":"'FY 2019'!D28","v":0},0,0,0,{"$f":"'FY 2020'!D28","v":0}]
["Section 5311 - Non-UZA ",0,0,0,{"$f":"'FY 2017'!D29","v":0},{"$f":"31927","v":31927},176571,208498,{"$f":"'FY 2018'!D29","v":208498},24629,182944,207573,{"$f":"'FY 2019'!D29","v":207573},0,0,0,{"$f":"'FY 2020'!D29","v":0}]
["Section 5312 - Research, Development, Demonstration, and Deployment",0,0,{"$f":"B30+C30","v":0},{"$f":"'FY 2017'!D30","v":0},0,0,{"$f":"F30+G30","v":0},{"$f":"'FY 2018'!D30","v":0},0,0,{"$f":"J30+K30","v":0},{"$f":"'FY 2019'!D30","v":0},0,0,{"$f":"N30+O30","v":0},{"$f":"'FY 2020'!D30","v":0}]
["Section 5313 - Transit Cooperative Research Program",0,0,0,{"$f":"'FY 2017'!D31","v":0},0,0,0,{"$f":"'FY 2018'!D31","v":0},0,0,0,{"$f":"'FY 2019'!D31","v":0},0,0,0,{"$f":"'FY 2020'!D31","v":0}]
["Section 5314 - National Research and Technology Program",0,0,0,{"$f":"'FY 2017'!D32","v":0},0,0,0,{"$f":"'FY 2018'!D32","v":0},0,0,0,{"$f":"'FY 2019'!D32","v":0},0,0,0,{"$f":"'FY 2020'!D32","v":0}]
["Section 5316 - Job Access/Reverse Commute",0,0,0,{"$f":"'FY 2017'!D33","v":0},0,0,0,{"$f":"'FY 2018'!D33","v":0},0,0,0,{"$f":"'FY 2019'!D33","v":0},0,0,0,{"$f":"'FY 2020'!D33","v":0}]
["Section 5317 - New Freedom Initiative",0,0,0,{"$f":"'FY 2017'!D34","v":0},0,0,0,{"$f":"'FY 2018'!D34","v":0},0,0,0,{"$f":"'FY 2019'!D34","v":0},0,0,0,{"$f":"'FY 2020'!D34","v":0}]
["Section 5320 - Alternative Transportation in Parks and Public Lands",0,0,0,{"$f":"'FY 2017'!D35","v":0},0,0,0,{"$f":"'FY 2018'!D35","v":0},0,0,0,{"$f":"'FY 2019'!D35","v":0},0,0,0,{"$f":"'FY 2020'!D35","v":0}]
["Section 5322 - Human Resources and Training",0,0,{"$f":"B36+C36","v":0},{"$f":"'FY 2017'!D36","v":0},0,0,{"$f":"F36+G36","v":0},{"$f":"'FY 2018'!D36","v":0},0,0,{"$f":"J36+K36","v":0},{"$f":"'FY 2019'!D36","v":0},0,0,{"$f":"N36+O36","v":0},{"$f":"'FY 2020'!D36","v":0}]
["Section 5324 - Emergency Relief",0,0,{"$f":"B37+C37","v":0},{"$f":"'FY 2017'!D37","v":0},0,0,{"$f":"F37+G37","v":0},{"$f":"'FY 2018'!D37","v":0},0,0,{"$f":"J37+K37","v":0},{"$f":"'FY 2019'!D37","v":0},0,0,{"$f":"N37+O37","v":0},{"$f":"'FY 2020'!D37","v":0}]
["Section 5326 - Asset Management Provisions",0,0,{"$f":"B38+C38","v":0},{"$f":"'FY 2017'!D38","v":0},0,0,{"$f":"F38+G38","v":0},{"$f":"'FY 2018'!D38","v":0},0,0,{"$f":"J38+K38","v":0},{"$f":"'FY 2019'!D38","v":0},0,0,{"$f":"N38+O38","v":0},{"$f":"'FY 2020'!D38","v":0}]
["Section 5329 - Safety",0,0,{"$f":"B39+C39","v":0},{"$f":"'FY 2017'!D39","v":0},0,0,{"$f":"F39+G39","v":0},{"$f":"'FY 2018'!D39","v":0},0,0,{"$f":"J39+K39","v":0},{"$f":"'FY 2019'!D39","v":0},0,0,{"$f":"N39+O39","v":0},{"$f":"'FY 2020'!D39","v":0}]
["Section 5337 - State of Good Repair Grants",0,0,{"$f":"B40+C40","v":0},{"$f":"'FY 2017'!D40","v":0},0,0,{"$f":"F40+G40","v":0},{"$f":"'FY 2018'!D40","v":0},0,0,{"$f":"J40+K40","v":0},{"$f":"'FY 2019'!D40","v":0},0,0,{"$f":"N40+O40","v":0},{"$f":"'FY 2020'!D40","v":0}]
["Section 5339 - Bus and Bus Facilities",56000,14000,70000,{"$f":"'FY 2017'!D41","v":70000},63200,15800,79000,{"$f":"'FY 2018'!D41","v":79000},16040,4150,20190,{"$f":"'FY 2019'!D41","v":20190},56000,14000,70000,{"$f":"'FY 2020'!D41","v":70000}]
["Section 5505 - University Transportation Centers Program",0,0,0,{"$f":"'FY 2017'!D42","v":0},0,0,0,{"$f":"'FY 2018'!D42","v":0},0,0,0,{"$f":"'FY 2019'!D42","v":0},0,0,0,{"$f":"'FY 2020'!D42","v":0}]
["Total Transit",{"$f":"SUM(B19:B42)","v":347000},{"$f":"SUM(C19:C42)","v":279000},{"$f":"SUM(D19:D42)","v":626000},{"$f":"'FY 2017'!D43","v":626000},{"$f":"SUM(F19:F42)","v":386127},{"$f":"SUM(G19:G42)","v":457371},{"$f":"SUM(H19:H42)","v":843498},{"$f":"'FY 2018'!D43","v":843498},{"$f":"SUM(J19:J42)","v":331669},{"$f":"SUM(K19:K42)","v":452094},{"$f":"SUM(L19:L42)","v":783763},{"$f":"'FY 2019'!D43","v":783763},{"$f":"SUM(N19:N42)","v":332400},{"$f":"SUM(O19:O42)","v":275600},{"$f":"SUM(P19:P42)","v":608000},{"$f":"'FY 2020'!D43","v":608000}]
["Grand Total",{"$f":"B43+B15","v":1214699.0368999999},{"$f":"C43+C15","v":502251.09149999998},{"$f":"D43+D15","v":1716950.1284},{"$f":"'FY 2017'!D44","v":1713162.1284},{"$f":"F43+F15","v":3855520},{"$f":"G43+G15","v":4408678},{"$f":"H43+H15","v":8264198},{"$f":"'FY 2018'!D44","v":8220075},{"$f":"J43+J15","v":903377},{"$f":"K43+K15","v":771759},{"$f":"L43+L15","v":1675136},{"$f":"'FY 2019'!D44","v":1637404},{"$f":"N43+N15","v":4561913},{"$f":"O43+O15","v":8307608},{"$f":"P43+P15","v":12869521},{"$f":"'FY 2020'!D44","v":12013361}]

{"sheet":"FHWA GPA","index":6,"n_rows":12,"n_cols":33,"rows_kept":12,"cut":false,"hidden":false,"merged":[[0,0,0,22],[1,0,1,22]]}
["GPA Projects"]
[]
["Required Fields",null,null,null,null,null,null,null,null,null,null,null,null,null,null,null,null,null,null,null,null,null,null,null,null,"Optional Fields"]
["Fiscal Year","County","Respon-sible Agency","Project Name","Limits","Length","Primary Work Type","Project Description","Phase","Advance Construct","Federal Cost ($1000s)","Federal Fund Source","State Cost ($1000s)","State Fund Source","Local Cost ($1000s)","Local Fund Source","Total Cost ($1000s)","MDOT Job No.","Local ID No.","MPO/ Rural Approval Date","Amend-ment Type","Air Quality","Comments","Total Project Cost ($1000s)","x","Local Priority","EJ","Federal Approval Date ","Capped Federal Cost ($1000s)","Date Obligated","Amount Obligated ($1000s)","Let Date","GPA"]
[2017,"Berrien","MDOT","Traffic Signal Modernization","M-60 BR (Main St.) at US 12BR (12th St.) ",null,"Traffic ops/safety","Signal Modernization with connected vehicles instalations","PE",null,32000,"STG",null,null,null,null,null,200366,null,null,null,null,"5 locations in TwinCATS, 4 in NATS, 1 in KATS"]
[2017,"Berrien","MDOT","Traffic Signal Modernization","M-51 (11th st.) at Ontatio Rd. ",null,"Traffic ops/safety","Signal Modernization with connected vehicles instalations","PE",null,32000,"STG",null,null,null,null,null,200366,null,null,null,null,"5 locations in TwinCATS, 4 in NATS, 1 in KATS"]
[2017,"Berrien","MDOT","Traffic Signal Modernization","M-60 (oak St.) at Main ST/13th St. ",null,"Traffic ops/safety","Signal Modernization with connected vehicles instalations","PE",null,32000,"STG",null,null,null,null,null,200366,null,null,null,null,"5 locations in TwinCATS, 4 in NATS, 1 in KATS"]
[2017,"Cass","MDOT","Traffic Signal Modernization","M-60 at Yankee St",null,"Traffic ops/safety","Signal Modernization with connected vehicles instalations","PE",null,32000,"STG",null,null,null,null,null,200366,null,null,null,null,"5 locations in TwinCATS, 4 in NATS, 1 in KATS"]
[2017,"Berrien","MDOT","Traffic Signal Modernization","M-60 BR (Main St.) at US 12BR (12th St.) ",null,"Traffic ops/safety","Signal Modernization with connected vehicles instalations","ROW",null,{"$f":"5000/4","v":1250},"STG",null,null,null,null,null,200366,null,null,null,null,"5 locations in TwinCATS, 4 in NATS, 1 in KATS"]
[2017,"Berrien","MDOT","Traffic Signal Modernization","M-51 (11th st.) at Ontatio Rd. ",null,"Traffic ops/safety","Signal Modernization with connected vehicles instalations","ROW",null,{"$f":"5000/4","v":1250},"STG",null,null,null,null,null,200366,null,null,null,null,"5 locations in TwinCATS, 4 in NATS, 1 in KATS"]
[2017,"Berrien","MDOT","Traffic Signal Modernization","M-60 (oak St.) at Main ST/13th St. ",null,"Traffic ops/safety","Signal Modernization with connected vehicles instalations","ROW",null,1250,"STG",null,null,null,null,null,200366,null,null,null,null,"5 locations in TwinCATS, 4 in NATS, 1 in KATS"]
[2017,"Cass","MDOT","Traffic Signal Modernization","M-60 at Yankee St",null,"Traffic ops/safety","Signal Modernization with connected vehicles instalations","ROW",null,1250,"STG",null,null,null,null,null,200366,null,null,null,null,"5 locations in TwinCATS, 4 in NATS, 1 in KATS"]

{"sheet":"FTA GPA","index":7,"n_rows":4,"n_cols":32,"rows_kept":4,"cut":false,"hidden":false,"merged":[[0,0,0,22],[1,0,1,22]]}
["GPA Projects"]
[]
["Required Fields",null,null,null,null,null,null,null,null,null,null,null,null,null,null,null,null,null,null,null,null,null,null,null,null,"Optional Fields"]
["Fiscal Year","County","Respon-sible Agency","Project Name","Limits","Length","Primary Work Type","Project Description","Phase","Advance Construct","Federal Cost ($1000s)","Federal Fund Source","State Cost ($1000s)","State Fund Source","Local Cost ($1000s)","Local Fund Source","Total Cost ($1000s)","MDOT Job No.","Local ID No.","MPO/ Rural Approval Date","Amend-ment Type","Air Quality","Comments","Total Project Cost ($1000s)","x","Local Priority","EJ","Federal Approval Date ","Capped Federal Cost ($1000s)","Date Obligated","Amount Obligated ($1000s)","Let Date"]

{"sheet":"FTA Candidate Projects","index":8,"n_rows":4,"n_cols":32,"rows_kept":4,"cut":false,"hidden":false,"merged":[[0,0,0,22],[1,0,1,22]]}
["GPA Projects"]
[]
["Required Fields",null,null,null,null,null,null,null,null,null,null,null,null,null,null,null,null,null,null,null,null,null,null,null,null,"Optional Fields"]
["Fiscal Year","County","Respon-sible Agency","Project Name","Limits","Length","Primary Work Type","Project Description","Phase","Advance Construct","Federal Cost ($1000s)","Federal Fund Source","State Cost ($1000s)","State Fund Source","Local Cost ($1000s)","Local Fund Source","Total Cost ($1000s)","MDOT Job No.","Local ID No.","MPO/ Rural Approval Date","Amend-ment Type","Air Quality","Comments","Total Project Cost ($1000s)","x","Local Priority","EJ","Federal Approval Date ","Capped Federal Cost ($1000s)","Date Obligated","Amount Obligated ($1000s)","Let Date"]

{"sheet":"Illustrative","index":9,"n_rows":4,"n_cols":32,"rows_kept":4,"cut":false,"hidden":false,"merged":[[1,0,1,22],[0,0,0,22]]}
["Illustrative Projects"]
[]
["Required Fields",null,null,null,null,null,null,null,null,null,null,null,null,null,null,null,null,null,null,null,null,null,null,null,null,"Optional Fields"]
["Fiscal Year","County","Respon-sible Agency","Project Name","Limits","Length","Primary Work Type","Project Description","Phase","Advance Construct","Federal Cost ($1000s)","Federal Fund Source","State Cost ($1000s)","State Fund Source","Local Cost ($1000s)","Local Fund Source","Total Cost ($1000s)","MDOT Job No.","Local ID No.","MPO/ Rural Approval Date","Amend-ment Type","Air Quality","Comments","Total Project Cost ($1000s)","x","Local Priority","EJ","Federal Approval Date ","Capped Federal Cost ($1000s)","Date Obligated","Amount Obligated ($1000s)","Let Date"]

{"sheet":"NonFHWA_NonFTA","index":10,"n_rows":4,"n_cols":32,"rows_kept":4,"cut":false,"hidden":false,"merged":[[1,0,1,22],[0,0,0,22]]}
["Non FHWA/FTA Projects FY 2014 - 2017 (Optional)"]
["2013-01-02"]
["Required Fields",null,null,null,null,null,null,null,null,null,null,null,null,null,null,null,null,null,null,null,null,null,null,null,null,"Optional Fields"]
["Fiscal Year","County","Respon-sible Agency","Project Name","Limits","Length","Primary Work Type","Project Description","Phase","Advance Construct","Federal Cost ($1000s)","Federal Fund Source","State Cost ($1000s)","State Fund Source","Local Cost ($1000s)","Local Fund Source","Total Cost ($1000s)","MDOT Job No.","Local ID No.","MPO/ Rural Approval Date","Amend-ment Type","Air Quality","Comments","Total Project Cost ($1000s)","x","Local Priority","EJ","Federal Approval Date ","Capped Federal Cost ($1000s)","Date Obligated","Amount Obligated ($1000s)","Let Date"]

{"sheet":"MDOT FTA Detail","index":11,"n_rows":171,"n_cols":15,"rows_kept":171,"cut":false,"hidden":false,"merged":[[2,3,2,5],[2,6,2,8],[2,9,2,11],[2,12,2,14]]}
[null,"E-File v. 5.1 (01.15.15)"]
[]
[null,null,null,2017,null,null,2018,null,null,2019,null,null,2020]
["Fund","Fund Sources","MDOT","Proposed Federal Commitments","Proposed Non-Federal Commitments","Total Proposed Commitments","Proposed Federal Commitments","Proposed Non-Federal Commitments","Total Proposed Commitments","Proposed Federal Commitments","Proposed Non-Federal Commitments","Total Proposed Commitments","Proposed Federal Commitments","Proposed Non-Federal Commitments","Total Proposed Commitments"]
[]
["BHI","Bridge Rehabilitation - Prior 1991 - Interstate","MDOT FA",{"$f":"SUMPRODUCT((Projects!$A$5:$A$2413='MDOT FTA Detail'!$D$3)*(Projects!$C$5:$C$2413='MDOT FTA Detail'!$C$4)*(Projects!$L$5:$L$2413='MDOT FTA Detail'!$A6)*(Projects!$J$5:$J$2413<>'MDOT FTA Detail'!$A$171)*(Projects!$K$5:K$2413))","v":0},{"$f":"F6-D6","v":0},{"$f":"SUMPRODUCT((Projects!$A$5:$A$2413='MDOT FTA Detail'!$D$3)*(Projects!$C$5:$C$2413='MDOT FTA Detail'!$C$4)*(Projects!$L$5:$L$2413='MDOT FTA Detail'!$A6)*(Projects!$J$5:$J$2413<>'MDOT FTA Detail'!$A$171)*(Projects!$Q$5:Q$2413))","v":0},{"$f":"SUMPRODUCT((Projects!$A$5:$A$2413='MDOT FTA Detail'!$G$3)*(Projects!$C$5:$C$2413='MDOT FTA Detail'!$C$4)*(Projects!$L$5:$L$2413='MDOT FTA Detail'!$A6)*(Projects!$J$5:$J$2413<>'MDOT FTA Detail'!$A$171)*(Projects!$K$5:K$2413))","v":0},{"$f":"I6-G6","v":0},{"$f":"SUMPRODUCT((Projects!$A$5:$A$2413='MDOT FTA Detail'!$G$3)*(Projects!$C$5:$C$2413='MDOT FTA Detail'!$C$4)*(Projects!$L$5:$L$2413='MDOT FTA Detail'!$A6)*(Projects!$J$5:$J$2413<>'MDOT FTA Detail'!$A$171)*(Projects!$Q$5:Q$2413))","v":0},{"$f":"SUMPRODUCT((Projects!$A$5:$A$2413='MDOT FTA Detail'!$J$3)*(Projects!$C$5:$C$2413='MDOT FTA Detail'!$C$4)*(Projects!$L$5:$L$2413='MDOT FTA Detail'!$A6)*(Projects!$J$5:$J$2413<>'MDOT FTA Detail'!$A$171)*(Projects!$K$5:$K$2413))","v":0},{"$f":"L6-J6","v":0},{"$f":"SUMPRODUCT((Projects!$A$5:$A$2413='MDOT FTA Detail'!$J$3)*(Projects!$C$5:$C$2413='MDOT FTA Detail'!$C$4)*(Projects!$L$5:$L$2413='MDOT FTA Detail'!$A6)*(Projects!$J$5:$J$2413<>'MDOT FTA Detail'!$A$171)*(Projects!$Q$5:$Q$2413))","v":0},{"$f":"SUMPRODUCT((Projects!$A$5:$A$2413='MDOT FTA Detail'!$M$3)*(Projects!$C$5:$C$2413='MDOT FTA Detail'!$C$4)*(Projects!$L$5:$L$2413='MDOT FTA Detail'!$A6)*(Projects!$J$5:$J$2413<>'MDOT FTA Detail'!$A$171)*(Projects!$K$5:$K$2413))","v":0},{"$f":"O6-M6","v":0},{"$f":"SUMPRODUCT((Projects!$A$5:$A$2413='MDOT FTA Detail'!$M$3)*(Projects!$C$5:$C$2413='MDOT FTA Detail'!$C$4)*(Projects!$L$5:$L$2413='MDOT FTA Detail'!$A6)*(Projects!$J$5:$J$2413<>'MDOT FTA Detail'!$A$171)*(Projects!$Q$5:$Q$2413))","v":0}]
["BHN","Bridge Rehabilitation - National Highway System (NHS)","MDOT FA",{"$f":"SUMPRODUCT((Projects!$A$5:$A$2413='MDOT FTA Detail'!$D$3)*(Projects!$C$5:$C$2413='MDOT FTA Detail'!$C$4)*(Projects!$L$5:$L$2413='MDOT FTA Detail'!$A7)*(Projects!$J$5:$J$2413<>'MDOT FTA Detail'!$A$171)*(Projects!$K$5:K$2413))","v":0},0,{"$f":"SUMPRODUCT((Projects!$A$5:$A$2413='MDOT FTA Detail'!$D$3)*(Projects!$C$5:$C$2413='MDOT FTA Detail'!$C$4)*(Projects!$L$5:$L$2413='MDOT FTA Detail'!$A7)*(Projects!$J$5:$J$2413<>'MDOT FTA Detail'!$A$171)*(Projects!$Q$5:Q$2413))","v":0},{"$f":"SUMPRODUCT((Projects!$A$5:$A$2413='MDOT FTA Detail'!$G$3)*(Projects!$C$5:$C$2413='MDOT FTA Detail'!$C$4)*(Projects!$L$5:$L$2413='MDOT FTA Detail'!$A7)*(Projects!$J$5:$J$2413<>'MDOT FTA Detail'!$A$171)*(Projects!$K$5:K$2413))","v":0},0,{"$f":"SUMPRODUCT((Projects!$A$5:$A$2413='MDOT FTA Detail'!$G$3)*(Projects!$C$5:$C$2413='MDOT FTA Detail'!$C$4)*(Projects!$L$5:$L$2413='MDOT FTA Detail'!$A7)*(Projects!$J$5:$J$2413<>'MDOT FTA Detail'!$A$171)*(Projects!$Q$5:Q$2413))","v":0},{"$f":"SUMPRODUCT((Projects!$A$5:$A$2413='MDOT FTA Detail'!$J$3)*(Projects!$C$5:$C$2413='MDOT FTA Detail'!$C$4)*(Projects!$L$5:$L$2413='MDOT FTA Detail'!$A7)*(Projects!$J$5:$J$2413<>'MDOT FTA Detail'!$A$171)*(Projects!$K$5:$K$2413))","v":0},0,{"$f":"SUMPRODUCT((Projects!$A$5:$A$2413='MDOT FTA Detail'!$J$3)*(Projects!$C$5:$C$2413='MDOT FTA Detail'!$C$4)*(Projects!$L$5:$L$2413='MDOT FTA Detail'!$A7)*(Projects!$J$5:$J$2413<>'MDOT FTA Detail'!$A$171)*(Projects!$Q$5:$Q$2413))","v":0},{"$f":"SUMPRODUCT((Projects!$A$5:$A$2413='MDOT FTA Detail'!$M$3)*(Projects!$C$5:$C$2413='MDOT FTA Detail'!$C$4)*(Projects!$L$5:$L$2413='MDOT FTA Detail'!$A7)*(Projects!$J$5:$J$2413<>'MDOT FTA Detail'!$A$171)*(Projects!$K$5:$K$2413))","v":0},0,{"$f":"SUMPRODUCT((Projects!$A$5:$A$2413='MDOT FTA Detail'!$M$3)*(Projects!$C$5:$C$2413='MDOT FTA Detail'!$C$4)*(Projects!$L$5:$L$2413='MDOT FTA Detail'!$A7)*(Projects!$J$5:$J$2413<>'MDOT FTA Detail'!$A$171)*(Projects!$Q$5:$Q$2413))","v":0}]
["BHO","Bridge Rehabilitation - Not Classified, Off System","MDOT FA",{"$f":"SUMPRODUCT((Projects!$A$5:$A$2413='MDOT FTA Detail'!$D$3)*(Projects!$C$5:$C$2413='MDOT FTA Detail'!$C$4)*(Projects!$L$5:$L$2413='MDOT FTA Detail'!$A8)*(Projects!$J$5:$J$2413<>'MDOT FTA Detail'!$A$171)*(Projects!$K$5:K$2413))","v":0},0,{"$f":"SUMPRODUCT((Projects!$A$5:$A$2413='MDOT FTA Detail'!$D$3)*(Projects!$C$5:$C$2413='MDOT FTA Detail'!$C$4)*(Projects!$L$5:$L$2413='MDOT FTA Detail'!$A8)*(Projects!$J$5:$J$2413<>'MDOT FTA Detail'!$A$171)*(Projects!$Q$5:Q$2413))","v":0},{"$f":"SUMPRODUCT((Projects!$A$5:$A$2413='MDOT FTA Detail'!$G$3)*(Projects!$C$5:$C$2413='MDOT FTA Detail'!$C$4)*(Projects!$L$5:$L$2413='MDOT FTA Detail'!$A8)*(Projects!$J$5:$J$2413<>'MDOT FTA Detail'!$A$171)*(Projects!$K$5:K$2413))","v":0},0,{"$f":"SUMPRODUCT((Projects!$A$5:$A$2413='MDOT FTA Detail'!$G$3)*(Projects!$C$5:$C$2413='MDOT FTA Detail'!$C$4)*(Projects!$L$5:$L$2413='MDOT FTA Detail'!$A8)*(Projects!$J$5:$J$2413<>'MDOT FTA Detail'!$A$171)*(Projects!$Q$5:Q$2413))","v":0},{"$f":"SUMPRODUCT((Projects!$A$5:$A$2413='MDOT FTA Detail'!$J$3)*(Projects!$C$5:$C$2413='MDOT FTA Detail'!$C$4)*(Projects!$L$5:$L$2413='MDOT FTA Detail'!$A8)*(Projects!$J$5:$J$2413<>'MDOT FTA Detail'!$A$171)*(Projects!$K$5:$K$2413))","v":0},0,{"$f":"SUMPRODUCT((Projects!$A$5:$A$2413='MDOT FTA Detail'!$J$3)*(Projects!$C$5:$C$2413='MDOT FTA Detail'!$C$4)*(Projects!$L$5:$L$2413='MDOT FTA Detail'!$A8)*(Projects!$J$5:$J$2413<>'MDOT FTA Detail'!$A$171)*(Projects!$Q$5:$Q$2413))","v":0},{"$f":"SUMPRODUCT((Projects!$A$5:$A$2413='MDOT FTA Detail'!$M$3)*(Projects!$C$5:$C$2413='MDOT FTA Detail'!$C$4)*(Projects!$L$5:$L$2413='MDOT FTA Detail'!$A8)*(Projects!$J$5:$J$2413<>'MDOT FTA Detail'!$A$171)*(Projects!$K$5:$K$2413))","v":0},0,{"$f":"SUMPRODUCT((Projects!$A$5:$A$2413='MDOT FTA Detail'!$M$3)*(Projects!$C$5:$C$2413='MDOT FTA Detail'!$C$4)*(Projects!$L$5:$L$2413='MDOT FTA Detail'!$A8)*(Projects!$J$5:$J$2413<>'MDOT FTA Detail'!$A$171)*(Projects!$Q$5:$Q$2413))","v":0}]
["BHT","Bridge Rehabilitation - Surface Transportation Program (STP)","MDOT FA",{"$f":"SUMPRODUCT((Projects!$A$5:$A$2413='MDOT FTA Detail'!$D$3)*(Projects!$C$5:$C$2413='MDOT FTA Detail'!$C$4)*(Projects!$L$5:$L$2413='MDOT FTA Detail'!$A9)*(Projects!$J$5:$J$2413<>'MDOT FTA Detail'!$A$171)*(Projects!$K$5:K$2413))","v":0},0,{"$f":"SUMPRODUCT((Projects!$A$5:$A$2413='MDOT FTA Detail'!$D$3)*(Projects!$C$5:$C$2413='MDOT FTA Detail'!$C$4)*(Projects!$L$5:$L$2413='MDOT FTA Detail'!$A9)*(Projects!$J$5:$J$2413<>'MDOT FTA Detail'!$A$171)*(Projects!$Q$5:Q$2413))","v":0},{"$f":"SUMPRODUCT((Projects!$A$5:$A$2413='MDOT FTA Detail'!$G$3)*(Projects!$C$5:$C$2413='MDOT FTA Detail'!$C$4)*(Projects!$L$5:$L$2413='MDOT FTA Detail'!$A9)*(Projects!$J$5:$J$2413<>'MDOT FTA Detail'!$A$171)*(Projects!$K$5:K$2413))","v":0},0,{"$f":"SUMPRODUCT((Projects!$A$5:$A$2413='MDOT FTA Detail'!$G$3)*(Projects!$C$5:$C$2413='MDOT FTA Detail'!$C$4)*(Projects!$L$5:$L$2413='MDOT FTA Detail'!$A9)*(Projects!$J$5:$J$2413<>'MDOT FTA Detail'!$A$171)*(Projects!$Q$5:Q$2413))","v":0},{"$f":"SUMPRODUCT((Projects!$A$5:$A$2413='MDOT FTA Detail'!$J$3)*(Projects!$C$5:$C$2413='MDOT FTA Detail'!$C$4)*(Projects!$L$5:$L$2413='MDOT FTA Detail'!$A9)*(Projects!$J$5:$J$2413<>'MDOT FTA Detail'!$A$171)*(Projects!$K$5:$K$2413))","v":0},0,{"$f":"SUMPRODUCT((Projects!$A$5:$A$2413='MDOT FTA Detail'!$J$3)*(Projects!$C$5:$C$2413='MDOT FTA Detail'!$C$4)*(Projects!$L$5:$L$2413='MDOT FTA Detail'!$A9)*(Projects!$J$5:$J$2413<>'MDOT FTA Detail'!$A$171)*(Projects!$Q$5:$Q$2413))","v":0},{"$f":"SUMPRODUCT((Projects!$A$5:$A$2413='MDOT FTA Detail'!$M$3)*(Projects!$C$5:$C$2413='MDOT FTA Detail'!$C$4)*(Projects!$L$5:$L$2413='MDOT FTA Detail'!$A9)*(Projects!$J$5:$J$2413<>'MDOT FTA Detail'!$A$171)*(Projects!$K$5:$K$2413))","v":0},0,{"$f":"SUMPRODUCT((Projects!$A$5:$A$2413='MDOT FTA Detail'!$M$3)*(Projects!$C$5:$C$2413='MDOT FTA Detail'!$C$4)*(Projects!$L$5:$L$2413='MDOT FTA Detail'!$A9)*(Projects!$J$5:$J$2413<>'MDOT FTA Detail'!$A$171)*(Projects!$Q$5:$Q$2413))","v":0}]
["BI08","Build Michigan FY08","MDOT FA",{"$f":"SUMPRODUCT((Projects!$A$5:$A$2413='MDOT FTA Detail'!$D$3)*(Projects!$C$5:$C$2413='MDOT FTA Detail'!$C$4)*(Projects!$L$5:$L$2413='MDOT FTA Detail'!$A10)*(Projects!$J$5:$J$2413<>'MDOT FTA Detail'!$A$171)*(Projects!$K$5:K$2413))","v":0},0,{"$f":"SUMPRODUCT((Projects!$A$5:$A$2413='MDOT FTA Detail'!$D$3)*(Projects!$C$5:$C$2413='MDOT FTA Detail'!$C$4)*(Projects!$L$5:$L$2413='MDOT FTA Detail'!$A10)*(Projects!$J$5:$J$2413<>'MDOT FTA Detail'!$A$171)*(Projects!$Q$5:Q$2413))","v":0},{"$f":"SUMPRODUCT((Projects!$A$5:$A$2413='MDOT FTA Detail'!$G$3)*(Projects!$C$5:$C$2413='MDOT FTA Detail'!$C$4)*(Projects!$L$5:$L$2413='MDOT FTA Detail'!$A10)*(Projects!$J$5:$J$2413<>'MDOT FTA Detail'!$A$171)*(Projects!$K$5:K$2413))","v":0},0,{"$f":"SUMPRODUCT((Projects!$A$5:$A$2413='MDOT FTA Detail'!$G$3)*(Projects!$C$5:$C$2413='MDOT FTA Detail'!$C$4)*(Projects!$L$5:$L$2413='MDOT FTA Detail'!$A10)*(Projects!$J$5:$J$2413<>'MDOT FTA Detail'!$A$171)*(Projects!$Q$5:Q$2413))","v":0},{"$f":"SUMPRODUCT((Projects!$A$5:$A$2413='MDOT FTA Detail'!$J$3)*(Projects!$C$5:$C$2413='MDOT FTA Detail'!$C$4)*(Projects!$L$5:$L$2413='MDOT FTA Detail'!$A10)*(Projects!$J$5:$J$2413<>'MDOT FTA Detail'!$A$171)*(Projects!$K$5:$K$2413))","v":0},0,{"$f":"SUMPRODUCT((Projects!$A$5:$A$2413='MDOT FTA Detail'!$J$3)*(Projects!$C$5:$C$2413='MDOT FTA Detail'!$C$4)*(Projects!$L$5:$L$2413='MDOT FTA Detail'!$A10)*(Projects!$J$5:$J$2413<>'MDOT FTA Detail'!$A$171)*(Projects!$Q$5:$Q$2413))","v":0},{"$f":"SUMPRODUCT((Projects!$A$5:$A$2413='MDOT FTA Detail'!$M$3)*(Projects!$C$5:$C$2413='MDOT FTA Detail'!$C$4)*(Projects!$L$5:$L$2413='MDOT FTA Detail'!$A10)*(Projects!$J$5:$J$2413<>'MDOT FTA Detail'!$A$171)*(Projects!$K$5:$K$2413))","v":0},0,{"$f":"SUMPRODUCT((Projects!$A$5:$A$2413='MDOT FTA Detail'!$M$3)*(Projects!$C$5:$C$2413='MDOT FTA Detail'!$C$4)*(Projects!$L$5:$L$2413='MDOT FTA Detail'!$A10)*(Projects!$J$5:$J$2413<>'MDOT FTA Detail'!$A$171)*(Projects!$Q$5:$Q$2413))","v":0}]
["BO","Bridge Not Classified Off System","MDOT FA",{"$f":"SUMPRODUCT((Projects!$A$5:$A$2413='MDOT FTA Detail'!$D$3)*(Projects!$C$5:$C$2413='MDOT FTA Detail'!$C$4)*(Projects!$L$5:$L$2413='MDOT FTA Detail'!$A11)*(Projects!$J$5:$J$2413<>'MDOT FTA Detail'!$A$171)*(Projects!$K$5:K$2413))","v":0},{"$f":"F11-D11","v":0},{"$f":"SUMPRODUCT((Projects!$A$5:$A$2413='MDOT FTA Detail'!$D$3)*(Projects!$C$5:$C$2413='MDOT FTA Detail'!$C$4)*(Projects!$L$5:$L$2413='MDOT FTA Detail'!$A11)*(Projects!$J$5:$J$2413<>'MDOT FTA Detail'!$A$171)*(Projects!$Q$5:Q$2413))","v":0},{"$f":"SUMPRODUCT((Projects!$A$5:$A$2413='MDOT FTA Detail'!$G$3)*(Projects!$C$5:$C$2413='MDOT FTA Detail'!$C$4)*(Projects!$L$5:$L$2413='MDOT FTA Detail'!$A11)*(Projects!$J$5:$J$2413<>'MDOT FTA Detail'!$A$171)*(Projects!$K$5:K$2413))","v":0},{"$f":"I11-G11","v":0},{"$f":"SUMPRODUCT((Projects!$A$5:$A$2413='MDOT FTA Detail'!$G$3)*(Projects!$C$5:$C$2413='MDOT FTA Detail'!$C$4)*(Projects!$L$5:$L$2413='MDOT FTA Detail'!$A11)*(Projects!$J$5:$J$2413<>'MDOT FTA Detail'!$A$171)*(Projects!$Q$5:Q$2413))","v":0},{"$f":"SUMPRODUCT((Projects!$A$5:$A$2413='MDOT FTA Detail'!$J$3)*(Projects!$C$5:$C$2413='MDOT FTA Detail'!$C$4)*(Projects!$L$5:$L$2413='MDOT FTA Detail'!$A11)*(Projects!$J$5:$J$2413<>'MDOT FTA Detail'!$A$171)*(Projects!$K$5:$K$2413))","v":0},{"$f":"L11-J11","v":0},{"$f":"SUMPRODUCT((Projects!$A$5:$A$2413='MDOT FTA Detail'!$J$3)*(Projects!$C$5:$C$2413='MDOT FTA Detail'!$C$4)*(Projects!$L$5:$L$2413='MDOT FTA Detail'!$A11)*(Projects!$J$5:$J$2413<>'MDOT FTA Detail'!$A$171)*(Projects!$Q$5:$Q$2413))","v":0},{"$f":"SUMPRODUCT((Projects!$A$5:$A$2413='MDOT FTA Detail'!$M$3)*(Projects!$C$5:$C$2413='MDOT FTA Detail'!$C$4)*(Projects!$L$5:$L$2413='MDOT FTA Detail'!$A11)*(Projects!$J$5:$J$2413<>'MDOT FTA Detail'!$A$171)*(Projects!$K$5:$K$2413))","v":0},{"$f":"O11-M11","v":0},{"$f":"SUMPRODUCT((Projects!$A$5:$A$2413='MDOT FTA Detail'!$M$3)*(Projects!$C$5:$C$2413='MDOT FTA Detail'!$C$4)*(Projects!$L$5:$L$2413='MDOT FTA Detail'!$A11)*(Projects!$J$5:$J$2413<>'MDOT FTA Detail'!$A$171)*(Projects!$Q$5:$Q$2413))","v":0}]
["BOWD","Business Opportunity & Workforce Development Center","MDOT FA",{"$f":"SUMPRODUCT((Projects!$A$5:$A$2413='MDOT FTA Detail'!$D$3)*(Projects!$C$5:$C$2413='MDOT FTA Detail'!$C$4)*(Projects!$L$5:$L$2413='MDOT FTA Detail'!$A12)*(Projects!$J$5:$J$2413<>'MDOT FTA Detail'!$A$171)*(Projects!$K$5:K$2413))","v":0},0,{"$f":"SUMPRODUCT((Projects!$A$5:$A$2413='MDOT FTA Detail'!$D$3)*(Projects!$C$5:$C$2413='MDOT FTA Detail'!$C$4)*(Projects!$L$5:$L$2413='MDOT FTA Detail'!$A12)*(Projects!$J$5:$J$2413<>'MDOT FTA Detail'!$A$171)*(Projects!$Q$5:Q$2413))","v":0},{"$f":"SUMPRODUCT((Projects!$A$5:$A$2413='MDOT FTA Detail'!$G$3)*(Projects!$C$5:$C$2413='MDOT FTA Detail'!$C$4)*(Projects!$L$5:$L$2413='MDOT FTA Detail'!$A12)*(Projects!$J$5:$J$2413<>'MDOT FTA Detail'!$A$171)*(Projects!$K$5:K$2413))","v":0},0,{"$f":"SUMPRODUCT((Projects!$A$5:$A$2413='MDOT FTA Detail'!$G$3)*(Projects!$C$5:$C$2413='MDOT FTA Detail'!$C$4)*(Projects!$L$5:$L$2413='MDOT FTA Detail'!$A12)*(Projects!$J$5:$J$2413<>'MDOT FTA Detail'!$A$171)*(Projects!$Q$5:Q$2413))","v":0},{"$f":"SUMPRODUCT((Projects!$A$5:$A$2413='MDOT FTA Detail'!$J$3)*(Projects!$C$5:$C$2413='MDOT FTA Detail'!$C$4)*(Projects!$L$5:$L$2413='MDOT FTA Detail'!$A12)*(Projects!$J$5:$J$2413<>'MDOT FTA Detail'!$A$171)*(Projects!$K$5:$K$2413))","v":0},0,{"$f":"SUMPRODUCT((Projects!$A$5:$A$2413='MDOT FTA Detail'!$J$3)*(Projects!$C$5:$C$2413='MDOT FTA Detail'!$C$4)*(Projects!$L$5:$L$2413='MDOT FTA Detail'!$A12)*(Projects!$J$5:$J$2413<>'MDOT FTA Detail'!$A$171)*(Projects!$Q$5:$Q$2413))","v":0},{"$f":"SUMPRODUCT((Projects!$A$5:$A$2413='MDOT FTA Detail'!$M$3)*(Projects!$C$5:$C$2413='MDOT FTA Detail'!$C$4)*(Projects!$L$5:$L$2413='MDOT FTA Detail'!$A12)*(Projects!$J$5:$J$2413<>'MDOT FTA Detail'!$A$171)*(Projects!$K$5:$K$2413))","v":0},0,{"$f":"SUMPRODUCT((Projects!$A$5:$A$2413='MDOT FTA Detail'!$M$3)*(Projects!$C$5:$C$2413='MDOT FTA Detail'!$C$4)*(Projects!$L$5:$L$2413='MDOT FTA Detail'!$A12)*(Projects!$J$5:$J$2413<>'MDOT FTA Detail'!$A$171)*(Projects!$Q$5:$Q$2413))","v":0}]
["BRI","Bridge Replacement - Pre 1991 Interstate","MDOT FA",{"$f":"SUMPRODUCT((Projects!$A$5:$A$2413='MDOT FTA Detail'!$D$3)*(Projects!$C$5:$C$2413='MDOT FTA Detail'!$C$4)*(Projects!$L$5:$L$2413='MDOT FTA Detail'!$A13)*(Projects!$J$5:$J$2413<>'MDOT FTA Detail'!$A$171)*(Projects!$K$5:K$2413))","v":0},0,{"$f":"SUMPRODUCT((Projects!$A$5:$A$2413='MDOT FTA Detail'!$D$3)*(Projects!$C$5:$C$2413='MDOT FTA Detail'!$C$4)*(Projects!$L$5:$L$2413='MDOT FTA Detail'!$A13)*(Projects!$J$5:$J$2413<>'MDOT FTA Detail'!$A$171)*(Projects!$Q$5:Q$2413))","v":0},{"$f":"SUMPRODUCT((Projects!$A$5:$A$2413='MDOT FTA Detail'!$G$3)*(Projects!$C$5:$C$2413='MDOT FTA Detail'!$C$4)*(Projects!$L$5:$L$2413='MDOT FTA Detail'!$A13)*(Projects!$J$5:$J$2413<>'MDOT FTA Detail'!$A$171)*(Projects!$K$5:K$2413))","v":0},0,{"$f":"SUMPRODUCT((Projects!$A$5:$A$2413='MDOT FTA Detail'!$G$3)*(Projects!$C$5:$C$2413='MDOT FTA Detail'!$C$4)*(Projects!$L$5:$L$2413='MDOT FTA Detail'!$A13)*(Projects!$J$5:$J$2413<>'MDOT FTA Detail'!$A$171)*(Projects!$Q$5:Q$2413))","v":0},{"$f":"SUMPRODUCT((Projects!$A$5:$A$2413='MDOT FTA Detail'!$J$3)*(Projects!$C$5:$C$2413='MDOT FTA Detail'!$C$4)*(Projects!$L$5:$L$2413='MDOT FTA Detail'!$A13)*(Projects!$J$5:$J$2413<>'MDOT FTA Detail'!$A$171)*(Projects!$K$5:$K$2413))","v":0},0,{"$f":"SUMPRODUCT((Projects!$A$5:$A$2413='MDOT FTA Detail'!$J$3)*(Projects!$C$5:$C$2413='MDOT FTA Detail'!$C$4)*(Projects!$L$5:$L$2413='MDOT FTA Detail'!$A13)*(Projects!$J$5:$J$2413<>'MDOT FTA Detail'!$A$171)*(Projects!$Q$5:$Q$2413))","v":0},{"$f":"SUMPRODUCT((Projects!$A$5:$A$2413='MDOT FTA Detail'!$M$3)*(Projects!$C$5:$C$2413='MDOT FTA Detail'!$C$4)*(Projects!$L$5:$L$2413='MDOT FTA Detail'!$A13)*(Projects!$J$5:$J$2413<>'MDOT FTA Detail'!$A$171)*(Projects!$K$5:$K$2413))","v":0},0,{"$f":"SUMPRODUCT((Projects!$A$5:$A$2413='MDOT FTA Detail'!$M$3)*(Projects!$C$5:$C$2413='MDOT FTA Detail'!$C$4)*(Projects!$L$5:$L$2413='MDOT FTA Detail'!$A13)*(Projects!$J$5:$J$2413<>'MDOT FTA Detail'!$A$171)*(Projects!$Q$5:$Q$2413))","v":0}]
["BRN","Bridge Replacement - National Highway System (NHS)","MDOT FA",{"$f":"SUMPRODUCT((Projects!$A$5:$A$2413='MDOT FTA Detail'!$D$3)*(Projects!$C$5:$C$2413='MDOT FTA Detail'!$C$4)*(Projects!$L$5:$L$2413='MDOT FTA Detail'!$A14)*(Projects!$J$5:$J$2413<>'MDOT FTA Detail'!$A$171)*(Projects!$K$5:K$2413))","v":0},0,{"$f":"SUMPRODUCT((Projects!$A$5:$A$2413='MDOT FTA Detail'!$D$3)*(Projects!$C$5:$C$2413='MDOT FTA Detail'!$C$4)*(Projects!$L$5:$L$2413='MDOT FTA Detail'!$A14)*(Projects!$J$5:$J$2413<>'MDOT FTA Detail'!$A$171)*(Projects!$Q$5:Q$2413))","v":0},{"$f":"SUMPRODUCT((Projects!$A$5:$A$2413='MDOT FTA Detail'!$G$3)*(Projects!$C$5:$C$2413='MDOT FTA Detail'!$C$4)*(Projects!$L$5:$L$2413='MDOT FTA Detail'!$A14)*(Projects!$J$5:$J$2413<>'MDOT FTA Detail'!$A$171)*(Projects!$K$5:K$2413))","v":0},0,{"$f":"SUMPRODUCT((Projects!$A$5:$A$2413='MDOT FTA Detail'!$G$3)*(Projects!$C$5:$C$2413='MDOT FTA Detail'!$C$4)*(Projects!$L$5:$L$2413='MDOT FTA Detail'!$A14)*(Projects!$J$5:$J$2413<>'MDOT FTA Detail'!$A$171)*(Projects!$Q$5:Q$2413))","v":0},{"$f":"SUMPRODUCT((Projects!$A$5:$A$2413='MDOT FTA Detail'!$J$3)*(Projects!$C$5:$C$2413='MDOT FTA Detail'!$C$4)*(Projects!$L$5:$L$2413='MDOT FTA Detail'!$A14)*(Projects!$J$5:$J$2413<>'MDOT FTA Detail'!$A$171)*(Projects!$K$5:$K$2413))","v":0},0,{"$f":"SUMPRODUCT((Projects!$A$5:$A$2413='MDOT FTA Detail'!$J$3)*(Projects!$C$5:$C$2413='MDOT FTA Detail'!$C$4)*(Projects!$L$5:$L$2413='MDOT FTA Detail'!$A14)*(Projects!$J$5:$J$2413<>'MDOT FTA Detail'!$A$171)*(Projects!$Q$5:$Q$2413))","v":0},{"$f":"SUMPRODUCT((Projects!$A$5:$A$2413='MDOT FTA Detail'!$M$3)*(Projects!$C$5:$C$2413='MDOT FTA Detail'!$C$4)*(Projects!$L$5:$L$2413='MDOT FTA Detail'!$A14)*(Projects!$J$5:$J$2413<>'MDOT FTA Detail'!$A$171)*(Projects!$K$5:$K$2413))","v":0},0,{"$f":"SUMPRODUCT((Projects!$A$5:$A$2413='MDOT FTA Detail'!$M$3)*(Projects!$C$5:$C$2413='MDOT FTA Detail'!$C$4)*(Projects!$L$5:$L$2413='MDOT FTA Detail'!$A14)*(Projects!$J$5:$J$2413<>'MDOT FTA Detail'!$A$171)*(Projects!$Q$5:$Q$2413))","v":0}]
["BRO","Bridge Replacement - Not Classified, Off System","MDOT FA",{"$f":"SUMPRODUCT((Projects!$A$5:$A$2413='MDOT FTA Detail'!$D$3)*(Projects!$C$5:$C$2413='MDOT FTA Detail'!$C$4)*(Projects!$L$5:$L$2413='MDOT FTA Detail'!$A15)*(Projects!$J$5:$J$2413<>'MDOT FTA Detail'!$A$171)*(Projects!$K$5:K$2413))","v":0},0,{"$f":"SUMPRODUCT((Projects!$A$5:$A$2413='MDOT FTA Detail'!$D$3)*(Projects!$C$5:$C$2413='MDOT FTA Detail'!$C$4)*(Projects!$L$5:$L$2413='MDOT FTA Detail'!$A15)*(Projects!$J$5:$J$2413<>'MDOT FTA Detail'!$A$171)*(Projects!$Q$5:Q$2413))","v":0},{"$f":"SUMPRODUCT((Projects!$A$5:$A$2413='MDOT FTA Detail'!$G$3)*(Projects!$C$5:$C$2413='MDOT FTA Detail'!$C$4)*(Projects!$L$5:$L$2413='MDOT FTA Detail'!$A15)*(Projects!$J$5:$J$2413<>'MDOT FTA Detail'!$A$171)*(Projects!$K$5:K$2413))","v":0},0,{"$f":"SUMPRODUCT((Projects!$A$5:$A$2413='MDOT FTA Detail'!$G$3)*(Projects!$C$5:$C$2413='MDOT FTA Detail'!$C$4)*(Projects!$L$5:$L$2413='MDOT FTA Detail'!$A15)*(Projects!$J$5:$J$2413<>'MDOT FTA Detail'!$A$171)*(Projects!$Q$5:Q$2413))","v":0},{"$f":"SUMPRODUCT((Projects!$A$5:$A$2413='MDOT FTA Detail'!$J$3)*(Projects!$C$5:$C$2413='MDOT FTA Detail'!$C$4)*(Projects!$L$5:$L$2413='MDOT FTA Detail'!$A15)*(Projects!$J$5:$J$2413<>'MDOT FTA Detail'!$A$171)*(Projects!$K$5:$K$2413))","v":0},0,{"$f":"SUMPRODUCT((Projects!$A$5:$A$2413='MDOT FTA Detail'!$J$3)*(Projects!$C$5:$C$2413='MDOT FTA Detail'!$C$4)*(Projects!$L$5:$L$2413='MDOT FTA Detail'!$A15)*(Projects!$J$5:$J$2413<>'MDOT FTA Detail'!$A$171)*(Projects!$Q$5:$Q$2413))","v":0},{"$f":"SUMPRODUCT((Projects!$A$5:$A$2413='MDOT FTA Detail'!$M$3)*(Projects!$C$5:$C$2413='MDOT FTA Detail'!$C$4)*(Projects!$L$5:$L$2413='MDOT FTA Detail'!$A15)*(Projects!$J$5:$J$2413<>'MDOT FTA Detail'!$A$171)*(Projects!$K$5:$K$2413))","v":0},0,{"$f":"SUMPRODUCT((Projects!$A$5:$A$2413='MDOT FTA Detail'!$M$3)*(Projects!$C$5:$C$2413='MDOT FTA Detail'!$C$4)*(Projects!$L$5:$L$2413='MDOT FTA Detail'!$A15)*(Projects!$J$5:$J$2413<>'MDOT FTA Detail'!$A$171)*(Projects!$Q$5:$Q$2413))","v":0}]
["BRT","Bridge Replacement - Surface Transportation Program (STP)","MDOT FA",{"$f":"SUMPRODUCT((Projects!$A$5:$A$2413='MDOT FTA Detail'!$D$3)*(Projects!$C$5:$C$2413='MDOT FTA Detail'!$C$4)*(Projects!$L$5:$L$2413='MDOT FTA Detail'!$A16)*(Projects!$J$5:$J$2413<>'MDOT FTA Detail'!$A$171)*(Projects!$K$5:K$2413))","v":0},0,{"$f":"SUMPRODUCT((Projects!$A$5:$A$2413='MDOT FTA Detail'!$D$3)*(Projects!$C$5:$C$2413='MDOT FTA Detail'!$C$4)*(Projects!$L$5:$L$2413='MDOT FTA Detail'!$A16)*(Projects!$J$5:$J$2413<>'MDOT FTA Detail'!$A$171)*(Projects!$Q$5:Q$2413))","v":0},{"$f":"SUMPRODUCT((Projects!$A$5:$A$2413='MDOT FTA Detail'!$G$3)*(Projects!$C$5:$C$2413='MDOT FTA Detail'!$C$4)*(Projects!$L$5:$L$2413='MDOT FTA Detail'!$A16)*(Projects!$J$5:$J$2413<>'MDOT FTA Detail'!$A$171)*(Projects!$K$5:K$2413))","v":0},0,{"$f":"SUMPRODUCT((Projects!$A$5:$A$2413='MDOT FTA Detail'!$G$3)*(Projects!$C$5:$C$2413='MDOT FTA Detail'!$C$4)*(Projects!$L$5:$L$2413='MDOT FTA Detail'!$A16)*(Projects!$J$5:$J$2413<>'MDOT FTA Detail'!$A$171)*(Projects!$Q$5:Q$2413))","v":0},{"$f":"SUMPRODUCT((Projects!$A$5:$A$2413='MDOT FTA Detail'!$J$3)*(Projects!$C$5:$C$2413='MDOT FTA Detail'!$C$4)*(Projects!$L$5:$L$2413='MDOT FTA Detail'!$A16)*(Projects!$J$5:$J$2413<>'MDOT FTA Detail'!$A$171)*(Projects!$K$5:$K$2413))","v":0},0,{"$f":"SUMPRODUCT((Projects!$A$5:$A$2413='MDOT FTA Detail'!$J$3)*(Projects!$C$5:$C$2413='MDOT FTA Detail'!$C$4)*(Projects!$L$5:$L$2413='MDOT FTA Detail'!$A16)*(Projects!$J$5:$J$2413<>'MDOT FTA Detail'!$A$171)*(Projects!$Q$5:$Q$2413))","v":0},{"$f":"SUMPRODUCT((Projects!$A$5:$A$2413='MDOT FTA Detail'!$M$3)*(Projects!$C$5:$C$2413='MDOT FTA Detail'!$C$4)*(Projects!$L$5:$L$2413='MDOT FTA Detail'!$A16)*(Projects!$J$5:$J$2413<>'MDOT FTA Detail'!$A$171)*(Projects!$K$5:$K$2413))","v":0},0,{"$f":"SUMPRODUCT((Projects!$A$5:$A$2413='MDOT FTA Detail'!$M$3)*(Projects!$C$5:$C$2413='MDOT FTA Detail'!$C$4)*(Projects!$L$5:$L$2413='MDOT FTA Detail'!$A16)*(Projects!$J$5:$J$2413<>'MDOT FTA Detail'!$A$171)*(Projects!$Q$5:$Q$2413))","v":0}]
["CANX","Canadian Bridge Funds","MDOT FA",{"$f":"SUMPRODUCT((Projects!$A$5:$A$2413='MDOT FTA Detail'!$D$3)*(Projects!$C$5:$C$2413='MDOT FTA Detail'!$C$4)*(Projects!$L$5:$L$2413='MDOT FTA Detail'!$A17)*(Projects!$J$5:$J$2413<>'MDOT FTA Detail'!$A$171)*(Projects!$K$5:K$2413))","v":0},0,{"$f":"SUMPRODUCT((Projects!$A$5:$A$2413='MDOT FTA Detail'!$D$3)*(Projects!$C$5:$C$2413='MDOT FTA Detail'!$C$4)*(Projects!$L$5:$L$2413='MDOT FTA Detail'!$A17)*(Projects!$J$5:$J$2413<>'MDOT FTA Detail'!$A$171)*(Projects!$Q$5:Q$2413))","v":0},{"$f":"SUMPRODUCT((Projects!$A$5:$A$2413='MDOT FTA Detail'!$G$3)*(Projects!$C$5:$C$2413='MDOT FTA Detail'!$C$4)*(Projects!$L$5:$L$2413='MDOT FTA Detail'!$A17)*(Projects!$J$5:$J$2413<>'MDOT FTA Detail'!$A$171)*(Projects!$K$5:K$2413))","v":0},0,{"$f":"SUMPRODUCT((Projects!$A$5:$A$2413='MDOT FTA Detail'!$G$3)*(Projects!$C$5:$C$2413='MDOT FTA Detail'!$C$4)*(Projects!$L$5:$L$2413='MDOT FTA Detail'!$A17)*(Projects!$J$5:$J$2413<>'MDOT FTA Detail'!$A$171)*(Projects!$Q$5:Q$2413))","v":0},{"$f":"SUMPRODUCT((Projects!$A$5:$A$2413='MDOT FTA Detail'!$J$3)*(Projects!$C$5:$C$2413='MDOT FTA Detail'!$C$4)*(Projects!$L$5:$L$2413='MDOT FTA Detail'!$A17)*(Projects!$J$5:$J$2413<>'MDOT FTA Detail'!$A$171)*(Projects!$K$5:$K$2413))","v":0},0,{"$f":"SUMPRODUCT((Projects!$A$5:$A$2413='MDOT FTA Detail'!$J$3)*(Projects!$C$5:$C$2413='MDOT FTA Detail'!$C$4)*(Projects!$L$5:$L$2413='MDOT FTA Detail'!$A17)*(Projects!$J$5:$J$2413<>'MDOT FTA Detail'!$A$171)*(Projects!$Q$5:$Q$2413))","v":0},{"$f":"SUMPRODUCT((Projects!$A$5:$A$2413='MDOT FTA Detail'!$M$3)*(Projects!$C$5:$C$2413='MDOT FTA Detail'!$C$4)*(Projects!$L$5:$L$2413='MDOT FTA Detail'!$A17)*(Projects!$J$5:$J$2413<>'MDOT FTA Detail'!$A$171)*(Projects!$K$5:$K$2413))","v":0},0,{"$f":"SUMPRODUCT((Projects!$A$5:$A$2413='MDOT FTA Detail'!$M$3)*(Projects!$C$5:$C$2413='MDOT FTA Detail'!$C$4)*(Projects!$L$5:$L$2413='MDOT FTA Detail'!$A17)*(Projects!$J$5:$J$2413<>'MDOT FTA Detail'!$A$171)*(Projects!$Q$5:$Q$2413))","v":0}]
["CBCD","Corridor & Border Crossing Discretionary","MDOT FA",{"$f":"SUMPRODUCT((Projects!$A$5:$A$2413='MDOT FTA Detail'!$D$3)*(Projects!$C$5:$C$2413='MDOT FTA Detail'!$C$4)*(Projects!$L$5:$L$2413='MDOT FTA Detail'!$A18)*(Projects!$J$5:$J$2413<>'MDOT FTA Detail'!$A$171)*(Projects!$K$5:K$2413))","v":0},0,{"$f":"SUMPRODUCT((Projects!$A$5:$A$2413='MDOT FTA Detail'!$D$3)*(Projects!$C$5:$C$2413='MDOT FTA Detail'!$C$4)*(Projects!$L$5:$L$2413='MDOT FTA Detail'!$A18)*(Projects!$J$5:$J$2413<>'MDOT FTA Detail'!$A$171)*(Projects!$Q$5:Q$2413))","v":0},{"$f":"SUMPRODUCT((Projects!$A$5:$A$2413='MDOT FTA Detail'!$G$3)*(Projects!$C$5:$C$2413='MDOT FTA Detail'!$C$4)*(Projects!$L$5:$L$2413='MDOT FTA Detail'!$A18)*(Projects!$J$5:$J$2413<>'MDOT FTA Detail'!$A$171)*(Projects!$K$5:K$2413))","v":0},0,{"$f":"SUMPRODUCT((Projects!$A$5:$A$2413='MDOT FTA Detail'!$G$3)*(Projects!$C$5:$C$2413='MDOT FTA Detail'!$C$4)*(Projects!$L$5:$L$2413='MDOT FTA Detail'!$A18)*(Projects!$J$5:$J$2413<>'MDOT FTA Detail'!$A$171)*(Projects!$Q$5:Q$2413))","v":0},{"$f":"SUMPRODUCT((Projects!$A$5:$A$2413='MDOT FTA Detail'!$J$3)*(Projects!$C$5:$C$2413='MDOT FTA Detail'!$C$4)*(Projects!$L$5:$L$2413='MDOT FTA Detail'!$A18)*(Projects!$J$5:$J$2413<>'MDOT FTA Detail'!$A$171)*(Projects!$K$5:$K$2413))","v":0},0,{"$f":"SUMPRODUCT((Projects!$A$5:$A$2413='MDOT FTA Detail'!$J$3)*(Projects!$C$5:$C$2413='MDOT FTA Detail'!$C$4)*(Projects!$L$5:$L$2413='MDOT FTA Detail'!$A18)*(Projects!$J$5:$J$2413<>'MDOT FTA Detail'!$A$171)*(Projects!$Q$5:$Q$2413))","v":0},{"$f":"SUMPRODUCT((Projects!$A$5:$A$2413='MDOT FTA Detail'!$M$3)*(Projects!$C$5:$C$2413='MDOT FTA Detail'!$C$4)*(Projects!$L$5:$L$2413='MDOT FTA Detail'!$A18)*(Projects!$J$5:$J$2413<>'MDOT FTA Detail'!$A$171)*(Projects!$K$5:$K$2413))","v":0},0,{"$f":"SUMPRODUCT((Projects!$A$5:$A$2413='MDOT FTA Detail'!$M$3)*(Projects!$C$5:$C$2413='MDOT FTA Detail'!$C$4)*(Projects!$L$5:$L$2413='MDOT FTA Detail'!$A18)*(Projects!$J$5:$J$2413<>'MDOT FTA Detail'!$A$171)*(Projects!$Q$5:$Q$2413))","v":0}]
["CBIP","Coordinated Border Infrastructure Program - SAFETEA-LU","MDOT FA",{"$f":"SUMPRODUCT((Projects!$A$5:$A$2413='MDOT FTA Detail'!$D$3)*(Projects!$C$5:$C$2413='MDOT FTA Detail'!$C$4)*(Projects!$L$5:$L$2413='MDOT FTA Detail'!$A19)*(Projects!$J$5:$J$2413<>'MDOT FTA Detail'!$A$171)*(Projects!$K$5:K$2413))","v":0},0,{"$f":"SUMPRODUCT((Projects!$A$5:$A$2413='MDOT FTA Detail'!$D$3)*(Projects!$C$5:$C$2413='MDOT FTA Detail'!$C$4)*(Projects!$L$5:$L$2413='MDOT FTA Detail'!$A19)*(Projects!$J$5:$J$2413<>'MDOT FTA Detail'!$A$171)*(Projects!$Q$5:Q$2413))","v":0},{"$f":"SUMPRODUCT((Projects!$A$5:$A$2413='MDOT FTA Detail'!$G$3)*(Projects!$C$5:$C$2413='MDOT FTA Detail'!$C$4)*(Projects!$L$5:$L$2413='MDOT FTA Detail'!$A19)*(Projects!$J$5:$J$2413<>'MDOT FTA Detail'!$A$171)*(Projects!$K$5:K$2413))","v":0},0,{"$f":"SUMPRODUCT((Projects!$A$5:$A$2413='MDOT FTA Detail'!$G$3)*(Projects!$C$5:$C$2413='MDOT FTA Detail'!$C$4)*(Projects!$L$5:$L$2413='MDOT FTA Detail'!$A19)*(Projects!$J$5:$J$2413<>'MDOT FTA Detail'!$A$171)*(Projects!$Q$5:Q$2413))","v":0},{"$f":"SUMPRODUCT((Projects!$A$5:$A$2413='MDOT FTA Detail'!$J$3)*(Projects!$C$5:$C$2413='MDOT FTA Detail'!$C$4)*(Projects!$L$5:$L$2413='MDOT FTA Detail'!$A19)*(Projects!$J$5:$J$2413<>'MDOT FTA Detail'!$A$171)*(Projects!$K$5:$K$2413))","v":0},0,{"$f":"SUMPRODUCT((Projects!$A$5:$A$2413='MDOT FTA Detail'!$J$3)*(Projects!$C$5:$C$2413='MDOT FTA Detail'!$C$4)*(Projects!$L$5:$L$2413='MDOT FTA Detail'!$A19)*(Projects!$J$5:$J$2413<>'MDOT FTA Detail'!$A$171)*(Projects!$Q$5:$Q$2413))","v":0},{"$f":"SUMPRODUCT((Projects!$A$5:$A$2413='MDOT FTA Detail'!$M$3)*(Projects!$C$5:$C$2413='MDOT FTA Detail'!$C$4)*(Projects!$L$5:$L$2413='MDOT FTA Detail'!$A19)*(Projects!$J$5:$J$2413<>'MDOT FTA Detail'!$A$171)*(Projects!$K$5:$K$2413))","v":0},0,{"$f":"SUMPRODUCT((Projects!$A$5:$A$2413='MDOT FTA Detail'!$M$3)*(Projects!$C$5:$C$2413='MDOT FTA Detail'!$C$4)*(Projects!$L$5:$L$2413='MDOT FTA Detail'!$A19)*(Projects!$J$5:$J$2413<>'MDOT FTA Detail'!$A$171)*(Projects!$Q$5:$Q$2413))","v":0}]
["CM","Congestion Mitigation & Air Quality","MDOT FA",{"$f":"SUMPRODUCT((Projects!$A$5:$A$2413='MDOT FTA Detail'!$D$3)*(Projects!$C$5:$C$2413='MDOT FTA Detail'!$C$4)*(Projects!$L$5:$L$2413='MDOT FTA Detail'!$A20)*(Projects!$J$5:$J$2413<>'MDOT FTA Detail'!$A$171)*(Projects!$K$5:K$2413))","v":0},0,{"$f":"SUMPRODUCT((Projects!$A$5:$A$2413='MDOT FTA Detail'!$D$3)*(Projects!$C$5:$C$2413='MDOT FTA Detail'!$C$4)*(Projects!$L$5:$L$2413='MDOT FTA Detail'!$A20)*(Projects!$J$5:$J$2413<>'MDOT FTA Detail'!$A$171)*(Projects!$Q$5:Q$2413))","v":0},{"$f":"SUMPRODUCT((Projects!$A$5:$A$2413='MDOT FTA Detail'!$G$3)*(Projects!$C$5:$C$2413='MDOT FTA Detail'!$C$4)*(Projects!$L$5:$L$2413='MDOT FTA Detail'!$A20)*(Projects!$J$5:$J$2413<>'MDOT FTA Detail'!$A$171)*(Projects!$K$5:K$2413))","v":0},0,{"$f":"SUMPRODUCT((Projects!$A$5:$A$2413='MDOT FTA Detail'!$G$3)*(Projects!$C$5:$C$2413='MDOT FTA Detail'!$C$4)*(Projects!$L$5:$L$2413='MDOT FTA Detail'!$A20)*(Projects!$J$5:$J$2413<>'MDOT FTA Detail'!$A$171)*(Projects!$Q$5:Q$2413))","v":0},{"$f":"SUMPRODUCT((Projects!$A$5:$A$2413='MDOT FTA Detail'!$J$3)*(Projects!$C$5:$C$2413='MDOT FTA Detail'!$C$4)*(Projects!$L$5:$L$2413='MDOT FTA Detail'!$A20)*(Projects!$J$5:$J$2413<>'MDOT FTA Detail'!$A$171)*(Projects!$K$5:$K$2413))","v":0},0,{"$f":"SUMPRODUCT((Projects!$A$5:$A$2413='MDOT FTA Detail'!$J$3)*(Projects!$C$5:$C$2413='MDOT FTA Detail'!$C$4)*(Projects!$L$5:$L$2413='MDOT FTA Detail'!$A20)*(Projects!$J$5:$J$2413<>'MDOT FTA Detail'!$A$171)*(Projects!$Q$5:$Q$2413))","v":0},{"$f":"SUMPRODUCT((Projects!$A$5:$A$2413='MDOT FTA Detail'!$M$3)*(Projects!$C$5:$C$2413='MDOT FTA Detail'!$C$4)*(Projects!$L$5:$L$2413='MDOT FTA Detail'!$A20)*(Projects!$J$5:$J$2413<>'MDOT FTA Detail'!$A$171)*(Projects!$K$5:$K$2413))","v":0},0,{"$f":"SUMPRODUCT((Projects!$A$5:$A$2413='MDOT FTA Detail'!$M$3)*(Projects!$C$5:$C$2413='MDOT FTA Detail'!$C$4)*(Projects!$L$5:$L$2413='MDOT FTA Detail'!$A20)*(Projects!$J$5:$J$2413<>'MDOT FTA Detail'!$A$171)*(Projects!$Q$5:$Q$2413))","v":0}]
["CMG","Congestion Mitigation & Air Quality - 100% Federal","MDOT FA",{"$f":"SUMPRODUCT((Projects!$A$5:$A$2413='MDOT FTA Detail'!$D$3)*(Projects!$C$5:$C$2413='MDOT FTA Detail'!$C$4)*(Projects!$L$5:$L$2413='MDOT FTA Detail'!$A21)*(Projects!$J$5:$J$2413<>'MDOT FTA Detail'!$A$171)*(Projects!$K$5:K$2413))","v":0},0,{"$f":"SUMPRODUCT((Projects!$A$5:$A$2413='MDOT FTA Detail'!$D$3)*(Projects!$C$5:$C$2413='MDOT FTA Detail'!$C$4)*(Projects!$L$5:$L$2413='MDOT FTA Detail'!$A21)*(Projects!$J$5:$J$2413<>'MDOT FTA Detail'!$A$171)*(Projects!$Q$5:Q$2413))","v":0},{"$f":"SUMPRODUCT((Projects!$A$5:$A$2413='MDOT FTA Detail'!$G$3)*(Projects!$C$5:$C$2413='MDOT FTA Detail'!$C$4)*(Projects!$L$5:$L$2413='MDOT FTA Detail'!$A21)*(Projects!$J$5:$J$2413<>'MDOT FTA Detail'!$A$171)*(Projects!$K$5:K$2413))","v":0},0,{"$f":"SUMPRODUCT((Projects!$A$5:$A$2413='MDOT FTA Detail'!$G$3)*(Projects!$C$5:$C$2413='MDOT FTA Detail'!$C$4)*(Projects!$L$5:$L$2413='MDOT FTA Detail'!$A21)*(Projects!$J$5:$J$2413<>'MDOT FTA Detail'!$A$171)*(Projects!$Q$5:Q$2413))","v":0},{"$f":"SUMPRODUCT((Projects!$A$5:$A$2413='MDOT FTA Detail'!$J$3)*(Projects!$C$5:$C$2413='MDOT FTA Detail'!$C$4)*(Projects!$L$5:$L$2413='MDOT FTA Detail'!$A21)*(Projects!$J$5:$J$2413<>'MDOT FTA Detail'!$A$171)*(Projects!$K$5:$K$2413))","v":0},0,{"$f":"SUMPRODUCT((Projects!$A$5:$A$2413='MDOT FTA Detail'!$J$3)*(Projects!$C$5:$C$2413='MDOT FTA Detail'!$C$4)*(Projects!$L$5:$L$2413='MDOT FTA Detail'!$A21)*(Projects!$J$5:$J$2413<>'MDOT FTA Detail'!$A$171)*(Projects!$Q$5:$Q$2413))","v":0},{"$f":"SUMPRODUCT((Projects!$A$5:$A$2413='MDOT FTA Detail'!$M$3)*(Projects!$C$5:$C$2413='MDOT FTA Detail'!$C$4)*(Projects!$L$5:$L$2413='MDOT FTA Detail'!$A21)*(Projects!$J$5:$J$2413<>'MDOT FTA Detail'!$A$171)*(Projects!$K$5:$K$2413))","v":0},0,{"$f":"SUMPRODUCT((Projects!$A$5:$A$2413='MDOT FTA Detail'!$M$3)*(Projects!$C$5:$C$2413='MDOT FTA Detail'!$C$4)*(Projects!$L$5:$L$2413='MDOT FTA Detail'!$A21)*(Projects!$J$5:$J$2413<>'MDOT FTA Detail'!$A$171)*(Projects!$Q$5:$Q$2413))","v":0}]
["CPM","Congestion Mititagion & Air Quality for PM 2.5 Emissions","MDOT FA",{"$f":"SUMPRODUCT((Projects!$A$5:$A$2413='MDOT FTA Detail'!$D$3)*(Projects!$C$5:$C$2413='MDOT FTA Detail'!$C$4)*(Projects!$L$5:$L$2413='MDOT FTA Detail'!$A22)*(Projects!$J$5:$J$2413<>'MDOT FTA Detail'!$A$171)*(Projects!$K$5:K$2413))","v":0},{"$f":"F22-D22","v":0},{"$f":"SUMPRODUCT((Projects!$A$5:$A$2413='MDOT FTA Detail'!$D$3)*(Projects!$C$5:$C$2413='MDOT FTA Detail'!$C$4)*(Projects!$L$5:$L$2413='MDOT FTA Detail'!$A22)*(Projects!$J$5:$J$2413<>'MDOT FTA Detail'!$A$171)*(Projects!$Q$5:Q$2413))","v":0},{"$f":"SUMPRODUCT((Projects!$A$5:$A$2413='MDOT FTA Detail'!$G$3)*(Projects!$C$5:$C$2413='MDOT FTA Detail'!$C$4)*(Projects!$L$5:$L$2413='MDOT FTA Detail'!$A22)*(Projects!$J$5:$J$2413<>'MDOT FTA Detail'!$A$171)*(Projects!$K$5:K$2413))","v":0},{"$f":"I22-G22","v":0},{"$f":"SUMPRODUCT((Projects!$A$5:$A$2413='MDOT FTA Detail'!$G$3)*(Projects!$C$5:$C$2413='MDOT FTA Detail'!$C$4)*(Projects!$L$5:$L$2413='MDOT FTA Detail'!$A22)*(Projects!$J$5:$J$2413<>'MDOT FTA Detail'!$A$171)*(Projects!$Q$5:Q$2413))","v":0},{"$f":"SUMPRODUCT((Projects!$A$5:$A$2413='MDOT FTA Detail'!$J$3)*(Projects!$C$5:$C$2413='MDOT FTA Detail'!$C$4)*(Projects!$L$5:$L$2413='MDOT FTA Detail'!$A22)*(Projects!$J$5:$J$2413<>'MDOT FTA Detail'!$A$171)*(Projects!$K$5:$K$2413))","v":0},{"$f":"L22-J22","v":0},{"$f":"SUMPRODUCT((Projects!$A$5:$A$2413='MDOT FTA Detail'!$J$3)*(Projects!$C$5:$C$2413='MDOT FTA Detail'!$C$4)*(Projects!$L$5:$L$2413='MDOT FTA Detail'!$A22)*(Projects!$J$5:$J$2413<>'MDOT FTA Detail'!$A$171)*(Projects!$Q$5:$Q$2413))","v":0},{"$f":"SUMPRODUCT((Projects!$A$5:$A$2413='MDOT FTA Detail'!$M$3)*(Projects!$C$5:$C$2413='MDOT FTA Detail'!$C$4)*(Projects!$L$5:$L$2413='MDOT FTA Detail'!$A22)*(Projects!$J$5:$J$2413<>'MDOT FTA Detail'!$A$171)*(Projects!$K$5:$K$2413))","v":0},{"$f":"O22-M22","v":0},{"$f":"SUMPRODUCT((Projects!$A$5:$A$2413='MDOT FTA Detail'!$M$3)*(Projects!$C$5:$C$2413='MDOT FTA Detail'!$C$4)*(Projects!$L$5:$L$2413='MDOT FTA Detail'!$A22)*(Projects!$J$5:$J$2413<>'MDOT FTA Detail'!$A$171)*(Projects!$Q$5:$Q$2413))","v":0}]
["CPMG","Congestion Mititagion & Air Quality for PM 2.5 Emissions - 100% Federal","MDOT FA",{"$f":"SUMPRODUCT((Projects!$A$5:$A$2413='MDOT FTA Detail'!$D$3)*(Projects!$C$5:$C$2413='MDOT FTA Detail'!$C$4)*(Projects!$L$5:$L$2413='MDOT FTA Detail'!$A23)*(Projects!$J$5:$J$2413<>'MDOT FTA Detail'!$A$171)*(Projects!$K$5:K$2413))","v":0},0,{"$f":"SUMPRODUCT((Projects!$A$5:$A$2413='MDOT FTA Detail'!$D$3)*(Projects!$C$5:$C$2413='MDOT FTA Detail'!$C$4)*(Projects!$L$5:$L$2413='MDOT FTA Detail'!$A23)*(Projects!$J$5:$J$2413<>'MDOT FTA Detail'!$A$171)*(Projects!$Q$5:Q$2413))","v":0},{"$f":"SUMPRODUCT((Projects!$A$5:$A$2413='MDOT FTA Detail'!$G$3)*(Projects!$C$5:$C$2413='MDOT FTA Detail'!$C$4)*(Projects!$L$5:$L$2413='MDOT FTA Detail'!$A23)*(Projects!$J$5:$J$2413<>'MDOT FTA Detail'!$A$171)*(Projects!$K$5:K$2413))","v":0},0,{"$f":"SUMPRODUCT((Projects!$A$5:$A$2413='MDOT FTA Detail'!$G$3)*(Projects!$C$5:$C$2413='MDOT FTA Detail'!$C$4)*(Projects!$L$5:$L$2413='MDOT FTA Detail'!$A23)*(Projects!$J$5:$J$2413<>'MDOT FTA Detail'!$A$171)*(Projects!$Q$5:Q$2413))","v":0},{"$f":"SUMPRODUCT((Projects!$A$5:$A$2413='MDOT FTA Detail'!$J$3)*(Projects!$C$5:$C$2413='MDOT FTA Detail'!$C$4)*(Projects!$L$5:$L$2413='MDOT FTA Detail'!$A23)*(Projects!$J$5:$J$2413<>'MDOT FTA Detail'!$A$171)*(Projects!$K$5:$K$2413))","v":0},0,{"$f":"SUMPRODUCT((Projects!$A$5:$A$2413='MDOT FTA Detail'!$J$3)*(Projects!$C$5:$C$2413='MDOT FTA Detail'!$C$4)*(Projects!$L$5:$L$2413='MDOT FTA Detail'!$A23)*(Projects!$J$5:$J$2413<>'MDOT FTA Detail'!$A$171)*(Projects!$Q$5:$Q$2413))","v":0},{"$f":"SUMPRODUCT((Projects!$A$5:$A$2413='MDOT FTA Detail'!$M$3)*(Projects!$C$5:$C$2413='MDOT FTA Detail'!$C$4)*(Projects!$L$5:$L$2413='MDOT FTA Detail'!$A23)*(Projects!$J$5:$J$2413<>'MDOT FTA Detail'!$A$171)*(Projects!$K$5:$K$2413))","v":0},0,{"$f":"SUMPRODUCT((Projects!$A$5:$A$2413='MDOT FTA Detail'!$M$3)*(Projects!$C$5:$C$2413='MDOT FTA Detail'!$C$4)*(Projects!$L$5:$L$2413='MDOT FTA Detail'!$A23)*(Projects!$J$5:$J$2413<>'MDOT FTA Detail'!$A$171)*(Projects!$Q$5:$Q$2413))","v":0}]
["D129","Demonstration for Surface Transportation - Section 129","MDOT FA",{"$f":"SUMPRODUCT((Projects!$A$5:$A$2413='MDOT FTA Detail'!$D$3)*(Projects!$C$5:$C$2413='MDOT FTA Detail'!$C$4)*(Projects!$L$5:$L$2413='MDOT FTA Detail'!$A24)*(Projects!$J$5:$J$2413<>'MDOT FTA Detail'!$A$171)*(Projects!$K$5:K$2413))","v":0},{"$f":"F24-D24","v":0},{"$f":"SUMPRODUCT((Projects!$A$5:$A$2413='MDOT FTA Detail'!$D$3)*(Projects!$C$5:$C$2413='MDOT FTA Detail'!$C$4)*(Projects!$L$5:$L$2413='MDOT FTA Detail'!$A24)*(Projects!$J$5:$J$2413<>'MDOT FTA Detail'!$A$171)*(Projects!$Q$5:Q$2413))","v":0},{"$f":"SUMPRODUCT((Projects!$A$5:$A$2413='MDOT FTA Detail'!$G$3)*(Projects!$C$5:$C$2413='MDOT FTA Detail'!$C$4)*(Projects!$L$5:$L$2413='MDOT FTA Detail'!$A24)*(Projects!$J$5:$J$2413<>'MDOT FTA Detail'!$A$171)*(Projects!$K$5:K$2413))","v":0},{"$f":"I24-G24","v":0},{"$f":"SUMPRODUCT((Projects!$A$5:$A$2413='MDOT FTA Detail'!$G$3)*(Projects!$C$5:$C$2413='MDOT FTA Detail'!$C$4)*(Projects!$L$5:$L$2413='MDOT FTA Detail'!$A24)*(Projects!$J$5:$J$2413<>'MDOT FTA Detail'!$A$171)*(Projects!$Q$5:Q$2413))","v":0},{"$f":"SUMPRODUCT((Projects!$A$5:$A$2413='MDOT FTA Detail'!$J$3)*(Projects!$C$5:$C$2413='MDOT FTA Detail'!$C$4)*(Projects!$L$5:$L$2413='MDOT FTA Detail'!$A24)*(Projects!$J$5:$J$2413<>'MDOT FTA Detail'!$A$171)*(Projects!$K$5:$K$2413))","v":0},{"$f":"L24-J24","v":0},{"$f":"SUMPRODUCT((Projects!$A$5:$A$2413='MDOT FTA Detail'!$J$3)*(Projects!$C$5:$C$2413='MDOT FTA Detail'!$C$4)*(Projects!$L$5:$L$2413='MDOT FTA Detail'!$A24)*(Projects!$J$5:$J$2413<>'MDOT FTA Detail'!$A$171)*(Projects!$Q$5:$Q$2413))","v":0},{"$f":"SUMPRODUCT((Projects!$A$5:$A$2413='MDOT FTA Detail'!$M$3)*(Projects!$C$5:$C$2413='MDOT FTA Detail'!$C$4)*(Projects!$L$5:$L$2413='MDOT FTA Detail'!$A24)*(Projects!$J$5:$J$2413<>'MDOT FTA Detail'!$A$171)*(Projects!$K$5:$K$2413))","v":0},{"$f":"O24-M24","v":0},{"$f":"SUMPRODUCT((Projects!$A$5:$A$2413='MDOT FTA Detail'!$M$3)*(Projects!$C$5:$C$2413='MDOT FTA Detail'!$C$4)*(Projects!$L$5:$L$2413='MDOT FTA Detail'!$A24)*(Projects!$J$5:$J$2413<>'MDOT FTA Detail'!$A$171)*(Projects!$Q$5:$Q$2413))","v":0}]
["DIG","ISTEA Demonstration 100% Federal on Interstate","MDOT FA",{"$f":"SUMPRODUCT((Projects!$A$5:$A$2413='MDOT FTA Detail'!$D$3)*(Projects!$C$5:$C$2413='MDOT FTA Detail'!$C$4)*(Projects!$L$5:$L$2413='MDOT FTA Detail'!$A25)*(Projects!$J$5:$J$2413<>'MDOT FTA Detail'!$A$171)*(Projects!$K$5:K$2413))","v":0},0,{"$f":"SUMPRODUCT((Projects!$A$5:$A$2413='MDOT FTA Detail'!$D$3)*(Projects!$C$5:$C$2413='MDOT FTA Detail'!$C$4)*(Projects!$L$5:$L$2413='MDOT FTA Detail'!$A25)*(Projects!$J$5:$J$2413<>'MDOT FTA Detail'!$A$171)*(Projects!$Q$5:Q$2413))","v":0},{"$f":"SUMPRODUCT((Projects!$A$5:$A$2413='MDOT FTA Detail'!$G$3)*(Projects!$C$5:$C$2413='MDOT FTA Detail'!$C$4)*(Projects!$L$5:$L$2413='MDOT FTA Detail'!$A25)*(Projects!$J$5:$J$2413<>'MDOT FTA Detail'!$A$171)*(Projects!$K$5:K$2413))","v":0},0,{"$f":"SUMPRODUCT((Projects!$A$5:$A$2413='MDOT FTA Detail'!$G$3)*(Projects!$C$5:$C$2413='MDOT FTA Detail'!$C$4)*(Projects!$L$5:$L$2413='MDOT FTA Detail'!$A25)*(Projects!$J$5:$J$2413<>'MDOT FTA Detail'!$A$171)*(Projects!$Q$5:Q$2413))","v":0},{"$f":"SUMPRODUCT((Projects!$A$5:$A$2413='MDOT FTA Detail'!$J$3)*(Projects!$C$5:$C$2413='MDOT FTA Detail'!$C$4)*(Projects!$L$5:$L$2413='MDOT FTA Detail'!$A25)*(Projects!$J$5:$J$2413<>'MDOT FTA Detail'!$A$171)*(Projects!$K$5:$K$2413))","v":0},0,{"$f":"SUMPRODUCT((Projects!$A$5:$A$2413='MDOT FTA Detail'!$J$3)*(Projects!$C$5:$C$2413='MDOT FTA Detail'!$C$4)*(Projects!$L$5:$L$2413='MDOT FTA Detail'!$A25)*(Projects!$J$5:$J$2413<>'MDOT FTA Detail'!$A$171)*(Projects!$Q$5:$Q$2413))","v":0},{"$f":"SUMPRODUCT((Projects!$A$5:$A$2413='MDOT FTA Detail'!$M$3)*(Projects!$C$5:$C$2413='MDOT FTA Detail'!$C$4)*(Projects!$L$5:$L$2413='MDOT FTA Detail'!$A25)*(Projects!$J$5:$J$2413<>'MDOT FTA Detail'!$A$171)*(Projects!$K$5:$K$2413))","v":0},0,{"$f":"SUMPRODUCT((Projects!$A$5:$A$2413='MDOT FTA Detail'!$M$3)*(Projects!$C$5:$C$2413='MDOT FTA Detail'!$C$4)*(Projects!$L$5:$L$2413='MDOT FTA Detail'!$A25)*(Projects!$J$5:$J$2413<>'MDOT FTA Detail'!$A$171)*(Projects!$Q$5:$Q$2413))","v":0}]
["DOG","ISTEA Demonstration 100% Federal Not Classified","MDOT FA",{"$f":"SUMPRODUCT((Projects!$A$5:$A$2413='MDOT FTA Detail'!$D$3)*(Projects!$C$5:$C$2413='MDOT FTA Detail'!$C$4)*(Projects!$L$5:$L$2413='MDOT FTA Detail'!$A26)*(Projects!$J$5:$J$2413<>'MDOT FTA Detail'!$A$171)*(Projects!$K$5:K$2413))","v":0},0,{"$f":"SUMPRODUCT((Projects!$A$5:$A$2413='MDOT FTA Detail'!$D$3)*(Projects!$C$5:$C$2413='MDOT FTA Detail'!$C$4)*(Projects!$L$5:$L$2413='MDOT FTA Detail'!$A26)*(Projects!$J$5:$J$2413<>'MDOT FTA Detail'!$A$171)*(Projects!$Q$5:Q$2413))","v":0},{"$f":"SUMPRODUCT((Projects!$A$5:$A$2413='MDOT FTA Detail'!$G$3)*(Projects!$C$5:$C$2413='MDOT FTA Detail'!$C$4)*(Projects!$L$5:$L$2413='MDOT FTA Detail'!$A26)*(Projects!$J$5:$J$2413<>'MDOT FTA Detail'!$A$171)*(Projects!$K$5:K$2413))","v":0},0,{"$f":"SUMPRODUCT((Projects!$A$5:$A$2413='MDOT FTA Detail'!$G$3)*(Projects!$C$5:$C$2413='MDOT FTA Detail'!$C$4)*(Projects!$L$5:$L$2413='MDOT FTA Detail'!$A26)*(Projects!$J$5:$J$2413<>'MDOT FTA Detail'!$A$171)*(Projects!$Q$5:Q$2413))","v":0},{"$f":"SUMPRODUCT((Projects!$A$5:$A$2413='MDOT FTA Detail'!$J$3)*(Projects!$C$5:$C$2413='MDOT FTA Detail'!$C$4)*(Projects!$L$5:$L$2413='MDOT FTA Detail'!$A26)*(Projects!$J$5:$J$2413<>'MDOT FTA Detail'!$A$171)*(Projects!$K$5:$K$2413))","v":0},0,{"$f":"SUMPRODUCT((Projects!$A$5:$A$2413='MDOT FTA Detail'!$J$3)*(Projects!$C$5:$C$2413='MDOT FTA Detail'!$C$4)*(Projects!$L$5:$L$2413='MDOT FTA Detail'!$A26)*(Projects!$J$5:$J$2413<>'MDOT FTA Detail'!$A$171)*(Projects!$Q$5:$Q$2413))","v":0},{"$f":"SUMPRODUCT((Projects!$A$5:$A$2413='MDOT FTA Detail'!$M$3)*(Projects!$C$5:$C$2413='MDOT FTA Detail'!$C$4)*(Projects!$L$5:$L$2413='MDOT FTA Detail'!$A26)*(Projects!$J$5:$J$2413<>'MDOT FTA Detail'!$A$171)*(Projects!$K$5:$K$2413))","v":0},0,{"$f":"SUMPRODUCT((Projects!$A$5:$A$2413='MDOT FTA Detail'!$M$3)*(Projects!$C$5:$C$2413='MDOT FTA Detail'!$C$4)*(Projects!$L$5:$L$2413='MDOT FTA Detail'!$A26)*(Projects!$J$5:$J$2413<>'MDOT FTA Detail'!$A$171)*(Projects!$Q$5:$Q$2413))","v":0}]
["DPN","ISTEA Demonstration 80% Federal on NHS","MDOT FA",{"$f":"SUMPRODUCT((Projects!$A$5:$A$2413='MDOT FTA Detail'!$D$3)*(Projects!$C$5:$C$2413='MDOT FTA Detail'!$C$4)*(Projects!$L$5:$L$2413='MDOT FTA Detail'!$A27)*(Projects!$J$5:$J$2413<>'MDOT FTA Detail'!$A$171)*(Projects!$K$5:K$2413))","v":0},0,{"$f":"SUMPRODUCT((Projects!$A$5:$A$2413='MDOT FTA Detail'!$D$3)*(Projects!$C$5:$C$2413='MDOT FTA Detail'!$C$4)*(Projects!$L$5:$L$2413='MDOT FTA Detail'!$A27)*(Projects!$J$5:$J$2413<>'MDOT FTA Detail'!$A$171)*(Projects!$Q$5:Q$2413))","v":0},{"$f":"SUMPRODUCT((Projects!$A$5:$A$2413='MDOT FTA Detail'!$G$3)*(Projects!$C$5:$C$2413='MDOT FTA Detail'!$C$4)*(Projects!$L$5:$L$2413='MDOT FTA Detail'!$A27)*(Projects!$J$5:$J$2413<>'MDOT FTA Detail'!$A$171)*(Projects!$K$5:K$2413))","v":0},0,{"$f":"SUMPRODUCT((Projects!$A$5:$A$2413='MDOT FTA Detail'!$G$3)*(Projects!$C$5:$C$2413='MDOT FTA Detail'!$C$4)*(Projects!$L$5:$L$2413='MDOT FTA Detail'!$A27)*(Projects!$J$5:$J$2413<>'MDOT FTA Detail'!$A$171)*(Projects!$Q$5:Q$2413))","v":0},{"$f":"SUMPRODUCT((Projects!$A$5:$A$2413='MDOT FTA Detail'!$J$3)*(Projects!$C$5:$C$2413='MDOT FTA Detail'!$C$4)*(Projects!$L$5:$L$2413='MDOT FTA Detail'!$A27)*(Projects!$J$5:$J$2413<>'MDOT FTA Detail'!$A$171)*(Projects!$K$5:$K$2413))","v":0},0,{"$f":"SUMPRODUCT((Projects!$A$5:$A$2413='MDOT FTA Detail'!$J$3)*(Projects!$C$5:$C$2413='MDOT FTA Detail'!$C$4)*(Projects!$L$5:$L$2413='MDOT FTA Detail'!$A27)*(Projects!$J$5:$J$2413<>'MDOT FTA Detail'!$A$171)*(Projects!$Q$5:$Q$2413))","v":0},{"$f":"SUMPRODUCT((Projects!$A$5:$A$2413='MDOT FTA Detail'!$M$3)*(Projects!$C$5:$C$2413='MDOT FTA Detail'!$C$4)*(Projects!$L$5:$L$2413='MDOT FTA Detail'!$A27)*(Projects!$J$5:$J$2413<>'MDOT FTA Detail'!$A$171)*(Projects!$K$5:$K$2413))","v":0},0,{"$f":"SUMPRODUCT((Projects!$A$5:$A$2413='MDOT FTA Detail'!$M$3)*(Projects!$C$5:$C$2413='MDOT FTA Detail'!$C$4)*(Projects!$L$5:$L$2413='MDOT FTA Detail'!$A27)*(Projects!$J$5:$J$2413<>'MDOT FTA Detail'!$A$171)*(Projects!$Q$5:$Q$2413))","v":0}]
["DPO","ISTEA Demonstration 80% Federal Not Classified","MDOT FA",{"$f":"SUMPRODUCT((Projects!$A$5:$A$2413='MDOT FTA Detail'!$D$3)*(Projects!$C$5:$C$2413='MDOT FTA Detail'!$C$4)*(Projects!$L$5:$L$2413='MDOT FTA Detail'!$A28)*(Projects!$J$5:$J$2413<>'MDOT FTA Detail'!$A$171)*(Projects!$K$5:K$2413))","v":0},0,{"$f":"SUMPRODUCT((Projects!$A$5:$A$2413='MDOT FTA Detail'!$D$3)*(Projects!$C$5:$C$2413='MDOT FTA Detail'!$C$4)*(Projects!$L$5:$L$2413='MDOT FTA Detail'!$A28)*(Projects!$J$5:$J$2413<>'MDOT FTA Detail'!$A$171)*(Projects!$Q$5:Q$2413))","v":0},{"$f":"SUMPRODUCT((Projects!$A$5:$A$2413='MDOT FTA Detail'!$G$3)*(Projects!$C$5:$C$2413='MDOT FTA Detail'!$C$4)*(Projects!$L$5:$L$2413='MDOT FTA Detail'!$A28)*(Projects!$J$5:$J$2413<>'MDOT FTA Detail'!$A$171)*(Projects!$K$5:K$2413))","v":0},0,{"$f":"SUMPRODUCT((Projects!$A$5:$A$2413='MDOT FTA Detail'!$G$3)*(Projects!$C$5:$C$2413='MDOT FTA Detail'!$C$4)*(Projects!$L$5:$L$2413='MDOT FTA Detail'!$A28)*(Projects!$J$5:$J$2413<>'MDOT FTA Detail'!$A$171)*(Projects!$Q$5:Q$2413))","v":0},{"$f":"SUMPRODUCT((Projects!$A$5:$A$2413='MDOT FTA Detail'!$J$3)*(Projects!$C$5:$C$2413='MDOT FTA Detail'!$C$4)*(Projects!$L$5:$L$2413='MDOT FTA Detail'!$A28)*(Projects!$J$5:$J$2413<>'MDOT FTA Detail'!$A$171)*(Projects!$K$5:$K$2413))","v":0},0,{"$f":"SUMPRODUCT((Projects!$A$5:$A$2413='MDOT FTA Detail'!$J$3)*(Projects!$C$5:$C$2413='MDOT FTA Detail'!$C$4)*(Projects!$L$5:$L$2413='MDOT FTA Detail'!$A28)*(Projects!$J$5:$J$2413<>'MDOT FTA Detail'!$A$171)*(Projects!$Q$5:$Q$2413))","v":0},{"$f":"SUMPRODUCT((Projects!$A$5:$A$2413='MDOT FTA Detail'!$M$3)*(Projects!$C$5:$C$2413='MDOT FTA Detail'!$C$4)*(Projects!$L$5:$L$2413='MDOT FTA Detail'!$A28)*(Projects!$J$5:$J$2413<>'MDOT FTA Detail'!$A$171)*(Projects!$K$5:$K$2413))","v":0},0,{"$f":"SUMPRODUCT((Projects!$A$5:$A$2413='MDOT FTA Detail'!$M$3)*(Projects!$C$5:$C$2413='MDOT FTA Detail'!$C$4)*(Projects!$L$5:$L$2413='MDOT FTA Detail'!$A28)*(Projects!$J$5:$J$2413<>'MDOT FTA Detail'!$A$171)*(Projects!$Q$5:$Q$2413))","v":0}]
["DPS","ISTEA Demonstration 80% Federal on STP","MDOT FA",{"$f":"SUMPRODUCT((Projects!$A$5:$A$2413='MDOT FTA Detail'!$D$3)*(Projects!$C$5:$C$2413='MDOT FTA Detail'!$C$4)*(Projects!$L$5:$L$2413='MDOT FTA Detail'!$A29)*(Projects!$J$5:$J$2413<>'MDOT FTA Detail'!$A$171)*(Projects!$K$5:K$2413))","v":0},0,{"$f":"SUMPRODUCT((Projects!$A$5:$A$2413='MDOT FTA Detail'!$D$3)*(Projects!$C$5:$C$2413='MDOT FTA Detail'!$C$4)*(Projects!$L$5:$L$2413='MDOT FTA Detail'!$A29)*(Projects!$J$5:$J$2413<>'MDOT FTA Detail'!$A$171)*(Projects!$Q$5:Q$2413))","v":0},{"$f":"SUMPRODUCT((Projects!$A$5:$A$2413='MDOT FTA Detail'!$G$3)*(Projects!$C$5:$C$2413='MDOT FTA Detail'!$C$4)*(Projects!$L$5:$L$2413='MDOT FTA Detail'!$A29)*(Projects!$J$5:$J$2413<>'MDOT FTA Detail'!$A$171)*(Projects!$K$5:K$2413))","v":0},0,{"$f":"SUMPRODUCT((Projects!$A$5:$A$2413='MDOT FTA Detail'!$G$3)*(Projects!$C$5:$C$2413='MDOT FTA Detail'!$C$4)*(Projects!$L$5:$L$2413='MDOT FTA Detail'!$A29)*(Projects!$J$5:$J$2413<>'MDOT FTA Detail'!$A$171)*(Projects!$Q$5:Q$2413))","v":0},{"$f":"SUMPRODUCT((Projects!$A$5:$A$2413='MDOT FTA Detail'!$J$3)*(Projects!$C$5:$C$2413='MDOT FTA Detail'!$C$4)*(Projects!$L$5:$L$2413='MDOT FTA Detail'!$A29)*(Projects!$J$5:$J$2413<>'MDOT FTA Detail'!$A$171)*(Projects!$K$5:$K$2413))","v":0},0,{"$f":"SUMPRODUCT((Projects!$A$5:$A$2413='MDOT FTA Detail'!$J$3)*(Projects!$C$5:$C$2413='MDOT FTA Detail'!$C$4)*(Projects!$L$5:$L$2413='MDOT FTA Detail'!$A29)*(Projects!$J$5:$J$2413<>'MDOT FTA Detail'!$A$171)*(Projects!$Q$5:$Q$2413))","v":0},{"$f":"SUMPRODUCT((Projects!$A$5:$A$2413='MDOT FTA Detail'!$M$3)*(Projects!$C$5:$C$2413='MDOT FTA Detail'!$C$4)*(Projects!$L$5:$L$2413='MDOT FTA Detail'!$A29)*(Projects!$J$5:$J$2413<>'MDOT FTA Detail'!$A$171)*(Projects!$K$5:$K$2413))","v":0},0,{"$f":"SUMPRODUCT((Projects!$A$5:$A$2413='MDOT FTA Detail'!$M$3)*(Projects!$C$5:$C$2413='MDOT FTA Detail'!$C$4)*(Projects!$L$5:$L$2413='MDOT FTA Detail'!$A29)*(Projects!$J$5:$J$2413<>'MDOT FTA Detail'!$A$171)*(Projects!$Q$5:$Q$2413))","v":0}]
["DPSA","Demonstration Project Section 112 Division A","MDOT FA",{"$f":"SUMPRODUCT((Projects!$A$5:$A$2413='MDOT FTA Detail'!$D$3)*(Projects!$C$5:$C$2413='MDOT FTA Detail'!$C$4)*(Projects!$L$5:$L$2413='MDOT FTA Detail'!$A30)*(Projects!$J$5:$J$2413<>'MDOT FTA Detail'!$A$171)*(Projects!$K$5:K$2413))","v":0},0,{"$f":"SUMPRODUCT((Projects!$A$5:$A$2413='MDOT FTA Detail'!$D$3)*(Projects!$C$5:$C$2413='MDOT FTA Detail'!$C$4)*(Projects!$L$5:$L$2413='MDOT FTA Detail'!$A30)*(Projects!$J$5:$J$2413<>'MDOT FTA Detail'!$A$171)*(Projects!$Q$5:Q$2413))","v":0},{"$f":"SUMPRODUCT((Projects!$A$5:$A$2413='MDOT FTA Detail'!$G$3)*(Projects!$C$5:$C$2413='MDOT FTA Detail'!$C$4)*(Projects!$L$5:$L$2413='MDOT FTA Detail'!$A30)*(Projects!$J$5:$J$2413<>'MDOT FTA Detail'!$A$171)*(Projects!$K$5:K$2413))","v":0},0,{"$f":"SUMPRODUCT((Projects!$A$5:$A$2413='MDOT FTA Detail'!$G$3)*(Projects!$C$5:$C$2413='MDOT FTA Detail'!$C$4)*(Projects!$L$5:$L$2413='MDOT FTA Detail'!$A30)*(Projects!$J$5:$J$2413<>'MDOT FTA Detail'!$A$171)*(Projects!$Q$5:Q$2413))","v":0},{"$f":"SUMPRODUCT((Projects!$A$5:$A$2413='MDOT FTA Detail'!$J$3)*(Projects!$C$5:$C$2413='MDOT FTA Detail'!$C$4)*(Projects!$L$5:$L$2413='MDOT FTA Detail'!$A30)*(Projects!$J$5:$J$2413<>'MDOT FTA Detail'!$A$171)*(Projects!$K$5:$K$2413))","v":0},0,{"$f":"SUMPRODUCT((Projects!$A$5:$A$2413='MDOT FTA Detail'!$J$3)*(Projects!$C$5:$C$2413='MDOT FTA Detail'!$C$4)*(Projects!$L$5:$L$2413='MDOT FTA Detail'!$A30)*(Projects!$J$5:$J$2413<>'MDOT FTA Detail'!$A$171)*(Projects!$Q$5:$Q$2413))","v":0},{"$f":"SUMPRODUCT((Projects!$A$5:$A$2413='MDOT FTA Detail'!$M$3)*(Projects!$C$5:$C$2413='MDOT FTA Detail'!$C$4)*(Projects!$L$5:$L$2413='MDOT FTA Detail'!$A30)*(Projects!$J$5:$J$2413<>'MDOT FTA Detail'!$A$171)*(Projects!$K$5:$K$2413))","v":0},0,{"$f":"SUMPRODUCT((Projects!$A$5:$A$2413='MDOT FTA Detail'!$M$3)*(Projects!$C$5:$C$2413='MDOT FTA Detail'!$C$4)*(Projects!$L$5:$L$2413='MDOT FTA Detail'!$A30)*(Projects!$J$5:$J$2413<>'MDOT FTA Detail'!$A$171)*(Projects!$Q$5:$Q$2413))","v":0}]
["DST","Donor Bonus Surface Transportation","MDOT FA",{"$f":"SUMPRODUCT((Projects!$A$5:$A$2413='MDOT FTA Detail'!$D$3)*(Projects!$C$5:$C$2413='MDOT FTA Detail'!$C$4)*(Projects!$L$5:$L$2413='MDOT FTA Detail'!$A31)*(Projects!$J$5:$J$2413<>'MDOT FTA Detail'!$A$171)*(Projects!$K$5:K$2413))","v":0},0,{"$f":"SUMPRODUCT((Projects!$A$5:$A$2413='MDOT FTA Detail'!$D$3)*(Projects!$C$5:$C$2413='MDOT FTA Detail'!$C$4)*(Projects!$L$5:$L$2413='MDOT FTA Detail'!$A31)*(Projects!$J$5:$J$2413<>'MDOT FTA Detail'!$A$171)*(Projects!$Q$5:Q$2413))","v":0},{"$f":"SUMPRODUCT((Projects!$A$5:$A$2413='MDOT FTA Detail'!$G$3)*(Projects!$C$5:$C$2413='MDOT FTA Detail'!$C$4)*(Projects!$L$5:$L$2413='MDOT FTA Detail'!$A31)*(Projects!$J$5:$J$2413<>'MDOT FTA Detail'!$A$171)*(Projects!$K$5:K$2413))","v":0},0,{"$f":"SUMPRODUCT((Projects!$A$5:$A$2413='MDOT FTA Detail'!$G$3)*(Projects!$C$5:$C$2413='MDOT FTA Detail'!$C$4)*(Projects!$L$5:$L$2413='MDOT FTA Detail'!$A31)*(Projects!$J$5:$J$2413<>'MDOT FTA Detail'!$A$171)*(Projects!$Q$5:Q$2413))","v":0},{"$f":"SUMPRODUCT((Projects!$A$5:$A$2413='MDOT FTA Detail'!$J$3)*(Projects!$C$5:$C$2413='MDOT FTA Detail'!$C$4)*(Projects!$L$5:$L$2413='MDOT FTA Detail'!$A31)*(Projects!$J$5:$J$2413<>'MDOT FTA Detail'!$A$171)*(Projects!$K$5:$K$2413))","v":0},0,{"$f":"SUMPRODUCT((Projects!$A$5:$A$2413='MDOT FTA Detail'!$J$3)*(Projects!$C$5:$C$2413='MDOT FTA Detail'!$C$4)*(Projects!$L$5:$L$2413='MDOT FTA Detail'!$A31)*(Projects!$J$5:$J$2413<>'MDOT FTA Detail'!$A$171)*(Projects!$Q$5:$Q$2413))","v":0},{"$f":"SUMPRODUCT((Projects!$A$5:$A$2413='MDOT FTA Detail'!$M$3)*(Projects!$C$5:$C$2413='MDOT FTA Detail'!$C$4)*(Projects!$L$5:$L$2413='MDOT FTA Detail'!$A31)*(Projects!$J$5:$J$2413<>'MDOT FTA Detail'!$A$171)*(Projects!$K$5:$K$2413))","v":0},0,{"$f":"SUMPRODUCT((Projects!$A$5:$A$2413='MDOT FTA Detail'!$M$3)*(Projects!$C$5:$C$2413='MDOT FTA Detail'!$C$4)*(Projects!$L$5:$L$2413='MDOT FTA Detail'!$A31)*(Projects!$J$5:$J$2413<>'MDOT FTA Detail'!$A$171)*(Projects!$Q$5:$Q$2413))","v":0}]
["DSTU","Donor Bonus Surface Transportation - (Urban > 2499,000)","MDOT FA",{"$f":"SUMPRODUCT((Projects!$A$5:$A$2413='MDOT FTA Detail'!$D$3)*(Projects!$C$5:$C$2413='MDOT FTA Detail'!$C$4)*(Projects!$L$5:$L$2413='MDOT FTA Detail'!$A32)*(Projects!$J$5:$J$2413<>'MDOT FTA Detail'!$A$171)*(Projects!$K$5:K$2413))","v":0},0,{"$f":"SUMPRODUCT((Projects!$A$5:$A$2413='MDOT FTA Detail'!$D$3)*(Projects!$C$5:$C$2413='MDOT FTA Detail'!$C$4)*(Projects!$L$5:$L$2413='MDOT FTA Detail'!$A32)*(Projects!$J$5:$J$2413<>'MDOT FTA Detail'!$A$171)*(Projects!$Q$5:Q$2413))","v":0},{"$f":"SUMPRODUCT((Projects!$A$5:$A$2413='MDOT FTA Detail'!$G$3)*(Projects!$C$5:$C$2413='MDOT FTA Detail'!$C$4)*(Projects!$L$5:$L$2413='MDOT FTA Detail'!$A32)*(Projects!$J$5:$J$2413<>'MDOT FTA Detail'!$A$171)*(Projects!$K$5:K$2413))","v":0},0,{"$f":"SUMPRODUCT((Projects!$A$5:$A$2413='MDOT FTA Detail'!$G$3)*(Projects!$C$5:$C$2413='MDOT FTA Detail'!$C$4)*(Projects!$L$5:$L$2413='MDOT FTA Detail'!$A32)*(Projects!$J$5:$J$2413<>'MDOT FTA Detail'!$A$171)*(Projects!$Q$5:Q$2413))","v":0},{"$f":"SUMPRODUCT((Projects!$A$5:$A$2413='MDOT FTA Detail'!$J$3)*(Projects!$C$5:$C$2413='MDOT FTA Detail'!$C$4)*(Projects!$L$5:$L$2413='MDOT FTA Detail'!$A32)*(Projects!$J$5:$J$2413<>'MDOT FTA Detail'!$A$171)*(Projects!$K$5:$K$2413))","v":0},0,{"$f":"SUMPRODUCT((Projects!$A$5:$A$2413='MDOT FTA Detail'!$J$3)*(Projects!$C$5:$C$2413='MDOT FTA Detail'!$C$4)*(Projects!$L$5:$L$2413='MDOT FTA Detail'!$A32)*(Projects!$J$5:$J$2413<>'MDOT FTA Detail'!$A$171)*(Projects!$Q$5:$Q$2413))","v":0},{"$f":"SUMPRODUCT((Projects!$A$5:$A$2413='MDOT FTA Detail'!$M$3)*(Projects!$C$5:$C$2413='MDOT FTA Detail'!$C$4)*(Projects!$L$5:$L$2413='MDOT FTA Detail'!$A32)*(Projects!$J$5:$J$2413<>'MDOT FTA Detail'!$A$171)*(Projects!$K$5:$K$2413))","v":0},0,{"$f":"SUMPRODUCT((Projects!$A$5:$A$2413='MDOT FTA Detail'!$M$3)*(Projects!$C$5:$C$2413='MDOT FTA Detail'!$C$4)*(Projects!$L$5:$L$2413='MDOT FTA Detail'!$A32)*(Projects!$J$5:$J$2413<>'MDOT FTA Detail'!$A$171)*(Projects!$Q$5:$Q$2413))","v":0}]
["DSTT","Donor Bonus Surface Transportation - Rural - Trunkline","MDOT FA",{"$f":"SUMPRODUCT((Projects!$A$5:$A$2413='MDOT FTA Detail'!$D$3)*(Projects!$C$5:$C$2413='MDOT FTA Detail'!$C$4)*(Projects!$L$5:$L$2413='MDOT FTA Detail'!$A33)*(Projects!$J$5:$J$2413<>'MDOT FTA Detail'!$A$171)*(Projects!$K$5:K$2413))","v":0},0,{"$f":"SUMPRODUCT((Projects!$A$5:$A$2413='MDOT FTA Detail'!$D$3)*(Projects!$C$5:$C$2413='MDOT FTA Detail'!$C$4)*(Projects!$L$5:$L$2413='MDOT FTA Detail'!$A33)*(Projects!$J$5:$J$2413<>'MDOT FTA Detail'!$A$171)*(Projects!$Q$5:Q$2413))","v":0},{"$f":"SUMPRODUCT((Projects!$A$5:$A$2413='MDOT FTA Detail'!$G$3)*(Projects!$C$5:$C$2413='MDOT FTA Detail'!$C$4)*(Projects!$L$5:$L$2413='MDOT FTA Detail'!$A33)*(Projects!$J$5:$J$2413<>'MDOT FTA Detail'!$A$171)*(Projects!$K$5:K$2413))","v":0},0,{"$f":"SUMPRODUCT((Projects!$A$5:$A$2413='MDOT FTA Detail'!$G$3)*(Projects!$C$5:$C$2413='MDOT FTA Detail'!$C$4)*(Projects!$L$5:$L$2413='MDOT FTA Detail'!$A33)*(Projects!$J$5:$J$2413<>'MDOT FTA Detail'!$A$171)*(Projects!$Q$5:Q$2413))","v":0},{"$f":"SUMPRODUCT((Projects!$A$5:$A$2413='MDOT FTA Detail'!$J$3)*(Projects!$C$5:$C$2413='MDOT FTA Detail'!$C$4)*(Projects!$L$5:$L$2413='MDOT FTA Detail'!$A33)*(Projects!$J$5:$J$2413<>'MDOT FTA Detail'!$A$171)*(Projects!$K$5:$K$2413))","v":0},0,{"$f":"SUMPRODUCT((Projects!$A$5:$A$2413='MDOT FTA Detail'!$J$3)*(Projects!$C$5:$C$2413='MDOT FTA Detail'!$C$4)*(Projects!$L$5:$L$2413='MDOT FTA Detail'!$A33)*(Projects!$J$5:$J$2413<>'MDOT FTA Detail'!$A$171)*(Projects!$Q$5:$Q$2413))","v":0},{"$f":"SUMPRODUCT((Projects!$A$5:$A$2413='MDOT FTA Detail'!$M$3)*(Projects!$C$5:$C$2413='MDOT FTA Detail'!$C$4)*(Projects!$L$5:$L$2413='MDOT FTA Detail'!$A33)*(Projects!$J$5:$J$2413<>'MDOT FTA Detail'!$A$171)*(Projects!$K$5:$K$2413))","v":0},0,{"$f":"SUMPRODUCT((Projects!$A$5:$A$2413='MDOT FTA Detail'!$M$3)*(Projects!$C$5:$C$2413='MDOT FTA Detail'!$C$4)*(Projects!$L$5:$L$2413='MDOT FTA Detail'!$A33)*(Projects!$J$5:$J$2413<>'MDOT FTA Detail'!$A$171)*(Projects!$Q$5:$Q$2413))","v":0}]
["EBSL","Equity Bonus - SAFETEA-LU","MDOT FA",{"$f":"SUMPRODUCT((Projects!$A$5:$A$2413='MDOT FTA Detail'!$D$3)*(Projects!$C$5:$C$2413='MDOT FTA Detail'!$C$4)*(Projects!$L$5:$L$2413='MDOT FTA Detail'!$A34)*(Projects!$J$5:$J$2413<>'MDOT FTA Detail'!$A$171)*(Projects!$K$5:K$2413))","v":0},0,{"$f":"SUMPRODUCT((Projects!$A$5:$A$2413='MDOT FTA Detail'!$D$3)*(Projects!$C$5:$C$2413='MDOT FTA Detail'!$C$4)*(Projects!$L$5:$L$2413='MDOT FTA Detail'!$A34)*(Projects!$J$5:$J$2413<>'MDOT FTA Detail'!$A$171)*(Projects!$Q$5:Q$2413))","v":0},{"$f":"SUMPRODUCT((Projects!$A$5:$A$2413='MDOT FTA Detail'!$G$3)*(Projects!$C$5:$C$2413='MDOT FTA Detail'!$C$4)*(Projects!$L$5:$L$2413='MDOT FTA Detail'!$A34)*(Projects!$J$5:$J$2413<>'MDOT FTA Detail'!$A$171)*(Projects!$K$5:K$2413))","v":0},0,{"$f":"SUMPRODUCT((Projects!$A$5:$A$2413='MDOT FTA Detail'!$G$3)*(Projects!$C$5:$C$2413='MDOT FTA Detail'!$C$4)*(Projects!$L$5:$L$2413='MDOT FTA Detail'!$A34)*(Projects!$J$5:$J$2413<>'MDOT FTA Detail'!$A$171)*(Projects!$Q$5:Q$2413))","v":0},{"$f":"SUMPRODUCT((Projects!$A$5:$A$2413='MDOT FTA Detail'!$J$3)*(Projects!$C$5:$C$2413='MDOT FTA Detail'!$C$4)*(Projects!$L$5:$L$2413='MDOT FTA Detail'!$A34)*(Projects!$J$5:$J$2413<>'MDOT FTA Detail'!$A$171)*(Projects!$K$5:$K$2413))","v":0},0,{"$f":"SUMPRODUCT((Projects!$A$5:$A$2413='MDOT FTA Detail'!$J$3)*(Projects!$C$5:$C$2413='MDOT FTA Detail'!$C$4)*(Projects!$L$5:$L$2413='MDOT FTA Detail'!$A34)*(Projects!$J$5:$J$2413<>'MDOT FTA Detail'!$A$171)*(Projects!$Q$5:$Q$2413))","v":0},{"$f":"SUMPRODUCT((Projects!$A$5:$A$2413='MDOT FTA Detail'!$M$3)*(Projects!$C$5:$C$2413='MDOT FTA Detail'!$C$4)*(Projects!$L$5:$L$2413='MDOT FTA Detail'!$A34)*(Projects!$J$5:$J$2413<>'MDOT FTA Detail'!$A$171)*(Projects!$K$5:$K$2413))","v":0},0,{"$f":"SUMPRODUCT((Projects!$A$5:$A$2413='MDOT FTA Detail'!$M$3)*(Projects!$C$5:$C$2413='MDOT FTA Detail'!$C$4)*(Projects!$L$5:$L$2413='MDOT FTA Detail'!$A34)*(Projects!$J$5:$J$2413<>'MDOT FTA Detail'!$A$171)*(Projects!$Q$5:$Q$2413))","v":0}]
["EDAF","Economic Development - Category A with Federal Aid","MDOT FA",{"$f":"SUMPRODUCT((Projects!$A$5:$A$2413='MDOT FTA Detail'!$D$3)*(Projects!$C$5:$C$2413='MDOT FTA Detail'!$C$4)*(Projects!$L$5:$L$2413='MDOT FTA Detail'!$A35)*(Projects!$J$5:$J$2413<>'MDOT FTA Detail'!$A$171)*(Projects!$K$5:K$2413))","v":0},0,{"$f":"SUMPRODUCT((Projects!$A$5:$A$2413='MDOT FTA Detail'!$D$3)*(Projects!$C$5:$C$2413='MDOT FTA Detail'!$C$4)*(Projects!$L$5:$L$2413='MDOT FTA Detail'!$A35)*(Projects!$J$5:$J$2413<>'MDOT FTA Detail'!$A$171)*(Projects!$Q$5:Q$2413))","v":0},{"$f":"SUMPRODUCT((Projects!$A$5:$A$2413='MDOT FTA Detail'!$G$3)*(Projects!$C$5:$C$2413='MDOT FTA Detail'!$C$4)*(Projects!$L$5:$L$2413='MDOT FTA Detail'!$A35)*(Projects!$J$5:$J$2413<>'MDOT FTA Detail'!$A$171)*(Projects!$K$5:K$2413))","v":0},0,{"$f":"SUMPRODUCT((Projects!$A$5:$A$2413='MDOT FTA Detail'!$G$3)*(Projects!$C$5:$C$2413='MDOT FTA Detail'!$C$4)*(Projects!$L$5:$L$2413='MDOT FTA Detail'!$A35)*(Projects!$J$5:$J$2413<>'MDOT FTA Detail'!$A$171)*(Projects!$Q$5:Q$2413))","v":0},{"$f":"SUMPRODUCT((Projects!$A$5:$A$2413='MDOT FTA Detail'!$J$3)*(Projects!$C$5:$C$2413='MDOT FTA Detail'!$C$4)*(Projects!$L$5:$L$2413='MDOT FTA Detail'!$A35)*(Projects!$J$5:$J$2413<>'MDOT FTA Detail'!$A$171)*(Projects!$K$5:$K$2413))","v":0},0,{"$f":"SUMPRODUCT((Projects!$A$5:$A$2413='MDOT FTA Detail'!$J$3)*(Projects!$C$5:$C$2413='MDOT FTA Detail'!$C$4)*(Projects!$L$5:$L$2413='MDOT FTA Detail'!$A35)*(Projects!$J$5:$J$2413<>'MDOT FTA Detail'!$A$171)*(Projects!$Q$5:$Q$2413))","v":0},{"$f":"SUMPRODUCT((Projects!$A$5:$A$2413='MDOT FTA Detail'!$M$3)*(Projects!$C$5:$C$2413='MDOT FTA Detail'!$C$4)*(Projects!$L$5:$L$2413='MDOT FTA Detail'!$A35)*(Projects!$J$5:$J$2413<>'MDOT FTA Detail'!$A$171)*(Projects!$K$5:$K$2413))","v":0},0,{"$f":"SUMPRODUCT((Projects!$A$5:$A$2413='MDOT FTA Detail'!$M$3)*(Projects!$C$5:$C$2413='MDOT FTA Detail'!$C$4)*(Projects!$L$5:$L$2413='MDOT FTA Detail'!$A35)*(Projects!$J$5:$J$2413<>'MDOT FTA Detail'!$A$171)*(Projects!$Q$5:$Q$2413))","v":0}]
["EDCF","Economic Development - Category C with Federal Aid","MDOT FA",{"$f":"SUMPRODUCT((Projects!$A$5:$A$2413='MDOT FTA Detail'!$D$3)*(Projects!$C$5:$C$2413='MDOT FTA Detail'!$C$4)*(Projects!$L$5:$L$2413='MDOT FTA Detail'!$A36)*(Projects!$J$5:$J$2413<>'MDOT FTA Detail'!$A$171)*(Projects!$K$5:K$2413))","v":0},0,{"$f":"SUMPRODUCT((Projects!$A$5:$A$2413='MDOT FTA Detail'!$D$3)*(Projects!$C$5:$C$2413='MDOT FTA Detail'!$C$4)*(Projects!$L$5:$L$2413='MDOT FTA Detail'!$A36)*(Projects!$J$5:$J$2413<>'MDOT FTA Detail'!$A$171)*(Projects!$Q$5:Q$2413))","v":0},{"$f":"SUMPRODUCT((Projects!$A$5:$A$2413='MDOT FTA Detail'!$G$3)*(Projects!$C$5:$C$2413='MDOT FTA Detail'!$C$4)*(Projects!$L$5:$L$2413='MDOT FTA Detail'!$A36)*(Projects!$J$5:$J$2413<>'MDOT FTA Detail'!$A$171)*(Projects!$K$5:K$2413))","v":0},0,{"$f":"SUMPRODUCT((Projects!$A$5:$A$2413='MDOT FTA Detail'!$G$3)*(Projects!$C$5:$C$2413='MDOT FTA Detail'!$C$4)*(Projects!$L$5:$L$2413='MDOT FTA Detail'!$A36)*(Projects!$J$5:$J$2413<>'MDOT FTA Detail'!$A$171)*(Projects!$Q$5:Q$2413))","v":0},{"$f":"SUMPRODUCT((Projects!$A$5:$A$2413='MDOT FTA Detail'!$J$3)*(Projects!$C$5:$C$2413='MDOT FTA Detail'!$C$4)*(Projects!$L$5:$L$2413='MDOT FTA Detail'!$A36)*(Projects!$J$5:$J$2413<>'MDOT FTA Detail'!$A$171)*(Projects!$K$5:$K$2413))","v":0},0,{"$f":"SUMPRODUCT((Projects!$A$5:$A$2413='MDOT FTA Detail'!$J$3)*(Projects!$C$5:$C$2413='MDOT FTA Detail'!$C$4)*(Projects!$L$5:$L$2413='MDOT FTA Detail'!$A36)*(Projects!$J$5:$J$2413<>'MDOT FTA Detail'!$A$171)*(Projects!$Q$5:$Q$2413))","v":0},{"$f":"SUMPRODUCT((Projects!$A$5:$A$2413='MDOT FTA Detail'!$M$3)*(Projects!$C$5:$C$2413='MDOT FTA Detail'!$C$4)*(Projects!$L$5:$L$2413='MDOT FTA Detail'!$A36)*(Projects!$J$5:$J$2413<>'MDOT FTA Detail'!$A$171)*(Projects!$K$5:$K$2413))","v":0},0,{"$f":"SUMPRODUCT((Projects!$A$5:$A$2413='MDOT FTA Detail'!$M$3)*(Projects!$C$5:$C$2413='MDOT FTA Detail'!$C$4)*(Projects!$L$5:$L$2413='MDOT FTA Detail'!$A36)*(Projects!$J$5:$J$2413<>'MDOT FTA Detail'!$A$171)*(Projects!$Q$5:$Q$2413))","v":0}]
["EDDF","Economic Development - Category D with Federal Aid","MDOT FA",{"$f":"SUMPRODUCT((Projects!$A$5:$A$2413='MDOT FTA Detail'!$D$3)*(Projects!$C$5:$C$2413='MDOT FTA Detail'!$C$4)*(Projects!$L$5:$L$2413='MDOT FTA Detail'!$A37)*(Projects!$J$5:$J$2413<>'MDOT FTA Detail'!$A$171)*(Projects!$K$5:K$2413))","v":0},0,{"$f":"SUMPRODUCT((Projects!$A$5:$A$2413='MDOT FTA Detail'!$D$3)*(Projects!$C$5:$C$2413='MDOT FTA Detail'!$C$4)*(Projects!$L$5:$L$2413='MDOT FTA Detail'!$A37)*(Projects!$J$5:$J$2413<>'MDOT FTA Detail'!$A$171)*(Projects!$Q$5:Q$2413))","v":0},{"$f":"SUMPRODUCT((Projects!$A$5:$A$2413='MDOT FTA Detail'!$G$3)*(Projects!$C$5:$C$2413='MDOT FTA Detail'!$C$4)*(Projects!$L$5:$L$2413='MDOT FTA Detail'!$A37)*(Projects!$J$5:$J$2413<>'MDOT FTA Detail'!$A$171)*(Projects!$K$5:K$2413))","v":0},0,{"$f":"SUMPRODUCT((Projects!$A$5:$A$2413='MDOT FTA Detail'!$G$3)*(Projects!$C$5:$C$2413='MDOT FTA Detail'!$C$4)*(Projects!$L$5:$L$2413='MDOT FTA Detail'!$A37)*(Projects!$J$5:$J$2413<>'MDOT FTA Detail'!$A$171)*(Projects!$Q$5:Q$2413))","v":0},{"$f":"SUMPRODUCT((Projects!$A$5:$A$2413='MDOT FTA Detail'!$J$3)*(Projects!$C$5:$C$2413='MDOT FTA Detail'!$C$4)*(Projects!$L$5:$L$2413='MDOT FTA Detail'!$A37)*(Projects!$J$5:$J$2413<>'MDOT FTA Detail'!$A$171)*(Projects!$K$5:$K$2413))","v":0},0,{"$f":"SUMPRODUCT((Projects!$A$5:$A$2413='MDOT FTA Detail'!$J$3)*(Projects!$C$5:$C$2413='MDOT FTA Detail'!$C$4)*(Projects!$L$5:$L$2413='MDOT FTA Detail'!$A37)*(Projects!$J$5:$J$2413<>'MDOT FTA Detail'!$A$171)*(Projects!$Q$5:$Q$2413))","v":0},{"$f":"SUMPRODUCT((Projects!$A$5:$A$2413='MDOT FTA Detail'!$M$3)*(Projects!$C$5:$C$2413='MDOT FTA Detail'!$C$4)*(Projects!$L$5:$L$2413='MDOT FTA Detail'!$A37)*(Projects!$J$5:$J$2413<>'MDOT FTA Detail'!$A$171)*(Projects!$K$5:$K$2413))","v":0},0,{"$f":"SUMPRODUCT((Projects!$A$5:$A$2413='MDOT FTA Detail'!$M$3)*(Projects!$C$5:$C$2413='MDOT FTA Detail'!$C$4)*(Projects!$L$5:$L$2413='MDOT FTA Detail'!$A37)*(Projects!$J$5:$J$2413<>'MDOT FTA Detail'!$A$171)*(Projects!$Q$5:$Q$2413))","v":0}]
["EDFF","Economic Development - Category F with Federal Aid","MDOT FA",{"$f":"SUMPRODUCT((Projects!$A$5:$A$2413='MDOT FTA Detail'!$D$3)*(Projects!$C$5:$C$2413='MDOT FTA Detail'!$C$4)*(Projects!$L$5:$L$2413='MDOT FTA Detail'!$A38)*(Projects!$J$5:$J$2413<>'MDOT FTA Detail'!$A$171)*(Projects!$K$5:K$2413))","v":0},0,{"$f":"SUMPRODUCT((Projects!$A$5:$A$2413='MDOT FTA Detail'!$D$3)*(Projects!$C$5:$C$2413='MDOT FTA Detail'!$C$4)*(Projects!$L$5:$L$2413='MDOT FTA Detail'!$A38)*(Projects!$J$5:$J$2413<>'MDOT FTA Detail'!$A$171)*(Projects!$Q$5:Q$2413))","v":0},{"$f":"SUMPRODUCT((Projects!$A$5:$A$2413='MDOT FTA Detail'!$G$3)*(Projects!$C$5:$C$2413='MDOT FTA Detail'!$C$4)*(Projects!$L$5:$L$2413='MDOT FTA Detail'!$A38)*(Projects!$J$5:$J$2413<>'MDOT FTA Detail'!$A$171)*(Projects!$K$5:K$2413))","v":0},0,{"$f":"SUMPRODUCT((Projects!$A$5:$A$2413='MDOT FTA Detail'!$G$3)*(Projects!$C$5:$C$2413='MDOT FTA Detail'!$C$4)*(Projects!$L$5:$L$2413='MDOT FTA Detail'!$A38)*(Projects!$J$5:$J$2413<>'MDOT FTA Detail'!$A$171)*(Projects!$Q$5:Q$2413))","v":0},{"$f":"SUMPRODUCT((Projects!$A$5:$A$2413='MDOT FTA Detail'!$J$3)*(Projects!$C$5:$C$2413='MDOT FTA Detail'!$C$4)*(Projects!$L$5:$L$2413='MDOT FTA Detail'!$A38)*(Projects!$J$5:$J$2413<>'MDOT FTA Detail'!$A$171)*(Projects!$K$5:$K$2413))","v":0},0,{"$f":"SUMPRODUCT((Projects!$A$5:$A$2413='MDOT FTA Detail'!$J$3)*(Projects!$C$5:$C$2413='MDOT FTA Detail'!$C$4)*(Projects!$L$5:$L$2413='MDOT FTA Detail'!$A38)*(Projects!$J$5:$J$2413<>'MDOT FTA Detail'!$A$171)*(Projects!$Q$5:$Q$2413))","v":0},{"$f":"SUMPRODUCT((Projects!$A$5:$A$2413='MDOT FTA Detail'!$M$3)*(Projects!$C$5:$C$2413='MDOT FTA Detail'!$C$4)*(Projects!$L$5:$L$2413='MDOT FTA Detail'!$A38)*(Projects!$J$5:$J$2413<>'MDOT FTA Detail'!$A$171)*(Projects!$K$5:$K$2413))","v":0},0,{"$f":"SUMPRODUCT((Projects!$A$5:$A$2413='MDOT FTA Detail'!$M$3)*(Projects!$C$5:$C$2413='MDOT FTA Detail'!$C$4)*(Projects!$L$5:$L$2413='MDOT FTA Detail'!$A38)*(Projects!$J$5:$J$2413<>'MDOT FTA Detail'!$A$171)*(Projects!$Q$5:$Q$2413))","v":0}]
["ER","Emergency Relief","MDOT FA",{"$f":"SUMPRODUCT((Projects!$A$5:$A$2413='MDOT FTA Detail'!$D$3)*(Projects!$C$5:$C$2413='MDOT FTA Detail'!$C$4)*(Projects!$L$5:$L$2413='MDOT FTA Detail'!$A39)*(Projects!$J$5:$J$2413<>'MDOT FTA Detail'!$A$171)*(Projects!$K$5:K$2413))","v":0},0,{"$f":"SUMPRODUCT((Projects!$A$5:$A$2413='MDOT FTA Detail'!$D$3)*(Projects!$C$5:$C$2413='MDOT FTA Detail'!$C$4)*(Projects!$L$5:$L$2413='MDOT FTA Detail'!$A39)*(Projects!$J$5:$J$2413<>'MDOT FTA Detail'!$A$171)*(Projects!$Q$5:Q$2413))","v":0},{"$f":"SUMPRODUCT((Projects!$A$5:$A$2413='MDOT FTA Detail'!$G$3)*(Projects!$C$5:$C$2413='MDOT FTA Detail'!$C$4)*(Projects!$L$5:$L$2413='MDOT FTA Detail'!$A39)*(Projects!$J$5:$J$2413<>'MDOT FTA Detail'!$A$171)*(Projects!$K$5:K$2413))","v":0},0,{"$f":"SUMPRODUCT((Projects!$A$5:$A$2413='MDOT FTA Detail'!$G$3)*(Projects!$C$5:$C$2413='MDOT FTA Detail'!$C$4)*(Projects!$L$5:$L$2413='MDOT FTA Detail'!$A39)*(Projects!$J$5:$J$2413<>'MDOT FTA Detail'!$A$171)*(Projects!$Q$5:Q$2413))","v":0},{"$f":"SUMPRODUCT((Projects!$A$5:$A$2413='MDOT FTA Detail'!$J$3)*(Projects!$C$5:$C$2413='MDOT FTA Detail'!$C$4)*(Projects!$L$5:$L$2413='MDOT FTA Detail'!$A39)*(Projects!$J$5:$J$2413<>'MDOT FTA Detail'!$A$171)*(Projects!$K$5:$K$2413))","v":0},0,{"$f":"SUMPRODUCT((Projects!$A$5:$A$2413='MDOT FTA Detail'!$J$3)*(Projects!$C$5:$C$2413='MDOT FTA Detail'!$C$4)*(Projects!$L$5:$L$2413='MDOT FTA Detail'!$A39)*(Projects!$J$5:$J$2413<>'MDOT FTA Detail'!$A$171)*(Projects!$Q$5:$Q$2413))","v":0},{"$f":"SUMPRODUCT((Projects!$A$5:$A$2413='MDOT FTA Detail'!$M$3)*(Projects!$C$5:$C$2413='MDOT FTA Detail'!$C$4)*(Projects!$L$5:$L$2413='MDOT FTA Detail'!$A39)*(Projects!$J$5:$J$2413<>'MDOT FTA Detail'!$A$171)*(Projects!$K$5:$K$2413))","v":0},0,{"$f":"SUMPRODUCT((Projects!$A$5:$A$2413='MDOT FTA Detail'!$M$3)*(Projects!$C$5:$C$2413='MDOT FTA Detail'!$C$4)*(Projects!$L$5:$L$2413='MDOT FTA Detail'!$A39)*(Projects!$J$5:$J$2413<>'MDOT FTA Detail'!$A$171)*(Projects!$Q$5:$Q$2413))","v":0}]
["FBD","Ferry Boat & Terminal Discretionary","MDOT FA",{"$f":"SUMPRODUCT((Projects!$A$5:$A$2413='MDOT FTA Detail'!$D$3)*(Projects!$C$5:$C$2413='MDOT FTA Detail'!$C$4)*(Projects!$L$5:$L$2413='MDOT FTA Detail'!$A40)*(Projects!$J$5:$J$2413<>'MDOT FTA Detail'!$A$171)*(Projects!$K$5:K$2413))","v":0},0,{"$f":"SUMPRODUCT((Projects!$A$5:$A$2413='MDOT FTA Detail'!$D$3)*(Projects!$C$5:$C$2413='MDOT FTA Detail'!$C$4)*(Projects!$L$5:$L$2413='MDOT FTA Detail'!$A40)*(Projects!$J$5:$J$2413<>'MDOT FTA Detail'!$A$171)*(Projects!$Q$5:Q$2413))","v":0},{"$f":"SUMPRODUCT((Projects!$A$5:$A$2413='MDOT FTA Detail'!$G$3)*(Projects!$C$5:$C$2413='MDOT FTA Detail'!$C$4)*(Projects!$L$5:$L$2413='MDOT FTA Detail'!$A40)*(Projects!$J$5:$J$2413<>'MDOT FTA Detail'!$A$171)*(Projects!$K$5:K$2413))","v":0},0,{"$f":"SUMPRODUCT((Projects!$A$5:$A$2413='MDOT FTA Detail'!$G$3)*(Projects!$C$5:$C$2413='MDOT FTA Detail'!$C$4)*(Projects!$L$5:$L$2413='MDOT FTA Detail'!$A40)*(Projects!$J$5:$J$2413<>'MDOT FTA Detail'!$A$171)*(Projects!$Q$5:Q$2413))","v":0},{"$f":"SUMPRODUCT((Projects!$A$5:$A$2413='MDOT FTA Detail'!$J$3)*(Projects!$C$5:$C$2413='MDOT FTA Detail'!$C$4)*(Projects!$L$5:$L$2413='MDOT FTA Detail'!$A40)*(Projects!$J$5:$J$2413<>'MDOT FTA Detail'!$A$171)*(Projects!$K$5:$K$2413))","v":0},0,{"$f":"SUMPRODUCT((Projects!$A$5:$A$2413='MDOT FTA Detail'!$J$3)*(Projects!$C$5:$C$2413='MDOT FTA Detail'!$C$4)*(Projects!$L$5:$L$2413='MDOT FTA Detail'!$A40)*(Projects!$J$5:$J$2413<>'MDOT FTA Detail'!$A$171)*(Projects!$Q$5:$Q$2413))","v":0},{"$f":"SUMPRODUCT((Projects!$A$5:$A$2413='MDOT FTA Detail'!$M$3)*(Projects!$C$5:$C$2413='MDOT FTA Detail'!$C$4)*(Projects!$L$5:$L$2413='MDOT FTA Detail'!$A40)*(Projects!$J$5:$J$2413<>'MDOT FTA Detail'!$A$171)*(Projects!$K$5:$K$2413))","v":0},0,{"$f":"SUMPRODUCT((Projects!$A$5:$A$2413='MDOT FTA Detail'!$M$3)*(Projects!$C$5:$C$2413='MDOT FTA Detail'!$C$4)*(Projects!$L$5:$L$2413='MDOT FTA Detail'!$A40)*(Projects!$J$5:$J$2413<>'MDOT FTA Detail'!$A$171)*(Projects!$Q$5:$Q$2413))","v":0}]
["FFH","Federal Forest Highway","MDOT FA",{"$f":"SUMPRODUCT((Projects!$A$5:$A$2413='MDOT FTA Detail'!$D$3)*(Projects!$C$5:$C$2413='MDOT FTA Detail'!$C$4)*(Projects!$L$5:$L$2413='MDOT FTA Detail'!$A41)*(Projects!$J$5:$J$2413<>'MDOT FTA Detail'!$A$171)*(Projects!$K$5:K$2413))","v":0},0,{"$f":"SUMPRODUCT((Projects!$A$5:$A$2413='MDOT FTA Detail'!$D$3)*(Projects!$C$5:$C$2413='MDOT FTA Detail'!$C$4)*(Projects!$L$5:$L$2413='MDOT FTA Detail'!$A41)*(Projects!$J$5:$J$2413<>'MDOT FTA Detail'!$A$171)*(Projects!$Q$5:Q$2413))","v":0},{"$f":"SUMPRODUCT((Projects!$A$5:$A$2413='MDOT FTA Detail'!$G$3)*(Projects!$C$5:$C$2413='MDOT FTA Detail'!$C$4)*(Projects!$L$5:$L$2413='MDOT FTA Detail'!$A41)*(Projects!$J$5:$J$2413<>'MDOT FTA Detail'!$A$171)*(Projects!$K$5:K$2413))","v":0},0,{"$f":"SUMPRODUCT((Projects!$A$5:$A$2413='MDOT FTA Detail'!$G$3)*(Projects!$C$5:$C$2413='MDOT FTA Detail'!$C$4)*(Projects!$L$5:$L$2413='MDOT FTA Detail'!$A41)*(Projects!$J$5:$J$2413<>'MDOT FTA Detail'!$A$171)*(Projects!$Q$5:Q$2413))","v":0},{"$f":"SUMPRODUCT((Projects!$A$5:$A$2413='MDOT FTA Detail'!$J$3)*(Projects!$C$5:$C$2413='MDOT FTA Detail'!$C$4)*(Projects!$L$5:$L$2413='MDOT FTA Detail'!$A41)*(Projects!$J$5:$J$2413<>'MDOT FTA Detail'!$A$171)*(Projects!$K$5:$K$2413))","v":0},0,{"$f":"SUMPRODUCT((Projects!$A$5:$A$2413='MDOT FTA Detail'!$J$3)*(Projects!$C$5:$C$2413='MDOT FTA Detail'!$C$4)*(Projects!$L$5:$L$2413='MDOT FTA Detail'!$A41)*(Projects!$J$5:$J$2413<>'MDOT FTA Detail'!$A$171)*(Projects!$Q$5:$Q$2413))","v":0},{"$f":"SUMPRODUCT((Projects!$A$5:$A$2413='MDOT FTA Detail'!$M$3)*(Projects!$C$5:$C$2413='MDOT FTA Detail'!$C$4)*(Projects!$L$5:$L$2413='MDOT FTA Detail'!$A41)*(Projects!$J$5:$J$2413<>'MDOT FTA Detail'!$A$171)*(Projects!$K$5:$K$2413))","v":0},0,{"$f":"SUMPRODUCT((Projects!$A$5:$A$2413='MDOT FTA Detail'!$M$3)*(Projects!$C$5:$C$2413='MDOT FTA Detail'!$C$4)*(Projects!$L$5:$L$2413='MDOT FTA Detail'!$A41)*(Projects!$J$5:$J$2413<>'MDOT FTA Detail'!$A$171)*(Projects!$Q$5:$Q$2413))","v":0}]
["FLAP","Federal Lands Access Program","MDOT FA",{"$f":"SUMPRODUCT((Projects!$A$5:$A$2413='MDOT FTA Detail'!$D$3)*(Projects!$C$5:$C$2413='MDOT FTA Detail'!$C$4)*(Projects!$L$5:$L$2413='MDOT FTA Detail'!$A42)*(Projects!$J$5:$J$2413<>'MDOT FTA Detail'!$A$171)*(Projects!$K$5:K$2413))","v":0},0,{"$f":"SUMPRODUCT((Projects!$A$5:$A$2413='MDOT FTA Detail'!$D$3)*(Projects!$C$5:$C$2413='MDOT FTA Detail'!$C$4)*(Projects!$L$5:$L$2413='MDOT FTA Detail'!$A42)*(Projects!$J$5:$J$2413<>'MDOT FTA Detail'!$A$171)*(Projects!$Q$5:Q$2413))","v":0},{"$f":"SUMPRODUCT((Projects!$A$5:$A$2413='MDOT FTA Detail'!$G$3)*(Projects!$C$5:$C$2413='MDOT FTA Detail'!$C$4)*(Projects!$L$5:$L$2413='MDOT FTA Detail'!$A42)*(Projects!$J$5:$J$2413<>'MDOT FTA Detail'!$A$171)*(Projects!$K$5:K$2413))","v":0},0,{"$f":"SUMPRODUCT((Projects!$A$5:$A$2413='MDOT FTA Detail'!$G$3)*(Projects!$C$5:$C$2413='MDOT FTA Detail'!$C$4)*(Projects!$L$5:$L$2413='MDOT FTA Detail'!$A42)*(Projects!$J$5:$J$2413<>'MDOT FTA Detail'!$A$171)*(Projects!$Q$5:Q$2413))","v":0},{"$f":"SUMPRODUCT((Projects!$A$5:$A$2413='MDOT FTA Detail'!$J$3)*(Projects!$C$5:$C$2413='MDOT FTA Detail'!$C$4)*(Projects!$L$5:$L$2413='MDOT FTA Detail'!$A42)*(Projects!$J$5:$J$2413<>'MDOT FTA Detail'!$A$171)*(Projects!$K$5:$K$2413))","v":0},0,{"$f":"SUMPRODUCT((Projects!$A$5:$A$2413='MDOT FTA Detail'!$J$3)*(Projects!$C$5:$C$2413='MDOT FTA Detail'!$C$4)*(Projects!$L$5:$L$2413='MDOT FTA Detail'!$A42)*(Projects!$J$5:$J$2413<>'MDOT FTA Detail'!$A$171)*(Projects!$Q$5:$Q$2413))","v":0},{"$f":"SUMPRODUCT((Projects!$A$5:$A$2413='MDOT FTA Detail'!$M$3)*(Projects!$C$5:$C$2413='MDOT FTA Detail'!$C$4)*(Projects!$L$5:$L$2413='MDOT FTA Detail'!$A42)*(Projects!$J$5:$J$2413<>'MDOT FTA Detail'!$A$171)*(Projects!$K$5:$K$2413))","v":0},0,{"$f":"SUMPRODUCT((Projects!$A$5:$A$2413='MDOT FTA Detail'!$M$3)*(Projects!$C$5:$C$2413='MDOT FTA Detail'!$C$4)*(Projects!$L$5:$L$2413='MDOT FTA Detail'!$A42)*(Projects!$J$5:$J$2413<>'MDOT FTA Detail'!$A$171)*(Projects!$Q$5:$Q$2413))","v":0}]
["HBOA","Highway Bridge Obligation  Authority","MDOT FA",{"$f":"SUMPRODUCT((Projects!$A$5:$A$2413='MDOT FTA Detail'!$D$3)*(Projects!$C$5:$C$2413='MDOT FTA Detail'!$C$4)*(Projects!$L$5:$L$2413='MDOT FTA Detail'!$A43)*(Projects!$J$5:$J$2413<>'MDOT FTA Detail'!$A$171)*(Projects!$K$5:K$2413))","v":0},0,{"$f":"SUMPRODUCT((Projects!$A$5:$A$2413='MDOT FTA Detail'!$D$3)*(Projects!$C$5:$C$2413='MDOT FTA Detail'!$C$4)*(Projects!$L$5:$L$2413='MDOT FTA Detail'!$A43)*(Projects!$J$5:$J$2413<>'MDOT FTA Detail'!$A$171)*(Projects!$Q$5:Q$2413))","v":0},{"$f":"SUMPRODUCT((Projects!$A$5:$A$2413='MDOT FTA Detail'!$G$3)*(Projects!$C$5:$C$2413='MDOT FTA Detail'!$C$4)*(Projects!$L$5:$L$2413='MDOT FTA Detail'!$A43)*(Projects!$J$5:$J$2413<>'MDOT FTA Detail'!$A$171)*(Projects!$K$5:K$2413))","v":0},0,{"$f":"SUMPRODUCT((Projects!$A$5:$A$2413='MDOT FTA Detail'!$G$3)*(Projects!$C$5:$C$2413='MDOT FTA Detail'!$C$4)*(Projects!$L$5:$L$2413='MDOT FTA Detail'!$A43)*(Projects!$J$5:$J$2413<>'MDOT FTA Detail'!$A$171)*(Projects!$Q$5:Q$2413))","v":0},{"$f":"SUMPRODUCT((Projects!$A$5:$A$2413='MDOT FTA Detail'!$J$3)*(Projects!$C$5:$C$2413='MDOT FTA Detail'!$C$4)*(Projects!$L$5:$L$2413='MDOT FTA Detail'!$A43)*(Projects!$J$5:$J$2413<>'MDOT FTA Detail'!$A$171)*(Projects!$K$5:$K$2413))","v":0},0,{"$f":"SUMPRODUCT((Projects!$A$5:$A$2413='MDOT FTA Detail'!$J$3)*(Projects!$C$5:$C$2413='MDOT FTA Detail'!$C$4)*(Projects!$L$5:$L$2413='MDOT FTA Detail'!$A43)*(Projects!$J$5:$J$2413<>'MDOT FTA Detail'!$A$171)*(Projects!$Q$5:$Q$2413))","v":0},{"$f":"SUMPRODUCT((Projects!$A$5:$A$2413='MDOT FTA Detail'!$M$3)*(Projects!$C$5:$C$2413='MDOT FTA Detail'!$C$4)*(Projects!$L$5:$L$2413='MDOT FTA Detail'!$A43)*(Projects!$J$5:$J$2413<>'MDOT FTA Detail'!$A$171)*(Projects!$K$5:$K$2413))","v":0},0,{"$f":"SUMPRODUCT((Projects!$A$5:$A$2413='MDOT FTA Detail'!$M$3)*(Projects!$C$5:$C$2413='MDOT FTA Detail'!$C$4)*(Projects!$L$5:$L$2413='MDOT FTA Detail'!$A43)*(Projects!$J$5:$J$2413<>'MDOT FTA Detail'!$A$171)*(Projects!$Q$5:$Q$2413))","v":0}]
["HPP","High Priority Projects (Demo)","MDOT FA",{"$f":"SUMPRODUCT((Projects!$A$5:$A$2413='MDOT FTA Detail'!$D$3)*(Projects!$C$5:$C$2413='MDOT FTA Detail'!$C$4)*(Projects!$L$5:$L$2413='MDOT FTA Detail'!$A44)*(Projects!$J$5:$J$2413<>'MDOT FTA Detail'!$A$171)*(Projects!$K$5:K$2413))","v":0},0,{"$f":"SUMPRODUCT((Projects!$A$5:$A$2413='MDOT FTA Detail'!$D$3)*(Projects!$C$5:$C$2413='MDOT FTA Detail'!$C$4)*(Projects!$L$5:$L$2413='MDOT FTA Detail'!$A44)*(Projects!$J$5:$J$2413<>'MDOT FTA Detail'!$A$171)*(Projects!$Q$5:Q$2413))","v":0},{"$f":"SUMPRODUCT((Projects!$A$5:$A$2413='MDOT FTA Detail'!$G$3)*(Projects!$C$5:$C$2413='MDOT FTA Detail'!$C$4)*(Projects!$L$5:$L$2413='MDOT FTA Detail'!$A44)*(Projects!$J$5:$J$2413<>'MDOT FTA Detail'!$A$171)*(Projects!$K$5:K$2413))","v":0},0,{"$f":"SUMPRODUCT((Projects!$A$5:$A$2413='MDOT FTA Detail'!$G$3)*(Projects!$C$5:$C$2413='MDOT FTA Detail'!$C$4)*(Projects!$L$5:$L$2413='MDOT FTA Detail'!$A44)*(Projects!$J$5:$J$2413<>'MDOT FTA Detail'!$A$171)*(Projects!$Q$5:Q$2413))","v":0},{"$f":"SUMPRODUCT((Projects!$A$5:$A$2413='MDOT FTA Detail'!$J$3)*(Projects!$C$5:$C$2413='MDOT FTA Detail'!$C$4)*(Projects!$L$5:$L$2413='MDOT FTA Detail'!$A44)*(Projects!$J$5:$J$2413<>'MDOT FTA Detail'!$A$171)*(Projects!$K$5:$K$2413))","v":0},0,{"$f":"SUMPRODUCT((Projects!$A$5:$A$2413='MDOT FTA Detail'!$J$3)*(Projects!$C$5:$C$2413='MDOT FTA Detail'!$C$4)*(Projects!$L$5:$L$2413='MDOT FTA Detail'!$A44)*(Projects!$J$5:$J$2413<>'MDOT FTA Detail'!$A$171)*(Projects!$Q$5:$Q$2413))","v":0},{"$f":"SUMPRODUCT((Projects!$A$5:$A$2413='MDOT FTA Detail'!$M$3)*(Projects!$C$5:$C$2413='MDOT FTA Detail'!$C$4)*(Projects!$L$5:$L$2413='MDOT FTA Detail'!$A44)*(Projects!$J$5:$J$2413<>'MDOT FTA Detail'!$A$171)*(Projects!$K$5:$K$2413))","v":0},0,{"$f":"SUMPRODUCT((Projects!$A$5:$A$2413='MDOT FTA Detail'!$M$3)*(Projects!$C$5:$C$2413='MDOT FTA Detail'!$C$4)*(Projects!$L$5:$L$2413='MDOT FTA Detail'!$A44)*(Projects!$J$5:$J$2413<>'MDOT FTA Detail'!$A$171)*(Projects!$Q$5:$Q$2413))","v":0}]
["HPSL","High Priority Projects - SAFETEA-LU","MDOT FA",{"$f":"SUMPRODUCT((Projects!$A$5:$A$2413='MDOT FTA Detail'!$D$3)*(Projects!$C$5:$C$2413='MDOT FTA Detail'!$C$4)*(Projects!$L$5:$L$2413='MDOT FTA Detail'!$A45)*(Projects!$J$5:$J$2413<>'MDOT FTA Detail'!$A$171)*(Projects!$K$5:K$2413))","v":0},0,{"$f":"SUMPRODUCT((Projects!$A$5:$A$2413='MDOT FTA Detail'!$D$3)*(Projects!$C$5:$C$2413='MDOT FTA Detail'!$C$4)*(Projects!$L$5:$L$2413='MDOT FTA Detail'!$A45)*(Projects!$J$5:$J$2413<>'MDOT FTA Detail'!$A$171)*(Projects!$Q$5:Q$2413))","v":0},{"$f":"SUMPRODUCT((Projects!$A$5:$A$2413='MDOT FTA Detail'!$G$3)*(Projects!$C$5:$C$2413='MDOT FTA Detail'!$C$4)*(Projects!$L$5:$L$2413='MDOT FTA Detail'!$A45)*(Projects!$J$5:$J$2413<>'MDOT FTA Detail'!$A$171)*(Projects!$K$5:K$2413))","v":0},0,{"$f":"SUMPRODUCT((Projects!$A$5:$A$2413='MDOT FTA Detail'!$G$3)*(Projects!$C$5:$C$2413='MDOT FTA Detail'!$C$4)*(Projects!$L$5:$L$2413='MDOT FTA Detail'!$A45)*(Projects!$J$5:$J$2413<>'MDOT FTA Detail'!$A$171)*(Projects!$Q$5:Q$2413))","v":0},{"$f":"SUMPRODUCT((Projects!$A$5:$A$2413='MDOT FTA Detail'!$J$3)*(Projects!$C$5:$C$2413='MDOT FTA Detail'!$C$4)*(Projects!$L$5:$L$2413='MDOT FTA Detail'!$A45)*(Projects!$J$5:$J$2413<>'MDOT FTA Detail'!$A$171)*(Projects!$K$5:$K$2413))","v":0},0,{"$f":"SUMPRODUCT((Projects!$A$5:$A$2413='MDOT FTA Detail'!$J$3)*(Projects!$C$5:$C$2413='MDOT FTA Detail'!$C$4)*(Projects!$L$5:$L$2413='MDOT FTA Detail'!$A45)*(Projects!$J$5:$J$2413<>'MDOT FTA Detail'!$A$171)*(Projects!$Q$5:$Q$2413))","v":0},{"$f":"SUMPRODUCT((Projects!$A$5:$A$2413='MDOT FTA Detail'!$M$3)*(Projects!$C$5:$C$2413='MDOT FTA Detail'!$C$4)*(Projects!$L$5:$L$2413='MDOT FTA Detail'!$A45)*(Projects!$J$5:$J$2413<>'MDOT FTA Detail'!$A$171)*(Projects!$K$5:$K$2413))","v":0},0,{"$f":"SUMPRODUCT((Projects!$A$5:$A$2413='MDOT FTA Detail'!$M$3)*(Projects!$C$5:$C$2413='MDOT FTA Detail'!$C$4)*(Projects!$L$5:$L$2413='MDOT FTA Detail'!$A45)*(Projects!$J$5:$J$2413<>'MDOT FTA Detail'!$A$171)*(Projects!$Q$5:$Q$2413))","v":0}]
["HRRR","High Risk Rural Roads - SAFETEA-LU","MDOT FA",{"$f":"SUMPRODUCT((Projects!$A$5:$A$2413='MDOT FTA Detail'!$D$3)*(Projects!$C$5:$C$2413='MDOT FTA Detail'!$C$4)*(Projects!$L$5:$L$2413='MDOT FTA Detail'!$A46)*(Projects!$J$5:$J$2413<>'MDOT FTA Detail'!$A$171)*(Projects!$K$5:K$2413))","v":0},0,{"$f":"SUMPRODUCT((Projects!$A$5:$A$2413='MDOT FTA Detail'!$D$3)*(Projects!$C$5:$C$2413='MDOT FTA Detail'!$C$4)*(Projects!$L$5:$L$2413='MDOT FTA Detail'!$A46)*(Projects!$J$5:$J$2413<>'MDOT FTA Detail'!$A$171)*(Projects!$Q$5:Q$2413))","v":0},{"$f":"SUMPRODUCT((Projects!$A$5:$A$2413='MDOT FTA Detail'!$G$3)*(Projects!$C$5:$C$2413='MDOT FTA Detail'!$C$4)*(Projects!$L$5:$L$2413='MDOT FTA Detail'!$A46)*(Projects!$J$5:$J$2413<>'MDOT FTA Detail'!$A$171)*(Projects!$K$5:K$2413))","v":0},0,{"$f":"SUMPRODUCT((Projects!$A$5:$A$2413='MDOT FTA Detail'!$G$3)*(Projects!$C$5:$C$2413='MDOT FTA Detail'!$C$4)*(Projects!$L$5:$L$2413='MDOT FTA Detail'!$A46)*(Projects!$J$5:$J$2413<>'MDOT FTA Detail'!$A$171)*(Projects!$Q$5:Q$2413))","v":0},{"$f":"SUMPRODUCT((Projects!$A$5:$A$2413='MDOT FTA Detail'!$J$3)*(Projects!$C$5:$C$2413='MDOT FTA Detail'!$C$4)*(Projects!$L$5:$L$2413='MDOT FTA Detail'!$A46)*(Projects!$J$5:$J$2413<>'MDOT FTA Detail'!$A$171)*(Projects!$K$5:$K$2413))","v":0},0,{"$f":"SUMPRODUCT((Projects!$A$5:$A$2413='MDOT FTA Detail'!$J$3)*(Projects!$C$5:$C$2413='MDOT FTA Detail'!$C$4)*(Projects!$L$5:$L$2413='MDOT FTA Detail'!$A46)*(Projects!$J$5:$J$2413<>'MDOT FTA Detail'!$A$171)*(Projects!$Q$5:$Q$2413))","v":0},{"$f":"SUMPRODUCT((Projects!$A$5:$A$2413='MDOT FTA Detail'!$M$3)*(Projects!$C$5:$C$2413='MDOT FTA Detail'!$C$4)*(Projects!$L$5:$L$2413='MDOT FTA Detail'!$A46)*(Projects!$J$5:$J$2413<>'MDOT FTA Detail'!$A$171)*(Projects!$K$5:$K$2413))","v":0},0,{"$f":"SUMPRODUCT((Projects!$A$5:$A$2413='MDOT FTA Detail'!$M$3)*(Projects!$C$5:$C$2413='MDOT FTA Detail'!$C$4)*(Projects!$L$5:$L$2413='MDOT FTA Detail'!$A46)*(Projects!$J$5:$J$2413<>'MDOT FTA Detail'!$A$171)*(Projects!$Q$5:$Q$2413))","v":0}]
["HSG","High Speed Raix Crossings - 100% Federal","MDOT FA",{"$f":"SUMPRODUCT((Projects!$A$5:$A$2413='MDOT FTA Detail'!$D$3)*(Projects!$C$5:$C$2413='MDOT FTA Detail'!$C$4)*(Projects!$L$5:$L$2413='MDOT FTA Detail'!$A47)*(Projects!$J$5:$J$2413<>'MDOT FTA Detail'!$A$171)*(Projects!$K$5:K$2413))","v":0},0,{"$f":"SUMPRODUCT((Projects!$A$5:$A$2413='MDOT FTA Detail'!$D$3)*(Projects!$C$5:$C$2413='MDOT FTA Detail'!$C$4)*(Projects!$L$5:$L$2413='MDOT FTA Detail'!$A47)*(Projects!$J$5:$J$2413<>'MDOT FTA Detail'!$A$171)*(Projects!$Q$5:Q$2413))","v":0},{"$f":"SUMPRODUCT((Projects!$A$5:$A$2413='MDOT FTA Detail'!$G$3)*(Projects!$C$5:$C$2413='MDOT FTA Detail'!$C$4)*(Projects!$L$5:$L$2413='MDOT FTA Detail'!$A47)*(Projects!$J$5:$J$2413<>'MDOT FTA Detail'!$A$171)*(Projects!$K$5:K$2413))","v":0},0,{"$f":"SUMPRODUCT((Projects!$A$5:$A$2413='MDOT FTA Detail'!$G$3)*(Projects!$C$5:$C$2413='MDOT FTA Detail'!$C$4)*(Projects!$L$5:$L$2413='MDOT FTA Detail'!$A47)*(Projects!$J$5:$J$2413<>'MDOT FTA Detail'!$A$171)*(Projects!$Q$5:Q$2413))","v":0},{"$f":"SUMPRODUCT((Projects!$A$5:$A$2413='MDOT FTA Detail'!$J$3)*(Projects!$C$5:$C$2413='MDOT FTA Detail'!$C$4)*(Projects!$L$5:$L$2413='MDOT FTA Detail'!$A47)*(Projects!$J$5:$J$2413<>'MDOT FTA Detail'!$A$171)*(Projects!$K$5:$K$2413))","v":0},0,{"$f":"SUMPRODUCT((Projects!$A$5:$A$2413='MDOT FTA Detail'!$J$3)*(Projects!$C$5:$C$2413='MDOT FTA Detail'!$C$4)*(Projects!$L$5:$L$2413='MDOT FTA Detail'!$A47)*(Projects!$J$5:$J$2413<>'MDOT FTA Detail'!$A$171)*(Projects!$Q$5:$Q$2413))","v":0},{"$f":"SUMPRODUCT((Projects!$A$5:$A$2413='MDOT FTA Detail'!$M$3)*(Projects!$C$5:$C$2413='MDOT FTA Detail'!$C$4)*(Projects!$L$5:$L$2413='MDOT FTA Detail'!$A47)*(Projects!$J$5:$J$2413<>'MDOT FTA Detail'!$A$171)*(Projects!$K$5:$K$2413))","v":0},0,{"$f":"SUMPRODUCT((Projects!$A$5:$A$2413='MDOT FTA Detail'!$M$3)*(Projects!$C$5:$C$2413='MDOT FTA Detail'!$C$4)*(Projects!$L$5:$L$2413='MDOT FTA Detail'!$A47)*(Projects!$J$5:$J$2413<>'MDOT FTA Detail'!$A$171)*(Projects!$Q$5:$Q$2413))","v":0}]
["HSIP","Highway Safety Improvement Program - SAFETEA-LU","MDOT FA",{"$f":"SUMPRODUCT((Projects!$A$5:$A$2413='MDOT FTA Detail'!$D$3)*(Projects!$C$5:$C$2413='MDOT FTA Detail'!$C$4)*(Projects!$L$5:$L$2413='MDOT FTA Detail'!$A48)*(Projects!$J$5:$J$2413<>'MDOT FTA Detail'!$A$171)*(Projects!$K$5:K$2413))","v":0},0,{"$f":"SUMPRODUCT((Projects!$A$5:$A$2413='MDOT FTA Detail'!$D$3)*(Projects!$C$5:$C$2413='MDOT FTA Detail'!$C$4)*(Projects!$L$5:$L$2413='MDOT FTA Detail'!$A48)*(Projects!$J$5:$J$2413<>'MDOT FTA Detail'!$A$171)*(Projects!$Q$5:Q$2413))","v":0},{"$f":"SUMPRODUCT((Projects!$A$5:$A$2413='MDOT FTA Detail'!$G$3)*(Projects!$C$5:$C$2413='MDOT FTA Detail'!$C$4)*(Projects!$L$5:$L$2413='MDOT FTA Detail'!$A48)*(Projects!$J$5:$J$2413<>'MDOT FTA Detail'!$A$171)*(Projects!$K$5:K$2413))","v":354039},39338,{"$f":"SUMPRODUCT((Projects!$A$5:$A$2413='MDOT FTA Detail'!$G$3)*(Projects!$C$5:$C$2413='MDOT FTA Detail'!$C$4)*(Projects!$L$5:$L$2413='MDOT FTA Detail'!$A48)*(Projects!$J$5:$J$2413<>'MDOT FTA Detail'!$A$171)*(Projects!$Q$5:Q$2413))","v":393377},{"$f":"SUMPRODUCT((Projects!$A$5:$A$2413='MDOT FTA Detail'!$J$3)*(Projects!$C$5:$C$2413='MDOT FTA Detail'!$C$4)*(Projects!$L$5:$L$2413='MDOT FTA Detail'!$A48)*(Projects!$J$5:$J$2413<>'MDOT FTA Detail'!$A$171)*(Projects!$K$5:$K$2413))","v":53100},5900,{"$f":"SUMPRODUCT((Projects!$A$5:$A$2413='MDOT FTA Detail'!$J$3)*(Projects!$C$5:$C$2413='MDOT FTA Detail'!$C$4)*(Projects!$L$5:$L$2413='MDOT FTA Detail'!$A48)*(Projects!$J$5:$J$2413<>'MDOT FTA Detail'!$A$171)*(Projects!$Q$5:$Q$2413))","v":59000},{"$f":"SUMPRODUCT((Projects!$A$5:$A$2413='MDOT FTA Detail'!$M$3)*(Projects!$C$5:$C$2413='MDOT FTA Detail'!$C$4)*(Projects!$L$5:$L$2413='MDOT FTA Detail'!$A48)*(Projects!$J$5:$J$2413<>'MDOT FTA Detail'!$A$171)*(Projects!$K$5:$K$2413))","v":0},0,{"$f":"SUMPRODUCT((Projects!$A$5:$A$2413='MDOT FTA Detail'!$M$3)*(Projects!$C$5:$C$2413='MDOT FTA Detail'!$C$4)*(Projects!$L$5:$L$2413='MDOT FTA Detail'!$A48)*(Projects!$J$5:$J$2413<>'MDOT FTA Detail'!$A$171)*(Projects!$Q$5:$Q$2413))","v":0}]
["IM","Interstate Maintenance - No Added Lanes","MDOT FA",{"$f":"SUMPRODUCT((Projects!$A$5:$A$2413='MDOT FTA Detail'!$D$3)*(Projects!$C$5:$C$2413='MDOT FTA Detail'!$C$4)*(Projects!$L$5:$L$2413='MDOT FTA Detail'!$A49)*(Projects!$J$5:$J$2413<>'MDOT FTA Detail'!$A$171)*(Projects!$K$5:K$2413))","v":0},0,{"$f":"SUMPRODUCT((Projects!$A$5:$A$2413='MDOT FTA Detail'!$D$3)*(Projects!$C$5:$C$2413='MDOT FTA Detail'!$C$4)*(Projects!$L$5:$L$2413='MDOT FTA Detail'!$A49)*(Projects!$J$5:$J$2413<>'MDOT FTA Detail'!$A$171)*(Projects!$Q$5:Q$2413))","v":0},{"$f":"SUMPRODUCT((Projects!$A$5:$A$2413='MDOT FTA Detail'!$G$3)*(Projects!$C$5:$C$2413='MDOT FTA Detail'!$C$4)*(Projects!$L$5:$L$2413='MDOT FTA Detail'!$A49)*(Projects!$J$5:$J$2413<>'MDOT FTA Detail'!$A$171)*(Projects!$K$5:K$2413))","v":0},0,{"$f":"SUMPRODUCT((Projects!$A$5:$A$2413='MDOT FTA Detail'!$G$3)*(Projects!$C$5:$C$2413='MDOT FTA Detail'!$C$4)*(Projects!$L$5:$L$2413='MDOT FTA Detail'!$A49)*(Projects!$J$5:$J$2413<>'MDOT FTA Detail'!$A$171)*(Projects!$Q$5:Q$2413))","v":0},{"$f":"SUMPRODUCT((Projects!$A$5:$A$2413='MDOT FTA Detail'!$J$3)*(Projects!$C$5:$C$2413='MDOT FTA Detail'!$C$4)*(Projects!$L$5:$L$2413='MDOT FTA Detail'!$A49)*(Projects!$J$5:$J$2413<>'MDOT FTA Detail'!$A$171)*(Projects!$K$5:$K$2413))","v":0},0,{"$f":"SUMPRODUCT((Projects!$A$5:$A$2413='MDOT FTA Detail'!$J$3)*(Projects!$C$5:$C$2413='MDOT FTA Detail'!$C$4)*(Projects!$L$5:$L$2413='MDOT FTA Detail'!$A49)*(Projects!$J$5:$J$2413<>'MDOT FTA Detail'!$A$171)*(Projects!$Q$5:$Q$2413))","v":0},{"$f":"SUMPRODUCT((Projects!$A$5:$A$2413='MDOT FTA Detail'!$M$3)*(Projects!$C$5:$C$2413='MDOT FTA Detail'!$C$4)*(Projects!$L$5:$L$2413='MDOT FTA Detail'!$A49)*(Projects!$J$5:$J$2413<>'MDOT FTA Detail'!$A$171)*(Projects!$K$5:$K$2413))","v":0},0,{"$f":"SUMPRODUCT((Projects!$A$5:$A$2413='MDOT FTA Detail'!$M$3)*(Projects!$C$5:$C$2413='MDOT FTA Detail'!$C$4)*(Projects!$L$5:$L$2413='MDOT FTA Detail'!$A49)*(Projects!$J$5:$J$2413<>'MDOT FTA Detail'!$A$171)*(Projects!$Q$5:$Q$2413))","v":0}]
["IMD","Interstate Maintenance Discretionary","MDOT FA",{"$f":"SUMPRODUCT((Projects!$A$5:$A$2413='MDOT FTA Detail'!$D$3)*(Projects!$C$5:$C$2413='MDOT FTA Detail'!$C$4)*(Projects!$L$5:$L$2413='MDOT FTA Detail'!$A50)*(Projects!$J$5:$J$2413<>'MDOT FTA Detail'!$A$171)*(Projects!$K$5:K$2413))","v":0},0,{"$f":"SUMPRODUCT((Projects!$A$5:$A$2413='MDOT FTA Detail'!$D$3)*(Projects!$C$5:$C$2413='MDOT FTA Detail'!$C$4)*(Projects!$L$5:$L$2413='MDOT FTA Detail'!$A50)*(Projects!$J$5:$J$2413<>'MDOT FTA Detail'!$A$171)*(Projects!$Q$5:Q$2413))","v":0},{"$f":"SUMPRODUCT((Projects!$A$5:$A$2413='MDOT FTA Detail'!$G$3)*(Projects!$C$5:$C$2413='MDOT FTA Detail'!$C$4)*(Projects!$L$5:$L$2413='MDOT FTA Detail'!$A50)*(Projects!$J$5:$J$2413<>'MDOT FTA Detail'!$A$171)*(Projects!$K$5:K$2413))","v":0},0,{"$f":"SUMPRODUCT((Projects!$A$5:$A$2413='MDOT FTA Detail'!$G$3)*(Projects!$C$5:$C$2413='MDOT FTA Detail'!$C$4)*(Projects!$L$5:$L$2413='MDOT FTA Detail'!$A50)*(Projects!$J$5:$J$2413<>'MDOT FTA Detail'!$A$171)*(Projects!$Q$5:Q$2413))","v":0},{"$f":"SUMPRODUCT((Projects!$A$5:$A$2413='MDOT FTA Detail'!$J$3)*(Projects!$C$5:$C$2413='MDOT FTA Detail'!$C$4)*(Projects!$L$5:$L$2413='MDOT FTA Detail'!$A50)*(Projects!$J$5:$J$2413<>'MDOT FTA Detail'!$A$171)*(Projects!$K$5:$K$2413))","v":0},0,{"$f":"SUMPRODUCT((Projects!$A$5:$A$2413='MDOT FTA Detail'!$J$3)*(Projects!$C$5:$C$2413='MDOT FTA Detail'!$C$4)*(Projects!$L$5:$L$2413='MDOT FTA Detail'!$A50)*(Projects!$J$5:$J$2413<>'MDOT FTA Detail'!$A$171)*(Projects!$Q$5:$Q$2413))","v":0},{"$f":"SUMPRODUCT((Projects!$A$5:$A$2413='MDOT FTA Detail'!$M$3)*(Projects!$C$5:$C$2413='MDOT FTA Detail'!$C$4)*(Projects!$L$5:$L$2413='MDOT FTA Detail'!$A50)*(Projects!$J$5:$J$2413<>'MDOT FTA Detail'!$A$171)*(Projects!$K$5:$K$2413))","v":0},0,{"$f":"SUMPRODUCT((Projects!$A$5:$A$2413='MDOT FTA Detail'!$M$3)*(Projects!$C$5:$C$2413='MDOT FTA Detail'!$C$4)*(Projects!$L$5:$L$2413='MDOT FTA Detail'!$A50)*(Projects!$J$5:$J$2413<>'MDOT FTA Detail'!$A$171)*(Projects!$Q$5:$Q$2413))","v":0}]
["IMG","Interstate Maintenance - Safety - 100% Federal","MDOT FA",{"$f":"SUMPRODUCT((Projects!$A$5:$A$2413='MDOT FTA Detail'!$D$3)*(Projects!$C$5:$C$2413='MDOT FTA Detail'!$C$4)*(Projects!$L$5:$L$2413='MDOT FTA Detail'!$A51)*(Projects!$J$5:$J$2413<>'MDOT FTA Detail'!$A$171)*(Projects!$K$5:K$2413))","v":0},0,{"$f":"SUMPRODUCT((Projects!$A$5:$A$2413='MDOT FTA Detail'!$D$3)*(Projects!$C$5:$C$2413='MDOT FTA Detail'!$C$4)*(Projects!$L$5:$L$2413='MDOT FTA Detail'!$A51)*(Projects!$J$5:$J$2413<>'MDOT FTA Detail'!$A$171)*(Projects!$Q$5:Q$2413))","v":0},{"$f":"SUMPRODUCT((Projects!$A$5:$A$2413='MDOT FTA Detail'!$G$3)*(Projects!$C$5:$C$2413='MDOT FTA Detail'!$C$4)*(Projects!$L$5:$L$2413='MDOT FTA Detail'!$A51)*(Projects!$J$5:$J$2413<>'MDOT FTA Detail'!$A$171)*(Projects!$K$5:K$2413))","v":0},0,{"$f":"SUMPRODUCT((Projects!$A$5:$A$2413='MDOT FTA Detail'!$G$3)*(Projects!$C$5:$C$2413='MDOT FTA Detail'!$C$4)*(Projects!$L$5:$L$2413='MDOT FTA Detail'!$A51)*(Projects!$J$5:$J$2413<>'MDOT FTA Detail'!$A$171)*(Projects!$Q$5:Q$2413))","v":0},{"$f":"SUMPRODUCT((Projects!$A$5:$A$2413='MDOT FTA Detail'!$J$3)*(Projects!$C$5:$C$2413='MDOT FTA Detail'!$C$4)*(Projects!$L$5:$L$2413='MDOT FTA Detail'!$A51)*(Projects!$J$5:$J$2413<>'MDOT FTA Detail'!$A$171)*(Projects!$K$5:$K$2413))","v":0},0,{"$f":"SUMPRODUCT((Projects!$A$5:$A$2413='MDOT FTA Detail'!$J$3)*(Projects!$C$5:$C$2413='MDOT FTA Detail'!$C$4)*(Projects!$L$5:$L$2413='MDOT FTA Detail'!$A51)*(Projects!$J$5:$J$2413<>'MDOT FTA Detail'!$A$171)*(Projects!$Q$5:$Q$2413))","v":0},{"$f":"SUMPRODUCT((Projects!$A$5:$A$2413='MDOT FTA Detail'!$M$3)*(Projects!$C$5:$C$2413='MDOT FTA Detail'!$C$4)*(Projects!$L$5:$L$2413='MDOT FTA Detail'!$A51)*(Projects!$J$5:$J$2413<>'MDOT FTA Detail'!$A$171)*(Projects!$K$5:$K$2413))","v":0},0,{"$f":"SUMPRODUCT((Projects!$A$5:$A$2413='MDOT FTA Detail'!$M$3)*(Projects!$C$5:$C$2413='MDOT FTA Detail'!$C$4)*(Projects!$L$5:$L$2413='MDOT FTA Detail'!$A51)*(Projects!$J$5:$J$2413<>'MDOT FTA Detail'!$A$171)*(Projects!$Q$5:$Q$2413))","v":0}]
["ITS","Intelligent Transportation Systems","MDOT FA",{"$f":"SUMPRODUCT((Projects!$A$5:$A$2413='MDOT FTA Detail'!$D$3)*(Projects!$C$5:$C$2413='MDOT FTA Detail'!$C$4)*(Projects!$L$5:$L$2413='MDOT FTA Detail'!$A52)*(Projects!$J$5:$J$2413<>'MDOT FTA Detail'!$A$171)*(Projects!$K$5:K$2413))","v":0},0,{"$f":"SUMPRODUCT((Projects!$A$5:$A$2413='MDOT FTA Detail'!$D$3)*(Projects!$C$5:$C$2413='MDOT FTA Detail'!$C$4)*(Projects!$L$5:$L$2413='MDOT FTA Detail'!$A52)*(Projects!$J$5:$J$2413<>'MDOT FTA Detail'!$A$171)*(Projects!$Q$5:Q$2413))","v":0},{"$f":"SUMPRODUCT((Projects!$A$5:$A$2413='MDOT FTA Detail'!$G$3)*(Projects!$C$5:$C$2413='MDOT FTA Detail'!$C$4)*(Projects!$L$5:$L$2413='MDOT FTA Detail'!$A52)*(Projects!$J$5:$J$2413<>'MDOT FTA Detail'!$A$171)*(Projects!$K$5:K$2413))","v":0},0,{"$f":"SUMPRODUCT((Projects!$A$5:$A$2413='MDOT FTA Detail'!$G$3)*(Projects!$C$5:$C$2413='MDOT FTA Detail'!$C$4)*(Projects!$L$5:$L$2413='MDOT FTA Detail'!$A52)*(Projects!$J$5:$J$2413<>'MDOT FTA Detail'!$A$171)*(Projects!$Q$5:Q$2413))","v":0},{"$f":"SUMPRODUCT((Projects!$A$5:$A$2413='MDOT FTA Detail'!$J$3)*(Projects!$C$5:$C$2413='MDOT FTA Detail'!$C$4)*(Projects!$L$5:$L$2413='MDOT FTA Detail'!$A52)*(Projects!$J$5:$J$2413<>'MDOT FTA Detail'!$A$171)*(Projects!$K$5:$K$2413))","v":0},0,{"$f":"SUMPRODUCT((Projects!$A$5:$A$2413='MDOT FTA Detail'!$J$3)*(Projects!$C$5:$C$2413='MDOT FTA Detail'!$C$4)*(Projects!$L$5:$L$2413='MDOT FTA Detail'!$A52)*(Projects!$J$5:$J$2413<>'MDOT FTA Detail'!$A$171)*(Projects!$Q$5:$Q$2413))","v":0},{"$f":"SUMPRODUCT((Projects!$A$5:$A$2413='MDOT FTA Detail'!$M$3)*(Projects!$C$5:$C$2413='MDOT FTA Detail'!$C$4)*(Projects!$L$5:$L$2413='MDOT FTA Detail'!$A52)*(Projects!$J$5:$J$2413<>'MDOT FTA Detail'!$A$171)*(Projects!$K$5:$K$2413))","v":0},0,{"$f":"SUMPRODUCT((Projects!$A$5:$A$2413='MDOT FTA Detail'!$M$3)*(Projects!$C$5:$C$2413='MDOT FTA Detail'!$C$4)*(Projects!$L$5:$L$2413='MDOT FTA Detail'!$A52)*(Projects!$J$5:$J$2413<>'MDOT FTA Detail'!$A$171)*(Projects!$Q$5:$Q$2413))","v":0}]
["JST","85% Minimum Floor Surface Transportation","MDOT FA",{"$f":"SUMPRODUCT((Projects!$A$5:$A$2413='MDOT FTA Detail'!$D$3)*(Projects!$C$5:$C$2413='MDOT FTA Detail'!$C$4)*(Projects!$L$5:$L$2413='MDOT FTA Detail'!$A53)*(Projects!$J$5:$J$2413<>'MDOT FTA Detail'!$A$171)*(Projects!$K$5:K$2413))","v":0},0,{"$f":"SUMPRODUCT((Projects!$A$5:$A$2413='MDOT FTA Detail'!$D$3)*(Projects!$C$5:$C$2413='MDOT FTA Detail'!$C$4)*(Projects!$L$5:$L$2413='MDOT FTA Detail'!$A53)*(Projects!$J$5:$J$2413<>'MDOT FTA Detail'!$A$171)*(Projects!$Q$5:Q$2413))","v":0},{"$f":"SUMPRODUCT((Projects!$A$5:$A$2413='MDOT FTA Detail'!$G$3)*(Projects!$C$5:$C$2413='MDOT FTA Detail'!$C$4)*(Projects!$L$5:$L$2413='MDOT FTA Detail'!$A53)*(Projects!$J$5:$J$2413<>'MDOT FTA Detail'!$A$171)*(Projects!$K$5:K$2413))","v":0},0,{"$f":"SUMPRODUCT((Projects!$A$5:$A$2413='MDOT FTA Detail'!$G$3)*(Projects!$C$5:$C$2413='MDOT FTA Detail'!$C$4)*(Projects!$L$5:$L$2413='MDOT FTA Detail'!$A53)*(Projects!$J$5:$J$2413<>'MDOT FTA Detail'!$A$171)*(Projects!$Q$5:Q$2413))","v":0},{"$f":"SUMPRODUCT((Projects!$A$5:$A$2413='MDOT FTA Detail'!$J$3)*(Projects!$C$5:$C$2413='MDOT FTA Detail'!$C$4)*(Projects!$L$5:$L$2413='MDOT FTA Detail'!$A53)*(Projects!$J$5:$J$2413<>'MDOT FTA Detail'!$A$171)*(Projects!$K$5:$K$2413))","v":0},0,{"$f":"SUMPRODUCT((Projects!$A$5:$A$2413='MDOT FTA Detail'!$J$3)*(Projects!$C$5:$C$2413='MDOT FTA Detail'!$C$4)*(Projects!$L$5:$L$2413='MDOT FTA Detail'!$A53)*(Projects!$J$5:$J$2413<>'MDOT FTA Detail'!$A$171)*(Projects!$Q$5:$Q$2413))","v":0},{"$f":"SUMPRODUCT((Projects!$A$5:$A$2413='MDOT FTA Detail'!$M$3)*(Projects!$C$5:$C$2413='MDOT FTA Detail'!$C$4)*(Projects!$L$5:$L$2413='MDOT FTA Detail'!$A53)*(Projects!$J$5:$J$2413<>'MDOT FTA Detail'!$A$171)*(Projects!$K$5:$K$2413))","v":0},0,{"$f":"SUMPRODUCT((Projects!$A$5:$A$2413='MDOT FTA Detail'!$M$3)*(Projects!$C$5:$C$2413='MDOT FTA Detail'!$C$4)*(Projects!$L$5:$L$2413='MDOT FTA Detail'!$A53)*(Projects!$J$5:$J$2413<>'MDOT FTA Detail'!$A$171)*(Projects!$Q$5:$Q$2413))","v":0}]
["JSTU","85% Minimum Floor Surface Transportation (Urban Area > 2499,000)","MDOT FA",{"$f":"SUMPRODUCT((Projects!$A$5:$A$2413='MDOT FTA Detail'!$D$3)*(Projects!$C$5:$C$2413='MDOT FTA Detail'!$C$4)*(Projects!$L$5:$L$2413='MDOT FTA Detail'!$A54)*(Projects!$J$5:$J$2413<>'MDOT FTA Detail'!$A$171)*(Projects!$K$5:K$2413))","v":0},0,{"$f":"SUMPRODUCT((Projects!$A$5:$A$2413='MDOT FTA Detail'!$D$3)*(Projects!$C$5:$C$2413='MDOT FTA Detail'!$C$4)*(Projects!$L$5:$L$2413='MDOT FTA Detail'!$A54)*(Projects!$J$5:$J$2413<>'MDOT FTA Detail'!$A$171)*(Projects!$Q$5:Q$2413))","v":0},{"$f":"SUMPRODUCT((Projects!$A$5:$A$2413='MDOT FTA Detail'!$G$3)*(Projects!$C$5:$C$2413='MDOT FTA Detail'!$C$4)*(Projects!$L$5:$L$2413='MDOT FTA Detail'!$A54)*(Projects!$J$5:$J$2413<>'MDOT FTA Detail'!$A$171)*(Projects!$K$5:K$2413))","v":0},0,{"$f":"SUMPRODUCT((Projects!$A$5:$A$2413='MDOT FTA Detail'!$G$3)*(Projects!$C$5:$C$2413='MDOT FTA Detail'!$C$4)*(Projects!$L$5:$L$2413='MDOT FTA Detail'!$A54)*(Projects!$J$5:$J$2413<>'MDOT FTA Detail'!$A$171)*(Projects!$Q$5:Q$2413))","v":0},{"$f":"SUMPRODUCT((Projects!$A$5:$A$2413='MDOT FTA Detail'!$J$3)*(Projects!$C$5:$C$2413='MDOT FTA Detail'!$C$4)*(Projects!$L$5:$L$2413='MDOT FTA Detail'!$A54)*(Projects!$J$5:$J$2413<>'MDOT FTA Detail'!$A$171)*(Projects!$K$5:$K$2413))","v":0},0,{"$f":"SUMPRODUCT((Projects!$A$5:$A$2413='MDOT FTA Detail'!$J$3)*(Projects!$C$5:$C$2413='MDOT FTA Detail'!$C$4)*(Projects!$L$5:$L$2413='MDOT FTA Detail'!$A54)*(Projects!$J$5:$J$2413<>'MDOT FTA Detail'!$A$171)*(Projects!$Q$5:$Q$2413))","v":0},{"$f":"SUMPRODUCT((Projects!$A$5:$A$2413='MDOT FTA Detail'!$M$3)*(Projects!$C$5:$C$2413='MDOT FTA Detail'!$C$4)*(Projects!$L$5:$L$2413='MDOT FTA Detail'!$A54)*(Projects!$J$5:$J$2413<>'MDOT FTA Detail'!$A$171)*(Projects!$K$5:$K$2413))","v":0},0,{"$f":"SUMPRODUCT((Projects!$A$5:$A$2413='MDOT FTA Detail'!$M$3)*(Projects!$C$5:$C$2413='MDOT FTA Detail'!$C$4)*(Projects!$L$5:$L$2413='MDOT FTA Detail'!$A54)*(Projects!$J$5:$J$2413<>'MDOT FTA Detail'!$A$171)*(Projects!$Q$5:$Q$2413))","v":0}]
["LTA","Local Technical Assistance Program","MDOT FA",{"$f":"SUMPRODUCT((Projects!$A$5:$A$2413='MDOT FTA Detail'!$D$3)*(Projects!$C$5:$C$2413='MDOT FTA Detail'!$C$4)*(Projects!$L$5:$L$2413='MDOT FTA Detail'!$A55)*(Projects!$J$5:$J$2413<>'MDOT FTA Detail'!$A$171)*(Projects!$K$5:K$2413))","v":0},0,{"$f":"SUMPRODUCT((Projects!$A$5:$A$2413='MDOT FTA Detail'!$D$3)*(Projects!$C$5:$C$2413='MDOT FTA Detail'!$C$4)*(Projects!$L$5:$L$2413='MDOT FTA Detail'!$A55)*(Projects!$J$5:$J$2413<>'MDOT FTA Detail'!$A$171)*(Projects!$Q$5:Q$2413))","v":0},{"$f":"SUMPRODUCT((Projects!$A$5:$A$2413='MDOT FTA Detail'!$G$3)*(Projects!$C$5:$C$2413='MDOT FTA Detail'!$C$4)*(Projects!$L$5:$L$2413='MDOT FTA Detail'!$A55)*(Projects!$J$5:$J$2413<>'MDOT FTA Detail'!$A$171)*(Projects!$K$5:K$2413))","v":0},0,{"$f":"SUMPRODUCT((Projects!$A$5:$A$2413='MDOT FTA Detail'!$G$3)*(Projects!$C$5:$C$2413='MDOT FTA Detail'!$C$4)*(Projects!$L$5:$L$2413='MDOT FTA Detail'!$A55)*(Projects!$J$5:$J$2413<>'MDOT FTA Detail'!$A$171)*(Projects!$Q$5:Q$2413))","v":0},{"$f":"SUMPRODUCT((Projects!$A$5:$A$2413='MDOT FTA Detail'!$J$3)*(Projects!$C$5:$C$2413='MDOT FTA Detail'!$C$4)*(Projects!$L$5:$L$2413='MDOT FTA Detail'!$A55)*(Projects!$J$5:$J$2413<>'MDOT FTA Detail'!$A$171)*(Projects!$K$5:$K$2413))","v":0},0,{"$f":"SUMPRODUCT((Projects!$A$5:$A$2413='MDOT FTA Detail'!$J$3)*(Projects!$C$5:$C$2413='MDOT FTA Detail'!$C$4)*(Projects!$L$5:$L$2413='MDOT FTA Detail'!$A55)*(Projects!$J$5:$J$2413<>'MDOT FTA Detail'!$A$171)*(Projects!$Q$5:$Q$2413))","v":0},{"$f":"SUMPRODUCT((Projects!$A$5:$A$2413='MDOT FTA Detail'!$M$3)*(Projects!$C$5:$C$2413='MDOT FTA Detail'!$C$4)*(Projects!$L$5:$L$2413='MDOT FTA Detail'!$A55)*(Projects!$J$5:$J$2413<>'MDOT FTA Detail'!$A$171)*(Projects!$K$5:$K$2413))","v":0},0,{"$f":"SUMPRODUCT((Projects!$A$5:$A$2413='MDOT FTA Detail'!$M$3)*(Projects!$C$5:$C$2413='MDOT FTA Detail'!$C$4)*(Projects!$L$5:$L$2413='MDOT FTA Detail'!$A55)*(Projects!$J$5:$J$2413<>'MDOT FTA Detail'!$A$171)*(Projects!$Q$5:$Q$2413))","v":0}]
["MG","Minimum Guarantee","MDOT FA",{"$f":"SUMPRODUCT((Projects!$A$5:$A$2413='MDOT FTA Detail'!$D$3)*(Projects!$C$5:$C$2413='MDOT FTA Detail'!$C$4)*(Projects!$L$5:$L$2413='MDOT FTA Detail'!$A56)*(Projects!$J$5:$J$2413<>'MDOT FTA Detail'!$A$171)*(Projects!$K$5:K$2413))","v":0},0,{"$f":"SUMPRODUCT((Projects!$A$5:$A$2413='MDOT FTA Detail'!$D$3)*(Projects!$C$5:$C$2413='MDOT FTA Detail'!$C$4)*(Projects!$L$5:$L$2413='MDOT FTA Detail'!$A56)*(Projects!$J$5:$J$2413<>'MDOT FTA Detail'!$A$171)*(Projects!$Q$5:Q$2413))","v":0},{"$f":"SUMPRODUCT((Projects!$A$5:$A$2413='MDOT FTA Detail'!$G$3)*(Projects!$C$5:$C$2413='MDOT FTA Detail'!$C$4)*(Projects!$L$5:$L$2413='MDOT FTA Detail'!$A56)*(Projects!$J$5:$J$2413<>'MDOT FTA Detail'!$A$171)*(Projects!$K$5:K$2413))","v":0},0,{"$f":"SUMPRODUCT((Projects!$A$5:$A$2413='MDOT FTA Detail'!$G$3)*(Projects!$C$5:$C$2413='MDOT FTA Detail'!$C$4)*(Projects!$L$5:$L$2413='MDOT FTA Detail'!$A56)*(Projects!$J$5:$J$2413<>'MDOT FTA Detail'!$A$171)*(Projects!$Q$5:Q$2413))","v":0},{"$f":"SUMPRODUCT((Projects!$A$5:$A$2413='MDOT FTA Detail'!$J$3)*(Projects!$C$5:$C$2413='MDOT FTA Detail'!$C$4)*(Projects!$L$5:$L$2413='MDOT FTA Detail'!$A56)*(Projects!$J$5:$J$2413<>'MDOT FTA Detail'!$A$171)*(Projects!$K$5:$K$2413))","v":0},0,{"$f":"SUMPRODUCT((Projects!$A$5:$A$2413='MDOT FTA Detail'!$J$3)*(Projects!$C$5:$C$2413='MDOT FTA Detail'!$C$4)*(Projects!$L$5:$L$2413='MDOT FTA Detail'!$A56)*(Projects!$J$5:$J$2413<>'MDOT FTA Detail'!$A$171)*(Projects!$Q$5:$Q$2413))","v":0},{"$f":"SUMPRODUCT((Projects!$A$5:$A$2413='MDOT FTA Detail'!$M$3)*(Projects!$C$5:$C$2413='MDOT FTA Detail'!$C$4)*(Projects!$L$5:$L$2413='MDOT FTA Detail'!$A56)*(Projects!$J$5:$J$2413<>'MDOT FTA Detail'!$A$171)*(Projects!$K$5:$K$2413))","v":0},0,{"$f":"SUMPRODUCT((Projects!$A$5:$A$2413='MDOT FTA Detail'!$M$3)*(Projects!$C$5:$C$2413='MDOT FTA Detail'!$C$4)*(Projects!$L$5:$L$2413='MDOT FTA Detail'!$A56)*(Projects!$J$5:$J$2413<>'MDOT FTA Detail'!$A$171)*(Projects!$Q$5:$Q$2413))","v":0}]
["NCII","National Corridor Infrastructure Improvement - SAFETEA-LU","MDOT FA",{"$f":"SUMPRODUCT((Projects!$A$5:$A$2413='MDOT FTA Detail'!$D$3)*(Projects!$C$5:$C$2413='MDOT FTA Detail'!$C$4)*(Projects!$L$5:$L$2413='MDOT FTA Detail'!$A57)*(Projects!$J$5:$J$2413<>'MDOT FTA Detail'!$A$171)*(Projects!$K$5:K$2413))","v":0},0,{"$f":"SUMPRODUCT((Projects!$A$5:$A$2413='MDOT FTA Detail'!$D$3)*(Projects!$C$5:$C$2413='MDOT FTA Detail'!$C$4)*(Projects!$L$5:$L$2413='MDOT FTA Detail'!$A57)*(Projects!$J$5:$J$2413<>'MDOT FTA Detail'!$A$171)*(Projects!$Q$5:Q$2413))","v":0},{"$f":"SUMPRODUCT((Projects!$A$5:$A$2413='MDOT FTA Detail'!$G$3)*(Projects!$C$5:$C$2413='MDOT FTA Detail'!$C$4)*(Projects!$L$5:$L$2413='MDOT FTA Detail'!$A57)*(Projects!$J$5:$J$2413<>'MDOT FTA Detail'!$A$171)*(Projects!$K$5:K$2413))","v":0},0,{"$f":"SUMPRODUCT((Projects!$A$5:$A$2413='MDOT FTA Detail'!$G$3)*(Projects!$C$5:$C$2413='MDOT FTA Detail'!$C$4)*(Projects!$L$5:$L$2413='MDOT FTA Detail'!$A57)*(Projects!$J$5:$J$2413<>'MDOT FTA Detail'!$A$171)*(Projects!$Q$5:Q$2413))","v":0},{"$f":"SUMPRODUCT((Projects!$A$5:$A$2413='MDOT FTA Detail'!$J$3)*(Projects!$C$5:$C$2413='MDOT FTA Detail'!$C$4)*(Projects!$L$5:$L$2413='MDOT FTA Detail'!$A57)*(Projects!$J$5:$J$2413<>'MDOT FTA Detail'!$A$171)*(Projects!$K$5:$K$2413))","v":0},0,{"$f":"SUMPRODUCT((Projects!$A$5:$A$2413='MDOT FTA Detail'!$J$3)*(Projects!$C$5:$C$2413='MDOT FTA Detail'!$C$4)*(Projects!$L$5:$L$2413='MDOT FTA Detail'!$A57)*(Projects!$J$5:$J$2413<>'MDOT FTA Detail'!$A$171)*(Projects!$Q$5:$Q$2413))","v":0},{"$f":"SUMPRODUCT((Projects!$A$5:$A$2413='MDOT FTA Detail'!$M$3)*(Projects!$C$5:$C$2413='MDOT FTA Detail'!$C$4)*(Projects!$L$5:$L$2413='MDOT FTA Detail'!$A57)*(Projects!$J$5:$J$2413<>'MDOT FTA Detail'!$A$171)*(Projects!$K$5:$K$2413))","v":0},0,{"$f":"SUMPRODUCT((Projects!$A$5:$A$2413='MDOT FTA Detail'!$M$3)*(Projects!$C$5:$C$2413='MDOT FTA Detail'!$C$4)*(Projects!$L$5:$L$2413='MDOT FTA Detail'!$A57)*(Projects!$J$5:$J$2413<>'MDOT FTA Detail'!$A$171)*(Projects!$Q$5:$Q$2413))","v":0}]
["NH","National Highway System","MDOT FA",{"$f":"SUMPRODUCT((Projects!$A$5:$A$2413='MDOT FTA Detail'!$D$3)*(Projects!$C$5:$C$2413='MDOT FTA Detail'!$C$4)*(Projects!$L$5:$L$2413='MDOT FTA Detail'!$A58)*(Projects!$J$5:$J$2413<>'MDOT FTA Detail'!$A$171)*(Projects!$K$5:K$2413))","v":0},0,{"$f":"SUMPRODUCT((Projects!$A$5:$A$2413='MDOT FTA Detail'!$D$3)*(Projects!$C$5:$C$2413='MDOT FTA Detail'!$C$4)*(Projects!$L$5:$L$2413='MDOT FTA Detail'!$A58)*(Projects!$J$5:$J$2413<>'MDOT FTA Detail'!$A$171)*(Projects!$Q$5:Q$2413))","v":0},{"$f":"SUMPRODUCT((Projects!$A$5:$A$2413='MDOT FTA Detail'!$G$3)*(Projects!$C$5:$C$2413='MDOT FTA Detail'!$C$4)*(Projects!$L$5:$L$2413='MDOT FTA Detail'!$A58)*(Projects!$J$5:$J$2413<>'MDOT FTA Detail'!$A$171)*(Projects!$K$5:K$2413))","v":373237},82763,{"$f":"SUMPRODUCT((Projects!$A$5:$A$2413='MDOT FTA Detail'!$G$3)*(Projects!$C$5:$C$2413='MDOT FTA Detail'!$C$4)*(Projects!$L$5:$L$2413='MDOT FTA Detail'!$A58)*(Projects!$J$5:$J$2413<>'MDOT FTA Detail'!$A$171)*(Projects!$Q$5:Q$2413))","v":456000},{"$f":"SUMPRODUCT((Projects!$A$5:$A$2413='MDOT FTA Detail'!$J$3)*(Projects!$C$5:$C$2413='MDOT FTA Detail'!$C$4)*(Projects!$L$5:$L$2413='MDOT FTA Detail'!$A58)*(Projects!$J$5:$J$2413<>'MDOT FTA Detail'!$A$171)*(Projects!$K$5:$K$2413))","v":0},0,{"$f":"SUMPRODUCT((Projects!$A$5:$A$2413='MDOT FTA Detail'!$J$3)*(Projects!$C$5:$C$2413='MDOT FTA Detail'!$C$4)*(Projects!$L$5:$L$2413='MDOT FTA Detail'!$A58)*(Projects!$J$5:$J$2413<>'MDOT FTA Detail'!$A$171)*(Projects!$Q$5:$Q$2413))","v":0},{"$f":"SUMPRODUCT((Projects!$A$5:$A$2413='MDOT FTA Detail'!$M$3)*(Projects!$C$5:$C$2413='MDOT FTA Detail'!$C$4)*(Projects!$L$5:$L$2413='MDOT FTA Detail'!$A58)*(Projects!$J$5:$J$2413<>'MDOT FTA Detail'!$A$171)*(Projects!$K$5:$K$2413))","v":2723968},604032,{"$f":"SUMPRODUCT((Projects!$A$5:$A$2413='MDOT FTA Detail'!$M$3)*(Projects!$C$5:$C$2413='MDOT FTA Detail'!$C$4)*(Projects!$L$5:$L$2413='MDOT FTA Detail'!$A58)*(Projects!$J$5:$J$2413<>'MDOT FTA Detail'!$A$171)*(Projects!$Q$5:$Q$2413))","v":3328000}]
["NHG","National Highway System - Safety - 100% Federal","MDOT FA",{"$f":"SUMPRODUCT((Projects!$A$5:$A$2413='MDOT FTA Detail'!$D$3)*(Projects!$C$5:$C$2413='MDOT FTA Detail'!$C$4)*(Projects!$L$5:$L$2413='MDOT FTA Detail'!$A59)*(Projects!$J$5:$J$2413<>'MDOT FTA Detail'!$A$171)*(Projects!$K$5:K$2413))","v":0},0,{"$f":"SUMPRODUCT((Projects!$A$5:$A$2413='MDOT FTA Detail'!$D$3)*(Projects!$C$5:$C$2413='MDOT FTA Detail'!$C$4)*(Projects!$L$5:$L$2413='MDOT FTA Detail'!$A59)*(Projects!$J$5:$J$2413<>'MDOT FTA Detail'!$A$171)*(Projects!$Q$5:Q$2413))","v":0},{"$f":"SUMPRODUCT((Projects!$A$5:$A$2413='MDOT FTA Detail'!$G$3)*(Projects!$C$5:$C$2413='MDOT FTA Detail'!$C$4)*(Projects!$L$5:$L$2413='MDOT FTA Detail'!$A59)*(Projects!$J$5:$J$2413<>'MDOT FTA Detail'!$A$171)*(Projects!$K$5:K$2413))","v":0},0,{"$f":"SUMPRODUCT((Projects!$A$5:$A$2413='MDOT FTA Detail'!$G$3)*(Projects!$C$5:$C$2413='MDOT FTA Detail'!$C$4)*(Projects!$L$5:$L$2413='MDOT FTA Detail'!$A59)*(Projects!$J$5:$J$2413<>'MDOT FTA Detail'!$A$171)*(Projects!$Q$5:Q$2413))","v":0},{"$f":"SUMPRODUCT((Projects!$A$5:$A$2413='MDOT FTA Detail'!$J$3)*(Projects!$C$5:$C$2413='MDOT FTA Detail'!$C$4)*(Projects!$L$5:$L$2413='MDOT FTA Detail'!$A59)*(Projects!$J$5:$J$2413<>'MDOT FTA Detail'!$A$171)*(Projects!$K$5:$K$2413))","v":0},0,{"$f":"SUMPRODUCT((Projects!$A$5:$A$2413='MDOT FTA Detail'!$J$3)*(Projects!$C$5:$C$2413='MDOT FTA Detail'!$C$4)*(Projects!$L$5:$L$2413='MDOT FTA Detail'!$A59)*(Projects!$J$5:$J$2413<>'MDOT FTA Detail'!$A$171)*(Projects!$Q$5:$Q$2413))","v":0},{"$f":"SUMPRODUCT((Projects!$A$5:$A$2413='MDOT FTA Detail'!$M$3)*(Projects!$C$5:$C$2413='MDOT FTA Detail'!$C$4)*(Projects!$L$5:$L$2413='MDOT FTA Detail'!$A59)*(Projects!$J$5:$J$2413<>'MDOT FTA Detail'!$A$171)*(Projects!$K$5:$K$2413))","v":0},0,{"$f":"SUMPRODUCT((Projects!$A$5:$A$2413='MDOT FTA Detail'!$M$3)*(Projects!$C$5:$C$2413='MDOT FTA Detail'!$C$4)*(Projects!$L$5:$L$2413='MDOT FTA Detail'!$A59)*(Projects!$J$5:$J$2413<>'MDOT FTA Detail'!$A$171)*(Projects!$Q$5:$Q$2413))","v":0}]
["NHI","National Highway Funds on I (Does not Qualify for I)","MDOT FA",{"$f":"SUMPRODUCT((Projects!$A$5:$A$2413='MDOT FTA Detail'!$D$3)*(Projects!$C$5:$C$2413='MDOT FTA Detail'!$C$4)*(Projects!$L$5:$L$2413='MDOT FTA Detail'!$A60)*(Projects!$J$5:$J$2413<>'MDOT FTA Detail'!$A$171)*(Projects!$K$5:K$2413))","v":0},0,{"$f":"SUMPRODUCT((Projects!$A$5:$A$2413='MDOT FTA Detail'!$D$3)*(Projects!$C$5:$C$2413='MDOT FTA Detail'!$C$4)*(Projects!$L$5:$L$2413='MDOT FTA Detail'!$A60)*(Projects!$J$5:$J$2413<>'MDOT FTA Detail'!$A$171)*(Projects!$Q$5:Q$2413))","v":0},{"$f":"SUMPRODUCT((Projects!$A$5:$A$2413='MDOT FTA Detail'!$G$3)*(Projects!$C$5:$C$2413='MDOT FTA Detail'!$C$4)*(Projects!$L$5:$L$2413='MDOT FTA Detail'!$A60)*(Projects!$J$5:$J$2413<>'MDOT FTA Detail'!$A$171)*(Projects!$K$5:K$2413))","v":0},0,{"$f":"SUMPRODUCT((Projects!$A$5:$A$2413='MDOT FTA Detail'!$G$3)*(Projects!$C$5:$C$2413='MDOT FTA Detail'!$C$4)*(Projects!$L$5:$L$2413='MDOT FTA Detail'!$A60)*(Projects!$J$5:$J$2413<>'MDOT FTA Detail'!$A$171)*(Projects!$Q$5:Q$2413))","v":0},{"$f":"SUMPRODUCT((Projects!$A$5:$A$2413='MDOT FTA Detail'!$J$3)*(Projects!$C$5:$C$2413='MDOT FTA Detail'!$C$4)*(Projects!$L$5:$L$2413='MDOT FTA Detail'!$A60)*(Projects!$J$5:$J$2413<>'MDOT FTA Detail'!$A$171)*(Projects!$K$5:$K$2413))","v":0},0,{"$f":"SUMPRODUCT((Projects!$A$5:$A$2413='MDOT FTA Detail'!$J$3)*(Projects!$C$5:$C$2413='MDOT FTA Detail'!$C$4)*(Projects!$L$5:$L$2413='MDOT FTA Detail'!$A60)*(Projects!$J$5:$J$2413<>'MDOT FTA Detail'!$A$171)*(Projects!$Q$5:$Q$2413))","v":0},{"$f":"SUMPRODUCT((Projects!$A$5:$A$2413='MDOT FTA Detail'!$M$3)*(Projects!$C$5:$C$2413='MDOT FTA Detail'!$C$4)*(Projects!$L$5:$L$2413='MDOT FTA Detail'!$A60)*(Projects!$J$5:$J$2413<>'MDOT FTA Detail'!$A$171)*(Projects!$K$5:$K$2413))","v":0},0,{"$f":"SUMPRODUCT((Projects!$A$5:$A$2413='MDOT FTA Detail'!$M$3)*(Projects!$C$5:$C$2413='MDOT FTA Detail'!$C$4)*(Projects!$L$5:$L$2413='MDOT FTA Detail'!$A60)*(Projects!$J$5:$J$2413<>'MDOT FTA Detail'!$A$171)*(Projects!$Q$5:$Q$2413))","v":0}]
["NHIM","National Highway Funds on I (Qualifies for IM)","MDOT FA",{"$f":"SUMPRODUCT((Projects!$A$5:$A$2413='MDOT FTA Detail'!$D$3)*(Projects!$C$5:$C$2413='MDOT FTA Detail'!$C$4)*(Projects!$L$5:$L$2413='MDOT FTA Detail'!$A61)*(Projects!$J$5:$J$2413<>'MDOT FTA Detail'!$A$171)*(Projects!$K$5:K$2413))","v":0},0,{"$f":"SUMPRODUCT((Projects!$A$5:$A$2413='MDOT FTA Detail'!$D$3)*(Projects!$C$5:$C$2413='MDOT FTA Detail'!$C$4)*(Projects!$L$5:$L$2413='MDOT FTA Detail'!$A61)*(Projects!$J$5:$J$2413<>'MDOT FTA Detail'!$A$171)*(Projects!$Q$5:Q$2413))","v":0},{"$f":"SUMPRODUCT((Projects!$A$5:$A$2413='MDOT FTA Detail'!$G$3)*(Projects!$C$5:$C$2413='MDOT FTA Detail'!$C$4)*(Projects!$L$5:$L$2413='MDOT FTA Detail'!$A61)*(Projects!$J$5:$J$2413<>'MDOT FTA Detail'!$A$171)*(Projects!$K$5:K$2413))","v":0},0,{"$f":"SUMPRODUCT((Projects!$A$5:$A$2413='MDOT FTA Detail'!$G$3)*(Projects!$C$5:$C$2413='MDOT FTA Detail'!$C$4)*(Projects!$L$5:$L$2413='MDOT FTA Detail'!$A61)*(Projects!$J$5:$J$2413<>'MDOT FTA Detail'!$A$171)*(Projects!$Q$5:Q$2413))","v":0},{"$f":"SUMPRODUCT((Projects!$A$5:$A$2413='MDOT FTA Detail'!$J$3)*(Projects!$C$5:$C$2413='MDOT FTA Detail'!$C$4)*(Projects!$L$5:$L$2413='MDOT FTA Detail'!$A61)*(Projects!$J$5:$J$2413<>'MDOT FTA Detail'!$A$171)*(Projects!$K$5:$K$2413))","v":0},0,{"$f":"SUMPRODUCT((Projects!$A$5:$A$2413='MDOT FTA Detail'!$J$3)*(Projects!$C$5:$C$2413='MDOT FTA Detail'!$C$4)*(Projects!$L$5:$L$2413='MDOT FTA Detail'!$A61)*(Projects!$J$5:$J$2413<>'MDOT FTA Detail'!$A$171)*(Projects!$Q$5:$Q$2413))","v":0},{"$f":"SUMPRODUCT((Projects!$A$5:$A$2413='MDOT FTA Detail'!$M$3)*(Projects!$C$5:$C$2413='MDOT FTA Detail'!$C$4)*(Projects!$L$5:$L$2413='MDOT FTA Detail'!$A61)*(Projects!$J$5:$J$2413<>'MDOT FTA Detail'!$A$171)*(Projects!$K$5:$K$2413))","v":0},0,{"$f":"SUMPRODUCT((Projects!$A$5:$A$2413='MDOT FTA Detail'!$M$3)*(Projects!$C$5:$C$2413='MDOT FTA Detail'!$C$4)*(Projects!$L$5:$L$2413='MDOT FTA Detail'!$A61)*(Projects!$J$5:$J$2413<>'MDOT FTA Detail'!$A$171)*(Projects!$Q$5:$Q$2413))","v":0}]
["NHS","National Highway System - MDOT Safety Program","MDOT FA",{"$f":"SUMPRODUCT((Projects!$A$5:$A$2413='MDOT FTA Detail'!$D$3)*(Projects!$C$5:$C$2413='MDOT FTA Detail'!$C$4)*(Projects!$L$5:$L$2413='MDOT FTA Detail'!$A62)*(Projects!$J$5:$J$2413<>'MDOT FTA Detail'!$A$171)*(Projects!$K$5:K$2413))","v":0},0,{"$f":"SUMPRODUCT((Projects!$A$5:$A$2413='MDOT FTA Detail'!$D$3)*(Projects!$C$5:$C$2413='MDOT FTA Detail'!$C$4)*(Projects!$L$5:$L$2413='MDOT FTA Detail'!$A62)*(Projects!$J$5:$J$2413<>'MDOT FTA Detail'!$A$171)*(Projects!$Q$5:Q$2413))","v":0},{"$f":"SUMPRODUCT((Projects!$A$5:$A$2413='MDOT FTA Detail'!$G$3)*(Projects!$C$5:$C$2413='MDOT FTA Detail'!$C$4)*(Projects!$L$5:$L$2413='MDOT FTA Detail'!$A62)*(Projects!$J$5:$J$2413<>'MDOT FTA Detail'!$A$171)*(Projects!$K$5:K$2413))","v":0},0,{"$f":"SUMPRODUCT((Projects!$A$5:$A$2413='MDOT FTA Detail'!$G$3)*(Projects!$C$5:$C$2413='MDOT FTA Detail'!$C$4)*(Projects!$L$5:$L$2413='MDOT FTA Detail'!$A62)*(Projects!$J$5:$J$2413<>'MDOT FTA Detail'!$A$171)*(Projects!$Q$5:Q$2413))","v":0},{"$f":"SUMPRODUCT((Projects!$A$5:$A$2413='MDOT FTA Detail'!$J$3)*(Projects!$C$5:$C$2413='MDOT FTA Detail'!$C$4)*(Projects!$L$5:$L$2413='MDOT FTA Detail'!$A62)*(Projects!$J$5:$J$2413<>'MDOT FTA Detail'!$A$171)*(Projects!$K$5:$K$2413))","v":0},0,{"$f":"SUMPRODUCT((Projects!$A$5:$A$2413='MDOT FTA Detail'!$J$3)*(Projects!$C$5:$C$2413='MDOT FTA Detail'!$C$4)*(Projects!$L$5:$L$2413='MDOT FTA Detail'!$A62)*(Projects!$J$5:$J$2413<>'MDOT FTA Detail'!$A$171)*(Projects!$Q$5:$Q$2413))","v":0},{"$f":"SUMPRODUCT((Projects!$A$5:$A$2413='MDOT FTA Detail'!$M$3)*(Projects!$C$5:$C$2413='MDOT FTA Detail'!$C$4)*(Projects!$L$5:$L$2413='MDOT FTA Detail'!$A62)*(Projects!$J$5:$J$2413<>'MDOT FTA Detail'!$A$171)*(Projects!$K$5:$K$2413))","v":0},0,{"$f":"SUMPRODUCT((Projects!$A$5:$A$2413='MDOT FTA Detail'!$M$3)*(Projects!$C$5:$C$2413='MDOT FTA Detail'!$C$4)*(Projects!$L$5:$L$2413='MDOT FTA Detail'!$A62)*(Projects!$J$5:$J$2413<>'MDOT FTA Detail'!$A$171)*(Projects!$Q$5:$Q$2413))","v":0}]
["NRT","National Recreational Trails","MDOT FA",{"$f":"SUMPRODUCT((Projects!$A$5:$A$2413='MDOT FTA Detail'!$D$3)*(Projects!$C$5:$C$2413='MDOT FTA Detail'!$C$4)*(Projects!$L$5:$L$2413='MDOT FTA Detail'!$A63)*(Projects!$J$5:$J$2413<>'MDOT FTA Detail'!$A$171)*(Projects!$K$5:K$2413))","v":0},0,{"$f":"SUMPRODUCT((Projects!$A$5:$A$2413='MDOT FTA Detail'!$D$3)*(Projects!$C$5:$C$2413='MDOT FTA Detail'!$C$4)*(Projects!$L$5:$L$2413='MDOT FTA Detail'!$A63)*(Projects!$J$5:$J$2413<>'MDOT FTA Detail'!$A$171)*(Projects!$Q$5:Q$2413))","v":0},{"$f":"SUMPRODUCT((Projects!$A$5:$A$2413='MDOT FTA Detail'!$G$3)*(Projects!$C$5:$C$2413='MDOT FTA Detail'!$C$4)*(Projects!$L$5:$L$2413='MDOT FTA Detail'!$A63)*(Projects!$J$5:$J$2413<>'MDOT FTA Detail'!$A$171)*(Projects!$K$5:K$2413))","v":0},0,{"$f":"SUMPRODUCT((Projects!$A$5:$A$2413='MDOT FTA Detail'!$G$3)*(Projects!$C$5:$C$2413='MDOT FTA Detail'!$C$4)*(Projects!$L$5:$L$2413='MDOT FTA Detail'!$A63)*(Projects!$J$5:$J$2413<>'MDOT FTA Detail'!$A$171)*(Projects!$Q$5:Q$2413))","v":0},{"$f":"SUMPRODUCT((Projects!$A$5:$A$2413='MDOT FTA Detail'!$J$3)*(Projects!$C$5:$C$2413='MDOT FTA Detail'!$C$4)*(Projects!$L$5:$L$2413='MDOT FTA Detail'!$A63)*(Projects!$J$5:$J$2413<>'MDOT FTA Detail'!$A$171)*(Projects!$K$5:$K$2413))","v":0},0,{"$f":"SUMPRODUCT((Projects!$A$5:$A$2413='MDOT FTA Detail'!$J$3)*(Projects!$C$5:$C$2413='MDOT FTA Detail'!$C$4)*(Projects!$L$5:$L$2413='MDOT FTA Detail'!$A63)*(Projects!$J$5:$J$2413<>'MDOT FTA Detail'!$A$171)*(Projects!$Q$5:$Q$2413))","v":0},{"$f":"SUMPRODUCT((Projects!$A$5:$A$2413='MDOT FTA Detail'!$M$3)*(Projects!$C$5:$C$2413='MDOT FTA Detail'!$C$4)*(Projects!$L$5:$L$2413='MDOT FTA Detail'!$A63)*(Projects!$J$5:$J$2413<>'MDOT FTA Detail'!$A$171)*(Projects!$K$5:$K$2413))","v":0},0,{"$f":"SUMPRODUCT((Projects!$A$5:$A$2413='MDOT FTA Detail'!$M$3)*(Projects!$C$5:$C$2413='MDOT FTA Detail'!$C$4)*(Projects!$L$5:$L$2413='MDOT FTA Detail'!$A63)*(Projects!$J$5:$J$2413<>'MDOT FTA Detail'!$A$171)*(Projects!$Q$5:$Q$2413))","v":0}]
["OFHWA","Other FHWA Funds (Specify source in Comments)","MDOT FA",{"$f":"SUMPRODUCT((Projects!$A$5:$A$2413='MDOT FTA Detail'!$D$3)*(Projects!$C$5:$C$2413='MDOT FTA Detail'!$C$4)*(Projects!$L$5:$L$2413='MDOT FTA Detail'!$A64)*(Projects!$J$5:$J$2413<>'MDOT FTA Detail'!$A$171)*(Projects!$K$5:K$2413))","v":0},0,{"$f":"SUMPRODUCT((Projects!$A$5:$A$2413='MDOT FTA Detail'!$D$3)*(Projects!$C$5:$C$2413='MDOT FTA Detail'!$C$4)*(Projects!$L$5:$L$2413='MDOT FTA Detail'!$A64)*(Projects!$J$5:$J$2413<>'MDOT FTA Detail'!$A$171)*(Projects!$Q$5:Q$2413))","v":0},{"$f":"SUMPRODUCT((Projects!$A$5:$A$2413='MDOT FTA Detail'!$G$3)*(Projects!$C$5:$C$2413='MDOT FTA Detail'!$C$4)*(Projects!$L$5:$L$2413='MDOT FTA Detail'!$A64)*(Projects!$J$5:$J$2413<>'MDOT FTA Detail'!$A$171)*(Projects!$K$5:K$2413))","v":0},0,{"$f":"SUMPRODUCT((Projects!$A$5:$A$2413='MDOT FTA Detail'!$G$3)*(Projects!$C$5:$C$2413='MDOT FTA Detail'!$C$4)*(Projects!$L$5:$L$2413='MDOT FTA Detail'!$A64)*(Projects!$J$5:$J$2413<>'MDOT FTA Detail'!$A$171)*(Projects!$Q$5:Q$2413))","v":0},{"$f":"SUMPRODUCT((Projects!$A$5:$A$2413='MDOT FTA Detail'!$J$3)*(Projects!$C$5:$C$2413='MDOT FTA Detail'!$C$4)*(Projects!$L$5:$L$2413='MDOT FTA Detail'!$A64)*(Projects!$J$5:$J$2413<>'MDOT FTA Detail'!$A$171)*(Projects!$K$5:$K$2413))","v":0},0,{"$f":"SUMPRODUCT((Projects!$A$5:$A$2413='MDOT FTA Detail'!$J$3)*(Projects!$C$5:$C$2413='MDOT FTA Detail'!$C$4)*(Projects!$L$5:$L$2413='MDOT FTA Detail'!$A64)*(Projects!$J$5:$J$2413<>'MDOT FTA Detail'!$A$171)*(Projects!$Q$5:$Q$2413))","v":0},{"$f":"SUMPRODUCT((Projects!$A$5:$A$2413='MDOT FTA Detail'!$M$3)*(Projects!$C$5:$C$2413='MDOT FTA Detail'!$C$4)*(Projects!$L$5:$L$2413='MDOT FTA Detail'!$A64)*(Projects!$J$5:$J$2413<>'MDOT FTA Detail'!$A$171)*(Projects!$K$5:$K$2413))","v":0},0,{"$f":"SUMPRODUCT((Projects!$A$5:$A$2413='MDOT FTA Detail'!$M$3)*(Projects!$C$5:$C$2413='MDOT FTA Detail'!$C$4)*(Projects!$L$5:$L$2413='MDOT FTA Detail'!$A64)*(Projects!$J$5:$J$2413<>'MDOT FTA Detail'!$A$171)*(Projects!$Q$5:$Q$2413))","v":0}]
["PNRS","Projects of National and Regional Significance","MDOT FA",{"$f":"SUMPRODUCT((Projects!$A$5:$A$2413='MDOT FTA Detail'!$D$3)*(Projects!$C$5:$C$2413='MDOT FTA Detail'!$C$4)*(Projects!$L$5:$L$2413='MDOT FTA Detail'!$A65)*(Projects!$J$5:$J$2413<>'MDOT FTA Detail'!$A$171)*(Projects!$K$5:K$2413))","v":0},0,{"$f":"SUMPRODUCT((Projects!$A$5:$A$2413='MDOT FTA Detail'!$D$3)*(Projects!$C$5:$C$2413='MDOT FTA Detail'!$C$4)*(Projects!$L$5:$L$2413='MDOT FTA Detail'!$A65)*(Projects!$J$5:$J$2413<>'MDOT FTA Detail'!$A$171)*(Projects!$Q$5:Q$2413))","v":0},{"$f":"SUMPRODUCT((Projects!$A$5:$A$2413='MDOT FTA Detail'!$G$3)*(Projects!$C$5:$C$2413='MDOT FTA Detail'!$C$4)*(Projects!$L$5:$L$2413='MDOT FTA Detail'!$A65)*(Projects!$J$5:$J$2413<>'MDOT FTA Detail'!$A$171)*(Projects!$K$5:K$2413))","v":0},0,{"$f":"SUMPRODUCT((Projects!$A$5:$A$2413='MDOT FTA Detail'!$G$3)*(Projects!$C$5:$C$2413='MDOT FTA Detail'!$C$4)*(Projects!$L$5:$L$2413='MDOT FTA Detail'!$A65)*(Projects!$J$5:$J$2413<>'MDOT FTA Detail'!$A$171)*(Projects!$Q$5:Q$2413))","v":0},{"$f":"SUMPRODUCT((Projects!$A$5:$A$2413='MDOT FTA Detail'!$J$3)*(Projects!$C$5:$C$2413='MDOT FTA Detail'!$C$4)*(Projects!$L$5:$L$2413='MDOT FTA Detail'!$A65)*(Projects!$J$5:$J$2413<>'MDOT FTA Detail'!$A$171)*(Projects!$K$5:$K$2413))","v":0},0,{"$f":"SUMPRODUCT((Projects!$A$5:$A$2413='MDOT FTA Detail'!$J$3)*(Projects!$C$5:$C$2413='MDOT FTA Detail'!$C$4)*(Projects!$L$5:$L$2413='MDOT FTA Detail'!$A65)*(Projects!$J$5:$J$2413<>'MDOT FTA Detail'!$A$171)*(Projects!$Q$5:$Q$2413))","v":0},{"$f":"SUMPRODUCT((Projects!$A$5:$A$2413='MDOT FTA Detail'!$M$3)*(Projects!$C$5:$C$2413='MDOT FTA Detail'!$C$4)*(Projects!$L$5:$L$2413='MDOT FTA Detail'!$A65)*(Projects!$J$5:$J$2413<>'MDOT FTA Detail'!$A$171)*(Projects!$K$5:$K$2413))","v":0},0,{"$f":"SUMPRODUCT((Projects!$A$5:$A$2413='MDOT FTA Detail'!$M$3)*(Projects!$C$5:$C$2413='MDOT FTA Detail'!$C$4)*(Projects!$L$5:$L$2413='MDOT FTA Detail'!$A65)*(Projects!$J$5:$J$2413<>'MDOT FTA Detail'!$A$171)*(Projects!$Q$5:$Q$2413))","v":0}]
["PRIP","Priority Roads Investment Program","MDOT FA",{"$f":"SUMPRODUCT((Projects!$A$5:$A$2413='MDOT FTA Detail'!$D$3)*(Projects!$C$5:$C$2413='MDOT FTA Detail'!$C$4)*(Projects!$L$5:$L$2413='MDOT FTA Detail'!$A66)*(Projects!$J$5:$J$2413<>'MDOT FTA Detail'!$A$171)*(Projects!$K$5:K$2413))","v":0},{"$f":"F66-D66","v":0},{"$f":"SUMPRODUCT((Projects!$A$5:$A$2413='MDOT FTA Detail'!$D$3)*(Projects!$C$5:$C$2413='MDOT FTA Detail'!$C$4)*(Projects!$L$5:$L$2413='MDOT FTA Detail'!$A66)*(Projects!$J$5:$J$2413<>'MDOT FTA Detail'!$A$171)*(Projects!$Q$5:Q$2413))","v":0},{"$f":"SUMPRODUCT((Projects!$A$5:$A$2413='MDOT FTA Detail'!$G$3)*(Projects!$C$5:$C$2413='MDOT FTA Detail'!$C$4)*(Projects!$L$5:$L$2413='MDOT FTA Detail'!$A66)*(Projects!$J$5:$J$2413<>'MDOT FTA Detail'!$A$171)*(Projects!$K$5:K$2413))","v":0},{"$f":"I66-G66","v":0},{"$f":"SUMPRODUCT((Projects!$A$5:$A$2413='MDOT FTA Detail'!$G$3)*(Projects!$C$5:$C$2413='MDOT FTA Detail'!$C$4)*(Projects!$L$5:$L$2413='MDOT FTA Detail'!$A66)*(Projects!$J$5:$J$2413<>'MDOT FTA Detail'!$A$171)*(Projects!$Q$5:Q$2413))","v":0},{"$f":"SUMPRODUCT((Projects!$A$5:$A$2413='MDOT FTA Detail'!$J$3)*(Projects!$C$5:$C$2413='MDOT FTA Detail'!$C$4)*(Projects!$L$5:$L$2413='MDOT FTA Detail'!$A66)*(Projects!$J$5:$J$2413<>'MDOT FTA Detail'!$A$171)*(Projects!$K$5:$K$2413))","v":0},{"$f":"L66-J66","v":0},{"$f":"SUMPRODUCT((Projects!$A$5:$A$2413='MDOT FTA Detail'!$J$3)*(Projects!$C$5:$C$2413='MDOT FTA Detail'!$C$4)*(Projects!$L$5:$L$2413='MDOT FTA Detail'!$A66)*(Projects!$J$5:$J$2413<>'MDOT FTA Detail'!$A$171)*(Projects!$Q$5:$Q$2413))","v":0},{"$f":"SUMPRODUCT((Projects!$A$5:$A$2413='MDOT FTA Detail'!$M$3)*(Projects!$C$5:$C$2413='MDOT FTA Detail'!$C$4)*(Projects!$L$5:$L$2413='MDOT FTA Detail'!$A66)*(Projects!$J$5:$J$2413<>'MDOT FTA Detail'!$A$171)*(Projects!$K$5:$K$2413))","v":0},{"$f":"O66-M66","v":0},{"$f":"SUMPRODUCT((Projects!$A$5:$A$2413='MDOT FTA Detail'!$M$3)*(Projects!$C$5:$C$2413='MDOT FTA Detail'!$C$4)*(Projects!$L$5:$L$2413='MDOT FTA Detail'!$A66)*(Projects!$J$5:$J$2413<>'MDOT FTA Detail'!$A$171)*(Projects!$Q$5:$Q$2413))","v":0}]
["RP","Research Project","MDOT FA",{"$f":"SUMPRODUCT((Projects!$A$5:$A$2413='MDOT FTA Detail'!$D$3)*(Projects!$C$5:$C$2413='MDOT FTA Detail'!$C$4)*(Projects!$L$5:$L$2413='MDOT FTA Detail'!$A67)*(Projects!$J$5:$J$2413<>'MDOT FTA Detail'!$A$171)*(Projects!$K$5:K$2413))","v":0},0,{"$f":"SUMPRODUCT((Projects!$A$5:$A$2413='MDOT FTA Detail'!$D$3)*(Projects!$C$5:$C$2413='MDOT FTA Detail'!$C$4)*(Projects!$L$5:$L$2413='MDOT FTA Detail'!$A67)*(Projects!$J$5:$J$2413<>'MDOT FTA Detail'!$A$171)*(Projects!$Q$5:Q$2413))","v":0},{"$f":"SUMPRODUCT((Projects!$A$5:$A$2413='MDOT FTA Detail'!$G$3)*(Projects!$C$5:$C$2413='MDOT FTA Detail'!$C$4)*(Projects!$L$5:$L$2413='MDOT FTA Detail'!$A67)*(Projects!$J$5:$J$2413<>'MDOT FTA Detail'!$A$171)*(Projects!$K$5:K$2413))","v":0},0,{"$f":"SUMPRODUCT((Projects!$A$5:$A$2413='MDOT FTA Detail'!$G$3)*(Projects!$C$5:$C$2413='MDOT FTA Detail'!$C$4)*(Projects!$L$5:$L$2413='MDOT FTA Detail'!$A67)*(Projects!$J$5:$J$2413<>'MDOT FTA Detail'!$A$171)*(Projects!$Q$5:Q$2413))","v":0},{"$f":"SUMPRODUCT((Projects!$A$5:$A$2413='MDOT FTA Detail'!$J$3)*(Projects!$C$5:$C$2413='MDOT FTA Detail'!$C$4)*(Projects!$L$5:$L$2413='MDOT FTA Detail'!$A67)*(Projects!$J$5:$J$2413<>'MDOT FTA Detail'!$A$171)*(Projects!$K$5:$K$2413))","v":0},0,{"$f":"SUMPRODUCT((Projects!$A$5:$A$2413='MDOT FTA Detail'!$J$3)*(Projects!$C$5:$C$2413='MDOT FTA Detail'!$C$4)*(Projects!$L$5:$L$2413='MDOT FTA Detail'!$A67)*(Projects!$J$5:$J$2413<>'MDOT FTA Detail'!$A$171)*(Projects!$Q$5:$Q$2413))","v":0},{"$f":"SUMPRODUCT((Projects!$A$5:$A$2413='MDOT FTA Detail'!$M$3)*(Projects!$C$5:$C$2413='MDOT FTA Detail'!$C$4)*(Projects!$L$5:$L$2413='MDOT FTA Detail'!$A67)*(Projects!$J$5:$J$2413<>'MDOT FTA Detail'!$A$171)*(Projects!$K$5:$K$2413))","v":0},0,{"$f":"SUMPRODUCT((Projects!$A$5:$A$2413='MDOT FTA Detail'!$M$3)*(Projects!$C$5:$C$2413='MDOT FTA Detail'!$C$4)*(Projects!$L$5:$L$2413='MDOT FTA Detail'!$A67)*(Projects!$J$5:$J$2413<>'MDOT FTA Detail'!$A$171)*(Projects!$Q$5:$Q$2413))","v":0}]
["RPH","American Recovery and Reinvestment Act","MDOT FA",{"$f":"SUMPRODUCT((Projects!$A$5:$A$2413='MDOT FTA Detail'!$D$3)*(Projects!$C$5:$C$2413='MDOT FTA Detail'!$C$4)*(Projects!$L$5:$L$2413='MDOT FTA Detail'!$A68)*(Projects!$J$5:$J$2413<>'MDOT FTA Detail'!$A$171)*(Projects!$K$5:K$2413))","v":0},0,{"$f":"SUMPRODUCT((Projects!$A$5:$A$2413='MDOT FTA Detail'!$D$3)*(Projects!$C$5:$C$2413='MDOT FTA Detail'!$C$4)*(Projects!$L$5:$L$2413='MDOT FTA Detail'!$A68)*(Projects!$J$5:$J$2413<>'MDOT FTA Detail'!$A$171)*(Projects!$Q$5:Q$2413))","v":0},{"$f":"SUMPRODUCT((Projects!$A$5:$A$2413='MDOT FTA Detail'!$G$3)*(Projects!$C$5:$C$2413='MDOT FTA Detail'!$C$4)*(Projects!$L$5:$L$2413='MDOT FTA Detail'!$A68)*(Projects!$J$5:$J$2413<>'MDOT FTA Detail'!$A$171)*(Projects!$K$5:K$2413))","v":0},0,{"$f":"SUMPRODUCT((Projects!$A$5:$A$2413='MDOT FTA Detail'!$G$3)*(Projects!$C$5:$C$2413='MDOT FTA Detail'!$C$4)*(Projects!$L$5:$L$2413='MDOT FTA Detail'!$A68)*(Projects!$J$5:$J$2413<>'MDOT FTA Detail'!$A$171)*(Projects!$Q$5:Q$2413))","v":0},{"$f":"SUMPRODUCT((Projects!$A$5:$A$2413='MDOT FTA Detail'!$J$3)*(Projects!$C$5:$C$2413='MDOT FTA Detail'!$C$4)*(Projects!$L$5:$L$2413='MDOT FTA Detail'!$A68)*(Projects!$J$5:$J$2413<>'MDOT FTA Detail'!$A$171)*(Projects!$K$5:$K$2413))","v":0},0,{"$f":"SUMPRODUCT((Projects!$A$5:$A$2413='MDOT FTA Detail'!$J$3)*(Projects!$C$5:$C$2413='MDOT FTA Detail'!$C$4)*(Projects!$L$5:$L$2413='MDOT FTA Detail'!$A68)*(Projects!$J$5:$J$2413<>'MDOT FTA Detail'!$A$171)*(Projects!$Q$5:$Q$2413))","v":0},{"$f":"SUMPRODUCT((Projects!$A$5:$A$2413='MDOT FTA Detail'!$M$3)*(Projects!$C$5:$C$2413='MDOT FTA Detail'!$C$4)*(Projects!$L$5:$L$2413='MDOT FTA Detail'!$A68)*(Projects!$J$5:$J$2413<>'MDOT FTA Detail'!$A$171)*(Projects!$K$5:$K$2413))","v":0},0,{"$f":"SUMPRODUCT((Projects!$A$5:$A$2413='MDOT FTA Detail'!$M$3)*(Projects!$C$5:$C$2413='MDOT FTA Detail'!$C$4)*(Projects!$L$5:$L$2413='MDOT FTA Detail'!$A68)*(Projects!$J$5:$J$2413<>'MDOT FTA Detail'!$A$171)*(Projects!$Q$5:$Q$2413))","v":0}]
["SBD","Scenic Byways - Discretionary","MDOT FA",{"$f":"SUMPRODUCT((Projects!$A$5:$A$2413='MDOT FTA Detail'!$D$3)*(Projects!$C$5:$C$2413='MDOT FTA Detail'!$C$4)*(Projects!$L$5:$L$2413='MDOT FTA Detail'!$A69)*(Projects!$J$5:$J$2413<>'MDOT FTA Detail'!$A$171)*(Projects!$K$5:K$2413))","v":0},0,{"$f":"SUMPRODUCT((Projects!$A$5:$A$2413='MDOT FTA Detail'!$D$3)*(Projects!$C$5:$C$2413='MDOT FTA Detail'!$C$4)*(Projects!$L$5:$L$2413='MDOT FTA Detail'!$A69)*(Projects!$J$5:$J$2413<>'MDOT FTA Detail'!$A$171)*(Projects!$Q$5:Q$2413))","v":0},{"$f":"SUMPRODUCT((Projects!$A$5:$A$2413='MDOT FTA Detail'!$G$3)*(Projects!$C$5:$C$2413='MDOT FTA Detail'!$C$4)*(Projects!$L$5:$L$2413='MDOT FTA Detail'!$A69)*(Projects!$J$5:$J$2413<>'MDOT FTA Detail'!$A$171)*(Projects!$K$5:K$2413))","v":0},0,{"$f":"SUMPRODUCT((Projects!$A$5:$A$2413='MDOT FTA Detail'!$G$3)*(Projects!$C$5:$C$2413='MDOT FTA Detail'!$C$4)*(Projects!$L$5:$L$2413='MDOT FTA Detail'!$A69)*(Projects!$J$5:$J$2413<>'MDOT FTA Detail'!$A$171)*(Projects!$Q$5:Q$2413))","v":0},{"$f":"SUMPRODUCT((Projects!$A$5:$A$2413='MDOT FTA Detail'!$J$3)*(Projects!$C$5:$C$2413='MDOT FTA Detail'!$C$4)*(Projects!$L$5:$L$2413='MDOT FTA Detail'!$A69)*(Projects!$J$5:$J$2413<>'MDOT FTA Detail'!$A$171)*(Projects!$K$5:$K$2413))","v":0},0,{"$f":"SUMPRODUCT((Projects!$A$5:$A$2413='MDOT FTA Detail'!$J$3)*(Projects!$C$5:$C$2413='MDOT FTA Detail'!$C$4)*(Projects!$L$5:$L$2413='MDOT FTA Detail'!$A69)*(Projects!$J$5:$J$2413<>'MDOT FTA Detail'!$A$171)*(Projects!$Q$5:$Q$2413))","v":0},{"$f":"SUMPRODUCT((Projects!$A$5:$A$2413='MDOT FTA Detail'!$M$3)*(Projects!$C$5:$C$2413='MDOT FTA Detail'!$C$4)*(Projects!$L$5:$L$2413='MDOT FTA Detail'!$A69)*(Projects!$J$5:$J$2413<>'MDOT FTA Detail'!$A$171)*(Projects!$K$5:$K$2413))","v":0},0,{"$f":"SUMPRODUCT((Projects!$A$5:$A$2413='MDOT FTA Detail'!$M$3)*(Projects!$C$5:$C$2413='MDOT FTA Detail'!$C$4)*(Projects!$L$5:$L$2413='MDOT FTA Detail'!$A69)*(Projects!$J$5:$J$2413<>'MDOT FTA Detail'!$A$171)*(Projects!$Q$5:$Q$2413))","v":0}]
["SIB","State Infrastructure Bank","MDOT FA",{"$f":"SUMPRODUCT((Projects!$A$5:$A$2413='MDOT FTA Detail'!$D$3)*(Projects!$C$5:$C$2413='MDOT FTA Detail'!$C$4)*(Projects!$L$5:$L$2413='MDOT FTA Detail'!$A70)*(Projects!$J$5:$J$2413<>'MDOT FTA Detail'!$A$171)*(Projects!$K$5:K$2413))","v":0},0,{"$f":"SUMPRODUCT((Projects!$A$5:$A$2413='MDOT FTA Detail'!$D$3)*(Projects!$C$5:$C$2413='MDOT FTA Detail'!$C$4)*(Projects!$L$5:$L$2413='MDOT FTA Detail'!$A70)*(Projects!$J$5:$J$2413<>'MDOT FTA Detail'!$A$171)*(Projects!$Q$5:Q$2413))","v":0},{"$f":"SUMPRODUCT((Projects!$A$5:$A$2413='MDOT FTA Detail'!$G$3)*(Projects!$C$5:$C$2413='MDOT FTA Detail'!$C$4)*(Projects!$L$5:$L$2413='MDOT FTA Detail'!$A70)*(Projects!$J$5:$J$2413<>'MDOT FTA Detail'!$A$171)*(Projects!$K$5:K$2413))","v":0},0,{"$f":"SUMPRODUCT((Projects!$A$5:$A$2413='MDOT FTA Detail'!$G$3)*(Projects!$C$5:$C$2413='MDOT FTA Detail'!$C$4)*(Projects!$L$5:$L$2413='MDOT FTA Detail'!$A70)*(Projects!$J$5:$J$2413<>'MDOT FTA Detail'!$A$171)*(Projects!$Q$5:Q$2413))","v":0},{"$f":"SUMPRODUCT((Projects!$A$5:$A$2413='MDOT FTA Detail'!$J$3)*(Projects!$C$5:$C$2413='MDOT FTA Detail'!$C$4)*(Projects!$L$5:$L$2413='MDOT FTA Detail'!$A70)*(Projects!$J$5:$J$2413<>'MDOT FTA Detail'!$A$171)*(Projects!$K$5:$K$2413))","v":0},0,{"$f":"SUMPRODUCT((Projects!$A$5:$A$2413='MDOT FTA Detail'!$J$3)*(Projects!$C$5:$C$2413='MDOT FTA Detail'!$C$4)*(Projects!$L$5:$L$2413='MDOT FTA Detail'!$A70)*(Projects!$J$5:$J$2413<>'MDOT FTA Detail'!$A$171)*(Projects!$Q$5:$Q$2413))","v":0},{"$f":"SUMPRODUCT((Projects!$A$5:$A$2413='MDOT FTA Detail'!$M$3)*(Projects!$C$5:$C$2413='MDOT FTA Detail'!$C$4)*(Projects!$L$5:$L$2413='MDOT FTA Detail'!$A70)*(Projects!$J$5:$J$2413<>'MDOT FTA Detail'!$A$171)*(Projects!$K$5:$K$2413))","v":0},0,{"$f":"SUMPRODUCT((Projects!$A$5:$A$2413='MDOT FTA Detail'!$M$3)*(Projects!$C$5:$C$2413='MDOT FTA Detail'!$C$4)*(Projects!$L$5:$L$2413='MDOT FTA Detail'!$A70)*(Projects!$J$5:$J$2413<>'MDOT FTA Detail'!$A$171)*(Projects!$Q$5:$Q$2413))","v":0}]
["SLG","Surface Transportation Safety","MDOT FA",{"$f":"SUMPRODUCT((Projects!$A$5:$A$2413='MDOT FTA Detail'!$D$3)*(Projects!$C$5:$C$2413='MDOT FTA Detail'!$C$4)*(Projects!$L$5:$L$2413='MDOT FTA Detail'!$A71)*(Projects!$J$5:$J$2413<>'MDOT FTA Detail'!$A$171)*(Projects!$K$5:K$2413))","v":0},0,{"$f":"SUMPRODUCT((Projects!$A$5:$A$2413='MDOT FTA Detail'!$D$3)*(Projects!$C$5:$C$2413='MDOT FTA Detail'!$C$4)*(Projects!$L$5:$L$2413='MDOT FTA Detail'!$A71)*(Projects!$J$5:$J$2413<>'MDOT FTA Detail'!$A$171)*(Projects!$Q$5:Q$2413))","v":0},{"$f":"SUMPRODUCT((Projects!$A$5:$A$2413='MDOT FTA Detail'!$G$3)*(Projects!$C$5:$C$2413='MDOT FTA Detail'!$C$4)*(Projects!$L$5:$L$2413='MDOT FTA Detail'!$A71)*(Projects!$J$5:$J$2413<>'MDOT FTA Detail'!$A$171)*(Projects!$K$5:K$2413))","v":0},0,{"$f":"SUMPRODUCT((Projects!$A$5:$A$2413='MDOT FTA Detail'!$G$3)*(Projects!$C$5:$C$2413='MDOT FTA Detail'!$C$4)*(Projects!$L$5:$L$2413='MDOT FTA Detail'!$A71)*(Projects!$J$5:$J$2413<>'MDOT FTA Detail'!$A$171)*(Projects!$Q$5:Q$2413))","v":0},{"$f":"SUMPRODUCT((Projects!$A$5:$A$2413='MDOT FTA Detail'!$J$3)*(Projects!$C$5:$C$2413='MDOT FTA Detail'!$C$4)*(Projects!$L$5:$L$2413='MDOT FTA Detail'!$A71)*(Projects!$J$5:$J$2413<>'MDOT FTA Detail'!$A$171)*(Projects!$K$5:$K$2413))","v":0},0,{"$f":"SUMPRODUCT((Projects!$A$5:$A$2413='MDOT FTA Detail'!$J$3)*(Projects!$C$5:$C$2413='MDOT FTA Detail'!$C$4)*(Projects!$L$5:$L$2413='MDOT FTA Detail'!$A71)*(Projects!$J$5:$J$2413<>'MDOT FTA Detail'!$A$171)*(Projects!$Q$5:$Q$2413))","v":0},{"$f":"SUMPRODUCT((Projects!$A$5:$A$2413='MDOT FTA Detail'!$M$3)*(Projects!$C$5:$C$2413='MDOT FTA Detail'!$C$4)*(Projects!$L$5:$L$2413='MDOT FTA Detail'!$A71)*(Projects!$J$5:$J$2413<>'MDOT FTA Detail'!$A$171)*(Projects!$K$5:$K$2413))","v":0},0,{"$f":"SUMPRODUCT((Projects!$A$5:$A$2413='MDOT FTA Detail'!$M$3)*(Projects!$C$5:$C$2413='MDOT FTA Detail'!$C$4)*(Projects!$L$5:$L$2413='MDOT FTA Detail'!$A71)*(Projects!$J$5:$J$2413<>'MDOT FTA Detail'!$A$171)*(Projects!$Q$5:$Q$2413))","v":0}]
["SRSE","Surface Transportation Safety Highway Crossing Hazard Elimination","MDOT FA",{"$f":"SUMPRODUCT((Projects!$A$5:$A$2413='MDOT FTA Detail'!$D$3)*(Projects!$C$5:$C$2413='MDOT FTA Detail'!$C$4)*(Projects!$L$5:$L$2413='MDOT FTA Detail'!$A72)*(Projects!$J$5:$J$2413<>'MDOT FTA Detail'!$A$171)*(Projects!$K$5:K$2413))","v":0},0,{"$f":"SUMPRODUCT((Projects!$A$5:$A$2413='MDOT FTA Detail'!$D$3)*(Projects!$C$5:$C$2413='MDOT FTA Detail'!$C$4)*(Projects!$L$5:$L$2413='MDOT FTA Detail'!$A72)*(Projects!$J$5:$J$2413<>'MDOT FTA Detail'!$A$171)*(Projects!$Q$5:Q$2413))","v":0},{"$f":"SUMPRODUCT((Projects!$A$5:$A$2413='MDOT FTA Detail'!$G$3)*(Projects!$C$5:$C$2413='MDOT FTA Detail'!$C$4)*(Projects!$L$5:$L$2413='MDOT FTA Detail'!$A72)*(Projects!$J$5:$J$2413<>'MDOT FTA Detail'!$A$171)*(Projects!$K$5:K$2413))","v":0},0,{"$f":"SUMPRODUCT((Projects!$A$5:$A$2413='MDOT FTA Detail'!$G$3)*(Projects!$C$5:$C$2413='MDOT FTA Detail'!$C$4)*(Projects!$L$5:$L$2413='MDOT FTA Detail'!$A72)*(Projects!$J$5:$J$2413<>'MDOT FTA Detail'!$A$171)*(Projects!$Q$5:Q$2413))","v":0},{"$f":"SUMPRODUCT((Projects!$A$5:$A$2413='MDOT FTA Detail'!$J$3)*(Projects!$C$5:$C$2413='MDOT FTA Detail'!$C$4)*(Projects!$L$5:$L$2413='MDOT FTA Detail'!$A72)*(Projects!$J$5:$J$2413<>'MDOT FTA Detail'!$A$171)*(Projects!$K$5:$K$2413))","v":0},0,{"$f":"SUMPRODUCT((Projects!$A$5:$A$2413='MDOT FTA Detail'!$J$3)*(Projects!$C$5:$C$2413='MDOT FTA Detail'!$C$4)*(Projects!$L$5:$L$2413='MDOT FTA Detail'!$A72)*(Projects!$J$5:$J$2413<>'MDOT FTA Detail'!$A$171)*(Projects!$Q$5:$Q$2413))","v":0},{"$f":"SUMPRODUCT((Projects!$A$5:$A$2413='MDOT FTA Detail'!$M$3)*(Projects!$C$5:$C$2413='MDOT FTA Detail'!$C$4)*(Projects!$L$5:$L$2413='MDOT FTA Detail'!$A72)*(Projects!$J$5:$J$2413<>'MDOT FTA Detail'!$A$171)*(Projects!$K$5:$K$2413))","v":0},0,{"$f":"SUMPRODUCT((Projects!$A$5:$A$2413='MDOT FTA Detail'!$M$3)*(Projects!$C$5:$C$2413='MDOT FTA Detail'!$C$4)*(Projects!$L$5:$L$2413='MDOT FTA Detail'!$A72)*(Projects!$J$5:$J$2413<>'MDOT FTA Detail'!$A$171)*(Projects!$Q$5:$Q$2413))","v":0}]
["SRHG","Surface Transportation Safety Highway Crossing Protection Devices 100%","MDOT FA",{"$f":"SUMPRODUCT((Projects!$A$5:$A$2413='MDOT FTA Detail'!$D$3)*(Projects!$C$5:$C$2413='MDOT FTA Detail'!$C$4)*(Projects!$L$5:$L$2413='MDOT FTA Detail'!$A73)*(Projects!$J$5:$J$2413<>'MDOT FTA Detail'!$A$171)*(Projects!$K$5:K$2413))","v":0},{"$f":"F73-D73","v":0},{"$f":"SUMPRODUCT((Projects!$A$5:$A$2413='MDOT FTA Detail'!$D$3)*(Projects!$C$5:$C$2413='MDOT FTA Detail'!$C$4)*(Projects!$L$5:$L$2413='MDOT FTA Detail'!$A73)*(Projects!$J$5:$J$2413<>'MDOT FTA Detail'!$A$171)*(Projects!$Q$5:Q$2413))","v":0},{"$f":"SUMPRODUCT((Projects!$A$5:$A$2413='MDOT FTA Detail'!$G$3)*(Projects!$C$5:$C$2413='MDOT FTA Detail'!$C$4)*(Projects!$L$5:$L$2413='MDOT FTA Detail'!$A73)*(Projects!$J$5:$J$2413<>'MDOT FTA Detail'!$A$171)*(Projects!$K$5:K$2413))","v":0},{"$f":"I73-G73","v":0},{"$f":"SUMPRODUCT((Projects!$A$5:$A$2413='MDOT FTA Detail'!$G$3)*(Projects!$C$5:$C$2413='MDOT FTA Detail'!$C$4)*(Projects!$L$5:$L$2413='MDOT FTA Detail'!$A73)*(Projects!$J$5:$J$2413<>'MDOT FTA Detail'!$A$171)*(Projects!$Q$5:Q$2413))","v":0},{"$f":"SUMPRODUCT((Projects!$A$5:$A$2413='MDOT FTA Detail'!$J$3)*(Projects!$C$5:$C$2413='MDOT FTA Detail'!$C$4)*(Projects!$L$5:$L$2413='MDOT FTA Detail'!$A73)*(Projects!$J$5:$J$2413<>'MDOT FTA Detail'!$A$171)*(Projects!$K$5:$K$2413))","v":0},{"$f":"L73-J73","v":0},{"$f":"SUMPRODUCT((Projects!$A$5:$A$2413='MDOT FTA Detail'!$J$3)*(Projects!$C$5:$C$2413='MDOT FTA Detail'!$C$4)*(Projects!$L$5:$L$2413='MDOT FTA Detail'!$A73)*(Projects!$J$5:$J$2413<>'MDOT FTA Detail'!$A$171)*(Projects!$Q$5:$Q$2413))","v":0},{"$f":"SUMPRODUCT((Projects!$A$5:$A$2413='MDOT FTA Detail'!$M$3)*(Projects!$C$5:$C$2413='MDOT FTA Detail'!$C$4)*(Projects!$L$5:$L$2413='MDOT FTA Detail'!$A73)*(Projects!$J$5:$J$2413<>'MDOT FTA Detail'!$A$171)*(Projects!$K$5:$K$2413))","v":0},{"$f":"O73-M73","v":0},{"$f":"SUMPRODUCT((Projects!$A$5:$A$2413='MDOT FTA Detail'!$M$3)*(Projects!$C$5:$C$2413='MDOT FTA Detail'!$C$4)*(Projects!$L$5:$L$2413='MDOT FTA Detail'!$A73)*(Projects!$J$5:$J$2413<>'MDOT FTA Detail'!$A$171)*(Projects!$Q$5:$Q$2413))","v":0}]
["SRPG","Safe Routes to School - Either - SAFETEA-LU","MDOT FA",{"$f":"SUMPRODUCT((Projects!$A$5:$A$2413='MDOT FTA Detail'!$D$3)*(Projects!$C$5:$C$2413='MDOT FTA Detail'!$C$4)*(Projects!$L$5:$L$2413='MDOT FTA Detail'!$A74)*(Projects!$J$5:$J$2413<>'MDOT FTA Detail'!$A$171)*(Projects!$K$5:K$2413))","v":0},{"$f":"F74-D74","v":0},{"$f":"SUMPRODUCT((Projects!$A$5:$A$2413='MDOT FTA Detail'!$D$3)*(Projects!$C$5:$C$2413='MDOT FTA Detail'!$C$4)*(Projects!$L$5:$L$2413='MDOT FTA Detail'!$A74)*(Projects!$J$5:$J$2413<>'MDOT FTA Detail'!$A$171)*(Projects!$Q$5:Q$2413))","v":0},{"$f":"SUMPRODUCT((Projects!$A$5:$A$2413='MDOT FTA Detail'!$G$3)*(Projects!$C$5:$C$2413='MDOT FTA Detail'!$C$4)*(Projects!$L$5:$L$2413='MDOT FTA Detail'!$A74)*(Projects!$J$5:$J$2413<>'MDOT FTA Detail'!$A$171)*(Projects!$K$5:K$2413))","v":0},{"$f":"I74-G74","v":0},{"$f":"SUMPRODUCT((Projects!$A$5:$A$2413='MDOT FTA Detail'!$G$3)*(Projects!$C$5:$C$2413='MDOT FTA Detail'!$C$4)*(Projects!$L$5:$L$2413='MDOT FTA Detail'!$A74)*(Projects!$J$5:$J$2413<>'MDOT FTA Detail'!$A$171)*(Projects!$Q$5:Q$2413))","v":0},{"$f":"SUMPRODUCT((Projects!$A$5:$A$2413='MDOT FTA Detail'!$J$3)*(Projects!$C$5:$C$2413='MDOT FTA Detail'!$C$4)*(Projects!$L$5:$L$2413='MDOT FTA Detail'!$A74)*(Projects!$J$5:$J$2413<>'MDOT FTA Detail'!$A$171)*(Projects!$K$5:$K$2413))","v":0},{"$f":"L74-J74","v":0},{"$f":"SUMPRODUCT((Projects!$A$5:$A$2413='MDOT FTA Detail'!$J$3)*(Projects!$C$5:$C$2413='MDOT FTA Detail'!$C$4)*(Projects!$L$5:$L$2413='MDOT FTA Detail'!$A74)*(Projects!$J$5:$J$2413<>'MDOT FTA Detail'!$A$171)*(Projects!$Q$5:$Q$2413))","v":0},{"$f":"SUMPRODUCT((Projects!$A$5:$A$2413='MDOT FTA Detail'!$M$3)*(Projects!$C$5:$C$2413='MDOT FTA Detail'!$C$4)*(Projects!$L$5:$L$2413='MDOT FTA Detail'!$A74)*(Projects!$J$5:$J$2413<>'MDOT FTA Detail'!$A$171)*(Projects!$K$5:$K$2413))","v":0},{"$f":"O74-M74","v":0},{"$f":"SUMPRODUCT((Projects!$A$5:$A$2413='MDOT FTA Detail'!$M$3)*(Projects!$C$5:$C$2413='MDOT FTA Detail'!$C$4)*(Projects!$L$5:$L$2413='MDOT FTA Detail'!$A74)*(Projects!$J$5:$J$2413<>'MDOT FTA Detail'!$A$171)*(Projects!$Q$5:$Q$2413))","v":0}]
["SRSI","Safe Routes to School - Infrastructure - SAFETEA-LU","MDOT FA",{"$f":"SUMPRODUCT((Projects!$A$5:$A$2413='MDOT FTA Detail'!$D$3)*(Projects!$C$5:$C$2413='MDOT FTA Detail'!$C$4)*(Projects!$L$5:$L$2413='MDOT FTA Detail'!$A75)*(Projects!$J$5:$J$2413<>'MDOT FTA Detail'!$A$171)*(Projects!$K$5:K$2413))","v":0},{"$f":"F75-D75","v":0},{"$f":"SUMPRODUCT((Projects!$A$5:$A$2413='MDOT FTA Detail'!$D$3)*(Projects!$C$5:$C$2413='MDOT FTA Detail'!$C$4)*(Projects!$L$5:$L$2413='MDOT FTA Detail'!$A75)*(Projects!$J$5:$J$2413<>'MDOT FTA Detail'!$A$171)*(Projects!$Q$5:Q$2413))","v":0},{"$f":"SUMPRODUCT((Projects!$A$5:$A$2413='MDOT FTA Detail'!$G$3)*(Projects!$C$5:$C$2413='MDOT FTA Detail'!$C$4)*(Projects!$L$5:$L$2413='MDOT FTA Detail'!$A75)*(Projects!$J$5:$J$2413<>'MDOT FTA Detail'!$A$171)*(Projects!$K$5:K$2413))","v":0},{"$f":"I75-G75","v":0},{"$f":"SUMPRODUCT((Projects!$A$5:$A$2413='MDOT FTA Detail'!$G$3)*(Projects!$C$5:$C$2413='MDOT FTA Detail'!$C$4)*(Projects!$L$5:$L$2413='MDOT FTA Detail'!$A75)*(Projects!$J$5:$J$2413<>'MDOT FTA Detail'!$A$171)*(Projects!$Q$5:Q$2413))","v":0},{"$f":"SUMPRODUCT((Projects!$A$5:$A$2413='MDOT FTA Detail'!$J$3)*(Projects!$C$5:$C$2413='MDOT FTA Detail'!$C$4)*(Projects!$L$5:$L$2413='MDOT FTA Detail'!$A75)*(Projects!$J$5:$J$2413<>'MDOT FTA Detail'!$A$171)*(Projects!$K$5:$K$2413))","v":0},{"$f":"L75-J75","v":0},{"$f":"SUMPRODUCT((Projects!$A$5:$A$2413='MDOT FTA Detail'!$J$3)*(Projects!$C$5:$C$2413='MDOT FTA Detail'!$C$4)*(Projects!$L$5:$L$2413='MDOT FTA Detail'!$A75)*(Projects!$J$5:$J$2413<>'MDOT FTA Detail'!$A$171)*(Projects!$Q$5:$Q$2413))","v":0},{"$f":"SUMPRODUCT((Projects!$A$5:$A$2413='MDOT FTA Detail'!$M$3)*(Projects!$C$5:$C$2413='MDOT FTA Detail'!$C$4)*(Projects!$L$5:$L$2413='MDOT FTA Detail'!$A75)*(Projects!$J$5:$J$2413<>'MDOT FTA Detail'!$A$171)*(Projects!$K$5:$K$2413))","v":0},{"$f":"O75-M75","v":0},{"$f":"SUMPRODUCT((Projects!$A$5:$A$2413='MDOT FTA Detail'!$M$3)*(Projects!$C$5:$C$2413='MDOT FTA Detail'!$C$4)*(Projects!$L$5:$L$2413='MDOT FTA Detail'!$A75)*(Projects!$J$5:$J$2413<>'MDOT FTA Detail'!$A$171)*(Projects!$Q$5:$Q$2413))","v":0}]
["SRSN","Safe Routes to School - Non-infrastructure - SAFETEA-LU","MDOT FA",{"$f":"SUMPRODUCT((Projects!$A$5:$A$2413='MDOT FTA Detail'!$D$3)*(Projects!$C$5:$C$2413='MDOT FTA Detail'!$C$4)*(Projects!$L$5:$L$2413='MDOT FTA Detail'!$A76)*(Projects!$J$5:$J$2413<>'MDOT FTA Detail'!$A$171)*(Projects!$K$5:K$2413))","v":0},0,{"$f":"SUMPRODUCT((Projects!$A$5:$A$2413='MDOT FTA Detail'!$D$3)*(Projects!$C$5:$C$2413='MDOT FTA Detail'!$C$4)*(Projects!$L$5:$L$2413='MDOT FTA Detail'!$A76)*(Projects!$J$5:$J$2413<>'MDOT FTA Detail'!$A$171)*(Projects!$Q$5:Q$2413))","v":0},{"$f":"SUMPRODUCT((Projects!$A$5:$A$2413='MDOT FTA Detail'!$G$3)*(Projects!$C$5:$C$2413='MDOT FTA Detail'!$C$4)*(Projects!$L$5:$L$2413='MDOT FTA Detail'!$A76)*(Projects!$J$5:$J$2413<>'MDOT FTA Detail'!$A$171)*(Projects!$K$5:K$2413))","v":0},0,{"$f":"SUMPRODUCT((Projects!$A$5:$A$2413='MDOT FTA Detail'!$G$3)*(Projects!$C$5:$C$2413='MDOT FTA Detail'!$C$4)*(Projects!$L$5:$L$2413='MDOT FTA Detail'!$A76)*(Projects!$J$5:$J$2413<>'MDOT FTA Detail'!$A$171)*(Projects!$Q$5:Q$2413))","v":0},{"$f":"SUMPRODUCT((Projects!$A$5:$A$2413='MDOT FTA Detail'!$J$3)*(Projects!$C$5:$C$2413='MDOT FTA Detail'!$C$4)*(Projects!$L$5:$L$2413='MDOT FTA Detail'!$A76)*(Projects!$J$5:$J$2413<>'MDOT FTA Detail'!$A$171)*(Projects!$K$5:$K$2413))","v":0},0,{"$f":"SUMPRODUCT((Projects!$A$5:$A$2413='MDOT FTA Detail'!$J$3)*(Projects!$C$5:$C$2413='MDOT FTA Detail'!$C$4)*(Projects!$L$5:$L$2413='MDOT FTA Detail'!$A76)*(Projects!$J$5:$J$2413<>'MDOT FTA Detail'!$A$171)*(Projects!$Q$5:$Q$2413))","v":0},{"$f":"SUMPRODUCT((Projects!$A$5:$A$2413='MDOT FTA Detail'!$M$3)*(Projects!$C$5:$C$2413='MDOT FTA Detail'!$C$4)*(Projects!$L$5:$L$2413='MDOT FTA Detail'!$A76)*(Projects!$J$5:$J$2413<>'MDOT FTA Detail'!$A$171)*(Projects!$K$5:$K$2413))","v":0},0,{"$f":"SUMPRODUCT((Projects!$A$5:$A$2413='MDOT FTA Detail'!$M$3)*(Projects!$C$5:$C$2413='MDOT FTA Detail'!$C$4)*(Projects!$L$5:$L$2413='MDOT FTA Detail'!$A76)*(Projects!$J$5:$J$2413<>'MDOT FTA Detail'!$A$171)*(Projects!$Q$5:$Q$2413))","v":0}]
["SST","Supportive Services Training","MDOT FA",{"$f":"SUMPRODUCT((Projects!$A$5:$A$2413='MDOT FTA Detail'!$D$3)*(Projects!$C$5:$C$2413='MDOT FTA Detail'!$C$4)*(Projects!$L$5:$L$2413='MDOT FTA Detail'!$A77)*(Projects!$J$5:$J$2413<>'MDOT FTA Detail'!$A$171)*(Projects!$K$5:K$2413))","v":0},0,{"$f":"SUMPRODUCT((Projects!$A$5:$A$2413='MDOT FTA Detail'!$D$3)*(Projects!$C$5:$C$2413='MDOT FTA Detail'!$C$4)*(Projects!$L$5:$L$2413='MDOT FTA Detail'!$A77)*(Projects!$J$5:$J$2413<>'MDOT FTA Detail'!$A$171)*(Projects!$Q$5:Q$2413))","v":0},{"$f":"SUMPRODUCT((Projects!$A$5:$A$2413='MDOT FTA Detail'!$G$3)*(Projects!$C$5:$C$2413='MDOT FTA Detail'!$C$4)*(Projects!$L$5:$L$2413='MDOT FTA Detail'!$A77)*(Projects!$J$5:$J$2413<>'MDOT FTA Detail'!$A$171)*(Projects!$K$5:K$2413))","v":0},0,{"$f":"SUMPRODUCT((Projects!$A$5:$A$2413='MDOT FTA Detail'!$G$3)*(Projects!$C$5:$C$2413='MDOT FTA Detail'!$C$4)*(Projects!$L$5:$L$2413='MDOT FTA Detail'!$A77)*(Projects!$J$5:$J$2413<>'MDOT FTA Detail'!$A$171)*(Projects!$Q$5:Q$2413))","v":0},{"$f":"SUMPRODUCT((Projects!$A$5:$A$2413='MDOT FTA Detail'!$J$3)*(Projects!$C$5:$C$2413='MDOT FTA Detail'!$C$4)*(Projects!$L$5:$L$2413='MDOT FTA Detail'!$A77)*(Projects!$J$5:$J$2413<>'MDOT FTA Detail'!$A$171)*(Projects!$K$5:$K$2413))","v":0},0,{"$f":"SUMPRODUCT((Projects!$A$5:$A$2413='MDOT FTA Detail'!$J$3)*(Projects!$C$5:$C$2413='MDOT FTA Detail'!$C$4)*(Projects!$L$5:$L$2413='MDOT FTA Detail'!$A77)*(Projects!$J$5:$J$2413<>'MDOT FTA Detail'!$A$171)*(Projects!$Q$5:$Q$2413))","v":0},{"$f":"SUMPRODUCT((Projects!$A$5:$A$2413='MDOT FTA Detail'!$M$3)*(Projects!$C$5:$C$2413='MDOT FTA Detail'!$C$4)*(Projects!$L$5:$L$2413='MDOT FTA Detail'!$A77)*(Projects!$J$5:$J$2413<>'MDOT FTA Detail'!$A$171)*(Projects!$K$5:$K$2413))","v":0},0,{"$f":"SUMPRODUCT((Projects!$A$5:$A$2413='MDOT FTA Detail'!$M$3)*(Projects!$C$5:$C$2413='MDOT FTA Detail'!$C$4)*(Projects!$L$5:$L$2413='MDOT FTA Detail'!$A77)*(Projects!$J$5:$J$2413<>'MDOT FTA Detail'!$A$171)*(Projects!$Q$5:$Q$2413))","v":0}]
["ST","Surface Transportation Program (STP) - Any Area","MDOT FA",{"$f":"SUMPRODUCT((Projects!$A$5:$A$2413='MDOT FTA Detail'!$D$3)*(Projects!$C$5:$C$2413='MDOT FTA Detail'!$C$4)*(Projects!$L$5:$L$2413='MDOT FTA Detail'!$A78)*(Projects!$J$5:$J$2413<>'MDOT FTA Detail'!$A$171)*(Projects!$K$5:K$2413))","v":133721.03690000001},29652.09149999998,{"$f":"SUMPRODUCT((Projects!$A$5:$A$2413='MDOT FTA Detail'!$D$3)*(Projects!$C$5:$C$2413='MDOT FTA Detail'!$C$4)*(Projects!$L$5:$L$2413='MDOT FTA Detail'!$A78)*(Projects!$J$5:$J$2413<>'MDOT FTA Detail'!$A$171)*(Projects!$Q$5:Q$2413))","v":163373.12839999999},{"$f":"SUMPRODUCT((Projects!$A$5:$A$2413='MDOT FTA Detail'!$G$3)*(Projects!$C$5:$C$2413='MDOT FTA Detail'!$C$4)*(Projects!$L$5:$L$2413='MDOT FTA Detail'!$A78)*(Projects!$J$5:$J$2413<>'MDOT FTA Detail'!$A$171)*(Projects!$K$5:K$2413))","v":1456930},302370,{"$f":"SUMPRODUCT((Projects!$A$5:$A$2413='MDOT FTA Detail'!$G$3)*(Projects!$C$5:$C$2413='MDOT FTA Detail'!$C$4)*(Projects!$L$5:$L$2413='MDOT FTA Detail'!$A78)*(Projects!$J$5:$J$2413<>'MDOT FTA Detail'!$A$171)*(Projects!$Q$5:Q$2413))","v":1759300},{"$f":"SUMPRODUCT((Projects!$A$5:$A$2413='MDOT FTA Detail'!$J$3)*(Projects!$C$5:$C$2413='MDOT FTA Detail'!$C$4)*(Projects!$L$5:$L$2413='MDOT FTA Detail'!$A78)*(Projects!$J$5:$J$2413<>'MDOT FTA Detail'!$A$171)*(Projects!$K$5:$K$2413))","v":0},0,{"$f":"SUMPRODUCT((Projects!$A$5:$A$2413='MDOT FTA Detail'!$J$3)*(Projects!$C$5:$C$2413='MDOT FTA Detail'!$C$4)*(Projects!$L$5:$L$2413='MDOT FTA Detail'!$A78)*(Projects!$J$5:$J$2413<>'MDOT FTA Detail'!$A$171)*(Projects!$Q$5:$Q$2413))","v":0},{"$f":"SUMPRODUCT((Projects!$A$5:$A$2413='MDOT FTA Detail'!$M$3)*(Projects!$C$5:$C$2413='MDOT FTA Detail'!$C$4)*(Projects!$L$5:$L$2413='MDOT FTA Detail'!$A78)*(Projects!$J$5:$J$2413<>'MDOT FTA Detail'!$A$171)*(Projects!$K$5:$K$2413))","v":0},0,{"$f":"SUMPRODUCT((Projects!$A$5:$A$2413='MDOT FTA Detail'!$M$3)*(Projects!$C$5:$C$2413='MDOT FTA Detail'!$C$4)*(Projects!$L$5:$L$2413='MDOT FTA Detail'!$A78)*(Projects!$J$5:$J$2413<>'MDOT FTA Detail'!$A$171)*(Projects!$Q$5:$Q$2413))","v":0}]
["STE","STP - Enhancement","MDOT FA",{"$f":"SUMPRODUCT((Projects!$A$5:$A$2413='MDOT FTA Detail'!$D$3)*(Projects!$C$5:$C$2413='MDOT FTA Detail'!$C$4)*(Projects!$L$5:$L$2413='MDOT FTA Detail'!$A79)*(Projects!$J$5:$J$2413<>'MDOT FTA Detail'!$A$171)*(Projects!$K$5:K$2413))","v":0},0,{"$f":"SUMPRODUCT((Projects!$A$5:$A$2413='MDOT FTA Detail'!$D$3)*(Projects!$C$5:$C$2413='MDOT FTA Detail'!$C$4)*(Projects!$L$5:$L$2413='MDOT FTA Detail'!$A79)*(Projects!$J$5:$J$2413<>'MDOT FTA Detail'!$A$171)*(Projects!$Q$5:Q$2413))","v":0},{"$f":"SUMPRODUCT((Projects!$A$5:$A$2413='MDOT FTA Detail'!$G$3)*(Projects!$C$5:$C$2413='MDOT FTA Detail'!$C$4)*(Projects!$L$5:$L$2413='MDOT FTA Detail'!$A79)*(Projects!$J$5:$J$2413<>'MDOT FTA Detail'!$A$171)*(Projects!$K$5:K$2413))","v":0},0,{"$f":"SUMPRODUCT((Projects!$A$5:$A$2413='MDOT FTA Detail'!$G$3)*(Projects!$C$5:$C$2413='MDOT FTA Detail'!$C$4)*(Projects!$L$5:$L$2413='MDOT FTA Detail'!$A79)*(Projects!$J$5:$J$2413<>'MDOT FTA Detail'!$A$171)*(Projects!$Q$5:Q$2413))","v":0},{"$f":"SUMPRODUCT((Projects!$A$5:$A$2413='MDOT FTA Detail'!$J$3)*(Projects!$C$5:$C$2413='MDOT FTA Detail'!$C$4)*(Projects!$L$5:$L$2413='MDOT FTA Detail'!$A79)*(Projects!$J$5:$J$2413<>'MDOT FTA Detail'!$A$171)*(Projects!$K$5:$K$2413))","v":0},0,{"$f":"SUMPRODUCT((Projects!$A$5:$A$2413='MDOT FTA Detail'!$J$3)*(Projects!$C$5:$C$2413='MDOT FTA Detail'!$C$4)*(Projects!$L$5:$L$2413='MDOT FTA Detail'!$A79)*(Projects!$J$5:$J$2413<>'MDOT FTA Detail'!$A$171)*(Projects!$Q$5:$Q$2413))","v":0},{"$f":"SUMPRODUCT((Projects!$A$5:$A$2413='MDOT FTA Detail'!$M$3)*(Projects!$C$5:$C$2413='MDOT FTA Detail'!$C$4)*(Projects!$L$5:$L$2413='MDOT FTA Detail'!$A79)*(Projects!$J$5:$J$2413<>'MDOT FTA Detail'!$A$171)*(Projects!$K$5:$K$2413))","v":0},0,{"$f":"SUMPRODUCT((Projects!$A$5:$A$2413='MDOT FTA Detail'!$M$3)*(Projects!$C$5:$C$2413='MDOT FTA Detail'!$C$4)*(Projects!$L$5:$L$2413='MDOT FTA Detail'!$A79)*(Projects!$J$5:$J$2413<>'MDOT FTA Detail'!$A$171)*(Projects!$Q$5:$Q$2413))","v":0}]
["STG","STP - Safety - 100% Federal for ST","MDOT FA",{"$f":"SUMPRODUCT((Projects!$A$5:$A$2413='MDOT FTA Detail'!$D$3)*(Projects!$C$5:$C$2413='MDOT FTA Detail'!$C$4)*(Projects!$L$5:$L$2413='MDOT FTA Detail'!$A80)*(Projects!$J$5:$J$2413<>'MDOT FTA Detail'!$A$171)*(Projects!$K$5:K$2413))","v":133000},0,{"$f":"SUMPRODUCT((Projects!$A$5:$A$2413='MDOT FTA Detail'!$D$3)*(Projects!$C$5:$C$2413='MDOT FTA Detail'!$C$4)*(Projects!$L$5:$L$2413='MDOT FTA Detail'!$A80)*(Projects!$J$5:$J$2413<>'MDOT FTA Detail'!$A$171)*(Projects!$Q$5:Q$2413))","v":133000},{"$f":"SUMPRODUCT((Projects!$A$5:$A$2413='MDOT FTA Detail'!$G$3)*(Projects!$C$5:$C$2413='MDOT FTA Detail'!$C$4)*(Projects!$L$5:$L$2413='MDOT FTA Detail'!$A80)*(Projects!$J$5:$J$2413<>'MDOT FTA Detail'!$A$171)*(Projects!$K$5:K$2413))","v":0},0,{"$f":"SUMPRODUCT((Projects!$A$5:$A$2413='MDOT FTA Detail'!$G$3)*(Projects!$C$5:$C$2413='MDOT FTA Detail'!$C$4)*(Projects!$L$5:$L$2413='MDOT FTA Detail'!$A80)*(Projects!$J$5:$J$2413<>'MDOT FTA Detail'!$A$171)*(Projects!$Q$5:Q$2413))","v":0},{"$f":"SUMPRODUCT((Projects!$A$5:$A$2413='MDOT FTA Detail'!$J$3)*(Projects!$C$5:$C$2413='MDOT FTA Detail'!$C$4)*(Projects!$L$5:$L$2413='MDOT FTA Detail'!$A80)*(Projects!$J$5:$J$2413<>'MDOT FTA Detail'!$A$171)*(Projects!$K$5:$K$2413))","v":0},0,{"$f":"SUMPRODUCT((Projects!$A$5:$A$2413='MDOT FTA Detail'!$J$3)*(Projects!$C$5:$C$2413='MDOT FTA Detail'!$C$4)*(Projects!$L$5:$L$2413='MDOT FTA Detail'!$A80)*(Projects!$J$5:$J$2413<>'MDOT FTA Detail'!$A$171)*(Projects!$Q$5:$Q$2413))","v":0},{"$f":"SUMPRODUCT((Projects!$A$5:$A$2413='MDOT FTA Detail'!$M$3)*(Projects!$C$5:$C$2413='MDOT FTA Detail'!$C$4)*(Projects!$L$5:$L$2413='MDOT FTA Detail'!$A80)*(Projects!$J$5:$J$2413<>'MDOT FTA Detail'!$A$171)*(Projects!$K$5:$K$2413))","v":0},0,{"$f":"SUMPRODUCT((Projects!$A$5:$A$2413='MDOT FTA Detail'!$M$3)*(Projects!$C$5:$C$2413='MDOT FTA Detail'!$C$4)*(Projects!$L$5:$L$2413='MDOT FTA Detail'!$A80)*(Projects!$J$5:$J$2413<>'MDOT FTA Detail'!$A$171)*(Projects!$Q$5:$Q$2413))","v":0}]
["STH","STP - Safety - Hazard Elimination","MDOT FA",{"$f":"SUMPRODUCT((Projects!$A$5:$A$2413='MDOT FTA Detail'!$D$3)*(Projects!$C$5:$C$2413='MDOT FTA Detail'!$C$4)*(Projects!$L$5:$L$2413='MDOT FTA Detail'!$A81)*(Projects!$J$5:$J$2413<>'MDOT FTA Detail'!$A$171)*(Projects!$K$5:K$2413))","v":0},0,{"$f":"SUMPRODUCT((Projects!$A$5:$A$2413='MDOT FTA Detail'!$D$3)*(Projects!$C$5:$C$2413='MDOT FTA Detail'!$C$4)*(Projects!$L$5:$L$2413='MDOT FTA Detail'!$A81)*(Projects!$J$5:$J$2413<>'MDOT FTA Detail'!$A$171)*(Projects!$Q$5:Q$2413))","v":0},{"$f":"SUMPRODUCT((Projects!$A$5:$A$2413='MDOT FTA Detail'!$G$3)*(Projects!$C$5:$C$2413='MDOT FTA Detail'!$C$4)*(Projects!$L$5:$L$2413='MDOT FTA Detail'!$A81)*(Projects!$J$5:$J$2413<>'MDOT FTA Detail'!$A$171)*(Projects!$K$5:K$2413))","v":0},0,{"$f":"SUMPRODUCT((Projects!$A$5:$A$2413='MDOT FTA Detail'!$G$3)*(Projects!$C$5:$C$2413='MDOT FTA Detail'!$C$4)*(Projects!$L$5:$L$2413='MDOT FTA Detail'!$A81)*(Projects!$J$5:$J$2413<>'MDOT FTA Detail'!$A$171)*(Projects!$Q$5:Q$2413))","v":0},{"$f":"SUMPRODUCT((Projects!$A$5:$A$2413='MDOT FTA Detail'!$J$3)*(Projects!$C$5:$C$2413='MDOT FTA Detail'!$C$4)*(Projects!$L$5:$L$2413='MDOT FTA Detail'!$A81)*(Projects!$J$5:$J$2413<>'MDOT FTA Detail'!$A$171)*(Projects!$K$5:$K$2413))","v":0},0,{"$f":"SUMPRODUCT((Projects!$A$5:$A$2413='MDOT FTA Detail'!$J$3)*(Projects!$C$5:$C$2413='MDOT FTA Detail'!$C$4)*(Projects!$L$5:$L$2413='MDOT FTA Detail'!$A81)*(Projects!$J$5:$J$2413<>'MDOT FTA Detail'!$A$171)*(Projects!$Q$5:$Q$2413))","v":0},{"$f":"SUMPRODUCT((Projects!$A$5:$A$2413='MDOT FTA Detail'!$M$3)*(Projects!$C$5:$C$2413='MDOT FTA Detail'!$C$4)*(Projects!$L$5:$L$2413='MDOT FTA Detail'!$A81)*(Projects!$J$5:$J$2413<>'MDOT FTA Detail'!$A$171)*(Projects!$K$5:$K$2413))","v":0},0,{"$f":"SUMPRODUCT((Projects!$A$5:$A$2413='MDOT FTA Detail'!$M$3)*(Projects!$C$5:$C$2413='MDOT FTA Detail'!$C$4)*(Projects!$L$5:$L$2413='MDOT FTA Detail'!$A81)*(Projects!$J$5:$J$2413<>'MDOT FTA Detail'!$A$171)*(Projects!$Q$5:$Q$2413))","v":0}]
["STI","STP - Interstate (90%)","MDOT FA",{"$f":"SUMPRODUCT((Projects!$A$5:$A$2413='MDOT FTA Detail'!$D$3)*(Projects!$C$5:$C$2413='MDOT FTA Detail'!$C$4)*(Projects!$L$5:$L$2413='MDOT FTA Detail'!$A82)*(Projects!$J$5:$J$2413<>'MDOT FTA Detail'!$A$171)*(Projects!$K$5:K$2413))","v":0},0,{"$f":"SUMPRODUCT((Projects!$A$5:$A$2413='MDOT FTA Detail'!$D$3)*(Projects!$C$5:$C$2413='MDOT FTA Detail'!$C$4)*(Projects!$L$5:$L$2413='MDOT FTA Detail'!$A82)*(Projects!$J$5:$J$2413<>'MDOT FTA Detail'!$A$171)*(Projects!$Q$5:Q$2413))","v":0},{"$f":"SUMPRODUCT((Projects!$A$5:$A$2413='MDOT FTA Detail'!$G$3)*(Projects!$C$5:$C$2413='MDOT FTA Detail'!$C$4)*(Projects!$L$5:$L$2413='MDOT FTA Detail'!$A82)*(Projects!$J$5:$J$2413<>'MDOT FTA Detail'!$A$171)*(Projects!$K$5:K$2413))","v":0},0,{"$f":"SUMPRODUCT((Projects!$A$5:$A$2413='MDOT FTA Detail'!$G$3)*(Projects!$C$5:$C$2413='MDOT FTA Detail'!$C$4)*(Projects!$L$5:$L$2413='MDOT FTA Detail'!$A82)*(Projects!$J$5:$J$2413<>'MDOT FTA Detail'!$A$171)*(Projects!$Q$5:Q$2413))","v":0},{"$f":"SUMPRODUCT((Projects!$A$5:$A$2413='MDOT FTA Detail'!$J$3)*(Projects!$C$5:$C$2413='MDOT FTA Detail'!$C$4)*(Projects!$L$5:$L$2413='MDOT FTA Detail'!$A82)*(Projects!$J$5:$J$2413<>'MDOT FTA Detail'!$A$171)*(Projects!$K$5:$K$2413))","v":0},0,{"$f":"SUMPRODUCT((Projects!$A$5:$A$2413='MDOT FTA Detail'!$J$3)*(Projects!$C$5:$C$2413='MDOT FTA Detail'!$C$4)*(Projects!$L$5:$L$2413='MDOT FTA Detail'!$A82)*(Projects!$J$5:$J$2413<>'MDOT FTA Detail'!$A$171)*(Projects!$Q$5:$Q$2413))","v":0},{"$f":"SUMPRODUCT((Projects!$A$5:$A$2413='MDOT FTA Detail'!$M$3)*(Projects!$C$5:$C$2413='MDOT FTA Detail'!$C$4)*(Projects!$L$5:$L$2413='MDOT FTA Detail'!$A82)*(Projects!$J$5:$J$2413<>'MDOT FTA Detail'!$A$171)*(Projects!$K$5:$K$2413))","v":0},0,{"$f":"SUMPRODUCT((Projects!$A$5:$A$2413='MDOT FTA Detail'!$M$3)*(Projects!$C$5:$C$2413='MDOT FTA Detail'!$C$4)*(Projects!$L$5:$L$2413='MDOT FTA Detail'!$A82)*(Projects!$J$5:$J$2413<>'MDOT FTA Detail'!$A$171)*(Projects!$Q$5:$Q$2413))","v":0}]
["STL","STP - Local","MDOT FA",{"$f":"SUMPRODUCT((Projects!$A$5:$A$2413='MDOT FTA Detail'!$D$3)*(Projects!$C$5:$C$2413='MDOT FTA Detail'!$C$4)*(Projects!$L$5:$L$2413='MDOT FTA Detail'!$A83)*(Projects!$J$5:$J$2413<>'MDOT FTA Detail'!$A$171)*(Projects!$K$5:K$2413))","v":16370},3630,{"$f":"SUMPRODUCT((Projects!$A$5:$A$2413='MDOT FTA Detail'!$D$3)*(Projects!$C$5:$C$2413='MDOT FTA Detail'!$C$4)*(Projects!$L$5:$L$2413='MDOT FTA Detail'!$A83)*(Projects!$J$5:$J$2413<>'MDOT FTA Detail'!$A$171)*(Projects!$Q$5:Q$2413))","v":20000},{"$f":"SUMPRODUCT((Projects!$A$5:$A$2413='MDOT FTA Detail'!$G$3)*(Projects!$C$5:$C$2413='MDOT FTA Detail'!$C$4)*(Projects!$L$5:$L$2413='MDOT FTA Detail'!$A83)*(Projects!$J$5:$J$2413<>'MDOT FTA Detail'!$A$171)*(Projects!$K$5:K$2413))","v":0},0,{"$f":"SUMPRODUCT((Projects!$A$5:$A$2413='MDOT FTA Detail'!$G$3)*(Projects!$C$5:$C$2413='MDOT FTA Detail'!$C$4)*(Projects!$L$5:$L$2413='MDOT FTA Detail'!$A83)*(Projects!$J$5:$J$2413<>'MDOT FTA Detail'!$A$171)*(Projects!$Q$5:Q$2413))","v":0},{"$f":"SUMPRODUCT((Projects!$A$5:$A$2413='MDOT FTA Detail'!$J$3)*(Projects!$C$5:$C$2413='MDOT FTA Detail'!$C$4)*(Projects!$L$5:$L$2413='MDOT FTA Detail'!$A83)*(Projects!$J$5:$J$2413<>'MDOT FTA Detail'!$A$171)*(Projects!$K$5:$K$2413))","v":0},0,{"$f":"SUMPRODUCT((Projects!$A$5:$A$2413='MDOT FTA Detail'!$J$3)*(Projects!$C$5:$C$2413='MDOT FTA Detail'!$C$4)*(Projects!$L$5:$L$2413='MDOT FTA Detail'!$A83)*(Projects!$J$5:$J$2413<>'MDOT FTA Detail'!$A$171)*(Projects!$Q$5:$Q$2413))","v":0},{"$f":"SUMPRODUCT((Projects!$A$5:$A$2413='MDOT FTA Detail'!$M$3)*(Projects!$C$5:$C$2413='MDOT FTA Detail'!$C$4)*(Projects!$L$5:$L$2413='MDOT FTA Detail'!$A83)*(Projects!$J$5:$J$2413<>'MDOT FTA Detail'!$A$171)*(Projects!$K$5:$K$2413))","v":0},0,{"$f":"SUMPRODUCT((Projects!$A$5:$A$2413='MDOT FTA Detail'!$M$3)*(Projects!$C$5:$C$2413='MDOT FTA Detail'!$C$4)*(Projects!$L$5:$L$2413='MDOT FTA Detail'!$A83)*(Projects!$J$5:$J$2413<>'MDOT FTA Detail'!$A$171)*(Projects!$Q$5:$Q$2413))","v":0}]
["STLG","Surface Transportation Safety 100% Federal for STL Items","MDOT FA",{"$f":"SUMPRODUCT((Projects!$A$5:$A$2413='MDOT FTA Detail'!$D$3)*(Projects!$C$5:$C$2413='MDOT FTA Detail'!$C$4)*(Projects!$L$5:$L$2413='MDOT FTA Detail'!$A84)*(Projects!$J$5:$J$2413<>'MDOT FTA Detail'!$A$171)*(Projects!$K$5:K$2413))","v":0},{"$f":"F84-D84","v":0},{"$f":"SUMPRODUCT((Projects!$A$5:$A$2413='MDOT FTA Detail'!$D$3)*(Projects!$C$5:$C$2413='MDOT FTA Detail'!$C$4)*(Projects!$L$5:$L$2413='MDOT FTA Detail'!$A84)*(Projects!$J$5:$J$2413<>'MDOT FTA Detail'!$A$171)*(Projects!$Q$5:Q$2413))","v":0},{"$f":"SUMPRODUCT((Projects!$A$5:$A$2413='MDOT FTA Detail'!$G$3)*(Projects!$C$5:$C$2413='MDOT FTA Detail'!$C$4)*(Projects!$L$5:$L$2413='MDOT FTA Detail'!$A84)*(Projects!$J$5:$J$2413<>'MDOT FTA Detail'!$A$171)*(Projects!$K$5:K$2413))","v":0},{"$f":"I84-G84","v":0},{"$f":"SUMPRODUCT((Projects!$A$5:$A$2413='MDOT FTA Detail'!$G$3)*(Projects!$C$5:$C$2413='MDOT FTA Detail'!$C$4)*(Projects!$L$5:$L$2413='MDOT FTA Detail'!$A84)*(Projects!$J$5:$J$2413<>'MDOT FTA Detail'!$A$171)*(Projects!$Q$5:Q$2413))","v":0},{"$f":"SUMPRODUCT((Projects!$A$5:$A$2413='MDOT FTA Detail'!$J$3)*(Projects!$C$5:$C$2413='MDOT FTA Detail'!$C$4)*(Projects!$L$5:$L$2413='MDOT FTA Detail'!$A84)*(Projects!$J$5:$J$2413<>'MDOT FTA Detail'!$A$171)*(Projects!$K$5:$K$2413))","v":0},{"$f":"L84-J84","v":0},{"$f":"SUMPRODUCT((Projects!$A$5:$A$2413='MDOT FTA Detail'!$J$3)*(Projects!$C$5:$C$2413='MDOT FTA Detail'!$C$4)*(Projects!$L$5:$L$2413='MDOT FTA Detail'!$A84)*(Projects!$J$5:$J$2413<>'MDOT FTA Detail'!$A$171)*(Projects!$Q$5:$Q$2413))","v":0},{"$f":"SUMPRODUCT((Projects!$A$5:$A$2413='MDOT FTA Detail'!$M$3)*(Projects!$C$5:$C$2413='MDOT FTA Detail'!$C$4)*(Projects!$L$5:$L$2413='MDOT FTA Detail'!$A84)*(Projects!$J$5:$J$2413<>'MDOT FTA Detail'!$A$171)*(Projects!$K$5:$K$2413))","v":0},{"$f":"O84-M84","v":0},{"$f":"SUMPRODUCT((Projects!$A$5:$A$2413='MDOT FTA Detail'!$M$3)*(Projects!$C$5:$C$2413='MDOT FTA Detail'!$C$4)*(Projects!$L$5:$L$2413='MDOT FTA Detail'!$A84)*(Projects!$J$5:$J$2413<>'MDOT FTA Detail'!$A$171)*(Projects!$Q$5:$Q$2413))","v":0}]
["STR","STP - Safety - Rail-Highway Crossing Protection","MDOT FA",{"$f":"SUMPRODUCT((Projects!$A$5:$A$2413='MDOT FTA Detail'!$D$3)*(Projects!$C$5:$C$2413='MDOT FTA Detail'!$C$4)*(Projects!$L$5:$L$2413='MDOT FTA Detail'!$A85)*(Projects!$J$5:$J$2413<>'MDOT FTA Detail'!$A$171)*(Projects!$K$5:K$2413))","v":0},0,{"$f":"SUMPRODUCT((Projects!$A$5:$A$2413='MDOT FTA Detail'!$D$3)*(Projects!$C$5:$C$2413='MDOT FTA Detail'!$C$4)*(Projects!$L$5:$L$2413='MDOT FTA Detail'!$A85)*(Projects!$J$5:$J$2413<>'MDOT FTA Detail'!$A$171)*(Projects!$Q$5:Q$2413))","v":0},{"$f":"SUMPRODUCT((Projects!$A$5:$A$2413='MDOT FTA Detail'!$G$3)*(Projects!$C$5:$C$2413='MDOT FTA Detail'!$C$4)*(Projects!$L$5:$L$2413='MDOT FTA Detail'!$A85)*(Projects!$J$5:$J$2413<>'MDOT FTA Detail'!$A$171)*(Projects!$K$5:K$2413))","v":0},0,{"$f":"SUMPRODUCT((Projects!$A$5:$A$2413='MDOT FTA Detail'!$G$3)*(Projects!$C$5:$C$2413='MDOT FTA Detail'!$C$4)*(Projects!$L$5:$L$2413='MDOT FTA Detail'!$A85)*(Projects!$J$5:$J$2413<>'MDOT FTA Detail'!$A$171)*(Projects!$Q$5:Q$2413))","v":0},{"$f":"SUMPRODUCT((Projects!$A$5:$A$2413='MDOT FTA Detail'!$J$3)*(Projects!$C$5:$C$2413='MDOT FTA Detail'!$C$4)*(Projects!$L$5:$L$2413='MDOT FTA Detail'!$A85)*(Projects!$J$5:$J$2413<>'MDOT FTA Detail'!$A$171)*(Projects!$K$5:$K$2413))","v":0},0,{"$f":"SUMPRODUCT((Projects!$A$5:$A$2413='MDOT FTA Detail'!$J$3)*(Projects!$C$5:$C$2413='MDOT FTA Detail'!$C$4)*(Projects!$L$5:$L$2413='MDOT FTA Detail'!$A85)*(Projects!$J$5:$J$2413<>'MDOT FTA Detail'!$A$171)*(Projects!$Q$5:$Q$2413))","v":0},{"$f":"SUMPRODUCT((Projects!$A$5:$A$2413='MDOT FTA Detail'!$M$3)*(Projects!$C$5:$C$2413='MDOT FTA Detail'!$C$4)*(Projects!$L$5:$L$2413='MDOT FTA Detail'!$A85)*(Projects!$J$5:$J$2413<>'MDOT FTA Detail'!$A$171)*(Projects!$K$5:$K$2413))","v":0},0,{"$f":"SUMPRODUCT((Projects!$A$5:$A$2413='MDOT FTA Detail'!$M$3)*(Projects!$C$5:$C$2413='MDOT FTA Detail'!$C$4)*(Projects!$L$5:$L$2413='MDOT FTA Detail'!$A85)*(Projects!$J$5:$J$2413<>'MDOT FTA Detail'!$A$171)*(Projects!$Q$5:$Q$2413))","v":0}]
["STRG","STP - Safety Rail-Highway & Incentive Payment - 100% Federal","MDOT FA",{"$f":"SUMPRODUCT((Projects!$A$5:$A$2413='MDOT FTA Detail'!$D$3)*(Projects!$C$5:$C$2413='MDOT FTA Detail'!$C$4)*(Projects!$L$5:$L$2413='MDOT FTA Detail'!$A86)*(Projects!$J$5:$J$2413<>'MDOT FTA Detail'!$A$171)*(Projects!$K$5:K$2413))","v":0},0,{"$f":"SUMPRODUCT((Projects!$A$5:$A$2413='MDOT FTA Detail'!$D$3)*(Projects!$C$5:$C$2413='MDOT FTA Detail'!$C$4)*(Projects!$L$5:$L$2413='MDOT FTA Detail'!$A86)*(Projects!$J$5:$J$2413<>'MDOT FTA Detail'!$A$171)*(Projects!$Q$5:Q$2413))","v":0},{"$f":"SUMPRODUCT((Projects!$A$5:$A$2413='MDOT FTA Detail'!$G$3)*(Projects!$C$5:$C$2413='MDOT FTA Detail'!$C$4)*(Projects!$L$5:$L$2413='MDOT FTA Detail'!$A86)*(Projects!$J$5:$J$2413<>'MDOT FTA Detail'!$A$171)*(Projects!$K$5:K$2413))","v":0},0,{"$f":"SUMPRODUCT((Projects!$A$5:$A$2413='MDOT FTA Detail'!$G$3)*(Projects!$C$5:$C$2413='MDOT FTA Detail'!$C$4)*(Projects!$L$5:$L$2413='MDOT FTA Detail'!$A86)*(Projects!$J$5:$J$2413<>'MDOT FTA Detail'!$A$171)*(Projects!$Q$5:Q$2413))","v":0},{"$f":"SUMPRODUCT((Projects!$A$5:$A$2413='MDOT FTA Detail'!$J$3)*(Projects!$C$5:$C$2413='MDOT FTA Detail'!$C$4)*(Projects!$L$5:$L$2413='MDOT FTA Detail'!$A86)*(Projects!$J$5:$J$2413<>'MDOT FTA Detail'!$A$171)*(Projects!$K$5:$K$2413))","v":0},0,{"$f":"SUMPRODUCT((Projects!$A$5:$A$2413='MDOT FTA Detail'!$J$3)*(Projects!$C$5:$C$2413='MDOT FTA Detail'!$C$4)*(Projects!$L$5:$L$2413='MDOT FTA Detail'!$A86)*(Projects!$J$5:$J$2413<>'MDOT FTA Detail'!$A$171)*(Projects!$Q$5:$Q$2413))","v":0},{"$f":"SUMPRODUCT((Projects!$A$5:$A$2413='MDOT FTA Detail'!$M$3)*(Projects!$C$5:$C$2413='MDOT FTA Detail'!$C$4)*(Projects!$L$5:$L$2413='MDOT FTA Detail'!$A86)*(Projects!$J$5:$J$2413<>'MDOT FTA Detail'!$A$171)*(Projects!$K$5:$K$2413))","v":0},0,{"$f":"SUMPRODUCT((Projects!$A$5:$A$2413='MDOT FTA Detail'!$M$3)*(Projects!$C$5:$C$2413='MDOT FTA Detail'!$C$4)*(Projects!$L$5:$L$2413='MDOT FTA Detail'!$A86)*(Projects!$J$5:$J$2413<>'MDOT FTA Detail'!$A$171)*(Projects!$Q$5:$Q$2413))","v":0}]
["STRH","Surface Transportation Safety Highway Crossing Hazard Elimination","MDOT FA",{"$f":"SUMPRODUCT((Projects!$A$5:$A$2413='MDOT FTA Detail'!$D$3)*(Projects!$C$5:$C$2413='MDOT FTA Detail'!$C$4)*(Projects!$L$5:$L$2413='MDOT FTA Detail'!$A87)*(Projects!$J$5:$J$2413<>'MDOT FTA Detail'!$A$171)*(Projects!$K$5:K$2413))","v":0},{"$f":"F87-D87","v":0},{"$f":"SUMPRODUCT((Projects!$A$5:$A$2413='MDOT FTA Detail'!$D$3)*(Projects!$C$5:$C$2413='MDOT FTA Detail'!$C$4)*(Projects!$L$5:$L$2413='MDOT FTA Detail'!$A87)*(Projects!$J$5:$J$2413<>'MDOT FTA Detail'!$A$171)*(Projects!$Q$5:Q$2413))","v":0},{"$f":"SUMPRODUCT((Projects!$A$5:$A$2413='MDOT FTA Detail'!$G$3)*(Projects!$C$5:$C$2413='MDOT FTA Detail'!$C$4)*(Projects!$L$5:$L$2413='MDOT FTA Detail'!$A87)*(Projects!$J$5:$J$2413<>'MDOT FTA Detail'!$A$171)*(Projects!$K$5:K$2413))","v":0},{"$f":"I87-G87","v":0},{"$f":"SUMPRODUCT((Projects!$A$5:$A$2413='MDOT FTA Detail'!$G$3)*(Projects!$C$5:$C$2413='MDOT FTA Detail'!$C$4)*(Projects!$L$5:$L$2413='MDOT FTA Detail'!$A87)*(Projects!$J$5:$J$2413<>'MDOT FTA Detail'!$A$171)*(Projects!$Q$5:Q$2413))","v":0},{"$f":"SUMPRODUCT((Projects!$A$5:$A$2413='MDOT FTA Detail'!$J$3)*(Projects!$C$5:$C$2413='MDOT FTA Detail'!$C$4)*(Projects!$L$5:$L$2413='MDOT FTA Detail'!$A87)*(Projects!$J$5:$J$2413<>'MDOT FTA Detail'!$A$171)*(Projects!$K$5:$K$2413))","v":0},{"$f":"L87-J87","v":0},{"$f":"SUMPRODUCT((Projects!$A$5:$A$2413='MDOT FTA Detail'!$J$3)*(Projects!$C$5:$C$2413='MDOT FTA Detail'!$C$4)*(Projects!$L$5:$L$2413='MDOT FTA Detail'!$A87)*(Projects!$J$5:$J$2413<>'MDOT FTA Detail'!$A$171)*(Projects!$Q$5:$Q$2413))","v":0},{"$f":"SUMPRODUCT((Projects!$A$5:$A$2413='MDOT FTA Detail'!$M$3)*(Projects!$C$5:$C$2413='MDOT FTA Detail'!$C$4)*(Projects!$L$5:$L$2413='MDOT FTA Detail'!$A87)*(Projects!$J$5:$J$2413<>'MDOT FTA Detail'!$A$171)*(Projects!$K$5:$K$2413))","v":0},{"$f":"O87-M87","v":0},{"$f":"SUMPRODUCT((Projects!$A$5:$A$2413='MDOT FTA Detail'!$M$3)*(Projects!$C$5:$C$2413='MDOT FTA Detail'!$C$4)*(Projects!$L$5:$L$2413='MDOT FTA Detail'!$A87)*(Projects!$J$5:$J$2413<>'MDOT FTA Detail'!$A$171)*(Projects!$Q$5:$Q$2413))","v":0}]
["STRP","Surface Transportation Safety Highway Crossing Protection Devices","MDOT FA",{"$f":"SUMPRODUCT((Projects!$A$5:$A$2413='MDOT FTA Detail'!$D$3)*(Projects!$C$5:$C$2413='MDOT FTA Detail'!$C$4)*(Projects!$L$5:$L$2413='MDOT FTA Detail'!$A88)*(Projects!$J$5:$J$2413<>'MDOT FTA Detail'!$A$171)*(Projects!$K$5:K$2413))","v":0},{"$f":"F88-D88","v":0},{"$f":"SUMPRODUCT((Projects!$A$5:$A$2413='MDOT FTA Detail'!$D$3)*(Projects!$C$5:$C$2413='MDOT FTA Detail'!$C$4)*(Projects!$L$5:$L$2413='MDOT FTA Detail'!$A88)*(Projects!$J$5:$J$2413<>'MDOT FTA Detail'!$A$171)*(Projects!$Q$5:Q$2413))","v":0},{"$f":"SUMPRODUCT((Projects!$A$5:$A$2413='MDOT FTA Detail'!$G$3)*(Projects!$C$5:$C$2413='MDOT FTA Detail'!$C$4)*(Projects!$L$5:$L$2413='MDOT FTA Detail'!$A88)*(Projects!$J$5:$J$2413<>'MDOT FTA Detail'!$A$171)*(Projects!$K$5:K$2413))","v":0},{"$f":"I88-G88","v":0},{"$f":"SUMPRODUCT((Projects!$A$5:$A$2413='MDOT FTA Detail'!$G$3)*(Projects!$C$5:$C$2413='MDOT FTA Detail'!$C$4)*(Projects!$L$5:$L$2413='MDOT FTA Detail'!$A88)*(Projects!$J$5:$J$2413<>'MDOT FTA Detail'!$A$171)*(Projects!$Q$5:Q$2413))","v":0},{"$f":"SUMPRODUCT((Projects!$A$5:$A$2413='MDOT FTA Detail'!$J$3)*(Projects!$C$5:$C$2413='MDOT FTA Detail'!$C$4)*(Projects!$L$5:$L$2413='MDOT FTA Detail'!$A88)*(Projects!$J$5:$J$2413<>'MDOT FTA Detail'!$A$171)*(Projects!$K$5:$K$2413))","v":0},{"$f":"L88-J88","v":0},{"$f":"SUMPRODUCT((Projects!$A$5:$A$2413='MDOT FTA Detail'!$J$3)*(Projects!$C$5:$C$2413='MDOT FTA Detail'!$C$4)*(Projects!$L$5:$L$2413='MDOT FTA Detail'!$A88)*(Projects!$J$5:$J$2413<>'MDOT FTA Detail'!$A$171)*(Projects!$Q$5:$Q$2413))","v":0},{"$f":"SUMPRODUCT((Projects!$A$5:$A$2413='MDOT FTA Detail'!$M$3)*(Projects!$C$5:$C$2413='MDOT FTA Detail'!$C$4)*(Projects!$L$5:$L$2413='MDOT FTA Detail'!$A88)*(Projects!$J$5:$J$2413<>'MDOT FTA Detail'!$A$171)*(Projects!$K$5:$K$2413))","v":0},{"$f":"O88-M88","v":0},{"$f":"SUMPRODUCT((Projects!$A$5:$A$2413='MDOT FTA Detail'!$M$3)*(Projects!$C$5:$C$2413='MDOT FTA Detail'!$C$4)*(Projects!$L$5:$L$2413='MDOT FTA Detail'!$A88)*(Projects!$J$5:$J$2413<>'MDOT FTA Detail'!$A$171)*(Projects!$Q$5:$Q$2413))","v":0}]
["STS","STP - Any Area- MDOT Safety Program","MDOT FA",{"$f":"SUMPRODUCT((Projects!$A$5:$A$2413='MDOT FTA Detail'!$D$3)*(Projects!$C$5:$C$2413='MDOT FTA Detail'!$C$4)*(Projects!$L$5:$L$2413='MDOT FTA Detail'!$A89)*(Projects!$J$5:$J$2413<>'MDOT FTA Detail'!$A$171)*(Projects!$K$5:K$2413))","v":0},0,{"$f":"SUMPRODUCT((Projects!$A$5:$A$2413='MDOT FTA Detail'!$D$3)*(Projects!$C$5:$C$2413='MDOT FTA Detail'!$C$4)*(Projects!$L$5:$L$2413='MDOT FTA Detail'!$A89)*(Projects!$J$5:$J$2413<>'MDOT FTA Detail'!$A$171)*(Projects!$Q$5:Q$2413))","v":0},{"$f":"SUMPRODUCT((Projects!$A$5:$A$2413='MDOT FTA Detail'!$G$3)*(Projects!$C$5:$C$2413='MDOT FTA Detail'!$C$4)*(Projects!$L$5:$L$2413='MDOT FTA Detail'!$A89)*(Projects!$J$5:$J$2413<>'MDOT FTA Detail'!$A$171)*(Projects!$K$5:K$2413))","v":0},0,{"$f":"SUMPRODUCT((Projects!$A$5:$A$2413='MDOT FTA Detail'!$G$3)*(Projects!$C$5:$C$2413='MDOT FTA Detail'!$C$4)*(Projects!$L$5:$L$2413='MDOT FTA Detail'!$A89)*(Projects!$J$5:$J$2413<>'MDOT FTA Detail'!$A$171)*(Projects!$Q$5:Q$2413))","v":0},{"$f":"SUMPRODUCT((Projects!$A$5:$A$2413='MDOT FTA Detail'!$J$3)*(Projects!$C$5:$C$2413='MDOT FTA Detail'!$C$4)*(Projects!$L$5:$L$2413='MDOT FTA Detail'!$A89)*(Projects!$J$5:$J$2413<>'MDOT FTA Detail'!$A$171)*(Projects!$K$5:$K$2413))","v":0},0,{"$f":"SUMPRODUCT((Projects!$A$5:$A$2413='MDOT FTA Detail'!$J$3)*(Projects!$C$5:$C$2413='MDOT FTA Detail'!$C$4)*(Projects!$L$5:$L$2413='MDOT FTA Detail'!$A89)*(Projects!$J$5:$J$2413<>'MDOT FTA Detail'!$A$171)*(Projects!$Q$5:$Q$2413))","v":0},{"$f":"SUMPRODUCT((Projects!$A$5:$A$2413='MDOT FTA Detail'!$M$3)*(Projects!$C$5:$C$2413='MDOT FTA Detail'!$C$4)*(Projects!$L$5:$L$2413='MDOT FTA Detail'!$A89)*(Projects!$J$5:$J$2413<>'MDOT FTA Detail'!$A$171)*(Projects!$K$5:$K$2413))","v":0},0,{"$f":"SUMPRODUCT((Projects!$A$5:$A$2413='MDOT FTA Detail'!$M$3)*(Projects!$C$5:$C$2413='MDOT FTA Detail'!$C$4)*(Projects!$L$5:$L$2413='MDOT FTA Detail'!$A89)*(Projects!$J$5:$J$2413<>'MDOT FTA Detail'!$A$171)*(Projects!$Q$5:$Q$2413))","v":0}]
["STT","STP - Trunkline","MDOT FA",{"$f":"SUMPRODUCT((Projects!$A$5:$A$2413='MDOT FTA Detail'!$D$3)*(Projects!$C$5:$C$2413='MDOT FTA Detail'!$C$4)*(Projects!$L$5:$L$2413='MDOT FTA Detail'!$A90)*(Projects!$J$5:$J$2413<>'MDOT FTA Detail'!$A$171)*(Projects!$K$5:K$2413))","v":0},0,{"$f":"SUMPRODUCT((Projects!$A$5:$A$2413='MDOT FTA Detail'!$D$3)*(Projects!$C$5:$C$2413='MDOT FTA Detail'!$C$4)*(Projects!$L$5:$L$2413='MDOT FTA Detail'!$A90)*(Projects!$J$5:$J$2413<>'MDOT FTA Detail'!$A$171)*(Projects!$Q$5:Q$2413))","v":0},{"$f":"SUMPRODUCT((Projects!$A$5:$A$2413='MDOT FTA Detail'!$G$3)*(Projects!$C$5:$C$2413='MDOT FTA Detail'!$C$4)*(Projects!$L$5:$L$2413='MDOT FTA Detail'!$A90)*(Projects!$J$5:$J$2413<>'MDOT FTA Detail'!$A$171)*(Projects!$K$5:K$2413))","v":0},0,{"$f":"SUMPRODUCT((Projects!$A$5:$A$2413='MDOT FTA Detail'!$G$3)*(Projects!$C$5:$C$2413='MDOT FTA Detail'!$C$4)*(Projects!$L$5:$L$2413='MDOT FTA Detail'!$A90)*(Projects!$J$5:$J$2413<>'MDOT FTA Detail'!$A$171)*(Projects!$Q$5:Q$2413))","v":0},{"$f":"SUMPRODUCT((Projects!$A$5:$A$2413='MDOT FTA Detail'!$J$3)*(Projects!$C$5:$C$2413='MDOT FTA Detail'!$C$4)*(Projects!$L$5:$L$2413='MDOT FTA Detail'!$A90)*(Projects!$J$5:$J$2413<>'MDOT FTA Detail'!$A$171)*(Projects!$K$5:$K$2413))","v":0},0,{"$f":"SUMPRODUCT((Projects!$A$5:$A$2413='MDOT FTA Detail'!$J$3)*(Projects!$C$5:$C$2413='MDOT FTA Detail'!$C$4)*(Projects!$L$5:$L$2413='MDOT FTA Detail'!$A90)*(Projects!$J$5:$J$2413<>'MDOT FTA Detail'!$A$171)*(Projects!$Q$5:$Q$2413))","v":0},{"$f":"SUMPRODUCT((Projects!$A$5:$A$2413='MDOT FTA Detail'!$M$3)*(Projects!$C$5:$C$2413='MDOT FTA Detail'!$C$4)*(Projects!$L$5:$L$2413='MDOT FTA Detail'!$A90)*(Projects!$J$5:$J$2413<>'MDOT FTA Detail'!$A$171)*(Projects!$K$5:$K$2413))","v":0},0,{"$f":"SUMPRODUCT((Projects!$A$5:$A$2413='MDOT FTA Detail'!$M$3)*(Projects!$C$5:$C$2413='MDOT FTA Detail'!$C$4)*(Projects!$L$5:$L$2413='MDOT FTA Detail'!$A90)*(Projects!$J$5:$J$2413<>'MDOT FTA Detail'!$A$171)*(Projects!$Q$5:$Q$2413))","v":0}]
["STU","STP - Urban Areas > 200,000 Population","MDOT FA",{"$f":"SUMPRODUCT((Projects!$A$5:$A$2413='MDOT FTA Detail'!$D$3)*(Projects!$C$5:$C$2413='MDOT FTA Detail'!$C$4)*(Projects!$L$5:$L$2413='MDOT FTA Detail'!$A91)*(Projects!$J$5:$J$2413<>'MDOT FTA Detail'!$A$171)*(Projects!$K$5:K$2413))","v":0},0,{"$f":"SUMPRODUCT((Projects!$A$5:$A$2413='MDOT FTA Detail'!$D$3)*(Projects!$C$5:$C$2413='MDOT FTA Detail'!$C$4)*(Projects!$L$5:$L$2413='MDOT FTA Detail'!$A91)*(Projects!$J$5:$J$2413<>'MDOT FTA Detail'!$A$171)*(Projects!$Q$5:Q$2413))","v":0},{"$f":"SUMPRODUCT((Projects!$A$5:$A$2413='MDOT FTA Detail'!$G$3)*(Projects!$C$5:$C$2413='MDOT FTA Detail'!$C$4)*(Projects!$L$5:$L$2413='MDOT FTA Detail'!$A91)*(Projects!$J$5:$J$2413<>'MDOT FTA Detail'!$A$171)*(Projects!$K$5:K$2413))","v":0},0,{"$f":"SUMPRODUCT((Projects!$A$5:$A$2413='MDOT FTA Detail'!$G$3)*(Projects!$C$5:$C$2413='MDOT FTA Detail'!$C$4)*(Projects!$L$5:$L$2413='MDOT FTA Detail'!$A91)*(Projects!$J$5:$J$2413<>'MDOT FTA Detail'!$A$171)*(Projects!$Q$5:Q$2413))","v":0},{"$f":"SUMPRODUCT((Projects!$A$5:$A$2413='MDOT FTA Detail'!$J$3)*(Projects!$C$5:$C$2413='MDOT FTA Detail'!$C$4)*(Projects!$L$5:$L$2413='MDOT FTA Detail'!$A91)*(Projects!$J$5:$J$2413<>'MDOT FTA Detail'!$A$171)*(Projects!$K$5:$K$2413))","v":0},0,{"$f":"SUMPRODUCT((Projects!$A$5:$A$2413='MDOT FTA Detail'!$J$3)*(Projects!$C$5:$C$2413='MDOT FTA Detail'!$C$4)*(Projects!$L$5:$L$2413='MDOT FTA Detail'!$A91)*(Projects!$J$5:$J$2413<>'MDOT FTA Detail'!$A$171)*(Projects!$Q$5:$Q$2413))","v":0},{"$f":"SUMPRODUCT((Projects!$A$5:$A$2413='MDOT FTA Detail'!$M$3)*(Projects!$C$5:$C$2413='MDOT FTA Detail'!$C$4)*(Projects!$L$5:$L$2413='MDOT FTA Detail'!$A91)*(Projects!$J$5:$J$2413<>'MDOT FTA Detail'!$A$171)*(Projects!$K$5:$K$2413))","v":0},0,{"$f":"SUMPRODUCT((Projects!$A$5:$A$2413='MDOT FTA Detail'!$M$3)*(Projects!$C$5:$C$2413='MDOT FTA Detail'!$C$4)*(Projects!$L$5:$L$2413='MDOT FTA Detail'!$A91)*(Projects!$J$5:$J$2413<>'MDOT FTA Detail'!$A$171)*(Projects!$Q$5:$Q$2413))","v":0}]
["STUG","STP - Urban Areas < 200,000  Population 100%","MDOT FA",{"$f":"SUMPRODUCT((Projects!$A$5:$A$2413='MDOT FTA Detail'!$D$3)*(Projects!$C$5:$C$2413='MDOT FTA Detail'!$C$4)*(Projects!$L$5:$L$2413='MDOT FTA Detail'!$A92)*(Projects!$J$5:$J$2413<>'MDOT FTA Detail'!$A$171)*(Projects!$K$5:K$2413))","v":0},{"$f":"F92-D92","v":0},{"$f":"SUMPRODUCT((Projects!$A$5:$A$2413='MDOT FTA Detail'!$D$3)*(Projects!$C$5:$C$2413='MDOT FTA Detail'!$C$4)*(Projects!$L$5:$L$2413='MDOT FTA Detail'!$A92)*(Projects!$J$5:$J$2413<>'MDOT FTA Detail'!$A$171)*(Projects!$Q$5:Q$2413))","v":0},{"$f":"SUMPRODUCT((Projects!$A$5:$A$2413='MDOT FTA Detail'!$G$3)*(Projects!$C$5:$C$2413='MDOT FTA Detail'!$C$4)*(Projects!$L$5:$L$2413='MDOT FTA Detail'!$A92)*(Projects!$J$5:$J$2413<>'MDOT FTA Detail'!$A$171)*(Projects!$K$5:K$2413))","v":0},{"$f":"I92-G92","v":0},{"$f":"SUMPRODUCT((Projects!$A$5:$A$2413='MDOT FTA Detail'!$G$3)*(Projects!$C$5:$C$2413='MDOT FTA Detail'!$C$4)*(Projects!$L$5:$L$2413='MDOT FTA Detail'!$A92)*(Projects!$J$5:$J$2413<>'MDOT FTA Detail'!$A$171)*(Projects!$Q$5:Q$2413))","v":0},{"$f":"SUMPRODUCT((Projects!$A$5:$A$2413='MDOT FTA Detail'!$J$3)*(Projects!$C$5:$C$2413='MDOT FTA Detail'!$C$4)*(Projects!$L$5:$L$2413='MDOT FTA Detail'!$A92)*(Projects!$J$5:$J$2413<>'MDOT FTA Detail'!$A$171)*(Projects!$K$5:$K$2413))","v":0},{"$f":"L92-J92","v":0},{"$f":"SUMPRODUCT((Projects!$A$5:$A$2413='MDOT FTA Detail'!$J$3)*(Projects!$C$5:$C$2413='MDOT FTA Detail'!$C$4)*(Projects!$L$5:$L$2413='MDOT FTA Detail'!$A92)*(Projects!$J$5:$J$2413<>'MDOT FTA Detail'!$A$171)*(Projects!$Q$5:$Q$2413))","v":0},{"$f":"SUMPRODUCT((Projects!$A$5:$A$2413='MDOT FTA Detail'!$M$3)*(Projects!$C$5:$C$2413='MDOT FTA Detail'!$C$4)*(Projects!$L$5:$L$2413='MDOT FTA Detail'!$A92)*(Projects!$J$5:$J$2413<>'MDOT FTA Detail'!$A$171)*(Projects!$K$5:$K$2413))","v":0},{"$f":"O92-M92","v":0},{"$f":"SUMPRODUCT((Projects!$A$5:$A$2413='MDOT FTA Detail'!$M$3)*(Projects!$C$5:$C$2413='MDOT FTA Detail'!$C$4)*(Projects!$L$5:$L$2413='MDOT FTA Detail'!$A92)*(Projects!$J$5:$J$2413<>'MDOT FTA Detail'!$A$171)*(Projects!$Q$5:$Q$2413))","v":0}]
["STUL","STP - Urban Areas < 200,000 Population","MDOT FA",{"$f":"SUMPRODUCT((Projects!$A$5:$A$2413='MDOT FTA Detail'!$D$3)*(Projects!$C$5:$C$2413='MDOT FTA Detail'!$C$4)*(Projects!$L$5:$L$2413='MDOT FTA Detail'!$A93)*(Projects!$J$5:$J$2413<>'MDOT FTA Detail'!$A$171)*(Projects!$K$5:K$2413))","v":0},0,{"$f":"SUMPRODUCT((Projects!$A$5:$A$2413='MDOT FTA Detail'!$D$3)*(Projects!$C$5:$C$2413='MDOT FTA Detail'!$C$4)*(Projects!$L$5:$L$2413='MDOT FTA Detail'!$A93)*(Projects!$J$5:$J$2413<>'MDOT FTA Detail'!$A$171)*(Projects!$Q$5:Q$2413))","v":0},{"$f":"SUMPRODUCT((Projects!$A$5:$A$2413='MDOT FTA Detail'!$G$3)*(Projects!$C$5:$C$2413='MDOT FTA Detail'!$C$4)*(Projects!$L$5:$L$2413='MDOT FTA Detail'!$A93)*(Projects!$J$5:$J$2413<>'MDOT FTA Detail'!$A$171)*(Projects!$K$5:K$2413))","v":0},0,{"$f":"SUMPRODUCT((Projects!$A$5:$A$2413='MDOT FTA Detail'!$G$3)*(Projects!$C$5:$C$2413='MDOT FTA Detail'!$C$4)*(Projects!$L$5:$L$2413='MDOT FTA Detail'!$A93)*(Projects!$J$5:$J$2413<>'MDOT FTA Detail'!$A$171)*(Projects!$Q$5:Q$2413))","v":0},{"$f":"SUMPRODUCT((Projects!$A$5:$A$2413='MDOT FTA Detail'!$J$3)*(Projects!$C$5:$C$2413='MDOT FTA Detail'!$C$4)*(Projects!$L$5:$L$2413='MDOT FTA Detail'!$A93)*(Projects!$J$5:$J$2413<>'MDOT FTA Detail'!$A$171)*(Projects!$K$5:$K$2413))","v":0},0,{"$f":"SUMPRODUCT((Projects!$A$5:$A$2413='MDOT FTA Detail'!$J$3)*(Projects!$C$5:$C$2413='MDOT FTA Detail'!$C$4)*(Projects!$L$5:$L$2413='MDOT FTA Detail'!$A93)*(Projects!$J$5:$J$2413<>'MDOT FTA Detail'!$A$171)*(Projects!$Q$5:$Q$2413))","v":0},{"$f":"SUMPRODUCT((Projects!$A$5:$A$2413='MDOT FTA Detail'!$M$3)*(Projects!$C$5:$C$2413='MDOT FTA Detail'!$C$4)*(Projects!$L$5:$L$2413='MDOT FTA Detail'!$A93)*(Projects!$J$5:$J$2413<>'MDOT FTA Detail'!$A$171)*(Projects!$K$5:$K$2413))","v":0},0,{"$f":"SUMPRODUCT((Projects!$A$5:$A$2413='MDOT FTA Detail'!$M$3)*(Projects!$C$5:$C$2413='MDOT FTA Detail'!$C$4)*(Projects!$L$5:$L$2413='MDOT FTA Detail'!$A93)*(Projects!$J$5:$J$2413<>'MDOT FTA Detail'!$A$171)*(Projects!$Q$5:$Q$2413))","v":0}]
["STUT","STP - Urban Areas < 200,000 Population - Trunkline","MDOT FA",{"$f":"SUMPRODUCT((Projects!$A$5:$A$2413='MDOT FTA Detail'!$D$3)*(Projects!$C$5:$C$2413='MDOT FTA Detail'!$C$4)*(Projects!$L$5:$L$2413='MDOT FTA Detail'!$A94)*(Projects!$J$5:$J$2413<>'MDOT FTA Detail'!$A$171)*(Projects!$K$5:K$2413))","v":0},0,{"$f":"SUMPRODUCT((Projects!$A$5:$A$2413='MDOT FTA Detail'!$D$3)*(Projects!$C$5:$C$2413='MDOT FTA Detail'!$C$4)*(Projects!$L$5:$L$2413='MDOT FTA Detail'!$A94)*(Projects!$J$5:$J$2413<>'MDOT FTA Detail'!$A$171)*(Projects!$Q$5:Q$2413))","v":0},{"$f":"SUMPRODUCT((Projects!$A$5:$A$2413='MDOT FTA Detail'!$G$3)*(Projects!$C$5:$C$2413='MDOT FTA Detail'!$C$4)*(Projects!$L$5:$L$2413='MDOT FTA Detail'!$A94)*(Projects!$J$5:$J$2413<>'MDOT FTA Detail'!$A$171)*(Projects!$K$5:K$2413))","v":0},0,{"$f":"SUMPRODUCT((Projects!$A$5:$A$2413='MDOT FTA Detail'!$G$3)*(Projects!$C$5:$C$2413='MDOT FTA Detail'!$C$4)*(Projects!$L$5:$L$2413='MDOT FTA Detail'!$A94)*(Projects!$J$5:$J$2413<>'MDOT FTA Detail'!$A$171)*(Projects!$Q$5:Q$2413))","v":0},{"$f":"SUMPRODUCT((Projects!$A$5:$A$2413='MDOT FTA Detail'!$J$3)*(Projects!$C$5:$C$2413='MDOT FTA Detail'!$C$4)*(Projects!$L$5:$L$2413='MDOT FTA Detail'!$A94)*(Projects!$J$5:$J$2413<>'MDOT FTA Detail'!$A$171)*(Projects!$K$5:$K$2413))","v":0},0,{"$f":"SUMPRODUCT((Projects!$A$5:$A$2413='MDOT FTA Detail'!$J$3)*(Projects!$C$5:$C$2413='MDOT FTA Detail'!$C$4)*(Projects!$L$5:$L$2413='MDOT FTA Detail'!$A94)*(Projects!$J$5:$J$2413<>'MDOT FTA Detail'!$A$171)*(Projects!$Q$5:$Q$2413))","v":0},{"$f":"SUMPRODUCT((Projects!$A$5:$A$2413='MDOT FTA Detail'!$M$3)*(Projects!$C$5:$C$2413='MDOT FTA Detail'!$C$4)*(Projects!$L$5:$L$2413='MDOT FTA Detail'!$A94)*(Projects!$J$5:$J$2413<>'MDOT FTA Detail'!$A$171)*(Projects!$K$5:$K$2413))","v":0},0,{"$f":"SUMPRODUCT((Projects!$A$5:$A$2413='MDOT FTA Detail'!$M$3)*(Projects!$C$5:$C$2413='MDOT FTA Detail'!$C$4)*(Projects!$L$5:$L$2413='MDOT FTA Detail'!$A94)*(Projects!$J$5:$J$2413<>'MDOT FTA Detail'!$A$171)*(Projects!$Q$5:$Q$2413))","v":0}]
["SUG","STP - Safety - 100% Federal for STU","MDOT FA",{"$f":"SUMPRODUCT((Projects!$A$5:$A$2413='MDOT FTA Detail'!$D$3)*(Projects!$C$5:$C$2413='MDOT FTA Detail'!$C$4)*(Projects!$L$5:$L$2413='MDOT FTA Detail'!$A95)*(Projects!$J$5:$J$2413<>'MDOT FTA Detail'!$A$171)*(Projects!$K$5:K$2413))","v":0},0,{"$f":"SUMPRODUCT((Projects!$A$5:$A$2413='MDOT FTA Detail'!$D$3)*(Projects!$C$5:$C$2413='MDOT FTA Detail'!$C$4)*(Projects!$L$5:$L$2413='MDOT FTA Detail'!$A95)*(Projects!$J$5:$J$2413<>'MDOT FTA Detail'!$A$171)*(Projects!$Q$5:Q$2413))","v":0},{"$f":"SUMPRODUCT((Projects!$A$5:$A$2413='MDOT FTA Detail'!$G$3)*(Projects!$C$5:$C$2413='MDOT FTA Detail'!$C$4)*(Projects!$L$5:$L$2413='MDOT FTA Detail'!$A95)*(Projects!$J$5:$J$2413<>'MDOT FTA Detail'!$A$171)*(Projects!$K$5:K$2413))","v":0},0,{"$f":"SUMPRODUCT((Projects!$A$5:$A$2413='MDOT FTA Detail'!$G$3)*(Projects!$C$5:$C$2413='MDOT FTA Detail'!$C$4)*(Projects!$L$5:$L$2413='MDOT FTA Detail'!$A95)*(Projects!$J$5:$J$2413<>'MDOT FTA Detail'!$A$171)*(Projects!$Q$5:Q$2413))","v":0},{"$f":"SUMPRODUCT((Projects!$A$5:$A$2413='MDOT FTA Detail'!$J$3)*(Projects!$C$5:$C$2413='MDOT FTA Detail'!$C$4)*(Projects!$L$5:$L$2413='MDOT FTA Detail'!$A95)*(Projects!$J$5:$J$2413<>'MDOT FTA Detail'!$A$171)*(Projects!$K$5:$K$2413))","v":0},0,{"$f":"SUMPRODUCT((Projects!$A$5:$A$2413='MDOT FTA Detail'!$J$3)*(Projects!$C$5:$C$2413='MDOT FTA Detail'!$C$4)*(Projects!$L$5:$L$2413='MDOT FTA Detail'!$A95)*(Projects!$J$5:$J$2413<>'MDOT FTA Detail'!$A$171)*(Projects!$Q$5:$Q$2413))","v":0},{"$f":"SUMPRODUCT((Projects!$A$5:$A$2413='MDOT FTA Detail'!$M$3)*(Projects!$C$5:$C$2413='MDOT FTA Detail'!$C$4)*(Projects!$L$5:$L$2413='MDOT FTA Detail'!$A95)*(Projects!$J$5:$J$2413<>'MDOT FTA Detail'!$A$171)*(Projects!$K$5:$K$2413))","v":0},0,{"$f":"SUMPRODUCT((Projects!$A$5:$A$2413='MDOT FTA Detail'!$M$3)*(Projects!$C$5:$C$2413='MDOT FTA Detail'!$C$4)*(Projects!$L$5:$L$2413='MDOT FTA Detail'!$A95)*(Projects!$J$5:$J$2413<>'MDOT FTA Detail'!$A$171)*(Projects!$Q$5:$Q$2413))","v":0}]
["SUL","Surface Transportation Urban Areas  <200,000 Population","MDOT FA",{"$f":"SUMPRODUCT((Projects!$A$5:$A$2413='MDOT FTA Detail'!$D$3)*(Projects!$C$5:$C$2413='MDOT FTA Detail'!$C$4)*(Projects!$L$5:$L$2413='MDOT FTA Detail'!$A96)*(Projects!$J$5:$J$2413<>'MDOT FTA Detail'!$A$171)*(Projects!$K$5:K$2413))","v":0},0,{"$f":"SUMPRODUCT((Projects!$A$5:$A$2413='MDOT FTA Detail'!$D$3)*(Projects!$C$5:$C$2413='MDOT FTA Detail'!$C$4)*(Projects!$L$5:$L$2413='MDOT FTA Detail'!$A96)*(Projects!$J$5:$J$2413<>'MDOT FTA Detail'!$A$171)*(Projects!$Q$5:Q$2413))","v":0},{"$f":"SUMPRODUCT((Projects!$A$5:$A$2413='MDOT FTA Detail'!$G$3)*(Projects!$C$5:$C$2413='MDOT FTA Detail'!$C$4)*(Projects!$L$5:$L$2413='MDOT FTA Detail'!$A96)*(Projects!$J$5:$J$2413<>'MDOT FTA Detail'!$A$171)*(Projects!$K$5:K$2413))","v":0},0,{"$f":"SUMPRODUCT((Projects!$A$5:$A$2413='MDOT FTA Detail'!$G$3)*(Projects!$C$5:$C$2413='MDOT FTA Detail'!$C$4)*(Projects!$L$5:$L$2413='MDOT FTA Detail'!$A96)*(Projects!$J$5:$J$2413<>'MDOT FTA Detail'!$A$171)*(Projects!$Q$5:Q$2413))","v":0},{"$f":"SUMPRODUCT((Projects!$A$5:$A$2413='MDOT FTA Detail'!$J$3)*(Projects!$C$5:$C$2413='MDOT FTA Detail'!$C$4)*(Projects!$L$5:$L$2413='MDOT FTA Detail'!$A96)*(Projects!$J$5:$J$2413<>'MDOT FTA Detail'!$A$171)*(Projects!$K$5:$K$2413))","v":0},0,{"$f":"SUMPRODUCT((Projects!$A$5:$A$2413='MDOT FTA Detail'!$J$3)*(Projects!$C$5:$C$2413='MDOT FTA Detail'!$C$4)*(Projects!$L$5:$L$2413='MDOT FTA Detail'!$A96)*(Projects!$J$5:$J$2413<>'MDOT FTA Detail'!$A$171)*(Projects!$Q$5:$Q$2413))","v":0},{"$f":"SUMPRODUCT((Projects!$A$5:$A$2413='MDOT FTA Detail'!$M$3)*(Projects!$C$5:$C$2413='MDOT FTA Detail'!$C$4)*(Projects!$L$5:$L$2413='MDOT FTA Detail'!$A96)*(Projects!$J$5:$J$2413<>'MDOT FTA Detail'!$A$171)*(Projects!$K$5:$K$2413))","v":0},0,{"$f":"SUMPRODUCT((Projects!$A$5:$A$2413='MDOT FTA Detail'!$M$3)*(Projects!$C$5:$C$2413='MDOT FTA Detail'!$C$4)*(Projects!$L$5:$L$2413='MDOT FTA Detail'!$A96)*(Projects!$J$5:$J$2413<>'MDOT FTA Detail'!$A$171)*(Projects!$Q$5:$Q$2413))","v":0}]
["SULG","Surfcace Transportation Urban Areas <200,000 Population 100%","MDOT FA",{"$f":"SUMPRODUCT((Projects!$A$5:$A$2413='MDOT FTA Detail'!$D$3)*(Projects!$C$5:$C$2413='MDOT FTA Detail'!$C$4)*(Projects!$L$5:$L$2413='MDOT FTA Detail'!$A97)*(Projects!$J$5:$J$2413<>'MDOT FTA Detail'!$A$171)*(Projects!$K$5:K$2413))","v":0},0,{"$f":"SUMPRODUCT((Projects!$A$5:$A$2413='MDOT FTA Detail'!$D$3)*(Projects!$C$5:$C$2413='MDOT FTA Detail'!$C$4)*(Projects!$L$5:$L$2413='MDOT FTA Detail'!$A97)*(Projects!$J$5:$J$2413<>'MDOT FTA Detail'!$A$171)*(Projects!$Q$5:Q$2413))","v":0},{"$f":"SUMPRODUCT((Projects!$A$5:$A$2413='MDOT FTA Detail'!$G$3)*(Projects!$C$5:$C$2413='MDOT FTA Detail'!$C$4)*(Projects!$L$5:$L$2413='MDOT FTA Detail'!$A97)*(Projects!$J$5:$J$2413<>'MDOT FTA Detail'!$A$171)*(Projects!$K$5:K$2413))","v":0},0,{"$f":"SUMPRODUCT((Projects!$A$5:$A$2413='MDOT FTA Detail'!$G$3)*(Projects!$C$5:$C$2413='MDOT FTA Detail'!$C$4)*(Projects!$L$5:$L$2413='MDOT FTA Detail'!$A97)*(Projects!$J$5:$J$2413<>'MDOT FTA Detail'!$A$171)*(Projects!$Q$5:Q$2413))","v":0},{"$f":"SUMPRODUCT((Projects!$A$5:$A$2413='MDOT FTA Detail'!$J$3)*(Projects!$C$5:$C$2413='MDOT FTA Detail'!$C$4)*(Projects!$L$5:$L$2413='MDOT FTA Detail'!$A97)*(Projects!$J$5:$J$2413<>'MDOT FTA Detail'!$A$171)*(Projects!$K$5:$K$2413))","v":0},0,{"$f":"SUMPRODUCT((Projects!$A$5:$A$2413='MDOT FTA Detail'!$J$3)*(Projects!$C$5:$C$2413='MDOT FTA Detail'!$C$4)*(Projects!$L$5:$L$2413='MDOT FTA Detail'!$A97)*(Projects!$J$5:$J$2413<>'MDOT FTA Detail'!$A$171)*(Projects!$Q$5:$Q$2413))","v":0},{"$f":"SUMPRODUCT((Projects!$A$5:$A$2413='MDOT FTA Detail'!$M$3)*(Projects!$C$5:$C$2413='MDOT FTA Detail'!$C$4)*(Projects!$L$5:$L$2413='MDOT FTA Detail'!$A97)*(Projects!$J$5:$J$2413<>'MDOT FTA Detail'!$A$171)*(Projects!$K$5:$K$2413))","v":0},0,{"$f":"SUMPRODUCT((Projects!$A$5:$A$2413='MDOT FTA Detail'!$M$3)*(Projects!$C$5:$C$2413='MDOT FTA Detail'!$C$4)*(Projects!$L$5:$L$2413='MDOT FTA Detail'!$A97)*(Projects!$J$5:$J$2413<>'MDOT FTA Detail'!$A$171)*(Projects!$Q$5:$Q$2413))","v":0}]
["TA","Transportation Alternatives Program Flex","MDOT FA",{"$f":"SUMPRODUCT((Projects!$A$5:$A$2413='MDOT FTA Detail'!$D$3)*(Projects!$C$5:$C$2413='MDOT FTA Detail'!$C$4)*(Projects!$L$5:$L$2413='MDOT FTA Detail'!$A98)*(Projects!$J$5:$J$2413<>'MDOT FTA Detail'!$A$171)*(Projects!$K$5:K$2413))","v":0},0,{"$f":"SUMPRODUCT((Projects!$A$5:$A$2413='MDOT FTA Detail'!$D$3)*(Projects!$C$5:$C$2413='MDOT FTA Detail'!$C$4)*(Projects!$L$5:$L$2413='MDOT FTA Detail'!$A98)*(Projects!$J$5:$J$2413<>'MDOT FTA Detail'!$A$171)*(Projects!$Q$5:Q$2413))","v":0},{"$f":"SUMPRODUCT((Projects!$A$5:$A$2413='MDOT FTA Detail'!$G$3)*(Projects!$C$5:$C$2413='MDOT FTA Detail'!$C$4)*(Projects!$L$5:$L$2413='MDOT FTA Detail'!$A98)*(Projects!$J$5:$J$2413<>'MDOT FTA Detail'!$A$171)*(Projects!$K$5:K$2413))","v":0},0,{"$f":"SUMPRODUCT((Projects!$A$5:$A$2413='MDOT FTA Detail'!$G$3)*(Projects!$C$5:$C$2413='MDOT FTA Detail'!$C$4)*(Projects!$L$5:$L$2413='MDOT FTA Detail'!$A98)*(Projects!$J$5:$J$2413<>'MDOT FTA Detail'!$A$171)*(Projects!$Q$5:Q$2413))","v":0},{"$f":"SUMPRODUCT((Projects!$A$5:$A$2413='MDOT FTA Detail'!$J$3)*(Projects!$C$5:$C$2413='MDOT FTA Detail'!$C$4)*(Projects!$L$5:$L$2413='MDOT FTA Detail'!$A98)*(Projects!$J$5:$J$2413<>'MDOT FTA Detail'!$A$171)*(Projects!$K$5:$K$2413))","v":0},0,{"$f":"SUMPRODUCT((Projects!$A$5:$A$2413='MDOT FTA Detail'!$J$3)*(Projects!$C$5:$C$2413='MDOT FTA Detail'!$C$4)*(Projects!$L$5:$L$2413='MDOT FTA Detail'!$A98)*(Projects!$J$5:$J$2413<>'MDOT FTA Detail'!$A$171)*(Projects!$Q$5:$Q$2413))","v":0},{"$f":"SUMPRODUCT((Projects!$A$5:$A$2413='MDOT FTA Detail'!$M$3)*(Projects!$C$5:$C$2413='MDOT FTA Detail'!$C$4)*(Projects!$L$5:$L$2413='MDOT FTA Detail'!$A98)*(Projects!$J$5:$J$2413<>'MDOT FTA Detail'!$A$171)*(Projects!$K$5:$K$2413))","v":0},0,{"$f":"SUMPRODUCT((Projects!$A$5:$A$2413='MDOT FTA Detail'!$M$3)*(Projects!$C$5:$C$2413='MDOT FTA Detail'!$C$4)*(Projects!$L$5:$L$2413='MDOT FTA Detail'!$A98)*(Projects!$J$5:$J$2413<>'MDOT FTA Detail'!$A$171)*(Projects!$Q$5:$Q$2413))","v":0}]
["TAL","Transportation Alternatives Rural","MDOT FA",{"$f":"SUMPRODUCT((Projects!$A$5:$A$2413='MDOT FTA Detail'!$D$3)*(Projects!$C$5:$C$2413='MDOT FTA Detail'!$C$4)*(Projects!$L$5:$L$2413='MDOT FTA Detail'!$A99)*(Projects!$J$5:$J$2413<>'MDOT FTA Detail'!$A$171)*(Projects!$K$5:K$2413))","v":0},0,{"$f":"SUMPRODUCT((Projects!$A$5:$A$2413='MDOT FTA Detail'!$D$3)*(Projects!$C$5:$C$2413='MDOT FTA Detail'!$C$4)*(Projects!$L$5:$L$2413='MDOT FTA Detail'!$A99)*(Projects!$J$5:$J$2413<>'MDOT FTA Detail'!$A$171)*(Projects!$Q$5:Q$2413))","v":0},{"$f":"SUMPRODUCT((Projects!$A$5:$A$2413='MDOT FTA Detail'!$G$3)*(Projects!$C$5:$C$2413='MDOT FTA Detail'!$C$4)*(Projects!$L$5:$L$2413='MDOT FTA Detail'!$A99)*(Projects!$J$5:$J$2413<>'MDOT FTA Detail'!$A$171)*(Projects!$K$5:K$2413))","v":0},0,{"$f":"SUMPRODUCT((Projects!$A$5:$A$2413='MDOT FTA Detail'!$G$3)*(Projects!$C$5:$C$2413='MDOT FTA Detail'!$C$4)*(Projects!$L$5:$L$2413='MDOT FTA Detail'!$A99)*(Projects!$J$5:$J$2413<>'MDOT FTA Detail'!$A$171)*(Projects!$Q$5:Q$2413))","v":0},{"$f":"SUMPRODUCT((Projects!$A$5:$A$2413='MDOT FTA Detail'!$J$3)*(Projects!$C$5:$C$2413='MDOT FTA Detail'!$C$4)*(Projects!$L$5:$L$2413='MDOT FTA Detail'!$A99)*(Projects!$J$5:$J$2413<>'MDOT FTA Detail'!$A$171)*(Projects!$K$5:$K$2413))","v":0},0,{"$f":"SUMPRODUCT((Projects!$A$5:$A$2413='MDOT FTA Detail'!$J$3)*(Projects!$C$5:$C$2413='MDOT FTA Detail'!$C$4)*(Projects!$L$5:$L$2413='MDOT FTA Detail'!$A99)*(Projects!$J$5:$J$2413<>'MDOT FTA Detail'!$A$171)*(Projects!$Q$5:$Q$2413))","v":0},{"$f":"SUMPRODUCT((Projects!$A$5:$A$2413='MDOT FTA Detail'!$M$3)*(Projects!$C$5:$C$2413='MDOT FTA Detail'!$C$4)*(Projects!$L$5:$L$2413='MDOT FTA Detail'!$A99)*(Projects!$J$5:$J$2413<>'MDOT FTA Detail'!$A$171)*(Projects!$K$5:$K$2413))","v":0},0,{"$f":"SUMPRODUCT((Projects!$A$5:$A$2413='MDOT FTA Detail'!$M$3)*(Projects!$C$5:$C$2413='MDOT FTA Detail'!$C$4)*(Projects!$L$5:$L$2413='MDOT FTA Detail'!$A99)*(Projects!$J$5:$J$2413<>'MDOT FTA Detail'!$A$171)*(Projects!$Q$5:$Q$2413))","v":0}]
["TAU","Transportation Alternatives Urban Areas > 200,000 Population","MDOT FA",{"$f":"SUMPRODUCT((Projects!$A$5:$A$2413='MDOT FTA Detail'!$D$3)*(Projects!$C$5:$C$2413='MDOT FTA Detail'!$C$4)*(Projects!$L$5:$L$2413='MDOT FTA Detail'!$A100)*(Projects!$J$5:$J$2413<>'MDOT FTA Detail'!$A$171)*(Projects!$K$5:K$2413))","v":0},0,{"$f":"SUMPRODUCT((Projects!$A$5:$A$2413='MDOT FTA Detail'!$D$3)*(Projects!$C$5:$C$2413='MDOT FTA Detail'!$C$4)*(Projects!$L$5:$L$2413='MDOT FTA Detail'!$A100)*(Projects!$J$5:$J$2413<>'MDOT FTA Detail'!$A$171)*(Projects!$Q$5:Q$2413))","v":0},{"$f":"SUMPRODUCT((Projects!$A$5:$A$2413='MDOT FTA Detail'!$G$3)*(Projects!$C$5:$C$2413='MDOT FTA Detail'!$C$4)*(Projects!$L$5:$L$2413='MDOT FTA Detail'!$A100)*(Projects!$J$5:$J$2413<>'MDOT FTA Detail'!$A$171)*(Projects!$K$5:K$2413))","v":0},0,{"$f":"SUMPRODUCT((Projects!$A$5:$A$2413='MDOT FTA Detail'!$G$3)*(Projects!$C$5:$C$2413='MDOT FTA Detail'!$C$4)*(Projects!$L$5:$L$2413='MDOT FTA Detail'!$A100)*(Projects!$J$5:$J$2413<>'MDOT FTA Detail'!$A$171)*(Projects!$Q$5:Q$2413))","v":0},{"$f":"SUMPRODUCT((Projects!$A$5:$A$2413='MDOT FTA Detail'!$J$3)*(Projects!$C$5:$C$2413='MDOT FTA Detail'!$C$4)*(Projects!$L$5:$L$2413='MDOT FTA Detail'!$A100)*(Projects!$J$5:$J$2413<>'MDOT FTA Detail'!$A$171)*(Projects!$K$5:$K$2413))","v":0},0,{"$f":"SUMPRODUCT((Projects!$A$5:$A$2413='MDOT FTA Detail'!$J$3)*(Projects!$C$5:$C$2413='MDOT FTA Detail'!$C$4)*(Projects!$L$5:$L$2413='MDOT FTA Detail'!$A100)*(Projects!$J$5:$J$2413<>'MDOT FTA Detail'!$A$171)*(Projects!$Q$5:$Q$2413))","v":0},{"$f":"SUMPRODUCT((Projects!$A$5:$A$2413='MDOT FTA Detail'!$M$3)*(Projects!$C$5:$C$2413='MDOT FTA Detail'!$C$4)*(Projects!$L$5:$L$2413='MDOT FTA Detail'!$A100)*(Projects!$J$5:$J$2413<>'MDOT FTA Detail'!$A$171)*(Projects!$K$5:$K$2413))","v":0},0,{"$f":"SUMPRODUCT((Projects!$A$5:$A$2413='MDOT FTA Detail'!$M$3)*(Projects!$C$5:$C$2413='MDOT FTA Detail'!$C$4)*(Projects!$L$5:$L$2413='MDOT FTA Detail'!$A100)*(Projects!$J$5:$J$2413<>'MDOT FTA Detail'!$A$171)*(Projects!$Q$5:$Q$2413))","v":0}]
["TAUL","Transporation Alternatives Urban Areas < 200,000 Population","MDOT FA",{"$f":"SUMPRODUCT((Projects!$A$5:$A$2413='MDOT FTA Detail'!$D$3)*(Projects!$C$5:$C$2413='MDOT FTA Detail'!$C$4)*(Projects!$L$5:$L$2413='MDOT FTA Detail'!$A101)*(Projects!$J$5:$J$2413<>'MDOT FTA Detail'!$A$171)*(Projects!$K$5:K$2413))","v":0},0,{"$f":"SUMPRODUCT((Projects!$A$5:$A$2413='MDOT FTA Detail'!$D$3)*(Projects!$C$5:$C$2413='MDOT FTA Detail'!$C$4)*(Projects!$L$5:$L$2413='MDOT FTA Detail'!$A101)*(Projects!$J$5:$J$2413<>'MDOT FTA Detail'!$A$171)*(Projects!$Q$5:Q$2413))","v":0},{"$f":"SUMPRODUCT((Projects!$A$5:$A$2413='MDOT FTA Detail'!$G$3)*(Projects!$C$5:$C$2413='MDOT FTA Detail'!$C$4)*(Projects!$L$5:$L$2413='MDOT FTA Detail'!$A101)*(Projects!$J$5:$J$2413<>'MDOT FTA Detail'!$A$171)*(Projects!$K$5:K$2413))","v":0},0,{"$f":"SUMPRODUCT((Projects!$A$5:$A$2413='MDOT FTA Detail'!$G$3)*(Projects!$C$5:$C$2413='MDOT FTA Detail'!$C$4)*(Projects!$L$5:$L$2413='MDOT FTA Detail'!$A101)*(Projects!$J$5:$J$2413<>'MDOT FTA Detail'!$A$171)*(Projects!$Q$5:Q$2413))","v":0},{"$f":"SUMPRODUCT((Projects!$A$5:$A$2413='MDOT FTA Detail'!$J$3)*(Projects!$C$5:$C$2413='MDOT FTA Detail'!$C$4)*(Projects!$L$5:$L$2413='MDOT FTA Detail'!$A101)*(Projects!$J$5:$J$2413<>'MDOT FTA Detail'!$A$171)*(Projects!$K$5:$K$2413))","v":0},0,{"$f":"SUMPRODUCT((Projects!$A$5:$A$2413='MDOT FTA Detail'!$J$3)*(Projects!$C$5:$C$2413='MDOT FTA Detail'!$C$4)*(Projects!$L$5:$L$2413='MDOT FTA Detail'!$A101)*(Projects!$J$5:$J$2413<>'MDOT FTA Detail'!$A$171)*(Projects!$Q$5:$Q$2413))","v":0},{"$f":"SUMPRODUCT((Projects!$A$5:$A$2413='MDOT FTA Detail'!$M$3)*(Projects!$C$5:$C$2413='MDOT FTA Detail'!$C$4)*(Projects!$L$5:$L$2413='MDOT FTA Detail'!$A101)*(Projects!$J$5:$J$2413<>'MDOT FTA Detail'!$A$171)*(Projects!$K$5:$K$2413))","v":0},0,{"$f":"SUMPRODUCT((Projects!$A$5:$A$2413='MDOT FTA Detail'!$M$3)*(Projects!$C$5:$C$2413='MDOT FTA Detail'!$C$4)*(Projects!$L$5:$L$2413='MDOT FTA Detail'!$A101)*(Projects!$J$5:$J$2413<>'MDOT FTA Detail'!$A$171)*(Projects!$Q$5:$Q$2413))","v":0}]
["TBR","Timber Bridge Fund","MDOT FA",{"$f":"SUMPRODUCT((Projects!$A$5:$A$2413='MDOT FTA Detail'!$D$3)*(Projects!$C$5:$C$2413='MDOT FTA Detail'!$C$4)*(Projects!$L$5:$L$2413='MDOT FTA Detail'!$A102)*(Projects!$J$5:$J$2413<>'MDOT FTA Detail'!$A$171)*(Projects!$K$5:K$2413))","v":0},0,{"$f":"SUMPRODUCT((Projects!$A$5:$A$2413='MDOT FTA Detail'!$D$3)*(Projects!$C$5:$C$2413='MDOT FTA Detail'!$C$4)*(Projects!$L$5:$L$2413='MDOT FTA Detail'!$A102)*(Projects!$J$5:$J$2413<>'MDOT FTA Detail'!$A$171)*(Projects!$Q$5:Q$2413))","v":0},{"$f":"SUMPRODUCT((Projects!$A$5:$A$2413='MDOT FTA Detail'!$G$3)*(Projects!$C$5:$C$2413='MDOT FTA Detail'!$C$4)*(Projects!$L$5:$L$2413='MDOT FTA Detail'!$A102)*(Projects!$J$5:$J$2413<>'MDOT FTA Detail'!$A$171)*(Projects!$K$5:K$2413))","v":0},0,{"$f":"SUMPRODUCT((Projects!$A$5:$A$2413='MDOT FTA Detail'!$G$3)*(Projects!$C$5:$C$2413='MDOT FTA Detail'!$C$4)*(Projects!$L$5:$L$2413='MDOT FTA Detail'!$A102)*(Projects!$J$5:$J$2413<>'MDOT FTA Detail'!$A$171)*(Projects!$Q$5:Q$2413))","v":0},{"$f":"SUMPRODUCT((Projects!$A$5:$A$2413='MDOT FTA Detail'!$J$3)*(Projects!$C$5:$C$2413='MDOT FTA Detail'!$C$4)*(Projects!$L$5:$L$2413='MDOT FTA Detail'!$A102)*(Projects!$J$5:$J$2413<>'MDOT FTA Detail'!$A$171)*(Projects!$K$5:$K$2413))","v":0},0,{"$f":"SUMPRODUCT((Projects!$A$5:$A$2413='MDOT FTA Detail'!$J$3)*(Projects!$C$5:$C$2413='MDOT FTA Detail'!$C$4)*(Projects!$L$5:$L$2413='MDOT FTA Detail'!$A102)*(Projects!$J$5:$J$2413<>'MDOT FTA Detail'!$A$171)*(Projects!$Q$5:$Q$2413))","v":0},{"$f":"SUMPRODUCT((Projects!$A$5:$A$2413='MDOT FTA Detail'!$M$3)*(Projects!$C$5:$C$2413='MDOT FTA Detail'!$C$4)*(Projects!$L$5:$L$2413='MDOT FTA Detail'!$A102)*(Projects!$J$5:$J$2413<>'MDOT FTA Detail'!$A$171)*(Projects!$K$5:$K$2413))","v":0},0,{"$f":"SUMPRODUCT((Projects!$A$5:$A$2413='MDOT FTA Detail'!$M$3)*(Projects!$C$5:$C$2413='MDOT FTA Detail'!$C$4)*(Projects!$L$5:$L$2413='MDOT FTA Detail'!$A102)*(Projects!$J$5:$J$2413<>'MDOT FTA Detail'!$A$171)*(Projects!$Q$5:$Q$2413))","v":0}]
["TCP","Tax Compliance Program","MDOT FA",{"$f":"SUMPRODUCT((Projects!$A$5:$A$2413='MDOT FTA Detail'!$D$3)*(Projects!$C$5:$C$2413='MDOT FTA Detail'!$C$4)*(Projects!$L$5:$L$2413='MDOT FTA Detail'!$A103)*(Projects!$J$5:$J$2413<>'MDOT FTA Detail'!$A$171)*(Projects!$K$5:K$2413))","v":0},0,{"$f":"SUMPRODUCT((Projects!$A$5:$A$2413='MDOT FTA Detail'!$D$3)*(Projects!$C$5:$C$2413='MDOT FTA Detail'!$C$4)*(Projects!$L$5:$L$2413='MDOT FTA Detail'!$A103)*(Projects!$J$5:$J$2413<>'MDOT FTA Detail'!$A$171)*(Projects!$Q$5:Q$2413))","v":0},{"$f":"SUMPRODUCT((Projects!$A$5:$A$2413='MDOT FTA Detail'!$G$3)*(Projects!$C$5:$C$2413='MDOT FTA Detail'!$C$4)*(Projects!$L$5:$L$2413='MDOT FTA Detail'!$A103)*(Projects!$J$5:$J$2413<>'MDOT FTA Detail'!$A$171)*(Projects!$K$5:K$2413))","v":0},0,{"$f":"SUMPRODUCT((Projects!$A$5:$A$2413='MDOT FTA Detail'!$G$3)*(Projects!$C$5:$C$2413='MDOT FTA Detail'!$C$4)*(Projects!$L$5:$L$2413='MDOT FTA Detail'!$A103)*(Projects!$J$5:$J$2413<>'MDOT FTA Detail'!$A$171)*(Projects!$Q$5:Q$2413))","v":0},{"$f":"SUMPRODUCT((Projects!$A$5:$A$2413='MDOT FTA Detail'!$J$3)*(Projects!$C$5:$C$2413='MDOT FTA Detail'!$C$4)*(Projects!$L$5:$L$2413='MDOT FTA Detail'!$A103)*(Projects!$J$5:$J$2413<>'MDOT FTA Detail'!$A$171)*(Projects!$K$5:$K$2413))","v":0},0,{"$f":"SUMPRODUCT((Projects!$A$5:$A$2413='MDOT FTA Detail'!$J$3)*(Projects!$C$5:$C$2413='MDOT FTA Detail'!$C$4)*(Projects!$L$5:$L$2413='MDOT FTA Detail'!$A103)*(Projects!$J$5:$J$2413<>'MDOT FTA Detail'!$A$171)*(Projects!$Q$5:$Q$2413))","v":0},{"$f":"SUMPRODUCT((Projects!$A$5:$A$2413='MDOT FTA Detail'!$M$3)*(Projects!$C$5:$C$2413='MDOT FTA Detail'!$C$4)*(Projects!$L$5:$L$2413='MDOT FTA Detail'!$A103)*(Projects!$J$5:$J$2413<>'MDOT FTA Detail'!$A$171)*(Projects!$K$5:$K$2413))","v":0},0,{"$f":"SUMPRODUCT((Projects!$A$5:$A$2413='MDOT FTA Detail'!$M$3)*(Projects!$C$5:$C$2413='MDOT FTA Detail'!$C$4)*(Projects!$L$5:$L$2413='MDOT FTA Detail'!$A103)*(Projects!$J$5:$J$2413<>'MDOT FTA Detail'!$A$171)*(Projects!$Q$5:$Q$2413))","v":0}]
["TCSP","Transportation, Community and System Preservation","MDOT FA",{"$f":"SUMPRODUCT((Projects!$A$5:$A$2413='MDOT FTA Detail'!$D$3)*(Projects!$C$5:$C$2413='MDOT FTA Detail'!$C$4)*(Projects!$L$5:$L$2413='MDOT FTA Detail'!$A104)*(Projects!$J$5:$J$2413<>'MDOT FTA Detail'!$A$171)*(Projects!$K$5:K$2413))","v":0},0,{"$f":"SUMPRODUCT((Projects!$A$5:$A$2413='MDOT FTA Detail'!$D$3)*(Projects!$C$5:$C$2413='MDOT FTA Detail'!$C$4)*(Projects!$L$5:$L$2413='MDOT FTA Detail'!$A104)*(Projects!$J$5:$J$2413<>'MDOT FTA Detail'!$A$171)*(Projects!$Q$5:Q$2413))","v":0},{"$f":"SUMPRODUCT((Projects!$A$5:$A$2413='MDOT FTA Detail'!$G$3)*(Projects!$C$5:$C$2413='MDOT FTA Detail'!$C$4)*(Projects!$L$5:$L$2413='MDOT FTA Detail'!$A104)*(Projects!$J$5:$J$2413<>'MDOT FTA Detail'!$A$171)*(Projects!$K$5:K$2413))","v":0},0,{"$f":"SUMPRODUCT((Projects!$A$5:$A$2413='MDOT FTA Detail'!$G$3)*(Projects!$C$5:$C$2413='MDOT FTA Detail'!$C$4)*(Projects!$L$5:$L$2413='MDOT FTA Detail'!$A104)*(Projects!$J$5:$J$2413<>'MDOT FTA Detail'!$A$171)*(Projects!$Q$5:Q$2413))","v":0},{"$f":"SUMPRODUCT((Projects!$A$5:$A$2413='MDOT FTA Detail'!$J$3)*(Projects!$C$5:$C$2413='MDOT FTA Detail'!$C$4)*(Projects!$L$5:$L$2413='MDOT FTA Detail'!$A104)*(Projects!$J$5:$J$2413<>'MDOT FTA Detail'!$A$171)*(Projects!$K$5:$K$2413))","v":0},0,{"$f":"SUMPRODUCT((Projects!$A$5:$A$2413='MDOT FTA Detail'!$J$3)*(Projects!$C$5:$C$2413='MDOT FTA Detail'!$C$4)*(Projects!$L$5:$L$2413='MDOT FTA Detail'!$A104)*(Projects!$J$5:$J$2413<>'MDOT FTA Detail'!$A$171)*(Projects!$Q$5:$Q$2413))","v":0},{"$f":"SUMPRODUCT((Projects!$A$5:$A$2413='MDOT FTA Detail'!$M$3)*(Projects!$C$5:$C$2413='MDOT FTA Detail'!$C$4)*(Projects!$L$5:$L$2413='MDOT FTA Detail'!$A104)*(Projects!$J$5:$J$2413<>'MDOT FTA Detail'!$A$171)*(Projects!$K$5:$K$2413))","v":0},0,{"$f":"SUMPRODUCT((Projects!$A$5:$A$2413='MDOT FTA Detail'!$M$3)*(Projects!$C$5:$C$2413='MDOT FTA Detail'!$C$4)*(Projects!$L$5:$L$2413='MDOT FTA Detail'!$A104)*(Projects!$J$5:$J$2413<>'MDOT FTA Detail'!$A$171)*(Projects!$Q$5:$Q$2413))","v":0}]
["TG","Transportation  Grant (100% Fed)","MDOT FA",{"$f":"SUMPRODUCT((Projects!$A$5:$A$2413='MDOT FTA Detail'!$D$3)*(Projects!$C$5:$C$2413='MDOT FTA Detail'!$C$4)*(Projects!$L$5:$L$2413='MDOT FTA Detail'!$A105)*(Projects!$J$5:$J$2413<>'MDOT FTA Detail'!$A$171)*(Projects!$K$5:K$2413))","v":0},0,{"$f":"SUMPRODUCT((Projects!$A$5:$A$2413='MDOT FTA Detail'!$D$3)*(Projects!$C$5:$C$2413='MDOT FTA Detail'!$C$4)*(Projects!$L$5:$L$2413='MDOT FTA Detail'!$A105)*(Projects!$J$5:$J$2413<>'MDOT FTA Detail'!$A$171)*(Projects!$Q$5:Q$2413))","v":0},{"$f":"SUMPRODUCT((Projects!$A$5:$A$2413='MDOT FTA Detail'!$G$3)*(Projects!$C$5:$C$2413='MDOT FTA Detail'!$C$4)*(Projects!$L$5:$L$2413='MDOT FTA Detail'!$A105)*(Projects!$J$5:$J$2413<>'MDOT FTA Detail'!$A$171)*(Projects!$K$5:K$2413))","v":0},0,{"$f":"SUMPRODUCT((Projects!$A$5:$A$2413='MDOT FTA Detail'!$G$3)*(Projects!$C$5:$C$2413='MDOT FTA Detail'!$C$4)*(Projects!$L$5:$L$2413='MDOT FTA Detail'!$A105)*(Projects!$J$5:$J$2413<>'MDOT FTA Detail'!$A$171)*(Projects!$Q$5:Q$2413))","v":0},{"$f":"SUMPRODUCT((Projects!$A$5:$A$2413='MDOT FTA Detail'!$J$3)*(Projects!$C$5:$C$2413='MDOT FTA Detail'!$C$4)*(Projects!$L$5:$L$2413='MDOT FTA Detail'!$A105)*(Projects!$J$5:$J$2413<>'MDOT FTA Detail'!$A$171)*(Projects!$K$5:$K$2413))","v":0},0,{"$f":"SUMPRODUCT((Projects!$A$5:$A$2413='MDOT FTA Detail'!$J$3)*(Projects!$C$5:$C$2413='MDOT FTA Detail'!$C$4)*(Projects!$L$5:$L$2413='MDOT FTA Detail'!$A105)*(Projects!$J$5:$J$2413<>'MDOT FTA Detail'!$A$171)*(Projects!$Q$5:$Q$2413))","v":0},{"$f":"SUMPRODUCT((Projects!$A$5:$A$2413='MDOT FTA Detail'!$M$3)*(Projects!$C$5:$C$2413='MDOT FTA Detail'!$C$4)*(Projects!$L$5:$L$2413='MDOT FTA Detail'!$A105)*(Projects!$J$5:$J$2413<>'MDOT FTA Detail'!$A$171)*(Projects!$K$5:$K$2413))","v":0},0,{"$f":"SUMPRODUCT((Projects!$A$5:$A$2413='MDOT FTA Detail'!$M$3)*(Projects!$C$5:$C$2413='MDOT FTA Detail'!$C$4)*(Projects!$L$5:$L$2413='MDOT FTA Detail'!$A105)*(Projects!$J$5:$J$2413<>'MDOT FTA Detail'!$A$171)*(Projects!$Q$5:$Q$2413))","v":0}]
["TGR2","TIGER II Discretionary Grant","MDOT FA",{"$f":"SUMPRODUCT((Projects!$A$5:$A$2413='MDOT FTA Detail'!$D$3)*(Projects!$C$5:$C$2413='MDOT FTA Detail'!$C$4)*(Projects!$L$5:$L$2413='MDOT FTA Detail'!$A106)*(Projects!$J$5:$J$2413<>'MDOT FTA Detail'!$A$171)*(Projects!$K$5:K$2413))","v":0},{"$f":"F106-D106","v":0},{"$f":"SUMPRODUCT((Projects!$A$5:$A$2413='MDOT FTA Detail'!$D$3)*(Projects!$C$5:$C$2413='MDOT FTA Detail'!$C$4)*(Projects!$L$5:$L$2413='MDOT FTA Detail'!$A106)*(Projects!$J$5:$J$2413<>'MDOT FTA Detail'!$A$171)*(Projects!$Q$5:Q$2413))","v":0},{"$f":"SUMPRODUCT((Projects!$A$5:$A$2413='MDOT FTA Detail'!$G$3)*(Projects!$C$5:$C$2413='MDOT FTA Detail'!$C$4)*(Projects!$L$5:$L$2413='MDOT FTA Detail'!$A106)*(Projects!$J$5:$J$2413<>'MDOT FTA Detail'!$A$171)*(Projects!$K$5:K$2413))","v":0},{"$f":"I106-G106","v":0},{"$f":"SUMPRODUCT((Projects!$A$5:$A$2413='MDOT FTA Detail'!$G$3)*(Projects!$C$5:$C$2413='MDOT FTA Detail'!$C$4)*(Projects!$L$5:$L$2413='MDOT FTA Detail'!$A106)*(Projects!$J$5:$J$2413<>'MDOT FTA Detail'!$A$171)*(Projects!$Q$5:Q$2413))","v":0},{"$f":"SUMPRODUCT((Projects!$A$5:$A$2413='MDOT FTA Detail'!$J$3)*(Projects!$C$5:$C$2413='MDOT FTA Detail'!$C$4)*(Projects!$L$5:$L$2413='MDOT FTA Detail'!$A106)*(Projects!$J$5:$J$2413<>'MDOT FTA Detail'!$A$171)*(Projects!$K$5:$K$2413))","v":0},{"$f":"L106-J106","v":0},{"$f":"SUMPRODUCT((Projects!$A$5:$A$2413='MDOT FTA Detail'!$J$3)*(Projects!$C$5:$C$2413='MDOT FTA Detail'!$C$4)*(Projects!$L$5:$L$2413='MDOT FTA Detail'!$A106)*(Projects!$J$5:$J$2413<>'MDOT FTA Detail'!$A$171)*(Projects!$Q$5:$Q$2413))","v":0},{"$f":"SUMPRODUCT((Projects!$A$5:$A$2413='MDOT FTA Detail'!$M$3)*(Projects!$C$5:$C$2413='MDOT FTA Detail'!$C$4)*(Projects!$L$5:$L$2413='MDOT FTA Detail'!$A106)*(Projects!$J$5:$J$2413<>'MDOT FTA Detail'!$A$171)*(Projects!$K$5:$K$2413))","v":0},{"$f":"O106-M106","v":0},{"$f":"SUMPRODUCT((Projects!$A$5:$A$2413='MDOT FTA Detail'!$M$3)*(Projects!$C$5:$C$2413='MDOT FTA Detail'!$C$4)*(Projects!$L$5:$L$2413='MDOT FTA Detail'!$A106)*(Projects!$J$5:$J$2413<>'MDOT FTA Detail'!$A$171)*(Projects!$Q$5:$Q$2413))","v":0}]
["TGR3","TIGER III Discretionary Grant","MDOT FA",{"$f":"SUMPRODUCT((Projects!$A$5:$A$2413='MDOT FTA Detail'!$D$3)*(Projects!$C$5:$C$2413='MDOT FTA Detail'!$C$4)*(Projects!$L$5:$L$2413='MDOT FTA Detail'!$A107)*(Projects!$J$5:$J$2413<>'MDOT FTA Detail'!$A$171)*(Projects!$K$5:K$2413))","v":0},{"$f":"F107-D107","v":0},{"$f":"SUMPRODUCT((Projects!$A$5:$A$2413='MDOT FTA Detail'!$D$3)*(Projects!$C$5:$C$2413='MDOT FTA Detail'!$C$4)*(Projects!$L$5:$L$2413='MDOT FTA Detail'!$A107)*(Projects!$J$5:$J$2413<>'MDOT FTA Detail'!$A$171)*(Projects!$Q$5:Q$2413))","v":0},{"$f":"SUMPRODUCT((Projects!$A$5:$A$2413='MDOT FTA Detail'!$G$3)*(Projects!$C$5:$C$2413='MDOT FTA Detail'!$C$4)*(Projects!$L$5:$L$2413='MDOT FTA Detail'!$A107)*(Projects!$J$5:$J$2413<>'MDOT FTA Detail'!$A$171)*(Projects!$K$5:K$2413))","v":0},{"$f":"I107-G107","v":0},{"$f":"SUMPRODUCT((Projects!$A$5:$A$2413='MDOT FTA Detail'!$G$3)*(Projects!$C$5:$C$2413='MDOT FTA Detail'!$C$4)*(Projects!$L$5:$L$2413='MDOT FTA Detail'!$A107)*(Projects!$J$5:$J$2413<>'MDOT FTA Detail'!$A$171)*(Projects!$Q$5:Q$2413))","v":0},{"$f":"SUMPRODUCT((Projects!$A$5:$A$2413='MDOT FTA Detail'!$J$3)*(Projects!$C$5:$C$2413='MDOT FTA Detail'!$C$4)*(Projects!$L$5:$L$2413='MDOT FTA Detail'!$A107)*(Projects!$J$5:$J$2413<>'MDOT FTA Detail'!$A$171)*(Projects!$K$5:$K$2413))","v":0},{"$f":"L107-J107","v":0},{"$f":"SUMPRODUCT((Projects!$A$5:$A$2413='MDOT FTA Detail'!$J$3)*(Projects!$C$5:$C$2413='MDOT FTA Detail'!$C$4)*(Projects!$L$5:$L$2413='MDOT FTA Detail'!$A107)*(Projects!$J$5:$J$2413<>'MDOT FTA Detail'!$A$171)*(Projects!$Q$5:$Q$2413))","v":0},{"$f":"SUMPRODUCT((Projects!$A$5:$A$2413='MDOT FTA Detail'!$M$3)*(Projects!$C$5:$C$2413='MDOT FTA Detail'!$C$4)*(Projects!$L$5:$L$2413='MDOT FTA Detail'!$A107)*(Projects!$J$5:$J$2413<>'MDOT FTA Detail'!$A$171)*(Projects!$K$5:$K$2413))","v":0},{"$f":"O107-M107","v":0},{"$f":"SUMPRODUCT((Projects!$A$5:$A$2413='MDOT FTA Detail'!$M$3)*(Projects!$C$5:$C$2413='MDOT FTA Detail'!$C$4)*(Projects!$L$5:$L$2413='MDOT FTA Detail'!$A107)*(Projects!$J$5:$J$2413<>'MDOT FTA Detail'!$A$171)*(Projects!$Q$5:$Q$2413))","v":0}]
["TIP","Transportation Improvements Projects SAFETEA-LU","MDOT FA",{"$f":"SUMPRODUCT((Projects!$A$5:$A$2413='MDOT FTA Detail'!$D$3)*(Projects!$C$5:$C$2413='MDOT FTA Detail'!$C$4)*(Projects!$L$5:$L$2413='MDOT FTA Detail'!$A108)*(Projects!$J$5:$J$2413<>'MDOT FTA Detail'!$A$171)*(Projects!$K$5:K$2413))","v":0},{"$f":"F108-D108","v":0},{"$f":"SUMPRODUCT((Projects!$A$5:$A$2413='MDOT FTA Detail'!$D$3)*(Projects!$C$5:$C$2413='MDOT FTA Detail'!$C$4)*(Projects!$L$5:$L$2413='MDOT FTA Detail'!$A108)*(Projects!$J$5:$J$2413<>'MDOT FTA Detail'!$A$171)*(Projects!$Q$5:Q$2413))","v":0},{"$f":"SUMPRODUCT((Projects!$A$5:$A$2413='MDOT FTA Detail'!$G$3)*(Projects!$C$5:$C$2413='MDOT FTA Detail'!$C$4)*(Projects!$L$5:$L$2413='MDOT FTA Detail'!$A108)*(Projects!$J$5:$J$2413<>'MDOT FTA Detail'!$A$171)*(Projects!$K$5:K$2413))","v":0},{"$f":"I108-G108","v":0},{"$f":"SUMPRODUCT((Projects!$A$5:$A$2413='MDOT FTA Detail'!$G$3)*(Projects!$C$5:$C$2413='MDOT FTA Detail'!$C$4)*(Projects!$L$5:$L$2413='MDOT FTA Detail'!$A108)*(Projects!$J$5:$J$2413<>'MDOT FTA Detail'!$A$171)*(Projects!$Q$5:Q$2413))","v":0},{"$f":"SUMPRODUCT((Projects!$A$5:$A$2413='MDOT FTA Detail'!$J$3)*(Projects!$C$5:$C$2413='MDOT FTA Detail'!$C$4)*(Projects!$L$5:$L$2413='MDOT FTA Detail'!$A108)*(Projects!$J$5:$J$2413<>'MDOT FTA Detail'!$A$171)*(Projects!$K$5:$K$2413))","v":0},{"$f":"L108-J108","v":0},{"$f":"SUMPRODUCT((Projects!$A$5:$A$2413='MDOT FTA Detail'!$J$3)*(Projects!$C$5:$C$2413='MDOT FTA Detail'!$C$4)*(Projects!$L$5:$L$2413='MDOT FTA Detail'!$A108)*(Projects!$J$5:$J$2413<>'MDOT FTA Detail'!$A$171)*(Projects!$Q$5:$Q$2413))","v":0},{"$f":"SUMPRODUCT((Projects!$A$5:$A$2413='MDOT FTA Detail'!$M$3)*(Projects!$C$5:$C$2413='MDOT FTA Detail'!$C$4)*(Projects!$L$5:$L$2413='MDOT FTA Detail'!$A108)*(Projects!$J$5:$J$2413<>'MDOT FTA Detail'!$A$171)*(Projects!$K$5:$K$2413))","v":0},{"$f":"O108-M108","v":0},{"$f":"SUMPRODUCT((Projects!$A$5:$A$2413='MDOT FTA Detail'!$M$3)*(Projects!$C$5:$C$2413='MDOT FTA Detail'!$C$4)*(Projects!$L$5:$L$2413='MDOT FTA Detail'!$A108)*(Projects!$J$5:$J$2413<>'MDOT FTA Detail'!$A$171)*(Projects!$Q$5:$Q$2413))","v":0}]
["TPFD","Truck Parking Faciilities Discretionary","MDOT FA",{"$f":"SUMPRODUCT((Projects!$A$5:$A$2413='MDOT FTA Detail'!$D$3)*(Projects!$C$5:$C$2413='MDOT FTA Detail'!$C$4)*(Projects!$L$5:$L$2413='MDOT FTA Detail'!$A109)*(Projects!$J$5:$J$2413<>'MDOT FTA Detail'!$A$171)*(Projects!$K$5:K$2413))","v":0},0,{"$f":"SUMPRODUCT((Projects!$A$5:$A$2413='MDOT FTA Detail'!$D$3)*(Projects!$C$5:$C$2413='MDOT FTA Detail'!$C$4)*(Projects!$L$5:$L$2413='MDOT FTA Detail'!$A109)*(Projects!$J$5:$J$2413<>'MDOT FTA Detail'!$A$171)*(Projects!$Q$5:Q$2413))","v":0},{"$f":"SUMPRODUCT((Projects!$A$5:$A$2413='MDOT FTA Detail'!$G$3)*(Projects!$C$5:$C$2413='MDOT FTA Detail'!$C$4)*(Projects!$L$5:$L$2413='MDOT FTA Detail'!$A109)*(Projects!$J$5:$J$2413<>'MDOT FTA Detail'!$A$171)*(Projects!$K$5:K$2413))","v":0},0,{"$f":"SUMPRODUCT((Projects!$A$5:$A$2413='MDOT FTA Detail'!$G$3)*(Projects!$C$5:$C$2413='MDOT FTA Detail'!$C$4)*(Projects!$L$5:$L$2413='MDOT FTA Detail'!$A109)*(Projects!$J$5:$J$2413<>'MDOT FTA Detail'!$A$171)*(Projects!$Q$5:Q$2413))","v":0},{"$f":"SUMPRODUCT((Projects!$A$5:$A$2413='MDOT FTA Detail'!$J$3)*(Projects!$C$5:$C$2413='MDOT FTA Detail'!$C$4)*(Projects!$L$5:$L$2413='MDOT FTA Detail'!$A109)*(Projects!$J$5:$J$2413<>'MDOT FTA Detail'!$A$171)*(Projects!$K$5:$K$2413))","v":0},0,{"$f":"SUMPRODUCT((Projects!$A$5:$A$2413='MDOT FTA Detail'!$J$3)*(Projects!$C$5:$C$2413='MDOT FTA Detail'!$C$4)*(Projects!$L$5:$L$2413='MDOT FTA Detail'!$A109)*(Projects!$J$5:$J$2413<>'MDOT FTA Detail'!$A$171)*(Projects!$Q$5:$Q$2413))","v":0},{"$f":"SUMPRODUCT((Projects!$A$5:$A$2413='MDOT FTA Detail'!$M$3)*(Projects!$C$5:$C$2413='MDOT FTA Detail'!$C$4)*(Projects!$L$5:$L$2413='MDOT FTA Detail'!$A109)*(Projects!$J$5:$J$2413<>'MDOT FTA Detail'!$A$171)*(Projects!$K$5:$K$2413))","v":0},0,{"$f":"SUMPRODUCT((Projects!$A$5:$A$2413='MDOT FTA Detail'!$M$3)*(Projects!$C$5:$C$2413='MDOT FTA Detail'!$C$4)*(Projects!$L$5:$L$2413='MDOT FTA Detail'!$A109)*(Projects!$J$5:$J$2413<>'MDOT FTA Detail'!$A$171)*(Projects!$Q$5:$Q$2413))","v":0}]
["CTF","CTF - Comprehensive Transportation Fund","Transit",{"$f":"SUMPRODUCT((Projects!$A$5:$A$2413='MDOT FTA Detail'!$D$3)*(Projects!$L$5:$L$2413='MDOT FTA Detail'!$A110)*(Projects!$K$5:$K$2413))","v":0},{"$f":"F110-D110","v":0},{"$f":"SUMPRODUCT((Projects!$A$5:$A$2413='MDOT FTA Detail'!$D$3)*(Projects!$L$5:$L$2413='MDOT FTA Detail'!$A110)*(Projects!$Q$5:$Q$2413))","v":0},{"$f":"SUMPRODUCT((Projects!$A$5:$A$2413='MDOT FTA Detail'!$G$3)*(Projects!$L$5:$L$2413='MDOT FTA Detail'!$A110)*(Projects!$K$5:$K$2413))","v":0},{"$f":"I110-G110","v":0},{"$f":"SUMPRODUCT((Projects!$A$5:$A$2413='MDOT FTA Detail'!$G$3)*(Projects!$L$5:$L$2413='MDOT FTA Detail'!$A110)*(Projects!$Q$5:$Q$2413))","v":0},{"$f":"SUMPRODUCT((Projects!$A$5:$A$2413='MDOT FTA Detail'!$J$3)*(Projects!$L$5:$L$2413='MDOT FTA Detail'!$A110)*(Projects!$K$5:$K$2413))","v":0},{"$f":"L110-J110","v":0},{"$f":"SUMPRODUCT((Projects!$A$5:$A$2413='MDOT FTA Detail'!$J$3)*(Projects!$L$5:$L$2413='MDOT FTA Detail'!$A110)*(Projects!$Q$5:$Q$2413))","v":0},{"$f":"SUMPRODUCT((Projects!$A$5:$A$2413='MDOT FTA Detail'!$M$3)*(Projects!$L$5:$L$2413='MDOT FTA Detail'!$A110)*(Projects!$K$5:$K$2413))","v":0},{"$f":"O110-M110","v":0},{"$f":"SUMPRODUCT((Projects!$A$5:$A$2413='MDOT FTA Detail'!$M$3)*(Projects!$L$5:$L$2413='MDOT FTA Detail'!$A110)*(Projects!$Q$5:$Q$2413))","v":0}]
[3038,"Section 3038 - Over the Road Bus Program","Transit",{"$f":"SUMPRODUCT((Projects!$A$5:$A$2413='MDOT FTA Detail'!$D$3)*(Projects!$L$5:$L$2413='MDOT FTA Detail'!$A111)*(Projects!$K$5:$K$2413))","v":0},{"$f":"F111-D111","v":0},{"$f":"SUMPRODUCT((Projects!$A$5:$A$2413='MDOT FTA Detail'!$D$3)*(Projects!$L$5:$L$2413='MDOT FTA Detail'!$A111)*(Projects!$Q$5:$Q$2413))","v":0},{"$f":"SUMPRODUCT((Projects!$A$5:$A$2413='MDOT FTA Detail'!$G$3)*(Projects!$L$5:$L$2413='MDOT FTA Detail'!$A111)*(Projects!$K$5:$K$2413))","v":0},{"$f":"I111-G111","v":0},{"$f":"SUMPRODUCT((Projects!$A$5:$A$2413='MDOT FTA Detail'!$G$3)*(Projects!$L$5:$L$2413='MDOT FTA Detail'!$A111)*(Projects!$Q$5:$Q$2413))","v":0},{"$f":"SUMPRODUCT((Projects!$A$5:$A$2413='MDOT FTA Detail'!$J$3)*(Projects!$L$5:$L$2413='MDOT FTA Detail'!$A111)*(Projects!$K$5:$K$2413))","v":0},{"$f":"L111-J111","v":0},{"$f":"SUMPRODUCT((Projects!$A$5:$A$2413='MDOT FTA Detail'!$J$3)*(Projects!$L$5:$L$2413='MDOT FTA Detail'!$A111)*(Projects!$Q$5:$Q$2413))","v":0},{"$f":"SUMPRODUCT((Projects!$A$5:$A$2413='MDOT FTA Detail'!$M$3)*(Projects!$L$5:$L$2413='MDOT FTA Detail'!$A111)*(Projects!$K$5:$K$2413))","v":0},{"$f":"O111-M111","v":0},{"$f":"SUMPRODUCT((Projects!$A$5:$A$2413='MDOT FTA Detail'!$M$3)*(Projects!$L$5:$L$2413='MDOT FTA Detail'!$A111)*(Projects!$Q$5:$Q$2413))","v":0}]
[3045,"Section 3045 - National Fuel Cell Technology Development Program","Transit",{"$f":"SUMPRODUCT((Projects!$A$5:$A$2413='MDOT FTA Detail'!$D$3)*(Projects!$L$5:$L$2413='MDOT FTA Detail'!$A112)*(Projects!$K$5:$K$2413))","v":0},{"$f":"F112-D112","v":0},{"$f":"SUMPRODUCT((Projects!$A$5:$A$2413='MDOT FTA Detail'!$D$3)*(Projects!$L$5:$L$2413='MDOT FTA Detail'!$A112)*(Projects!$Q$5:$Q$2413))","v":0},{"$f":"SUMPRODUCT((Projects!$A$5:$A$2413='MDOT FTA Detail'!$G$3)*(Projects!$L$5:$L$2413='MDOT FTA Detail'!$A112)*(Projects!$K$5:$K$2413))","v":0},{"$f":"I112-G112","v":0},{"$f":"SUMPRODUCT((Projects!$A$5:$A$2413='MDOT FTA Detail'!$G$3)*(Projects!$L$5:$L$2413='MDOT FTA Detail'!$A112)*(Projects!$Q$5:$Q$2413))","v":0},{"$f":"SUMPRODUCT((Projects!$A$5:$A$2413='MDOT FTA Detail'!$J$3)*(Projects!$L$5:$L$2413='MDOT FTA Detail'!$A112)*(Projects!$K$5:$K$2413))","v":0},{"$f":"L112-J112","v":0},{"$f":"SUMPRODUCT((Projects!$A$5:$A$2413='MDOT FTA Detail'!$J$3)*(Projects!$L$5:$L$2413='MDOT FTA Detail'!$A112)*(Projects!$Q$5:$Q$2413))","v":0},{"$f":"SUMPRODUCT((Projects!$A$5:$A$2413='MDOT FTA Detail'!$M$3)*(Projects!$L$5:$L$2413='MDOT FTA Detail'!$A112)*(Projects!$K$5:$K$2413))","v":0},{"$f":"O112-M112","v":0},{"$f":"SUMPRODUCT((Projects!$A$5:$A$2413='MDOT FTA Detail'!$M$3)*(Projects!$L$5:$L$2413='MDOT FTA Detail'!$A112)*(Projects!$Q$5:$Q$2413))","v":0}]
[5303,"Section 5303 - Metropolitan Transportation Planning","Transit",{"$f":"SUMPRODUCT((Projects!$A$5:$A$2413='MDOT FTA Detail'!$D$3)*(Projects!$L$5:$L$2413='MDOT FTA Detail'!$A113)*(Projects!$K$5:$K$2413))","v":0},{"$f":"F113-D113","v":0},{"$f":"SUMPRODUCT((Projects!$A$5:$A$2413='MDOT FTA Detail'!$D$3)*(Projects!$L$5:$L$2413='MDOT FTA Detail'!$A113)*(Projects!$Q$5:$Q$2413))","v":0},{"$f":"SUMPRODUCT((Projects!$A$5:$A$2413='MDOT FTA Detail'!$G$3)*(Projects!$L$5:$L$2413='MDOT FTA Detail'!$A113)*(Projects!$K$5:$K$2413))","v":0},0,{"$f":"SUMPRODUCT((Projects!$A$5:$A$2413='MDOT FTA Detail'!$G$3)*(Projects!$L$5:$L$2413='MDOT FTA Detail'!$A113)*(Projects!$Q$5:$Q$2413))","v":0},{"$f":"SUMPRODUCT((Projects!$A$5:$A$2413='MDOT FTA Detail'!$J$3)*(Projects!$L$5:$L$2413='MDOT FTA Detail'!$A113)*(Projects!$K$5:$K$2413))","v":0},0,{"$f":"SUMPRODUCT((Projects!$A$5:$A$2413='MDOT FTA Detail'!$J$3)*(Projects!$L$5:$L$2413='MDOT FTA Detail'!$A113)*(Projects!$Q$5:$Q$2413))","v":0},{"$f":"SUMPRODUCT((Projects!$A$5:$A$2413='MDOT FTA Detail'!$M$3)*(Projects!$L$5:$L$2413='MDOT FTA Detail'!$A113)*(Projects!$K$5:$K$2413))","v":0},0,{"$f":"SUMPRODUCT((Projects!$A$5:$A$2413='MDOT FTA Detail'!$M$3)*(Projects!$L$5:$L$2413='MDOT FTA Detail'!$A113)*(Projects!$Q$5:$Q$2413))","v":0}]
[5304,"Section 5304 - Statewide Transportation Planning","Transit",{"$f":"SUMPRODUCT((Projects!$A$5:$A$2413='MDOT FTA Detail'!$D$3)*(Projects!$L$5:$L$2413='MDOT FTA Detail'!$A114)*(Projects!$K$5:$K$2413))","v":0},0,{"$f":"SUMPRODUCT((Projects!$A$5:$A$2413='MDOT FTA Detail'!$D$3)*(Projects!$L$5:$L$2413='MDOT FTA Detail'!$A114)*(Projects!$Q$5:$Q$2413))","v":0},{"$f":"SUMPRODUCT((Projects!$A$5:$A$2413='MDOT FTA Detail'!$G$3)*(Projects!$L$5:$L$2413='MDOT FTA Detail'!$A114)*(Projects!$K$5:$K$2413))","v":0},0,{"$f":"SUMPRODUCT((Projects!$A$5:$A$2413='MDOT FTA Detail'!$G$3)*(Projects!$L$5:$L$2413='MDOT FTA Detail'!$A114)*(Projects!$Q$5:$Q$2413))","v":0},{"$f":"SUMPRODUCT((Projects!$A$5:$A$2413='MDOT FTA Detail'!$J$3)*(Projects!$L$5:$L$2413='MDOT FTA Detail'!$A114)*(Projects!$K$5:$K$2413))","v":0},0,{"$f":"SUMPRODUCT((Projects!$A$5:$A$2413='MDOT FTA Detail'!$J$3)*(Projects!$L$5:$L$2413='MDOT FTA Detail'!$A114)*(Projects!$Q$5:$Q$2413))","v":0},{"$f":"SUMPRODUCT((Projects!$A$5:$A$2413='MDOT FTA Detail'!$M$3)*(Projects!$L$5:$L$2413='MDOT FTA Detail'!$A114)*(Projects!$K$5:$K$2413))","v":0},0,{"$f":"SUMPRODUCT((Projects!$A$5:$A$2413='MDOT FTA Detail'!$M$3)*(Projects!$L$5:$L$2413='MDOT FTA Detail'!$A114)*(Projects!$Q$5:$Q$2413))","v":0}]
[5305,"Section 5305 - Metropolitan and Statewide Planning","Transit",{"$f":"SUMPRODUCT((Projects!$A$5:$A$2413='MDOT FTA Detail'!$D$3)*(Projects!$L$5:$L$2413='MDOT FTA Detail'!$A115)*(Projects!$K$5:$K$2413))","v":0},0,{"$f":"SUMPRODUCT((Projects!$A$5:$A$2413='MDOT FTA Detail'!$D$3)*(Projects!$L$5:$L$2413='MDOT FTA Detail'!$A115)*(Projects!$Q$5:$Q$2413))","v":0},{"$f":"SUMPRODUCT((Projects!$A$5:$A$2413='MDOT FTA Detail'!$G$3)*(Projects!$L$5:$L$2413='MDOT FTA Detail'!$A115)*(Projects!$K$5:$K$2413))","v":0},0,{"$f":"SUMPRODUCT((Projects!$A$5:$A$2413='MDOT FTA Detail'!$G$3)*(Projects!$L$5:$L$2413='MDOT FTA Detail'!$A115)*(Projects!$Q$5:$Q$2413))","v":0},{"$f":"SUMPRODUCT((Projects!$A$5:$A$2413='MDOT FTA Detail'!$J$3)*(Projects!$L$5:$L$2413='MDOT FTA Detail'!$A115)*(Projects!$K$5:$K$2413))","v":0},0,{"$f":"SUMPRODUCT((Projects!$A$5:$A$2413='MDOT FTA Detail'!$J$3)*(Projects!$L$5:$L$2413='MDOT FTA Detail'!$A115)*(Projects!$Q$5:$Q$2413))","v":0},{"$f":"SUMPRODUCT((Projects!$A$5:$A$2413='MDOT FTA Detail'!$M$3)*(Projects!$L$5:$L$2413='MDOT FTA Detail'!$A115)*(Projects!$K$5:$K$2413))","v":0},0,{"$f":"SUMPRODUCT((Projects!$A$5:$A$2413='MDOT FTA Detail'!$M$3)*(Projects!$L$5:$L$2413='MDOT FTA Detail'!$A115)*(Projects!$Q$5:$Q$2413))","v":0}]
[5307,"Section 5307 - UZA Formula","Transit",{"$f":"SUMPRODUCT((Projects!$A$5:$A$2413='MDOT FTA Detail'!$D$3)*(Projects!$L$5:$L$2413='MDOT FTA Detail'!$A116)*(Projects!$K$5:$K$2413))","v":291000},265000,{"$f":"SUMPRODUCT((Projects!$A$5:$A$2413='MDOT FTA Detail'!$D$3)*(Projects!$L$5:$L$2413='MDOT FTA Detail'!$A116)*(Projects!$Q$5:$Q$2413))","v":556000},{"$f":"SUMPRODUCT((Projects!$A$5:$A$2413='MDOT FTA Detail'!$G$3)*(Projects!$L$5:$L$2413='MDOT FTA Detail'!$A116)*(Projects!$K$5:$K$2413))","v":291000},265000,{"$f":"SUMPRODUCT((Projects!$A$5:$A$2413='MDOT FTA Detail'!$G$3)*(Projects!$L$5:$L$2413='MDOT FTA Detail'!$A116)*(Projects!$Q$5:$Q$2413))","v":556000},{"$f":"SUMPRODUCT((Projects!$A$5:$A$2413='MDOT FTA Detail'!$J$3)*(Projects!$L$5:$L$2413='MDOT FTA Detail'!$A116)*(Projects!$K$5:$K$2413))","v":291000},265000,{"$f":"SUMPRODUCT((Projects!$A$5:$A$2413='MDOT FTA Detail'!$J$3)*(Projects!$L$5:$L$2413='MDOT FTA Detail'!$A116)*(Projects!$Q$5:$Q$2413))","v":556000},{"$f":"SUMPRODUCT((Projects!$A$5:$A$2413='MDOT FTA Detail'!$M$3)*(Projects!$L$5:$L$2413='MDOT FTA Detail'!$A116)*(Projects!$K$5:$K$2413))","v":276400},261600,{"$f":"SUMPRODUCT((Projects!$A$5:$A$2413='MDOT FTA Detail'!$M$3)*(Projects!$L$5:$L$2413='MDOT FTA Detail'!$A116)*(Projects!$Q$5:$Q$2413))","v":538000}]
[5308,"Section 5308 - Clean Fuels Program","Transit",{"$f":"SUMPRODUCT((Projects!$A$5:$A$2413='MDOT FTA Detail'!$D$3)*(Projects!$L$5:$L$2413='MDOT FTA Detail'!$A117)*(Projects!$K$5:$K$2413))","v":0},0,{"$f":"SUMPRODUCT((Projects!$A$5:$A$2413='MDOT FTA Detail'!$D$3)*(Projects!$L$5:$L$2413='MDOT FTA Detail'!$A117)*(Projects!$Q$5:$Q$2413))","v":0},{"$f":"SUMPRODUCT((Projects!$A$5:$A$2413='MDOT FTA Detail'!$G$3)*(Projects!$L$5:$L$2413='MDOT FTA Detail'!$A117)*(Projects!$K$5:$K$2413))","v":0},0,{"$f":"SUMPRODUCT((Projects!$A$5:$A$2413='MDOT FTA Detail'!$G$3)*(Projects!$L$5:$L$2413='MDOT FTA Detail'!$A117)*(Projects!$Q$5:$Q$2413))","v":0},{"$f":"SUMPRODUCT((Projects!$A$5:$A$2413='MDOT FTA Detail'!$J$3)*(Projects!$L$5:$L$2413='MDOT FTA Detail'!$A117)*(Projects!$K$5:$K$2413))","v":0},0,{"$f":"SUMPRODUCT((Projects!$A$5:$A$2413='MDOT FTA Detail'!$J$3)*(Projects!$L$5:$L$2413='MDOT FTA Detail'!$A117)*(Projects!$Q$5:$Q$2413))","v":0},{"$f":"SUMPRODUCT((Projects!$A$5:$A$2413='MDOT FTA Detail'!$M$3)*(Projects!$L$5:$L$2413='MDOT FTA Detail'!$A117)*(Projects!$K$5:$K$2413))","v":0},0,{"$f":"SUMPRODUCT((Projects!$A$5:$A$2413='MDOT FTA Detail'!$M$3)*(Projects!$L$5:$L$2413='MDOT FTA Detail'!$A117)*(Projects!$Q$5:$Q$2413))","v":0}]
[5309,"Section 5309 - Fixed Guideway Capital Investment Grant","Transit",{"$f":"SUMPRODUCT((Projects!$A$5:$A$2413='MDOT FTA Detail'!$D$3)*(Projects!$L$5:$L$2413='MDOT FTA Detail'!$A118)*(Projects!$K$5:$K$2413))","v":0},0,{"$f":"SUMPRODUCT((Projects!$A$5:$A$2413='MDOT FTA Detail'!$D$3)*(Projects!$L$5:$L$2413='MDOT FTA Detail'!$A118)*(Projects!$Q$5:$Q$2413))","v":0},{"$f":"SUMPRODUCT((Projects!$A$5:$A$2413='MDOT FTA Detail'!$G$3)*(Projects!$L$5:$L$2413='MDOT FTA Detail'!$A118)*(Projects!$K$5:$K$2413))","v":0},0,{"$f":"SUMPRODUCT((Projects!$A$5:$A$2413='MDOT FTA Detail'!$G$3)*(Projects!$L$5:$L$2413='MDOT FTA Detail'!$A118)*(Projects!$Q$5:$Q$2413))","v":0},{"$f":"SUMPRODUCT((Projects!$A$5:$A$2413='MDOT FTA Detail'!$J$3)*(Projects!$L$5:$L$2413='MDOT FTA Detail'!$A118)*(Projects!$K$5:$K$2413))","v":0},0,{"$f":"SUMPRODUCT((Projects!$A$5:$A$2413='MDOT FTA Detail'!$J$3)*(Projects!$L$5:$L$2413='MDOT FTA Detail'!$A118)*(Projects!$Q$5:$Q$2413))","v":0},{"$f":"SUMPRODUCT((Projects!$A$5:$A$2413='MDOT FTA Detail'!$M$3)*(Projects!$L$5:$L$2413='MDOT FTA Detail'!$A118)*(Projects!$K$5:$K$2413))","v":0},0,{"$f":"SUMPRODUCT((Projects!$A$5:$A$2413='MDOT FTA Detail'!$M$3)*(Projects!$L$5:$L$2413='MDOT FTA Detail'!$A118)*(Projects!$Q$5:$Q$2413))","v":0}]
[5310,"Section 5310 - Enhanced Mobility of Seniors and Individuals with Disabilities","Transit",{"$f":"SUMPRODUCT((Projects!$A$5:$A$2413='MDOT FTA Detail'!$D$3)*(Projects!$L$5:$L$2413='MDOT FTA Detail'!$A119)*(Projects!$K$5:$K$2413))","v":0},0,{"$f":"SUMPRODUCT((Projects!$A$5:$A$2413='MDOT FTA Detail'!$D$3)*(Projects!$L$5:$L$2413='MDOT FTA Detail'!$A119)*(Projects!$Q$5:$Q$2413))","v":0},{"$f":"SUMPRODUCT((Projects!$A$5:$A$2413='MDOT FTA Detail'!$G$3)*(Projects!$L$5:$L$2413='MDOT FTA Detail'!$A119)*(Projects!$K$5:$K$2413))","v":0},0,{"$f":"SUMPRODUCT((Projects!$A$5:$A$2413='MDOT FTA Detail'!$G$3)*(Projects!$L$5:$L$2413='MDOT FTA Detail'!$A119)*(Projects!$Q$5:$Q$2413))","v":0},{"$f":"SUMPRODUCT((Projects!$A$5:$A$2413='MDOT FTA Detail'!$J$3)*(Projects!$L$5:$L$2413='MDOT FTA Detail'!$A119)*(Projects!$K$5:$K$2413))","v":0},0,{"$f":"SUMPRODUCT((Projects!$A$5:$A$2413='MDOT FTA Detail'!$J$3)*(Projects!$L$5:$L$2413='MDOT FTA Detail'!$A119)*(Projects!$Q$5:$Q$2413))","v":0},{"$f":"SUMPRODUCT((Projects!$A$5:$A$2413='MDOT FTA Detail'!$M$3)*(Projects!$L$5:$L$2413='MDOT FTA Detail'!$A119)*(Projects!$K$5:$K$2413))","v":0},0,{"$f":"SUMPRODUCT((Projects!$A$5:$A$2413='MDOT FTA Detail'!$M$3)*(Projects!$L$5:$L$2413='MDOT FTA Detail'!$A119)*(Projects!$Q$5:$Q$2413))","v":0}]
[5311,"Section 5311 - Non-UZA ","Transit",{"$f":"SUMPRODUCT((Projects!$A$5:$A$2413='MDOT FTA Detail'!$D$3)*(Projects!$L$5:$L$2413='MDOT FTA Detail'!$A120)*(Projects!$K$5:$K$2413))","v":0},0,{"$f":"SUMPRODUCT((Projects!$A$5:$A$2413='MDOT FTA Detail'!$D$3)*(Projects!$L$5:$L$2413='MDOT FTA Detail'!$A120)*(Projects!$Q$5:$Q$2413))","v":0},{"$f":"SUMPRODUCT((Projects!$A$5:$A$2413='MDOT FTA Detail'!$G$3)*(Projects!$L$5:$L$2413='MDOT FTA Detail'!$A120)*(Projects!$K$5:$K$2413))","v":31927},176571,{"$f":"SUMPRODUCT((Projects!$A$5:$A$2413='MDOT FTA Detail'!$G$3)*(Projects!$L$5:$L$2413='MDOT FTA Detail'!$A120)*(Projects!$Q$5:$Q$2413))","v":208498},{"$f":"SUMPRODUCT((Projects!$A$5:$A$2413='MDOT FTA Detail'!$J$3)*(Projects!$L$5:$L$2413='MDOT FTA Detail'!$A120)*(Projects!$K$5:$K$2413))","v":24629},182944,{"$f":"SUMPRODUCT((Projects!$A$5:$A$2413='MDOT FTA Detail'!$J$3)*(Projects!$L$5:$L$2413='MDOT FTA Detail'!$A120)*(Projects!$Q$5:$Q$2413))","v":207573},{"$f":"SUMPRODUCT((Projects!$A$5:$A$2413='MDOT FTA Detail'!$M$3)*(Projects!$L$5:$L$2413='MDOT FTA Detail'!$A120)*(Projects!$K$5:$K$2413))","v":0},0,{"$f":"SUMPRODUCT((Projects!$A$5:$A$2413='MDOT FTA Detail'!$M$3)*(Projects!$L$5:$L$2413='MDOT FTA Detail'!$A120)*(Projects!$Q$5:$Q$2413))","v":0}]
[5312,"Section 5312 - Research, Development, Demonstration, and Deployment","Transit",{"$f":"SUMPRODUCT((Projects!$A$5:$A$2413='MDOT FTA Detail'!$D$3)*(Projects!$L$5:$L$2413='MDOT FTA Detail'!$A121)*(Projects!$K$5:$K$2413))","v":0},{"$f":"F121-D121","v":0},{"$f":"SUMPRODUCT((Projects!$A$5:$A$2413='MDOT FTA Detail'!$D$3)*(Projects!$L$5:$L$2413='MDOT FTA Detail'!$A121)*(Projects!$Q$5:$Q$2413))","v":0},{"$f":"SUMPRODUCT((Projects!$A$5:$A$2413='MDOT FTA Detail'!$G$3)*(Projects!$L$5:$L$2413='MDOT FTA Detail'!$A121)*(Projects!$K$5:$K$2413))","v":0},{"$f":"I121-G121","v":0},{"$f":"SUMPRODUCT((Projects!$A$5:$A$2413='MDOT FTA Detail'!$G$3)*(Projects!$L$5:$L$2413='MDOT FTA Detail'!$A121)*(Projects!$Q$5:$Q$2413))","v":0},{"$f":"SUMPRODUCT((Projects!$A$5:$A$2413='MDOT FTA Detail'!$J$3)*(Projects!$L$5:$L$2413='MDOT FTA Detail'!$A121)*(Projects!$K$5:$K$2413))","v":0},{"$f":"L121-J121","v":0},{"$f":"SUMPRODUCT((Projects!$A$5:$A$2413='MDOT FTA Detail'!$J$3)*(Projects!$L$5:$L$2413='MDOT FTA Detail'!$A121)*(Projects!$Q$5:$Q$2413))","v":0},{"$f":"SUMPRODUCT((Projects!$A$5:$A$2413='MDOT FTA Detail'!$M$3)*(Projects!$L$5:$L$2413='MDOT FTA Detail'!$A121)*(Projects!$K$5:$K$2413))","v":0},{"$f":"O121-M121","v":0},{"$f":"SUMPRODUCT((Projects!$A$5:$A$2413='MDOT FTA Detail'!$M$3)*(Projects!$L$5:$L$2413='MDOT FTA Detail'!$A121)*(Projects!$Q$5:$Q$2413))","v":0}]
[5313,"Section 5313 - Transit Cooperative Research Program","Transit",{"$f":"SUMPRODUCT((Projects!$A$5:$A$2413='MDOT FTA Detail'!$D$3)*(Projects!$L$5:$L$2413='MDOT FTA Detail'!$A122)*(Projects!$K$5:$K$2413))","v":0},0,{"$f":"SUMPRODUCT((Projects!$A$5:$A$2413='MDOT FTA Detail'!$D$3)*(Projects!$L$5:$L$2413='MDOT FTA Detail'!$A122)*(Projects!$Q$5:$Q$2413))","v":0},{"$f":"SUMPRODUCT((Projects!$A$5:$A$2413='MDOT FTA Detail'!$G$3)*(Projects!$L$5:$L$2413='MDOT FTA Detail'!$A122)*(Projects!$K$5:$K$2413))","v":0},0,{"$f":"SUMPRODUCT((Projects!$A$5:$A$2413='MDOT FTA Detail'!$G$3)*(Projects!$L$5:$L$2413='MDOT FTA Detail'!$A122)*(Projects!$Q$5:$Q$2413))","v":0},{"$f":"SUMPRODUCT((Projects!$A$5:$A$2413='MDOT FTA Detail'!$J$3)*(Projects!$L$5:$L$2413='MDOT FTA Detail'!$A122)*(Projects!$K$5:$K$2413))","v":0},0,{"$f":"SUMPRODUCT((Projects!$A$5:$A$2413='MDOT FTA Detail'!$J$3)*(Projects!$L$5:$L$2413='MDOT FTA Detail'!$A122)*(Projects!$Q$5:$Q$2413))","v":0},{"$f":"SUMPRODUCT((Projects!$A$5:$A$2413='MDOT FTA Detail'!$M$3)*(Projects!$L$5:$L$2413='MDOT FTA Detail'!$A122)*(Projects!$K$5:$K$2413))","v":0},0,{"$f":"SUMPRODUCT((Projects!$A$5:$A$2413='MDOT FTA Detail'!$M$3)*(Projects!$L$5:$L$2413='MDOT FTA Detail'!$A122)*(Projects!$Q$5:$Q$2413))","v":0}]
[5314,"Section 5314 - Technical Assistance and Standards","Transit",{"$f":"SUMPRODUCT((Projects!$A$5:$A$2413='MDOT FTA Detail'!$D$3)*(Projects!$L$5:$L$2413='MDOT FTA Detail'!$A123)*(Projects!$K$5:$K$2413))","v":0},0,{"$f":"SUMPRODUCT((Projects!$A$5:$A$2413='MDOT FTA Detail'!$D$3)*(Projects!$L$5:$L$2413='MDOT FTA Detail'!$A123)*(Projects!$Q$5:$Q$2413))","v":0},{"$f":"SUMPRODUCT((Projects!$A$5:$A$2413='MDOT FTA Detail'!$G$3)*(Projects!$L$5:$L$2413='MDOT FTA Detail'!$A123)*(Projects!$K$5:$K$2413))","v":0},0,{"$f":"SUMPRODUCT((Projects!$A$5:$A$2413='MDOT FTA Detail'!$G$3)*(Projects!$L$5:$L$2413='MDOT FTA Detail'!$A123)*(Projects!$Q$5:$Q$2413))","v":0},{"$f":"SUMPRODUCT((Projects!$A$5:$A$2413='MDOT FTA Detail'!$J$3)*(Projects!$L$5:$L$2413='MDOT FTA Detail'!$A123)*(Projects!$K$5:$K$2413))","v":0},0,{"$f":"SUMPRODUCT((Projects!$A$5:$A$2413='MDOT FTA Detail'!$J$3)*(Projects!$L$5:$L$2413='MDOT FTA Detail'!$A123)*(Projects!$Q$5:$Q$2413))","v":0},{"$f":"SUMPRODUCT((Projects!$A$5:$A$2413='MDOT FTA Detail'!$M$3)*(Projects!$L$5:$L$2413='MDOT FTA Detail'!$A123)*(Projects!$K$5:$K$2413))","v":0},0,{"$f":"SUMPRODUCT((Projects!$A$5:$A$2413='MDOT FTA Detail'!$M$3)*(Projects!$L$5:$L$2413='MDOT FTA Detail'!$A123)*(Projects!$Q$5:$Q$2413))","v":0}]
[5316,"Section 5316 - Transit - Section 5316 - Job Access/Reverse Commute","Transit",{"$f":"SUMPRODUCT((Projects!$A$5:$A$2413='MDOT FTA Detail'!$D$3)*(Projects!$L$5:$L$2413='MDOT FTA Detail'!$A124)*(Projects!$K$5:$K$2413))","v":0},0,{"$f":"SUMPRODUCT((Projects!$A$5:$A$2413='MDOT FTA Detail'!$D$3)*(Projects!$L$5:$L$2413='MDOT FTA Detail'!$A124)*(Projects!$Q$5:$Q$2413))","v":0},{"$f":"SUMPRODUCT((Projects!$A$5:$A$2413='MDOT FTA Detail'!$G$3)*(Projects!$L$5:$L$2413='MDOT FTA Detail'!$A124)*(Projects!$K$5:$K$2413))","v":0},0,{"$f":"SUMPRODUCT((Projects!$A$5:$A$2413='MDOT FTA Detail'!$G$3)*(Projects!$L$5:$L$2413='MDOT FTA Detail'!$A124)*(Projects!$Q$5:$Q$2413))","v":0},{"$f":"SUMPRODUCT((Projects!$A$5:$A$2413='MDOT FTA Detail'!$J$3)*(Projects!$L$5:$L$2413='MDOT FTA Detail'!$A124)*(Projects!$K$5:$K$2413))","v":0},0,{"$f":"SUMPRODUCT((Projects!$A$5:$A$2413='MDOT FTA Detail'!$J$3)*(Projects!$L$5:$L$2413='MDOT FTA Detail'!$A124)*(Projects!$Q$5:$Q$2413))","v":0},{"$f":"SUMPRODUCT((Projects!$A$5:$A$2413='MDOT FTA Detail'!$M$3)*(Projects!$L$5:$L$2413='MDOT FTA Detail'!$A124)*(Projects!$K$5:$K$2413))","v":0},0,{"$f":"SUMPRODUCT((Projects!$A$5:$A$2413='MDOT FTA Detail'!$M$3)*(Projects!$L$5:$L$2413='MDOT FTA Detail'!$A124)*(Projects!$Q$5:$Q$2413))","v":0}]
[5317,"Section 5317 - Transit - Section 5317 - New Freedom Initiative","Transit",{"$f":"SUMPRODUCT((Projects!$A$5:$A$2413='MDOT FTA Detail'!$D$3)*(Projects!$L$5:$L$2413='MDOT FTA Detail'!$A125)*(Projects!$K$5:$K$2413))","v":0},0,{"$f":"SUMPRODUCT((Projects!$A$5:$A$2413='MDOT FTA Detail'!$D$3)*(Projects!$L$5:$L$2413='MDOT FTA Detail'!$A125)*(Projects!$Q$5:$Q$2413))","v":0},{"$f":"SUMPRODUCT((Projects!$A$5:$A$2413='MDOT FTA Detail'!$G$3)*(Projects!$L$5:$L$2413='MDOT FTA Detail'!$A125)*(Projects!$K$5:$K$2413))","v":0},0,{"$f":"SUMPRODUCT((Projects!$A$5:$A$2413='MDOT FTA Detail'!$G$3)*(Projects!$L$5:$L$2413='MDOT FTA Detail'!$A125)*(Projects!$Q$5:$Q$2413))","v":0},{"$f":"SUMPRODUCT((Projects!$A$5:$A$2413='MDOT FTA Detail'!$J$3)*(Projects!$L$5:$L$2413='MDOT FTA Detail'!$A125)*(Projects!$K$5:$K$2413))","v":0},0,{"$f":"SUMPRODUCT((Projects!$A$5:$A$2413='MDOT FTA Detail'!$J$3)*(Projects!$L$5:$L$2413='MDOT FTA Detail'!$A125)*(Projects!$Q$5:$Q$2413))","v":0},{"$f":"SUMPRODUCT((Projects!$A$5:$A$2413='MDOT FTA Detail'!$M$3)*(Projects!$L$5:$L$2413='MDOT FTA Detail'!$A125)*(Projects!$K$5:$K$2413))","v":0},0,{"$f":"SUMPRODUCT((Projects!$A$5:$A$2413='MDOT FTA Detail'!$M$3)*(Projects!$L$5:$L$2413='MDOT FTA Detail'!$A125)*(Projects!$Q$5:$Q$2413))","v":0}]
[5320,"Section 5320 - Alternative Transportation in Parks and Public Lands","Transit",{"$f":"SUMPRODUCT((Projects!$A$5:$A$2413='MDOT FTA Detail'!$D$3)*(Projects!$L$5:$L$2413='MDOT FTA Detail'!$A126)*(Projects!$K$5:$K$2413))","v":0},0,{"$f":"SUMPRODUCT((Projects!$A$5:$A$2413='MDOT FTA Detail'!$D$3)*(Projects!$L$5:$L$2413='MDOT FTA Detail'!$A126)*(Projects!$Q$5:$Q$2413))","v":0},{"$f":"SUMPRODUCT((Projects!$A$5:$A$2413='MDOT FTA Detail'!$G$3)*(Projects!$L$5:$L$2413='MDOT FTA Detail'!$A126)*(Projects!$K$5:$K$2413))","v":0},0,{"$f":"SUMPRODUCT((Projects!$A$5:$A$2413='MDOT FTA Detail'!$G$3)*(Projects!$L$5:$L$2413='MDOT FTA Detail'!$A126)*(Projects!$Q$5:$Q$2413))","v":0},{"$f":"SUMPRODUCT((Projects!$A$5:$A$2413='MDOT FTA Detail'!$J$3)*(Projects!$L$5:$L$2413='MDOT FTA Detail'!$A126)*(Projects!$K$5:$K$2413))","v":0},0,{"$f":"SUMPRODUCT((Projects!$A$5:$A$2413='MDOT FTA Detail'!$J$3)*(Projects!$L$5:$L$2413='MDOT FTA Detail'!$A126)*(Projects!$Q$5:$Q$2413))","v":0},{"$f":"SUMPRODUCT((Projects!$A$5:$A$2413='MDOT FTA Detail'!$M$3)*(Projects!$L$5:$L$2413='MDOT FTA Detail'!$A126)*(Projects!$K$5:$K$2413))","v":0},0,{"$f":"SUMPRODUCT((Projects!$A$5:$A$2413='MDOT FTA Detail'!$M$3)*(Projects!$L$5:$L$2413='MDOT FTA Detail'!$A126)*(Projects!$Q$5:$Q$2413))","v":0}]
[5322,"Section 5322 - Human Resources and Training","Transit",{"$f":"SUMPRODUCT((Projects!$A$5:$A$2413='MDOT FTA Detail'!$D$3)*(Projects!$L$5:$L$2413='MDOT FTA Detail'!$A127)*(Projects!$K$5:$K$2413))","v":0},{"$f":"F127-D127","v":0},{"$f":"SUMPRODUCT((Projects!$A$5:$A$2413='MDOT FTA Detail'!$D$3)*(Projects!$L$5:$L$2413='MDOT FTA Detail'!$A127)*(Projects!$Q$5:$Q$2413))","v":0},{"$f":"SUMPRODUCT((Projects!$A$5:$A$2413='MDOT FTA Detail'!$G$3)*(Projects!$L$5:$L$2413='MDOT FTA Detail'!$A127)*(Projects!$K$5:$K$2413))","v":0},{"$f":"I127-G127","v":0},{"$f":"SUMPRODUCT((Projects!$A$5:$A$2413='MDOT FTA Detail'!$G$3)*(Projects!$L$5:$L$2413='MDOT FTA Detail'!$A127)*(Projects!$Q$5:$Q$2413))","v":0},{"$f":"SUMPRODUCT((Projects!$A$5:$A$2413='MDOT FTA Detail'!$J$3)*(Projects!$L$5:$L$2413='MDOT FTA Detail'!$A127)*(Projects!$K$5:$K$2413))","v":0},{"$f":"L127-J127","v":0},{"$f":"SUMPRODUCT((Projects!$A$5:$A$2413='MDOT FTA Detail'!$J$3)*(Projects!$L$5:$L$2413='MDOT FTA Detail'!$A127)*(Projects!$Q$5:$Q$2413))","v":0},{"$f":"SUMPRODUCT((Projects!$A$5:$A$2413='MDOT FTA Detail'!$M$3)*(Projects!$L$5:$L$2413='MDOT FTA Detail'!$A127)*(Projects!$K$5:$K$2413))","v":0},{"$f":"O127-M127","v":0},{"$f":"SUMPRODUCT((Projects!$A$5:$A$2413='MDOT FTA Detail'!$M$3)*(Projects!$L$5:$L$2413='MDOT FTA Detail'!$A127)*(Projects!$Q$5:$Q$2413))","v":0}]
[5324,"Section 5324 - Emergency Relief","Transit",{"$f":"SUMPRODUCT((Projects!$A$5:$A$2413='MDOT FTA Detail'!$D$3)*(Projects!$L$5:$L$2413='MDOT FTA Detail'!$A128)*(Projects!$K$5:$K$2413))","v":0},0,{"$f":"SUMPRODUCT((Projects!$A$5:$A$2413='MDOT FTA Detail'!$D$3)*(Projects!$L$5:$L$2413='MDOT FTA Detail'!$A128)*(Projects!$Q$5:$Q$2413))","v":0},{"$f":"SUMPRODUCT((Projects!$A$5:$A$2413='MDOT FTA Detail'!$G$3)*(Projects!$L$5:$L$2413='MDOT FTA Detail'!$A128)*(Projects!$K$5:$K$2413))","v":0},0,{"$f":"SUMPRODUCT((Projects!$A$5:$A$2413='MDOT FTA Detail'!$G$3)*(Projects!$L$5:$L$2413='MDOT FTA Detail'!$A128)*(Projects!$Q$5:$Q$2413))","v":0},{"$f":"SUMPRODUCT((Projects!$A$5:$A$2413='MDOT FTA Detail'!$J$3)*(Projects!$L$5:$L$2413='MDOT FTA Detail'!$A128)*(Projects!$K$5:$K$2413))","v":0},0,{"$f":"SUMPRODUCT((Projects!$A$5:$A$2413='MDOT FTA Detail'!$J$3)*(Projects!$L$5:$L$2413='MDOT FTA Detail'!$A128)*(Projects!$Q$5:$Q$2413))","v":0},{"$f":"SUMPRODUCT((Projects!$A$5:$A$2413='MDOT FTA Detail'!$M$3)*(Projects!$L$5:$L$2413='MDOT FTA Detail'!$A128)*(Projects!$K$5:$K$2413))","v":0},0,{"$f":"SUMPRODUCT((Projects!$A$5:$A$2413='MDOT FTA Detail'!$M$3)*(Projects!$L$5:$L$2413='MDOT FTA Detail'!$A128)*(Projects!$Q$5:$Q$2413))","v":0}]
[5326,"Section 5326 - Asset Management Provisions","Transit",{"$f":"SUMPRODUCT((Projects!$A$5:$A$2413='MDOT FTA Detail'!$D$3)*(Projects!$L$5:$L$2413='MDOT FTA Detail'!$A129)*(Projects!$K$5:$K$2413))","v":0},0,{"$f":"SUMPRODUCT((Projects!$A$5:$A$2413='MDOT FTA Detail'!$D$3)*(Projects!$L$5:$L$2413='MDOT FTA Detail'!$A129)*(Projects!$Q$5:$Q$2413))","v":0},{"$f":"SUMPRODUCT((Projects!$A$5:$A$2413='MDOT FTA Detail'!$G$3)*(Projects!$L$5:$L$2413='MDOT FTA Detail'!$A129)*(Projects!$K$5:$K$2413))","v":0},0,{"$f":"SUMPRODUCT((Projects!$A$5:$A$2413='MDOT FTA Detail'!$G$3)*(Projects!$L$5:$L$2413='MDOT FTA Detail'!$A129)*(Projects!$Q$5:$Q$2413))","v":0},{"$f":"SUMPRODUCT((Projects!$A$5:$A$2413='MDOT FTA Detail'!$J$3)*(Projects!$L$5:$L$2413='MDOT FTA Detail'!$A129)*(Projects!$K$5:$K$2413))","v":0},0,{"$f":"SUMPRODUCT((Projects!$A$5:$A$2413='MDOT FTA Detail'!$J$3)*(Projects!$L$5:$L$2413='MDOT FTA Detail'!$A129)*(Projects!$Q$5:$Q$2413))","v":0},{"$f":"SUMPRODUCT((Projects!$A$5:$A$2413='MDOT FTA Detail'!$M$3)*(Projects!$L$5:$L$2413='MDOT FTA Detail'!$A129)*(Projects!$K$5:$K$2413))","v":0},0,{"$f":"SUMPRODUCT((Projects!$A$5:$A$2413='MDOT FTA Detail'!$M$3)*(Projects!$L$5:$L$2413='MDOT FTA Detail'!$A129)*(Projects!$Q$5:$Q$2413))","v":0}]
[5329,"Section 5329 - Safety","Transit",{"$f":"SUMPRODUCT((Projects!$A$5:$A$2413='MDOT FTA Detail'!$D$3)*(Projects!$L$5:$L$2413='MDOT FTA Detail'!$A130)*(Projects!$K$5:$K$2413))","v":0},0,{"$f":"SUMPRODUCT((Projects!$A$5:$A$2413='MDOT FTA Detail'!$D$3)*(Projects!$L$5:$L$2413='MDOT FTA Detail'!$A130)*(Projects!$Q$5:$Q$2413))","v":0},{"$f":"SUMPRODUCT((Projects!$A$5:$A$2413='MDOT FTA Detail'!$G$3)*(Projects!$L$5:$L$2413='MDOT FTA Detail'!$A130)*(Projects!$K$5:$K$2413))","v":0},0,{"$f":"SUMPRODUCT((Projects!$A$5:$A$2413='MDOT FTA Detail'!$G$3)*(Projects!$L$5:$L$2413='MDOT FTA Detail'!$A130)*(Projects!$Q$5:$Q$2413))","v":0},{"$f":"SUMPRODUCT((Projects!$A$5:$A$2413='MDOT FTA Detail'!$J$3)*(Projects!$L$5:$L$2413='MDOT FTA Detail'!$A130)*(Projects!$K$5:$K$2413))","v":0},0,{"$f":"SUMPRODUCT((Projects!$A$5:$A$2413='MDOT FTA Detail'!$J$3)*(Projects!$L$5:$L$2413='MDOT FTA Detail'!$A130)*(Projects!$Q$5:$Q$2413))","v":0},{"$f":"SUMPRODUCT((Projects!$A$5:$A$2413='MDOT FTA Detail'!$M$3)*(Projects!$L$5:$L$2413='MDOT FTA Detail'!$A130)*(Projects!$K$5:$K$2413))","v":0},0,{"$f":"SUMPRODUCT((Projects!$A$5:$A$2413='MDOT FTA Detail'!$M$3)*(Projects!$L$5:$L$2413='MDOT FTA Detail'!$A130)*(Projects!$Q$5:$Q$2413))","v":0}]
[5337,"Section 5337 - State of Good Repair Grants","Transit",{"$f":"SUMPRODUCT((Projects!$A$5:$A$2413='MDOT FTA Detail'!$D$3)*(Projects!$L$5:$L$2413='MDOT FTA Detail'!$A131)*(Projects!$K$5:$K$2413))","v":0},0,{"$f":"SUMPRODUCT((Projects!$A$5:$A$2413='MDOT FTA Detail'!$D$3)*(Projects!$L$5:$L$2413='MDOT FTA Detail'!$A131)*(Projects!$Q$5:$Q$2413))","v":0},{"$f":"SUMPRODUCT((Projects!$A$5:$A$2413='MDOT FTA Detail'!$G$3)*(Projects!$L$5:$L$2413='MDOT FTA Detail'!$A131)*(Projects!$K$5:$K$2413))","v":0},0,{"$f":"SUMPRODUCT((Projects!$A$5:$A$2413='MDOT FTA Detail'!$G$3)*(Projects!$L$5:$L$2413='MDOT FTA Detail'!$A131)*(Projects!$Q$5:$Q$2413))","v":0},{"$f":"SUMPRODUCT((Projects!$A$5:$A$2413='MDOT FTA Detail'!$J$3)*(Projects!$L$5:$L$2413='MDOT FTA Detail'!$A131)*(Projects!$K$5:$K$2413))","v":0},0,{"$f":"SUMPRODUCT((Projects!$A$5:$A$2413='MDOT FTA Detail'!$J$3)*(Projects!$L$5:$L$2413='MDOT FTA Detail'!$A131)*(Projects!$Q$5:$Q$2413))","v":0},{"$f":"SUMPRODUCT((Projects!$A$5:$A$2413='MDOT FTA Detail'!$M$3)*(Projects!$L$5:$L$2413='MDOT FTA Detail'!$A131)*(Projects!$K$5:$K$2413))","v":0},0,{"$f":"SUMPRODUCT((Projects!$A$5:$A$2413='MDOT FTA Detail'!$M$3)*(Projects!$L$5:$L$2413='MDOT FTA Detail'!$A131)*(Projects!$Q$5:$Q$2413))","v":0}]
[5339,"Section 5339 - Bus and Bus Facilities","Transit",{"$f":"SUMPRODUCT((Projects!$A$5:$A$2413='MDOT FTA Detail'!$D$3)*(Projects!$L$5:$L$2413='MDOT FTA Detail'!$A132)*(Projects!$K$5:$K$2413))","v":56000},{"$f":"F132-D132","v":14000},{"$f":"SUMPRODUCT((Projects!$A$5:$A$2413='MDOT FTA Detail'!$D$3)*(Projects!$L$5:$L$2413='MDOT FTA Detail'!$A132)*(Projects!$Q$5:$Q$2413))","v":70000},{"$f":"SUMPRODUCT((Projects!$A$5:$A$2413='MDOT FTA Detail'!$G$3)*(Projects!$L$5:$L$2413='MDOT FTA Detail'!$A132)*(Projects!$K$5:$K$2413))","v":63200},{"$f":"I132-G132","v":15800},{"$f":"SUMPRODUCT((Projects!$A$5:$A$2413='MDOT FTA Detail'!$G$3)*(Projects!$L$5:$L$2413='MDOT FTA Detail'!$A132)*(Projects!$Q$5:$Q$2413))","v":79000},{"$f":"SUMPRODUCT((Projects!$A$5:$A$2413='MDOT FTA Detail'!$J$3)*(Projects!$L$5:$L$2413='MDOT FTA Detail'!$A132)*(Projects!$K$5:$K$2413))","v":16040},{"$f":"L132-J132","v":4150},{"$f":"SUMPRODUCT((Projects!$A$5:$A$2413='MDOT FTA Detail'!$J$3)*(Projects!$L$5:$L$2413='MDOT FTA Detail'!$A132)*(Projects!$Q$5:$Q$2413))","v":20190},{"$f":"SUMPRODUCT((Projects!$A$5:$A$2413='MDOT FTA Detail'!$M$3)*(Projects!$L$5:$L$2413='MDOT FTA Detail'!$A132)*(Projects!$K$5:$K$2413))","v":56000},{"$f":"O132-M132","v":14000},{"$f":"SUMPRODUCT((Projects!$A$5:$A$2413='MDOT FTA Detail'!$M$3)*(Projects!$L$5:$L$2413='MDOT FTA Detail'!$A132)*(Projects!$Q$5:$Q$2413))","v":70000}]
[5505,"Section 5505 - University Transportation Centers Program","Transit",{"$f":"SUMPRODUCT((Projects!$A$5:$A$2413='MDOT FTA Detail'!$D$3)*(Projects!$L$5:$L$2413='MDOT FTA Detail'!$A133)*(Projects!$K$5:$K$2413))","v":0},0,{"$f":"SUMPRODUCT((Projects!$A$5:$A$2413='MDOT FTA Detail'!$D$3)*(Projects!$L$5:$L$2413='MDOT FTA Detail'!$A133)*(Projects!$Q$5:$Q$2413))","v":0},{"$f":"SUMPRODUCT((Projects!$A$5:$A$2413='MDOT FTA Detail'!$G$3)*(Projects!$L$5:$L$2413='MDOT FTA Detail'!$A133)*(Projects!$K$5:$K$2413))","v":0},0,{"$f":"SUMPRODUCT((Projects!$A$5:$A$2413='MDOT FTA Detail'!$G$3)*(Projects!$L$5:$L$2413='MDOT FTA Detail'!$A133)*(Projects!$Q$5:$Q$2413))","v":0},{"$f":"SUMPRODUCT((Projects!$A$5:$A$2413='MDOT FTA Detail'!$J$3)*(Projects!$L$5:$L$2413='MDOT FTA Detail'!$A133)*(Projects!$K$5:$K$2413))","v":0},0,{"$f":"SUMPRODUCT((Projects!$A$5:$A$2413='MDOT FTA Detail'!$J$3)*(Projects!$L$5:$L$2413='MDOT FTA Detail'!$A133)*(Projects!$Q$5:$Q$2413))","v":0},{"$f":"SUMPRODUCT((Projects!$A$5:$A$2413='MDOT FTA Detail'!$M$3)*(Projects!$L$5:$L$2413='MDOT FTA Detail'!$A133)*(Projects!$K$5:$K$2413))","v":0},0,{"$f":"SUMPRODUCT((Projects!$A$5:$A$2413='MDOT FTA Detail'!$M$3)*(Projects!$L$5:$L$2413='MDOT FTA Detail'!$A133)*(Projects!$Q$5:$Q$2413))","v":0}]
["CTF","Comprehensive Transit Fund","Transit","No FF",{"$f":"SUMPRODUCT((Projects!$A$5:$A$2413='MDOT FTA Detail'!$D$3)*(Projects!$K$5:$K$2413=0)*(Projects!$C$5:$C$2413='MDOT FTA Detail'!$C$4)*(Projects!$N$5:$N$2413='MDOT FTA Detail'!$A134)*(Projects!$J$5:$J$2413<>'MDOT FTA Detail'!$A$171)*(Projects!$M$5:$M$2413))","v":0},{"$f":"E134","v":0},"No FF",{"$f":"SUMPRODUCT((Projects!$A$5:$A$2413='MDOT FTA Detail'!$G$3)*(Projects!$K$5:$K$2413=0)*(Projects!$C$5:$C$2413='MDOT FTA Detail'!$C$4)*(Projects!$N$5:$N$2413='MDOT FTA Detail'!$A134)*(Projects!$J$5:$J$2413<>'MDOT FTA Detail'!$A$171)*(Projects!$M$5:$M$2413))","v":0},{"$f":"H134","v":0},"No FF",{"$f":"SUMPRODUCT((Projects!$A$5:$A$2413='MDOT FTA Detail'!$J$3)*(Projects!$K$5:$K$2413=0)*(Projects!$C$5:$C$2413='MDOT FTA Detail'!$C$4)*(Projects!$N$5:$N$2413='MDOT FTA Detail'!$A134)*(Projects!$J$5:$J$2413<>'MDOT FTA Detail'!$A$171)*(Projects!$M$5:$M$2413))","v":0},{"$f":"K134","v":0},"No FF",{"$f":"SUMPRODUCT((Projects!$A$5:$A$2413='MDOT FTA Detail'!$M$3)*(Projects!$K$5:$K$2413=0)*(Projects!$C$5:$C$2413='MDOT FTA Detail'!$C$4)*(Projects!$N$5:$N$2413='MDOT FTA Detail'!$A134)*(Projects!$J$5:$J$2413<>'MDOT FTA Detail'!$A$171)*(Projects!$M$5:$M$2413))","v":0},{"$f":"N134","v":0}]
["BI04","Build Michigan Bond Issue 2004","MDOT M","No FF",{"$f":"SUMPRODUCT((Projects!$A$5:$A$2413='MDOT FTA Detail'!$D$3)*(Projects!$K$5:$K$2413=0)*(Projects!$C$5:$C$2413='MDOT FTA Detail'!$C$4)*(Projects!$N$5:$N$2413='MDOT FTA Detail'!$A135)*(Projects!$J$5:$J$2413<>'MDOT FTA Detail'!$A$171)*(Projects!$M$5:$M$2413))","v":0},0,"No FF",{"$f":"SUMPRODUCT((Projects!$A$5:$A$2413='MDOT FTA Detail'!$G$3)*(Projects!$K$5:$K$2413=0)*(Projects!$C$5:$C$2413='MDOT FTA Detail'!$C$4)*(Projects!$N$5:$N$2413='MDOT FTA Detail'!$A135)*(Projects!$J$5:$J$2413<>'MDOT FTA Detail'!$A$171)*(Projects!$M$5:$M$2413))","v":0},0,"No FF",{"$f":"SUMPRODUCT((Projects!$A$5:$A$2413='MDOT FTA Detail'!$J$3)*(Projects!$K$5:$K$2413=0)*(Projects!$C$5:$C$2413='MDOT FTA Detail'!$C$4)*(Projects!$N$5:$N$2413='MDOT FTA Detail'!$A135)*(Projects!$J$5:$J$2413<>'MDOT FTA Detail'!$A$171)*(Projects!$M$5:$M$2413))","v":0},0,"No FF",{"$f":"SUMPRODUCT((Projects!$A$5:$A$2413='MDOT FTA Detail'!$M$3)*(Projects!$K$5:$K$2413=0)*(Projects!$C$5:$C$2413='MDOT FTA Detail'!$C$4)*(Projects!$N$5:$N$2413='MDOT FTA Detail'!$A135)*(Projects!$J$5:$J$2413<>'MDOT FTA Detail'!$A$171)*(Projects!$M$5:$M$2413))","v":0},0]
["BI06","Build Michigan Bond Issue 2006","MDOT M","No FF",{"$f":"SUMPRODUCT((Projects!$A$5:$A$2413='MDOT FTA Detail'!$D$3)*(Projects!$K$5:$K$2413=0)*(Projects!$C$5:$C$2413='MDOT FTA Detail'!$C$4)*(Projects!$N$5:$N$2413='MDOT FTA Detail'!$A136)*(Projects!$J$5:$J$2413<>'MDOT FTA Detail'!$A$171)*(Projects!$M$5:$M$2413))","v":0},0,"No FF",{"$f":"SUMPRODUCT((Projects!$A$5:$A$2413='MDOT FTA Detail'!$G$3)*(Projects!$K$5:$K$2413=0)*(Projects!$C$5:$C$2413='MDOT FTA Detail'!$C$4)*(Projects!$N$5:$N$2413='MDOT FTA Detail'!$A136)*(Projects!$J$5:$J$2413<>'MDOT FTA Detail'!$A$171)*(Projects!$M$5:$M$2413))","v":0},0,"No FF",{"$f":"SUMPRODUCT((Projects!$A$5:$A$2413='MDOT FTA Detail'!$J$3)*(Projects!$K$5:$K$2413=0)*(Projects!$C$5:$C$2413='MDOT FTA Detail'!$C$4)*(Projects!$N$5:$N$2413='MDOT FTA Detail'!$A136)*(Projects!$J$5:$J$2413<>'MDOT FTA Detail'!$A$171)*(Projects!$M$5:$M$2413))","v":0},0,"No FF",{"$f":"SUMPRODUCT((Projects!$A$5:$A$2413='MDOT FTA Detail'!$M$3)*(Projects!$K$5:$K$2413=0)*(Projects!$C$5:$C$2413='MDOT FTA Detail'!$C$4)*(Projects!$N$5:$N$2413='MDOT FTA Detail'!$A136)*(Projects!$J$5:$J$2413<>'MDOT FTA Detail'!$A$171)*(Projects!$M$5:$M$2413))","v":0},0]
["BI08","Build Michigan Bond Issue 2008","MDOT M","No FF",{"$f":"SUMPRODUCT((Projects!$A$5:$A$2413='MDOT FTA Detail'!$D$3)*(Projects!$K$5:$K$2413=0)*(Projects!$C$5:$C$2413='MDOT FTA Detail'!$C$4)*(Projects!$N$5:$N$2413='MDOT FTA Detail'!$A137)*(Projects!$J$5:$J$2413<>'MDOT FTA Detail'!$A$171)*(Projects!$M$5:$M$2413))","v":0},0,"No FF",{"$f":"SUMPRODUCT((Projects!$A$5:$A$2413='MDOT FTA Detail'!$G$3)*(Projects!$K$5:$K$2413=0)*(Projects!$C$5:$C$2413='MDOT FTA Detail'!$C$4)*(Projects!$N$5:$N$2413='MDOT FTA Detail'!$A137)*(Projects!$J$5:$J$2413<>'MDOT FTA Detail'!$A$171)*(Projects!$M$5:$M$2413))","v":0},0,"No FF",{"$f":"SUMPRODUCT((Projects!$A$5:$A$2413='MDOT FTA Detail'!$J$3)*(Projects!$K$5:$K$2413=0)*(Projects!$C$5:$C$2413='MDOT FTA Detail'!$C$4)*(Projects!$N$5:$N$2413='MDOT FTA Detail'!$A137)*(Projects!$J$5:$J$2413<>'MDOT FTA Detail'!$A$171)*(Projects!$M$5:$M$2413))","v":0},0,"No FF",{"$f":"SUMPRODUCT((Projects!$A$5:$A$2413='MDOT FTA Detail'!$M$3)*(Projects!$K$5:$K$2413=0)*(Projects!$C$5:$C$2413='MDOT FTA Detail'!$C$4)*(Projects!$N$5:$N$2413='MDOT FTA Detail'!$A137)*(Projects!$J$5:$J$2413<>'MDOT FTA Detail'!$A$171)*(Projects!$M$5:$M$2413))","v":0},0]
["BT01","Bond Trunkline Roads for First Issue","MDOT M","No FF",{"$f":"SUMPRODUCT((Projects!$A$5:$A$2413='MDOT FTA Detail'!$D$3)*(Projects!$K$5:$K$2413=0)*(Projects!$C$5:$C$2413='MDOT FTA Detail'!$C$4)*(Projects!$N$5:$N$2413='MDOT FTA Detail'!$A138)*(Projects!$J$5:$J$2413<>'MDOT FTA Detail'!$A$171)*(Projects!$M$5:$M$2413))","v":0},0,"No FF",{"$f":"SUMPRODUCT((Projects!$A$5:$A$2413='MDOT FTA Detail'!$G$3)*(Projects!$K$5:$K$2413=0)*(Projects!$C$5:$C$2413='MDOT FTA Detail'!$C$4)*(Projects!$N$5:$N$2413='MDOT FTA Detail'!$A138)*(Projects!$J$5:$J$2413<>'MDOT FTA Detail'!$A$171)*(Projects!$M$5:$M$2413))","v":0},0,"No FF",{"$f":"SUMPRODUCT((Projects!$A$5:$A$2413='MDOT FTA Detail'!$J$3)*(Projects!$K$5:$K$2413=0)*(Projects!$C$5:$C$2413='MDOT FTA Detail'!$C$4)*(Projects!$N$5:$N$2413='MDOT FTA Detail'!$A138)*(Projects!$J$5:$J$2413<>'MDOT FTA Detail'!$A$171)*(Projects!$M$5:$M$2413))","v":0},0,"No FF",{"$f":"SUMPRODUCT((Projects!$A$5:$A$2413='MDOT FTA Detail'!$M$3)*(Projects!$K$5:$K$2413=0)*(Projects!$C$5:$C$2413='MDOT FTA Detail'!$C$4)*(Projects!$N$5:$N$2413='MDOT FTA Detail'!$A138)*(Projects!$J$5:$J$2413<>'MDOT FTA Detail'!$A$171)*(Projects!$M$5:$M$2413))","v":0},0]
["CANX","Canadian Bridge Funds","MDOT M","No FF",{"$f":"SUMPRODUCT((Projects!$A$5:$A$2413='MDOT FTA Detail'!$D$3)*(Projects!$K$5:$K$2413=0)*(Projects!$C$5:$C$2413='MDOT FTA Detail'!$C$4)*(Projects!$N$5:$N$2413='MDOT FTA Detail'!$A139)*(Projects!$J$5:$J$2413<>'MDOT FTA Detail'!$A$171)*(Projects!$M$5:$M$2413))","v":0},0,"No FF",{"$f":"SUMPRODUCT((Projects!$A$5:$A$2413='MDOT FTA Detail'!$G$3)*(Projects!$K$5:$K$2413=0)*(Projects!$C$5:$C$2413='MDOT FTA Detail'!$C$4)*(Projects!$N$5:$N$2413='MDOT FTA Detail'!$A139)*(Projects!$J$5:$J$2413<>'MDOT FTA Detail'!$A$171)*(Projects!$M$5:$M$2413))","v":0},0,"No FF",{"$f":"SUMPRODUCT((Projects!$A$5:$A$2413='MDOT FTA Detail'!$J$3)*(Projects!$K$5:$K$2413=0)*(Projects!$C$5:$C$2413='MDOT FTA Detail'!$C$4)*(Projects!$N$5:$N$2413='MDOT FTA Detail'!$A139)*(Projects!$J$5:$J$2413<>'MDOT FTA Detail'!$A$171)*(Projects!$M$5:$M$2413))","v":0},0,"No FF",{"$f":"SUMPRODUCT((Projects!$A$5:$A$2413='MDOT FTA Detail'!$M$3)*(Projects!$K$5:$K$2413=0)*(Projects!$C$5:$C$2413='MDOT FTA Detail'!$C$4)*(Projects!$N$5:$N$2413='MDOT FTA Detail'!$A139)*(Projects!$J$5:$J$2413<>'MDOT FTA Detail'!$A$171)*(Projects!$M$5:$M$2413))","v":0},0]
["EDA","Economic Development - Category A","MDOT M","No FF",{"$f":"SUMPRODUCT((Projects!$A$5:$A$2413='MDOT FTA Detail'!$D$3)*(Projects!$K$5:$K$2413=0)*(Projects!$C$5:$C$2413='MDOT FTA Detail'!$C$4)*(Projects!$N$5:$N$2413='MDOT FTA Detail'!$A140)*(Projects!$J$5:$J$2413<>'MDOT FTA Detail'!$A$171)*(Projects!$M$5:$M$2413))","v":0},0,"No FF",{"$f":"SUMPRODUCT((Projects!$A$5:$A$2413='MDOT FTA Detail'!$G$3)*(Projects!$K$5:$K$2413=0)*(Projects!$C$5:$C$2413='MDOT FTA Detail'!$C$4)*(Projects!$N$5:$N$2413='MDOT FTA Detail'!$A140)*(Projects!$J$5:$J$2413<>'MDOT FTA Detail'!$A$171)*(Projects!$M$5:$M$2413))","v":0},0,"No FF",{"$f":"SUMPRODUCT((Projects!$A$5:$A$2413='MDOT FTA Detail'!$J$3)*(Projects!$K$5:$K$2413=0)*(Projects!$C$5:$C$2413='MDOT FTA Detail'!$C$4)*(Projects!$N$5:$N$2413='MDOT FTA Detail'!$A140)*(Projects!$J$5:$J$2413<>'MDOT FTA Detail'!$A$171)*(Projects!$M$5:$M$2413))","v":0},0,"No FF",{"$f":"SUMPRODUCT((Projects!$A$5:$A$2413='MDOT FTA Detail'!$M$3)*(Projects!$K$5:$K$2413=0)*(Projects!$C$5:$C$2413='MDOT FTA Detail'!$C$4)*(Projects!$N$5:$N$2413='MDOT FTA Detail'!$A140)*(Projects!$J$5:$J$2413<>'MDOT FTA Detail'!$A$171)*(Projects!$M$5:$M$2413))","v":0},0]
["EDC","Economic Development - Category C","MDOT M","No FF",{"$f":"SUMPRODUCT((Projects!$A$5:$A$2413='MDOT FTA Detail'!$D$3)*(Projects!$K$5:$K$2413=0)*(Projects!$C$5:$C$2413='MDOT FTA Detail'!$C$4)*(Projects!$N$5:$N$2413='MDOT FTA Detail'!$A141)*(Projects!$J$5:$J$2413<>'MDOT FTA Detail'!$A$171)*(Projects!$M$5:$M$2413))","v":0},0,"No FF",{"$f":"SUMPRODUCT((Projects!$A$5:$A$2413='MDOT FTA Detail'!$G$3)*(Projects!$K$5:$K$2413=0)*(Projects!$C$5:$C$2413='MDOT FTA Detail'!$C$4)*(Projects!$N$5:$N$2413='MDOT FTA Detail'!$A141)*(Projects!$J$5:$J$2413<>'MDOT FTA Detail'!$A$171)*(Projects!$M$5:$M$2413))","v":0},0,"No FF",{"$f":"SUMPRODUCT((Projects!$A$5:$A$2413='MDOT FTA Detail'!$J$3)*(Projects!$K$5:$K$2413=0)*(Projects!$C$5:$C$2413='MDOT FTA Detail'!$C$4)*(Projects!$N$5:$N$2413='MDOT FTA Detail'!$A141)*(Projects!$J$5:$J$2413<>'MDOT FTA Detail'!$A$171)*(Projects!$M$5:$M$2413))","v":0},0,"No FF",{"$f":"SUMPRODUCT((Projects!$A$5:$A$2413='MDOT FTA Detail'!$M$3)*(Projects!$K$5:$K$2413=0)*(Projects!$C$5:$C$2413='MDOT FTA Detail'!$C$4)*(Projects!$N$5:$N$2413='MDOT FTA Detail'!$A141)*(Projects!$J$5:$J$2413<>'MDOT FTA Detail'!$A$171)*(Projects!$M$5:$M$2413))","v":0},0]
["EDD","Economic Development - Category D","MDOT M","No FF",{"$f":"SUMPRODUCT((Projects!$A$5:$A$2413='MDOT FTA Detail'!$D$3)*(Projects!$K$5:$K$2413=0)*(Projects!$C$5:$C$2413='MDOT FTA Detail'!$C$4)*(Projects!$N$5:$N$2413='MDOT FTA Detail'!$A142)*(Projects!$J$5:$J$2413<>'MDOT FTA Detail'!$A$171)*(Projects!$M$5:$M$2413))","v":0},0,"No FF",{"$f":"SUMPRODUCT((Projects!$A$5:$A$2413='MDOT FTA Detail'!$G$3)*(Projects!$K$5:$K$2413=0)*(Projects!$C$5:$C$2413='MDOT FTA Detail'!$C$4)*(Projects!$N$5:$N$2413='MDOT FTA Detail'!$A142)*(Projects!$J$5:$J$2413<>'MDOT FTA Detail'!$A$171)*(Projects!$M$5:$M$2413))","v":0},0,"No FF",{"$f":"SUMPRODUCT((Projects!$A$5:$A$2413='MDOT FTA Detail'!$J$3)*(Projects!$K$5:$K$2413=0)*(Projects!$C$5:$C$2413='MDOT FTA Detail'!$C$4)*(Projects!$N$5:$N$2413='MDOT FTA Detail'!$A142)*(Projects!$J$5:$J$2413<>'MDOT FTA Detail'!$A$171)*(Projects!$M$5:$M$2413))","v":0},0,"No FF",{"$f":"SUMPRODUCT((Projects!$A$5:$A$2413='MDOT FTA Detail'!$M$3)*(Projects!$K$5:$K$2413=0)*(Projects!$C$5:$C$2413='MDOT FTA Detail'!$C$4)*(Projects!$N$5:$N$2413='MDOT FTA Detail'!$A142)*(Projects!$J$5:$J$2413<>'MDOT FTA Detail'!$A$171)*(Projects!$M$5:$M$2413))","v":0},0]
["EDF","Economic Development - Category F","MDOT M","No FF",{"$f":"SUMPRODUCT((Projects!$A$5:$A$2413='MDOT FTA Detail'!$D$3)*(Projects!$K$5:$K$2413=0)*(Projects!$C$5:$C$2413='MDOT FTA Detail'!$C$4)*(Projects!$N$5:$N$2413='MDOT FTA Detail'!$A143)*(Projects!$J$5:$J$2413<>'MDOT FTA Detail'!$A$171)*(Projects!$M$5:$M$2413))","v":0},0,"No FF",{"$f":"SUMPRODUCT((Projects!$A$5:$A$2413='MDOT FTA Detail'!$G$3)*(Projects!$K$5:$K$2413=0)*(Projects!$C$5:$C$2413='MDOT FTA Detail'!$C$4)*(Projects!$N$5:$N$2413='MDOT FTA Detail'!$A143)*(Projects!$J$5:$J$2413<>'MDOT FTA Detail'!$A$171)*(Projects!$M$5:$M$2413))","v":0},0,"No FF",{"$f":"SUMPRODUCT((Projects!$A$5:$A$2413='MDOT FTA Detail'!$J$3)*(Projects!$K$5:$K$2413=0)*(Projects!$C$5:$C$2413='MDOT FTA Detail'!$C$4)*(Projects!$N$5:$N$2413='MDOT FTA Detail'!$A143)*(Projects!$J$5:$J$2413<>'MDOT FTA Detail'!$A$171)*(Projects!$M$5:$M$2413))","v":0},0,"No FF",{"$f":"SUMPRODUCT((Projects!$A$5:$A$2413='MDOT FTA Detail'!$M$3)*(Projects!$K$5:$K$2413=0)*(Projects!$C$5:$C$2413='MDOT FTA Detail'!$C$4)*(Projects!$N$5:$N$2413='MDOT FTA Detail'!$A143)*(Projects!$J$5:$J$2413<>'MDOT FTA Detail'!$A$171)*(Projects!$M$5:$M$2413))","v":0},0]
["GF15","General Fund 2015","MDOT M","No FF",{"$f":"SUMPRODUCT((Projects!$A$5:$A$2413='MDOT FTA Detail'!$D$3)*(Projects!$K$5:$K$2413=0)*(Projects!$C$5:$C$2413='MDOT FTA Detail'!$C$4)*(Projects!$N$5:$N$2413='MDOT FTA Detail'!$A144)*(Projects!$J$5:$J$2413<>'MDOT FTA Detail'!$A$171)*(Projects!$M$5:$M$2413))","v":0},{"$f":"E144","v":0},"No FF",{"$f":"SUMPRODUCT((Projects!$A$5:$A$2413='MDOT FTA Detail'!$G$3)*(Projects!$K$5:$K$2413=0)*(Projects!$C$5:$C$2413='MDOT FTA Detail'!$C$4)*(Projects!$N$5:$N$2413='MDOT FTA Detail'!$A144)*(Projects!$J$5:$J$2413<>'MDOT FTA Detail'!$A$171)*(Projects!$M$5:$M$2413))","v":0},{"$f":"H144","v":0},"No FF",{"$f":"SUMPRODUCT((Projects!$A$5:$A$2413='MDOT FTA Detail'!$J$3)*(Projects!$K$5:$K$2413=0)*(Projects!$C$5:$C$2413='MDOT FTA Detail'!$C$4)*(Projects!$N$5:$N$2413='MDOT FTA Detail'!$A144)*(Projects!$J$5:$J$2413<>'MDOT FTA Detail'!$A$171)*(Projects!$M$5:$M$2413))","v":0},{"$f":"K144","v":0},"No FF",{"$f":"SUMPRODUCT((Projects!$A$5:$A$2413='MDOT FTA Detail'!$M$3)*(Projects!$K$5:$K$2413=0)*(Projects!$C$5:$C$2413='MDOT FTA Detail'!$C$4)*(Projects!$N$5:$N$2413='MDOT FTA Detail'!$A144)*(Projects!$J$5:$J$2413<>'MDOT FTA Detail'!$A$171)*(Projects!$M$5:$M$2413))","v":0},{"$f":"N144","v":0}]
["GF16","General Fund 2016","MDOT M","No FF",{"$f":"SUMPRODUCT((Projects!$A$5:$A$2413='MDOT FTA Detail'!$D$3)*(Projects!$K$5:$K$2413=0)*(Projects!$C$5:$C$2413='MDOT FTA Detail'!$C$4)*(Projects!$N$5:$N$2413='MDOT FTA Detail'!$A145)*(Projects!$J$5:$J$2413<>'MDOT FTA Detail'!$A$171)*(Projects!$M$5:$M$2413))","v":0},0,"No FF",{"$f":"SUMPRODUCT((Projects!$A$5:$A$2413='MDOT FTA Detail'!$G$3)*(Projects!$K$5:$K$2413=0)*(Projects!$C$5:$C$2413='MDOT FTA Detail'!$C$4)*(Projects!$N$5:$N$2413='MDOT FTA Detail'!$A145)*(Projects!$J$5:$J$2413<>'MDOT FTA Detail'!$A$171)*(Projects!$M$5:$M$2413))","v":0},0,"No FF",{"$f":"SUMPRODUCT((Projects!$A$5:$A$2413='MDOT FTA Detail'!$J$3)*(Projects!$K$5:$K$2413=0)*(Projects!$C$5:$C$2413='MDOT FTA Detail'!$C$4)*(Projects!$N$5:$N$2413='MDOT FTA Detail'!$A145)*(Projects!$J$5:$J$2413<>'MDOT FTA Detail'!$A$171)*(Projects!$M$5:$M$2413))","v":0},0,"No FF",{"$f":"SUMPRODUCT((Projects!$A$5:$A$2413='MDOT FTA Detail'!$M$3)*(Projects!$K$5:$K$2413=0)*(Projects!$C$5:$C$2413='MDOT FTA Detail'!$C$4)*(Projects!$N$5:$N$2413='MDOT FTA Detail'!$A145)*(Projects!$J$5:$J$2413<>'MDOT FTA Detail'!$A$171)*(Projects!$M$5:$M$2413))","v":0},0]
["JT07","Jobs Today Bond Issue 2007 GARVEE (State AC for Federal GARVEE Bonds)","MDOT M","No FF",{"$f":"SUMPRODUCT((Projects!$A$5:$A$2413='MDOT FTA Detail'!$D$3)*(Projects!$K$5:$K$2413=0)*(Projects!$C$5:$C$2413='MDOT FTA Detail'!$C$4)*(Projects!$N$5:$N$2413='MDOT FTA Detail'!$A146)*(Projects!$J$5:$J$2413<>'MDOT FTA Detail'!$A$171)*(Projects!$M$5:$M$2413))","v":0},0,"No FF",{"$f":"SUMPRODUCT((Projects!$A$5:$A$2413='MDOT FTA Detail'!$G$3)*(Projects!$K$5:$K$2413=0)*(Projects!$C$5:$C$2413='MDOT FTA Detail'!$C$4)*(Projects!$N$5:$N$2413='MDOT FTA Detail'!$A146)*(Projects!$J$5:$J$2413<>'MDOT FTA Detail'!$A$171)*(Projects!$M$5:$M$2413))","v":0},0,"No FF",{"$f":"SUMPRODUCT((Projects!$A$5:$A$2413='MDOT FTA Detail'!$J$3)*(Projects!$K$5:$K$2413=0)*(Projects!$C$5:$C$2413='MDOT FTA Detail'!$C$4)*(Projects!$N$5:$N$2413='MDOT FTA Detail'!$A146)*(Projects!$J$5:$J$2413<>'MDOT FTA Detail'!$A$171)*(Projects!$M$5:$M$2413))","v":0},0,"No FF",{"$f":"SUMPRODUCT((Projects!$A$5:$A$2413='MDOT FTA Detail'!$M$3)*(Projects!$K$5:$K$2413=0)*(Projects!$C$5:$C$2413='MDOT FTA Detail'!$C$4)*(Projects!$N$5:$N$2413='MDOT FTA Detail'!$A146)*(Projects!$J$5:$J$2413<>'MDOT FTA Detail'!$A$171)*(Projects!$M$5:$M$2413))","v":0},0]
["LFMP","Local Fund Match Program - 100% Local","MDOT M","No FF",{"$f":"SUMPRODUCT((Projects!$A$5:$A$2413='MDOT FTA Detail'!$D$3)*(Projects!$K$5:$K$2413=0)*(Projects!$C$5:$C$2413='MDOT FTA Detail'!$C$4)*(Projects!$N$5:$N$2413='MDOT FTA Detail'!$A147)*(Projects!$J$5:$J$2413<>'MDOT FTA Detail'!$A$171)*(Projects!$M$5:$M$2413))","v":0},0,"No FF",{"$f":"SUMPRODUCT((Projects!$A$5:$A$2413='MDOT FTA Detail'!$G$3)*(Projects!$K$5:$K$2413=0)*(Projects!$C$5:$C$2413='MDOT FTA Detail'!$C$4)*(Projects!$N$5:$N$2413='MDOT FTA Detail'!$A147)*(Projects!$J$5:$J$2413<>'MDOT FTA Detail'!$A$171)*(Projects!$M$5:$M$2413))","v":0},0,"No FF",{"$f":"SUMPRODUCT((Projects!$A$5:$A$2413='MDOT FTA Detail'!$J$3)*(Projects!$K$5:$K$2413=0)*(Projects!$C$5:$C$2413='MDOT FTA Detail'!$C$4)*(Projects!$N$5:$N$2413='MDOT FTA Detail'!$A147)*(Projects!$J$5:$J$2413<>'MDOT FTA Detail'!$A$171)*(Projects!$M$5:$M$2413))","v":0},0,"No FF",{"$f":"SUMPRODUCT((Projects!$A$5:$A$2413='MDOT FTA Detail'!$M$3)*(Projects!$K$5:$K$2413=0)*(Projects!$C$5:$C$2413='MDOT FTA Detail'!$C$4)*(Projects!$N$5:$N$2413='MDOT FTA Detail'!$A147)*(Projects!$J$5:$J$2413<>'MDOT FTA Detail'!$A$171)*(Projects!$M$5:$M$2413))","v":0},0]
["M","State Funds - Michigan Betterment","MDOT M","No FF",{"$f":"SUMPRODUCT((Projects!$A$5:$A$2413='MDOT FTA Detail'!$D$3)*(Projects!$K$5:$K$2413=0)*(Projects!$C$5:$C$2413='MDOT FTA Detail'!$C$4)*(Projects!$N$5:$N$2413='MDOT FTA Detail'!$A148)*(Projects!$J$5:$J$2413<>'MDOT FTA Detail'!$A$171)*(Projects!$M$5:$M$2413))","v":0},0,"No FF",{"$f":"SUMPRODUCT((Projects!$A$5:$A$2413='MDOT FTA Detail'!$G$3)*(Projects!$K$5:$K$2413=0)*(Projects!$C$5:$C$2413='MDOT FTA Detail'!$C$4)*(Projects!$N$5:$N$2413='MDOT FTA Detail'!$A148)*(Projects!$J$5:$J$2413<>'MDOT FTA Detail'!$A$171)*(Projects!$M$5:$M$2413))","v":2947325},2947325,"No FF",{"$f":"SUMPRODUCT((Projects!$A$5:$A$2413='MDOT FTA Detail'!$J$3)*(Projects!$K$5:$K$2413=0)*(Projects!$C$5:$C$2413='MDOT FTA Detail'!$C$4)*(Projects!$N$5:$N$2413='MDOT FTA Detail'!$A148)*(Projects!$J$5:$J$2413<>'MDOT FTA Detail'!$A$171)*(Projects!$M$5:$M$2413))","v":152373},152373,"No FF",{"$f":"SUMPRODUCT((Projects!$A$5:$A$2413='MDOT FTA Detail'!$M$3)*(Projects!$K$5:$K$2413=0)*(Projects!$C$5:$C$2413='MDOT FTA Detail'!$C$4)*(Projects!$N$5:$N$2413='MDOT FTA Detail'!$A148)*(Projects!$J$5:$J$2413<>'MDOT FTA Detail'!$A$171)*(Projects!$M$5:$M$2413))","v":7240450},7240450]
["MBS","Michigan Budget Stabilization","MDOT M","No FF",{"$f":"SUMPRODUCT((Projects!$A$5:$A$2413='MDOT FTA Detail'!$D$3)*(Projects!$K$5:$K$2413=0)*(Projects!$C$5:$C$2413='MDOT FTA Detail'!$C$4)*(Projects!$N$5:$N$2413='MDOT FTA Detail'!$A149)*(Projects!$J$5:$J$2413<>'MDOT FTA Detail'!$A$171)*(Projects!$M$5:$M$2413))","v":0},0,"No FF",{"$f":"SUMPRODUCT((Projects!$A$5:$A$2413='MDOT FTA Detail'!$G$3)*(Projects!$K$5:$K$2413=0)*(Projects!$C$5:$C$2413='MDOT FTA Detail'!$C$4)*(Projects!$N$5:$N$2413='MDOT FTA Detail'!$A149)*(Projects!$J$5:$J$2413<>'MDOT FTA Detail'!$A$171)*(Projects!$M$5:$M$2413))","v":0},0,"No FF",{"$f":"SUMPRODUCT((Projects!$A$5:$A$2413='MDOT FTA Detail'!$J$3)*(Projects!$K$5:$K$2413=0)*(Projects!$C$5:$C$2413='MDOT FTA Detail'!$C$4)*(Projects!$N$5:$N$2413='MDOT FTA Detail'!$A149)*(Projects!$J$5:$J$2413<>'MDOT FTA Detail'!$A$171)*(Projects!$M$5:$M$2413))","v":0},0,"No FF",{"$f":"SUMPRODUCT((Projects!$A$5:$A$2413='MDOT FTA Detail'!$M$3)*(Projects!$K$5:$K$2413=0)*(Projects!$C$5:$C$2413='MDOT FTA Detail'!$C$4)*(Projects!$N$5:$N$2413='MDOT FTA Detail'!$A149)*(Projects!$J$5:$J$2413<>'MDOT FTA Detail'!$A$171)*(Projects!$M$5:$M$2413))","v":0},0]
["MBWB","Michigan Blue Water Bridge","MDOT M","No FF",{"$f":"SUMPRODUCT((Projects!$A$5:$A$2413='MDOT FTA Detail'!$D$3)*(Projects!$K$5:$K$2413=0)*(Projects!$C$5:$C$2413='MDOT FTA Detail'!$C$4)*(Projects!$N$5:$N$2413='MDOT FTA Detail'!$A150)*(Projects!$J$5:$J$2413<>'MDOT FTA Detail'!$A$171)*(Projects!$M$5:$M$2413))","v":0},0,"No FF",{"$f":"SUMPRODUCT((Projects!$A$5:$A$2413='MDOT FTA Detail'!$G$3)*(Projects!$K$5:$K$2413=0)*(Projects!$C$5:$C$2413='MDOT FTA Detail'!$C$4)*(Projects!$N$5:$N$2413='MDOT FTA Detail'!$A150)*(Projects!$J$5:$J$2413<>'MDOT FTA Detail'!$A$171)*(Projects!$M$5:$M$2413))","v":0},0,"No FF",{"$f":"SUMPRODUCT((Projects!$A$5:$A$2413='MDOT FTA Detail'!$J$3)*(Projects!$K$5:$K$2413=0)*(Projects!$C$5:$C$2413='MDOT FTA Detail'!$C$4)*(Projects!$N$5:$N$2413='MDOT FTA Detail'!$A150)*(Projects!$J$5:$J$2413<>'MDOT FTA Detail'!$A$171)*(Projects!$M$5:$M$2413))","v":0},0,"No FF",{"$f":"SUMPRODUCT((Projects!$A$5:$A$2413='MDOT FTA Detail'!$M$3)*(Projects!$K$5:$K$2413=0)*(Projects!$C$5:$C$2413='MDOT FTA Detail'!$C$4)*(Projects!$N$5:$N$2413='MDOT FTA Detail'!$A150)*(Projects!$J$5:$J$2413<>'MDOT FTA Detail'!$A$171)*(Projects!$M$5:$M$2413))","v":0},0]
["MCS","State Funds - Critical Structures","MDOT M","No FF",{"$f":"SUMPRODUCT((Projects!$A$5:$A$2413='MDOT FTA Detail'!$D$3)*(Projects!$K$5:$K$2413=0)*(Projects!$C$5:$C$2413='MDOT FTA Detail'!$C$4)*(Projects!$N$5:$N$2413='MDOT FTA Detail'!$A151)*(Projects!$J$5:$J$2413<>'MDOT FTA Detail'!$A$171)*(Projects!$M$5:$M$2413))","v":0},0,"No FF",{"$f":"SUMPRODUCT((Projects!$A$5:$A$2413='MDOT FTA Detail'!$G$3)*(Projects!$K$5:$K$2413=0)*(Projects!$C$5:$C$2413='MDOT FTA Detail'!$C$4)*(Projects!$N$5:$N$2413='MDOT FTA Detail'!$A151)*(Projects!$J$5:$J$2413<>'MDOT FTA Detail'!$A$171)*(Projects!$M$5:$M$2413))","v":0},0,"No FF",{"$f":"SUMPRODUCT((Projects!$A$5:$A$2413='MDOT FTA Detail'!$J$3)*(Projects!$K$5:$K$2413=0)*(Projects!$C$5:$C$2413='MDOT FTA Detail'!$C$4)*(Projects!$N$5:$N$2413='MDOT FTA Detail'!$A151)*(Projects!$J$5:$J$2413<>'MDOT FTA Detail'!$A$171)*(Projects!$M$5:$M$2413))","v":0},0,"No FF",{"$f":"SUMPRODUCT((Projects!$A$5:$A$2413='MDOT FTA Detail'!$M$3)*(Projects!$K$5:$K$2413=0)*(Projects!$C$5:$C$2413='MDOT FTA Detail'!$C$4)*(Projects!$N$5:$N$2413='MDOT FTA Detail'!$A151)*(Projects!$J$5:$J$2413<>'MDOT FTA Detail'!$A$171)*(Projects!$M$5:$M$2413))","v":0},0]
["MDA","Drainage Assessment","MDOT M","No FF",{"$f":"SUMPRODUCT((Projects!$A$5:$A$2413='MDOT FTA Detail'!$D$3)*(Projects!$K$5:$K$2413=0)*(Projects!$C$5:$C$2413='MDOT FTA Detail'!$C$4)*(Projects!$N$5:$N$2413='MDOT FTA Detail'!$A152)*(Projects!$J$5:$J$2413<>'MDOT FTA Detail'!$A$171)*(Projects!$M$5:$M$2413))","v":0},0,"No FF",{"$f":"SUMPRODUCT((Projects!$A$5:$A$2413='MDOT FTA Detail'!$G$3)*(Projects!$K$5:$K$2413=0)*(Projects!$C$5:$C$2413='MDOT FTA Detail'!$C$4)*(Projects!$N$5:$N$2413='MDOT FTA Detail'!$A152)*(Projects!$J$5:$J$2413<>'MDOT FTA Detail'!$A$171)*(Projects!$M$5:$M$2413))","v":0},0,"No FF",{"$f":"SUMPRODUCT((Projects!$A$5:$A$2413='MDOT FTA Detail'!$J$3)*(Projects!$K$5:$K$2413=0)*(Projects!$C$5:$C$2413='MDOT FTA Detail'!$C$4)*(Projects!$N$5:$N$2413='MDOT FTA Detail'!$A152)*(Projects!$J$5:$J$2413<>'MDOT FTA Detail'!$A$171)*(Projects!$M$5:$M$2413))","v":0},0,"No FF",{"$f":"SUMPRODUCT((Projects!$A$5:$A$2413='MDOT FTA Detail'!$M$3)*(Projects!$K$5:$K$2413=0)*(Projects!$C$5:$C$2413='MDOT FTA Detail'!$C$4)*(Projects!$N$5:$N$2413='MDOT FTA Detail'!$A152)*(Projects!$J$5:$J$2413<>'MDOT FTA Detail'!$A$171)*(Projects!$M$5:$M$2413))","v":0},0]
["MER","Emergency Program","MDOT M","No FF",{"$f":"SUMPRODUCT((Projects!$A$5:$A$2413='MDOT FTA Detail'!$D$3)*(Projects!$K$5:$K$2413=0)*(Projects!$C$5:$C$2413='MDOT FTA Detail'!$C$4)*(Projects!$N$5:$N$2413='MDOT FTA Detail'!$A153)*(Projects!$J$5:$J$2413<>'MDOT FTA Detail'!$A$171)*(Projects!$M$5:$M$2413))","v":0},0,"No FF",{"$f":"SUMPRODUCT((Projects!$A$5:$A$2413='MDOT FTA Detail'!$G$3)*(Projects!$K$5:$K$2413=0)*(Projects!$C$5:$C$2413='MDOT FTA Detail'!$C$4)*(Projects!$N$5:$N$2413='MDOT FTA Detail'!$A153)*(Projects!$J$5:$J$2413<>'MDOT FTA Detail'!$A$171)*(Projects!$M$5:$M$2413))","v":0},0,"No FF",{"$f":"SUMPRODUCT((Projects!$A$5:$A$2413='MDOT FTA Detail'!$J$3)*(Projects!$K$5:$K$2413=0)*(Projects!$C$5:$C$2413='MDOT FTA Detail'!$C$4)*(Projects!$N$5:$N$2413='MDOT FTA Detail'!$A153)*(Projects!$J$5:$J$2413<>'MDOT FTA Detail'!$A$171)*(Projects!$M$5:$M$2413))","v":0},0,"No FF",{"$f":"SUMPRODUCT((Projects!$A$5:$A$2413='MDOT FTA Detail'!$M$3)*(Projects!$K$5:$K$2413=0)*(Projects!$C$5:$C$2413='MDOT FTA Detail'!$C$4)*(Projects!$N$5:$N$2413='MDOT FTA Detail'!$A153)*(Projects!$J$5:$J$2413<>'MDOT FTA Detail'!$A$171)*(Projects!$M$5:$M$2413))","v":0},0]
["MIR","State Funds - Institutional Roads","MDOT M","No FF",{"$f":"SUMPRODUCT((Projects!$A$5:$A$2413='MDOT FTA Detail'!$D$3)*(Projects!$K$5:$K$2413=0)*(Projects!$C$5:$C$2413='MDOT FTA Detail'!$C$4)*(Projects!$N$5:$N$2413='MDOT FTA Detail'!$A154)*(Projects!$J$5:$J$2413<>'MDOT FTA Detail'!$A$171)*(Projects!$M$5:$M$2413))","v":0},0,"No FF",{"$f":"SUMPRODUCT((Projects!$A$5:$A$2413='MDOT FTA Detail'!$G$3)*(Projects!$K$5:$K$2413=0)*(Projects!$C$5:$C$2413='MDOT FTA Detail'!$C$4)*(Projects!$N$5:$N$2413='MDOT FTA Detail'!$A154)*(Projects!$J$5:$J$2413<>'MDOT FTA Detail'!$A$171)*(Projects!$M$5:$M$2413))","v":0},0,"No FF",{"$f":"SUMPRODUCT((Projects!$A$5:$A$2413='MDOT FTA Detail'!$J$3)*(Projects!$K$5:$K$2413=0)*(Projects!$C$5:$C$2413='MDOT FTA Detail'!$C$4)*(Projects!$N$5:$N$2413='MDOT FTA Detail'!$A154)*(Projects!$J$5:$J$2413<>'MDOT FTA Detail'!$A$171)*(Projects!$M$5:$M$2413))","v":0},0,"No FF",{"$f":"SUMPRODUCT((Projects!$A$5:$A$2413='MDOT FTA Detail'!$M$3)*(Projects!$K$5:$K$2413=0)*(Projects!$C$5:$C$2413='MDOT FTA Detail'!$C$4)*(Projects!$N$5:$N$2413='MDOT FTA Detail'!$A154)*(Projects!$J$5:$J$2413<>'MDOT FTA Detail'!$A$171)*(Projects!$M$5:$M$2413))","v":0},0]
["MRR","Michigan Railroad","MDOT M","No FF",{"$f":"SUMPRODUCT((Projects!$A$5:$A$2413='MDOT FTA Detail'!$D$3)*(Projects!$K$5:$K$2413=0)*(Projects!$C$5:$C$2413='MDOT FTA Detail'!$C$4)*(Projects!$N$5:$N$2413='MDOT FTA Detail'!$A155)*(Projects!$J$5:$J$2413<>'MDOT FTA Detail'!$A$171)*(Projects!$M$5:$M$2413))","v":0},0,"No FF",{"$f":"SUMPRODUCT((Projects!$A$5:$A$2413='MDOT FTA Detail'!$G$3)*(Projects!$K$5:$K$2413=0)*(Projects!$C$5:$C$2413='MDOT FTA Detail'!$C$4)*(Projects!$N$5:$N$2413='MDOT FTA Detail'!$A155)*(Projects!$J$5:$J$2413<>'MDOT FTA Detail'!$A$171)*(Projects!$M$5:$M$2413))","v":0},0,"No FF",{"$f":"SUMPRODUCT((Projects!$A$5:$A$2413='MDOT FTA Detail'!$J$3)*(Projects!$K$5:$K$2413=0)*(Projects!$C$5:$C$2413='MDOT FTA Detail'!$C$4)*(Projects!$N$5:$N$2413='MDOT FTA Detail'!$A155)*(Projects!$J$5:$J$2413<>'MDOT FTA Detail'!$A$171)*(Projects!$M$5:$M$2413))","v":0},0,"No FF",{"$f":"SUMPRODUCT((Projects!$A$5:$A$2413='MDOT FTA Detail'!$M$3)*(Projects!$K$5:$K$2413=0)*(Projects!$C$5:$C$2413='MDOT FTA Detail'!$C$4)*(Projects!$N$5:$N$2413='MDOT FTA Detail'!$A155)*(Projects!$J$5:$J$2413<>'MDOT FTA Detail'!$A$171)*(Projects!$M$5:$M$2413))","v":0},0]
["MRRF","Michigan Revolving Real Estate Fund","MDOT M","No FF",{"$f":"SUMPRODUCT((Projects!$A$5:$A$2413='MDOT FTA Detail'!$D$3)*(Projects!$K$5:$K$2413=0)*(Projects!$C$5:$C$2413='MDOT FTA Detail'!$C$4)*(Projects!$N$5:$N$2413='MDOT FTA Detail'!$A156)*(Projects!$J$5:$J$2413<>'MDOT FTA Detail'!$A$171)*(Projects!$M$5:$M$2413))","v":0},0,"No FF",{"$f":"SUMPRODUCT((Projects!$A$5:$A$2413='MDOT FTA Detail'!$G$3)*(Projects!$K$5:$K$2413=0)*(Projects!$C$5:$C$2413='MDOT FTA Detail'!$C$4)*(Projects!$N$5:$N$2413='MDOT FTA Detail'!$A156)*(Projects!$J$5:$J$2413<>'MDOT FTA Detail'!$A$171)*(Projects!$M$5:$M$2413))","v":0},0,"No FF",{"$f":"SUMPRODUCT((Projects!$A$5:$A$2413='MDOT FTA Detail'!$J$3)*(Projects!$K$5:$K$2413=0)*(Projects!$C$5:$C$2413='MDOT FTA Detail'!$C$4)*(Projects!$N$5:$N$2413='MDOT FTA Detail'!$A156)*(Projects!$J$5:$J$2413<>'MDOT FTA Detail'!$A$171)*(Projects!$M$5:$M$2413))","v":0},0,"No FF",{"$f":"SUMPRODUCT((Projects!$A$5:$A$2413='MDOT FTA Detail'!$M$3)*(Projects!$K$5:$K$2413=0)*(Projects!$C$5:$C$2413='MDOT FTA Detail'!$C$4)*(Projects!$N$5:$N$2413='MDOT FTA Detail'!$A156)*(Projects!$J$5:$J$2413<>'MDOT FTA Detail'!$A$171)*(Projects!$M$5:$M$2413))","v":0},0]
["MS","Safety Program","MDOT M","No FF",{"$f":"SUMPRODUCT((Projects!$A$5:$A$2413='MDOT FTA Detail'!$D$3)*(Projects!$K$5:$K$2413=0)*(Projects!$C$5:$C$2413='MDOT FTA Detail'!$C$4)*(Projects!$N$5:$N$2413='MDOT FTA Detail'!$A157)*(Projects!$J$5:$J$2413<>'MDOT FTA Detail'!$A$171)*(Projects!$M$5:$M$2413))","v":0},0,"No FF",{"$f":"SUMPRODUCT((Projects!$A$5:$A$2413='MDOT FTA Detail'!$G$3)*(Projects!$K$5:$K$2413=0)*(Projects!$C$5:$C$2413='MDOT FTA Detail'!$C$4)*(Projects!$N$5:$N$2413='MDOT FTA Detail'!$A157)*(Projects!$J$5:$J$2413<>'MDOT FTA Detail'!$A$171)*(Projects!$M$5:$M$2413))","v":0},0,"No FF",{"$f":"SUMPRODUCT((Projects!$A$5:$A$2413='MDOT FTA Detail'!$J$3)*(Projects!$K$5:$K$2413=0)*(Projects!$C$5:$C$2413='MDOT FTA Detail'!$C$4)*(Projects!$N$5:$N$2413='MDOT FTA Detail'!$A157)*(Projects!$J$5:$J$2413<>'MDOT FTA Detail'!$A$171)*(Projects!$M$5:$M$2413))","v":0},0,"No FF",{"$f":"SUMPRODUCT((Projects!$A$5:$A$2413='MDOT FTA Detail'!$M$3)*(Projects!$K$5:$K$2413=0)*(Projects!$C$5:$C$2413='MDOT FTA Detail'!$C$4)*(Projects!$N$5:$N$2413='MDOT FTA Detail'!$A157)*(Projects!$J$5:$J$2413<>'MDOT FTA Detail'!$A$171)*(Projects!$M$5:$M$2413))","v":0},0]
["MTB","Turnback Program","MDOT M","No FF",{"$f":"SUMPRODUCT((Projects!$A$5:$A$2413='MDOT FTA Detail'!$D$3)*(Projects!$K$5:$K$2413=0)*(Projects!$C$5:$C$2413='MDOT FTA Detail'!$C$4)*(Projects!$N$5:$N$2413='MDOT FTA Detail'!$A158)*(Projects!$J$5:$J$2413<>'MDOT FTA Detail'!$A$171)*(Projects!$M$5:$M$2413))","v":0},0,"No FF",{"$f":"SUMPRODUCT((Projects!$A$5:$A$2413='MDOT FTA Detail'!$G$3)*(Projects!$K$5:$K$2413=0)*(Projects!$C$5:$C$2413='MDOT FTA Detail'!$C$4)*(Projects!$N$5:$N$2413='MDOT FTA Detail'!$A158)*(Projects!$J$5:$J$2413<>'MDOT FTA Detail'!$A$171)*(Projects!$M$5:$M$2413))","v":0},0,"No FF",{"$f":"SUMPRODUCT((Projects!$A$5:$A$2413='MDOT FTA Detail'!$J$3)*(Projects!$K$5:$K$2413=0)*(Projects!$C$5:$C$2413='MDOT FTA Detail'!$C$4)*(Projects!$N$5:$N$2413='MDOT FTA Detail'!$A158)*(Projects!$J$5:$J$2413<>'MDOT FTA Detail'!$A$171)*(Projects!$M$5:$M$2413))","v":0},0,"No FF",{"$f":"SUMPRODUCT((Projects!$A$5:$A$2413='MDOT FTA Detail'!$M$3)*(Projects!$K$5:$K$2413=0)*(Projects!$C$5:$C$2413='MDOT FTA Detail'!$C$4)*(Projects!$N$5:$N$2413='MDOT FTA Detail'!$A158)*(Projects!$J$5:$J$2413<>'MDOT FTA Detail'!$A$171)*(Projects!$M$5:$M$2413))","v":0},0]
["PRIP","Priority Roads Investment Program","MDOT M","No FF",{"$f":"SUMPRODUCT((Projects!$A$5:$A$2413='MDOT FTA Detail'!$D$3)*(Projects!$K$5:$K$2413=0)*(Projects!$C$5:$C$2413='MDOT FTA Detail'!$C$4)*(Projects!$N$5:$N$2413='MDOT FTA Detail'!$A159)*(Projects!$J$5:$J$2413<>'MDOT FTA Detail'!$A$171)*(Projects!$M$5:$M$2413))","v":0},{"$f":"E159","v":0},"No FF",{"$f":"SUMPRODUCT((Projects!$A$5:$A$2413='MDOT FTA Detail'!$G$3)*(Projects!$K$5:$K$2413=0)*(Projects!$C$5:$C$2413='MDOT FTA Detail'!$C$4)*(Projects!$N$5:$N$2413='MDOT FTA Detail'!$A159)*(Projects!$J$5:$J$2413<>'MDOT FTA Detail'!$A$171)*(Projects!$M$5:$M$2413))","v":0},{"$f":"H159","v":0},"No FF",{"$f":"SUMPRODUCT((Projects!$A$5:$A$2413='MDOT FTA Detail'!$J$3)*(Projects!$K$5:$K$2413=0)*(Projects!$C$5:$C$2413='MDOT FTA Detail'!$C$4)*(Projects!$N$5:$N$2413='MDOT FTA Detail'!$A159)*(Projects!$J$5:$J$2413<>'MDOT FTA Detail'!$A$171)*(Projects!$M$5:$M$2413))","v":0},{"$f":"K159","v":0},"No FF",{"$f":"SUMPRODUCT((Projects!$A$5:$A$2413='MDOT FTA Detail'!$M$3)*(Projects!$K$5:$K$2413=0)*(Projects!$C$5:$C$2413='MDOT FTA Detail'!$C$4)*(Projects!$N$5:$N$2413='MDOT FTA Detail'!$A159)*(Projects!$J$5:$J$2413<>'MDOT FTA Detail'!$A$171)*(Projects!$M$5:$M$2413))","v":0},{"$f":"N159","v":0}]
["RRRF","Michigan Road and Risk Reserve Fund","MDOT M","No FF",{"$f":"SUMPRODUCT((Projects!$A$5:$A$2413='MDOT FTA Detail'!$D$3)*(Projects!$K$5:$K$2413=0)*(Projects!$C$5:$C$2413='MDOT FTA Detail'!$C$4)*(Projects!$N$5:$N$2413='MDOT FTA Detail'!$A160)*(Projects!$J$5:$J$2413<>'MDOT FTA Detail'!$A$171)*(Projects!$M$5:$M$2413))","v":0},{"$f":"E160","v":0},"No FF",{"$f":"SUMPRODUCT((Projects!$A$5:$A$2413='MDOT FTA Detail'!$G$3)*(Projects!$K$5:$K$2413=0)*(Projects!$C$5:$C$2413='MDOT FTA Detail'!$C$4)*(Projects!$N$5:$N$2413='MDOT FTA Detail'!$A160)*(Projects!$J$5:$J$2413<>'MDOT FTA Detail'!$A$171)*(Projects!$M$5:$M$2413))","v":0},{"$f":"H160","v":0},"No FF",{"$f":"SUMPRODUCT((Projects!$A$5:$A$2413='MDOT FTA Detail'!$J$3)*(Projects!$K$5:$K$2413=0)*(Projects!$C$5:$C$2413='MDOT FTA Detail'!$C$4)*(Projects!$N$5:$N$2413='MDOT FTA Detail'!$A160)*(Projects!$J$5:$J$2413<>'MDOT FTA Detail'!$A$171)*(Projects!$M$5:$M$2413))","v":0},{"$f":"K160","v":0},"No FF",{"$f":"SUMPRODUCT((Projects!$A$5:$A$2413='MDOT FTA Detail'!$M$3)*(Projects!$K$5:$K$2413=0)*(Projects!$C$5:$C$2413='MDOT FTA Detail'!$C$4)*(Projects!$N$5:$N$2413='MDOT FTA Detail'!$A160)*(Projects!$J$5:$J$2413<>'MDOT FTA Detail'!$A$171)*(Projects!$M$5:$M$2413))","v":0},{"$f":"N160","v":0}]
["SIBG","100% State Infrastructure Bank","MDOT M","No FF",{"$f":"SUMPRODUCT((Projects!$A$5:$A$2413='MDOT FTA Detail'!$D$3)*(Projects!$K$5:$K$2413=0)*(Projects!$C$5:$C$2413='MDOT FTA Detail'!$C$4)*(Projects!$N$5:$N$2413='MDOT FTA Detail'!$A161)*(Projects!$J$5:$J$2413<>'MDOT FTA Detail'!$A$171)*(Projects!$M$5:$M$2413))","v":0},0,"No FF",{"$f":"SUMPRODUCT((Projects!$A$5:$A$2413='MDOT FTA Detail'!$G$3)*(Projects!$K$5:$K$2413=0)*(Projects!$C$5:$C$2413='MDOT FTA Detail'!$C$4)*(Projects!$N$5:$N$2413='MDOT FTA Detail'!$A161)*(Projects!$J$5:$J$2413<>'MDOT FTA Detail'!$A$171)*(Projects!$M$5:$M$2413))","v":0},0,"No FF",{"$f":"SUMPRODUCT((Projects!$A$5:$A$2413='MDOT FTA Detail'!$J$3)*(Projects!$K$5:$K$2413=0)*(Projects!$C$5:$C$2413='MDOT FTA Detail'!$C$4)*(Projects!$N$5:$N$2413='MDOT FTA Detail'!$A161)*(Projects!$J$5:$J$2413<>'MDOT FTA Detail'!$A$171)*(Projects!$M$5:$M$2413))","v":0},0,"No FF",{"$f":"SUMPRODUCT((Projects!$A$5:$A$2413='MDOT FTA Detail'!$M$3)*(Projects!$K$5:$K$2413=0)*(Projects!$C$5:$C$2413='MDOT FTA Detail'!$C$4)*(Projects!$N$5:$N$2413='MDOT FTA Detail'!$A161)*(Projects!$J$5:$J$2413<>'MDOT FTA Detail'!$A$171)*(Projects!$M$5:$M$2413))","v":0},0]
["CITY","Local - City (Specify city in Comments)","MDOT M","No FF",{"$f":"SUMPRODUCT((Projects!$A$5:$A$2413='MDOT FTA Detail'!$D$3)*(Projects!$K$5:$K$2413=0)*(Projects!$C$5:$C$2413='MDOT FTA Detail'!$C$4)*(Projects!$P$5:$P$2413='MDOT FTA Detail'!$A162)*(Projects!$J$5:$J$2413<>'MDOT FTA Detail'!$A$171)*(Projects!$O$5:$O$2413))","v":0},0,"No FF",{"$f":"SUMPRODUCT((Projects!$A$5:$A$2413='MDOT FTA Detail'!$G$3)*(Projects!$K$5:$K$2413=0)*(Projects!$C$5:$C$2413='MDOT FTA Detail'!$C$4)*(Projects!$P$5:$P$2413='MDOT FTA Detail'!$A162)*(Projects!$J$5:$J$2413<>'MDOT FTA Detail'!$A$171)*(Projects!$O$5:$O$2413))","v":0},0,"No FF",{"$f":"SUMPRODUCT((Projects!$A$5:$A$2413='MDOT FTA Detail'!$J$3)*(Projects!$K$5:$K$2413=0)*(Projects!$C$5:$C$2413='MDOT FTA Detail'!$C$4)*(Projects!$P$5:$P$2413='MDOT FTA Detail'!$A162)*(Projects!$J$5:$J$2413<>'MDOT FTA Detail'!$A$171)*(Projects!$O$5:$O$2413))","v":0},0,"No FF",{"$f":"SUMPRODUCT((Projects!$A$5:$A$2413='MDOT FTA Detail'!$M$3)*(Projects!$K$5:$K$2413=0)*(Projects!$C$5:$C$2413='MDOT FTA Detail'!$C$4)*(Projects!$P$5:$P$2413='MDOT FTA Detail'!$A162)*(Projects!$J$5:$J$2413<>'MDOT FTA Detail'!$A$171)*(Projects!$O$5:$O$2413))","v":0},0]
["CANX","Canadian Bridge Funds","MDOT M","No FF",{"$f":"SUMPRODUCT((Projects!$A$5:$A$2413='MDOT FTA Detail'!$D$3)*(Projects!$K$5:$K$2413=0)*(Projects!$C$5:$C$2413='MDOT FTA Detail'!$C$4)*(Projects!$P$5:$P$2413='MDOT FTA Detail'!$A163)*(Projects!$J$5:$J$2413<>'MDOT FTA Detail'!$A$171)*(Projects!$O$5:$O$2413))","v":0},0,"No FF",{"$f":"SUMPRODUCT((Projects!$A$5:$A$2413='MDOT FTA Detail'!$G$3)*(Projects!$K$5:$K$2413=0)*(Projects!$C$5:$C$2413='MDOT FTA Detail'!$C$4)*(Projects!$P$5:$P$2413='MDOT FTA Detail'!$A163)*(Projects!$J$5:$J$2413<>'MDOT FTA Detail'!$A$171)*(Projects!$O$5:$O$2413))","v":0},0,"No FF",{"$f":"SUMPRODUCT((Projects!$A$5:$A$2413='MDOT FTA Detail'!$J$3)*(Projects!$K$5:$K$2413=0)*(Projects!$C$5:$C$2413='MDOT FTA Detail'!$C$4)*(Projects!$P$5:$P$2413='MDOT FTA Detail'!$A163)*(Projects!$J$5:$J$2413<>'MDOT FTA Detail'!$A$171)*(Projects!$O$5:$O$2413))","v":0},0,"No FF",{"$f":"SUMPRODUCT((Projects!$A$5:$A$2413='MDOT FTA Detail'!$M$3)*(Projects!$K$5:$K$2413=0)*(Projects!$C$5:$C$2413='MDOT FTA Detail'!$C$4)*(Projects!$P$5:$P$2413='MDOT FTA Detail'!$A163)*(Projects!$J$5:$J$2413<>'MDOT FTA Detail'!$A$171)*(Projects!$O$5:$O$2413))","v":0},0]
["CNTY","Local - County (Specify county in Comments) ","MDOT M","No FF",{"$f":"SUMPRODUCT((Projects!$A$5:$A$2413='MDOT FTA Detail'!$D$3)*(Projects!$K$5:$K$2413=0)*(Projects!$C$5:$C$2413='MDOT FTA Detail'!$C$4)*(Projects!$P$5:$P$2413='MDOT FTA Detail'!$A164)*(Projects!$J$5:$J$2413<>'MDOT FTA Detail'!$A$171)*(Projects!$O$5:$O$2413))","v":0},0,"No FF",{"$f":"SUMPRODUCT((Projects!$A$5:$A$2413='MDOT FTA Detail'!$G$3)*(Projects!$K$5:$K$2413=0)*(Projects!$C$5:$C$2413='MDOT FTA Detail'!$C$4)*(Projects!$P$5:$P$2413='MDOT FTA Detail'!$A164)*(Projects!$J$5:$J$2413<>'MDOT FTA Detail'!$A$171)*(Projects!$O$5:$O$2413))","v":0},0,"No FF",{"$f":"SUMPRODUCT((Projects!$A$5:$A$2413='MDOT FTA Detail'!$J$3)*(Projects!$K$5:$K$2413=0)*(Projects!$C$5:$C$2413='MDOT FTA Detail'!$C$4)*(Projects!$P$5:$P$2413='MDOT FTA Detail'!$A164)*(Projects!$J$5:$J$2413<>'MDOT FTA Detail'!$A$171)*(Projects!$O$5:$O$2413))","v":0},0,"No FF",{"$f":"SUMPRODUCT((Projects!$A$5:$A$2413='MDOT FTA Detail'!$M$3)*(Projects!$K$5:$K$2413=0)*(Projects!$C$5:$C$2413='MDOT FTA Detail'!$C$4)*(Projects!$P$5:$P$2413='MDOT FTA Detail'!$A164)*(Projects!$J$5:$J$2413<>'MDOT FTA Detail'!$A$171)*(Projects!$O$5:$O$2413))","v":0},0]
["OLF","Other Local Funds (Specify local fund source in Comments) ","MDOT M","No FF",{"$f":"SUMPRODUCT((Projects!$A$5:$A$2413='MDOT FTA Detail'!$D$3)*(Projects!$K$5:$K$2413=0)*(Projects!$C$5:$C$2413='MDOT FTA Detail'!$C$4)*(Projects!$P$5:$P$2413='MDOT FTA Detail'!$A165)*(Projects!$J$5:$J$2413<>'MDOT FTA Detail'!$A$171)*(Projects!$O$5:$O$2413))","v":0},0,"No FF",{"$f":"SUMPRODUCT((Projects!$A$5:$A$2413='MDOT FTA Detail'!$G$3)*(Projects!$K$5:$K$2413=0)*(Projects!$C$5:$C$2413='MDOT FTA Detail'!$C$4)*(Projects!$P$5:$P$2413='MDOT FTA Detail'!$A165)*(Projects!$J$5:$J$2413<>'MDOT FTA Detail'!$A$171)*(Projects!$O$5:$O$2413))","v":0},0,"No FF",{"$f":"SUMPRODUCT((Projects!$A$5:$A$2413='MDOT FTA Detail'!$J$3)*(Projects!$K$5:$K$2413=0)*(Projects!$C$5:$C$2413='MDOT FTA Detail'!$C$4)*(Projects!$P$5:$P$2413='MDOT FTA Detail'!$A165)*(Projects!$J$5:$J$2413<>'MDOT FTA Detail'!$A$171)*(Projects!$O$5:$O$2413))","v":0},0,"No FF",{"$f":"SUMPRODUCT((Projects!$A$5:$A$2413='MDOT FTA Detail'!$M$3)*(Projects!$K$5:$K$2413=0)*(Projects!$C$5:$C$2413='MDOT FTA Detail'!$C$4)*(Projects!$P$5:$P$2413='MDOT FTA Detail'!$A165)*(Projects!$J$5:$J$2413<>'MDOT FTA Detail'!$A$171)*(Projects!$O$5:$O$2413))","v":0},0]
["PRVT","Private (Non-governmental)","MDOT M","No FF",{"$f":"SUMPRODUCT((Projects!$A$5:$A$2413='MDOT FTA Detail'!$D$3)*(Projects!$K$5:$K$2413=0)*(Projects!$C$5:$C$2413='MDOT FTA Detail'!$C$4)*(Projects!$P$5:$P$2413='MDOT FTA Detail'!$A166)*(Projects!$J$5:$J$2413<>'MDOT FTA Detail'!$A$171)*(Projects!$O$5:$O$2413))","v":0},0,"No FF",{"$f":"SUMPRODUCT((Projects!$A$5:$A$2413='MDOT FTA Detail'!$G$3)*(Projects!$K$5:$K$2413=0)*(Projects!$C$5:$C$2413='MDOT FTA Detail'!$C$4)*(Projects!$P$5:$P$2413='MDOT FTA Detail'!$A166)*(Projects!$J$5:$J$2413<>'MDOT FTA Detail'!$A$171)*(Projects!$O$5:$O$2413))","v":0},0,"No FF",{"$f":"SUMPRODUCT((Projects!$A$5:$A$2413='MDOT FTA Detail'!$J$3)*(Projects!$K$5:$K$2413=0)*(Projects!$C$5:$C$2413='MDOT FTA Detail'!$C$4)*(Projects!$P$5:$P$2413='MDOT FTA Detail'!$A166)*(Projects!$J$5:$J$2413<>'MDOT FTA Detail'!$A$171)*(Projects!$O$5:$O$2413))","v":0},0,"No FF",{"$f":"SUMPRODUCT((Projects!$A$5:$A$2413='MDOT FTA Detail'!$M$3)*(Projects!$K$5:$K$2413=0)*(Projects!$C$5:$C$2413='MDOT FTA Detail'!$C$4)*(Projects!$P$5:$P$2413='MDOT FTA Detail'!$A166)*(Projects!$J$5:$J$2413<>'MDOT FTA Detail'!$A$171)*(Projects!$O$5:$O$2413))","v":0},0]
["TRAL","Local - Transit Authority Funds (Specify transit authority in Comments)","MDOT M","No FF",{"$f":"SUMPRODUCT((Projects!$A$5:$A$2413='MDOT FTA Detail'!$D$3)*(Projects!$K$5:$K$2413=0)*(Projects!$C$5:$C$2413='MDOT FTA Detail'!$C$4)*(Projects!$P$5:$P$2413='MDOT FTA Detail'!$A167)*(Projects!$J$5:$J$2413<>'MDOT FTA Detail'!$A$171)*(Projects!$O$5:$O$2413))","v":0},0,"No FF",{"$f":"SUMPRODUCT((Projects!$A$5:$A$2413='MDOT FTA Detail'!$G$3)*(Projects!$K$5:$K$2413=0)*(Projects!$C$5:$C$2413='MDOT FTA Detail'!$C$4)*(Projects!$P$5:$P$2413='MDOT FTA Detail'!$A167)*(Projects!$J$5:$J$2413<>'MDOT FTA Detail'!$A$171)*(Projects!$O$5:$O$2413))","v":0},0,"No FF",{"$f":"SUMPRODUCT((Projects!$A$5:$A$2413='MDOT FTA Detail'!$J$3)*(Projects!$K$5:$K$2413=0)*(Projects!$C$5:$C$2413='MDOT FTA Detail'!$C$4)*(Projects!$P$5:$P$2413='MDOT FTA Detail'!$A167)*(Projects!$J$5:$J$2413<>'MDOT FTA Detail'!$A$171)*(Projects!$O$5:$O$2413))","v":0},0,"No FF",{"$f":"SUMPRODUCT((Projects!$A$5:$A$2413='MDOT FTA Detail'!$M$3)*(Projects!$K$5:$K$2413=0)*(Projects!$C$5:$C$2413='MDOT FTA Detail'!$C$4)*(Projects!$P$5:$P$2413='MDOT FTA Detail'!$A167)*(Projects!$J$5:$J$2413<>'MDOT FTA Detail'!$A$171)*(Projects!$O$5:$O$2413))","v":0},0]
["TWP","Local - Township (Specify township in Comments)","MDOT M","No FF",{"$f":"SUMPRODUCT((Projects!$A$5:$A$2413='MDOT FTA Detail'!$D$3)*(Projects!$K$5:$K$2413=0)*(Projects!$C$5:$C$2413='MDOT FTA Detail'!$C$4)*(Projects!$P$5:$P$2413='MDOT FTA Detail'!$A168)*(Projects!$J$5:$J$2413<>'MDOT FTA Detail'!$A$171)*(Projects!$O$5:$O$2413))","v":0},0,"No FF",{"$f":"SUMPRODUCT((Projects!$A$5:$A$2413='MDOT FTA Detail'!$G$3)*(Projects!$K$5:$K$2413=0)*(Projects!$C$5:$C$2413='MDOT FTA Detail'!$C$4)*(Projects!$P$5:$P$2413='MDOT FTA Detail'!$A168)*(Projects!$J$5:$J$2413<>'MDOT FTA Detail'!$A$171)*(Projects!$O$5:$O$2413))","v":0},0,"No FF",{"$f":"SUMPRODUCT((Projects!$A$5:$A$2413='MDOT FTA Detail'!$J$3)*(Projects!$K$5:$K$2413=0)*(Projects!$C$5:$C$2413='MDOT FTA Detail'!$C$4)*(Projects!$P$5:$P$2413='MDOT FTA Detail'!$A168)*(Projects!$J$5:$J$2413<>'MDOT FTA Detail'!$A$171)*(Projects!$O$5:$O$2413))","v":0},0,"No FF",{"$f":"SUMPRODUCT((Projects!$A$5:$A$2413='MDOT FTA Detail'!$M$3)*(Projects!$K$5:$K$2413=0)*(Projects!$C$5:$C$2413='MDOT FTA Detail'!$C$4)*(Projects!$P$5:$P$2413='MDOT FTA Detail'!$A168)*(Projects!$J$5:$J$2413<>'MDOT FTA Detail'!$A$171)*(Projects!$O$5:$O$2413))","v":0},0]
["VLG","Local - Village (Specify village in Comments)","MDOT M","No FF",{"$f":"SUMPRODUCT((Projects!$A$5:$A$2413='MDOT FTA Detail'!$D$3)*(Projects!$K$5:$K$2413=0)*(Projects!$C$5:$C$2413='MDOT FTA Detail'!$C$4)*(Projects!$P$5:$P$2413='MDOT FTA Detail'!$A169)*(Projects!$J$5:$J$2413<>'MDOT FTA Detail'!$A$171)*(Projects!$O$5:$O$2413))","v":0},0,"No FF",{"$f":"SUMPRODUCT((Projects!$A$5:$A$2413='MDOT FTA Detail'!$G$3)*(Projects!$K$5:$K$2413=0)*(Projects!$C$5:$C$2413='MDOT FTA Detail'!$C$4)*(Projects!$P$5:$P$2413='MDOT FTA Detail'!$A169)*(Projects!$J$5:$J$2413<>'MDOT FTA Detail'!$A$171)*(Projects!$O$5:$O$2413))","v":0},0,"No FF",{"$f":"SUMPRODUCT((Projects!$A$5:$A$2413='MDOT FTA Detail'!$J$3)*(Projects!$K$5:$K$2413=0)*(Projects!$C$5:$C$2413='MDOT FTA Detail'!$C$4)*(Projects!$P$5:$P$2413='MDOT FTA Detail'!$A169)*(Projects!$J$5:$J$2413<>'MDOT FTA Detail'!$A$171)*(Projects!$O$5:$O$2413))","v":0},0,"No FF",{"$f":"SUMPRODUCT((Projects!$A$5:$A$2413='MDOT FTA Detail'!$M$3)*(Projects!$K$5:$K$2413=0)*(Projects!$C$5:$C$2413='MDOT FTA Detail'!$C$4)*(Projects!$P$5:$P$2413='MDOT FTA Detail'!$A169)*(Projects!$J$5:$J$2413<>'MDOT FTA Detail'!$A$171)*(Projects!$O$5:$O$2413))","v":0},0]
[]
["AC","MDOT AC Projects","MDOT AC",{"$f":"SUMPRODUCT((Projects!$A$5:$A$2413='MDOT FTA Detail'!$D$3)*(Projects!$C$5:$C$2413='MDOT FTA Detail'!$C$4)*(Projects!$J$5:$J$2413='MDOT FTA Detail'!$A$171)*(Projects!$K$5:$K$2413))","v":0},{"$f":"F171-D171","v":0},{"$f":"SUMPRODUCT((Projects!$A$5:$A$2413='MDOT FTA Detail'!$D$3)*(Projects!$C$5:$C$2413='MDOT FTA Detail'!$C$4)*(Projects!$J$5:$J$2413='MDOT FTA Detail'!$A$171)*(Projects!$Q$5:$Q$2413))","v":0},{"$f":"SUMPRODUCT((Projects!$A$5:$A$2413='MDOT FTA Detail'!$G$3)*(Projects!$C$5:$C$2413='MDOT FTA Detail'!$C$4)*(Projects!$J$5:$J$2413='MDOT FTA Detail'!$A$171)*(Projects!$K$5:$K$2413))","v":0},{"$f":"I171-G171","v":0},{"$f":"SUMPRODUCT((Projects!$A$5:$A$2413='MDOT FTA Detail'!$G$3)*(Projects!$C$5:$C$2413='MDOT FTA Detail'!$C$4)*(Projects!$J$5:$J$2413='MDOT FTA Detail'!$A$171)*(Projects!$Q$5:$Q$2413))","v":0},{"$f":"SUMPRODUCT((Projects!$A$5:$A$2413='MDOT FTA Detail'!$J$3)*(Projects!$C$5:$C$2413='MDOT FTA Detail'!$C$4)*(Projects!$J$5:$J$2413='MDOT FTA Detail'!$A$171)*(Projects!$K$5:$K$2413))","v":0},{"$f":"L171-J171","v":0},{"$f":"SUMPRODUCT((Projects!$A$5:$A$2413='MDOT FTA Detail'!$J$3)*(Projects!$C$5:$C$2413='MDOT FTA Detail'!$C$4)*(Projects!$J$5:$J$2413='MDOT FTA Detail'!$A$171)*(Projects!$Q$5:$Q$2413))","v":0},{"$f":"SUMPRODUCT((Projects!$A$5:$A$2413='MDOT FTA Detail'!$M$3)*(Projects!$C$5:$C$2413='MDOT FTA Detail'!$C$4)*(Projects!$J$5:$J$2413='MDOT FTA Detail'!$A$171)*(Projects!$K$5:$K$2413))","v":0},{"$f":"O171-M171","v":0},{"$f":"SUMPRODUCT((Projects!$A$5:$A$2413='MDOT FTA Detail'!$M$3)*(Projects!$C$5:$C$2413='MDOT FTA Detail'!$C$4)*(Projects!$J$5:$J$2413='MDOT FTA Detail'!$A$171)*(Projects!$Q$5:$Q$2413))","v":0}]

{"sheet":"Local Detail","index":12,"n_rows":147,"n_cols":15,"rows_kept":147,"cut":false,"hidden":false,"merged":[[2,3,2,5],[2,6,2,8],[2,9,2,11],[2,12,2,14]]}
[]
[]
[null,null,null,2017,null,null,2018,null,null,2019,null,null,2020]
["Fund","Fund Sources","Local Program","Proposed Federal Commitments","Proposed Non-Federal Commitments","Total Proposed Commitments","Proposed Federal Commitments","Proposed Non-Federal Commitments","Total Proposed Commitments","Proposed Federal Commitments","Proposed Non-Federal Commitments","Total Proposed Commitments","Proposed Federal Commitments","Proposed Non-Federal Commitments","Total Proposed Commitments"]
[]
["BHI","Bridge Rehabilitation - Prior 1991 - Interstate","Local Bridge",{"$f":"SUMPRODUCT((Projects!$A$5:$A$2413='Local Detail'!$D$3)*(Projects!$C$5:$C$2413<>'MDOT FTA Detail'!$C$4)*(Projects!$L$5:$L$2413='Local Detail'!$A6)*(Projects!$K$5:$K$2413))","v":0},{"$f":"((SUMPRODUCT((Projects!$A$5:$A$2413='Local Detail'!$D$3)*(Projects!$C$5:$C$2413<>'MDOT FTA Detail'!$C$4)*(Projects!$L$5:$L$2413='Local Detail'!$A6)*(Projects!$J$5:$J$2413<>'Local Detail'!$A$147)*(Projects!$M$5:$M$2413)))+(SUMPRODUCT((Projects!$A$5:$A$2413='Local Detail'!$D$3)*(Projects!$C$5:$C$2413<>'MDOT FTA Detail'!$C$4)*(Projects!$L$5:$L$2413='Local Detail'!$A6)*(Projects!$J$5:$J$2413<>'Local Detail'!$A$147)*(Projects!$O$5:$O$2413))))","v":0},{"$f":"D6+E6","v":0},{"$f":"SUMPRODUCT((Projects!$A$5:$A$2413='Local Detail'!$G$3)*(Projects!$C$5:$C$2413<>'MDOT FTA Detail'!$C$4)*(Projects!$L$5:$L$2413='Local Detail'!$A6)*(Projects!$K$5:$K$2413))","v":0},{"$f":"((SUMPRODUCT((Projects!$A$5:$A$2413='Local Detail'!$G$3)*(Projects!$C$5:$C$2413<>'MDOT FTA Detail'!$C$4)*(Projects!$L$5:$L$2413='Local Detail'!$A6)*(Projects!$J$5:$J$2413<>'Local Detail'!$A$147)*(Projects!$M$5:$M$2413)))+(SUMPRODUCT((Projects!$A$5:$A$2413='Local Detail'!$G$3)*(Projects!$C$5:$C$2413<>'MDOT FTA Detail'!$C$4)*(Projects!$L$5:$L$2413='Local Detail'!$A6)*(Projects!$J$5:$J$2413<>'Local Detail'!$A$147)*(Projects!$O$5:$O$2413))))","v":0},{"$f":"G6+H6","v":0},{"$f":"SUMPRODUCT((Projects!$A$5:$A$2413='Local Detail'!$J$3)*(Projects!$C$5:$C$2413<>'MDOT FTA Detail'!$C$4)*(Projects!$L$5:$L$2413='Local Detail'!$A6)*(Projects!$K$5:$K$2413))","v":0},{"$f":"((SUMPRODUCT((Projects!$A$5:$A$2413='Local Detail'!$J$3)*(Projects!$C$5:$C$2413<>'MDOT FTA Detail'!$C$4)*(Projects!$L$5:$L$2413='Local Detail'!$A6)*(Projects!$J$5:$J$2413<>'Local Detail'!$A$147)*(Projects!$M$5:$M$2413)))+(SUMPRODUCT((Projects!$A$5:$A$2413='Local Detail'!$J$3)*(Projects!$C$5:$C$2413<>'MDOT FTA Detail'!$C$4)*(Projects!$L$5:$L$2413='Local Detail'!$A6)*(Projects!$J$5:$J$2413<>'Local Detail'!$A$147)*(Projects!$O$5:$O$2413))))","v":0},{"$f":"J6+K6","v":0},{"$f":"SUMPRODUCT((Projects!$A$5:$A$2413='Local Detail'!$M$3)*(Projects!$C$5:$C$2413<>'MDOT FTA Detail'!$C$4)*(Projects!$L$5:$L$2413='Local Detail'!$A6)*(Projects!$K$5:$K$2413))","v":0},{"$f":"((SUMPRODUCT((Projects!$A$5:$A$2413='Local Detail'!$M$3)*(Projects!$C$5:$C$2413<>'MDOT FTA Detail'!$C$4)*(Projects!$L$5:$L$2413='Local Detail'!$A6)*(Projects!$J$5:$J$2413<>'Local Detail'!$A$147)*(Projects!$M$5:$M$2413)))+(SUMPRODUCT((Projects!$A$5:$A$2413='Local Detail'!$M$3)*(Projects!$C$5:$C$2413<>'MDOT FTA Detail'!$C$4)*(Projects!$L$5:$L$2413='Local Detail'!$A6)*(Projects!$J$5:$J$2413<>'Local Detail'!$A$147)*(Projects!$O$5:$O$2413))))","v":0},{"$f":"M6+N6","v":0}]
["BHN","Bridge Rehabilitation - National Highway System (NHS)","Local Bridge",{"$f":"SUMPRODUCT((Projects!$A$5:$A$2413='Local Detail'!$D$3)*(Projects!$C$5:$C$2413<>'MDOT FTA Detail'!$C$4)*(Projects!$L$5:$L$2413='Local Detail'!$A7)*(Projects!$K$5:$K$2413))","v":0},{"$f":"((SUMPRODUCT((Projects!$A$5:$A$2413='Local Detail'!$D$3)*(Projects!$C$5:$C$2413<>'MDOT FTA Detail'!$C$4)*(Projects!$L$5:$L$2413='Local Detail'!$A7)*(Projects!$J$5:$J$2413<>'Local Detail'!$A$147)*(Projects!$M$5:$M$2413)))+(SUMPRODUCT((Projects!$A$5:$A$2413='Local Detail'!$D$3)*(Projects!$C$5:$C$2413<>'MDOT FTA Detail'!$C$4)*(Projects!$L$5:$L$2413='Local Detail'!$A7)*(Projects!$J$5:$J$2413<>'Local Detail'!$A$147)*(Projects!$O$5:$O$2413))))","v":0},0,{"$f":"SUMPRODUCT((Projects!$A$5:$A$2413='Local Detail'!$G$3)*(Projects!$C$5:$C$2413<>'MDOT FTA Detail'!$C$4)*(Projects!$L$5:$L$2413='Local Detail'!$A7)*(Projects!$K$5:$K$2413))","v":0},{"$f":"((SUMPRODUCT((Projects!$A$5:$A$2413='Local Detail'!$G$3)*(Projects!$C$5:$C$2413<>'MDOT FTA Detail'!$C$4)*(Projects!$L$5:$L$2413='Local Detail'!$A7)*(Projects!$J$5:$J$2413<>'Local Detail'!$A$147)*(Projects!$M$5:$M$2413)))+(SUMPRODUCT((Projects!$A$5:$A$2413='Local Detail'!$G$3)*(Projects!$C$5:$C$2413<>'MDOT FTA Detail'!$C$4)*(Projects!$L$5:$L$2413='Local Detail'!$A7)*(Projects!$J$5:$J$2413<>'Local Detail'!$A$147)*(Projects!$O$5:$O$2413))))","v":0},0,{"$f":"SUMPRODUCT((Projects!$A$5:$A$2413='Local Detail'!$J$3)*(Projects!$C$5:$C$2413<>'MDOT FTA Detail'!$C$4)*(Projects!$L$5:$L$2413='Local Detail'!$A7)*(Projects!$K$5:$K$2413))","v":0},{"$f":"((SUMPRODUCT((Projects!$A$5:$A$2413='Local Detail'!$J$3)*(Projects!$C$5:$C$2413<>'MDOT FTA Detail'!$C$4)*(Projects!$L$5:$L$2413='Local Detail'!$A7)*(Projects!$J$5:$J$2413<>'Local Detail'!$A$147)*(Projects!$M$5:$M$2413)))+(SUMPRODUCT((Projects!$A$5:$A$2413='Local Detail'!$J$3)*(Projects!$C$5:$C$2413<>'MDOT FTA Detail'!$C$4)*(Projects!$L$5:$L$2413='Local Detail'!$A7)*(Projects!$J$5:$J$2413<>'Local Detail'!$A$147)*(Projects!$O$5:$O$2413))))","v":0},0,{"$f":"SUMPRODUCT((Projects!$A$5:$A$2413='Local Detail'!$M$3)*(Projects!$C$5:$C$2413<>'MDOT FTA Detail'!$C$4)*(Projects!$L$5:$L$2413='Local Detail'!$A7)*(Projects!$K$5:$K$2413))","v":0},{"$f":"((SUMPRODUCT((Projects!$A$5:$A$2413='Local Detail'!$M$3)*(Projects!$C$5:$C$2413<>'MDOT FTA Detail'!$C$4)*(Projects!$L$5:$L$2413='Local Detail'!$A7)*(Projects!$J$5:$J$2413<>'Local Detail'!$A$147)*(Projects!$M$5:$M$2413)))+(SUMPRODUCT((Projects!$A$5:$A$2413='Local Detail'!$M$3)*(Projects!$C$5:$C$2413<>'MDOT FTA Detail'!$C$4)*(Projects!$L$5:$L$2413='Local Detail'!$A7)*(Projects!$J$5:$J$2413<>'Local Detail'!$A$147)*(Projects!$O$5:$O$2413))))","v":0},0]
["BHO","Bridge Rehabilitation - Not Classified, Off System","Local Bridge",{"$f":"SUMPRODUCT((Projects!$A$5:$A$2413='Local Detail'!$D$3)*(Projects!$C$5:$C$2413<>'MDOT FTA Detail'!$C$4)*(Projects!$L$5:$L$2413='Local Detail'!$A8)*(Projects!$K$5:$K$2413))","v":0},{"$f":"((SUMPRODUCT((Projects!$A$5:$A$2413='Local Detail'!$D$3)*(Projects!$C$5:$C$2413<>'MDOT FTA Detail'!$C$4)*(Projects!$L$5:$L$2413='Local Detail'!$A8)*(Projects!$J$5:$J$2413<>'Local Detail'!$A$147)*(Projects!$M$5:$M$2413)))+(SUMPRODUCT((Projects!$A$5:$A$2413='Local Detail'!$D$3)*(Projects!$C$5:$C$2413<>'MDOT FTA Detail'!$C$4)*(Projects!$L$5:$L$2413='Local Detail'!$A8)*(Projects!$J$5:$J$2413<>'Local Detail'!$A$147)*(Projects!$O$5:$O$2413))))","v":0},0,{"$f":"SUMPRODUCT((Projects!$A$5:$A$2413='Local Detail'!$G$3)*(Projects!$C$5:$C$2413<>'MDOT FTA Detail'!$C$4)*(Projects!$L$5:$L$2413='Local Detail'!$A8)*(Projects!$K$5:$K$2413))","v":0},{"$f":"((SUMPRODUCT((Projects!$A$5:$A$2413='Local Detail'!$G$3)*(Projects!$C$5:$C$2413<>'MDOT FTA Detail'!$C$4)*(Projects!$L$5:$L$2413='Local Detail'!$A8)*(Projects!$J$5:$J$2413<>'Local Detail'!$A$147)*(Projects!$M$5:$M$2413)))+(SUMPRODUCT((Projects!$A$5:$A$2413='Local Detail'!$G$3)*(Projects!$C$5:$C$2413<>'MDOT FTA Detail'!$C$4)*(Projects!$L$5:$L$2413='Local Detail'!$A8)*(Projects!$J$5:$J$2413<>'Local Detail'!$A$147)*(Projects!$O$5:$O$2413))))","v":0},0,{"$f":"SUMPRODUCT((Projects!$A$5:$A$2413='Local Detail'!$J$3)*(Projects!$C$5:$C$2413<>'MDOT FTA Detail'!$C$4)*(Projects!$L$5:$L$2413='Local Detail'!$A8)*(Projects!$K$5:$K$2413))","v":0},{"$f":"((SUMPRODUCT((Projects!$A$5:$A$2413='Local Detail'!$J$3)*(Projects!$C$5:$C$2413<>'MDOT FTA Detail'!$C$4)*(Projects!$L$5:$L$2413='Local Detail'!$A8)*(Projects!$J$5:$J$2413<>'Local Detail'!$A$147)*(Projects!$M$5:$M$2413)))+(SUMPRODUCT((Projects!$A$5:$A$2413='Local Detail'!$J$3)*(Projects!$C$5:$C$2413<>'MDOT FTA Detail'!$C$4)*(Projects!$L$5:$L$2413='Local Detail'!$A8)*(Projects!$J$5:$J$2413<>'Local Detail'!$A$147)*(Projects!$O$5:$O$2413))))","v":0},0,{"$f":"SUMPRODUCT((Projects!$A$5:$A$2413='Local Detail'!$M$3)*(Projects!$C$5:$C$2413<>'MDOT FTA Detail'!$C$4)*(Projects!$L$5:$L$2413='Local Detail'!$A8)*(Projects!$K$5:$K$2413))","v":0},{"$f":"((SUMPRODUCT((Projects!$A$5:$A$2413='Local Detail'!$M$3)*(Projects!$C$5:$C$2413<>'MDOT FTA Detail'!$C$4)*(Projects!$L$5:$L$2413='Local Detail'!$A8)*(Projects!$J$5:$J$2413<>'Local Detail'!$A$147)*(Projects!$M$5:$M$2413)))+(SUMPRODUCT((Projects!$A$5:$A$2413='Local Detail'!$M$3)*(Projects!$C$5:$C$2413<>'MDOT FTA Detail'!$C$4)*(Projects!$L$5:$L$2413='Local Detail'!$A8)*(Projects!$J$5:$J$2413<>'Local Detail'!$A$147)*(Projects!$O$5:$O$2413))))","v":0},0]
["BHT","Bridge Rehabilitation - Surface Transportation Program (STP)","Local Bridge",{"$f":"SUMPRODUCT((Projects!$A$5:$A$2413='Local Detail'!$D$3)*(Projects!$C$5:$C$2413<>'MDOT FTA Detail'!$C$4)*(Projects!$L$5:$L$2413='Local Detail'!$A9)*(Projects!$K$5:$K$2413))","v":0},{"$f":"((SUMPRODUCT((Projects!$A$5:$A$2413='Local Detail'!$D$3)*(Projects!$C$5:$C$2413<>'MDOT FTA Detail'!$C$4)*(Projects!$L$5:$L$2413='Local Detail'!$A9)*(Projects!$J$5:$J$2413<>'Local Detail'!$A$147)*(Projects!$M$5:$M$2413)))+(SUMPRODUCT((Projects!$A$5:$A$2413='Local Detail'!$D$3)*(Projects!$C$5:$C$2413<>'MDOT FTA Detail'!$C$4)*(Projects!$L$5:$L$2413='Local Detail'!$A9)*(Projects!$J$5:$J$2413<>'Local Detail'!$A$147)*(Projects!$O$5:$O$2413))))","v":0},0,{"$f":"SUMPRODUCT((Projects!$A$5:$A$2413='Local Detail'!$G$3)*(Projects!$C$5:$C$2413<>'MDOT FTA Detail'!$C$4)*(Projects!$L$5:$L$2413='Local Detail'!$A9)*(Projects!$K$5:$K$2413))","v":0},{"$f":"((SUMPRODUCT((Projects!$A$5:$A$2413='Local Detail'!$G$3)*(Projects!$C$5:$C$2413<>'MDOT FTA Detail'!$C$4)*(Projects!$L$5:$L$2413='Local Detail'!$A9)*(Projects!$J$5:$J$2413<>'Local Detail'!$A$147)*(Projects!$M$5:$M$2413)))+(SUMPRODUCT((Projects!$A$5:$A$2413='Local Detail'!$G$3)*(Projects!$C$5:$C$2413<>'MDOT FTA Detail'!$C$4)*(Projects!$L$5:$L$2413='Local Detail'!$A9)*(Projects!$J$5:$J$2413<>'Local Detail'!$A$147)*(Projects!$O$5:$O$2413))))","v":0},0,{"$f":"SUMPRODUCT((Projects!$A$5:$A$2413='Local Detail'!$J$3)*(Projects!$C$5:$C$2413<>'MDOT FTA Detail'!$C$4)*(Projects!$L$5:$L$2413='Local Detail'!$A9)*(Projects!$K$5:$K$2413))","v":0},{"$f":"((SUMPRODUCT((Projects!$A$5:$A$2413='Local Detail'!$J$3)*(Projects!$C$5:$C$2413<>'MDOT FTA Detail'!$C$4)*(Projects!$L$5:$L$2413='Local Detail'!$A9)*(Projects!$J$5:$J$2413<>'Local Detail'!$A$147)*(Projects!$M$5:$M$2413)))+(SUMPRODUCT((Projects!$A$5:$A$2413='Local Detail'!$J$3)*(Projects!$C$5:$C$2413<>'MDOT FTA Detail'!$C$4)*(Projects!$L$5:$L$2413='Local Detail'!$A9)*(Projects!$J$5:$J$2413<>'Local Detail'!$A$147)*(Projects!$O$5:$O$2413))))","v":0},0,{"$f":"SUMPRODUCT((Projects!$A$5:$A$2413='Local Detail'!$M$3)*(Projects!$C$5:$C$2413<>'MDOT FTA Detail'!$C$4)*(Projects!$L$5:$L$2413='Local Detail'!$A9)*(Projects!$K$5:$K$2413))","v":0},{"$f":"((SUMPRODUCT((Projects!$A$5:$A$2413='Local Detail'!$M$3)*(Projects!$C$5:$C$2413<>'MDOT FTA Detail'!$C$4)*(Projects!$L$5:$L$2413='Local Detail'!$A9)*(Projects!$J$5:$J$2413<>'Local Detail'!$A$147)*(Projects!$M$5:$M$2413)))+(SUMPRODUCT((Projects!$A$5:$A$2413='Local Detail'!$M$3)*(Projects!$C$5:$C$2413<>'MDOT FTA Detail'!$C$4)*(Projects!$L$5:$L$2413='Local Detail'!$A9)*(Projects!$J$5:$J$2413<>'Local Detail'!$A$147)*(Projects!$O$5:$O$2413))))","v":0},0]
["BI08","Build Michigan FY08","Local Other FHWA",{"$f":"SUMPRODUCT((Projects!$A$5:$A$2413='Local Detail'!$D$3)*(Projects!$C$5:$C$2413<>'MDOT FTA Detail'!$C$4)*(Projects!$L$5:$L$2413='Local Detail'!$A10)*(Projects!$K$5:$K$2413))","v":0},{"$f":"((SUMPRODUCT((Projects!$A$5:$A$2413='Local Detail'!$D$3)*(Projects!$C$5:$C$2413<>'MDOT FTA Detail'!$C$4)*(Projects!$L$5:$L$2413='Local Detail'!$A10)*(Projects!$J$5:$J$2413<>'Local Detail'!$A$147)*(Projects!$M$5:$M$2413)))+(SUMPRODUCT((Projects!$A$5:$A$2413='Local Detail'!$D$3)*(Projects!$C$5:$C$2413<>'MDOT FTA Detail'!$C$4)*(Projects!$L$5:$L$2413='Local Detail'!$A10)*(Projects!$J$5:$J$2413<>'Local Detail'!$A$147)*(Projects!$O$5:$O$2413))))","v":0},0,{"$f":"SUMPRODUCT((Projects!$A$5:$A$2413='Local Detail'!$G$3)*(Projects!$C$5:$C$2413<>'MDOT FTA Detail'!$C$4)*(Projects!$L$5:$L$2413='Local Detail'!$A10)*(Projects!$K$5:$K$2413))","v":0},{"$f":"((SUMPRODUCT((Projects!$A$5:$A$2413='Local Detail'!$G$3)*(Projects!$C$5:$C$2413<>'MDOT FTA Detail'!$C$4)*(Projects!$L$5:$L$2413='Local Detail'!$A10)*(Projects!$J$5:$J$2413<>'Local Detail'!$A$147)*(Projects!$M$5:$M$2413)))+(SUMPRODUCT((Projects!$A$5:$A$2413='Local Detail'!$G$3)*(Projects!$C$5:$C$2413<>'MDOT FTA Detail'!$C$4)*(Projects!$L$5:$L$2413='Local Detail'!$A10)*(Projects!$J$5:$J$2413<>'Local Detail'!$A$147)*(Projects!$O$5:$O$2413))))","v":0},0,{"$f":"SUMPRODUCT((Projects!$A$5:$A$2413='Local Detail'!$J$3)*(Projects!$C$5:$C$2413<>'MDOT FTA Detail'!$C$4)*(Projects!$L$5:$L$2413='Local Detail'!$A10)*(Projects!$K$5:$K$2413))","v":0},{"$f":"((SUMPRODUCT((Projects!$A$5:$A$2413='Local Detail'!$J$3)*(Projects!$C$5:$C$2413<>'MDOT FTA Detail'!$C$4)*(Projects!$L$5:$L$2413='Local Detail'!$A10)*(Projects!$J$5:$J$2413<>'Local Detail'!$A$147)*(Projects!$M$5:$M$2413)))+(SUMPRODUCT((Projects!$A$5:$A$2413='Local Detail'!$J$3)*(Projects!$C$5:$C$2413<>'MDOT FTA Detail'!$C$4)*(Projects!$L$5:$L$2413='Local Detail'!$A10)*(Projects!$J$5:$J$2413<>'Local Detail'!$A$147)*(Projects!$O$5:$O$2413))))","v":0},0,{"$f":"SUMPRODUCT((Projects!$A$5:$A$2413='Local Detail'!$M$3)*(Projects!$C$5:$C$2413<>'MDOT FTA Detail'!$C$4)*(Projects!$L$5:$L$2413='Local Detail'!$A10)*(Projects!$K$5:$K$2413))","v":0},{"$f":"((SUMPRODUCT((Projects!$A$5:$A$2413='Local Detail'!$M$3)*(Projects!$C$5:$C$2413<>'MDOT FTA Detail'!$C$4)*(Projects!$L$5:$L$2413='Local Detail'!$A10)*(Projects!$J$5:$J$2413<>'Local Detail'!$A$147)*(Projects!$M$5:$M$2413)))+(SUMPRODUCT((Projects!$A$5:$A$2413='Local Detail'!$M$3)*(Projects!$C$5:$C$2413<>'MDOT FTA Detail'!$C$4)*(Projects!$L$5:$L$2413='Local Detail'!$A10)*(Projects!$J$5:$J$2413<>'Local Detail'!$A$147)*(Projects!$O$5:$O$2413))))","v":0},0]
["BO","Bridge Not Classified Off System","Local Bridge",{"$f":"SUMPRODUCT((Projects!$A$5:$A$2413='Local Detail'!$D$3)*(Projects!$C$5:$C$2413<>'MDOT FTA Detail'!$C$4)*(Projects!$L$5:$L$2413='Local Detail'!$A11)*(Projects!$K$5:$K$2413))","v":0},{"$f":"((SUMPRODUCT((Projects!$A$5:$A$2413='Local Detail'!$D$3)*(Projects!$C$5:$C$2413<>'MDOT FTA Detail'!$C$4)*(Projects!$L$5:$L$2413='Local Detail'!$A11)*(Projects!$J$5:$J$2413<>'Local Detail'!$A$147)*(Projects!$M$5:$M$2413)))+(SUMPRODUCT((Projects!$A$5:$A$2413='Local Detail'!$D$3)*(Projects!$C$5:$C$2413<>'MDOT FTA Detail'!$C$4)*(Projects!$L$5:$L$2413='Local Detail'!$A11)*(Projects!$J$5:$J$2413<>'Local Detail'!$A$147)*(Projects!$O$5:$O$2413))))","v":0},{"$f":"D11+E11","v":0},{"$f":"SUMPRODUCT((Projects!$A$5:$A$2413='Local Detail'!$G$3)*(Projects!$C$5:$C$2413<>'MDOT FTA Detail'!$C$4)*(Projects!$L$5:$L$2413='Local Detail'!$A11)*(Projects!$K$5:$K$2413))","v":0},{"$f":"((SUMPRODUCT((Projects!$A$5:$A$2413='Local Detail'!$G$3)*(Projects!$C$5:$C$2413<>'MDOT FTA Detail'!$C$4)*(Projects!$L$5:$L$2413='Local Detail'!$A11)*(Projects!$J$5:$J$2413<>'Local Detail'!$A$147)*(Projects!$M$5:$M$2413)))+(SUMPRODUCT((Projects!$A$5:$A$2413='Local Detail'!$G$3)*(Projects!$C$5:$C$2413<>'MDOT FTA Detail'!$C$4)*(Projects!$L$5:$L$2413='Local Detail'!$A11)*(Projects!$J$5:$J$2413<>'Local Detail'!$A$147)*(Projects!$O$5:$O$2413))))","v":0},{"$f":"G11+H11","v":0},{"$f":"SUMPRODUCT((Projects!$A$5:$A$2413='Local Detail'!$J$3)*(Projects!$C$5:$C$2413<>'MDOT FTA Detail'!$C$4)*(Projects!$L$5:$L$2413='Local Detail'!$A11)*(Projects!$K$5:$K$2413))","v":0},{"$f":"((SUMPRODUCT((Projects!$A$5:$A$2413='Local Detail'!$J$3)*(Projects!$C$5:$C$2413<>'MDOT FTA Detail'!$C$4)*(Projects!$L$5:$L$2413='Local Detail'!$A11)*(Projects!$J$5:$J$2413<>'Local Detail'!$A$147)*(Projects!$M$5:$M$2413)))+(SUMPRODUCT((Projects!$A$5:$A$2413='Local Detail'!$J$3)*(Projects!$C$5:$C$2413<>'MDOT FTA Detail'!$C$4)*(Projects!$L$5:$L$2413='Local Detail'!$A11)*(Projects!$J$5:$J$2413<>'Local Detail'!$A$147)*(Projects!$O$5:$O$2413))))","v":0},{"$f":"J11+K11","v":0},{"$f":"SUMPRODUCT((Projects!$A$5:$A$2413='Local Detail'!$M$3)*(Projects!$C$5:$C$2413<>'MDOT FTA Detail'!$C$4)*(Projects!$L$5:$L$2413='Local Detail'!$A11)*(Projects!$K$5:$K$2413))","v":0},{"$f":"((SUMPRODUCT((Projects!$A$5:$A$2413='Local Detail'!$M$3)*(Projects!$C$5:$C$2413<>'MDOT FTA Detail'!$C$4)*(Projects!$L$5:$L$2413='Local Detail'!$A11)*(Projects!$J$5:$J$2413<>'Local Detail'!$A$147)*(Projects!$M$5:$M$2413)))+(SUMPRODUCT((Projects!$A$5:$A$2413='Local Detail'!$M$3)*(Projects!$C$5:$C$2413<>'MDOT FTA Detail'!$C$4)*(Projects!$L$5:$L$2413='Local Detail'!$A11)*(Projects!$J$5:$J$2413<>'Local Detail'!$A$147)*(Projects!$O$5:$O$2413))))","v":0},{"$f":"M11+N11","v":0}]
["BOWD","Business Opportunity & Workforce Development Center","Local Other FHWA",{"$f":"SUMPRODUCT((Projects!$A$5:$A$2413='Local Detail'!$D$3)*(Projects!$C$5:$C$2413<>'MDOT FTA Detail'!$C$4)*(Projects!$L$5:$L$2413='Local Detail'!$A12)*(Projects!$K$5:$K$2413))","v":0},{"$f":"((SUMPRODUCT((Projects!$A$5:$A$2413='Local Detail'!$D$3)*(Projects!$C$5:$C$2413<>'MDOT FTA Detail'!$C$4)*(Projects!$L$5:$L$2413='Local Detail'!$A12)*(Projects!$J$5:$J$2413<>'Local Detail'!$A$147)*(Projects!$M$5:$M$2413)))+(SUMPRODUCT((Projects!$A$5:$A$2413='Local Detail'!$D$3)*(Projects!$C$5:$C$2413<>'MDOT FTA Detail'!$C$4)*(Projects!$L$5:$L$2413='Local Detail'!$A12)*(Projects!$J$5:$J$2413<>'Local Detail'!$A$147)*(Projects!$O$5:$O$2413))))","v":0},0,{"$f":"SUMPRODUCT((Projects!$A$5:$A$2413='Local Detail'!$G$3)*(Projects!$C$5:$C$2413<>'MDOT FTA Detail'!$C$4)*(Projects!$L$5:$L$2413='Local Detail'!$A12)*(Projects!$K$5:$K$2413))","v":0},{"$f":"((SUMPRODUCT((Projects!$A$5:$A$2413='Local Detail'!$G$3)*(Projects!$C$5:$C$2413<>'MDOT FTA Detail'!$C$4)*(Projects!$L$5:$L$2413='Local Detail'!$A12)*(Projects!$J$5:$J$2413<>'Local Detail'!$A$147)*(Projects!$M$5:$M$2413)))+(SUMPRODUCT((Projects!$A$5:$A$2413='Local Detail'!$G$3)*(Projects!$C$5:$C$2413<>'MDOT FTA Detail'!$C$4)*(Projects!$L$5:$L$2413='Local Detail'!$A12)*(Projects!$J$5:$J$2413<>'Local Detail'!$A$147)*(Projects!$O$5:$O$2413))))","v":0},0,{"$f":"SUMPRODUCT((Projects!$A$5:$A$2413='Local Detail'!$J$3)*(Projects!$C$5:$C$2413<>'MDOT FTA Detail'!$C$4)*(Projects!$L$5:$L$2413='Local Detail'!$A12)*(Projects!$K$5:$K$2413))","v":0},{"$f":"((SUMPRODUCT((Projects!$A$5:$A$2413='Local Detail'!$J$3)*(Projects!$C$5:$C$2413<>'MDOT FTA Detail'!$C$4)*(Projects!$L$5:$L$2413='Local Detail'!$A12)*(Projects!$J$5:$J$2413<>'Local Detail'!$A$147)*(Projects!$M$5:$M$2413)))+(SUMPRODUCT((Projects!$A$5:$A$2413='Local Detail'!$J$3)*(Projects!$C$5:$C$2413<>'MDOT FTA Detail'!$C$4)*(Projects!$L$5:$L$2413='Local Detail'!$A12)*(Projects!$J$5:$J$2413<>'Local Detail'!$A$147)*(Projects!$O$5:$O$2413))))","v":0},0,{"$f":"SUMPRODUCT((Projects!$A$5:$A$2413='Local Detail'!$M$3)*(Projects!$C$5:$C$2413<>'MDOT FTA Detail'!$C$4)*(Projects!$L$5:$L$2413='Local Detail'!$A12)*(Projects!$K$5:$K$2413))","v":0},{"$f":"((SUMPRODUCT((Projects!$A$5:$A$2413='Local Detail'!$M$3)*(Projects!$C$5:$C$2413<>'MDOT FTA Detail'!$C$4)*(Projects!$L$5:$L$2413='Local Detail'!$A12)*(Projects!$J$5:$J$2413<>'Local Detail'!$A$147)*(Projects!$M$5:$M$2413)))+(SUMPRODUCT((Projects!$A$5:$A$2413='Local Detail'!$M$3)*(Projects!$C$5:$C$2413<>'MDOT FTA Detail'!$C$4)*(Projects!$L$5:$L$2413='Local Detail'!$A12)*(Projects!$J$5:$J$2413<>'Local Detail'!$A$147)*(Projects!$O$5:$O$2413))))","v":0},0]
["BRI","Bridge Replacement - Pre 1991 Interstate","Local Bridge",{"$f":"SUMPRODUCT((Projects!$A$5:$A$2413='Local Detail'!$D$3)*(Projects!$C$5:$C$2413<>'MDOT FTA Detail'!$C$4)*(Projects!$L$5:$L$2413='Local Detail'!$A13)*(Projects!$K$5:$K$2413))","v":0},{"$f":"((SUMPRODUCT((Projects!$A$5:$A$2413='Local Detail'!$D$3)*(Projects!$C$5:$C$2413<>'MDOT FTA Detail'!$C$4)*(Projects!$L$5:$L$2413='Local Detail'!$A13)*(Projects!$J$5:$J$2413<>'Local Detail'!$A$147)*(Projects!$M$5:$M$2413)))+(SUMPRODUCT((Projects!$A$5:$A$2413='Local Detail'!$D$3)*(Projects!$C$5:$C$2413<>'MDOT FTA Detail'!$C$4)*(Projects!$L$5:$L$2413='Local Detail'!$A13)*(Projects!$J$5:$J$2413<>'Local Detail'!$A$147)*(Projects!$O$5:$O$2413))))","v":0},0,{"$f":"SUMPRODUCT((Projects!$A$5:$A$2413='Local Detail'!$G$3)*(Projects!$C$5:$C$2413<>'MDOT FTA Detail'!$C$4)*(Projects!$L$5:$L$2413='Local Detail'!$A13)*(Projects!$K$5:$K$2413))","v":0},{"$f":"((SUMPRODUCT((Projects!$A$5:$A$2413='Local Detail'!$G$3)*(Projects!$C$5:$C$2413<>'MDOT FTA Detail'!$C$4)*(Projects!$L$5:$L$2413='Local Detail'!$A13)*(Projects!$J$5:$J$2413<>'Local Detail'!$A$147)*(Projects!$M$5:$M$2413)))+(SUMPRODUCT((Projects!$A$5:$A$2413='Local Detail'!$G$3)*(Projects!$C$5:$C$2413<>'MDOT FTA Detail'!$C$4)*(Projects!$L$5:$L$2413='Local Detail'!$A13)*(Projects!$J$5:$J$2413<>'Local Detail'!$A$147)*(Projects!$O$5:$O$2413))))","v":0},0,{"$f":"SUMPRODUCT((Projects!$A$5:$A$2413='Local Detail'!$J$3)*(Projects!$C$5:$C$2413<>'MDOT FTA Detail'!$C$4)*(Projects!$L$5:$L$2413='Local Detail'!$A13)*(Projects!$K$5:$K$2413))","v":0},{"$f":"((SUMPRODUCT((Projects!$A$5:$A$2413='Local Detail'!$J$3)*(Projects!$C$5:$C$2413<>'MDOT FTA Detail'!$C$4)*(Projects!$L$5:$L$2413='Local Detail'!$A13)*(Projects!$J$5:$J$2413<>'Local Detail'!$A$147)*(Projects!$M$5:$M$2413)))+(SUMPRODUCT((Projects!$A$5:$A$2413='Local Detail'!$J$3)*(Projects!$C$5:$C$2413<>'MDOT FTA Detail'!$C$4)*(Projects!$L$5:$L$2413='Local Detail'!$A13)*(Projects!$J$5:$J$2413<>'Local Detail'!$A$147)*(Projects!$O$5:$O$2413))))","v":0},0,{"$f":"SUMPRODUCT((Projects!$A$5:$A$2413='Local Detail'!$M$3)*(Projects!$C$5:$C$2413<>'MDOT FTA Detail'!$C$4)*(Projects!$L$5:$L$2413='Local Detail'!$A13)*(Projects!$K$5:$K$2413))","v":0},{"$f":"((SUMPRODUCT((Projects!$A$5:$A$2413='Local Detail'!$M$3)*(Projects!$C$5:$C$2413<>'MDOT FTA Detail'!$C$4)*(Projects!$L$5:$L$2413='Local Detail'!$A13)*(Projects!$J$5:$J$2413<>'Local Detail'!$A$147)*(Projects!$M$5:$M$2413)))+(SUMPRODUCT((Projects!$A$5:$A$2413='Local Detail'!$M$3)*(Projects!$C$5:$C$2413<>'MDOT FTA Detail'!$C$4)*(Projects!$L$5:$L$2413='Local Detail'!$A13)*(Projects!$J$5:$J$2413<>'Local Detail'!$A$147)*(Projects!$O$5:$O$2413))))","v":0},0]
["BRN","Bridge Replacement - National Highway System (NHS)","Local Bridge",{"$f":"SUMPRODUCT((Projects!$A$5:$A$2413='Local Detail'!$D$3)*(Projects!$C$5:$C$2413<>'MDOT FTA Detail'!$C$4)*(Projects!$L$5:$L$2413='Local Detail'!$A14)*(Projects!$K$5:$K$2413))","v":0},{"$f":"((SUMPRODUCT((Projects!$A$5:$A$2413='Local Detail'!$D$3)*(Projects!$C$5:$C$2413<>'MDOT FTA Detail'!$C$4)*(Projects!$L$5:$L$2413='Local Detail'!$A14)*(Projects!$J$5:$J$2413<>'Local Detail'!$A$147)*(Projects!$M$5:$M$2413)))+(SUMPRODUCT((Projects!$A$5:$A$2413='Local Detail'!$D$3)*(Projects!$C$5:$C$2413<>'MDOT FTA Detail'!$C$4)*(Projects!$L$5:$L$2413='Local Detail'!$A14)*(Projects!$J$5:$J$2413<>'Local Detail'!$A$147)*(Projects!$O$5:$O$2413))))","v":0},0,{"$f":"SUMPRODUCT((Projects!$A$5:$A$2413='Local Detail'!$G$3)*(Projects!$C$5:$C$2413<>'MDOT FTA Detail'!$C$4)*(Projects!$L$5:$L$2413='Local Detail'!$A14)*(Projects!$K$5:$K$2413))","v":0},{"$f":"((SUMPRODUCT((Projects!$A$5:$A$2413='Local Detail'!$G$3)*(Projects!$C$5:$C$2413<>'MDOT FTA Detail'!$C$4)*(Projects!$L$5:$L$2413='Local Detail'!$A14)*(Projects!$J$5:$J$2413<>'Local Detail'!$A$147)*(Projects!$M$5:$M$2413)))+(SUMPRODUCT((Projects!$A$5:$A$2413='Local Detail'!$G$3)*(Projects!$C$5:$C$2413<>'MDOT FTA Detail'!$C$4)*(Projects!$L$5:$L$2413='Local Detail'!$A14)*(Projects!$J$5:$J$2413<>'Local Detail'!$A$147)*(Projects!$O$5:$O$2413))))","v":0},0,{"$f":"SUMPRODUCT((Projects!$A$5:$A$2413='Local Detail'!$J$3)*(Projects!$C$5:$C$2413<>'MDOT FTA Detail'!$C$4)*(Projects!$L$5:$L$2413='Local Detail'!$A14)*(Projects!$K$5:$K$2413))","v":0},{"$f":"((SUMPRODUCT((Projects!$A$5:$A$2413='Local Detail'!$J$3)*(Projects!$C$5:$C$2413<>'MDOT FTA Detail'!$C$4)*(Projects!$L$5:$L$2413='Local Detail'!$A14)*(Projects!$J$5:$J$2413<>'Local Detail'!$A$147)*(Projects!$M$5:$M$2413)))+(SUMPRODUCT((Projects!$A$5:$A$2413='Local Detail'!$J$3)*(Projects!$C$5:$C$2413<>'MDOT FTA Detail'!$C$4)*(Projects!$L$5:$L$2413='Local Detail'!$A14)*(Projects!$J$5:$J$2413<>'Local Detail'!$A$147)*(Projects!$O$5:$O$2413))))","v":0},0,{"$f":"SUMPRODUCT((Projects!$A$5:$A$2413='Local Detail'!$M$3)*(Projects!$C$5:$C$2413<>'MDOT FTA Detail'!$C$4)*(Projects!$L$5:$L$2413='Local Detail'!$A14)*(Projects!$K$5:$K$2413))","v":0},{"$f":"((SUMPRODUCT((Projects!$A$5:$A$2413='Local Detail'!$M$3)*(Projects!$C$5:$C$2413<>'MDOT FTA Detail'!$C$4)*(Projects!$L$5:$L$2413='Local Detail'!$A14)*(Projects!$J$5:$J$2413<>'Local Detail'!$A$147)*(Projects!$M$5:$M$2413)))+(SUMPRODUCT((Projects!$A$5:$A$2413='Local Detail'!$M$3)*(Projects!$C$5:$C$2413<>'MDOT FTA Detail'!$C$4)*(Projects!$L$5:$L$2413='Local Detail'!$A14)*(Projects!$J$5:$J$2413<>'Local Detail'!$A$147)*(Projects!$O$5:$O$2413))))","v":0},0]
["BRO","Bridge Replacement - Not Classified, Off System","Local Bridge",{"$f":"SUMPRODUCT((Projects!$A$5:$A$2413='Local Detail'!$D$3)*(Projects!$C$5:$C$2413<>'MDOT FTA Detail'!$C$4)*(Projects!$L$5:$L$2413='Local Detail'!$A15)*(Projects!$K$5:$K$2413))","v":0},{"$f":"((SUMPRODUCT((Projects!$A$5:$A$2413='Local Detail'!$D$3)*(Projects!$C$5:$C$2413<>'MDOT FTA Detail'!$C$4)*(Projects!$L$5:$L$2413='Local Detail'!$A15)*(Projects!$J$5:$J$2413<>'Local Detail'!$A$147)*(Projects!$M$5:$M$2413)))+(SUMPRODUCT((Projects!$A$5:$A$2413='Local Detail'!$D$3)*(Projects!$C$5:$C$2413<>'MDOT FTA Detail'!$C$4)*(Projects!$L$5:$L$2413='Local Detail'!$A15)*(Projects!$J$5:$J$2413<>'Local Detail'!$A$147)*(Projects!$O$5:$O$2413))))","v":0},0,{"$f":"SUMPRODUCT((Projects!$A$5:$A$2413='Local Detail'!$G$3)*(Projects!$C$5:$C$2413<>'MDOT FTA Detail'!$C$4)*(Projects!$L$5:$L$2413='Local Detail'!$A15)*(Projects!$K$5:$K$2413))","v":0},{"$f":"((SUMPRODUCT((Projects!$A$5:$A$2413='Local Detail'!$G$3)*(Projects!$C$5:$C$2413<>'MDOT FTA Detail'!$C$4)*(Projects!$L$5:$L$2413='Local Detail'!$A15)*(Projects!$J$5:$J$2413<>'Local Detail'!$A$147)*(Projects!$M$5:$M$2413)))+(SUMPRODUCT((Projects!$A$5:$A$2413='Local Detail'!$G$3)*(Projects!$C$5:$C$2413<>'MDOT FTA Detail'!$C$4)*(Projects!$L$5:$L$2413='Local Detail'!$A15)*(Projects!$J$5:$J$2413<>'Local Detail'!$A$147)*(Projects!$O$5:$O$2413))))","v":0},0,{"$f":"SUMPRODUCT((Projects!$A$5:$A$2413='Local Detail'!$J$3)*(Projects!$C$5:$C$2413<>'MDOT FTA Detail'!$C$4)*(Projects!$L$5:$L$2413='Local Detail'!$A15)*(Projects!$K$5:$K$2413))","v":0},{"$f":"((SUMPRODUCT((Projects!$A$5:$A$2413='Local Detail'!$J$3)*(Projects!$C$5:$C$2413<>'MDOT FTA Detail'!$C$4)*(Projects!$L$5:$L$2413='Local Detail'!$A15)*(Projects!$J$5:$J$2413<>'Local Detail'!$A$147)*(Projects!$M$5:$M$2413)))+(SUMPRODUCT((Projects!$A$5:$A$2413='Local Detail'!$J$3)*(Projects!$C$5:$C$2413<>'MDOT FTA Detail'!$C$4)*(Projects!$L$5:$L$2413='Local Detail'!$A15)*(Projects!$J$5:$J$2413<>'Local Detail'!$A$147)*(Projects!$O$5:$O$2413))))","v":0},0,{"$f":"SUMPRODUCT((Projects!$A$5:$A$2413='Local Detail'!$M$3)*(Projects!$C$5:$C$2413<>'MDOT FTA Detail'!$C$4)*(Projects!$L$5:$L$2413='Local Detail'!$A15)*(Projects!$K$5:$K$2413))","v":0},{"$f":"((SUMPRODUCT((Projects!$A$5:$A$2413='Local Detail'!$M$3)*(Projects!$C$5:$C$2413<>'MDOT FTA Detail'!$C$4)*(Projects!$L$5:$L$2413='Local Detail'!$A15)*(Projects!$J$5:$J$2413<>'Local Detail'!$A$147)*(Projects!$M$5:$M$2413)))+(SUMPRODUCT((Projects!$A$5:$A$2413='Local Detail'!$M$3)*(Projects!$C$5:$C$2413<>'MDOT FTA Detail'!$C$4)*(Projects!$L$5:$L$2413='Local Detail'!$A15)*(Projects!$J$5:$J$2413<>'Local Detail'!$A$147)*(Projects!$O$5:$O$2413))))","v":0},0]
["BRT","Bridge Replacement - Surface Transportation Program (STP)","Local Bridge",{"$f":"SUMPRODUCT((Projects!$A$5:$A$2413='Local Detail'!$D$3)*(Projects!$C$5:$C$2413<>'MDOT FTA Detail'!$C$4)*(Projects!$L$5:$L$2413='Local Detail'!$A16)*(Projects!$K$5:$K$2413))","v":0},{"$f":"((SUMPRODUCT((Projects!$A$5:$A$2413='Local Detail'!$D$3)*(Projects!$C$5:$C$2413<>'MDOT FTA Detail'!$C$4)*(Projects!$L$5:$L$2413='Local Detail'!$A16)*(Projects!$J$5:$J$2413<>'Local Detail'!$A$147)*(Projects!$M$5:$M$2413)))+(SUMPRODUCT((Projects!$A$5:$A$2413='Local Detail'!$D$3)*(Projects!$C$5:$C$2413<>'MDOT FTA Detail'!$C$4)*(Projects!$L$5:$L$2413='Local Detail'!$A16)*(Projects!$J$5:$J$2413<>'Local Detail'!$A$147)*(Projects!$O$5:$O$2413))))","v":0},0,{"$f":"SUMPRODUCT((Projects!$A$5:$A$2413='Local Detail'!$G$3)*(Projects!$C$5:$C$2413<>'MDOT FTA Detail'!$C$4)*(Projects!$L$5:$L$2413='Local Detail'!$A16)*(Projects!$K$5:$K$2413))","v":0},{"$f":"((SUMPRODUCT((Projects!$A$5:$A$2413='Local Detail'!$G$3)*(Projects!$C$5:$C$2413<>'MDOT FTA Detail'!$C$4)*(Projects!$L$5:$L$2413='Local Detail'!$A16)*(Projects!$J$5:$J$2413<>'Local Detail'!$A$147)*(Projects!$M$5:$M$2413)))+(SUMPRODUCT((Projects!$A$5:$A$2413='Local Detail'!$G$3)*(Projects!$C$5:$C$2413<>'MDOT FTA Detail'!$C$4)*(Projects!$L$5:$L$2413='Local Detail'!$A16)*(Projects!$J$5:$J$2413<>'Local Detail'!$A$147)*(Projects!$O$5:$O$2413))))","v":0},0,{"$f":"SUMPRODUCT((Projects!$A$5:$A$2413='Local Detail'!$J$3)*(Projects!$C$5:$C$2413<>'MDOT FTA Detail'!$C$4)*(Projects!$L$5:$L$2413='Local Detail'!$A16)*(Projects!$K$5:$K$2413))","v":0},{"$f":"((SUMPRODUCT((Projects!$A$5:$A$2413='Local Detail'!$J$3)*(Projects!$C$5:$C$2413<>'MDOT FTA Detail'!$C$4)*(Projects!$L$5:$L$2413='Local Detail'!$A16)*(Projects!$J$5:$J$2413<>'Local Detail'!$A$147)*(Projects!$M$5:$M$2413)))+(SUMPRODUCT((Projects!$A$5:$A$2413='Local Detail'!$J$3)*(Projects!$C$5:$C$2413<>'MDOT FTA Detail'!$C$4)*(Projects!$L$5:$L$2413='Local Detail'!$A16)*(Projects!$J$5:$J$2413<>'Local Detail'!$A$147)*(Projects!$O$5:$O$2413))))","v":0},0,{"$f":"SUMPRODUCT((Projects!$A$5:$A$2413='Local Detail'!$M$3)*(Projects!$C$5:$C$2413<>'MDOT FTA Detail'!$C$4)*(Projects!$L$5:$L$2413='Local Detail'!$A16)*(Projects!$K$5:$K$2413))","v":0},{"$f":"((SUMPRODUCT((Projects!$A$5:$A$2413='Local Detail'!$M$3)*(Projects!$C$5:$C$2413<>'MDOT FTA Detail'!$C$4)*(Projects!$L$5:$L$2413='Local Detail'!$A16)*(Projects!$J$5:$J$2413<>'Local Detail'!$A$147)*(Projects!$M$5:$M$2413)))+(SUMPRODUCT((Projects!$A$5:$A$2413='Local Detail'!$M$3)*(Projects!$C$5:$C$2413<>'MDOT FTA Detail'!$C$4)*(Projects!$L$5:$L$2413='Local Detail'!$A16)*(Projects!$J$5:$J$2413<>'Local Detail'!$A$147)*(Projects!$O$5:$O$2413))))","v":0},0]
["CANX","Canadian Bridge Funds","Local Other FHWA",{"$f":"SUMPRODUCT((Projects!$A$5:$A$2413='Local Detail'!$D$3)*(Projects!$C$5:$C$2413<>'MDOT FTA Detail'!$C$4)*(Projects!$L$5:$L$2413='Local Detail'!$A17)*(Projects!$K$5:$K$2413))","v":0},{"$f":"((SUMPRODUCT((Projects!$A$5:$A$2413='Local Detail'!$D$3)*(Projects!$C$5:$C$2413<>'MDOT FTA Detail'!$C$4)*(Projects!$L$5:$L$2413='Local Detail'!$A17)*(Projects!$J$5:$J$2413<>'Local Detail'!$A$147)*(Projects!$M$5:$M$2413)))+(SUMPRODUCT((Projects!$A$5:$A$2413='Local Detail'!$D$3)*(Projects!$C$5:$C$2413<>'MDOT FTA Detail'!$C$4)*(Projects!$L$5:$L$2413='Local Detail'!$A17)*(Projects!$J$5:$J$2413<>'Local Detail'!$A$147)*(Projects!$O$5:$O$2413))))","v":0},{"$f":"D17+E17","v":0},{"$f":"SUMPRODUCT((Projects!$A$5:$A$2413='Local Detail'!$G$3)*(Projects!$C$5:$C$2413<>'MDOT FTA Detail'!$C$4)*(Projects!$L$5:$L$2413='Local Detail'!$A17)*(Projects!$K$5:$K$2413))","v":0},{"$f":"((SUMPRODUCT((Projects!$A$5:$A$2413='Local Detail'!$G$3)*(Projects!$C$5:$C$2413<>'MDOT FTA Detail'!$C$4)*(Projects!$L$5:$L$2413='Local Detail'!$A17)*(Projects!$J$5:$J$2413<>'Local Detail'!$A$147)*(Projects!$M$5:$M$2413)))+(SUMPRODUCT((Projects!$A$5:$A$2413='Local Detail'!$G$3)*(Projects!$C$5:$C$2413<>'MDOT FTA Detail'!$C$4)*(Projects!$L$5:$L$2413='Local Detail'!$A17)*(Projects!$J$5:$J$2413<>'Local Detail'!$A$147)*(Projects!$O$5:$O$2413))))","v":0},{"$f":"G17+H17","v":0},{"$f":"SUMPRODUCT((Projects!$A$5:$A$2413='Local Detail'!$J$3)*(Projects!$C$5:$C$2413<>'MDOT FTA Detail'!$C$4)*(Projects!$L$5:$L$2413='Local Detail'!$A17)*(Projects!$K$5:$K$2413))","v":0},{"$f":"((SUMPRODUCT((Projects!$A$5:$A$2413='Local Detail'!$J$3)*(Projects!$C$5:$C$2413<>'MDOT FTA Detail'!$C$4)*(Projects!$L$5:$L$2413='Local Detail'!$A17)*(Projects!$J$5:$J$2413<>'Local Detail'!$A$147)*(Projects!$M$5:$M$2413)))+(SUMPRODUCT((Projects!$A$5:$A$2413='Local Detail'!$J$3)*(Projects!$C$5:$C$2413<>'MDOT FTA Detail'!$C$4)*(Projects!$L$5:$L$2413='Local Detail'!$A17)*(Projects!$J$5:$J$2413<>'Local Detail'!$A$147)*(Projects!$O$5:$O$2413))))","v":0},{"$f":"J17+K17","v":0},{"$f":"SUMPRODUCT((Projects!$A$5:$A$2413='Local Detail'!$M$3)*(Projects!$C$5:$C$2413<>'MDOT FTA Detail'!$C$4)*(Projects!$L$5:$L$2413='Local Detail'!$A17)*(Projects!$K$5:$K$2413))","v":0},{"$f":"((SUMPRODUCT((Projects!$A$5:$A$2413='Local Detail'!$M$3)*(Projects!$C$5:$C$2413<>'MDOT FTA Detail'!$C$4)*(Projects!$L$5:$L$2413='Local Detail'!$A17)*(Projects!$J$5:$J$2413<>'Local Detail'!$A$147)*(Projects!$M$5:$M$2413)))+(SUMPRODUCT((Projects!$A$5:$A$2413='Local Detail'!$M$3)*(Projects!$C$5:$C$2413<>'MDOT FTA Detail'!$C$4)*(Projects!$L$5:$L$2413='Local Detail'!$A17)*(Projects!$J$5:$J$2413<>'Local Detail'!$A$147)*(Projects!$O$5:$O$2413))))","v":0},{"$f":"M17+N17","v":0}]
["CBCD","Corridor & Border Crossing Discretionary","Local Other FHWA",{"$f":"SUMPRODUCT((Projects!$A$5:$A$2413='Local Detail'!$D$3)*(Projects!$C$5:$C$2413<>'MDOT FTA Detail'!$C$4)*(Projects!$L$5:$L$2413='Local Detail'!$A18)*(Projects!$K$5:$K$2413))","v":0},{"$f":"((SUMPRODUCT((Projects!$A$5:$A$2413='Local Detail'!$D$3)*(Projects!$C$5:$C$2413<>'MDOT FTA Detail'!$C$4)*(Projects!$L$5:$L$2413='Local Detail'!$A18)*(Projects!$J$5:$J$2413<>'Local Detail'!$A$147)*(Projects!$M$5:$M$2413)))+(SUMPRODUCT((Projects!$A$5:$A$2413='Local Detail'!$D$3)*(Projects!$C$5:$C$2413<>'MDOT FTA Detail'!$C$4)*(Projects!$L$5:$L$2413='Local Detail'!$A18)*(Projects!$J$5:$J$2413<>'Local Detail'!$A$147)*(Projects!$O$5:$O$2413))))","v":0},0,{"$f":"SUMPRODUCT((Projects!$A$5:$A$2413='Local Detail'!$G$3)*(Projects!$C$5:$C$2413<>'MDOT FTA Detail'!$C$4)*(Projects!$L$5:$L$2413='Local Detail'!$A18)*(Projects!$K$5:$K$2413))","v":0},{"$f":"((SUMPRODUCT((Projects!$A$5:$A$2413='Local Detail'!$G$3)*(Projects!$C$5:$C$2413<>'MDOT FTA Detail'!$C$4)*(Projects!$L$5:$L$2413='Local Detail'!$A18)*(Projects!$J$5:$J$2413<>'Local Detail'!$A$147)*(Projects!$M$5:$M$2413)))+(SUMPRODUCT((Projects!$A$5:$A$2413='Local Detail'!$G$3)*(Projects!$C$5:$C$2413<>'MDOT FTA Detail'!$C$4)*(Projects!$L$5:$L$2413='Local Detail'!$A18)*(Projects!$J$5:$J$2413<>'Local Detail'!$A$147)*(Projects!$O$5:$O$2413))))","v":0},0,{"$f":"SUMPRODUCT((Projects!$A$5:$A$2413='Local Detail'!$J$3)*(Projects!$C$5:$C$2413<>'MDOT FTA Detail'!$C$4)*(Projects!$L$5:$L$2413='Local Detail'!$A18)*(Projects!$K$5:$K$2413))","v":0},{"$f":"((SUMPRODUCT((Projects!$A$5:$A$2413='Local Detail'!$J$3)*(Projects!$C$5:$C$2413<>'MDOT FTA Detail'!$C$4)*(Projects!$L$5:$L$2413='Local Detail'!$A18)*(Projects!$J$5:$J$2413<>'Local Detail'!$A$147)*(Projects!$M$5:$M$2413)))+(SUMPRODUCT((Projects!$A$5:$A$2413='Local Detail'!$J$3)*(Projects!$C$5:$C$2413<>'MDOT FTA Detail'!$C$4)*(Projects!$L$5:$L$2413='Local Detail'!$A18)*(Projects!$J$5:$J$2413<>'Local Detail'!$A$147)*(Projects!$O$5:$O$2413))))","v":0},0,{"$f":"SUMPRODUCT((Projects!$A$5:$A$2413='Local Detail'!$M$3)*(Projects!$C$5:$C$2413<>'MDOT FTA Detail'!$C$4)*(Projects!$L$5:$L$2413='Local Detail'!$A18)*(Projects!$K$5:$K$2413))","v":0},{"$f":"((SUMPRODUCT((Projects!$A$5:$A$2413='Local Detail'!$M$3)*(Projects!$C$5:$C$2413<>'MDOT FTA Detail'!$C$4)*(Projects!$L$5:$L$2413='Local Detail'!$A18)*(Projects!$J$5:$J$2413<>'Local Detail'!$A$147)*(Projects!$M$5:$M$2413)))+(SUMPRODUCT((Projects!$A$5:$A$2413='Local Detail'!$M$3)*(Projects!$C$5:$C$2413<>'MDOT FTA Detail'!$C$4)*(Projects!$L$5:$L$2413='Local Detail'!$A18)*(Projects!$J$5:$J$2413<>'Local Detail'!$A$147)*(Projects!$O$5:$O$2413))))","v":0},0]
["CBIP","Coordinated Border Infrastructure Program - SAFETEA-LU","Local Other FHWA",{"$f":"SUMPRODUCT((Projects!$A$5:$A$2413='Local Detail'!$D$3)*(Projects!$C$5:$C$2413<>'MDOT FTA Detail'!$C$4)*(Projects!$L$5:$L$2413='Local Detail'!$A19)*(Projects!$K$5:$K$2413))","v":0},{"$f":"((SUMPRODUCT((Projects!$A$5:$A$2413='Local Detail'!$D$3)*(Projects!$C$5:$C$2413<>'MDOT FTA Detail'!$C$4)*(Projects!$L$5:$L$2413='Local Detail'!$A19)*(Projects!$J$5:$J$2413<>'Local Detail'!$A$147)*(Projects!$M$5:$M$2413)))+(SUMPRODUCT((Projects!$A$5:$A$2413='Local Detail'!$D$3)*(Projects!$C$5:$C$2413<>'MDOT FTA Detail'!$C$4)*(Projects!$L$5:$L$2413='Local Detail'!$A19)*(Projects!$J$5:$J$2413<>'Local Detail'!$A$147)*(Projects!$O$5:$O$2413))))","v":0},0,{"$f":"SUMPRODUCT((Projects!$A$5:$A$2413='Local Detail'!$G$3)*(Projects!$C$5:$C$2413<>'MDOT FTA Detail'!$C$4)*(Projects!$L$5:$L$2413='Local Detail'!$A19)*(Projects!$K$5:$K$2413))","v":0},{"$f":"((SUMPRODUCT((Projects!$A$5:$A$2413='Local Detail'!$G$3)*(Projects!$C$5:$C$2413<>'MDOT FTA Detail'!$C$4)*(Projects!$L$5:$L$2413='Local Detail'!$A19)*(Projects!$J$5:$J$2413<>'Local Detail'!$A$147)*(Projects!$M$5:$M$2413)))+(SUMPRODUCT((Projects!$A$5:$A$2413='Local Detail'!$G$3)*(Projects!$C$5:$C$2413<>'MDOT FTA Detail'!$C$4)*(Projects!$L$5:$L$2413='Local Detail'!$A19)*(Projects!$J$5:$J$2413<>'Local Detail'!$A$147)*(Projects!$O$5:$O$2413))))","v":0},0,{"$f":"SUMPRODUCT((Projects!$A$5:$A$2413='Local Detail'!$J$3)*(Projects!$C$5:$C$2413<>'MDOT FTA Detail'!$C$4)*(Projects!$L$5:$L$2413='Local Detail'!$A19)*(Projects!$K$5:$K$2413))","v":0},{"$f":"((SUMPRODUCT((Projects!$A$5:$A$2413='Local Detail'!$J$3)*(Projects!$C$5:$C$2413<>'MDOT FTA Detail'!$C$4)*(Projects!$L$5:$L$2413='Local Detail'!$A19)*(Projects!$J$5:$J$2413<>'Local Detail'!$A$147)*(Projects!$M$5:$M$2413)))+(SUMPRODUCT((Projects!$A$5:$A$2413='Local Detail'!$J$3)*(Projects!$C$5:$C$2413<>'MDOT FTA Detail'!$C$4)*(Projects!$L$5:$L$2413='Local Detail'!$A19)*(Projects!$J$5:$J$2413<>'Local Detail'!$A$147)*(Projects!$O$5:$O$2413))))","v":0},0,{"$f":"SUMPRODUCT((Projects!$A$5:$A$2413='Local Detail'!$M$3)*(Projects!$C$5:$C$2413<>'MDOT FTA Detail'!$C$4)*(Projects!$L$5:$L$2413='Local Detail'!$A19)*(Projects!$K$5:$K$2413))","v":0},{"$f":"((SUMPRODUCT((Projects!$A$5:$A$2413='Local Detail'!$M$3)*(Projects!$C$5:$C$2413<>'MDOT FTA Detail'!$C$4)*(Projects!$L$5:$L$2413='Local Detail'!$A19)*(Projects!$J$5:$J$2413<>'Local Detail'!$A$147)*(Projects!$M$5:$M$2413)))+(SUMPRODUCT((Projects!$A$5:$A$2413='Local Detail'!$M$3)*(Projects!$C$5:$C$2413<>'MDOT FTA Detail'!$C$4)*(Projects!$L$5:$L$2413='Local Detail'!$A19)*(Projects!$J$5:$J$2413<>'Local Detail'!$A$147)*(Projects!$O$5:$O$2413))))","v":0},0]
["CM","Congestion Mitigation & Air Quality","Local CMAQ",{"$f":"SUMPRODUCT((Projects!$A$5:$A$2413='Local Detail'!$D$3)*(Projects!$C$5:$C$2413<>'MDOT FTA Detail'!$C$4)*(Projects!$L$5:$L$2413='Local Detail'!$A20)*(Projects!$K$5:$K$2413))","v":0},{"$f":"((SUMPRODUCT((Projects!$A$5:$A$2413='Local Detail'!$D$3)*(Projects!$C$5:$C$2413<>'MDOT FTA Detail'!$C$4)*(Projects!$L$5:$L$2413='Local Detail'!$A20)*(Projects!$J$5:$J$2413<>'Local Detail'!$A$147)*(Projects!$M$5:$M$2413)))+(SUMPRODUCT((Projects!$A$5:$A$2413='Local Detail'!$D$3)*(Projects!$C$5:$C$2413<>'MDOT FTA Detail'!$C$4)*(Projects!$L$5:$L$2413='Local Detail'!$A20)*(Projects!$J$5:$J$2413<>'Local Detail'!$A$147)*(Projects!$O$5:$O$2413))))","v":0},0,{"$f":"SUMPRODUCT((Projects!$A$5:$A$2413='Local Detail'!$G$3)*(Projects!$C$5:$C$2413<>'MDOT FTA Detail'!$C$4)*(Projects!$L$5:$L$2413='Local Detail'!$A20)*(Projects!$K$5:$K$2413))","v":148260},{"$f":"((SUMPRODUCT((Projects!$A$5:$A$2413='Local Detail'!$G$3)*(Projects!$C$5:$C$2413<>'MDOT FTA Detail'!$C$4)*(Projects!$L$5:$L$2413='Local Detail'!$A20)*(Projects!$J$5:$J$2413<>'Local Detail'!$A$147)*(Projects!$M$5:$M$2413)))+(SUMPRODUCT((Projects!$A$5:$A$2413='Local Detail'!$G$3)*(Projects!$C$5:$C$2413<>'MDOT FTA Detail'!$C$4)*(Projects!$L$5:$L$2413='Local Detail'!$A20)*(Projects!$J$5:$J$2413<>'Local Detail'!$A$147)*(Projects!$O$5:$O$2413))))","v":37065},185325,{"$f":"SUMPRODUCT((Projects!$A$5:$A$2413='Local Detail'!$J$3)*(Projects!$C$5:$C$2413<>'MDOT FTA Detail'!$C$4)*(Projects!$L$5:$L$2413='Local Detail'!$A20)*(Projects!$K$5:$K$2413))","v":0},{"$f":"((SUMPRODUCT((Projects!$A$5:$A$2413='Local Detail'!$J$3)*(Projects!$C$5:$C$2413<>'MDOT FTA Detail'!$C$4)*(Projects!$L$5:$L$2413='Local Detail'!$A20)*(Projects!$J$5:$J$2413<>'Local Detail'!$A$147)*(Projects!$M$5:$M$2413)))+(SUMPRODUCT((Projects!$A$5:$A$2413='Local Detail'!$J$3)*(Projects!$C$5:$C$2413<>'MDOT FTA Detail'!$C$4)*(Projects!$L$5:$L$2413='Local Detail'!$A20)*(Projects!$J$5:$J$2413<>'Local Detail'!$A$147)*(Projects!$O$5:$O$2413))))","v":0},0,{"$f":"SUMPRODUCT((Projects!$A$5:$A$2413='Local Detail'!$M$3)*(Projects!$C$5:$C$2413<>'MDOT FTA Detail'!$C$4)*(Projects!$L$5:$L$2413='Local Detail'!$A20)*(Projects!$K$5:$K$2413))","v":0},{"$f":"((SUMPRODUCT((Projects!$A$5:$A$2413='Local Detail'!$M$3)*(Projects!$C$5:$C$2413<>'MDOT FTA Detail'!$C$4)*(Projects!$L$5:$L$2413='Local Detail'!$A20)*(Projects!$J$5:$J$2413<>'Local Detail'!$A$147)*(Projects!$M$5:$M$2413)))+(SUMPRODUCT((Projects!$A$5:$A$2413='Local Detail'!$M$3)*(Projects!$C$5:$C$2413<>'MDOT FTA Detail'!$C$4)*(Projects!$L$5:$L$2413='Local Detail'!$A20)*(Projects!$J$5:$J$2413<>'Local Detail'!$A$147)*(Projects!$O$5:$O$2413))))","v":0},0]
["CMG","Congestion Mitigation & Air Quality - 100% Federal","Local CMAQ",{"$f":"SUMPRODUCT((Projects!$A$5:$A$2413='Local Detail'!$D$3)*(Projects!$C$5:$C$2413<>'MDOT FTA Detail'!$C$4)*(Projects!$L$5:$L$2413='Local Detail'!$A21)*(Projects!$K$5:$K$2413))","v":12000},{"$f":"((SUMPRODUCT((Projects!$A$5:$A$2413='Local Detail'!$D$3)*(Projects!$C$5:$C$2413<>'MDOT FTA Detail'!$C$4)*(Projects!$L$5:$L$2413='Local Detail'!$A21)*(Projects!$J$5:$J$2413<>'Local Detail'!$A$147)*(Projects!$M$5:$M$2413)))+(SUMPRODUCT((Projects!$A$5:$A$2413='Local Detail'!$D$3)*(Projects!$C$5:$C$2413<>'MDOT FTA Detail'!$C$4)*(Projects!$L$5:$L$2413='Local Detail'!$A21)*(Projects!$J$5:$J$2413<>'Local Detail'!$A$147)*(Projects!$O$5:$O$2413))))","v":0},12000,{"$f":"SUMPRODUCT((Projects!$A$5:$A$2413='Local Detail'!$G$3)*(Projects!$C$5:$C$2413<>'MDOT FTA Detail'!$C$4)*(Projects!$L$5:$L$2413='Local Detail'!$A21)*(Projects!$K$5:$K$2413))","v":0},{"$f":"((SUMPRODUCT((Projects!$A$5:$A$2413='Local Detail'!$G$3)*(Projects!$C$5:$C$2413<>'MDOT FTA Detail'!$C$4)*(Projects!$L$5:$L$2413='Local Detail'!$A21)*(Projects!$J$5:$J$2413<>'Local Detail'!$A$147)*(Projects!$M$5:$M$2413)))+(SUMPRODUCT((Projects!$A$5:$A$2413='Local Detail'!$G$3)*(Projects!$C$5:$C$2413<>'MDOT FTA Detail'!$C$4)*(Projects!$L$5:$L$2413='Local Detail'!$A21)*(Projects!$J$5:$J$2413<>'Local Detail'!$A$147)*(Projects!$O$5:$O$2413))))","v":0},0,{"$f":"SUMPRODUCT((Projects!$A$5:$A$2413='Local Detail'!$J$3)*(Projects!$C$5:$C$2413<>'MDOT FTA Detail'!$C$4)*(Projects!$L$5:$L$2413='Local Detail'!$A21)*(Projects!$K$5:$K$2413))","v":0},{"$f":"((SUMPRODUCT((Projects!$A$5:$A$2413='Local Detail'!$J$3)*(Projects!$C$5:$C$2413<>'MDOT FTA Detail'!$C$4)*(Projects!$L$5:$L$2413='Local Detail'!$A21)*(Projects!$J$5:$J$2413<>'Local Detail'!$A$147)*(Projects!$M$5:$M$2413)))+(SUMPRODUCT((Projects!$A$5:$A$2413='Local Detail'!$J$3)*(Projects!$C$5:$C$2413<>'MDOT FTA Detail'!$C$4)*(Projects!$L$5:$L$2413='Local Detail'!$A21)*(Projects!$J$5:$J$2413<>'Local Detail'!$A$147)*(Projects!$O$5:$O$2413))))","v":0},0,{"$f":"SUMPRODUCT((Projects!$A$5:$A$2413='Local Detail'!$M$3)*(Projects!$C$5:$C$2413<>'MDOT FTA Detail'!$C$4)*(Projects!$L$5:$L$2413='Local Detail'!$A21)*(Projects!$K$5:$K$2413))","v":0},{"$f":"((SUMPRODUCT((Projects!$A$5:$A$2413='Local Detail'!$M$3)*(Projects!$C$5:$C$2413<>'MDOT FTA Detail'!$C$4)*(Projects!$L$5:$L$2413='Local Detail'!$A21)*(Projects!$J$5:$J$2413<>'Local Detail'!$A$147)*(Projects!$M$5:$M$2413)))+(SUMPRODUCT((Projects!$A$5:$A$2413='Local Detail'!$M$3)*(Projects!$C$5:$C$2413<>'MDOT FTA Detail'!$C$4)*(Projects!$L$5:$L$2413='Local Detail'!$A21)*(Projects!$J$5:$J$2413<>'Local Detail'!$A$147)*(Projects!$O$5:$O$2413))))","v":0},0]
["CPM","Congestion Mititagion & Air Quality for PM 2.5 Emissions","Local CMAQ",{"$f":"SUMPRODUCT((Projects!$A$5:$A$2413='Local Detail'!$D$3)*(Projects!$C$5:$C$2413<>'MDOT FTA Detail'!$C$4)*(Projects!$L$5:$L$2413='Local Detail'!$A22)*(Projects!$K$5:$K$2413))","v":0},{"$f":"((SUMPRODUCT((Projects!$A$5:$A$2413='Local Detail'!$D$3)*(Projects!$C$5:$C$2413<>'MDOT FTA Detail'!$C$4)*(Projects!$L$5:$L$2413='Local Detail'!$A22)*(Projects!$J$5:$J$2413<>'Local Detail'!$A$147)*(Projects!$M$5:$M$2413)))+(SUMPRODUCT((Projects!$A$5:$A$2413='Local Detail'!$D$3)*(Projects!$C$5:$C$2413<>'MDOT FTA Detail'!$C$4)*(Projects!$L$5:$L$2413='Local Detail'!$A22)*(Projects!$J$5:$J$2413<>'Local Detail'!$A$147)*(Projects!$O$5:$O$2413))))","v":0},{"$f":"D22+E22","v":0},{"$f":"SUMPRODUCT((Projects!$A$5:$A$2413='Local Detail'!$G$3)*(Projects!$C$5:$C$2413<>'MDOT FTA Detail'!$C$4)*(Projects!$L$5:$L$2413='Local Detail'!$A22)*(Projects!$K$5:$K$2413))","v":0},{"$f":"((SUMPRODUCT((Projects!$A$5:$A$2413='Local Detail'!$G$3)*(Projects!$C$5:$C$2413<>'MDOT FTA Detail'!$C$4)*(Projects!$L$5:$L$2413='Local Detail'!$A22)*(Projects!$J$5:$J$2413<>'Local Detail'!$A$147)*(Projects!$M$5:$M$2413)))+(SUMPRODUCT((Projects!$A$5:$A$2413='Local Detail'!$G$3)*(Projects!$C$5:$C$2413<>'MDOT FTA Detail'!$C$4)*(Projects!$L$5:$L$2413='Local Detail'!$A22)*(Projects!$J$5:$J$2413<>'Local Detail'!$A$147)*(Projects!$O$5:$O$2413))))","v":0},{"$f":"G22+H22","v":0},{"$f":"SUMPRODUCT((Projects!$A$5:$A$2413='Local Detail'!$J$3)*(Projects!$C$5:$C$2413<>'MDOT FTA Detail'!$C$4)*(Projects!$L$5:$L$2413='Local Detail'!$A22)*(Projects!$K$5:$K$2413))","v":0},{"$f":"((SUMPRODUCT((Projects!$A$5:$A$2413='Local Detail'!$J$3)*(Projects!$C$5:$C$2413<>'MDOT FTA Detail'!$C$4)*(Projects!$L$5:$L$2413='Local Detail'!$A22)*(Projects!$J$5:$J$2413<>'Local Detail'!$A$147)*(Projects!$M$5:$M$2413)))+(SUMPRODUCT((Projects!$A$5:$A$2413='Local Detail'!$J$3)*(Projects!$C$5:$C$2413<>'MDOT FTA Detail'!$C$4)*(Projects!$L$5:$L$2413='Local Detail'!$A22)*(Projects!$J$5:$J$2413<>'Local Detail'!$A$147)*(Projects!$O$5:$O$2413))))","v":0},{"$f":"J22+K22","v":0},{"$f":"SUMPRODUCT((Projects!$A$5:$A$2413='Local Detail'!$M$3)*(Projects!$C$5:$C$2413<>'MDOT FTA Detail'!$C$4)*(Projects!$L$5:$L$2413='Local Detail'!$A22)*(Projects!$K$5:$K$2413))","v":0},{"$f":"((SUMPRODUCT((Projects!$A$5:$A$2413='Local Detail'!$M$3)*(Projects!$C$5:$C$2413<>'MDOT FTA Detail'!$C$4)*(Projects!$L$5:$L$2413='Local Detail'!$A22)*(Projects!$J$5:$J$2413<>'Local Detail'!$A$147)*(Projects!$M$5:$M$2413)))+(SUMPRODUCT((Projects!$A$5:$A$2413='Local Detail'!$M$3)*(Projects!$C$5:$C$2413<>'MDOT FTA Detail'!$C$4)*(Projects!$L$5:$L$2413='Local Detail'!$A22)*(Projects!$J$5:$J$2413<>'Local Detail'!$A$147)*(Projects!$O$5:$O$2413))))","v":0},{"$f":"M22+N22","v":0}]
["CPMG","Congestion Mititagion & Air Quality for PM 2.5 Emissions - 100% Federal","Local CMAQ",{"$f":"SUMPRODUCT((Projects!$A$5:$A$2413='Local Detail'!$D$3)*(Projects!$C$5:$C$2413<>'MDOT FTA Detail'!$C$4)*(Projects!$L$5:$L$2413='Local Detail'!$A23)*(Projects!$K$5:$K$2413))","v":0},{"$f":"((SUMPRODUCT((Projects!$A$5:$A$2413='Local Detail'!$D$3)*(Projects!$C$5:$C$2413<>'MDOT FTA Detail'!$C$4)*(Projects!$L$5:$L$2413='Local Detail'!$A23)*(Projects!$J$5:$J$2413<>'Local Detail'!$A$147)*(Projects!$M$5:$M$2413)))+(SUMPRODUCT((Projects!$A$5:$A$2413='Local Detail'!$D$3)*(Projects!$C$5:$C$2413<>'MDOT FTA Detail'!$C$4)*(Projects!$L$5:$L$2413='Local Detail'!$A23)*(Projects!$J$5:$J$2413<>'Local Detail'!$A$147)*(Projects!$O$5:$O$2413))))","v":0},0,{"$f":"SUMPRODUCT((Projects!$A$5:$A$2413='Local Detail'!$G$3)*(Projects!$C$5:$C$2413<>'MDOT FTA Detail'!$C$4)*(Projects!$L$5:$L$2413='Local Detail'!$A23)*(Projects!$K$5:$K$2413))","v":0},{"$f":"((SUMPRODUCT((Projects!$A$5:$A$2413='Local Detail'!$G$3)*(Projects!$C$5:$C$2413<>'MDOT FTA Detail'!$C$4)*(Projects!$L$5:$L$2413='Local Detail'!$A23)*(Projects!$J$5:$J$2413<>'Local Detail'!$A$147)*(Projects!$M$5:$M$2413)))+(SUMPRODUCT((Projects!$A$5:$A$2413='Local Detail'!$G$3)*(Projects!$C$5:$C$2413<>'MDOT FTA Detail'!$C$4)*(Projects!$L$5:$L$2413='Local Detail'!$A23)*(Projects!$J$5:$J$2413<>'Local Detail'!$A$147)*(Projects!$O$5:$O$2413))))","v":0},0,{"$f":"SUMPRODUCT((Projects!$A$5:$A$2413='Local Detail'!$J$3)*(Projects!$C$5:$C$2413<>'MDOT FTA Detail'!$C$4)*(Projects!$L$5:$L$2413='Local Detail'!$A23)*(Projects!$K$5:$K$2413))","v":0},{"$f":"((SUMPRODUCT((Projects!$A$5:$A$2413='Local Detail'!$J$3)*(Projects!$C$5:$C$2413<>'MDOT FTA Detail'!$C$4)*(Projects!$L$5:$L$2413='Local Detail'!$A23)*(Projects!$J$5:$J$2413<>'Local Detail'!$A$147)*(Projects!$M$5:$M$2413)))+(SUMPRODUCT((Projects!$A$5:$A$2413='Local Detail'!$J$3)*(Projects!$C$5:$C$2413<>'MDOT FTA Detail'!$C$4)*(Projects!$L$5:$L$2413='Local Detail'!$A23)*(Projects!$J$5:$J$2413<>'Local Detail'!$A$147)*(Projects!$O$5:$O$2413))))","v":0},0,{"$f":"SUMPRODUCT((Projects!$A$5:$A$2413='Local Detail'!$M$3)*(Projects!$C$5:$C$2413<>'MDOT FTA Detail'!$C$4)*(Projects!$L$5:$L$2413='Local Detail'!$A23)*(Projects!$K$5:$K$2413))","v":0},{"$f":"((SUMPRODUCT((Projects!$A$5:$A$2413='Local Detail'!$M$3)*(Projects!$C$5:$C$2413<>'MDOT FTA Detail'!$C$4)*(Projects!$L$5:$L$2413='Local Detail'!$A23)*(Projects!$J$5:$J$2413<>'Local Detail'!$A$147)*(Projects!$M$5:$M$2413)))+(SUMPRODUCT((Projects!$A$5:$A$2413='Local Detail'!$M$3)*(Projects!$C$5:$C$2413<>'MDOT FTA Detail'!$C$4)*(Projects!$L$5:$L$2413='Local Detail'!$A23)*(Projects!$J$5:$J$2413<>'Local Detail'!$A$147)*(Projects!$O$5:$O$2413))))","v":0},0]
["D129","Demonstration for Surface Transportation - Section 129","Local STP",{"$f":"SUMPRODUCT((Projects!$A$5:$A$2413='Local Detail'!$D$3)*(Projects!$C$5:$C$2413<>'MDOT FTA Detail'!$C$4)*(Projects!$L$5:$L$2413='Local Detail'!$A24)*(Projects!$K$5:$K$2413))","v":0},{"$f":"((SUMPRODUCT((Projects!$A$5:$A$2413='Local Detail'!$D$3)*(Projects!$C$5:$C$2413<>'MDOT FTA Detail'!$C$4)*(Projects!$L$5:$L$2413='Local Detail'!$A24)*(Projects!$J$5:$J$2413<>'Local Detail'!$A$147)*(Projects!$M$5:$M$2413)))+(SUMPRODUCT((Projects!$A$5:$A$2413='Local Detail'!$D$3)*(Projects!$C$5:$C$2413<>'MDOT FTA Detail'!$C$4)*(Projects!$L$5:$L$2413='Local Detail'!$A24)*(Projects!$J$5:$J$2413<>'Local Detail'!$A$147)*(Projects!$O$5:$O$2413))))","v":0},{"$f":"D24+E24","v":0},{"$f":"SUMPRODUCT((Projects!$A$5:$A$2413='Local Detail'!$G$3)*(Projects!$C$5:$C$2413<>'MDOT FTA Detail'!$C$4)*(Projects!$L$5:$L$2413='Local Detail'!$A24)*(Projects!$K$5:$K$2413))","v":0},{"$f":"((SUMPRODUCT((Projects!$A$5:$A$2413='Local Detail'!$G$3)*(Projects!$C$5:$C$2413<>'MDOT FTA Detail'!$C$4)*(Projects!$L$5:$L$2413='Local Detail'!$A24)*(Projects!$J$5:$J$2413<>'Local Detail'!$A$147)*(Projects!$M$5:$M$2413)))+(SUMPRODUCT((Projects!$A$5:$A$2413='Local Detail'!$G$3)*(Projects!$C$5:$C$2413<>'MDOT FTA Detail'!$C$4)*(Projects!$L$5:$L$2413='Local Detail'!$A24)*(Projects!$J$5:$J$2413<>'Local Detail'!$A$147)*(Projects!$O$5:$O$2413))))","v":0},{"$f":"G24+H24","v":0},{"$f":"SUMPRODUCT((Projects!$A$5:$A$2413='Local Detail'!$J$3)*(Projects!$C$5:$C$2413<>'MDOT FTA Detail'!$C$4)*(Projects!$L$5:$L$2413='Local Detail'!$A24)*(Projects!$K$5:$K$2413))","v":0},{"$f":"((SUMPRODUCT((Projects!$A$5:$A$2413='Local Detail'!$J$3)*(Projects!$C$5:$C$2413<>'MDOT FTA Detail'!$C$4)*(Projects!$L$5:$L$2413='Local Detail'!$A24)*(Projects!$J$5:$J$2413<>'Local Detail'!$A$147)*(Projects!$M$5:$M$2413)))+(SUMPRODUCT((Projects!$A$5:$A$2413='Local Detail'!$J$3)*(Projects!$C$5:$C$2413<>'MDOT FTA Detail'!$C$4)*(Projects!$L$5:$L$2413='Local Detail'!$A24)*(Projects!$J$5:$J$2413<>'Local Detail'!$A$147)*(Projects!$O$5:$O$2413))))","v":0},{"$f":"J24+K24","v":0},{"$f":"SUMPRODUCT((Projects!$A$5:$A$2413='Local Detail'!$M$3)*(Projects!$C$5:$C$2413<>'MDOT FTA Detail'!$C$4)*(Projects!$L$5:$L$2413='Local Detail'!$A24)*(Projects!$K$5:$K$2413))","v":0},{"$f":"((SUMPRODUCT((Projects!$A$5:$A$2413='Local Detail'!$M$3)*(Projects!$C$5:$C$2413<>'MDOT FTA Detail'!$C$4)*(Projects!$L$5:$L$2413='Local Detail'!$A24)*(Projects!$J$5:$J$2413<>'Local Detail'!$A$147)*(Projects!$M$5:$M$2413)))+(SUMPRODUCT((Projects!$A$5:$A$2413='Local Detail'!$M$3)*(Projects!$C$5:$C$2413<>'MDOT FTA Detail'!$C$4)*(Projects!$L$5:$L$2413='Local Detail'!$A24)*(Projects!$J$5:$J$2413<>'Local Detail'!$A$147)*(Projects!$O$5:$O$2413))))","v":0},{"$f":"M24+N24","v":0}]
["DIG","ISTEA Demonstration 100% Federal on Interstate","Local Other FHWA",{"$f":"SUMPRODUCT((Projects!$A$5:$A$2413='Local Detail'!$D$3)*(Projects!$C$5:$C$2413<>'MDOT FTA Detail'!$C$4)*(Projects!$L$5:$L$2413='Local Detail'!$A25)*(Projects!$K$5:$K$2413))","v":0},{"$f":"((SUMPRODUCT((Projects!$A$5:$A$2413='Local Detail'!$D$3)*(Projects!$C$5:$C$2413<>'MDOT FTA Detail'!$C$4)*(Projects!$L$5:$L$2413='Local Detail'!$A25)*(Projects!$J$5:$J$2413<>'Local Detail'!$A$147)*(Projects!$M$5:$M$2413)))+(SUMPRODUCT((Projects!$A$5:$A$2413='Local Detail'!$D$3)*(Projects!$C$5:$C$2413<>'MDOT FTA Detail'!$C$4)*(Projects!$L$5:$L$2413='Local Detail'!$A25)*(Projects!$J$5:$J$2413<>'Local Detail'!$A$147)*(Projects!$O$5:$O$2413))))","v":0},0,{"$f":"SUMPRODUCT((Projects!$A$5:$A$2413='Local Detail'!$G$3)*(Projects!$C$5:$C$2413<>'MDOT FTA Detail'!$C$4)*(Projects!$L$5:$L$2413='Local Detail'!$A25)*(Projects!$K$5:$K$2413))","v":0},{"$f":"((SUMPRODUCT((Projects!$A$5:$A$2413='Local Detail'!$G$3)*(Projects!$C$5:$C$2413<>'MDOT FTA Detail'!$C$4)*(Projects!$L$5:$L$2413='Local Detail'!$A25)*(Projects!$J$5:$J$2413<>'Local Detail'!$A$147)*(Projects!$M$5:$M$2413)))+(SUMPRODUCT((Projects!$A$5:$A$2413='Local Detail'!$G$3)*(Projects!$C$5:$C$2413<>'MDOT FTA Detail'!$C$4)*(Projects!$L$5:$L$2413='Local Detail'!$A25)*(Projects!$J$5:$J$2413<>'Local Detail'!$A$147)*(Projects!$O$5:$O$2413))))","v":0},0,{"$f":"SUMPRODUCT((Projects!$A$5:$A$2413='Local Detail'!$J$3)*(Projects!$C$5:$C$2413<>'MDOT FTA Detail'!$C$4)*(Projects!$L$5:$L$2413='Local Detail'!$A25)*(Projects!$K$5:$K$2413))","v":0},{"$f":"((SUMPRODUCT((Projects!$A$5:$A$2413='Local Detail'!$J$3)*(Projects!$C$5:$C$2413<>'MDOT FTA Detail'!$C$4)*(Projects!$L$5:$L$2413='Local Detail'!$A25)*(Projects!$J$5:$J$2413<>'Local Detail'!$A$147)*(Projects!$M$5:$M$2413)))+(SUMPRODUCT((Projects!$A$5:$A$2413='Local Detail'!$J$3)*(Projects!$C$5:$C$2413<>'MDOT FTA Detail'!$C$4)*(Projects!$L$5:$L$2413='Local Detail'!$A25)*(Projects!$J$5:$J$2413<>'Local Detail'!$A$147)*(Projects!$O$5:$O$2413))))","v":0},0,{"$f":"SUMPRODUCT((Projects!$A$5:$A$2413='Local Detail'!$M$3)*(Projects!$C$5:$C$2413<>'MDOT FTA Detail'!$C$4)*(Projects!$L$5:$L$2413='Local Detail'!$A25)*(Projects!$K$5:$K$2413))","v":0},{"$f":"((SUMPRODUCT((Projects!$A$5:$A$2413='Local Detail'!$M$3)*(Projects!$C$5:$C$2413<>'MDOT FTA Detail'!$C$4)*(Projects!$L$5:$L$2413='Local Detail'!$A25)*(Projects!$J$5:$J$2413<>'Local Detail'!$A$147)*(Projects!$M$5:$M$2413)))+(SUMPRODUCT((Projects!$A$5:$A$2413='Local Detail'!$M$3)*(Projects!$C$5:$C$2413<>'MDOT FTA Detail'!$C$4)*(Projects!$L$5:$L$2413='Local Detail'!$A25)*(Projects!$J$5:$J$2413<>'Local Detail'!$A$147)*(Projects!$O$5:$O$2413))))","v":0},0]
["DOG","ISTEA Demonstration 100% Federal Not Classified","Local Other FHWA",{"$f":"SUMPRODUCT((Projects!$A$5:$A$2413='Local Detail'!$D$3)*(Projects!$C$5:$C$2413<>'MDOT FTA Detail'!$C$4)*(Projects!$L$5:$L$2413='Local Detail'!$A26)*(Projects!$K$5:$K$2413))","v":0},{"$f":"((SUMPRODUCT((Projects!$A$5:$A$2413='Local Detail'!$D$3)*(Projects!$C$5:$C$2413<>'MDOT FTA Detail'!$C$4)*(Projects!$L$5:$L$2413='Local Detail'!$A26)*(Projects!$J$5:$J$2413<>'Local Detail'!$A$147)*(Projects!$M$5:$M$2413)))+(SUMPRODUCT((Projects!$A$5:$A$2413='Local Detail'!$D$3)*(Projects!$C$5:$C$2413<>'MDOT FTA Detail'!$C$4)*(Projects!$L$5:$L$2413='Local Detail'!$A26)*(Projects!$J$5:$J$2413<>'Local Detail'!$A$147)*(Projects!$O$5:$O$2413))))","v":0},0,{"$f":"SUMPRODUCT((Projects!$A$5:$A$2413='Local Detail'!$G$3)*(Projects!$C$5:$C$2413<>'MDOT FTA Detail'!$C$4)*(Projects!$L$5:$L$2413='Local Detail'!$A26)*(Projects!$K$5:$K$2413))","v":0},{"$f":"((SUMPRODUCT((Projects!$A$5:$A$2413='Local Detail'!$G$3)*(Projects!$C$5:$C$2413<>'MDOT FTA Detail'!$C$4)*(Projects!$L$5:$L$2413='Local Detail'!$A26)*(Projects!$J$5:$J$2413<>'Local Detail'!$A$147)*(Projects!$M$5:$M$2413)))+(SUMPRODUCT((Projects!$A$5:$A$2413='Local Detail'!$G$3)*(Projects!$C$5:$C$2413<>'MDOT FTA Detail'!$C$4)*(Projects!$L$5:$L$2413='Local Detail'!$A26)*(Projects!$J$5:$J$2413<>'Local Detail'!$A$147)*(Projects!$O$5:$O$2413))))","v":0},0,{"$f":"SUMPRODUCT((Projects!$A$5:$A$2413='Local Detail'!$J$3)*(Projects!$C$5:$C$2413<>'MDOT FTA Detail'!$C$4)*(Projects!$L$5:$L$2413='Local Detail'!$A26)*(Projects!$K$5:$K$2413))","v":0},{"$f":"((SUMPRODUCT((Projects!$A$5:$A$2413='Local Detail'!$J$3)*(Projects!$C$5:$C$2413<>'MDOT FTA Detail'!$C$4)*(Projects!$L$5:$L$2413='Local Detail'!$A26)*(Projects!$J$5:$J$2413<>'Local Detail'!$A$147)*(Projects!$M$5:$M$2413)))+(SUMPRODUCT((Projects!$A$5:$A$2413='Local Detail'!$J$3)*(Projects!$C$5:$C$2413<>'MDOT FTA Detail'!$C$4)*(Projects!$L$5:$L$2413='Local Detail'!$A26)*(Projects!$J$5:$J$2413<>'Local Detail'!$A$147)*(Projects!$O$5:$O$2413))))","v":0},0,{"$f":"SUMPRODUCT((Projects!$A$5:$A$2413='Local Detail'!$M$3)*(Projects!$C$5:$C$2413<>'MDOT FTA Detail'!$C$4)*(Projects!$L$5:$L$2413='Local Detail'!$A26)*(Projects!$K$5:$K$2413))","v":0},{"$f":"((SUMPRODUCT((Projects!$A$5:$A$2413='Local Detail'!$M$3)*(Projects!$C$5:$C$2413<>'MDOT FTA Detail'!$C$4)*(Projects!$L$5:$L$2413='Local Detail'!$A26)*(Projects!$J$5:$J$2413<>'Local Detail'!$A$147)*(Projects!$M$5:$M$2413)))+(SUMPRODUCT((Projects!$A$5:$A$2413='Local Detail'!$M$3)*(Projects!$C$5:$C$2413<>'MDOT FTA Detail'!$C$4)*(Projects!$L$5:$L$2413='Local Detail'!$A26)*(Projects!$J$5:$J$2413<>'Local Detail'!$A$147)*(Projects!$O$5:$O$2413))))","v":0},0]
["DPN","ISTEA Demonstration 80% Federal on NHS","Local Other FHWA",{"$f":"SUMPRODUCT((Projects!$A$5:$A$2413='Local Detail'!$D$3)*(Projects!$C$5:$C$2413<>'MDOT FTA Detail'!$C$4)*(Projects!$L$5:$L$2413='Local Detail'!$A27)*(Projects!$K$5:$K$2413))","v":0},{"$f":"((SUMPRODUCT((Projects!$A$5:$A$2413='Local Detail'!$D$3)*(Projects!$C$5:$C$2413<>'MDOT FTA Detail'!$C$4)*(Projects!$L$5:$L$2413='Local Detail'!$A27)*(Projects!$J$5:$J$2413<>'Local Detail'!$A$147)*(Projects!$M$5:$M$2413)))+(SUMPRODUCT((Projects!$A$5:$A$2413='Local Detail'!$D$3)*(Projects!$C$5:$C$2413<>'MDOT FTA Detail'!$C$4)*(Projects!$L$5:$L$2413='Local Detail'!$A27)*(Projects!$J$5:$J$2413<>'Local Detail'!$A$147)*(Projects!$O$5:$O$2413))))","v":0},0,{"$f":"SUMPRODUCT((Projects!$A$5:$A$2413='Local Detail'!$G$3)*(Projects!$C$5:$C$2413<>'MDOT FTA Detail'!$C$4)*(Projects!$L$5:$L$2413='Local Detail'!$A27)*(Projects!$K$5:$K$2413))","v":0},{"$f":"((SUMPRODUCT((Projects!$A$5:$A$2413='Local Detail'!$G$3)*(Projects!$C$5:$C$2413<>'MDOT FTA Detail'!$C$4)*(Projects!$L$5:$L$2413='Local Detail'!$A27)*(Projects!$J$5:$J$2413<>'Local Detail'!$A$147)*(Projects!$M$5:$M$2413)))+(SUMPRODUCT((Projects!$A$5:$A$2413='Local Detail'!$G$3)*(Projects!$C$5:$C$2413<>'MDOT FTA Detail'!$C$4)*(Projects!$L$5:$L$2413='Local Detail'!$A27)*(Projects!$J$5:$J$2413<>'Local Detail'!$A$147)*(Projects!$O$5:$O$2413))))","v":0},0,{"$f":"SUMPRODUCT((Projects!$A$5:$A$2413='Local Detail'!$J$3)*(Projects!$C$5:$C$2413<>'MDOT FTA Detail'!$C$4)*(Projects!$L$5:$L$2413='Local Detail'!$A27)*(Projects!$K$5:$K$2413))","v":0},{"$f":"((SUMPRODUCT((Projects!$A$5:$A$2413='Local Detail'!$J$3)*(Projects!$C$5:$C$2413<>'MDOT FTA Detail'!$C$4)*(Projects!$L$5:$L$2413='Local Detail'!$A27)*(Projects!$J$5:$J$2413<>'Local Detail'!$A$147)*(Projects!$M$5:$M$2413)))+(SUMPRODUCT((Projects!$A$5:$A$2413='Local Detail'!$J$3)*(Projects!$C$5:$C$2413<>'MDOT FTA Detail'!$C$4)*(Projects!$L$5:$L$2413='Local Detail'!$A27)*(Projects!$J$5:$J$2413<>'Local Detail'!$A$147)*(Projects!$O$5:$O$2413))))","v":0},0,{"$f":"SUMPRODUCT((Projects!$A$5:$A$2413='Local Detail'!$M$3)*(Projects!$C$5:$C$2413<>'MDOT FTA Detail'!$C$4)*(Projects!$L$5:$L$2413='Local Detail'!$A27)*(Projects!$K$5:$K$2413))","v":0},{"$f":"((SUMPRODUCT((Projects!$A$5:$A$2413='Local Detail'!$M$3)*(Projects!$C$5:$C$2413<>'MDOT FTA Detail'!$C$4)*(Projects!$L$5:$L$2413='Local Detail'!$A27)*(Projects!$J$5:$J$2413<>'Local Detail'!$A$147)*(Projects!$M$5:$M$2413)))+(SUMPRODUCT((Projects!$A$5:$A$2413='Local Detail'!$M$3)*(Projects!$C$5:$C$2413<>'MDOT FTA Detail'!$C$4)*(Projects!$L$5:$L$2413='Local Detail'!$A27)*(Projects!$J$5:$J$2413<>'Local Detail'!$A$147)*(Projects!$O$5:$O$2413))))","v":0},0]
["DPO","ISTEA Demonstration 80% Federal Not Classified","Local Other FHWA",{"$f":"SUMPRODUCT((Projects!$A$5:$A$2413='Local Detail'!$D$3)*(Projects!$C$5:$C$2413<>'MDOT FTA Detail'!$C$4)*(Projects!$L$5:$L$2413='Local Detail'!$A28)*(Projects!$K$5:$K$2413))","v":0},{"$f":"((SUMPRODUCT((Projects!$A$5:$A$2413='Local Detail'!$D$3)*(Projects!$C$5:$C$2413<>'MDOT FTA Detail'!$C$4)*(Projects!$L$5:$L$2413='Local Detail'!$A28)*(Projects!$J$5:$J$2413<>'Local Detail'!$A$147)*(Projects!$M$5:$M$2413)))+(SUMPRODUCT((Projects!$A$5:$A$2413='Local Detail'!$D$3)*(Projects!$C$5:$C$2413<>'MDOT FTA Detail'!$C$4)*(Projects!$L$5:$L$2413='Local Detail'!$A28)*(Projects!$J$5:$J$2413<>'Local Detail'!$A$147)*(Projects!$O$5:$O$2413))))","v":0},0,{"$f":"SUMPRODUCT((Projects!$A$5:$A$2413='Local Detail'!$G$3)*(Projects!$C$5:$C$2413<>'MDOT FTA Detail'!$C$4)*(Projects!$L$5:$L$2413='Local Detail'!$A28)*(Projects!$K$5:$K$2413))","v":0},{"$f":"((SUMPRODUCT((Projects!$A$5:$A$2413='Local Detail'!$G$3)*(Projects!$C$5:$C$2413<>'MDOT FTA Detail'!$C$4)*(Projects!$L$5:$L$2413='Local Detail'!$A28)*(Projects!$J$5:$J$2413<>'Local Detail'!$A$147)*(Projects!$M$5:$M$2413)))+(SUMPRODUCT((Projects!$A$5:$A$2413='Local Detail'!$G$3)*(Projects!$C$5:$C$2413<>'MDOT FTA Detail'!$C$4)*(Projects!$L$5:$L$2413='Local Detail'!$A28)*(Projects!$J$5:$J$2413<>'Local Detail'!$A$147)*(Projects!$O$5:$O$2413))))","v":0},0,{"$f":"SUMPRODUCT((Projects!$A$5:$A$2413='Local Detail'!$J$3)*(Projects!$C$5:$C$2413<>'MDOT FTA Detail'!$C$4)*(Projects!$L$5:$L$2413='Local Detail'!$A28)*(Projects!$K$5:$K$2413))","v":0},{"$f":"((SUMPRODUCT((Projects!$A$5:$A$2413='Local Detail'!$J$3)*(Projects!$C$5:$C$2413<>'MDOT FTA Detail'!$C$4)*(Projects!$L$5:$L$2413='Local Detail'!$A28)*(Projects!$J$5:$J$2413<>'Local Detail'!$A$147)*(Projects!$M$5:$M$2413)))+(SUMPRODUCT((Projects!$A$5:$A$2413='Local Detail'!$J$3)*(Projects!$C$5:$C$2413<>'MDOT FTA Detail'!$C$4)*(Projects!$L$5:$L$2413='Local Detail'!$A28)*(Projects!$J$5:$J$2413<>'Local Detail'!$A$147)*(Projects!$O$5:$O$2413))))","v":0},0,{"$f":"SUMPRODUCT((Projects!$A$5:$A$2413='Local Detail'!$M$3)*(Projects!$C$5:$C$2413<>'MDOT FTA Detail'!$C$4)*(Projects!$L$5:$L$2413='Local Detail'!$A28)*(Projects!$K$5:$K$2413))","v":0},{"$f":"((SUMPRODUCT((Projects!$A$5:$A$2413='Local Detail'!$M$3)*(Projects!$C$5:$C$2413<>'MDOT FTA Detail'!$C$4)*(Projects!$L$5:$L$2413='Local Detail'!$A28)*(Projects!$J$5:$J$2413<>'Local Detail'!$A$147)*(Projects!$M$5:$M$2413)))+(SUMPRODUCT((Projects!$A$5:$A$2413='Local Detail'!$M$3)*(Projects!$C$5:$C$2413<>'MDOT FTA Detail'!$C$4)*(Projects!$L$5:$L$2413='Local Detail'!$A28)*(Projects!$J$5:$J$2413<>'Local Detail'!$A$147)*(Projects!$O$5:$O$2413))))","v":0},0]
["DPS","ISTEA Demonstration 80% Federal on STP","Local Other FHWA",{"$f":"SUMPRODUCT((Projects!$A$5:$A$2413='Local Detail'!$D$3)*(Projects!$C$5:$C$2413<>'MDOT FTA Detail'!$C$4)*(Projects!$L$5:$L$2413='Local Detail'!$A29)*(Projects!$K$5:$K$2413))","v":0},{"$f":"((SUMPRODUCT((Projects!$A$5:$A$2413='Local Detail'!$D$3)*(Projects!$C$5:$C$2413<>'MDOT FTA Detail'!$C$4)*(Projects!$L$5:$L$2413='Local Detail'!$A29)*(Projects!$J$5:$J$2413<>'Local Detail'!$A$147)*(Projects!$M$5:$M$2413)))+(SUMPRODUCT((Projects!$A$5:$A$2413='Local Detail'!$D$3)*(Projects!$C$5:$C$2413<>'MDOT FTA Detail'!$C$4)*(Projects!$L$5:$L$2413='Local Detail'!$A29)*(Projects!$J$5:$J$2413<>'Local Detail'!$A$147)*(Projects!$O$5:$O$2413))))","v":0},0,{"$f":"SUMPRODUCT((Projects!$A$5:$A$2413='Local Detail'!$G$3)*(Projects!$C$5:$C$2413<>'MDOT FTA Detail'!$C$4)*(Projects!$L$5:$L$2413='Local Detail'!$A29)*(Projects!$K$5:$K$2413))","v":0},{"$f":"((SUMPRODUCT((Projects!$A$5:$A$2413='Local Detail'!$G$3)*(Projects!$C$5:$C$2413<>'MDOT FTA Detail'!$C$4)*(Projects!$L$5:$L$2413='Local Detail'!$A29)*(Projects!$J$5:$J$2413<>'Local Detail'!$A$147)*(Projects!$M$5:$M$2413)))+(SUMPRODUCT((Projects!$A$5:$A$2413='Local Detail'!$G$3)*(Projects!$C$5:$C$2413<>'MDOT FTA Detail'!$C$4)*(Projects!$L$5:$L$2413='Local Detail'!$A29)*(Projects!$J$5:$J$2413<>'Local Detail'!$A$147)*(Projects!$O$5:$O$2413))))","v":0},0,{"$f":"SUMPRODUCT((Projects!$A$5:$A$2413='Local Detail'!$J$3)*(Projects!$C$5:$C$2413<>'MDOT FTA Detail'!$C$4)*(Projects!$L$5:$L$2413='Local Detail'!$A29)*(Projects!$K$5:$K$2413))","v":0},{"$f":"((SUMPRODUCT((Projects!$A$5:$A$2413='Local Detail'!$J$3)*(Projects!$C$5:$C$2413<>'MDOT FTA Detail'!$C$4)*(Projects!$L$5:$L$2413='Local Detail'!$A29)*(Projects!$J$5:$J$2413<>'Local Detail'!$A$147)*(Projects!$M$5:$M$2413)))+(SUMPRODUCT((Projects!$A$5:$A$2413='Local Detail'!$J$3)*(Projects!$C$5:$C$2413<>'MDOT FTA Detail'!$C$4)*(Projects!$L$5:$L$2413='Local Detail'!$A29)*(Projects!$J$5:$J$2413<>'Local Detail'!$A$147)*(Projects!$O$5:$O$2413))))","v":0},0,{"$f":"SUMPRODUCT((Projects!$A$5:$A$2413='Local Detail'!$M$3)*(Projects!$C$5:$C$2413<>'MDOT FTA Detail'!$C$4)*(Projects!$L$5:$L$2413='Local Detail'!$A29)*(Projects!$K$5:$K$2413))","v":0},{"$f":"((SUMPRODUCT((Projects!$A$5:$A$2413='Local Detail'!$M$3)*(Projects!$C$5:$C$2413<>'MDOT FTA Detail'!$C$4)*(Projects!$L$5:$L$2413='Local Detail'!$A29)*(Projects!$J$5:$J$2413<>'Local Detail'!$A$147)*(Projects!$M$5:$M$2413)))+(SUMPRODUCT((Projects!$A$5:$A$2413='Local Detail'!$M$3)*(Projects!$C$5:$C$2413<>'MDOT FTA Detail'!$C$4)*(Projects!$L$5:$L$2413='Local Detail'!$A29)*(Projects!$J$5:$J$2413<>'Local Detail'!$A$147)*(Projects!$O$5:$O$2413))))","v":0},0]
["DPSA","Demonstration Project Section 112 Division A","Local Other FHWA",{"$f":"SUMPRODUCT((Projects!$A$5:$A$2413='Local Detail'!$D$3)*(Projects!$C$5:$C$2413<>'MDOT FTA Detail'!$C$4)*(Projects!$L$5:$L$2413='Local Detail'!$A30)*(Projects!$K$5:$K$2413))","v":0},{"$f":"((SUMPRODUCT((Projects!$A$5:$A$2413='Local Detail'!$D$3)*(Projects!$C$5:$C$2413<>'MDOT FTA Detail'!$C$4)*(Projects!$L$5:$L$2413='Local Detail'!$A30)*(Projects!$J$5:$J$2413<>'Local Detail'!$A$147)*(Projects!$M$5:$M$2413)))+(SUMPRODUCT((Projects!$A$5:$A$2413='Local Detail'!$D$3)*(Projects!$C$5:$C$2413<>'MDOT FTA Detail'!$C$4)*(Projects!$L$5:$L$2413='Local Detail'!$A30)*(Projects!$J$5:$J$2413<>'Local Detail'!$A$147)*(Projects!$O$5:$O$2413))))","v":0},0,{"$f":"SUMPRODUCT((Projects!$A$5:$A$2413='Local Detail'!$G$3)*(Projects!$C$5:$C$2413<>'MDOT FTA Detail'!$C$4)*(Projects!$L$5:$L$2413='Local Detail'!$A30)*(Projects!$K$5:$K$2413))","v":0},{"$f":"((SUMPRODUCT((Projects!$A$5:$A$2413='Local Detail'!$G$3)*(Projects!$C$5:$C$2413<>'MDOT FTA Detail'!$C$4)*(Projects!$L$5:$L$2413='Local Detail'!$A30)*(Projects!$J$5:$J$2413<>'Local Detail'!$A$147)*(Projects!$M$5:$M$2413)))+(SUMPRODUCT((Projects!$A$5:$A$2413='Local Detail'!$G$3)*(Projects!$C$5:$C$2413<>'MDOT FTA Detail'!$C$4)*(Projects!$L$5:$L$2413='Local Detail'!$A30)*(Projects!$J$5:$J$2413<>'Local Detail'!$A$147)*(Projects!$O$5:$O$2413))))","v":0},0,{"$f":"SUMPRODUCT((Projects!$A$5:$A$2413='Local Detail'!$J$3)*(Projects!$C$5:$C$2413<>'MDOT FTA Detail'!$C$4)*(Projects!$L$5:$L$2413='Local Detail'!$A30)*(Projects!$K$5:$K$2413))","v":0},{"$f":"((SUMPRODUCT((Projects!$A$5:$A$2413='Local Detail'!$J$3)*(Projects!$C$5:$C$2413<>'MDOT FTA Detail'!$C$4)*(Projects!$L$5:$L$2413='Local Detail'!$A30)*(Projects!$J$5:$J$2413<>'Local Detail'!$A$147)*(Projects!$M$5:$M$2413)))+(SUMPRODUCT((Projects!$A$5:$A$2413='Local Detail'!$J$3)*(Projects!$C$5:$C$2413<>'MDOT FTA Detail'!$C$4)*(Projects!$L$5:$L$2413='Local Detail'!$A30)*(Projects!$J$5:$J$2413<>'Local Detail'!$A$147)*(Projects!$O$5:$O$2413))))","v":0},0,{"$f":"SUMPRODUCT((Projects!$A$5:$A$2413='Local Detail'!$M$3)*(Projects!$C$5:$C$2413<>'MDOT FTA Detail'!$C$4)*(Projects!$L$5:$L$2413='Local Detail'!$A30)*(Projects!$K$5:$K$2413))","v":0},{"$f":"((SUMPRODUCT((Projects!$A$5:$A$2413='Local Detail'!$M$3)*(Projects!$C$5:$C$2413<>'MDOT FTA Detail'!$C$4)*(Projects!$L$5:$L$2413='Local Detail'!$A30)*(Projects!$J$5:$J$2413<>'Local Detail'!$A$147)*(Projects!$M$5:$M$2413)))+(SUMPRODUCT((Projects!$A$5:$A$2413='Local Detail'!$M$3)*(Projects!$C$5:$C$2413<>'MDOT FTA Detail'!$C$4)*(Projects!$L$5:$L$2413='Local Detail'!$A30)*(Projects!$J$5:$J$2413<>'Local Detail'!$A$147)*(Projects!$O$5:$O$2413))))","v":0},0]
["DST","Donor Bonus Surface Transportation","Local EB",{"$f":"SUMPRODUCT((Projects!$A$5:$A$2413='Local Detail'!$D$3)*(Projects!$C$5:$C$2413<>'MDOT FTA Detail'!$C$4)*(Projects!$L$5:$L$2413='Local Detail'!$A31)*(Projects!$K$5:$K$2413))","v":0},{"$f":"((SUMPRODUCT((Projects!$A$5:$A$2413='Local Detail'!$D$3)*(Projects!$C$5:$C$2413<>'MDOT FTA Detail'!$C$4)*(Projects!$L$5:$L$2413='Local Detail'!$A31)*(Projects!$J$5:$J$2413<>'Local Detail'!$A$147)*(Projects!$M$5:$M$2413)))+(SUMPRODUCT((Projects!$A$5:$A$2413='Local Detail'!$D$3)*(Projects!$C$5:$C$2413<>'MDOT FTA Detail'!$C$4)*(Projects!$L$5:$L$2413='Local Detail'!$A31)*(Projects!$J$5:$J$2413<>'Local Detail'!$A$147)*(Projects!$O$5:$O$2413))))","v":0},0,{"$f":"SUMPRODUCT((Projects!$A$5:$A$2413='Local Detail'!$G$3)*(Projects!$C$5:$C$2413<>'MDOT FTA Detail'!$C$4)*(Projects!$L$5:$L$2413='Local Detail'!$A31)*(Projects!$K$5:$K$2413))","v":0},{"$f":"((SUMPRODUCT((Projects!$A$5:$A$2413='Local Detail'!$G$3)*(Projects!$C$5:$C$2413<>'MDOT FTA Detail'!$C$4)*(Projects!$L$5:$L$2413='Local Detail'!$A31)*(Projects!$J$5:$J$2413<>'Local Detail'!$A$147)*(Projects!$M$5:$M$2413)))+(SUMPRODUCT((Projects!$A$5:$A$2413='Local Detail'!$G$3)*(Projects!$C$5:$C$2413<>'MDOT FTA Detail'!$C$4)*(Projects!$L$5:$L$2413='Local Detail'!$A31)*(Projects!$J$5:$J$2413<>'Local Detail'!$A$147)*(Projects!$O$5:$O$2413))))","v":0},0,{"$f":"SUMPRODUCT((Projects!$A$5:$A$2413='Local Detail'!$J$3)*(Projects!$C$5:$C$2413<>'MDOT FTA Detail'!$C$4)*(Projects!$L$5:$L$2413='Local Detail'!$A31)*(Projects!$K$5:$K$2413))","v":0},{"$f":"((SUMPRODUCT((Projects!$A$5:$A$2413='Local Detail'!$J$3)*(Projects!$C$5:$C$2413<>'MDOT FTA Detail'!$C$4)*(Projects!$L$5:$L$2413='Local Detail'!$A31)*(Projects!$J$5:$J$2413<>'Local Detail'!$A$147)*(Projects!$M$5:$M$2413)))+(SUMPRODUCT((Projects!$A$5:$A$2413='Local Detail'!$J$3)*(Projects!$C$5:$C$2413<>'MDOT FTA Detail'!$C$4)*(Projects!$L$5:$L$2413='Local Detail'!$A31)*(Projects!$J$5:$J$2413<>'Local Detail'!$A$147)*(Projects!$O$5:$O$2413))))","v":0},0,{"$f":"SUMPRODUCT((Projects!$A$5:$A$2413='Local Detail'!$M$3)*(Projects!$C$5:$C$2413<>'MDOT FTA Detail'!$C$4)*(Projects!$L$5:$L$2413='Local Detail'!$A31)*(Projects!$K$5:$K$2413))","v":0},{"$f":"((SUMPRODUCT((Projects!$A$5:$A$2413='Local Detail'!$M$3)*(Projects!$C$5:$C$2413<>'MDOT FTA Detail'!$C$4)*(Projects!$L$5:$L$2413='Local Detail'!$A31)*(Projects!$J$5:$J$2413<>'Local Detail'!$A$147)*(Projects!$M$5:$M$2413)))+(SUMPRODUCT((Projects!$A$5:$A$2413='Local Detail'!$M$3)*(Projects!$C$5:$C$2413<>'MDOT FTA Detail'!$C$4)*(Projects!$L$5:$L$2413='Local Detail'!$A31)*(Projects!$J$5:$J$2413<>'Local Detail'!$A$147)*(Projects!$O$5:$O$2413))))","v":0},0]
["DSTU","Donor Bonus Surface Transportation - (Urban > 2499,000)","Local EB",{"$f":"SUMPRODUCT((Projects!$A$5:$A$2413='Local Detail'!$D$3)*(Projects!$C$5:$C$2413<>'MDOT FTA Detail'!$C$4)*(Projects!$L$5:$L$2413='Local Detail'!$A32)*(Projects!$K$5:$K$2413))","v":0},{"$f":"((SUMPRODUCT((Projects!$A$5:$A$2413='Local Detail'!$D$3)*(Projects!$C$5:$C$2413<>'MDOT FTA Detail'!$C$4)*(Projects!$L$5:$L$2413='Local Detail'!$A32)*(Projects!$J$5:$J$2413<>'Local Detail'!$A$147)*(Projects!$M$5:$M$2413)))+(SUMPRODUCT((Projects!$A$5:$A$2413='Local Detail'!$D$3)*(Projects!$C$5:$C$2413<>'MDOT FTA Detail'!$C$4)*(Projects!$L$5:$L$2413='Local Detail'!$A32)*(Projects!$J$5:$J$2413<>'Local Detail'!$A$147)*(Projects!$O$5:$O$2413))))","v":0},0,{"$f":"SUMPRODUCT((Projects!$A$5:$A$2413='Local Detail'!$G$3)*(Projects!$C$5:$C$2413<>'MDOT FTA Detail'!$C$4)*(Projects!$L$5:$L$2413='Local Detail'!$A32)*(Projects!$K$5:$K$2413))","v":0},{"$f":"((SUMPRODUCT((Projects!$A$5:$A$2413='Local Detail'!$G$3)*(Projects!$C$5:$C$2413<>'MDOT FTA Detail'!$C$4)*(Projects!$L$5:$L$2413='Local Detail'!$A32)*(Projects!$J$5:$J$2413<>'Local Detail'!$A$147)*(Projects!$M$5:$M$2413)))+(SUMPRODUCT((Projects!$A$5:$A$2413='Local Detail'!$G$3)*(Projects!$C$5:$C$2413<>'MDOT FTA Detail'!$C$4)*(Projects!$L$5:$L$2413='Local Detail'!$A32)*(Projects!$J$5:$J$2413<>'Local Detail'!$A$147)*(Projects!$O$5:$O$2413))))","v":0},0,{"$f":"SUMPRODUCT((Projects!$A$5:$A$2413='Local Detail'!$J$3)*(Projects!$C$5:$C$2413<>'MDOT FTA Detail'!$C$4)*(Projects!$L$5:$L$2413='Local Detail'!$A32)*(Projects!$K$5:$K$2413))","v":0},{"$f":"((SUMPRODUCT((Projects!$A$5:$A$2413='Local Detail'!$J$3)*(Projects!$C$5:$C$2413<>'MDOT FTA Detail'!$C$4)*(Projects!$L$5:$L$2413='Local Detail'!$A32)*(Projects!$J$5:$J$2413<>'Local Detail'!$A$147)*(Projects!$M$5:$M$2413)))+(SUMPRODUCT((Projects!$A$5:$A$2413='Local Detail'!$J$3)*(Projects!$C$5:$C$2413<>'MDOT FTA Detail'!$C$4)*(Projects!$L$5:$L$2413='Local Detail'!$A32)*(Projects!$J$5:$J$2413<>'Local Detail'!$A$147)*(Projects!$O$5:$O$2413))))","v":0},0,{"$f":"SUMPRODUCT((Projects!$A$5:$A$2413='Local Detail'!$M$3)*(Projects!$C$5:$C$2413<>'MDOT FTA Detail'!$C$4)*(Projects!$L$5:$L$2413='Local Detail'!$A32)*(Projects!$K$5:$K$2413))","v":0},{"$f":"((SUMPRODUCT((Projects!$A$5:$A$2413='Local Detail'!$M$3)*(Projects!$C$5:$C$2413<>'MDOT FTA Detail'!$C$4)*(Projects!$L$5:$L$2413='Local Detail'!$A32)*(Projects!$J$5:$J$2413<>'Local Detail'!$A$147)*(Projects!$M$5:$M$2413)))+(SUMPRODUCT((Projects!$A$5:$A$2413='Local Detail'!$M$3)*(Projects!$C$5:$C$2413<>'MDOT FTA Detail'!$C$4)*(Projects!$L$5:$L$2413='Local Detail'!$A32)*(Projects!$J$5:$J$2413<>'Local Detail'!$A$147)*(Projects!$O$5:$O$2413))))","v":0},0]
["DSTT","Donor Bonus Surface Transportation - Rural - Trunkline","Local EB",{"$f":"SUMPRODUCT((Projects!$A$5:$A$2413='Local Detail'!$D$3)*(Projects!$C$5:$C$2413<>'MDOT FTA Detail'!$C$4)*(Projects!$L$5:$L$2413='Local Detail'!$A33)*(Projects!$K$5:$K$2413))","v":0},{"$f":"((SUMPRODUCT((Projects!$A$5:$A$2413='Local Detail'!$D$3)*(Projects!$C$5:$C$2413<>'MDOT FTA Detail'!$C$4)*(Projects!$L$5:$L$2413='Local Detail'!$A33)*(Projects!$J$5:$J$2413<>'Local Detail'!$A$147)*(Projects!$M$5:$M$2413)))+(SUMPRODUCT((Projects!$A$5:$A$2413='Local Detail'!$D$3)*(Projects!$C$5:$C$2413<>'MDOT FTA Detail'!$C$4)*(Projects!$L$5:$L$2413='Local Detail'!$A33)*(Projects!$J$5:$J$2413<>'Local Detail'!$A$147)*(Projects!$O$5:$O$2413))))","v":0},0,{"$f":"SUMPRODUCT((Projects!$A$5:$A$2413='Local Detail'!$G$3)*(Projects!$C$5:$C$2413<>'MDOT FTA Detail'!$C$4)*(Projects!$L$5:$L$2413='Local Detail'!$A33)*(Projects!$K$5:$K$2413))","v":0},{"$f":"((SUMPRODUCT((Projects!$A$5:$A$2413='Local Detail'!$G$3)*(Projects!$C$5:$C$2413<>'MDOT FTA Detail'!$C$4)*(Projects!$L$5:$L$2413='Local Detail'!$A33)*(Projects!$J$5:$J$2413<>'Local Detail'!$A$147)*(Projects!$M$5:$M$2413)))+(SUMPRODUCT((Projects!$A$5:$A$2413='Local Detail'!$G$3)*(Projects!$C$5:$C$2413<>'MDOT FTA Detail'!$C$4)*(Projects!$L$5:$L$2413='Local Detail'!$A33)*(Projects!$J$5:$J$2413<>'Local Detail'!$A$147)*(Projects!$O$5:$O$2413))))","v":0},0,{"$f":"SUMPRODUCT((Projects!$A$5:$A$2413='Local Detail'!$J$3)*(Projects!$C$5:$C$2413<>'MDOT FTA Detail'!$C$4)*(Projects!$L$5:$L$2413='Local Detail'!$A33)*(Projects!$K$5:$K$2413))","v":0},{"$f":"((SUMPRODUCT((Projects!$A$5:$A$2413='Local Detail'!$J$3)*(Projects!$C$5:$C$2413<>'MDOT FTA Detail'!$C$4)*(Projects!$L$5:$L$2413='Local Detail'!$A33)*(Projects!$J$5:$J$2413<>'Local Detail'!$A$147)*(Projects!$M$5:$M$2413)))+(SUMPRODUCT((Projects!$A$5:$A$2413='Local Detail'!$J$3)*(Projects!$C$5:$C$2413<>'MDOT FTA Detail'!$C$4)*(Projects!$L$5:$L$2413='Local Detail'!$A33)*(Projects!$J$5:$J$2413<>'Local Detail'!$A$147)*(Projects!$O$5:$O$2413))))","v":0},0,{"$f":"SUMPRODUCT((Projects!$A$5:$A$2413='Local Detail'!$M$3)*(Projects!$C$5:$C$2413<>'MDOT FTA Detail'!$C$4)*(Projects!$L$5:$L$2413='Local Detail'!$A33)*(Projects!$K$5:$K$2413))","v":0},{"$f":"((SUMPRODUCT((Projects!$A$5:$A$2413='Local Detail'!$M$3)*(Projects!$C$5:$C$2413<>'MDOT FTA Detail'!$C$4)*(Projects!$L$5:$L$2413='Local Detail'!$A33)*(Projects!$J$5:$J$2413<>'Local Detail'!$A$147)*(Projects!$M$5:$M$2413)))+(SUMPRODUCT((Projects!$A$5:$A$2413='Local Detail'!$M$3)*(Projects!$C$5:$C$2413<>'MDOT FTA Detail'!$C$4)*(Projects!$L$5:$L$2413='Local Detail'!$A33)*(Projects!$J$5:$J$2413<>'Local Detail'!$A$147)*(Projects!$O$5:$O$2413))))","v":0},0]
["EBSL","Equity Bonus - SAFETEA-LU","Local EB",{"$f":"SUMPRODUCT((Projects!$A$5:$A$2413='Local Detail'!$D$3)*(Projects!$C$5:$C$2413<>'MDOT FTA Detail'!$C$4)*(Projects!$L$5:$L$2413='Local Detail'!$A34)*(Projects!$K$5:$K$2413))","v":0},{"$f":"((SUMPRODUCT((Projects!$A$5:$A$2413='Local Detail'!$D$3)*(Projects!$C$5:$C$2413<>'MDOT FTA Detail'!$C$4)*(Projects!$L$5:$L$2413='Local Detail'!$A34)*(Projects!$J$5:$J$2413<>'Local Detail'!$A$147)*(Projects!$M$5:$M$2413)))+(SUMPRODUCT((Projects!$A$5:$A$2413='Local Detail'!$D$3)*(Projects!$C$5:$C$2413<>'MDOT FTA Detail'!$C$4)*(Projects!$L$5:$L$2413='Local Detail'!$A34)*(Projects!$J$5:$J$2413<>'Local Detail'!$A$147)*(Projects!$O$5:$O$2413))))","v":0},0,{"$f":"SUMPRODUCT((Projects!$A$5:$A$2413='Local Detail'!$G$3)*(Projects!$C$5:$C$2413<>'MDOT FTA Detail'!$C$4)*(Projects!$L$5:$L$2413='Local Detail'!$A34)*(Projects!$K$5:$K$2413))","v":0},{"$f":"((SUMPRODUCT((Projects!$A$5:$A$2413='Local Detail'!$G$3)*(Projects!$C$5:$C$2413<>'MDOT FTA Detail'!$C$4)*(Projects!$L$5:$L$2413='Local Detail'!$A34)*(Projects!$J$5:$J$2413<>'Local Detail'!$A$147)*(Projects!$M$5:$M$2413)))+(SUMPRODUCT((Projects!$A$5:$A$2413='Local Detail'!$G$3)*(Projects!$C$5:$C$2413<>'MDOT FTA Detail'!$C$4)*(Projects!$L$5:$L$2413='Local Detail'!$A34)*(Projects!$J$5:$J$2413<>'Local Detail'!$A$147)*(Projects!$O$5:$O$2413))))","v":0},0,{"$f":"SUMPRODUCT((Projects!$A$5:$A$2413='Local Detail'!$J$3)*(Projects!$C$5:$C$2413<>'MDOT FTA Detail'!$C$4)*(Projects!$L$5:$L$2413='Local Detail'!$A34)*(Projects!$K$5:$K$2413))","v":0},{"$f":"((SUMPRODUCT((Projects!$A$5:$A$2413='Local Detail'!$J$3)*(Projects!$C$5:$C$2413<>'MDOT FTA Detail'!$C$4)*(Projects!$L$5:$L$2413='Local Detail'!$A34)*(Projects!$J$5:$J$2413<>'Local Detail'!$A$147)*(Projects!$M$5:$M$2413)))+(SUMPRODUCT((Projects!$A$5:$A$2413='Local Detail'!$J$3)*(Projects!$C$5:$C$2413<>'MDOT FTA Detail'!$C$4)*(Projects!$L$5:$L$2413='Local Detail'!$A34)*(Projects!$J$5:$J$2413<>'Local Detail'!$A$147)*(Projects!$O$5:$O$2413))))","v":0},0,{"$f":"SUMPRODUCT((Projects!$A$5:$A$2413='Local Detail'!$M$3)*(Projects!$C$5:$C$2413<>'MDOT FTA Detail'!$C$4)*(Projects!$L$5:$L$2413='Local Detail'!$A34)*(Projects!$K$5:$K$2413))","v":0},{"$f":"((SUMPRODUCT((Projects!$A$5:$A$2413='Local Detail'!$M$3)*(Projects!$C$5:$C$2413<>'MDOT FTA Detail'!$C$4)*(Projects!$L$5:$L$2413='Local Detail'!$A34)*(Projects!$J$5:$J$2413<>'Local Detail'!$A$147)*(Projects!$M$5:$M$2413)))+(SUMPRODUCT((Projects!$A$5:$A$2413='Local Detail'!$M$3)*(Projects!$C$5:$C$2413<>'MDOT FTA Detail'!$C$4)*(Projects!$L$5:$L$2413='Local Detail'!$A34)*(Projects!$J$5:$J$2413<>'Local Detail'!$A$147)*(Projects!$O$5:$O$2413))))","v":0},0]
["EDAF","Economic Development - Category A with Federal Aid","Local EB",{"$f":"SUMPRODUCT((Projects!$A$5:$A$2413='Local Detail'!$D$3)*(Projects!$C$5:$C$2413<>'MDOT FTA Detail'!$C$4)*(Projects!$L$5:$L$2413='Local Detail'!$A35)*(Projects!$K$5:$K$2413))","v":0},{"$f":"((SUMPRODUCT((Projects!$A$5:$A$2413='Local Detail'!$D$3)*(Projects!$C$5:$C$2413<>'MDOT FTA Detail'!$C$4)*(Projects!$L$5:$L$2413='Local Detail'!$A35)*(Projects!$J$5:$J$2413<>'Local Detail'!$A$147)*(Projects!$M$5:$M$2413)))+(SUMPRODUCT((Projects!$A$5:$A$2413='Local Detail'!$D$3)*(Projects!$C$5:$C$2413<>'MDOT FTA Detail'!$C$4)*(Projects!$L$5:$L$2413='Local Detail'!$A35)*(Projects!$J$5:$J$2413<>'Local Detail'!$A$147)*(Projects!$O$5:$O$2413))))","v":0},0,{"$f":"SUMPRODUCT((Projects!$A$5:$A$2413='Local Detail'!$G$3)*(Projects!$C$5:$C$2413<>'MDOT FTA Detail'!$C$4)*(Projects!$L$5:$L$2413='Local Detail'!$A35)*(Projects!$K$5:$K$2413))","v":0},{"$f":"((SUMPRODUCT((Projects!$A$5:$A$2413='Local Detail'!$G$3)*(Projects!$C$5:$C$2413<>'MDOT FTA Detail'!$C$4)*(Projects!$L$5:$L$2413='Local Detail'!$A35)*(Projects!$J$5:$J$2413<>'Local Detail'!$A$147)*(Projects!$M$5:$M$2413)))+(SUMPRODUCT((Projects!$A$5:$A$2413='Local Detail'!$G$3)*(Projects!$C$5:$C$2413<>'MDOT FTA Detail'!$C$4)*(Projects!$L$5:$L$2413='Local Detail'!$A35)*(Projects!$J$5:$J$2413<>'Local Detail'!$A$147)*(Projects!$O$5:$O$2413))))","v":0},0,{"$f":"SUMPRODUCT((Projects!$A$5:$A$2413='Local Detail'!$J$3)*(Projects!$C$5:$C$2413<>'MDOT FTA Detail'!$C$4)*(Projects!$L$5:$L$2413='Local Detail'!$A35)*(Projects!$K$5:$K$2413))","v":0},{"$f":"((SUMPRODUCT((Projects!$A$5:$A$2413='Local Detail'!$J$3)*(Projects!$C$5:$C$2413<>'MDOT FTA Detail'!$C$4)*(Projects!$L$5:$L$2413='Local Detail'!$A35)*(Projects!$J$5:$J$2413<>'Local Detail'!$A$147)*(Projects!$M$5:$M$2413)))+(SUMPRODUCT((Projects!$A$5:$A$2413='Local Detail'!$J$3)*(Projects!$C$5:$C$2413<>'MDOT FTA Detail'!$C$4)*(Projects!$L$5:$L$2413='Local Detail'!$A35)*(Projects!$J$5:$J$2413<>'Local Detail'!$A$147)*(Projects!$O$5:$O$2413))))","v":0},0,{"$f":"SUMPRODUCT((Projects!$A$5:$A$2413='Local Detail'!$M$3)*(Projects!$C$5:$C$2413<>'MDOT FTA Detail'!$C$4)*(Projects!$L$5:$L$2413='Local Detail'!$A35)*(Projects!$K$5:$K$2413))","v":0},{"$f":"((SUMPRODUCT((Projects!$A$5:$A$2413='Local Detail'!$M$3)*(Projects!$C$5:$C$2413<>'MDOT FTA Detail'!$C$4)*(Projects!$L$5:$L$2413='Local Detail'!$A35)*(Projects!$J$5:$J$2413<>'Local Detail'!$A$147)*(Projects!$M$5:$M$2413)))+(SUMPRODUCT((Projects!$A$5:$A$2413='Local Detail'!$M$3)*(Projects!$C$5:$C$2413<>'MDOT FTA Detail'!$C$4)*(Projects!$L$5:$L$2413='Local Detail'!$A35)*(Projects!$J$5:$J$2413<>'Local Detail'!$A$147)*(Projects!$O$5:$O$2413))))","v":0},0]
["EDCF","Economic Development - Category C with Federal Aid","Local EB",{"$f":"SUMPRODUCT((Projects!$A$5:$A$2413='Local Detail'!$D$3)*(Projects!$C$5:$C$2413<>'MDOT FTA Detail'!$C$4)*(Projects!$L$5:$L$2413='Local Detail'!$A36)*(Projects!$K$5:$K$2413))","v":0},{"$f":"((SUMPRODUCT((Projects!$A$5:$A$2413='Local Detail'!$D$3)*(Projects!$C$5:$C$2413<>'MDOT FTA Detail'!$C$4)*(Projects!$L$5:$L$2413='Local Detail'!$A36)*(Projects!$J$5:$J$2413<>'Local Detail'!$A$147)*(Projects!$M$5:$M$2413)))+(SUMPRODUCT((Projects!$A$5:$A$2413='Local Detail'!$D$3)*(Projects!$C$5:$C$2413<>'MDOT FTA Detail'!$C$4)*(Projects!$L$5:$L$2413='Local Detail'!$A36)*(Projects!$J$5:$J$2413<>'Local Detail'!$A$147)*(Projects!$O$5:$O$2413))))","v":0},0,{"$f":"SUMPRODUCT((Projects!$A$5:$A$2413='Local Detail'!$G$3)*(Projects!$C$5:$C$2413<>'MDOT FTA Detail'!$C$4)*(Projects!$L$5:$L$2413='Local Detail'!$A36)*(Projects!$K$5:$K$2413))","v":0},{"$f":"((SUMPRODUCT((Projects!$A$5:$A$2413='Local Detail'!$G$3)*(Projects!$C$5:$C$2413<>'MDOT FTA Detail'!$C$4)*(Projects!$L$5:$L$2413='Local Detail'!$A36)*(Projects!$J$5:$J$2413<>'Local Detail'!$A$147)*(Projects!$M$5:$M$2413)))+(SUMPRODUCT((Projects!$A$5:$A$2413='Local Detail'!$G$3)*(Projects!$C$5:$C$2413<>'MDOT FTA Detail'!$C$4)*(Projects!$L$5:$L$2413='Local Detail'!$A36)*(Projects!$J$5:$J$2413<>'Local Detail'!$A$147)*(Projects!$O$5:$O$2413))))","v":0},0,{"$f":"SUMPRODUCT((Projects!$A$5:$A$2413='Local Detail'!$J$3)*(Projects!$C$5:$C$2413<>'MDOT FTA Detail'!$C$4)*(Projects!$L$5:$L$2413='Local Detail'!$A36)*(Projects!$K$5:$K$2413))","v":0},{"$f":"((SUMPRODUCT((Projects!$A$5:$A$2413='Local Detail'!$J$3)*(Projects!$C$5:$C$2413<>'MDOT FTA Detail'!$C$4)*(Projects!$L$5:$L$2413='Local Detail'!$A36)*(Projects!$J$5:$J$2413<>'Local Detail'!$A$147)*(Projects!$M$5:$M$2413)))+(SUMPRODUCT((Projects!$A$5:$A$2413='Local Detail'!$J$3)*(Projects!$C$5:$C$2413<>'MDOT FTA Detail'!$C$4)*(Projects!$L$5:$L$2413='Local Detail'!$A36)*(Projects!$J$5:$J$2413<>'Local Detail'!$A$147)*(Projects!$O$5:$O$2413))))","v":0},0,{"$f":"SUMPRODUCT((Projects!$A$5:$A$2413='Local Detail'!$M$3)*(Projects!$C$5:$C$2413<>'MDOT FTA Detail'!$C$4)*(Projects!$L$5:$L$2413='Local Detail'!$A36)*(Projects!$K$5:$K$2413))","v":0},{"$f":"((SUMPRODUCT((Projects!$A$5:$A$2413='Local Detail'!$M$3)*(Projects!$C$5:$C$2413<>'MDOT FTA Detail'!$C$4)*(Projects!$L$5:$L$2413='Local Detail'!$A36)*(Projects!$J$5:$J$2413<>'Local Detail'!$A$147)*(Projects!$M$5:$M$2413)))+(SUMPRODUCT((Projects!$A$5:$A$2413='Local Detail'!$M$3)*(Projects!$C$5:$C$2413<>'MDOT FTA Detail'!$C$4)*(Projects!$L$5:$L$2413='Local Detail'!$A36)*(Projects!$J$5:$J$2413<>'Local Detail'!$A$147)*(Projects!$O$5:$O$2413))))","v":0},0]
["EDDF","Economic Development - Category D with Federal Aid","Local EB",{"$f":"SUMPRODUCT((Projects!$A$5:$A$2413='Local Detail'!$D$3)*(Projects!$C$5:$C$2413<>'MDOT FTA Detail'!$C$4)*(Projects!$L$5:$L$2413='Local Detail'!$A37)*(Projects!$K$5:$K$2413))","v":0},{"$f":"((SUMPRODUCT((Projects!$A$5:$A$2413='Local Detail'!$D$3)*(Projects!$C$5:$C$2413<>'MDOT FTA Detail'!$C$4)*(Projects!$L$5:$L$2413='Local Detail'!$A37)*(Projects!$J$5:$J$2413<>'Local Detail'!$A$147)*(Projects!$M$5:$M$2413)))+(SUMPRODUCT((Projects!$A$5:$A$2413='Local Detail'!$D$3)*(Projects!$C$5:$C$2413<>'MDOT FTA Detail'!$C$4)*(Projects!$L$5:$L$2413='Local Detail'!$A37)*(Projects!$J$5:$J$2413<>'Local Detail'!$A$147)*(Projects!$O$5:$O$2413))))","v":0},0,{"$f":"SUMPRODUCT((Projects!$A$5:$A$2413='Local Detail'!$G$3)*(Projects!$C$5:$C$2413<>'MDOT FTA Detail'!$C$4)*(Projects!$L$5:$L$2413='Local Detail'!$A37)*(Projects!$K$5:$K$2413))","v":0},{"$f":"((SUMPRODUCT((Projects!$A$5:$A$2413='Local Detail'!$G$3)*(Projects!$C$5:$C$2413<>'MDOT FTA Detail'!$C$4)*(Projects!$L$5:$L$2413='Local Detail'!$A37)*(Projects!$J$5:$J$2413<>'Local Detail'!$A$147)*(Projects!$M$5:$M$2413)))+(SUMPRODUCT((Projects!$A$5:$A$2413='Local Detail'!$G$3)*(Projects!$C$5:$C$2413<>'MDOT FTA Detail'!$C$4)*(Projects!$L$5:$L$2413='Local Detail'!$A37)*(Projects!$J$5:$J$2413<>'Local Detail'!$A$147)*(Projects!$O$5:$O$2413))))","v":0},0,{"$f":"SUMPRODUCT((Projects!$A$5:$A$2413='Local Detail'!$J$3)*(Projects!$C$5:$C$2413<>'MDOT FTA Detail'!$C$4)*(Projects!$L$5:$L$2413='Local Detail'!$A37)*(Projects!$K$5:$K$2413))","v":0},{"$f":"((SUMPRODUCT((Projects!$A$5:$A$2413='Local Detail'!$J$3)*(Projects!$C$5:$C$2413<>'MDOT FTA Detail'!$C$4)*(Projects!$L$5:$L$2413='Local Detail'!$A37)*(Projects!$J$5:$J$2413<>'Local Detail'!$A$147)*(Projects!$M$5:$M$2413)))+(SUMPRODUCT((Projects!$A$5:$A$2413='Local Detail'!$J$3)*(Projects!$C$5:$C$2413<>'MDOT FTA Detail'!$C$4)*(Projects!$L$5:$L$2413='Local Detail'!$A37)*(Projects!$J$5:$J$2413<>'Local Detail'!$A$147)*(Projects!$O$5:$O$2413))))","v":0},0,{"$f":"SUMPRODUCT((Projects!$A$5:$A$2413='Local Detail'!$M$3)*(Projects!$C$5:$C$2413<>'MDOT FTA Detail'!$C$4)*(Projects!$L$5:$L$2413='Local Detail'!$A37)*(Projects!$K$5:$K$2413))","v":0},{"$f":"((SUMPRODUCT((Projects!$A$5:$A$2413='Local Detail'!$M$3)*(Projects!$C$5:$C$2413<>'MDOT FTA Detail'!$C$4)*(Projects!$L$5:$L$2413='Local Detail'!$A37)*(Projects!$J$5:$J$2413<>'Local Detail'!$A$147)*(Projects!$M$5:$M$2413)))+(SUMPRODUCT((Projects!$A$5:$A$2413='Local Detail'!$M$3)*(Projects!$C$5:$C$2413<>'MDOT FTA Detail'!$C$4)*(Projects!$L$5:$L$2413='Local Detail'!$A37)*(Projects!$J$5:$J$2413<>'Local Detail'!$A$147)*(Projects!$O$5:$O$2413))))","v":0},0]
["EDFF","Economic Development - Category F with Federal Aid","Local EB",{"$f":"SUMPRODUCT((Projects!$A$5:$A$2413='Local Detail'!$D$3)*(Projects!$C$5:$C$2413<>'MDOT FTA Detail'!$C$4)*(Projects!$L$5:$L$2413='Local Detail'!$A38)*(Projects!$K$5:$K$2413))","v":0},{"$f":"((SUMPRODUCT((Projects!$A$5:$A$2413='Local Detail'!$D$3)*(Projects!$C$5:$C$2413<>'MDOT FTA Detail'!$C$4)*(Projects!$L$5:$L$2413='Local Detail'!$A38)*(Projects!$J$5:$J$2413<>'Local Detail'!$A$147)*(Projects!$M$5:$M$2413)))+(SUMPRODUCT((Projects!$A$5:$A$2413='Local Detail'!$D$3)*(Projects!$C$5:$C$2413<>'MDOT FTA Detail'!$C$4)*(Projects!$L$5:$L$2413='Local Detail'!$A38)*(Projects!$J$5:$J$2413<>'Local Detail'!$A$147)*(Projects!$O$5:$O$2413))))","v":0},0,{"$f":"SUMPRODUCT((Projects!$A$5:$A$2413='Local Detail'!$G$3)*(Projects!$C$5:$C$2413<>'MDOT FTA Detail'!$C$4)*(Projects!$L$5:$L$2413='Local Detail'!$A38)*(Projects!$K$5:$K$2413))","v":0},{"$f":"((SUMPRODUCT((Projects!$A$5:$A$2413='Local Detail'!$G$3)*(Projects!$C$5:$C$2413<>'MDOT FTA Detail'!$C$4)*(Projects!$L$5:$L$2413='Local Detail'!$A38)*(Projects!$J$5:$J$2413<>'Local Detail'!$A$147)*(Projects!$M$5:$M$2413)))+(SUMPRODUCT((Projects!$A$5:$A$2413='Local Detail'!$G$3)*(Projects!$C$5:$C$2413<>'MDOT FTA Detail'!$C$4)*(Projects!$L$5:$L$2413='Local Detail'!$A38)*(Projects!$J$5:$J$2413<>'Local Detail'!$A$147)*(Projects!$O$5:$O$2413))))","v":0},0,{"$f":"SUMPRODUCT((Projects!$A$5:$A$2413='Local Detail'!$J$3)*(Projects!$C$5:$C$2413<>'MDOT FTA Detail'!$C$4)*(Projects!$L$5:$L$2413='Local Detail'!$A38)*(Projects!$K$5:$K$2413))","v":0},{"$f":"((SUMPRODUCT((Projects!$A$5:$A$2413='Local Detail'!$J$3)*(Projects!$C$5:$C$2413<>'MDOT FTA Detail'!$C$4)*(Projects!$L$5:$L$2413='Local Detail'!$A38)*(Projects!$J$5:$J$2413<>'Local Detail'!$A$147)*(Projects!$M$5:$M$2413)))+(SUMPRODUCT((Projects!$A$5:$A$2413='Local Detail'!$J$3)*(Projects!$C$5:$C$2413<>'MDOT FTA Detail'!$C$4)*(Projects!$L$5:$L$2413='Local Detail'!$A38)*(Projects!$J$5:$J$2413<>'Local Detail'!$A$147)*(Projects!$O$5:$O$2413))))","v":0},0,{"$f":"SUMPRODUCT((Projects!$A$5:$A$2413='Local Detail'!$M$3)*(Projects!$C$5:$C$2413<>'MDOT FTA Detail'!$C$4)*(Projects!$L$5:$L$2413='Local Detail'!$A38)*(Projects!$K$5:$K$2413))","v":0},{"$f":"((SUMPRODUCT((Projects!$A$5:$A$2413='Local Detail'!$M$3)*(Projects!$C$5:$C$2413<>'MDOT FTA Detail'!$C$4)*(Projects!$L$5:$L$2413='Local Detail'!$A38)*(Projects!$J$5:$J$2413<>'Local Detail'!$A$147)*(Projects!$M$5:$M$2413)))+(SUMPRODUCT((Projects!$A$5:$A$2413='Local Detail'!$M$3)*(Projects!$C$5:$C$2413<>'MDOT FTA Detail'!$C$4)*(Projects!$L$5:$L$2413='Local Detail'!$A38)*(Projects!$J$5:$J$2413<>'Local Detail'!$A$147)*(Projects!$O$5:$O$2413))))","v":0},0]
["ER","Emergency Relief","Local Other FHWA",{"$f":"SUMPRODUCT((Projects!$A$5:$A$2413='Local Detail'!$D$3)*(Projects!$C$5:$C$2413<>'MDOT FTA Detail'!$C$4)*(Projects!$L$5:$L$2413='Local Detail'!$A39)*(Projects!$K$5:$K$2413))","v":0},{"$f":"((SUMPRODUCT((Projects!$A$5:$A$2413='Local Detail'!$D$3)*(Projects!$C$5:$C$2413<>'MDOT FTA Detail'!$C$4)*(Projects!$L$5:$L$2413='Local Detail'!$A39)*(Projects!$J$5:$J$2413<>'Local Detail'!$A$147)*(Projects!$M$5:$M$2413)))+(SUMPRODUCT((Projects!$A$5:$A$2413='Local Detail'!$D$3)*(Projects!$C$5:$C$2413<>'MDOT FTA Detail'!$C$4)*(Projects!$L$5:$L$2413='Local Detail'!$A39)*(Projects!$J$5:$J$2413<>'Local Detail'!$A$147)*(Projects!$O$5:$O$2413))))","v":0},0,{"$f":"SUMPRODUCT((Projects!$A$5:$A$2413='Local Detail'!$G$3)*(Projects!$C$5:$C$2413<>'MDOT FTA Detail'!$C$4)*(Projects!$L$5:$L$2413='Local Detail'!$A39)*(Projects!$K$5:$K$2413))","v":0},{"$f":"((SUMPRODUCT((Projects!$A$5:$A$2413='Local Detail'!$G$3)*(Projects!$C$5:$C$2413<>'MDOT FTA Detail'!$C$4)*(Projects!$L$5:$L$2413='Local Detail'!$A39)*(Projects!$J$5:$J$2413<>'Local Detail'!$A$147)*(Projects!$M$5:$M$2413)))+(SUMPRODUCT((Projects!$A$5:$A$2413='Local Detail'!$G$3)*(Projects!$C$5:$C$2413<>'MDOT FTA Detail'!$C$4)*(Projects!$L$5:$L$2413='Local Detail'!$A39)*(Projects!$J$5:$J$2413<>'Local Detail'!$A$147)*(Projects!$O$5:$O$2413))))","v":0},0,{"$f":"SUMPRODUCT((Projects!$A$5:$A$2413='Local Detail'!$J$3)*(Projects!$C$5:$C$2413<>'MDOT FTA Detail'!$C$4)*(Projects!$L$5:$L$2413='Local Detail'!$A39)*(Projects!$K$5:$K$2413))","v":0},{"$f":"((SUMPRODUCT((Projects!$A$5:$A$2413='Local Detail'!$J$3)*(Projects!$C$5:$C$2413<>'MDOT FTA Detail'!$C$4)*(Projects!$L$5:$L$2413='Local Detail'!$A39)*(Projects!$J$5:$J$2413<>'Local Detail'!$A$147)*(Projects!$M$5:$M$2413)))+(SUMPRODUCT((Projects!$A$5:$A$2413='Local Detail'!$J$3)*(Projects!$C$5:$C$2413<>'MDOT FTA Detail'!$C$4)*(Projects!$L$5:$L$2413='Local Detail'!$A39)*(Projects!$J$5:$J$2413<>'Local Detail'!$A$147)*(Projects!$O$5:$O$2413))))","v":0},0,{"$f":"SUMPRODUCT((Projects!$A$5:$A$2413='Local Detail'!$M$3)*(Projects!$C$5:$C$2413<>'MDOT FTA Detail'!$C$4)*(Projects!$L$5:$L$2413='Local Detail'!$A39)*(Projects!$K$5:$K$2413))","v":0},{"$f":"((SUMPRODUCT((Projects!$A$5:$A$2413='Local Detail'!$M$3)*(Projects!$C$5:$C$2413<>'MDOT FTA Detail'!$C$4)*(Projects!$L$5:$L$2413='Local Detail'!$A39)*(Projects!$J$5:$J$2413<>'Local Detail'!$A$147)*(Projects!$M$5:$M$2413)))+(SUMPRODUCT((Projects!$A$5:$A$2413='Local Detail'!$M$3)*(Projects!$C$5:$C$2413<>'MDOT FTA Detail'!$C$4)*(Projects!$L$5:$L$2413='Local Detail'!$A39)*(Projects!$J$5:$J$2413<>'Local Detail'!$A$147)*(Projects!$O$5:$O$2413))))","v":0},0]
["FBD","Ferry Boat & Terminal Discretionary","Local Other FHWA",{"$f":"SUMPRODUCT((Projects!$A$5:$A$2413='Local Detail'!$D$3)*(Projects!$C$5:$C$2413<>'MDOT FTA Detail'!$C$4)*(Projects!$L$5:$L$2413='Local Detail'!$A40)*(Projects!$K$5:$K$2413))","v":0},{"$f":"((SUMPRODUCT((Projects!$A$5:$A$2413='Local Detail'!$D$3)*(Projects!$C$5:$C$2413<>'MDOT FTA Detail'!$C$4)*(Projects!$L$5:$L$2413='Local Detail'!$A40)*(Projects!$J$5:$J$2413<>'Local Detail'!$A$147)*(Projects!$M$5:$M$2413)))+(SUMPRODUCT((Projects!$A$5:$A$2413='Local Detail'!$D$3)*(Projects!$C$5:$C$2413<>'MDOT FTA Detail'!$C$4)*(Projects!$L$5:$L$2413='Local Detail'!$A40)*(Projects!$J$5:$J$2413<>'Local Detail'!$A$147)*(Projects!$O$5:$O$2413))))","v":0},0,{"$f":"SUMPRODUCT((Projects!$A$5:$A$2413='Local Detail'!$G$3)*(Projects!$C$5:$C$2413<>'MDOT FTA Detail'!$C$4)*(Projects!$L$5:$L$2413='Local Detail'!$A40)*(Projects!$K$5:$K$2413))","v":0},{"$f":"((SUMPRODUCT((Projects!$A$5:$A$2413='Local Detail'!$G$3)*(Projects!$C$5:$C$2413<>'MDOT FTA Detail'!$C$4)*(Projects!$L$5:$L$2413='Local Detail'!$A40)*(Projects!$J$5:$J$2413<>'Local Detail'!$A$147)*(Projects!$M$5:$M$2413)))+(SUMPRODUCT((Projects!$A$5:$A$2413='Local Detail'!$G$3)*(Projects!$C$5:$C$2413<>'MDOT FTA Detail'!$C$4)*(Projects!$L$5:$L$2413='Local Detail'!$A40)*(Projects!$J$5:$J$2413<>'Local Detail'!$A$147)*(Projects!$O$5:$O$2413))))","v":0},0,{"$f":"SUMPRODUCT((Projects!$A$5:$A$2413='Local Detail'!$J$3)*(Projects!$C$5:$C$2413<>'MDOT FTA Detail'!$C$4)*(Projects!$L$5:$L$2413='Local Detail'!$A40)*(Projects!$K$5:$K$2413))","v":0},{"$f":"((SUMPRODUCT((Projects!$A$5:$A$2413='Local Detail'!$J$3)*(Projects!$C$5:$C$2413<>'MDOT FTA Detail'!$C$4)*(Projects!$L$5:$L$2413='Local Detail'!$A40)*(Projects!$J$5:$J$2413<>'Local Detail'!$A$147)*(Projects!$M$5:$M$2413)))+(SUMPRODUCT((Projects!$A$5:$A$2413='Local Detail'!$J$3)*(Projects!$C$5:$C$2413<>'MDOT FTA Detail'!$C$4)*(Projects!$L$5:$L$2413='Local Detail'!$A40)*(Projects!$J$5:$J$2413<>'Local Detail'!$A$147)*(Projects!$O$5:$O$2413))))","v":0},0,{"$f":"SUMPRODUCT((Projects!$A$5:$A$2413='Local Detail'!$M$3)*(Projects!$C$5:$C$2413<>'MDOT FTA Detail'!$C$4)*(Projects!$L$5:$L$2413='Local Detail'!$A40)*(Projects!$K$5:$K$2413))","v":0},{"$f":"((SUMPRODUCT((Projects!$A$5:$A$2413='Local Detail'!$M$3)*(Projects!$C$5:$C$2413<>'MDOT FTA Detail'!$C$4)*(Projects!$L$5:$L$2413='Local Detail'!$A40)*(Projects!$J$5:$J$2413<>'Local Detail'!$A$147)*(Projects!$M$5:$M$2413)))+(SUMPRODUCT((Projects!$A$5:$A$2413='Local Detail'!$M$3)*(Projects!$C$5:$C$2413<>'MDOT FTA Detail'!$C$4)*(Projects!$L$5:$L$2413='Local Detail'!$A40)*(Projects!$J$5:$J$2413<>'Local Detail'!$A$147)*(Projects!$O$5:$O$2413))))","v":0},0]
["FFH","Federal Forest Highway","Local Other FHWA",{"$f":"SUMPRODUCT((Projects!$A$5:$A$2413='Local Detail'!$D$3)*(Projects!$C$5:$C$2413<>'MDOT FTA Detail'!$C$4)*(Projects!$L$5:$L$2413='Local Detail'!$A41)*(Projects!$K$5:$K$2413))","v":0},{"$f":"((SUMPRODUCT((Projects!$A$5:$A$2413='Local Detail'!$D$3)*(Projects!$C$5:$C$2413<>'MDOT FTA Detail'!$C$4)*(Projects!$L$5:$L$2413='Local Detail'!$A41)*(Projects!$J$5:$J$2413<>'Local Detail'!$A$147)*(Projects!$M$5:$M$2413)))+(SUMPRODUCT((Projects!$A$5:$A$2413='Local Detail'!$D$3)*(Projects!$C$5:$C$2413<>'MDOT FTA Detail'!$C$4)*(Projects!$L$5:$L$2413='Local Detail'!$A41)*(Projects!$J$5:$J$2413<>'Local Detail'!$A$147)*(Projects!$O$5:$O$2413))))","v":0},0,{"$f":"SUMPRODUCT((Projects!$A$5:$A$2413='Local Detail'!$G$3)*(Projects!$C$5:$C$2413<>'MDOT FTA Detail'!$C$4)*(Projects!$L$5:$L$2413='Local Detail'!$A41)*(Projects!$K$5:$K$2413))","v":0},{"$f":"((SUMPRODUCT((Projects!$A$5:$A$2413='Local Detail'!$G$3)*(Projects!$C$5:$C$2413<>'MDOT FTA Detail'!$C$4)*(Projects!$L$5:$L$2413='Local Detail'!$A41)*(Projects!$J$5:$J$2413<>'Local Detail'!$A$147)*(Projects!$M$5:$M$2413)))+(SUMPRODUCT((Projects!$A$5:$A$2413='Local Detail'!$G$3)*(Projects!$C$5:$C$2413<>'MDOT FTA Detail'!$C$4)*(Projects!$L$5:$L$2413='Local Detail'!$A41)*(Projects!$J$5:$J$2413<>'Local Detail'!$A$147)*(Projects!$O$5:$O$2413))))","v":0},0,{"$f":"SUMPRODUCT((Projects!$A$5:$A$2413='Local Detail'!$J$3)*(Projects!$C$5:$C$2413<>'MDOT FTA Detail'!$C$4)*(Projects!$L$5:$L$2413='Local Detail'!$A41)*(Projects!$K$5:$K$2413))","v":0},{"$f":"((SUMPRODUCT((Projects!$A$5:$A$2413='Local Detail'!$J$3)*(Projects!$C$5:$C$2413<>'MDOT FTA Detail'!$C$4)*(Projects!$L$5:$L$2413='Local Detail'!$A41)*(Projects!$J$5:$J$2413<>'Local Detail'!$A$147)*(Projects!$M$5:$M$2413)))+(SUMPRODUCT((Projects!$A$5:$A$2413='Local Detail'!$J$3)*(Projects!$C$5:$C$2413<>'MDOT FTA Detail'!$C$4)*(Projects!$L$5:$L$2413='Local Detail'!$A41)*(Projects!$J$5:$J$2413<>'Local Detail'!$A$147)*(Projects!$O$5:$O$2413))))","v":0},0,{"$f":"SUMPRODUCT((Projects!$A$5:$A$2413='Local Detail'!$M$3)*(Projects!$C$5:$C$2413<>'MDOT FTA Detail'!$C$4)*(Projects!$L$5:$L$2413='Local Detail'!$A41)*(Projects!$K$5:$K$2413))","v":0},{"$f":"((SUMPRODUCT((Projects!$A$5:$A$2413='Local Detail'!$M$3)*(Projects!$C$5:$C$2413<>'MDOT FTA Detail'!$C$4)*(Projects!$L$5:$L$2413='Local Detail'!$A41)*(Projects!$J$5:$J$2413<>'Local Detail'!$A$147)*(Projects!$M$5:$M$2413)))+(SUMPRODUCT((Projects!$A$5:$A$2413='Local Detail'!$M$3)*(Projects!$C$5:$C$2413<>'MDOT FTA Detail'!$C$4)*(Projects!$L$5:$L$2413='Local Detail'!$A41)*(Projects!$J$5:$J$2413<>'Local Detail'!$A$147)*(Projects!$O$5:$O$2413))))","v":0},0]
["FLAP","Federal Lands Access Program","Local Other FHWA",{"$f":"SUMPRODUCT((Projects!$A$5:$A$2413='Local Detail'!$D$3)*(Projects!$C$5:$C$2413<>'MDOT FTA Detail'!$C$4)*(Projects!$L$5:$L$2413='Local Detail'!$A42)*(Projects!$K$5:$K$2413))","v":0},{"$f":"((SUMPRODUCT((Projects!$A$5:$A$2413='Local Detail'!$D$3)*(Projects!$C$5:$C$2413<>'MDOT FTA Detail'!$C$4)*(Projects!$L$5:$L$2413='Local Detail'!$A42)*(Projects!$J$5:$J$2413<>'Local Detail'!$A$147)*(Projects!$M$5:$M$2413)))+(SUMPRODUCT((Projects!$A$5:$A$2413='Local Detail'!$D$3)*(Projects!$C$5:$C$2413<>'MDOT FTA Detail'!$C$4)*(Projects!$L$5:$L$2413='Local Detail'!$A42)*(Projects!$J$5:$J$2413<>'Local Detail'!$A$147)*(Projects!$O$5:$O$2413))))","v":0},0,{"$f":"SUMPRODUCT((Projects!$A$5:$A$2413='Local Detail'!$G$3)*(Projects!$C$5:$C$2413<>'MDOT FTA Detail'!$C$4)*(Projects!$L$5:$L$2413='Local Detail'!$A42)*(Projects!$K$5:$K$2413))","v":0},{"$f":"((SUMPRODUCT((Projects!$A$5:$A$2413='Local Detail'!$G$3)*(Projects!$C$5:$C$2413<>'MDOT FTA Detail'!$C$4)*(Projects!$L$5:$L$2413='Local Detail'!$A42)*(Projects!$J$5:$J$2413<>'Local Detail'!$A$147)*(Projects!$M$5:$M$2413)))+(SUMPRODUCT((Projects!$A$5:$A$2413='Local Detail'!$G$3)*(Projects!$C$5:$C$2413<>'MDOT FTA Detail'!$C$4)*(Projects!$L$5:$L$2413='Local Detail'!$A42)*(Projects!$J$5:$J$2413<>'Local Detail'!$A$147)*(Projects!$O$5:$O$2413))))","v":0},0,{"$f":"SUMPRODUCT((Projects!$A$5:$A$2413='Local Detail'!$J$3)*(Projects!$C$5:$C$2413<>'MDOT FTA Detail'!$C$4)*(Projects!$L$5:$L$2413='Local Detail'!$A42)*(Projects!$K$5:$K$2413))","v":0},{"$f":"((SUMPRODUCT((Projects!$A$5:$A$2413='Local Detail'!$J$3)*(Projects!$C$5:$C$2413<>'MDOT FTA Detail'!$C$4)*(Projects!$L$5:$L$2413='Local Detail'!$A42)*(Projects!$J$5:$J$2413<>'Local Detail'!$A$147)*(Projects!$M$5:$M$2413)))+(SUMPRODUCT((Projects!$A$5:$A$2413='Local Detail'!$J$3)*(Projects!$C$5:$C$2413<>'MDOT FTA Detail'!$C$4)*(Projects!$L$5:$L$2413='Local Detail'!$A42)*(Projects!$J$5:$J$2413<>'Local Detail'!$A$147)*(Projects!$O$5:$O$2413))))","v":0},0,{"$f":"SUMPRODUCT((Projects!$A$5:$A$2413='Local Detail'!$M$3)*(Projects!$C$5:$C$2413<>'MDOT FTA Detail'!$C$4)*(Projects!$L$5:$L$2413='Local Detail'!$A42)*(Projects!$K$5:$K$2413))","v":0},{"$f":"((SUMPRODUCT((Projects!$A$5:$A$2413='Local Detail'!$M$3)*(Projects!$C$5:$C$2413<>'MDOT FTA Detail'!$C$4)*(Projects!$L$5:$L$2413='Local Detail'!$A42)*(Projects!$J$5:$J$2413<>'Local Detail'!$A$147)*(Projects!$M$5:$M$2413)))+(SUMPRODUCT((Projects!$A$5:$A$2413='Local Detail'!$M$3)*(Projects!$C$5:$C$2413<>'MDOT FTA Detail'!$C$4)*(Projects!$L$5:$L$2413='Local Detail'!$A42)*(Projects!$J$5:$J$2413<>'Local Detail'!$A$147)*(Projects!$O$5:$O$2413))))","v":0},0]
["HBOA","Highway Bridge Obligation  Authority","Local Bridge",{"$f":"SUMPRODUCT((Projects!$A$5:$A$2413='Local Detail'!$D$3)*(Projects!$C$5:$C$2413<>'MDOT FTA Detail'!$C$4)*(Projects!$L$5:$L$2413='Local Detail'!$A43)*(Projects!$K$5:$K$2413))","v":0},{"$f":"((SUMPRODUCT((Projects!$A$5:$A$2413='Local Detail'!$D$3)*(Projects!$C$5:$C$2413<>'MDOT FTA Detail'!$C$4)*(Projects!$L$5:$L$2413='Local Detail'!$A43)*(Projects!$J$5:$J$2413<>'Local Detail'!$A$147)*(Projects!$M$5:$M$2413)))+(SUMPRODUCT((Projects!$A$5:$A$2413='Local Detail'!$D$3)*(Projects!$C$5:$C$2413<>'MDOT FTA Detail'!$C$4)*(Projects!$L$5:$L$2413='Local Detail'!$A43)*(Projects!$J$5:$J$2413<>'Local Detail'!$A$147)*(Projects!$O$5:$O$2413))))","v":0},0,{"$f":"SUMPRODUCT((Projects!$A$5:$A$2413='Local Detail'!$G$3)*(Projects!$C$5:$C$2413<>'MDOT FTA Detail'!$C$4)*(Projects!$L$5:$L$2413='Local Detail'!$A43)*(Projects!$K$5:$K$2413))","v":0},{"$f":"((SUMPRODUCT((Projects!$A$5:$A$2413='Local Detail'!$G$3)*(Projects!$C$5:$C$2413<>'MDOT FTA Detail'!$C$4)*(Projects!$L$5:$L$2413='Local Detail'!$A43)*(Projects!$J$5:$J$2413<>'Local Detail'!$A$147)*(Projects!$M$5:$M$2413)))+(SUMPRODUCT((Projects!$A$5:$A$2413='Local Detail'!$G$3)*(Projects!$C$5:$C$2413<>'MDOT FTA Detail'!$C$4)*(Projects!$L$5:$L$2413='Local Detail'!$A43)*(Projects!$J$5:$J$2413<>'Local Detail'!$A$147)*(Projects!$O$5:$O$2413))))","v":0},0,{"$f":"SUMPRODUCT((Projects!$A$5:$A$2413='Local Detail'!$J$3)*(Projects!$C$5:$C$2413<>'MDOT FTA Detail'!$C$4)*(Projects!$L$5:$L$2413='Local Detail'!$A43)*(Projects!$K$5:$K$2413))","v":0},{"$f":"((SUMPRODUCT((Projects!$A$5:$A$2413='Local Detail'!$J$3)*(Projects!$C$5:$C$2413<>'MDOT FTA Detail'!$C$4)*(Projects!$L$5:$L$2413='Local Detail'!$A43)*(Projects!$J$5:$J$2413<>'Local Detail'!$A$147)*(Projects!$M$5:$M$2413)))+(SUMPRODUCT((Projects!$A$5:$A$2413='Local Detail'!$J$3)*(Projects!$C$5:$C$2413<>'MDOT FTA Detail'!$C$4)*(Projects!$L$5:$L$2413='Local Detail'!$A43)*(Projects!$J$5:$J$2413<>'Local Detail'!$A$147)*(Projects!$O$5:$O$2413))))","v":0},0,{"$f":"SUMPRODUCT((Projects!$A$5:$A$2413='Local Detail'!$M$3)*(Projects!$C$5:$C$2413<>'MDOT FTA Detail'!$C$4)*(Projects!$L$5:$L$2413='Local Detail'!$A43)*(Projects!$K$5:$K$2413))","v":0},{"$f":"((SUMPRODUCT((Projects!$A$5:$A$2413='Local Detail'!$M$3)*(Projects!$C$5:$C$2413<>'MDOT FTA Detail'!$C$4)*(Projects!$L$5:$L$2413='Local Detail'!$A43)*(Projects!$J$5:$J$2413<>'Local Detail'!$A$147)*(Projects!$M$5:$M$2413)))+(SUMPRODUCT((Projects!$A$5:$A$2413='Local Detail'!$M$3)*(Projects!$C$5:$C$2413<>'MDOT FTA Detail'!$C$4)*(Projects!$L$5:$L$2413='Local Detail'!$A43)*(Projects!$J$5:$J$2413<>'Local Detail'!$A$147)*(Projects!$O$5:$O$2413))))","v":0},0]
["HPP","High Priority Projects (Demo)","Local Other FHWA",{"$f":"SUMPRODUCT((Projects!$A$5:$A$2413='Local Detail'!$D$3)*(Projects!$C$5:$C$2413<>'MDOT FTA Detail'!$C$4)*(Projects!$L$5:$L$2413='Local Detail'!$A44)*(Projects!$K$5:$K$2413))","v":0},{"$f":"((SUMPRODUCT((Projects!$A$5:$A$2413='Local Detail'!$D$3)*(Projects!$C$5:$C$2413<>'MDOT FTA Detail'!$C$4)*(Projects!$L$5:$L$2413='Local Detail'!$A44)*(Projects!$J$5:$J$2413<>'Local Detail'!$A$147)*(Projects!$M$5:$M$2413)))+(SUMPRODUCT((Projects!$A$5:$A$2413='Local Detail'!$D$3)*(Projects!$C$5:$C$2413<>'MDOT FTA Detail'!$C$4)*(Projects!$L$5:$L$2413='Local Detail'!$A44)*(Projects!$J$5:$J$2413<>'Local Detail'!$A$147)*(Projects!$O$5:$O$2413))))","v":0},0,{"$f":"SUMPRODUCT((Projects!$A$5:$A$2413='Local Detail'!$G$3)*(Projects!$C$5:$C$2413<>'MDOT FTA Detail'!$C$4)*(Projects!$L$5:$L$2413='Local Detail'!$A44)*(Projects!$K$5:$K$2413))","v":0},{"$f":"((SUMPRODUCT((Projects!$A$5:$A$2413='Local Detail'!$G$3)*(Projects!$C$5:$C$2413<>'MDOT FTA Detail'!$C$4)*(Projects!$L$5:$L$2413='Local Detail'!$A44)*(Projects!$J$5:$J$2413<>'Local Detail'!$A$147)*(Projects!$M$5:$M$2413)))+(SUMPRODUCT((Projects!$A$5:$A$2413='Local Detail'!$G$3)*(Projects!$C$5:$C$2413<>'MDOT FTA Detail'!$C$4)*(Projects!$L$5:$L$2413='Local Detail'!$A44)*(Projects!$J$5:$J$2413<>'Local Detail'!$A$147)*(Projects!$O$5:$O$2413))))","v":0},0,{"$f":"SUMPRODUCT((Projects!$A$5:$A$2413='Local Detail'!$J$3)*(Projects!$C$5:$C$2413<>'MDOT FTA Detail'!$C$4)*(Projects!$L$5:$L$2413='Local Detail'!$A44)*(Projects!$K$5:$K$2413))","v":0},{"$f":"((SUMPRODUCT((Projects!$A$5:$A$2413='Local Detail'!$J$3)*(Projects!$C$5:$C$2413<>'MDOT FTA Detail'!$C$4)*(Projects!$L$5:$L$2413='Local Detail'!$A44)*(Projects!$J$5:$J$2413<>'Local Detail'!$A$147)*(Projects!$M$5:$M$2413)))+(SUMPRODUCT((Projects!$A$5:$A$2413='Local Detail'!$J$3)*(Projects!$C$5:$C$2413<>'MDOT FTA Detail'!$C$4)*(Projects!$L$5:$L$2413='Local Detail'!$A44)*(Projects!$J$5:$J$2413<>'Local Detail'!$A$147)*(Projects!$O$5:$O$2413))))","v":0},0,{"$f":"SUMPRODUCT((Projects!$A$5:$A$2413='Local Detail'!$M$3)*(Projects!$C$5:$C$2413<>'MDOT FTA Detail'!$C$4)*(Projects!$L$5:$L$2413='Local Detail'!$A44)*(Projects!$K$5:$K$2413))","v":0},{"$f":"((SUMPRODUCT((Projects!$A$5:$A$2413='Local Detail'!$M$3)*(Projects!$C$5:$C$2413<>'MDOT FTA Detail'!$C$4)*(Projects!$L$5:$L$2413='Local Detail'!$A44)*(Projects!$J$5:$J$2413<>'Local Detail'!$A$147)*(Projects!$M$5:$M$2413)))+(SUMPRODUCT((Projects!$A$5:$A$2413='Local Detail'!$M$3)*(Projects!$C$5:$C$2413<>'MDOT FTA Detail'!$C$4)*(Projects!$L$5:$L$2413='Local Detail'!$A44)*(Projects!$J$5:$J$2413<>'Local Detail'!$A$147)*(Projects!$O$5:$O$2413))))","v":0},0]
["HPSL","High Priority Projects - SAFETEA-LU","Local Other FHWA",{"$f":"SUMPRODUCT((Projects!$A$5:$A$2413='Local Detail'!$D$3)*(Projects!$C$5:$C$2413<>'MDOT FTA Detail'!$C$4)*(Projects!$L$5:$L$2413='Local Detail'!$A45)*(Projects!$K$5:$K$2413))","v":0},{"$f":"((SUMPRODUCT((Projects!$A$5:$A$2413='Local Detail'!$D$3)*(Projects!$C$5:$C$2413<>'MDOT FTA Detail'!$C$4)*(Projects!$L$5:$L$2413='Local Detail'!$A45)*(Projects!$J$5:$J$2413<>'Local Detail'!$A$147)*(Projects!$M$5:$M$2413)))+(SUMPRODUCT((Projects!$A$5:$A$2413='Local Detail'!$D$3)*(Projects!$C$5:$C$2413<>'MDOT FTA Detail'!$C$4)*(Projects!$L$5:$L$2413='Local Detail'!$A45)*(Projects!$J$5:$J$2413<>'Local Detail'!$A$147)*(Projects!$O$5:$O$2413))))","v":0},0,{"$f":"SUMPRODUCT((Projects!$A$5:$A$2413='Local Detail'!$G$3)*(Projects!$C$5:$C$2413<>'MDOT FTA Detail'!$C$4)*(Projects!$L$5:$L$2413='Local Detail'!$A45)*(Projects!$K$5:$K$2413))","v":0},{"$f":"((SUMPRODUCT((Projects!$A$5:$A$2413='Local Detail'!$G$3)*(Projects!$C$5:$C$2413<>'MDOT FTA Detail'!$C$4)*(Projects!$L$5:$L$2413='Local Detail'!$A45)*(Projects!$J$5:$J$2413<>'Local Detail'!$A$147)*(Projects!$M$5:$M$2413)))+(SUMPRODUCT((Projects!$A$5:$A$2413='Local Detail'!$G$3)*(Projects!$C$5:$C$2413<>'MDOT FTA Detail'!$C$4)*(Projects!$L$5:$L$2413='Local Detail'!$A45)*(Projects!$J$5:$J$2413<>'Local Detail'!$A$147)*(Projects!$O$5:$O$2413))))","v":0},0,{"$f":"SUMPRODUCT((Projects!$A$5:$A$2413='Local Detail'!$J$3)*(Projects!$C$5:$C$2413<>'MDOT FTA Detail'!$C$4)*(Projects!$L$5:$L$2413='Local Detail'!$A45)*(Projects!$K$5:$K$2413))","v":0},{"$f":"((SUMPRODUCT((Projects!$A$5:$A$2413='Local Detail'!$J$3)*(Projects!$C$5:$C$2413<>'MDOT FTA Detail'!$C$4)*(Projects!$L$5:$L$2413='Local Detail'!$A45)*(Projects!$J$5:$J$2413<>'Local Detail'!$A$147)*(Projects!$M$5:$M$2413)))+(SUMPRODUCT((Projects!$A$5:$A$2413='Local Detail'!$J$3)*(Projects!$C$5:$C$2413<>'MDOT FTA Detail'!$C$4)*(Projects!$L$5:$L$2413='Local Detail'!$A45)*(Projects!$J$5:$J$2413<>'Local Detail'!$A$147)*(Projects!$O$5:$O$2413))))","v":0},0,{"$f":"SUMPRODUCT((Projects!$A$5:$A$2413='Local Detail'!$M$3)*(Projects!$C$5:$C$2413<>'MDOT FTA Detail'!$C$4)*(Projects!$L$5:$L$2413='Local Detail'!$A45)*(Projects!$K$5:$K$2413))","v":0},{"$f":"((SUMPRODUCT((Projects!$A$5:$A$2413='Local Detail'!$M$3)*(Projects!$C$5:$C$2413<>'MDOT FTA Detail'!$C$4)*(Projects!$L$5:$L$2413='Local Detail'!$A45)*(Projects!$J$5:$J$2413<>'Local Detail'!$A$147)*(Projects!$M$5:$M$2413)))+(SUMPRODUCT((Projects!$A$5:$A$2413='Local Detail'!$M$3)*(Projects!$C$5:$C$2413<>'MDOT FTA Detail'!$C$4)*(Projects!$L$5:$L$2413='Local Detail'!$A45)*(Projects!$J$5:$J$2413<>'Local Detail'!$A$147)*(Projects!$O$5:$O$2413))))","v":0},0]
["HRRR","High Risk Rural Roads - SAFETEA-LU","Local Safety",{"$f":"SUMPRODUCT((Projects!$A$5:$A$2413='Local Detail'!$D$3)*(Projects!$C$5:$C$2413<>'MDOT FTA Detail'!$C$4)*(Projects!$L$5:$L$2413='Local Detail'!$A46)*(Projects!$K$5:$K$2413))","v":0},{"$f":"((SUMPRODUCT((Projects!$A$5:$A$2413='Local Detail'!$D$3)*(Projects!$C$5:$C$2413<>'MDOT FTA Detail'!$C$4)*(Projects!$L$5:$L$2413='Local Detail'!$A46)*(Projects!$J$5:$J$2413<>'Local Detail'!$A$147)*(Projects!$M$5:$M$2413)))+(SUMPRODUCT((Projects!$A$5:$A$2413='Local Detail'!$D$3)*(Projects!$C$5:$C$2413<>'MDOT FTA Detail'!$C$4)*(Projects!$L$5:$L$2413='Local Detail'!$A46)*(Projects!$J$5:$J$2413<>'Local Detail'!$A$147)*(Projects!$O$5:$O$2413))))","v":0},0,{"$f":"SUMPRODUCT((Projects!$A$5:$A$2413='Local Detail'!$G$3)*(Projects!$C$5:$C$2413<>'MDOT FTA Detail'!$C$4)*(Projects!$L$5:$L$2413='Local Detail'!$A46)*(Projects!$K$5:$K$2413))","v":0},{"$f":"((SUMPRODUCT((Projects!$A$5:$A$2413='Local Detail'!$G$3)*(Projects!$C$5:$C$2413<>'MDOT FTA Detail'!$C$4)*(Projects!$L$5:$L$2413='Local Detail'!$A46)*(Projects!$J$5:$J$2413<>'Local Detail'!$A$147)*(Projects!$M$5:$M$2413)))+(SUMPRODUCT((Projects!$A$5:$A$2413='Local Detail'!$G$3)*(Projects!$C$5:$C$2413<>'MDOT FTA Detail'!$C$4)*(Projects!$L$5:$L$2413='Local Detail'!$A46)*(Projects!$J$5:$J$2413<>'Local Detail'!$A$147)*(Projects!$O$5:$O$2413))))","v":0},0,{"$f":"SUMPRODUCT((Projects!$A$5:$A$2413='Local Detail'!$J$3)*(Projects!$C$5:$C$2413<>'MDOT FTA Detail'!$C$4)*(Projects!$L$5:$L$2413='Local Detail'!$A46)*(Projects!$K$5:$K$2413))","v":0},{"$f":"((SUMPRODUCT((Projects!$A$5:$A$2413='Local Detail'!$J$3)*(Projects!$C$5:$C$2413<>'MDOT FTA Detail'!$C$4)*(Projects!$L$5:$L$2413='Local Detail'!$A46)*(Projects!$J$5:$J$2413<>'Local Detail'!$A$147)*(Projects!$M$5:$M$2413)))+(SUMPRODUCT((Projects!$A$5:$A$2413='Local Detail'!$J$3)*(Projects!$C$5:$C$2413<>'MDOT FTA Detail'!$C$4)*(Projects!$L$5:$L$2413='Local Detail'!$A46)*(Projects!$J$5:$J$2413<>'Local Detail'!$A$147)*(Projects!$O$5:$O$2413))))","v":0},0,{"$f":"SUMPRODUCT((Projects!$A$5:$A$2413='Local Detail'!$M$3)*(Projects!$C$5:$C$2413<>'MDOT FTA Detail'!$C$4)*(Projects!$L$5:$L$2413='Local Detail'!$A46)*(Projects!$K$5:$K$2413))","v":0},{"$f":"((SUMPRODUCT((Projects!$A$5:$A$2413='Local Detail'!$M$3)*(Projects!$C$5:$C$2413<>'MDOT FTA Detail'!$C$4)*(Projects!$L$5:$L$2413='Local Detail'!$A46)*(Projects!$J$5:$J$2413<>'Local Detail'!$A$147)*(Projects!$M$5:$M$2413)))+(SUMPRODUCT((Projects!$A$5:$A$2413='Local Detail'!$M$3)*(Projects!$C$5:$C$2413<>'MDOT FTA Detail'!$C$4)*(Projects!$L$5:$L$2413='Local Detail'!$A46)*(Projects!$J$5:$J$2413<>'Local Detail'!$A$147)*(Projects!$O$5:$O$2413))))","v":0},0]
["HSG","High Speed Raix Crossings - 100% Federal","Local Other FHWA",{"$f":"SUMPRODUCT((Projects!$A$5:$A$2413='Local Detail'!$D$3)*(Projects!$C$5:$C$2413<>'MDOT FTA Detail'!$C$4)*(Projects!$L$5:$L$2413='Local Detail'!$A47)*(Projects!$K$5:$K$2413))","v":0},{"$f":"((SUMPRODUCT((Projects!$A$5:$A$2413='Local Detail'!$D$3)*(Projects!$C$5:$C$2413<>'MDOT FTA Detail'!$C$4)*(Projects!$L$5:$L$2413='Local Detail'!$A47)*(Projects!$J$5:$J$2413<>'Local Detail'!$A$147)*(Projects!$M$5:$M$2413)))+(SUMPRODUCT((Projects!$A$5:$A$2413='Local Detail'!$D$3)*(Projects!$C$5:$C$2413<>'MDOT FTA Detail'!$C$4)*(Projects!$L$5:$L$2413='Local Detail'!$A47)*(Projects!$J$5:$J$2413<>'Local Detail'!$A$147)*(Projects!$O$5:$O$2413))))","v":0},0,{"$f":"SUMPRODUCT((Projects!$A$5:$A$2413='Local Detail'!$G$3)*(Projects!$C$5:$C$2413<>'MDOT FTA Detail'!$C$4)*(Projects!$L$5:$L$2413='Local Detail'!$A47)*(Projects!$K$5:$K$2413))","v":0},{"$f":"((SUMPRODUCT((Projects!$A$5:$A$2413='Local Detail'!$G$3)*(Projects!$C$5:$C$2413<>'MDOT FTA Detail'!$C$4)*(Projects!$L$5:$L$2413='Local Detail'!$A47)*(Projects!$J$5:$J$2413<>'Local Detail'!$A$147)*(Projects!$M$5:$M$2413)))+(SUMPRODUCT((Projects!$A$5:$A$2413='Local Detail'!$G$3)*(Projects!$C$5:$C$2413<>'MDOT FTA Detail'!$C$4)*(Projects!$L$5:$L$2413='Local Detail'!$A47)*(Projects!$J$5:$J$2413<>'Local Detail'!$A$147)*(Projects!$O$5:$O$2413))))","v":0},0,{"$f":"SUMPRODUCT((Projects!$A$5:$A$2413='Local Detail'!$J$3)*(Projects!$C$5:$C$2413<>'MDOT FTA Detail'!$C$4)*(Projects!$L$5:$L$2413='Local Detail'!$A47)*(Projects!$K$5:$K$2413))","v":0},{"$f":"((SUMPRODUCT((Projects!$A$5:$A$2413='Local Detail'!$J$3)*(Projects!$C$5:$C$2413<>'MDOT FTA Detail'!$C$4)*(Projects!$L$5:$L$2413='Local Detail'!$A47)*(Projects!$J$5:$J$2413<>'Local Detail'!$A$147)*(Projects!$M$5:$M$2413)))+(SUMPRODUCT((Projects!$A$5:$A$2413='Local Detail'!$J$3)*(Projects!$C$5:$C$2413<>'MDOT FTA Detail'!$C$4)*(Projects!$L$5:$L$2413='Local Detail'!$A47)*(Projects!$J$5:$J$2413<>'Local Detail'!$A$147)*(Projects!$O$5:$O$2413))))","v":0},0,{"$f":"SUMPRODUCT((Projects!$A$5:$A$2413='Local Detail'!$M$3)*(Projects!$C$5:$C$2413<>'MDOT FTA Detail'!$C$4)*(Projects!$L$5:$L$2413='Local Detail'!$A47)*(Projects!$K$5:$K$2413))","v":0},{"$f":"((SUMPRODUCT((Projects!$A$5:$A$2413='Local Detail'!$M$3)*(Projects!$C$5:$C$2413<>'MDOT FTA Detail'!$C$4)*(Projects!$L$5:$L$2413='Local Detail'!$A47)*(Projects!$J$5:$J$2413<>'Local Detail'!$A$147)*(Projects!$M$5:$M$2413)))+(SUMPRODUCT((Projects!$A$5:$A$2413='Local Detail'!$M$3)*(Projects!$C$5:$C$2413<>'MDOT FTA Detail'!$C$4)*(Projects!$L$5:$L$2413='Local Detail'!$A47)*(Projects!$J$5:$J$2413<>'Local Detail'!$A$147)*(Projects!$O$5:$O$2413))))","v":0},0]
["HSIP","Highway Safety Improvement Program - SAFETEA-LU","Local Safety",{"$f":"SUMPRODUCT((Projects!$A$5:$A$2413='Local Detail'!$D$3)*(Projects!$C$5:$C$2413<>'MDOT FTA Detail'!$C$4)*(Projects!$L$5:$L$2413='Local Detail'!$A48)*(Projects!$K$5:$K$2413))","v":54000},{"$f":"((SUMPRODUCT((Projects!$A$5:$A$2413='Local Detail'!$D$3)*(Projects!$C$5:$C$2413<>'MDOT FTA Detail'!$C$4)*(Projects!$L$5:$L$2413='Local Detail'!$A48)*(Projects!$J$5:$J$2413<>'Local Detail'!$A$147)*(Projects!$M$5:$M$2413)))+(SUMPRODUCT((Projects!$A$5:$A$2413='Local Detail'!$D$3)*(Projects!$C$5:$C$2413<>'MDOT FTA Detail'!$C$4)*(Projects!$L$5:$L$2413='Local Detail'!$A48)*(Projects!$J$5:$J$2413<>'Local Detail'!$A$147)*(Projects!$O$5:$O$2413))))","v":6000},60000,{"$f":"SUMPRODUCT((Projects!$A$5:$A$2413='Local Detail'!$G$3)*(Projects!$C$5:$C$2413<>'MDOT FTA Detail'!$C$4)*(Projects!$L$5:$L$2413='Local Detail'!$A48)*(Projects!$K$5:$K$2413))","v":20464},{"$f":"((SUMPRODUCT((Projects!$A$5:$A$2413='Local Detail'!$G$3)*(Projects!$C$5:$C$2413<>'MDOT FTA Detail'!$C$4)*(Projects!$L$5:$L$2413='Local Detail'!$A48)*(Projects!$J$5:$J$2413<>'Local Detail'!$A$147)*(Projects!$M$5:$M$2413)))+(SUMPRODUCT((Projects!$A$5:$A$2413='Local Detail'!$G$3)*(Projects!$C$5:$C$2413<>'MDOT FTA Detail'!$C$4)*(Projects!$L$5:$L$2413='Local Detail'!$A48)*(Projects!$J$5:$J$2413<>'Local Detail'!$A$147)*(Projects!$O$5:$O$2413))))","v":2274},22738,{"$f":"SUMPRODUCT((Projects!$A$5:$A$2413='Local Detail'!$J$3)*(Projects!$C$5:$C$2413<>'MDOT FTA Detail'!$C$4)*(Projects!$L$5:$L$2413='Local Detail'!$A48)*(Projects!$K$5:$K$2413))","v":0},{"$f":"((SUMPRODUCT((Projects!$A$5:$A$2413='Local Detail'!$J$3)*(Projects!$C$5:$C$2413<>'MDOT FTA Detail'!$C$4)*(Projects!$L$5:$L$2413='Local Detail'!$A48)*(Projects!$J$5:$J$2413<>'Local Detail'!$A$147)*(Projects!$M$5:$M$2413)))+(SUMPRODUCT((Projects!$A$5:$A$2413='Local Detail'!$J$3)*(Projects!$C$5:$C$2413<>'MDOT FTA Detail'!$C$4)*(Projects!$L$5:$L$2413='Local Detail'!$A48)*(Projects!$J$5:$J$2413<>'Local Detail'!$A$147)*(Projects!$O$5:$O$2413))))","v":0},0,{"$f":"SUMPRODUCT((Projects!$A$5:$A$2413='Local Detail'!$M$3)*(Projects!$C$5:$C$2413<>'MDOT FTA Detail'!$C$4)*(Projects!$L$5:$L$2413='Local Detail'!$A48)*(Projects!$K$5:$K$2413))","v":0},{"$f":"((SUMPRODUCT((Projects!$A$5:$A$2413='Local Detail'!$M$3)*(Projects!$C$5:$C$2413<>'MDOT FTA Detail'!$C$4)*(Projects!$L$5:$L$2413='Local Detail'!$A48)*(Projects!$J$5:$J$2413<>'Local Detail'!$A$147)*(Projects!$M$5:$M$2413)))+(SUMPRODUCT((Projects!$A$5:$A$2413='Local Detail'!$M$3)*(Projects!$C$5:$C$2413<>'MDOT FTA Detail'!$C$4)*(Projects!$L$5:$L$2413='Local Detail'!$A48)*(Projects!$J$5:$J$2413<>'Local Detail'!$A$147)*(Projects!$O$5:$O$2413))))","v":0},0]
["IM","Interstate Maintenance - No Added Lanes","Local Other FHWA",{"$f":"SUMPRODUCT((Projects!$A$5:$A$2413='Local Detail'!$D$3)*(Projects!$C$5:$C$2413<>'MDOT FTA Detail'!$C$4)*(Projects!$L$5:$L$2413='Local Detail'!$A49)*(Projects!$K$5:$K$2413))","v":0},{"$f":"((SUMPRODUCT((Projects!$A$5:$A$2413='Local Detail'!$D$3)*(Projects!$C$5:$C$2413<>'MDOT FTA Detail'!$C$4)*(Projects!$L$5:$L$2413='Local Detail'!$A49)*(Projects!$J$5:$J$2413<>'Local Detail'!$A$147)*(Projects!$M$5:$M$2413)))+(SUMPRODUCT((Projects!$A$5:$A$2413='Local Detail'!$D$3)*(Projects!$C$5:$C$2413<>'MDOT FTA Detail'!$C$4)*(Projects!$L$5:$L$2413='Local Detail'!$A49)*(Projects!$J$5:$J$2413<>'Local Detail'!$A$147)*(Projects!$O$5:$O$2413))))","v":0},0,{"$f":"SUMPRODUCT((Projects!$A$5:$A$2413='Local Detail'!$G$3)*(Projects!$C$5:$C$2413<>'MDOT FTA Detail'!$C$4)*(Projects!$L$5:$L$2413='Local Detail'!$A49)*(Projects!$K$5:$K$2413))","v":0},{"$f":"((SUMPRODUCT((Projects!$A$5:$A$2413='Local Detail'!$G$3)*(Projects!$C$5:$C$2413<>'MDOT FTA Detail'!$C$4)*(Projects!$L$5:$L$2413='Local Detail'!$A49)*(Projects!$J$5:$J$2413<>'Local Detail'!$A$147)*(Projects!$M$5:$M$2413)))+(SUMPRODUCT((Projects!$A$5:$A$2413='Local Detail'!$G$3)*(Projects!$C$5:$C$2413<>'MDOT FTA Detail'!$C$4)*(Projects!$L$5:$L$2413='Local Detail'!$A49)*(Projects!$J$5:$J$2413<>'Local Detail'!$A$147)*(Projects!$O$5:$O$2413))))","v":0},0,{"$f":"SUMPRODUCT((Projects!$A$5:$A$2413='Local Detail'!$J$3)*(Projects!$C$5:$C$2413<>'MDOT FTA Detail'!$C$4)*(Projects!$L$5:$L$2413='Local Detail'!$A49)*(Projects!$K$5:$K$2413))","v":0},{"$f":"((SUMPRODUCT((Projects!$A$5:$A$2413='Local Detail'!$J$3)*(Projects!$C$5:$C$2413<>'MDOT FTA Detail'!$C$4)*(Projects!$L$5:$L$2413='Local Detail'!$A49)*(Projects!$J$5:$J$2413<>'Local Detail'!$A$147)*(Projects!$M$5:$M$2413)))+(SUMPRODUCT((Projects!$A$5:$A$2413='Local Detail'!$J$3)*(Projects!$C$5:$C$2413<>'MDOT FTA Detail'!$C$4)*(Projects!$L$5:$L$2413='Local Detail'!$A49)*(Projects!$J$5:$J$2413<>'Local Detail'!$A$147)*(Projects!$O$5:$O$2413))))","v":0},0,{"$f":"SUMPRODUCT((Projects!$A$5:$A$2413='Local Detail'!$M$3)*(Projects!$C$5:$C$2413<>'MDOT FTA Detail'!$C$4)*(Projects!$L$5:$L$2413='Local Detail'!$A49)*(Projects!$K$5:$K$2413))","v":0},{"$f":"((SUMPRODUCT((Projects!$A$5:$A$2413='Local Detail'!$M$3)*(Projects!$C$5:$C$2413<>'MDOT FTA Detail'!$C$4)*(Projects!$L$5:$L$2413='Local Detail'!$A49)*(Projects!$J$5:$J$2413<>'Local Detail'!$A$147)*(Projects!$M$5:$M$2413)))+(SUMPRODUCT((Projects!$A$5:$A$2413='Local Detail'!$M$3)*(Projects!$C$5:$C$2413<>'MDOT FTA Detail'!$C$4)*(Projects!$L$5:$L$2413='Local Detail'!$A49)*(Projects!$J$5:$J$2413<>'Local Detail'!$A$147)*(Projects!$O$5:$O$2413))))","v":0},0]
["IMD","Interstate Maintenance Discretionary","Local Other FHWA",{"$f":"SUMPRODUCT((Projects!$A$5:$A$2413='Local Detail'!$D$3)*(Projects!$C$5:$C$2413<>'MDOT FTA Detail'!$C$4)*(Projects!$L$5:$L$2413='Local Detail'!$A50)*(Projects!$K$5:$K$2413))","v":0},{"$f":"((SUMPRODUCT((Projects!$A$5:$A$2413='Local Detail'!$D$3)*(Projects!$C$5:$C$2413<>'MDOT FTA Detail'!$C$4)*(Projects!$L$5:$L$2413='Local Detail'!$A50)*(Projects!$J$5:$J$2413<>'Local Detail'!$A$147)*(Projects!$M$5:$M$2413)))+(SUMPRODUCT((Projects!$A$5:$A$2413='Local Detail'!$D$3)*(Projects!$C$5:$C$2413<>'MDOT FTA Detail'!$C$4)*(Projects!$L$5:$L$2413='Local Detail'!$A50)*(Projects!$J$5:$J$2413<>'Local Detail'!$A$147)*(Projects!$O$5:$O$2413))))","v":0},0,{"$f":"SUMPRODUCT((Projects!$A$5:$A$2413='Local Detail'!$G$3)*(Projects!$C$5:$C$2413<>'MDOT FTA Detail'!$C$4)*(Projects!$L$5:$L$2413='Local Detail'!$A50)*(Projects!$K$5:$K$2413))","v":0},{"$f":"((SUMPRODUCT((Projects!$A$5:$A$2413='Local Detail'!$G$3)*(Projects!$C$5:$C$2413<>'MDOT FTA Detail'!$C$4)*(Projects!$L$5:$L$2413='Local Detail'!$A50)*(Projects!$J$5:$J$2413<>'Local Detail'!$A$147)*(Projects!$M$5:$M$2413)))+(SUMPRODUCT((Projects!$A$5:$A$2413='Local Detail'!$G$3)*(Projects!$C$5:$C$2413<>'MDOT FTA Detail'!$C$4)*(Projects!$L$5:$L$2413='Local Detail'!$A50)*(Projects!$J$5:$J$2413<>'Local Detail'!$A$147)*(Projects!$O$5:$O$2413))))","v":0},0,{"$f":"SUMPRODUCT((Projects!$A$5:$A$2413='Local Detail'!$J$3)*(Projects!$C$5:$C$2413<>'MDOT FTA Detail'!$C$4)*(Projects!$L$5:$L$2413='Local Detail'!$A50)*(Projects!$K$5:$K$2413))","v":0},{"$f":"((SUMPRODUCT((Projects!$A$5:$A$2413='Local Detail'!$J$3)*(Projects!$C$5:$C$2413<>'MDOT FTA Detail'!$C$4)*(Projects!$L$5:$L$2413='Local Detail'!$A50)*(Projects!$J$5:$J$2413<>'Local Detail'!$A$147)*(Projects!$M$5:$M$2413)))+(SUMPRODUCT((Projects!$A$5:$A$2413='Local Detail'!$J$3)*(Projects!$C$5:$C$2413<>'MDOT FTA Detail'!$C$4)*(Projects!$L$5:$L$2413='Local Detail'!$A50)*(Projects!$J$5:$J$2413<>'Local Detail'!$A$147)*(Projects!$O$5:$O$2413))))","v":0},0,{"$f":"SUMPRODUCT((Projects!$A$5:$A$2413='Local Detail'!$M$3)*(Projects!$C$5:$C$2413<>'MDOT FTA Detail'!$C$4)*(Projects!$L$5:$L$2413='Local Detail'!$A50)*(Projects!$K$5:$K$2413))","v":0},{"$f":"((SUMPRODUCT((Projects!$A$5:$A$2413='Local Detail'!$M$3)*(Projects!$C$5:$C$2413<>'MDOT FTA Detail'!$C$4)*(Projects!$L$5:$L$2413='Local Detail'!$A50)*(Projects!$J$5:$J$2413<>'Local Detail'!$A$147)*(Projects!$M$5:$M$2413)))+(SUMPRODUCT((Projects!$A$5:$A$2413='Local Detail'!$M$3)*(Projects!$C$5:$C$2413<>'MDOT FTA Detail'!$C$4)*(Projects!$L$5:$L$2413='Local Detail'!$A50)*(Projects!$J$5:$J$2413<>'Local Detail'!$A$147)*(Projects!$O$5:$O$2413))))","v":0},0]
["IMG","Interstate Maintenance - Safety - 100% Federal","Local Other FHWA",{"$f":"SUMPRODUCT((Projects!$A$5:$A$2413='Local Detail'!$D$3)*(Projects!$C$5:$C$2413<>'MDOT FTA Detail'!$C$4)*(Projects!$L$5:$L$2413='Local Detail'!$A51)*(Projects!$K$5:$K$2413))","v":0},{"$f":"((SUMPRODUCT((Projects!$A$5:$A$2413='Local Detail'!$D$3)*(Projects!$C$5:$C$2413<>'MDOT FTA Detail'!$C$4)*(Projects!$L$5:$L$2413='Local Detail'!$A51)*(Projects!$J$5:$J$2413<>'Local Detail'!$A$147)*(Projects!$M$5:$M$2413)))+(SUMPRODUCT((Projects!$A$5:$A$2413='Local Detail'!$D$3)*(Projects!$C$5:$C$2413<>'MDOT FTA Detail'!$C$4)*(Projects!$L$5:$L$2413='Local Detail'!$A51)*(Projects!$J$5:$J$2413<>'Local Detail'!$A$147)*(Projects!$O$5:$O$2413))))","v":0},0,{"$f":"SUMPRODUCT((Projects!$A$5:$A$2413='Local Detail'!$G$3)*(Projects!$C$5:$C$2413<>'MDOT FTA Detail'!$C$4)*(Projects!$L$5:$L$2413='Local Detail'!$A51)*(Projects!$K$5:$K$2413))","v":0},{"$f":"((SUMPRODUCT((Projects!$A$5:$A$2413='Local Detail'!$G$3)*(Projects!$C$5:$C$2413<>'MDOT FTA Detail'!$C$4)*(Projects!$L$5:$L$2413='Local Detail'!$A51)*(Projects!$J$5:$J$2413<>'Local Detail'!$A$147)*(Projects!$M$5:$M$2413)))+(SUMPRODUCT((Projects!$A$5:$A$2413='Local Detail'!$G$3)*(Projects!$C$5:$C$2413<>'MDOT FTA Detail'!$C$4)*(Projects!$L$5:$L$2413='Local Detail'!$A51)*(Projects!$J$5:$J$2413<>'Local Detail'!$A$147)*(Projects!$O$5:$O$2413))))","v":0},0,{"$f":"SUMPRODUCT((Projects!$A$5:$A$2413='Local Detail'!$J$3)*(Projects!$C$5:$C$2413<>'MDOT FTA Detail'!$C$4)*(Projects!$L$5:$L$2413='Local Detail'!$A51)*(Projects!$K$5:$K$2413))","v":0},{"$f":"((SUMPRODUCT((Projects!$A$5:$A$2413='Local Detail'!$J$3)*(Projects!$C$5:$C$2413<>'MDOT FTA Detail'!$C$4)*(Projects!$L$5:$L$2413='Local Detail'!$A51)*(Projects!$J$5:$J$2413<>'Local Detail'!$A$147)*(Projects!$M$5:$M$2413)))+(SUMPRODUCT((Projects!$A$5:$A$2413='Local Detail'!$J$3)*(Projects!$C$5:$C$2413<>'MDOT FTA Detail'!$C$4)*(Projects!$L$5:$L$2413='Local Detail'!$A51)*(Projects!$J$5:$J$2413<>'Local Detail'!$A$147)*(Projects!$O$5:$O$2413))))","v":0},0,{"$f":"SUMPRODUCT((Projects!$A$5:$A$2413='Local Detail'!$M$3)*(Projects!$C$5:$C$2413<>'MDOT FTA Detail'!$C$4)*(Projects!$L$5:$L$2413='Local Detail'!$A51)*(Projects!$K$5:$K$2413))","v":0},{"$f":"((SUMPRODUCT((Projects!$A$5:$A$2413='Local Detail'!$M$3)*(Projects!$C$5:$C$2413<>'MDOT FTA Detail'!$C$4)*(Projects!$L$5:$L$2413='Local Detail'!$A51)*(Projects!$J$5:$J$2413<>'Local Detail'!$A$147)*(Projects!$M$5:$M$2413)))+(SUMPRODUCT((Projects!$A$5:$A$2413='Local Detail'!$M$3)*(Projects!$C$5:$C$2413<>'MDOT FTA Detail'!$C$4)*(Projects!$L$5:$L$2413='Local Detail'!$A51)*(Projects!$J$5:$J$2413<>'Local Detail'!$A$147)*(Projects!$O$5:$O$2413))))","v":0},0]
["ITS","Intelligent Transportation Systems","Local Other FHWA",{"$f":"SUMPRODUCT((Projects!$A$5:$A$2413='Local Detail'!$D$3)*(Projects!$C$5:$C$2413<>'MDOT FTA Detail'!$C$4)*(Projects!$L$5:$L$2413='Local Detail'!$A52)*(Projects!$K$5:$K$2413))","v":0},{"$f":"((SUMPRODUCT((Projects!$A$5:$A$2413='Local Detail'!$D$3)*(Projects!$C$5:$C$2413<>'MDOT FTA Detail'!$C$4)*(Projects!$L$5:$L$2413='Local Detail'!$A52)*(Projects!$J$5:$J$2413<>'Local Detail'!$A$147)*(Projects!$M$5:$M$2413)))+(SUMPRODUCT((Projects!$A$5:$A$2413='Local Detail'!$D$3)*(Projects!$C$5:$C$2413<>'MDOT FTA Detail'!$C$4)*(Projects!$L$5:$L$2413='Local Detail'!$A52)*(Projects!$J$5:$J$2413<>'Local Detail'!$A$147)*(Projects!$O$5:$O$2413))))","v":0},0,{"$f":"SUMPRODUCT((Projects!$A$5:$A$2413='Local Detail'!$G$3)*(Projects!$C$5:$C$2413<>'MDOT FTA Detail'!$C$4)*(Projects!$L$5:$L$2413='Local Detail'!$A52)*(Projects!$K$5:$K$2413))","v":0},{"$f":"((SUMPRODUCT((Projects!$A$5:$A$2413='Local Detail'!$G$3)*(Projects!$C$5:$C$2413<>'MDOT FTA Detail'!$C$4)*(Projects!$L$5:$L$2413='Local Detail'!$A52)*(Projects!$J$5:$J$2413<>'Local Detail'!$A$147)*(Projects!$M$5:$M$2413)))+(SUMPRODUCT((Projects!$A$5:$A$2413='Local Detail'!$G$3)*(Projects!$C$5:$C$2413<>'MDOT FTA Detail'!$C$4)*(Projects!$L$5:$L$2413='Local Detail'!$A52)*(Projects!$J$5:$J$2413<>'Local Detail'!$A$147)*(Projects!$O$5:$O$2413))))","v":0},0,{"$f":"SUMPRODUCT((Projects!$A$5:$A$2413='Local Detail'!$J$3)*(Projects!$C$5:$C$2413<>'MDOT FTA Detail'!$C$4)*(Projects!$L$5:$L$2413='Local Detail'!$A52)*(Projects!$K$5:$K$2413))","v":0},{"$f":"((SUMPRODUCT((Projects!$A$5:$A$2413='Local Detail'!$J$3)*(Projects!$C$5:$C$2413<>'MDOT FTA Detail'!$C$4)*(Projects!$L$5:$L$2413='Local Detail'!$A52)*(Projects!$J$5:$J$2413<>'Local Detail'!$A$147)*(Projects!$M$5:$M$2413)))+(SUMPRODUCT((Projects!$A$5:$A$2413='Local Detail'!$J$3)*(Projects!$C$5:$C$2413<>'MDOT FTA Detail'!$C$4)*(Projects!$L$5:$L$2413='Local Detail'!$A52)*(Projects!$J$5:$J$2413<>'Local Detail'!$A$147)*(Projects!$O$5:$O$2413))))","v":0},0,{"$f":"SUMPRODUCT((Projects!$A$5:$A$2413='Local Detail'!$M$3)*(Projects!$C$5:$C$2413<>'MDOT FTA Detail'!$C$4)*(Projects!$L$5:$L$2413='Local Detail'!$A52)*(Projects!$K$5:$K$2413))","v":0},{"$f":"((SUMPRODUCT((Projects!$A$5:$A$2413='Local Detail'!$M$3)*(Projects!$C$5:$C$2413<>'MDOT FTA Detail'!$C$4)*(Projects!$L$5:$L$2413='Local Detail'!$A52)*(Projects!$J$5:$J$2413<>'Local Detail'!$A$147)*(Projects!$M$5:$M$2413)))+(SUMPRODUCT((Projects!$A$5:$A$2413='Local Detail'!$M$3)*(Projects!$C$5:$C$2413<>'MDOT FTA Detail'!$C$4)*(Projects!$L$5:$L$2413='Local Detail'!$A52)*(Projects!$J$5:$J$2413<>'Local Detail'!$A$147)*(Projects!$O$5:$O$2413))))","v":0},0]
["JST","85% Minimum Floor Surface Transportation","Local STP",{"$f":"SUMPRODUCT((Projects!$A$5:$A$2413='Local Detail'!$D$3)*(Projects!$C$5:$C$2413<>'MDOT FTA Detail'!$C$4)*(Projects!$L$5:$L$2413='Local Detail'!$A53)*(Projects!$K$5:$K$2413))","v":0},{"$f":"((SUMPRODUCT((Projects!$A$5:$A$2413='Local Detail'!$D$3)*(Projects!$C$5:$C$2413<>'MDOT FTA Detail'!$C$4)*(Projects!$L$5:$L$2413='Local Detail'!$A53)*(Projects!$J$5:$J$2413<>'Local Detail'!$A$147)*(Projects!$M$5:$M$2413)))+(SUMPRODUCT((Projects!$A$5:$A$2413='Local Detail'!$D$3)*(Projects!$C$5:$C$2413<>'MDOT FTA Detail'!$C$4)*(Projects!$L$5:$L$2413='Local Detail'!$A53)*(Projects!$J$5:$J$2413<>'Local Detail'!$A$147)*(Projects!$O$5:$O$2413))))","v":0},0,{"$f":"SUMPRODUCT((Projects!$A$5:$A$2413='Local Detail'!$G$3)*(Projects!$C$5:$C$2413<>'MDOT FTA Detail'!$C$4)*(Projects!$L$5:$L$2413='Local Detail'!$A53)*(Projects!$K$5:$K$2413))","v":0},{"$f":"((SUMPRODUCT((Projects!$A$5:$A$2413='Local Detail'!$G$3)*(Projects!$C$5:$C$2413<>'MDOT FTA Detail'!$C$4)*(Projects!$L$5:$L$2413='Local Detail'!$A53)*(Projects!$J$5:$J$2413<>'Local Detail'!$A$147)*(Projects!$M$5:$M$2413)))+(SUMPRODUCT((Projects!$A$5:$A$2413='Local Detail'!$G$3)*(Projects!$C$5:$C$2413<>'MDOT FTA Detail'!$C$4)*(Projects!$L$5:$L$2413='Local Detail'!$A53)*(Projects!$J$5:$J$2413<>'Local Detail'!$A$147)*(Projects!$O$5:$O$2413))))","v":0},0,{"$f":"SUMPRODUCT((Projects!$A$5:$A$2413='Local Detail'!$J$3)*(Projects!$C$5:$C$2413<>'MDOT FTA Detail'!$C$4)*(Projects!$L$5:$L$2413='Local Detail'!$A53)*(Projects!$K$5:$K$2413))","v":0},{"$f":"((SUMPRODUCT((Projects!$A$5:$A$2413='Local Detail'!$J$3)*(Projects!$C$5:$C$2413<>'MDOT FTA Detail'!$C$4)*(Projects!$L$5:$L$2413='Local Detail'!$A53)*(Projects!$J$5:$J$2413<>'Local Detail'!$A$147)*(Projects!$M$5:$M$2413)))+(SUMPRODUCT((Projects!$A$5:$A$2413='Local Detail'!$J$3)*(Projects!$C$5:$C$2413<>'MDOT FTA Detail'!$C$4)*(Projects!$L$5:$L$2413='Local Detail'!$A53)*(Projects!$J$5:$J$2413<>'Local Detail'!$A$147)*(Projects!$O$5:$O$2413))))","v":0},0,{"$f":"SUMPRODUCT((Projects!$A$5:$A$2413='Local Detail'!$M$3)*(Projects!$C$5:$C$2413<>'MDOT FTA Detail'!$C$4)*(Projects!$L$5:$L$2413='Local Detail'!$A53)*(Projects!$K$5:$K$2413))","v":0},{"$f":"((SUMPRODUCT((Projects!$A$5:$A$2413='Local Detail'!$M$3)*(Projects!$C$5:$C$2413<>'MDOT FTA Detail'!$C$4)*(Projects!$L$5:$L$2413='Local Detail'!$A53)*(Projects!$J$5:$J$2413<>'Local Detail'!$A$147)*(Projects!$M$5:$M$2413)))+(SUMPRODUCT((Projects!$A$5:$A$2413='Local Detail'!$M$3)*(Projects!$C$5:$C$2413<>'MDOT FTA Detail'!$C$4)*(Projects!$L$5:$L$2413='Local Detail'!$A53)*(Projects!$J$5:$J$2413<>'Local Detail'!$A$147)*(Projects!$O$5:$O$2413))))","v":0},0]
["JSTU","85% Minimum Floor Surface Transportation (Urban Area > 2499,000)","Local STP",{"$f":"SUMPRODUCT((Projects!$A$5:$A$2413='Local Detail'!$D$3)*(Projects!$C$5:$C$2413<>'MDOT FTA Detail'!$C$4)*(Projects!$L$5:$L$2413='Local Detail'!$A54)*(Projects!$K$5:$K$2413))","v":0},{"$f":"((SUMPRODUCT((Projects!$A$5:$A$2413='Local Detail'!$D$3)*(Projects!$C$5:$C$2413<>'MDOT FTA Detail'!$C$4)*(Projects!$L$5:$L$2413='Local Detail'!$A54)*(Projects!$J$5:$J$2413<>'Local Detail'!$A$147)*(Projects!$M$5:$M$2413)))+(SUMPRODUCT((Projects!$A$5:$A$2413='Local Detail'!$D$3)*(Projects!$C$5:$C$2413<>'MDOT FTA Detail'!$C$4)*(Projects!$L$5:$L$2413='Local Detail'!$A54)*(Projects!$J$5:$J$2413<>'Local Detail'!$A$147)*(Projects!$O$5:$O$2413))))","v":0},0,{"$f":"SUMPRODUCT((Projects!$A$5:$A$2413='Local Detail'!$G$3)*(Projects!$C$5:$C$2413<>'MDOT FTA Detail'!$C$4)*(Projects!$L$5:$L$2413='Local Detail'!$A54)*(Projects!$K$5:$K$2413))","v":0},{"$f":"((SUMPRODUCT((Projects!$A$5:$A$2413='Local Detail'!$G$3)*(Projects!$C$5:$C$2413<>'MDOT FTA Detail'!$C$4)*(Projects!$L$5:$L$2413='Local Detail'!$A54)*(Projects!$J$5:$J$2413<>'Local Detail'!$A$147)*(Projects!$M$5:$M$2413)))+(SUMPRODUCT((Projects!$A$5:$A$2413='Local Detail'!$G$3)*(Projects!$C$5:$C$2413<>'MDOT FTA Detail'!$C$4)*(Projects!$L$5:$L$2413='Local Detail'!$A54)*(Projects!$J$5:$J$2413<>'Local Detail'!$A$147)*(Projects!$O$5:$O$2413))))","v":0},0,{"$f":"SUMPRODUCT((Projects!$A$5:$A$2413='Local Detail'!$J$3)*(Projects!$C$5:$C$2413<>'MDOT FTA Detail'!$C$4)*(Projects!$L$5:$L$2413='Local Detail'!$A54)*(Projects!$K$5:$K$2413))","v":0},{"$f":"((SUMPRODUCT((Projects!$A$5:$A$2413='Local Detail'!$J$3)*(Projects!$C$5:$C$2413<>'MDOT FTA Detail'!$C$4)*(Projects!$L$5:$L$2413='Local Detail'!$A54)*(Projects!$J$5:$J$2413<>'Local Detail'!$A$147)*(Projects!$M$5:$M$2413)))+(SUMPRODUCT((Projects!$A$5:$A$2413='Local Detail'!$J$3)*(Projects!$C$5:$C$2413<>'MDOT FTA Detail'!$C$4)*(Projects!$L$5:$L$2413='Local Detail'!$A54)*(Projects!$J$5:$J$2413<>'Local Detail'!$A$147)*(Projects!$O$5:$O$2413))))","v":0},0,{"$f":"SUMPRODUCT((Projects!$A$5:$A$2413='Local Detail'!$M$3)*(Projects!$C$5:$C$2413<>'MDOT FTA Detail'!$C$4)*(Projects!$L$5:$L$2413='Local Detail'!$A54)*(Projects!$K$5:$K$2413))","v":0},{"$f":"((SUMPRODUCT((Projects!$A$5:$A$2413='Local Detail'!$M$3)*(Projects!$C$5:$C$2413<>'MDOT FTA Detail'!$C$4)*(Projects!$L$5:$L$2413='Local Detail'!$A54)*(Projects!$J$5:$J$2413<>'Local Detail'!$A$147)*(Projects!$M$5:$M$2413)))+(SUMPRODUCT((Projects!$A$5:$A$2413='Local Detail'!$M$3)*(Projects!$C$5:$C$2413<>'MDOT FTA Detail'!$C$4)*(Projects!$L$5:$L$2413='Local Detail'!$A54)*(Projects!$J$5:$J$2413<>'Local Detail'!$A$147)*(Projects!$O$5:$O$2413))))","v":0},0]
["LTA","Local Technical Assistance Program","Local Other FHWA",{"$f":"SUMPRODUCT((Projects!$A$5:$A$2413='Local Detail'!$D$3)*(Projects!$C$5:$C$2413<>'MDOT FTA Detail'!$C$4)*(Projects!$L$5:$L$2413='Local Detail'!$A55)*(Projects!$K$5:$K$2413))","v":0},{"$f":"((SUMPRODUCT((Projects!$A$5:$A$2413='Local Detail'!$D$3)*(Projects!$C$5:$C$2413<>'MDOT FTA Detail'!$C$4)*(Projects!$L$5:$L$2413='Local Detail'!$A55)*(Projects!$J$5:$J$2413<>'Local Detail'!$A$147)*(Projects!$M$5:$M$2413)))+(SUMPRODUCT((Projects!$A$5:$A$2413='Local Detail'!$D$3)*(Projects!$C$5:$C$2413<>'MDOT FTA Detail'!$C$4)*(Projects!$L$5:$L$2413='Local Detail'!$A55)*(Projects!$J$5:$J$2413<>'Local Detail'!$A$147)*(Projects!$O$5:$O$2413))))","v":0},0,{"$f":"SUMPRODUCT((Projects!$A$5:$A$2413='Local Detail'!$G$3)*(Projects!$C$5:$C$2413<>'MDOT FTA Detail'!$C$4)*(Projects!$L$5:$L$2413='Local Detail'!$A55)*(Projects!$K$5:$K$2413))","v":0},{"$f":"((SUMPRODUCT((Projects!$A$5:$A$2413='Local Detail'!$G$3)*(Projects!$C$5:$C$2413<>'MDOT FTA Detail'!$C$4)*(Projects!$L$5:$L$2413='Local Detail'!$A55)*(Projects!$J$5:$J$2413<>'Local Detail'!$A$147)*(Projects!$M$5:$M$2413)))+(SUMPRODUCT((Projects!$A$5:$A$2413='Local Detail'!$G$3)*(Projects!$C$5:$C$2413<>'MDOT FTA Detail'!$C$4)*(Projects!$L$5:$L$2413='Local Detail'!$A55)*(Projects!$J$5:$J$2413<>'Local Detail'!$A$147)*(Projects!$O$5:$O$2413))))","v":0},0,{"$f":"SUMPRODUCT((Projects!$A$5:$A$2413='Local Detail'!$J$3)*(Projects!$C$5:$C$2413<>'MDOT FTA Detail'!$C$4)*(Projects!$L$5:$L$2413='Local Detail'!$A55)*(Projects!$K$5:$K$2413))","v":0},{"$f":"((SUMPRODUCT((Projects!$A$5:$A$2413='Local Detail'!$J$3)*(Projects!$C$5:$C$2413<>'MDOT FTA Detail'!$C$4)*(Projects!$L$5:$L$2413='Local Detail'!$A55)*(Projects!$J$5:$J$2413<>'Local Detail'!$A$147)*(Projects!$M$5:$M$2413)))+(SUMPRODUCT((Projects!$A$5:$A$2413='Local Detail'!$J$3)*(Projects!$C$5:$C$2413<>'MDOT FTA Detail'!$C$4)*(Projects!$L$5:$L$2413='Local Detail'!$A55)*(Projects!$J$5:$J$2413<>'Local Detail'!$A$147)*(Projects!$O$5:$O$2413))))","v":0},0,{"$f":"SUMPRODUCT((Projects!$A$5:$A$2413='Local Detail'!$M$3)*(Projects!$C$5:$C$2413<>'MDOT FTA Detail'!$C$4)*(Projects!$L$5:$L$2413='Local Detail'!$A55)*(Projects!$K$5:$K$2413))","v":0},{"$f":"((SUMPRODUCT((Projects!$A$5:$A$2413='Local Detail'!$M$3)*(Projects!$C$5:$C$2413<>'MDOT FTA Detail'!$C$4)*(Projects!$L$5:$L$2413='Local Detail'!$A55)*(Projects!$J$5:$J$2413<>'Local Detail'!$A$147)*(Projects!$M$5:$M$2413)))+(SUMPRODUCT((Projects!$A$5:$A$2413='Local Detail'!$M$3)*(Projects!$C$5:$C$2413<>'MDOT FTA Detail'!$C$4)*(Projects!$L$5:$L$2413='Local Detail'!$A55)*(Projects!$J$5:$J$2413<>'Local Detail'!$A$147)*(Projects!$O$5:$O$2413))))","v":0},0]
["MG","Minimum Guarantee","Local Other FHWA",{"$f":"SUMPRODUCT((Projects!$A$5:$A$2413='Local Detail'!$D$3)*(Projects!$C$5:$C$2413<>'MDOT FTA Detail'!$C$4)*(Projects!$L$5:$L$2413='Local Detail'!$A56)*(Projects!$K$5:$K$2413))","v":0},{"$f":"((SUMPRODUCT((Projects!$A$5:$A$2413='Local Detail'!$D$3)*(Projects!$C$5:$C$2413<>'MDOT FTA Detail'!$C$4)*(Projects!$L$5:$L$2413='Local Detail'!$A56)*(Projects!$J$5:$J$2413<>'Local Detail'!$A$147)*(Projects!$M$5:$M$2413)))+(SUMPRODUCT((Projects!$A$5:$A$2413='Local Detail'!$D$3)*(Projects!$C$5:$C$2413<>'MDOT FTA Detail'!$C$4)*(Projects!$L$5:$L$2413='Local Detail'!$A56)*(Projects!$J$5:$J$2413<>'Local Detail'!$A$147)*(Projects!$O$5:$O$2413))))","v":0},0,{"$f":"SUMPRODUCT((Projects!$A$5:$A$2413='Local Detail'!$G$3)*(Projects!$C$5:$C$2413<>'MDOT FTA Detail'!$C$4)*(Projects!$L$5:$L$2413='Local Detail'!$A56)*(Projects!$K$5:$K$2413))","v":0},{"$f":"((SUMPRODUCT((Projects!$A$5:$A$2413='Local Detail'!$G$3)*(Projects!$C$5:$C$2413<>'MDOT FTA Detail'!$C$4)*(Projects!$L$5:$L$2413='Local Detail'!$A56)*(Projects!$J$5:$J$2413<>'Local Detail'!$A$147)*(Projects!$M$5:$M$2413)))+(SUMPRODUCT((Projects!$A$5:$A$2413='Local Detail'!$G$3)*(Projects!$C$5:$C$2413<>'MDOT FTA Detail'!$C$4)*(Projects!$L$5:$L$2413='Local Detail'!$A56)*(Projects!$J$5:$J$2413<>'Local Detail'!$A$147)*(Projects!$O$5:$O$2413))))","v":0},0,{"$f":"SUMPRODUCT((Projects!$A$5:$A$2413='Local Detail'!$J$3)*(Projects!$C$5:$C$2413<>'MDOT FTA Detail'!$C$4)*(Projects!$L$5:$L$2413='Local Detail'!$A56)*(Projects!$K$5:$K$2413))","v":0},{"$f":"((SUMPRODUCT((Projects!$A$5:$A$2413='Local Detail'!$J$3)*(Projects!$C$5:$C$2413<>'MDOT FTA Detail'!$C$4)*(Projects!$L$5:$L$2413='Local Detail'!$A56)*(Projects!$J$5:$J$2413<>'Local Detail'!$A$147)*(Projects!$M$5:$M$2413)))+(SUMPRODUCT((Projects!$A$5:$A$2413='Local Detail'!$J$3)*(Projects!$C$5:$C$2413<>'MDOT FTA Detail'!$C$4)*(Projects!$L$5:$L$2413='Local Detail'!$A56)*(Projects!$J$5:$J$2413<>'Local Detail'!$A$147)*(Projects!$O$5:$O$2413))))","v":0},0,{"$f":"SUMPRODUCT((Projects!$A$5:$A$2413='Local Detail'!$M$3)*(Projects!$C$5:$C$2413<>'MDOT FTA Detail'!$C$4)*(Projects!$L$5:$L$2413='Local Detail'!$A56)*(Projects!$K$5:$K$2413))","v":0},{"$f":"((SUMPRODUCT((Projects!$A$5:$A$2413='Local Detail'!$M$3)*(Projects!$C$5:$C$2413<>'MDOT FTA Detail'!$C$4)*(Projects!$L$5:$L$2413='Local Detail'!$A56)*(Projects!$J$5:$J$2413<>'Local Detail'!$A$147)*(Projects!$M$5:$M$2413)))+(SUMPRODUCT((Projects!$A$5:$A$2413='Local Detail'!$M$3)*(Projects!$C$5:$C$2413<>'MDOT FTA Detail'!$C$4)*(Projects!$L$5:$L$2413='Local Detail'!$A56)*(Projects!$J$5:$J$2413<>'Local Detail'!$A$147)*(Projects!$O$5:$O$2413))))","v":0},0]
["NCII","National Corridor Infrastructure Improvement - SAFETEA-LU","Local Other FHWA",{"$f":"SUMPRODUCT((Projects!$A$5:$A$2413='Local Detail'!$D$3)*(Projects!$C$5:$C$2413<>'MDOT FTA Detail'!$C$4)*(Projects!$L$5:$L$2413='Local Detail'!$A57)*(Projects!$K$5:$K$2413))","v":0},{"$f":"((SUMPRODUCT((Projects!$A$5:$A$2413='Local Detail'!$D$3)*(Projects!$C$5:$C$2413<>'MDOT FTA Detail'!$C$4)*(Projects!$L$5:$L$2413='Local Detail'!$A57)*(Projects!$J$5:$J$2413<>'Local Detail'!$A$147)*(Projects!$M$5:$M$2413)))+(SUMPRODUCT((Projects!$A$5:$A$2413='Local Detail'!$D$3)*(Projects!$C$5:$C$2413<>'MDOT FTA Detail'!$C$4)*(Projects!$L$5:$L$2413='Local Detail'!$A57)*(Projects!$J$5:$J$2413<>'Local Detail'!$A$147)*(Projects!$O$5:$O$2413))))","v":0},0,{"$f":"SUMPRODUCT((Projects!$A$5:$A$2413='Local Detail'!$G$3)*(Projects!$C$5:$C$2413<>'MDOT FTA Detail'!$C$4)*(Projects!$L$5:$L$2413='Local Detail'!$A57)*(Projects!$K$5:$K$2413))","v":0},{"$f":"((SUMPRODUCT((Projects!$A$5:$A$2413='Local Detail'!$G$3)*(Projects!$C$5:$C$2413<>'MDOT FTA Detail'!$C$4)*(Projects!$L$5:$L$2413='Local Detail'!$A57)*(Projects!$J$5:$J$2413<>'Local Detail'!$A$147)*(Projects!$M$5:$M$2413)))+(SUMPRODUCT((Projects!$A$5:$A$2413='Local Detail'!$G$3)*(Projects!$C$5:$C$2413<>'MDOT FTA Detail'!$C$4)*(Projects!$L$5:$L$2413='Local Detail'!$A57)*(Projects!$J$5:$J$2413<>'Local Detail'!$A$147)*(Projects!$O$5:$O$2413))))","v":0},0,{"$f":"SUMPRODUCT((Projects!$A$5:$A$2413='Local Detail'!$J$3)*(Projects!$C$5:$C$2413<>'MDOT FTA Detail'!$C$4)*(Projects!$L$5:$L$2413='Local Detail'!$A57)*(Projects!$K$5:$K$2413))","v":0},{"$f":"((SUMPRODUCT((Projects!$A$5:$A$2413='Local Detail'!$J$3)*(Projects!$C$5:$C$2413<>'MDOT FTA Detail'!$C$4)*(Projects!$L$5:$L$2413='Local Detail'!$A57)*(Projects!$J$5:$J$2413<>'Local Detail'!$A$147)*(Projects!$M$5:$M$2413)))+(SUMPRODUCT((Projects!$A$5:$A$2413='Local Detail'!$J$3)*(Projects!$C$5:$C$2413<>'MDOT FTA Detail'!$C$4)*(Projects!$L$5:$L$2413='Local Detail'!$A57)*(Projects!$J$5:$J$2413<>'Local Detail'!$A$147)*(Projects!$O$5:$O$2413))))","v":0},0,{"$f":"SUMPRODUCT((Projects!$A$5:$A$2413='Local Detail'!$M$3)*(Projects!$C$5:$C$2413<>'MDOT FTA Detail'!$C$4)*(Projects!$L$5:$L$2413='Local Detail'!$A57)*(Projects!$K$5:$K$2413))","v":0},{"$f":"((SUMPRODUCT((Projects!$A$5:$A$2413='Local Detail'!$M$3)*(Projects!$C$5:$C$2413<>'MDOT FTA Detail'!$C$4)*(Projects!$L$5:$L$2413='Local Detail'!$A57)*(Projects!$J$5:$J$2413<>'Local Detail'!$A$147)*(Projects!$M$5:$M$2413)))+(SUMPRODUCT((Projects!$A$5:$A$2413='Local Detail'!$M$3)*(Projects!$C$5:$C$2413<>'MDOT FTA Detail'!$C$4)*(Projects!$L$5:$L$2413='Local Detail'!$A57)*(Projects!$J$5:$J$2413<>'Local Detail'!$A$147)*(Projects!$O$5:$O$2413))))","v":0},0]
["NH","National Highway System","Local Other FHWA",{"$f":"SUMPRODUCT((Projects!$A$5:$A$2413='Local Detail'!$D$3)*(Projects!$C$5:$C$2413<>'MDOT FTA Detail'!$C$4)*(Projects!$L$5:$L$2413='Local Detail'!$A58)*(Projects!$K$5:$K$2413))","v":0},{"$f":"((SUMPRODUCT((Projects!$A$5:$A$2413='Local Detail'!$D$3)*(Projects!$C$5:$C$2413<>'MDOT FTA Detail'!$C$4)*(Projects!$L$5:$L$2413='Local Detail'!$A58)*(Projects!$J$5:$J$2413<>'Local Detail'!$A$147)*(Projects!$M$5:$M$2413)))+(SUMPRODUCT((Projects!$A$5:$A$2413='Local Detail'!$D$3)*(Projects!$C$5:$C$2413<>'MDOT FTA Detail'!$C$4)*(Projects!$L$5:$L$2413='Local Detail'!$A58)*(Projects!$J$5:$J$2413<>'Local Detail'!$A$147)*(Projects!$O$5:$O$2413))))","v":0},0,{"$f":"SUMPRODUCT((Projects!$A$5:$A$2413='Local Detail'!$G$3)*(Projects!$C$5:$C$2413<>'MDOT FTA Detail'!$C$4)*(Projects!$L$5:$L$2413='Local Detail'!$A58)*(Projects!$K$5:$K$2413))","v":0},{"$f":"((SUMPRODUCT((Projects!$A$5:$A$2413='Local Detail'!$G$3)*(Projects!$C$5:$C$2413<>'MDOT FTA Detail'!$C$4)*(Projects!$L$5:$L$2413='Local Detail'!$A58)*(Projects!$J$5:$J$2413<>'Local Detail'!$A$147)*(Projects!$M$5:$M$2413)))+(SUMPRODUCT((Projects!$A$5:$A$2413='Local Detail'!$G$3)*(Projects!$C$5:$C$2413<>'MDOT FTA Detail'!$C$4)*(Projects!$L$5:$L$2413='Local Detail'!$A58)*(Projects!$J$5:$J$2413<>'Local Detail'!$A$147)*(Projects!$O$5:$O$2413))))","v":0},0,{"$f":"SUMPRODUCT((Projects!$A$5:$A$2413='Local Detail'!$J$3)*(Projects!$C$5:$C$2413<>'MDOT FTA Detail'!$C$4)*(Projects!$L$5:$L$2413='Local Detail'!$A58)*(Projects!$K$5:$K$2413))","v":0},{"$f":"((SUMPRODUCT((Projects!$A$5:$A$2413='Local Detail'!$J$3)*(Projects!$C$5:$C$2413<>'MDOT FTA Detail'!$C$4)*(Projects!$L$5:$L$2413='Local Detail'!$A58)*(Projects!$J$5:$J$2413<>'Local Detail'!$A$147)*(Projects!$M$5:$M$2413)))+(SUMPRODUCT((Projects!$A$5:$A$2413='Local Detail'!$J$3)*(Projects!$C$5:$C$2413<>'MDOT FTA Detail'!$C$4)*(Projects!$L$5:$L$2413='Local Detail'!$A58)*(Projects!$J$5:$J$2413<>'Local Detail'!$A$147)*(Projects!$O$5:$O$2413))))","v":0},0,{"$f":"SUMPRODUCT((Projects!$A$5:$A$2413='Local Detail'!$M$3)*(Projects!$C$5:$C$2413<>'MDOT FTA Detail'!$C$4)*(Projects!$L$5:$L$2413='Local Detail'!$A58)*(Projects!$K$5:$K$2413))","v":0},{"$f":"((SUMPRODUCT((Projects!$A$5:$A$2413='Local Detail'!$M$3)*(Projects!$C$5:$C$2413<>'MDOT FTA Detail'!$C$4)*(Projects!$L$5:$L$2413='Local Detail'!$A58)*(Projects!$J$5:$J$2413<>'Local Detail'!$A$147)*(Projects!$M$5:$M$2413)))+(SUMPRODUCT((Projects!$A$5:$A$2413='Local Detail'!$M$3)*(Projects!$C$5:$C$2413<>'MDOT FTA Detail'!$C$4)*(Projects!$L$5:$L$2413='Local Detail'!$A58)*(Projects!$J$5:$J$2413<>'Local Detail'!$A$147)*(Projects!$O$5:$O$2413))))","v":0},0]
["NHG","National Highway System - Safety - 100% Federal","Local Other FHWA",{"$f":"SUMPRODUCT((Projects!$A$5:$A$2413='Local Detail'!$D$3)*(Projects!$C$5:$C$2413<>'MDOT FTA Detail'!$C$4)*(Projects!$L$5:$L$2413='Local Detail'!$A59)*(Projects!$K$5:$K$2413))","v":0},{"$f":"((SUMPRODUCT((Projects!$A$5:$A$2413='Local Detail'!$D$3)*(Projects!$C$5:$C$2413<>'MDOT FTA Detail'!$C$4)*(Projects!$L$5:$L$2413='Local Detail'!$A59)*(Projects!$J$5:$J$2413<>'Local Detail'!$A$147)*(Projects!$M$5:$M$2413)))+(SUMPRODUCT((Projects!$A$5:$A$2413='Local Detail'!$D$3)*(Projects!$C$5:$C$2413<>'MDOT FTA Detail'!$C$4)*(Projects!$L$5:$L$2413='Local Detail'!$A59)*(Projects!$J$5:$J$2413<>'Local Detail'!$A$147)*(Projects!$O$5:$O$2413))))","v":0},0,{"$f":"SUMPRODUCT((Projects!$A$5:$A$2413='Local Detail'!$G$3)*(Projects!$C$5:$C$2413<>'MDOT FTA Detail'!$C$4)*(Projects!$L$5:$L$2413='Local Detail'!$A59)*(Projects!$K$5:$K$2413))","v":0},{"$f":"((SUMPRODUCT((Projects!$A$5:$A$2413='Local Detail'!$G$3)*(Projects!$C$5:$C$2413<>'MDOT FTA Detail'!$C$4)*(Projects!$L$5:$L$2413='Local Detail'!$A59)*(Projects!$J$5:$J$2413<>'Local Detail'!$A$147)*(Projects!$M$5:$M$2413)))+(SUMPRODUCT((Projects!$A$5:$A$2413='Local Detail'!$G$3)*(Projects!$C$5:$C$2413<>'MDOT FTA Detail'!$C$4)*(Projects!$L$5:$L$2413='Local Detail'!$A59)*(Projects!$J$5:$J$2413<>'Local Detail'!$A$147)*(Projects!$O$5:$O$2413))))","v":0},0,{"$f":"SUMPRODUCT((Projects!$A$5:$A$2413='Local Detail'!$J$3)*(Projects!$C$5:$C$2413<>'MDOT FTA Detail'!$C$4)*(Projects!$L$5:$L$2413='Local Detail'!$A59)*(Projects!$K$5:$K$2413))","v":0},{"$f":"((SUMPRODUCT((Projects!$A$5:$A$2413='Local Detail'!$J$3)*(Projects!$C$5:$C$2413<>'MDOT FTA Detail'!$C$4)*(Projects!$L$5:$L$2413='Local Detail'!$A59)*(Projects!$J$5:$J$2413<>'Local Detail'!$A$147)*(Projects!$M$5:$M$2413)))+(SUMPRODUCT((Projects!$A$5:$A$2413='Local Detail'!$J$3)*(Projects!$C$5:$C$2413<>'MDOT FTA Detail'!$C$4)*(Projects!$L$5:$L$2413='Local Detail'!$A59)*(Projects!$J$5:$J$2413<>'Local Detail'!$A$147)*(Projects!$O$5:$O$2413))))","v":0},0,{"$f":"SUMPRODUCT((Projects!$A$5:$A$2413='Local Detail'!$M$3)*(Projects!$C$5:$C$2413<>'MDOT FTA Detail'!$C$4)*(Projects!$L$5:$L$2413='Local Detail'!$A59)*(Projects!$K$5:$K$2413))","v":0},{"$f":"((SUMPRODUCT((Projects!$A$5:$A$2413='Local Detail'!$M$3)*(Projects!$C$5:$C$2413<>'MDOT FTA Detail'!$C$4)*(Projects!$L$5:$L$2413='Local Detail'!$A59)*(Projects!$J$5:$J$2413<>'Local Detail'!$A$147)*(Projects!$M$5:$M$2413)))+(SUMPRODUCT((Projects!$A$5:$A$2413='Local Detail'!$M$3)*(Projects!$C$5:$C$2413<>'MDOT FTA Detail'!$C$4)*(Projects!$L$5:$L$2413='Local Detail'!$A59)*(Projects!$J$5:$J$2413<>'Local Detail'!$A$147)*(Projects!$O$5:$O$2413))))","v":0},0]
["NHI","National Highway Funds on I (Does not Qualify for I)","Local Other FHWA",{"$f":"SUMPRODUCT((Projects!$A$5:$A$2413='Local Detail'!$D$3)*(Projects!$C$5:$C$2413<>'MDOT FTA Detail'!$C$4)*(Projects!$L$5:$L$2413='Local Detail'!$A60)*(Projects!$K$5:$K$2413))","v":0},{"$f":"((SUMPRODUCT((Projects!$A$5:$A$2413='Local Detail'!$D$3)*(Projects!$C$5:$C$2413<>'MDOT FTA Detail'!$C$4)*(Projects!$L$5:$L$2413='Local Detail'!$A60)*(Projects!$J$5:$J$2413<>'Local Detail'!$A$147)*(Projects!$M$5:$M$2413)))+(SUMPRODUCT((Projects!$A$5:$A$2413='Local Detail'!$D$3)*(Projects!$C$5:$C$2413<>'MDOT FTA Detail'!$C$4)*(Projects!$L$5:$L$2413='Local Detail'!$A60)*(Projects!$J$5:$J$2413<>'Local Detail'!$A$147)*(Projects!$O$5:$O$2413))))","v":0},0,{"$f":"SUMPRODUCT((Projects!$A$5:$A$2413='Local Detail'!$G$3)*(Projects!$C$5:$C$2413<>'MDOT FTA Detail'!$C$4)*(Projects!$L$5:$L$2413='Local Detail'!$A60)*(Projects!$K$5:$K$2413))","v":0},{"$f":"((SUMPRODUCT((Projects!$A$5:$A$2413='Local Detail'!$G$3)*(Projects!$C$5:$C$2413<>'MDOT FTA Detail'!$C$4)*(Projects!$L$5:$L$2413='Local Detail'!$A60)*(Projects!$J$5:$J$2413<>'Local Detail'!$A$147)*(Projects!$M$5:$M$2413)))+(SUMPRODUCT((Projects!$A$5:$A$2413='Local Detail'!$G$3)*(Projects!$C$5:$C$2413<>'MDOT FTA Detail'!$C$4)*(Projects!$L$5:$L$2413='Local Detail'!$A60)*(Projects!$J$5:$J$2413<>'Local Detail'!$A$147)*(Projects!$O$5:$O$2413))))","v":0},0,{"$f":"SUMPRODUCT((Projects!$A$5:$A$2413='Local Detail'!$J$3)*(Projects!$C$5:$C$2413<>'MDOT FTA Detail'!$C$4)*(Projects!$L$5:$L$2413='Local Detail'!$A60)*(Projects!$K$5:$K$2413))","v":0},{"$f":"((SUMPRODUCT((Projects!$A$5:$A$2413='Local Detail'!$J$3)*(Projects!$C$5:$C$2413<>'MDOT FTA Detail'!$C$4)*(Projects!$L$5:$L$2413='Local Detail'!$A60)*(Projects!$J$5:$J$2413<>'Local Detail'!$A$147)*(Projects!$M$5:$M$2413)))+(SUMPRODUCT((Projects!$A$5:$A$2413='Local Detail'!$J$3)*(Projects!$C$5:$C$2413<>'MDOT FTA Detail'!$C$4)*(Projects!$L$5:$L$2413='Local Detail'!$A60)*(Projects!$J$5:$J$2413<>'Local Detail'!$A$147)*(Projects!$O$5:$O$2413))))","v":0},0,{"$f":"SUMPRODUCT((Projects!$A$5:$A$2413='Local Detail'!$M$3)*(Projects!$C$5:$C$2413<>'MDOT FTA Detail'!$C$4)*(Projects!$L$5:$L$2413='Local Detail'!$A60)*(Projects!$K$5:$K$2413))","v":0},{"$f":"((SUMPRODUCT((Projects!$A$5:$A$2413='Local Detail'!$M$3)*(Projects!$C$5:$C$2413<>'MDOT FTA Detail'!$C$4)*(Projects!$L$5:$L$2413='Local Detail'!$A60)*(Projects!$J$5:$J$2413<>'Local Detail'!$A$147)*(Projects!$M$5:$M$2413)))+(SUMPRODUCT((Projects!$A$5:$A$2413='Local Detail'!$M$3)*(Projects!$C$5:$C$2413<>'MDOT FTA Detail'!$C$4)*(Projects!$L$5:$L$2413='Local Detail'!$A60)*(Projects!$J$5:$J$2413<>'Local Detail'!$A$147)*(Projects!$O$5:$O$2413))))","v":0},0]
["NHIM","National Highway Funds on I (Qualifies for IM)","Local Other FHWA",{"$f":"SUMPRODUCT((Projects!$A$5:$A$2413='Local Detail'!$D$3)*(Projects!$C$5:$C$2413<>'MDOT FTA Detail'!$C$4)*(Projects!$L$5:$L$2413='Local Detail'!$A61)*(Projects!$K$5:$K$2413))","v":0},{"$f":"((SUMPRODUCT((Projects!$A$5:$A$2413='Local Detail'!$D$3)*(Projects!$C$5:$C$2413<>'MDOT FTA Detail'!$C$4)*(Projects!$L$5:$L$2413='Local Detail'!$A61)*(Projects!$J$5:$J$2413<>'Local Detail'!$A$147)*(Projects!$M$5:$M$2413)))+(SUMPRODUCT((Projects!$A$5:$A$2413='Local Detail'!$D$3)*(Projects!$C$5:$C$2413<>'MDOT FTA Detail'!$C$4)*(Projects!$L$5:$L$2413='Local Detail'!$A61)*(Projects!$J$5:$J$2413<>'Local Detail'!$A$147)*(Projects!$O$5:$O$2413))))","v":0},0,{"$f":"SUMPRODUCT((Projects!$A$5:$A$2413='Local Detail'!$G$3)*(Projects!$C$5:$C$2413<>'MDOT FTA Detail'!$C$4)*(Projects!$L$5:$L$2413='Local Detail'!$A61)*(Projects!$K$5:$K$2413))","v":0},{"$f":"((SUMPRODUCT((Projects!$A$5:$A$2413='Local Detail'!$G$3)*(Projects!$C$5:$C$2413<>'MDOT FTA Detail'!$C$4)*(Projects!$L$5:$L$2413='Local Detail'!$A61)*(Projects!$J$5:$J$2413<>'Local Detail'!$A$147)*(Projects!$M$5:$M$2413)))+(SUMPRODUCT((Projects!$A$5:$A$2413='Local Detail'!$G$3)*(Projects!$C$5:$C$2413<>'MDOT FTA Detail'!$C$4)*(Projects!$L$5:$L$2413='Local Detail'!$A61)*(Projects!$J$5:$J$2413<>'Local Detail'!$A$147)*(Projects!$O$5:$O$2413))))","v":0},0,{"$f":"SUMPRODUCT((Projects!$A$5:$A$2413='Local Detail'!$J$3)*(Projects!$C$5:$C$2413<>'MDOT FTA Detail'!$C$4)*(Projects!$L$5:$L$2413='Local Detail'!$A61)*(Projects!$K$5:$K$2413))","v":0},{"$f":"((SUMPRODUCT((Projects!$A$5:$A$2413='Local Detail'!$J$3)*(Projects!$C$5:$C$2413<>'MDOT FTA Detail'!$C$4)*(Projects!$L$5:$L$2413='Local Detail'!$A61)*(Projects!$J$5:$J$2413<>'Local Detail'!$A$147)*(Projects!$M$5:$M$2413)))+(SUMPRODUCT((Projects!$A$5:$A$2413='Local Detail'!$J$3)*(Projects!$C$5:$C$2413<>'MDOT FTA Detail'!$C$4)*(Projects!$L$5:$L$2413='Local Detail'!$A61)*(Projects!$J$5:$J$2413<>'Local Detail'!$A$147)*(Projects!$O$5:$O$2413))))","v":0},0,{"$f":"SUMPRODUCT((Projects!$A$5:$A$2413='Local Detail'!$M$3)*(Projects!$C$5:$C$2413<>'MDOT FTA Detail'!$C$4)*(Projects!$L$5:$L$2413='Local Detail'!$A61)*(Projects!$K$5:$K$2413))","v":0},{"$f":"((SUMPRODUCT((Projects!$A$5:$A$2413='Local Detail'!$M$3)*(Projects!$C$5:$C$2413<>'MDOT FTA Detail'!$C$4)*(Projects!$L$5:$L$2413='Local Detail'!$A61)*(Projects!$J$5:$J$2413<>'Local Detail'!$A$147)*(Projects!$M$5:$M$2413)))+(SUMPRODUCT((Projects!$A$5:$A$2413='Local Detail'!$M$3)*(Projects!$C$5:$C$2413<>'MDOT FTA Detail'!$C$4)*(Projects!$L$5:$L$2413='Local Detail'!$A61)*(Projects!$J$5:$J$2413<>'Local Detail'!$A$147)*(Projects!$O$5:$O$2413))))","v":0},0]
["NHS","National Highway System - MDOT Safety Program","Local Other FHWA",{"$f":"SUMPRODUCT((Projects!$A$5:$A$2413='Local Detail'!$D$3)*(Projects!$C$5:$C$2413<>'MDOT FTA Detail'!$C$4)*(Projects!$L$5:$L$2413='Local Detail'!$A62)*(Projects!$K$5:$K$2413))","v":0},{"$f":"((SUMPRODUCT((Projects!$A$5:$A$2413='Local Detail'!$D$3)*(Projects!$C$5:$C$2413<>'MDOT FTA Detail'!$C$4)*(Projects!$L$5:$L$2413='Local Detail'!$A62)*(Projects!$J$5:$J$2413<>'Local Detail'!$A$147)*(Projects!$M$5:$M$2413)))+(SUMPRODUCT((Projects!$A$5:$A$2413='Local Detail'!$D$3)*(Projects!$C$5:$C$2413<>'MDOT FTA Detail'!$C$4)*(Projects!$L$5:$L$2413='Local Detail'!$A62)*(Projects!$J$5:$J$2413<>'Local Detail'!$A$147)*(Projects!$O$5:$O$2413))))","v":0},0,{"$f":"SUMPRODUCT((Projects!$A$5:$A$2413='Local Detail'!$G$3)*(Projects!$C$5:$C$2413<>'MDOT FTA Detail'!$C$4)*(Projects!$L$5:$L$2413='Local Detail'!$A62)*(Projects!$K$5:$K$2413))","v":0},{"$f":"((SUMPRODUCT((Projects!$A$5:$A$2413='Local Detail'!$G$3)*(Projects!$C$5:$C$2413<>'MDOT FTA Detail'!$C$4)*(Projects!$L$5:$L$2413='Local Detail'!$A62)*(Projects!$J$5:$J$2413<>'Local Detail'!$A$147)*(Projects!$M$5:$M$2413)))+(SUMPRODUCT((Projects!$A$5:$A$2413='Local Detail'!$G$3)*(Projects!$C$5:$C$2413<>'MDOT FTA Detail'!$C$4)*(Projects!$L$5:$L$2413='Local Detail'!$A62)*(Projects!$J$5:$J$2413<>'Local Detail'!$A$147)*(Projects!$O$5:$O$2413))))","v":0},0,{"$f":"SUMPRODUCT((Projects!$A$5:$A$2413='Local Detail'!$J$3)*(Projects!$C$5:$C$2413<>'MDOT FTA Detail'!$C$4)*(Projects!$L$5:$L$2413='Local Detail'!$A62)*(Projects!$K$5:$K$2413))","v":0},{"$f":"((SUMPRODUCT((Projects!$A$5:$A$2413='Local Detail'!$J$3)*(Projects!$C$5:$C$2413<>'MDOT FTA Detail'!$C$4)*(Projects!$L$5:$L$2413='Local Detail'!$A62)*(Projects!$J$5:$J$2413<>'Local Detail'!$A$147)*(Projects!$M$5:$M$2413)))+(SUMPRODUCT((Projects!$A$5:$A$2413='Local Detail'!$J$3)*(Projects!$C$5:$C$2413<>'MDOT FTA Detail'!$C$4)*(Projects!$L$5:$L$2413='Local Detail'!$A62)*(Projects!$J$5:$J$2413<>'Local Detail'!$A$147)*(Projects!$O$5:$O$2413))))","v":0},0,{"$f":"SUMPRODUCT((Projects!$A$5:$A$2413='Local Detail'!$M$3)*(Projects!$C$5:$C$2413<>'MDOT FTA Detail'!$C$4)*(Projects!$L$5:$L$2413='Local Detail'!$A62)*(Projects!$K$5:$K$2413))","v":0},{"$f":"((SUMPRODUCT((Projects!$A$5:$A$2413='Local Detail'!$M$3)*(Projects!$C$5:$C$2413<>'MDOT FTA Detail'!$C$4)*(Projects!$L$5:$L$2413='Local Detail'!$A62)*(Projects!$J$5:$J$2413<>'Local Detail'!$A$147)*(Projects!$M$5:$M$2413)))+(SUMPRODUCT((Projects!$A$5:$A$2413='Local Detail'!$M$3)*(Projects!$C$5:$C$2413<>'MDOT FTA Detail'!$C$4)*(Projects!$L$5:$L$2413='Local Detail'!$A62)*(Projects!$J$5:$J$2413<>'Local Detail'!$A$147)*(Projects!$O$5:$O$2413))))","v":0},0]
["NRT","National Recreational Trails","Local Other FHWA",{"$f":"SUMPRODUCT((Projects!$A$5:$A$2413='Local Detail'!$D$3)*(Projects!$C$5:$C$2413<>'MDOT FTA Detail'!$C$4)*(Projects!$L$5:$L$2413='Local Detail'!$A63)*(Projects!$K$5:$K$2413))","v":0},{"$f":"((SUMPRODUCT((Projects!$A$5:$A$2413='Local Detail'!$D$3)*(Projects!$C$5:$C$2413<>'MDOT FTA Detail'!$C$4)*(Projects!$L$5:$L$2413='Local Detail'!$A63)*(Projects!$J$5:$J$2413<>'Local Detail'!$A$147)*(Projects!$M$5:$M$2413)))+(SUMPRODUCT((Projects!$A$5:$A$2413='Local Detail'!$D$3)*(Projects!$C$5:$C$2413<>'MDOT FTA Detail'!$C$4)*(Projects!$L$5:$L$2413='Local Detail'!$A63)*(Projects!$J$5:$J$2413<>'Local Detail'!$A$147)*(Projects!$O$5:$O$2413))))","v":0},0,{"$f":"SUMPRODUCT((Projects!$A$5:$A$2413='Local Detail'!$G$3)*(Projects!$C$5:$C$2413<>'MDOT FTA Detail'!$C$4)*(Projects!$L$5:$L$2413='Local Detail'!$A63)*(Projects!$K$5:$K$2413))","v":0},{"$f":"((SUMPRODUCT((Projects!$A$5:$A$2413='Local Detail'!$G$3)*(Projects!$C$5:$C$2413<>'MDOT FTA Detail'!$C$4)*(Projects!$L$5:$L$2413='Local Detail'!$A63)*(Projects!$J$5:$J$2413<>'Local Detail'!$A$147)*(Projects!$M$5:$M$2413)))+(SUMPRODUCT((Projects!$A$5:$A$2413='Local Detail'!$G$3)*(Projects!$C$5:$C$2413<>'MDOT FTA Detail'!$C$4)*(Projects!$L$5:$L$2413='Local Detail'!$A63)*(Projects!$J$5:$J$2413<>'Local Detail'!$A$147)*(Projects!$O$5:$O$2413))))","v":0},0,{"$f":"SUMPRODUCT((Projects!$A$5:$A$2413='Local Detail'!$J$3)*(Projects!$C$5:$C$2413<>'MDOT FTA Detail'!$C$4)*(Projects!$L$5:$L$2413='Local Detail'!$A63)*(Projects!$K$5:$K$2413))","v":0},{"$f":"((SUMPRODUCT((Projects!$A$5:$A$2413='Local Detail'!$J$3)*(Projects!$C$5:$C$2413<>'MDOT FTA Detail'!$C$4)*(Projects!$L$5:$L$2413='Local Detail'!$A63)*(Projects!$J$5:$J$2413<>'Local Detail'!$A$147)*(Projects!$M$5:$M$2413)))+(SUMPRODUCT((Projects!$A$5:$A$2413='Local Detail'!$J$3)*(Projects!$C$5:$C$2413<>'MDOT FTA Detail'!$C$4)*(Projects!$L$5:$L$2413='Local Detail'!$A63)*(Projects!$J$5:$J$2413<>'Local Detail'!$A$147)*(Projects!$O$5:$O$2413))))","v":0},0,{"$f":"SUMPRODUCT((Projects!$A$5:$A$2413='Local Detail'!$M$3)*(Projects!$C$5:$C$2413<>'MDOT FTA Detail'!$C$4)*(Projects!$L$5:$L$2413='Local Detail'!$A63)*(Projects!$K$5:$K$2413))","v":0},{"$f":"((SUMPRODUCT((Projects!$A$5:$A$2413='Local Detail'!$M$3)*(Projects!$C$5:$C$2413<>'MDOT FTA Detail'!$C$4)*(Projects!$L$5:$L$2413='Local Detail'!$A63)*(Projects!$J$5:$J$2413<>'Local Detail'!$A$147)*(Projects!$M$5:$M$2413)))+(SUMPRODUCT((Projects!$A$5:$A$2413='Local Detail'!$M$3)*(Projects!$C$5:$C$2413<>'MDOT FTA Detail'!$C$4)*(Projects!$L$5:$L$2413='Local Detail'!$A63)*(Projects!$J$5:$J$2413<>'Local Detail'!$A$147)*(Projects!$O$5:$O$2413))))","v":0},0]
["OFHWA","Other FHWA Funds (Specify source in Comments)","Local Other FHWA",{"$f":"SUMPRODUCT((Projects!$A$5:$A$2413='Local Detail'!$D$3)*(Projects!$C$5:$C$2413<>'MDOT FTA Detail'!$C$4)*(Projects!$L$5:$L$2413='Local Detail'!$A64)*(Projects!$K$5:$K$2413))","v":0},{"$f":"((SUMPRODUCT((Projects!$A$5:$A$2413='Local Detail'!$D$3)*(Projects!$C$5:$C$2413<>'MDOT FTA Detail'!$C$4)*(Projects!$L$5:$L$2413='Local Detail'!$A64)*(Projects!$J$5:$J$2413<>'Local Detail'!$A$147)*(Projects!$M$5:$M$2413)))+(SUMPRODUCT((Projects!$A$5:$A$2413='Local Detail'!$D$3)*(Projects!$C$5:$C$2413<>'MDOT FTA Detail'!$C$4)*(Projects!$L$5:$L$2413='Local Detail'!$A64)*(Projects!$J$5:$J$2413<>'Local Detail'!$A$147)*(Projects!$O$5:$O$2413))))","v":0},0,{"$f":"SUMPRODUCT((Projects!$A$5:$A$2413='Local Detail'!$G$3)*(Projects!$C$5:$C$2413<>'MDOT FTA Detail'!$C$4)*(Projects!$L$5:$L$2413='Local Detail'!$A64)*(Projects!$K$5:$K$2413))","v":0},{"$f":"((SUMPRODUCT((Projects!$A$5:$A$2413='Local Detail'!$G$3)*(Projects!$C$5:$C$2413<>'MDOT FTA Detail'!$C$4)*(Projects!$L$5:$L$2413='Local Detail'!$A64)*(Projects!$J$5:$J$2413<>'Local Detail'!$A$147)*(Projects!$M$5:$M$2413)))+(SUMPRODUCT((Projects!$A$5:$A$2413='Local Detail'!$G$3)*(Projects!$C$5:$C$2413<>'MDOT FTA Detail'!$C$4)*(Projects!$L$5:$L$2413='Local Detail'!$A64)*(Projects!$J$5:$J$2413<>'Local Detail'!$A$147)*(Projects!$O$5:$O$2413))))","v":0},0,{"$f":"SUMPRODUCT((Projects!$A$5:$A$2413='Local Detail'!$J$3)*(Projects!$C$5:$C$2413<>'MDOT FTA Detail'!$C$4)*(Projects!$L$5:$L$2413='Local Detail'!$A64)*(Projects!$K$5:$K$2413))","v":0},{"$f":"((SUMPRODUCT((Projects!$A$5:$A$2413='Local Detail'!$J$3)*(Projects!$C$5:$C$2413<>'MDOT FTA Detail'!$C$4)*(Projects!$L$5:$L$2413='Local Detail'!$A64)*(Projects!$J$5:$J$2413<>'Local Detail'!$A$147)*(Projects!$M$5:$M$2413)))+(SUMPRODUCT((Projects!$A$5:$A$2413='Local Detail'!$J$3)*(Projects!$C$5:$C$2413<>'MDOT FTA Detail'!$C$4)*(Projects!$L$5:$L$2413='Local Detail'!$A64)*(Projects!$J$5:$J$2413<>'Local Detail'!$A$147)*(Projects!$O$5:$O$2413))))","v":0},0,{"$f":"SUMPRODUCT((Projects!$A$5:$A$2413='Local Detail'!$M$3)*(Projects!$C$5:$C$2413<>'MDOT FTA Detail'!$C$4)*(Projects!$L$5:$L$2413='Local Detail'!$A64)*(Projects!$K$5:$K$2413))","v":0},{"$f":"((SUMPRODUCT((Projects!$A$5:$A$2413='Local Detail'!$M$3)*(Projects!$C$5:$C$2413<>'MDOT FTA Detail'!$C$4)*(Projects!$L$5:$L$2413='Local Detail'!$A64)*(Projects!$J$5:$J$2413<>'Local Detail'!$A$147)*(Projects!$M$5:$M$2413)))+(SUMPRODUCT((Projects!$A$5:$A$2413='Local Detail'!$M$3)*(Projects!$C$5:$C$2413<>'MDOT FTA Detail'!$C$4)*(Projects!$L$5:$L$2413='Local Detail'!$A64)*(Projects!$J$5:$J$2413<>'Local Detail'!$A$147)*(Projects!$O$5:$O$2413))))","v":0},0]
["PNRS","Projects of National and Regional Significance","Local Other FHWA",{"$f":"SUMPRODUCT((Projects!$A$5:$A$2413='Local Detail'!$D$3)*(Projects!$C$5:$C$2413<>'MDOT FTA Detail'!$C$4)*(Projects!$L$5:$L$2413='Local Detail'!$A65)*(Projects!$K$5:$K$2413))","v":0},{"$f":"((SUMPRODUCT((Projects!$A$5:$A$2413='Local Detail'!$D$3)*(Projects!$C$5:$C$2413<>'MDOT FTA Detail'!$C$4)*(Projects!$L$5:$L$2413='Local Detail'!$A65)*(Projects!$J$5:$J$2413<>'Local Detail'!$A$147)*(Projects!$M$5:$M$2413)))+(SUMPRODUCT((Projects!$A$5:$A$2413='Local Detail'!$D$3)*(Projects!$C$5:$C$2413<>'MDOT FTA Detail'!$C$4)*(Projects!$L$5:$L$2413='Local Detail'!$A65)*(Projects!$J$5:$J$2413<>'Local Detail'!$A$147)*(Projects!$O$5:$O$2413))))","v":0},{"$f":"D65+E65","v":0},{"$f":"SUMPRODUCT((Projects!$A$5:$A$2413='Local Detail'!$G$3)*(Projects!$C$5:$C$2413<>'MDOT FTA Detail'!$C$4)*(Projects!$L$5:$L$2413='Local Detail'!$A65)*(Projects!$K$5:$K$2413))","v":0},{"$f":"((SUMPRODUCT((Projects!$A$5:$A$2413='Local Detail'!$G$3)*(Projects!$C$5:$C$2413<>'MDOT FTA Detail'!$C$4)*(Projects!$L$5:$L$2413='Local Detail'!$A65)*(Projects!$J$5:$J$2413<>'Local Detail'!$A$147)*(Projects!$M$5:$M$2413)))+(SUMPRODUCT((Projects!$A$5:$A$2413='Local Detail'!$G$3)*(Projects!$C$5:$C$2413<>'MDOT FTA Detail'!$C$4)*(Projects!$L$5:$L$2413='Local Detail'!$A65)*(Projects!$J$5:$J$2413<>'Local Detail'!$A$147)*(Projects!$O$5:$O$2413))))","v":0},{"$f":"G65+H65","v":0},{"$f":"SUMPRODUCT((Projects!$A$5:$A$2413='Local Detail'!$J$3)*(Projects!$C$5:$C$2413<>'MDOT FTA Detail'!$C$4)*(Projects!$L$5:$L$2413='Local Detail'!$A65)*(Projects!$K$5:$K$2413))","v":0},{"$f":"((SUMPRODUCT((Projects!$A$5:$A$2413='Local Detail'!$J$3)*(Projects!$C$5:$C$2413<>'MDOT FTA Detail'!$C$4)*(Projects!$L$5:$L$2413='Local Detail'!$A65)*(Projects!$J$5:$J$2413<>'Local Detail'!$A$147)*(Projects!$M$5:$M$2413)))+(SUMPRODUCT((Projects!$A$5:$A$2413='Local Detail'!$J$3)*(Projects!$C$5:$C$2413<>'MDOT FTA Detail'!$C$4)*(Projects!$L$5:$L$2413='Local Detail'!$A65)*(Projects!$J$5:$J$2413<>'Local Detail'!$A$147)*(Projects!$O$5:$O$2413))))","v":0},{"$f":"J65+K65","v":0},{"$f":"SUMPRODUCT((Projects!$A$5:$A$2413='Local Detail'!$M$3)*(Projects!$C$5:$C$2413<>'MDOT FTA Detail'!$C$4)*(Projects!$L$5:$L$2413='Local Detail'!$A65)*(Projects!$K$5:$K$2413))","v":0},{"$f":"((SUMPRODUCT((Projects!$A$5:$A$2413='Local Detail'!$M$3)*(Projects!$C$5:$C$2413<>'MDOT FTA Detail'!$C$4)*(Projects!$L$5:$L$2413='Local Detail'!$A65)*(Projects!$J$5:$J$2413<>'Local Detail'!$A$147)*(Projects!$M$5:$M$2413)))+(SUMPRODUCT((Projects!$A$5:$A$2413='Local Detail'!$M$3)*(Projects!$C$5:$C$2413<>'MDOT FTA Detail'!$C$4)*(Projects!$L$5:$L$2413='Local Detail'!$A65)*(Projects!$J$5:$J$2413<>'Local Detail'!$A$147)*(Projects!$O$5:$O$2413))))","v":0},{"$f":"M65+N65","v":0}]
["PRIP","Priority Roads Investment Program","Local Other FHWA",{"$f":"SUMPRODUCT((Projects!$A$5:$A$2413='Local Detail'!$D$3)*(Projects!$C$5:$C$2413<>'MDOT FTA Detail'!$C$4)*(Projects!$L$5:$L$2413='Local Detail'!$A66)*(Projects!$K$5:$K$2413))","v":0},{"$f":"((SUMPRODUCT((Projects!$A$5:$A$2413='Local Detail'!$D$3)*(Projects!$C$5:$C$2413<>'MDOT FTA Detail'!$C$4)*(Projects!$L$5:$L$2413='Local Detail'!$A66)*(Projects!$J$5:$J$2413<>'Local Detail'!$A$147)*(Projects!$M$5:$M$2413)))+(SUMPRODUCT((Projects!$A$5:$A$2413='Local Detail'!$D$3)*(Projects!$C$5:$C$2413<>'MDOT FTA Detail'!$C$4)*(Projects!$L$5:$L$2413='Local Detail'!$A66)*(Projects!$J$5:$J$2413<>'Local Detail'!$A$147)*(Projects!$O$5:$O$2413))))","v":0},{"$f":"D66+E66","v":0},{"$f":"SUMPRODUCT((Projects!$A$5:$A$2413='Local Detail'!$G$3)*(Projects!$C$5:$C$2413<>'MDOT FTA Detail'!$C$4)*(Projects!$L$5:$L$2413='Local Detail'!$A66)*(Projects!$K$5:$K$2413))","v":0},{"$f":"((SUMPRODUCT((Projects!$A$5:$A$2413='Local Detail'!$G$3)*(Projects!$C$5:$C$2413<>'MDOT FTA Detail'!$C$4)*(Projects!$L$5:$L$2413='Local Detail'!$A66)*(Projects!$J$5:$J$2413<>'Local Detail'!$A$147)*(Projects!$M$5:$M$2413)))+(SUMPRODUCT((Projects!$A$5:$A$2413='Local Detail'!$G$3)*(Projects!$C$5:$C$2413<>'MDOT FTA Detail'!$C$4)*(Projects!$L$5:$L$2413='Local Detail'!$A66)*(Projects!$J$5:$J$2413<>'Local Detail'!$A$147)*(Projects!$O$5:$O$2413))))","v":0},{"$f":"G66+H66","v":0},{"$f":"SUMPRODUCT((Projects!$A$5:$A$2413='Local Detail'!$J$3)*(Projects!$C$5:$C$2413<>'MDOT FTA Detail'!$C$4)*(Projects!$L$5:$L$2413='Local Detail'!$A66)*(Projects!$K$5:$K$2413))","v":0},{"$f":"((SUMPRODUCT((Projects!$A$5:$A$2413='Local Detail'!$J$3)*(Projects!$C$5:$C$2413<>'MDOT FTA Detail'!$C$4)*(Projects!$L$5:$L$2413='Local Detail'!$A66)*(Projects!$J$5:$J$2413<>'Local Detail'!$A$147)*(Projects!$M$5:$M$2413)))+(SUMPRODUCT((Projects!$A$5:$A$2413='Local Detail'!$J$3)*(Projects!$C$5:$C$2413<>'MDOT FTA Detail'!$C$4)*(Projects!$L$5:$L$2413='Local Detail'!$A66)*(Projects!$J$5:$J$2413<>'Local Detail'!$A$147)*(Projects!$O$5:$O$2413))))","v":0},{"$f":"J66+K66","v":0},{"$f":"SUMPRODUCT((Projects!$A$5:$A$2413='Local Detail'!$M$3)*(Projects!$C$5:$C$2413<>'MDOT FTA Detail'!$C$4)*(Projects!$L$5:$L$2413='Local Detail'!$A66)*(Projects!$K$5:$K$2413))","v":0},{"$f":"((SUMPRODUCT((Projects!$A$5:$A$2413='Local Detail'!$M$3)*(Projects!$C$5:$C$2413<>'MDOT FTA Detail'!$C$4)*(Projects!$L$5:$L$2413='Local Detail'!$A66)*(Projects!$J$5:$J$2413<>'Local Detail'!$A$147)*(Projects!$M$5:$M$2413)))+(SUMPRODUCT((Projects!$A$5:$A$2413='Local Detail'!$M$3)*(Projects!$C$5:$C$2413<>'MDOT FTA Detail'!$C$4)*(Projects!$L$5:$L$2413='Local Detail'!$A66)*(Projects!$J$5:$J$2413<>'Local Detail'!$A$147)*(Projects!$O$5:$O$2413))))","v":0},{"$f":"M66+N66","v":0}]
["RP","Research Project","Local Other FHWA",{"$f":"SUMPRODUCT((Projects!$A$5:$A$2413='Local Detail'!$D$3)*(Projects!$C$5:$C$2413<>'MDOT FTA Detail'!$C$4)*(Projects!$L$5:$L$2413='Local Detail'!$A67)*(Projects!$K$5:$K$2413))","v":0},{"$f":"((SUMPRODUCT((Projects!$A$5:$A$2413='Local Detail'!$D$3)*(Projects!$C$5:$C$2413<>'MDOT FTA Detail'!$C$4)*(Projects!$L$5:$L$2413='Local Detail'!$A67)*(Projects!$J$5:$J$2413<>'Local Detail'!$A$147)*(Projects!$M$5:$M$2413)))+(SUMPRODUCT((Projects!$A$5:$A$2413='Local Detail'!$D$3)*(Projects!$C$5:$C$2413<>'MDOT FTA Detail'!$C$4)*(Projects!$L$5:$L$2413='Local Detail'!$A67)*(Projects!$J$5:$J$2413<>'Local Detail'!$A$147)*(Projects!$O$5:$O$2413))))","v":0},0,{"$f":"SUMPRODUCT((Projects!$A$5:$A$2413='Local Detail'!$G$3)*(Projects!$C$5:$C$2413<>'MDOT FTA Detail'!$C$4)*(Projects!$L$5:$L$2413='Local Detail'!$A67)*(Projects!$K$5:$K$2413))","v":0},{"$f":"((SUMPRODUCT((Projects!$A$5:$A$2413='Local Detail'!$G$3)*(Projects!$C$5:$C$2413<>'MDOT FTA Detail'!$C$4)*(Projects!$L$5:$L$2413='Local Detail'!$A67)*(Projects!$J$5:$J$2413<>'Local Detail'!$A$147)*(Projects!$M$5:$M$2413)))+(SUMPRODUCT((Projects!$A$5:$A$2413='Local Detail'!$G$3)*(Projects!$C$5:$C$2413<>'MDOT FTA Detail'!$C$4)*(Projects!$L$5:$L$2413='Local Detail'!$A67)*(Projects!$J$5:$J$2413<>'Local Detail'!$A$147)*(Projects!$O$5:$O$2413))))","v":0},0,{"$f":"SUMPRODUCT((Projects!$A$5:$A$2413='Local Detail'!$J$3)*(Projects!$C$5:$C$2413<>'MDOT FTA Detail'!$C$4)*(Projects!$L$5:$L$2413='Local Detail'!$A67)*(Projects!$K$5:$K$2413))","v":0},{"$f":"((SUMPRODUCT((Projects!$A$5:$A$2413='Local Detail'!$J$3)*(Projects!$C$5:$C$2413<>'MDOT FTA Detail'!$C$4)*(Projects!$L$5:$L$2413='Local Detail'!$A67)*(Projects!$J$5:$J$2413<>'Local Detail'!$A$147)*(Projects!$M$5:$M$2413)))+(SUMPRODUCT((Projects!$A$5:$A$2413='Local Detail'!$J$3)*(Projects!$C$5:$C$2413<>'MDOT FTA Detail'!$C$4)*(Projects!$L$5:$L$2413='Local Detail'!$A67)*(Projects!$J$5:$J$2413<>'Local Detail'!$A$147)*(Projects!$O$5:$O$2413))))","v":0},0,{"$f":"SUMPRODUCT((Projects!$A$5:$A$2413='Local Detail'!$M$3)*(Projects!$C$5:$C$2413<>'MDOT FTA Detail'!$C$4)*(Projects!$L$5:$L$2413='Local Detail'!$A67)*(Projects!$K$5:$K$2413))","v":0},{"$f":"((SUMPRODUCT((Projects!$A$5:$A$2413='Local Detail'!$M$3)*(Projects!$C$5:$C$2413<>'MDOT FTA Detail'!$C$4)*(Projects!$L$5:$L$2413='Local Detail'!$A67)*(Projects!$J$5:$J$2413<>'Local Detail'!$A$147)*(Projects!$M$5:$M$2413)))+(SUMPRODUCT((Projects!$A$5:$A$2413='Local Detail'!$M$3)*(Projects!$C$5:$C$2413<>'MDOT FTA Detail'!$C$4)*(Projects!$L$5:$L$2413='Local Detail'!$A67)*(Projects!$J$5:$J$2413<>'Local Detail'!$A$147)*(Projects!$O$5:$O$2413))))","v":0},0]
["RPH","American Recovery and Reinvestment Act","Local Other FHWA",{"$f":"SUMPRODUCT((Projects!$A$5:$A$2413='Local Detail'!$D$3)*(Projects!$C$5:$C$2413<>'MDOT FTA Detail'!$C$4)*(Projects!$L$5:$L$2413='Local Detail'!$A68)*(Projects!$K$5:$K$2413))","v":0},{"$f":"((SUMPRODUCT((Projects!$A$5:$A$2413='Local Detail'!$D$3)*(Projects!$C$5:$C$2413<>'MDOT FTA Detail'!$C$4)*(Projects!$L$5:$L$2413='Local Detail'!$A68)*(Projects!$J$5:$J$2413<>'Local Detail'!$A$147)*(Projects!$M$5:$M$2413)))+(SUMPRODUCT((Projects!$A$5:$A$2413='Local Detail'!$D$3)*(Projects!$C$5:$C$2413<>'MDOT FTA Detail'!$C$4)*(Projects!$L$5:$L$2413='Local Detail'!$A68)*(Projects!$J$5:$J$2413<>'Local Detail'!$A$147)*(Projects!$O$5:$O$2413))))","v":0},0,{"$f":"SUMPRODUCT((Projects!$A$5:$A$2413='Local Detail'!$G$3)*(Projects!$C$5:$C$2413<>'MDOT FTA Detail'!$C$4)*(Projects!$L$5:$L$2413='Local Detail'!$A68)*(Projects!$K$5:$K$2413))","v":0},{"$f":"((SUMPRODUCT((Projects!$A$5:$A$2413='Local Detail'!$G$3)*(Projects!$C$5:$C$2413<>'MDOT FTA Detail'!$C$4)*(Projects!$L$5:$L$2413='Local Detail'!$A68)*(Projects!$J$5:$J$2413<>'Local Detail'!$A$147)*(Projects!$M$5:$M$2413)))+(SUMPRODUCT((Projects!$A$5:$A$2413='Local Detail'!$G$3)*(Projects!$C$5:$C$2413<>'MDOT FTA Detail'!$C$4)*(Projects!$L$5:$L$2413='Local Detail'!$A68)*(Projects!$J$5:$J$2413<>'Local Detail'!$A$147)*(Projects!$O$5:$O$2413))))","v":0},0,{"$f":"SUMPRODUCT((Projects!$A$5:$A$2413='Local Detail'!$J$3)*(Projects!$C$5:$C$2413<>'MDOT FTA Detail'!$C$4)*(Projects!$L$5:$L$2413='Local Detail'!$A68)*(Projects!$K$5:$K$2413))","v":0},{"$f":"((SUMPRODUCT((Projects!$A$5:$A$2413='Local Detail'!$J$3)*(Projects!$C$5:$C$2413<>'MDOT FTA Detail'!$C$4)*(Projects!$L$5:$L$2413='Local Detail'!$A68)*(Projects!$J$5:$J$2413<>'Local Detail'!$A$147)*(Projects!$M$5:$M$2413)))+(SUMPRODUCT((Projects!$A$5:$A$2413='Local Detail'!$J$3)*(Projects!$C$5:$C$2413<>'MDOT FTA Detail'!$C$4)*(Projects!$L$5:$L$2413='Local Detail'!$A68)*(Projects!$J$5:$J$2413<>'Local Detail'!$A$147)*(Projects!$O$5:$O$2413))))","v":0},0,{"$f":"SUMPRODUCT((Projects!$A$5:$A$2413='Local Detail'!$M$3)*(Projects!$C$5:$C$2413<>'MDOT FTA Detail'!$C$4)*(Projects!$L$5:$L$2413='Local Detail'!$A68)*(Projects!$K$5:$K$2413))","v":0},{"$f":"((SUMPRODUCT((Projects!$A$5:$A$2413='Local Detail'!$M$3)*(Projects!$C$5:$C$2413<>'MDOT FTA Detail'!$C$4)*(Projects!$L$5:$L$2413='Local Detail'!$A68)*(Projects!$J$5:$J$2413<>'Local Detail'!$A$147)*(Projects!$M$5:$M$2413)))+(SUMPRODUCT((Projects!$A$5:$A$2413='Local Detail'!$M$3)*(Projects!$C$5:$C$2413<>'MDOT FTA Detail'!$C$4)*(Projects!$L$5:$L$2413='Local Detail'!$A68)*(Projects!$J$5:$J$2413<>'Local Detail'!$A$147)*(Projects!$O$5:$O$2413))))","v":0},0]
["SBD","Scenic Byways - Discretionary","Local Other FHWA",{"$f":"SUMPRODUCT((Projects!$A$5:$A$2413='Local Detail'!$D$3)*(Projects!$C$5:$C$2413<>'MDOT FTA Detail'!$C$4)*(Projects!$L$5:$L$2413='Local Detail'!$A69)*(Projects!$K$5:$K$2413))","v":0},{"$f":"((SUMPRODUCT((Projects!$A$5:$A$2413='Local Detail'!$D$3)*(Projects!$C$5:$C$2413<>'MDOT FTA Detail'!$C$4)*(Projects!$L$5:$L$2413='Local Detail'!$A69)*(Projects!$J$5:$J$2413<>'Local Detail'!$A$147)*(Projects!$M$5:$M$2413)))+(SUMPRODUCT((Projects!$A$5:$A$2413='Local Detail'!$D$3)*(Projects!$C$5:$C$2413<>'MDOT FTA Detail'!$C$4)*(Projects!$L$5:$L$2413='Local Detail'!$A69)*(Projects!$J$5:$J$2413<>'Local Detail'!$A$147)*(Projects!$O$5:$O$2413))))","v":0},0,{"$f":"SUMPRODUCT((Projects!$A$5:$A$2413='Local Detail'!$G$3)*(Projects!$C$5:$C$2413<>'MDOT FTA Detail'!$C$4)*(Projects!$L$5:$L$2413='Local Detail'!$A69)*(Projects!$K$5:$K$2413))","v":0},{"$f":"((SUMPRODUCT((Projects!$A$5:$A$2413='Local Detail'!$G$3)*(Projects!$C$5:$C$2413<>'MDOT FTA Detail'!$C$4)*(Projects!$L$5:$L$2413='Local Detail'!$A69)*(Projects!$J$5:$J$2413<>'Local Detail'!$A$147)*(Projects!$M$5:$M$2413)))+(SUMPRODUCT((Projects!$A$5:$A$2413='Local Detail'!$G$3)*(Projects!$C$5:$C$2413<>'MDOT FTA Detail'!$C$4)*(Projects!$L$5:$L$2413='Local Detail'!$A69)*(Projects!$J$5:$J$2413<>'Local Detail'!$A$147)*(Projects!$O$5:$O$2413))))","v":0},0,{"$f":"SUMPRODUCT((Projects!$A$5:$A$2413='Local Detail'!$J$3)*(Projects!$C$5:$C$2413<>'MDOT FTA Detail'!$C$4)*(Projects!$L$5:$L$2413='Local Detail'!$A69)*(Projects!$K$5:$K$2413))","v":0},{"$f":"((SUMPRODUCT((Projects!$A$5:$A$2413='Local Detail'!$J$3)*(Projects!$C$5:$C$2413<>'MDOT FTA Detail'!$C$4)*(Projects!$L$5:$L$2413='Local Detail'!$A69)*(Projects!$J$5:$J$2413<>'Local Detail'!$A$147)*(Projects!$M$5:$M$2413)))+(SUMPRODUCT((Projects!$A$5:$A$2413='Local Detail'!$J$3)*(Projects!$C$5:$C$2413<>'MDOT FTA Detail'!$C$4)*(Projects!$L$5:$L$2413='Local Detail'!$A69)*(Projects!$J$5:$J$2413<>'Local Detail'!$A$147)*(Projects!$O$5:$O$2413))))","v":0},0,{"$f":"SUMPRODUCT((Projects!$A$5:$A$2413='Local Detail'!$M$3)*(Projects!$C$5:$C$2413<>'MDOT FTA Detail'!$C$4)*(Projects!$L$5:$L$2413='Local Detail'!$A69)*(Projects!$K$5:$K$2413))","v":0},{"$f":"((SUMPRODUCT((Projects!$A$5:$A$2413='Local Detail'!$M$3)*(Projects!$C$5:$C$2413<>'MDOT FTA Detail'!$C$4)*(Projects!$L$5:$L$2413='Local Detail'!$A69)*(Projects!$J$5:$J$2413<>'Local Detail'!$A$147)*(Projects!$M$5:$M$2413)))+(SUMPRODUCT((Projects!$A$5:$A$2413='Local Detail'!$M$3)*(Projects!$C$5:$C$2413<>'MDOT FTA Detail'!$C$4)*(Projects!$L$5:$L$2413='Local Detail'!$A69)*(Projects!$J$5:$J$2413<>'Local Detail'!$A$147)*(Projects!$O$5:$O$2413))))","v":0},0]
["SIB","State Infrastructure Bank","Local Other FHWA",{"$f":"SUMPRODUCT((Projects!$A$5:$A$2413='Local Detail'!$D$3)*(Projects!$C$5:$C$2413<>'MDOT FTA Detail'!$C$4)*(Projects!$L$5:$L$2413='Local Detail'!$A70)*(Projects!$K$5:$K$2413))","v":0},{"$f":"((SUMPRODUCT((Projects!$A$5:$A$2413='Local Detail'!$D$3)*(Projects!$C$5:$C$2413<>'MDOT FTA Detail'!$C$4)*(Projects!$L$5:$L$2413='Local Detail'!$A70)*(Projects!$J$5:$J$2413<>'Local Detail'!$A$147)*(Projects!$M$5:$M$2413)))+(SUMPRODUCT((Projects!$A$5:$A$2413='Local Detail'!$D$3)*(Projects!$C$5:$C$2413<>'MDOT FTA Detail'!$C$4)*(Projects!$L$5:$L$2413='Local Detail'!$A70)*(Projects!$J$5:$J$2413<>'Local Detail'!$A$147)*(Projects!$O$5:$O$2413))))","v":0},0,{"$f":"SUMPRODUCT((Projects!$A$5:$A$2413='Local Detail'!$G$3)*(Projects!$C$5:$C$2413<>'MDOT FTA Detail'!$C$4)*(Projects!$L$5:$L$2413='Local Detail'!$A70)*(Projects!$K$5:$K$2413))","v":0},{"$f":"((SUMPRODUCT((Projects!$A$5:$A$2413='Local Detail'!$G$3)*(Projects!$C$5:$C$2413<>'MDOT FTA Detail'!$C$4)*(Projects!$L$5:$L$2413='Local Detail'!$A70)*(Projects!$J$5:$J$2413<>'Local Detail'!$A$147)*(Projects!$M$5:$M$2413)))+(SUMPRODUCT((Projects!$A$5:$A$2413='Local Detail'!$G$3)*(Projects!$C$5:$C$2413<>'MDOT FTA Detail'!$C$4)*(Projects!$L$5:$L$2413='Local Detail'!$A70)*(Projects!$J$5:$J$2413<>'Local Detail'!$A$147)*(Projects!$O$5:$O$2413))))","v":0},0,{"$f":"SUMPRODUCT((Projects!$A$5:$A$2413='Local Detail'!$J$3)*(Projects!$C$5:$C$2413<>'MDOT FTA Detail'!$C$4)*(Projects!$L$5:$L$2413='Local Detail'!$A70)*(Projects!$K$5:$K$2413))","v":0},{"$f":"((SUMPRODUCT((Projects!$A$5:$A$2413='Local Detail'!$J$3)*(Projects!$C$5:$C$2413<>'MDOT FTA Detail'!$C$4)*(Projects!$L$5:$L$2413='Local Detail'!$A70)*(Projects!$J$5:$J$2413<>'Local Detail'!$A$147)*(Projects!$M$5:$M$2413)))+(SUMPRODUCT((Projects!$A$5:$A$2413='Local Detail'!$J$3)*(Projects!$C$5:$C$2413<>'MDOT FTA Detail'!$C$4)*(Projects!$L$5:$L$2413='Local Detail'!$A70)*(Projects!$J$5:$J$2413<>'Local Detail'!$A$147)*(Projects!$O$5:$O$2413))))","v":0},0,{"$f":"SUMPRODUCT((Projects!$A$5:$A$2413='Local Detail'!$M$3)*(Projects!$C$5:$C$2413<>'MDOT FTA Detail'!$C$4)*(Projects!$L$5:$L$2413='Local Detail'!$A70)*(Projects!$K$5:$K$2413))","v":0},{"$f":"((SUMPRODUCT((Projects!$A$5:$A$2413='Local Detail'!$M$3)*(Projects!$C$5:$C$2413<>'MDOT FTA Detail'!$C$4)*(Projects!$L$5:$L$2413='Local Detail'!$A70)*(Projects!$J$5:$J$2413<>'Local Detail'!$A$147)*(Projects!$M$5:$M$2413)))+(SUMPRODUCT((Projects!$A$5:$A$2413='Local Detail'!$M$3)*(Projects!$C$5:$C$2413<>'MDOT FTA Detail'!$C$4)*(Projects!$L$5:$L$2413='Local Detail'!$A70)*(Projects!$J$5:$J$2413<>'Local Detail'!$A$147)*(Projects!$O$5:$O$2413))))","v":0},0]
["SLG","Surface Transportation Safety","Local Other FHWA",{"$f":"SUMPRODUCT((Projects!$A$5:$A$2413='Local Detail'!$D$3)*(Projects!$C$5:$C$2413<>'MDOT FTA Detail'!$C$4)*(Projects!$L$5:$L$2413='Local Detail'!$A71)*(Projects!$K$5:$K$2413))","v":0},{"$f":"((SUMPRODUCT((Projects!$A$5:$A$2413='Local Detail'!$D$3)*(Projects!$C$5:$C$2413<>'MDOT FTA Detail'!$C$4)*(Projects!$L$5:$L$2413='Local Detail'!$A71)*(Projects!$J$5:$J$2413<>'Local Detail'!$A$147)*(Projects!$M$5:$M$2413)))+(SUMPRODUCT((Projects!$A$5:$A$2413='Local Detail'!$D$3)*(Projects!$C$5:$C$2413<>'MDOT FTA Detail'!$C$4)*(Projects!$L$5:$L$2413='Local Detail'!$A71)*(Projects!$J$5:$J$2413<>'Local Detail'!$A$147)*(Projects!$O$5:$O$2413))))","v":0},0,{"$f":"SUMPRODUCT((Projects!$A$5:$A$2413='Local Detail'!$G$3)*(Projects!$C$5:$C$2413<>'MDOT FTA Detail'!$C$4)*(Projects!$L$5:$L$2413='Local Detail'!$A71)*(Projects!$K$5:$K$2413))","v":0},{"$f":"((SUMPRODUCT((Projects!$A$5:$A$2413='Local Detail'!$G$3)*(Projects!$C$5:$C$2413<>'MDOT FTA Detail'!$C$4)*(Projects!$L$5:$L$2413='Local Detail'!$A71)*(Projects!$J$5:$J$2413<>'Local Detail'!$A$147)*(Projects!$M$5:$M$2413)))+(SUMPRODUCT((Projects!$A$5:$A$2413='Local Detail'!$G$3)*(Projects!$C$5:$C$2413<>'MDOT FTA Detail'!$C$4)*(Projects!$L$5:$L$2413='Local Detail'!$A71)*(Projects!$J$5:$J$2413<>'Local Detail'!$A$147)*(Projects!$O$5:$O$2413))))","v":0},0,{"$f":"SUMPRODUCT((Projects!$A$5:$A$2413='Local Detail'!$J$3)*(Projects!$C$5:$C$2413<>'MDOT FTA Detail'!$C$4)*(Projects!$L$5:$L$2413='Local Detail'!$A71)*(Projects!$K$5:$K$2413))","v":0},{"$f":"((SUMPRODUCT((Projects!$A$5:$A$2413='Local Detail'!$J$3)*(Projects!$C$5:$C$2413<>'MDOT FTA Detail'!$C$4)*(Projects!$L$5:$L$2413='Local Detail'!$A71)*(Projects!$J$5:$J$2413<>'Local Detail'!$A$147)*(Projects!$M$5:$M$2413)))+(SUMPRODUCT((Projects!$A$5:$A$2413='Local Detail'!$J$3)*(Projects!$C$5:$C$2413<>'MDOT FTA Detail'!$C$4)*(Projects!$L$5:$L$2413='Local Detail'!$A71)*(Projects!$J$5:$J$2413<>'Local Detail'!$A$147)*(Projects!$O$5:$O$2413))))","v":0},0,{"$f":"SUMPRODUCT((Projects!$A$5:$A$2413='Local Detail'!$M$3)*(Projects!$C$5:$C$2413<>'MDOT FTA Detail'!$C$4)*(Projects!$L$5:$L$2413='Local Detail'!$A71)*(Projects!$K$5:$K$2413))","v":0},{"$f":"((SUMPRODUCT((Projects!$A$5:$A$2413='Local Detail'!$M$3)*(Projects!$C$5:$C$2413<>'MDOT FTA Detail'!$C$4)*(Projects!$L$5:$L$2413='Local Detail'!$A71)*(Projects!$J$5:$J$2413<>'Local Detail'!$A$147)*(Projects!$M$5:$M$2413)))+(SUMPRODUCT((Projects!$A$5:$A$2413='Local Detail'!$M$3)*(Projects!$C$5:$C$2413<>'MDOT FTA Detail'!$C$4)*(Projects!$L$5:$L$2413='Local Detail'!$A71)*(Projects!$J$5:$J$2413<>'Local Detail'!$A$147)*(Projects!$O$5:$O$2413))))","v":0},0]
["SRHG","Surface Transportation Safety Highway Crossing Hazard Elimination","Local STP",{"$f":"SUMPRODUCT((Projects!$A$5:$A$2413='Local Detail'!$D$3)*(Projects!$C$5:$C$2413<>'MDOT FTA Detail'!$C$4)*(Projects!$L$5:$L$2413='Local Detail'!$A72)*(Projects!$K$5:$K$2413))","v":0},{"$f":"((SUMPRODUCT((Projects!$A$5:$A$2413='Local Detail'!$D$3)*(Projects!$C$5:$C$2413<>'MDOT FTA Detail'!$C$4)*(Projects!$L$5:$L$2413='Local Detail'!$A72)*(Projects!$J$5:$J$2413<>'Local Detail'!$A$147)*(Projects!$M$5:$M$2413)))+(SUMPRODUCT((Projects!$A$5:$A$2413='Local Detail'!$D$3)*(Projects!$C$5:$C$2413<>'MDOT FTA Detail'!$C$4)*(Projects!$L$5:$L$2413='Local Detail'!$A72)*(Projects!$J$5:$J$2413<>'Local Detail'!$A$147)*(Projects!$O$5:$O$2413))))","v":0},{"$f":"D72+E72","v":0},{"$f":"SUMPRODUCT((Projects!$A$5:$A$2413='Local Detail'!$G$3)*(Projects!$C$5:$C$2413<>'MDOT FTA Detail'!$C$4)*(Projects!$L$5:$L$2413='Local Detail'!$A72)*(Projects!$K$5:$K$2413))","v":0},{"$f":"((SUMPRODUCT((Projects!$A$5:$A$2413='Local Detail'!$G$3)*(Projects!$C$5:$C$2413<>'MDOT FTA Detail'!$C$4)*(Projects!$L$5:$L$2413='Local Detail'!$A72)*(Projects!$J$5:$J$2413<>'Local Detail'!$A$147)*(Projects!$M$5:$M$2413)))+(SUMPRODUCT((Projects!$A$5:$A$2413='Local Detail'!$G$3)*(Projects!$C$5:$C$2413<>'MDOT FTA Detail'!$C$4)*(Projects!$L$5:$L$2413='Local Detail'!$A72)*(Projects!$J$5:$J$2413<>'Local Detail'!$A$147)*(Projects!$O$5:$O$2413))))","v":0},{"$f":"G72+H72","v":0},{"$f":"SUMPRODUCT((Projects!$A$5:$A$2413='Local Detail'!$J$3)*(Projects!$C$5:$C$2413<>'MDOT FTA Detail'!$C$4)*(Projects!$L$5:$L$2413='Local Detail'!$A72)*(Projects!$K$5:$K$2413))","v":0},{"$f":"((SUMPRODUCT((Projects!$A$5:$A$2413='Local Detail'!$J$3)*(Projects!$C$5:$C$2413<>'MDOT FTA Detail'!$C$4)*(Projects!$L$5:$L$2413='Local Detail'!$A72)*(Projects!$J$5:$J$2413<>'Local Detail'!$A$147)*(Projects!$M$5:$M$2413)))+(SUMPRODUCT((Projects!$A$5:$A$2413='Local Detail'!$J$3)*(Projects!$C$5:$C$2413<>'MDOT FTA Detail'!$C$4)*(Projects!$L$5:$L$2413='Local Detail'!$A72)*(Projects!$J$5:$J$2413<>'Local Detail'!$A$147)*(Projects!$O$5:$O$2413))))","v":0},{"$f":"J72+K72","v":0},{"$f":"SUMPRODUCT((Projects!$A$5:$A$2413='Local Detail'!$M$3)*(Projects!$C$5:$C$2413<>'MDOT FTA Detail'!$C$4)*(Projects!$L$5:$L$2413='Local Detail'!$A72)*(Projects!$K$5:$K$2413))","v":0},{"$f":"((SUMPRODUCT((Projects!$A$5:$A$2413='Local Detail'!$M$3)*(Projects!$C$5:$C$2413<>'MDOT FTA Detail'!$C$4)*(Projects!$L$5:$L$2413='Local Detail'!$A72)*(Projects!$J$5:$J$2413<>'Local Detail'!$A$147)*(Projects!$M$5:$M$2413)))+(SUMPRODUCT((Projects!$A$5:$A$2413='Local Detail'!$M$3)*(Projects!$C$5:$C$2413<>'MDOT FTA Detail'!$C$4)*(Projects!$L$5:$L$2413='Local Detail'!$A72)*(Projects!$J$5:$J$2413<>'Local Detail'!$A$147)*(Projects!$O$5:$O$2413))))","v":0},{"$f":"M72+N72","v":0}]
["SRPG","Surface Transportation Safety Highway Crossing Protection Devices 100%","Local STP",{"$f":"SUMPRODUCT((Projects!$A$5:$A$2413='Local Detail'!$D$3)*(Projects!$C$5:$C$2413<>'MDOT FTA Detail'!$C$4)*(Projects!$L$5:$L$2413='Local Detail'!$A73)*(Projects!$K$5:$K$2413))","v":0},{"$f":"((SUMPRODUCT((Projects!$A$5:$A$2413='Local Detail'!$D$3)*(Projects!$C$5:$C$2413<>'MDOT FTA Detail'!$C$4)*(Projects!$L$5:$L$2413='Local Detail'!$A73)*(Projects!$J$5:$J$2413<>'Local Detail'!$A$147)*(Projects!$M$5:$M$2413)))+(SUMPRODUCT((Projects!$A$5:$A$2413='Local Detail'!$D$3)*(Projects!$C$5:$C$2413<>'MDOT FTA Detail'!$C$4)*(Projects!$L$5:$L$2413='Local Detail'!$A73)*(Projects!$J$5:$J$2413<>'Local Detail'!$A$147)*(Projects!$O$5:$O$2413))))","v":0},{"$f":"D73+E73","v":0},{"$f":"SUMPRODUCT((Projects!$A$5:$A$2413='Local Detail'!$G$3)*(Projects!$C$5:$C$2413<>'MDOT FTA Detail'!$C$4)*(Projects!$L$5:$L$2413='Local Detail'!$A73)*(Projects!$K$5:$K$2413))","v":0},{"$f":"((SUMPRODUCT((Projects!$A$5:$A$2413='Local Detail'!$G$3)*(Projects!$C$5:$C$2413<>'MDOT FTA Detail'!$C$4)*(Projects!$L$5:$L$2413='Local Detail'!$A73)*(Projects!$J$5:$J$2413<>'Local Detail'!$A$147)*(Projects!$M$5:$M$2413)))+(SUMPRODUCT((Projects!$A$5:$A$2413='Local Detail'!$G$3)*(Projects!$C$5:$C$2413<>'MDOT FTA Detail'!$C$4)*(Projects!$L$5:$L$2413='Local Detail'!$A73)*(Projects!$J$5:$J$2413<>'Local Detail'!$A$147)*(Projects!$O$5:$O$2413))))","v":0},{"$f":"G73+H73","v":0},{"$f":"SUMPRODUCT((Projects!$A$5:$A$2413='Local Detail'!$J$3)*(Projects!$C$5:$C$2413<>'MDOT FTA Detail'!$C$4)*(Projects!$L$5:$L$2413='Local Detail'!$A73)*(Projects!$K$5:$K$2413))","v":0},{"$f":"((SUMPRODUCT((Projects!$A$5:$A$2413='Local Detail'!$J$3)*(Projects!$C$5:$C$2413<>'MDOT FTA Detail'!$C$4)*(Projects!$L$5:$L$2413='Local Detail'!$A73)*(Projects!$J$5:$J$2413<>'Local Detail'!$A$147)*(Projects!$M$5:$M$2413)))+(SUMPRODUCT((Projects!$A$5:$A$2413='Local Detail'!$J$3)*(Projects!$C$5:$C$2413<>'MDOT FTA Detail'!$C$4)*(Projects!$L$5:$L$2413='Local Detail'!$A73)*(Projects!$J$5:$J$2413<>'Local Detail'!$A$147)*(Projects!$O$5:$O$2413))))","v":0},{"$f":"J73+K73","v":0},{"$f":"SUMPRODUCT((Projects!$A$5:$A$2413='Local Detail'!$M$3)*(Projects!$C$5:$C$2413<>'MDOT FTA Detail'!$C$4)*(Projects!$L$5:$L$2413='Local Detail'!$A73)*(Projects!$K$5:$K$2413))","v":0},{"$f":"((SUMPRODUCT((Projects!$A$5:$A$2413='Local Detail'!$M$3)*(Projects!$C$5:$C$2413<>'MDOT FTA Detail'!$C$4)*(Projects!$L$5:$L$2413='Local Detail'!$A73)*(Projects!$J$5:$J$2413<>'Local Detail'!$A$147)*(Projects!$M$5:$M$2413)))+(SUMPRODUCT((Projects!$A$5:$A$2413='Local Detail'!$M$3)*(Projects!$C$5:$C$2413<>'MDOT FTA Detail'!$C$4)*(Projects!$L$5:$L$2413='Local Detail'!$A73)*(Projects!$J$5:$J$2413<>'Local Detail'!$A$147)*(Projects!$O$5:$O$2413))))","v":0},{"$f":"M73+N73","v":0}]
["SRSE","Safe Routes to School - Either - SAFETEA-LU","Local Other FHWA",{"$f":"SUMPRODUCT((Projects!$A$5:$A$2413='Local Detail'!$D$3)*(Projects!$C$5:$C$2413<>'MDOT FTA Detail'!$C$4)*(Projects!$L$5:$L$2413='Local Detail'!$A74)*(Projects!$K$5:$K$2413))","v":0},{"$f":"((SUMPRODUCT((Projects!$A$5:$A$2413='Local Detail'!$D$3)*(Projects!$C$5:$C$2413<>'MDOT FTA Detail'!$C$4)*(Projects!$L$5:$L$2413='Local Detail'!$A74)*(Projects!$J$5:$J$2413<>'Local Detail'!$A$147)*(Projects!$M$5:$M$2413)))+(SUMPRODUCT((Projects!$A$5:$A$2413='Local Detail'!$D$3)*(Projects!$C$5:$C$2413<>'MDOT FTA Detail'!$C$4)*(Projects!$L$5:$L$2413='Local Detail'!$A74)*(Projects!$J$5:$J$2413<>'Local Detail'!$A$147)*(Projects!$O$5:$O$2413))))","v":0},0,{"$f":"SUMPRODUCT((Projects!$A$5:$A$2413='Local Detail'!$G$3)*(Projects!$C$5:$C$2413<>'MDOT FTA Detail'!$C$4)*(Projects!$L$5:$L$2413='Local Detail'!$A74)*(Projects!$K$5:$K$2413))","v":0},{"$f":"((SUMPRODUCT((Projects!$A$5:$A$2413='Local Detail'!$G$3)*(Projects!$C$5:$C$2413<>'MDOT FTA Detail'!$C$4)*(Projects!$L$5:$L$2413='Local Detail'!$A74)*(Projects!$J$5:$J$2413<>'Local Detail'!$A$147)*(Projects!$M$5:$M$2413)))+(SUMPRODUCT((Projects!$A$5:$A$2413='Local Detail'!$G$3)*(Projects!$C$5:$C$2413<>'MDOT FTA Detail'!$C$4)*(Projects!$L$5:$L$2413='Local Detail'!$A74)*(Projects!$J$5:$J$2413<>'Local Detail'!$A$147)*(Projects!$O$5:$O$2413))))","v":0},0,{"$f":"SUMPRODUCT((Projects!$A$5:$A$2413='Local Detail'!$J$3)*(Projects!$C$5:$C$2413<>'MDOT FTA Detail'!$C$4)*(Projects!$L$5:$L$2413='Local Detail'!$A74)*(Projects!$K$5:$K$2413))","v":0},{"$f":"((SUMPRODUCT((Projects!$A$5:$A$2413='Local Detail'!$J$3)*(Projects!$C$5:$C$2413<>'MDOT FTA Detail'!$C$4)*(Projects!$L$5:$L$2413='Local Detail'!$A74)*(Projects!$J$5:$J$2413<>'Local Detail'!$A$147)*(Projects!$M$5:$M$2413)))+(SUMPRODUCT((Projects!$A$5:$A$2413='Local Detail'!$J$3)*(Projects!$C$5:$C$2413<>'MDOT FTA Detail'!$C$4)*(Projects!$L$5:$L$2413='Local Detail'!$A74)*(Projects!$J$5:$J$2413<>'Local Detail'!$A$147)*(Projects!$O$5:$O$2413))))","v":0},0,{"$f":"SUMPRODUCT((Projects!$A$5:$A$2413='Local Detail'!$M$3)*(Projects!$C$5:$C$2413<>'MDOT FTA Detail'!$C$4)*(Projects!$L$5:$L$2413='Local Detail'!$A74)*(Projects!$K$5:$K$2413))","v":0},{"$f":"((SUMPRODUCT((Projects!$A$5:$A$2413='Local Detail'!$M$3)*(Projects!$C$5:$C$2413<>'MDOT FTA Detail'!$C$4)*(Projects!$L$5:$L$2413='Local Detail'!$A74)*(Projects!$J$5:$J$2413<>'Local Detail'!$A$147)*(Projects!$M$5:$M$2413)))+(SUMPRODUCT((Projects!$A$5:$A$2413='Local Detail'!$M$3)*(Projects!$C$5:$C$2413<>'MDOT FTA Detail'!$C$4)*(Projects!$L$5:$L$2413='Local Detail'!$A74)*(Projects!$J$5:$J$2413<>'Local Detail'!$A$147)*(Projects!$O$5:$O$2413))))","v":0},0]
["SRSI","Safe Routes to School - Infrastructure - SAFETEA-LU","Local Other FHWA",{"$f":"SUMPRODUCT((Projects!$A$5:$A$2413='Local Detail'!$D$3)*(Projects!$C$5:$C$2413<>'MDOT FTA Detail'!$C$4)*(Projects!$L$5:$L$2413='Local Detail'!$A75)*(Projects!$K$5:$K$2413))","v":0},{"$f":"((SUMPRODUCT((Projects!$A$5:$A$2413='Local Detail'!$D$3)*(Projects!$C$5:$C$2413<>'MDOT FTA Detail'!$C$4)*(Projects!$L$5:$L$2413='Local Detail'!$A75)*(Projects!$J$5:$J$2413<>'Local Detail'!$A$147)*(Projects!$M$5:$M$2413)))+(SUMPRODUCT((Projects!$A$5:$A$2413='Local Detail'!$D$3)*(Projects!$C$5:$C$2413<>'MDOT FTA Detail'!$C$4)*(Projects!$L$5:$L$2413='Local Detail'!$A75)*(Projects!$J$5:$J$2413<>'Local Detail'!$A$147)*(Projects!$O$5:$O$2413))))","v":0},0,{"$f":"SUMPRODUCT((Projects!$A$5:$A$2413='Local Detail'!$G$3)*(Projects!$C$5:$C$2413<>'MDOT FTA Detail'!$C$4)*(Projects!$L$5:$L$2413='Local Detail'!$A75)*(Projects!$K$5:$K$2413))","v":0},{"$f":"((SUMPRODUCT((Projects!$A$5:$A$2413='Local Detail'!$G$3)*(Projects!$C$5:$C$2413<>'MDOT FTA Detail'!$C$4)*(Projects!$L$5:$L$2413='Local Detail'!$A75)*(Projects!$J$5:$J$2413<>'Local Detail'!$A$147)*(Projects!$M$5:$M$2413)))+(SUMPRODUCT((Projects!$A$5:$A$2413='Local Detail'!$G$3)*(Projects!$C$5:$C$2413<>'MDOT FTA Detail'!$C$4)*(Projects!$L$5:$L$2413='Local Detail'!$A75)*(Projects!$J$5:$J$2413<>'Local Detail'!$A$147)*(Projects!$O$5:$O$2413))))","v":0},0,{"$f":"SUMPRODUCT((Projects!$A$5:$A$2413='Local Detail'!$J$3)*(Projects!$C$5:$C$2413<>'MDOT FTA Detail'!$C$4)*(Projects!$L$5:$L$2413='Local Detail'!$A75)*(Projects!$K$5:$K$2413))","v":0},{"$f":"((SUMPRODUCT((Projects!$A$5:$A$2413='Local Detail'!$J$3)*(Projects!$C$5:$C$2413<>'MDOT FTA Detail'!$C$4)*(Projects!$L$5:$L$2413='Local Detail'!$A75)*(Projects!$J$5:$J$2413<>'Local Detail'!$A$147)*(Projects!$M$5:$M$2413)))+(SUMPRODUCT((Projects!$A$5:$A$2413='Local Detail'!$J$3)*(Projects!$C$5:$C$2413<>'MDOT FTA Detail'!$C$4)*(Projects!$L$5:$L$2413='Local Detail'!$A75)*(Projects!$J$5:$J$2413<>'Local Detail'!$A$147)*(Projects!$O$5:$O$2413))))","v":0},0,{"$f":"SUMPRODUCT((Projects!$A$5:$A$2413='Local Detail'!$M$3)*(Projects!$C$5:$C$2413<>'MDOT FTA Detail'!$C$4)*(Projects!$L$5:$L$2413='Local Detail'!$A75)*(Projects!$K$5:$K$2413))","v":0},{"$f":"((SUMPRODUCT((Projects!$A$5:$A$2413='Local Detail'!$M$3)*(Projects!$C$5:$C$2413<>'MDOT FTA Detail'!$C$4)*(Projects!$L$5:$L$2413='Local Detail'!$A75)*(Projects!$J$5:$J$2413<>'Local Detail'!$A$147)*(Projects!$M$5:$M$2413)))+(SUMPRODUCT((Projects!$A$5:$A$2413='Local Detail'!$M$3)*(Projects!$C$5:$C$2413<>'MDOT FTA Detail'!$C$4)*(Projects!$L$5:$L$2413='Local Detail'!$A75)*(Projects!$J$5:$J$2413<>'Local Detail'!$A$147)*(Projects!$O$5:$O$2413))))","v":0},0]
["SRSN","Safe Routes to School - Non-infrastructure - SAFETEA-LU","Local Other FHWA",{"$f":"SUMPRODUCT((Projects!$A$5:$A$2413='Local Detail'!$D$3)*(Projects!$C$5:$C$2413<>'MDOT FTA Detail'!$C$4)*(Projects!$L$5:$L$2413='Local Detail'!$A76)*(Projects!$K$5:$K$2413))","v":0},{"$f":"((SUMPRODUCT((Projects!$A$5:$A$2413='Local Detail'!$D$3)*(Projects!$C$5:$C$2413<>'MDOT FTA Detail'!$C$4)*(Projects!$L$5:$L$2413='Local Detail'!$A76)*(Projects!$J$5:$J$2413<>'Local Detail'!$A$147)*(Projects!$M$5:$M$2413)))+(SUMPRODUCT((Projects!$A$5:$A$2413='Local Detail'!$D$3)*(Projects!$C$5:$C$2413<>'MDOT FTA Detail'!$C$4)*(Projects!$L$5:$L$2413='Local Detail'!$A76)*(Projects!$J$5:$J$2413<>'Local Detail'!$A$147)*(Projects!$O$5:$O$2413))))","v":0},0,{"$f":"SUMPRODUCT((Projects!$A$5:$A$2413='Local Detail'!$G$3)*(Projects!$C$5:$C$2413<>'MDOT FTA Detail'!$C$4)*(Projects!$L$5:$L$2413='Local Detail'!$A76)*(Projects!$K$5:$K$2413))","v":0},{"$f":"((SUMPRODUCT((Projects!$A$5:$A$2413='Local Detail'!$G$3)*(Projects!$C$5:$C$2413<>'MDOT FTA Detail'!$C$4)*(Projects!$L$5:$L$2413='Local Detail'!$A76)*(Projects!$J$5:$J$2413<>'Local Detail'!$A$147)*(Projects!$M$5:$M$2413)))+(SUMPRODUCT((Projects!$A$5:$A$2413='Local Detail'!$G$3)*(Projects!$C$5:$C$2413<>'MDOT FTA Detail'!$C$4)*(Projects!$L$5:$L$2413='Local Detail'!$A76)*(Projects!$J$5:$J$2413<>'Local Detail'!$A$147)*(Projects!$O$5:$O$2413))))","v":0},0,{"$f":"SUMPRODUCT((Projects!$A$5:$A$2413='Local Detail'!$J$3)*(Projects!$C$5:$C$2413<>'MDOT FTA Detail'!$C$4)*(Projects!$L$5:$L$2413='Local Detail'!$A76)*(Projects!$K$5:$K$2413))","v":0},{"$f":"((SUMPRODUCT((Projects!$A$5:$A$2413='Local Detail'!$J$3)*(Projects!$C$5:$C$2413<>'MDOT FTA Detail'!$C$4)*(Projects!$L$5:$L$2413='Local Detail'!$A76)*(Projects!$J$5:$J$2413<>'Local Detail'!$A$147)*(Projects!$M$5:$M$2413)))+(SUMPRODUCT((Projects!$A$5:$A$2413='Local Detail'!$J$3)*(Projects!$C$5:$C$2413<>'MDOT FTA Detail'!$C$4)*(Projects!$L$5:$L$2413='Local Detail'!$A76)*(Projects!$J$5:$J$2413<>'Local Detail'!$A$147)*(Projects!$O$5:$O$2413))))","v":0},0,{"$f":"SUMPRODUCT((Projects!$A$5:$A$2413='Local Detail'!$M$3)*(Projects!$C$5:$C$2413<>'MDOT FTA Detail'!$C$4)*(Projects!$L$5:$L$2413='Local Detail'!$A76)*(Projects!$K$5:$K$2413))","v":0},{"$f":"((SUMPRODUCT((Projects!$A$5:$A$2413='Local Detail'!$M$3)*(Projects!$C$5:$C$2413<>'MDOT FTA Detail'!$C$4)*(Projects!$L$5:$L$2413='Local Detail'!$A76)*(Projects!$J$5:$J$2413<>'Local Detail'!$A$147)*(Projects!$M$5:$M$2413)))+(SUMPRODUCT((Projects!$A$5:$A$2413='Local Detail'!$M$3)*(Projects!$C$5:$C$2413<>'MDOT FTA Detail'!$C$4)*(Projects!$L$5:$L$2413='Local Detail'!$A76)*(Projects!$J$5:$J$2413<>'Local Detail'!$A$147)*(Projects!$O$5:$O$2413))))","v":0},0]
["SST","Supportive Services Training","Local Other FHWA",{"$f":"SUMPRODUCT((Projects!$A$5:$A$2413='Local Detail'!$D$3)*(Projects!$C$5:$C$2413<>'MDOT FTA Detail'!$C$4)*(Projects!$L$5:$L$2413='Local Detail'!$A77)*(Projects!$K$5:$K$2413))","v":0},{"$f":"((SUMPRODUCT((Projects!$A$5:$A$2413='Local Detail'!$D$3)*(Projects!$C$5:$C$2413<>'MDOT FTA Detail'!$C$4)*(Projects!$L$5:$L$2413='Local Detail'!$A77)*(Projects!$J$5:$J$2413<>'Local Detail'!$A$147)*(Projects!$M$5:$M$2413)))+(SUMPRODUCT((Projects!$A$5:$A$2413='Local Detail'!$D$3)*(Projects!$C$5:$C$2413<>'MDOT FTA Detail'!$C$4)*(Projects!$L$5:$L$2413='Local Detail'!$A77)*(Projects!$J$5:$J$2413<>'Local Detail'!$A$147)*(Projects!$O$5:$O$2413))))","v":0},0,{"$f":"SUMPRODUCT((Projects!$A$5:$A$2413='Local Detail'!$G$3)*(Projects!$C$5:$C$2413<>'MDOT FTA Detail'!$C$4)*(Projects!$L$5:$L$2413='Local Detail'!$A77)*(Projects!$K$5:$K$2413))","v":0},{"$f":"((SUMPRODUCT((Projects!$A$5:$A$2413='Local Detail'!$G$3)*(Projects!$C$5:$C$2413<>'MDOT FTA Detail'!$C$4)*(Projects!$L$5:$L$2413='Local Detail'!$A77)*(Projects!$J$5:$J$2413<>'Local Detail'!$A$147)*(Projects!$M$5:$M$2413)))+(SUMPRODUCT((Projects!$A$5:$A$2413='Local Detail'!$G$3)*(Projects!$C$5:$C$2413<>'MDOT FTA Detail'!$C$4)*(Projects!$L$5:$L$2413='Local Detail'!$A77)*(Projects!$J$5:$J$2413<>'Local Detail'!$A$147)*(Projects!$O$5:$O$2413))))","v":0},0,{"$f":"SUMPRODUCT((Projects!$A$5:$A$2413='Local Detail'!$J$3)*(Projects!$C$5:$C$2413<>'MDOT FTA Detail'!$C$4)*(Projects!$L$5:$L$2413='Local Detail'!$A77)*(Projects!$K$5:$K$2413))","v":0},{"$f":"((SUMPRODUCT((Projects!$A$5:$A$2413='Local Detail'!$J$3)*(Projects!$C$5:$C$2413<>'MDOT FTA Detail'!$C$4)*(Projects!$L$5:$L$2413='Local Detail'!$A77)*(Projects!$J$5:$J$2413<>'Local Detail'!$A$147)*(Projects!$M$5:$M$2413)))+(SUMPRODUCT((Projects!$A$5:$A$2413='Local Detail'!$J$3)*(Projects!$C$5:$C$2413<>'MDOT FTA Detail'!$C$4)*(Projects!$L$5:$L$2413='Local Detail'!$A77)*(Projects!$J$5:$J$2413<>'Local Detail'!$A$147)*(Projects!$O$5:$O$2413))))","v":0},0,{"$f":"SUMPRODUCT((Projects!$A$5:$A$2413='Local Detail'!$M$3)*(Projects!$C$5:$C$2413<>'MDOT FTA Detail'!$C$4)*(Projects!$L$5:$L$2413='Local Detail'!$A77)*(Projects!$K$5:$K$2413))","v":0},{"$f":"((SUMPRODUCT((Projects!$A$5:$A$2413='Local Detail'!$M$3)*(Projects!$C$5:$C$2413<>'MDOT FTA Detail'!$C$4)*(Projects!$L$5:$L$2413='Local Detail'!$A77)*(Projects!$J$5:$J$2413<>'Local Detail'!$A$147)*(Projects!$M$5:$M$2413)))+(SUMPRODUCT((Projects!$A$5:$A$2413='Local Detail'!$M$3)*(Projects!$C$5:$C$2413<>'MDOT FTA Detail'!$C$4)*(Projects!$L$5:$L$2413='Local Detail'!$A77)*(Projects!$J$5:$J$2413<>'Local Detail'!$A$147)*(Projects!$O$5:$O$2413))))","v":0},0]
["ST","Surface Transportation Program (STP) - Any Area","Local STP",{"$f":"SUMPRODUCT((Projects!$A$5:$A$2413='Local Detail'!$D$3)*(Projects!$C$5:$C$2413<>'MDOT FTA Detail'!$C$4)*(Projects!$L$5:$L$2413='Local Detail'!$A78)*(Projects!$K$5:$K$2413))","v":0},{"$f":"((SUMPRODUCT((Projects!$A$5:$A$2413='Local Detail'!$D$3)*(Projects!$C$5:$C$2413<>'MDOT FTA Detail'!$C$4)*(Projects!$L$5:$L$2413='Local Detail'!$A78)*(Projects!$J$5:$J$2413<>'Local Detail'!$A$147)*(Projects!$M$5:$M$2413)))+(SUMPRODUCT((Projects!$A$5:$A$2413='Local Detail'!$D$3)*(Projects!$C$5:$C$2413<>'MDOT FTA Detail'!$C$4)*(Projects!$L$5:$L$2413='Local Detail'!$A78)*(Projects!$J$5:$J$2413<>'Local Detail'!$A$147)*(Projects!$O$5:$O$2413))))","v":0},0,{"$f":"SUMPRODUCT((Projects!$A$5:$A$2413='Local Detail'!$G$3)*(Projects!$C$5:$C$2413<>'MDOT FTA Detail'!$C$4)*(Projects!$L$5:$L$2413='Local Detail'!$A78)*(Projects!$K$5:$K$2413))","v":0},{"$f":"((SUMPRODUCT((Projects!$A$5:$A$2413='Local Detail'!$G$3)*(Projects!$C$5:$C$2413<>'MDOT FTA Detail'!$C$4)*(Projects!$L$5:$L$2413='Local Detail'!$A78)*(Projects!$J$5:$J$2413<>'Local Detail'!$A$147)*(Projects!$M$5:$M$2413)))+(SUMPRODUCT((Projects!$A$5:$A$2413='Local Detail'!$G$3)*(Projects!$C$5:$C$2413<>'MDOT FTA Detail'!$C$4)*(Projects!$L$5:$L$2413='Local Detail'!$A78)*(Projects!$J$5:$J$2413<>'Local Detail'!$A$147)*(Projects!$O$5:$O$2413))))","v":0},0,{"$f":"SUMPRODUCT((Projects!$A$5:$A$2413='Local Detail'!$J$3)*(Projects!$C$5:$C$2413<>'MDOT FTA Detail'!$C$4)*(Projects!$L$5:$L$2413='Local Detail'!$A78)*(Projects!$K$5:$K$2413))","v":0},{"$f":"((SUMPRODUCT((Projects!$A$5:$A$2413='Local Detail'!$J$3)*(Projects!$C$5:$C$2413<>'MDOT FTA Detail'!$C$4)*(Projects!$L$5:$L$2413='Local Detail'!$A78)*(Projects!$J$5:$J$2413<>'Local Detail'!$A$147)*(Projects!$M$5:$M$2413)))+(SUMPRODUCT((Projects!$A$5:$A$2413='Local Detail'!$J$3)*(Projects!$C$5:$C$2413<>'MDOT FTA Detail'!$C$4)*(Projects!$L$5:$L$2413='Local Detail'!$A78)*(Projects!$J$5:$J$2413<>'Local Detail'!$A$147)*(Projects!$O$5:$O$2413))))","v":0},0,{"$f":"SUMPRODUCT((Projects!$A$5:$A$2413='Local Detail'!$M$3)*(Projects!$C$5:$C$2413<>'MDOT FTA Detail'!$C$4)*(Projects!$L$5:$L$2413='Local Detail'!$A78)*(Projects!$K$5:$K$2413))","v":0},{"$f":"((SUMPRODUCT((Projects!$A$5:$A$2413='Local Detail'!$M$3)*(Projects!$C$5:$C$2413<>'MDOT FTA Detail'!$C$4)*(Projects!$L$5:$L$2413='Local Detail'!$A78)*(Projects!$J$5:$J$2413<>'Local Detail'!$A$147)*(Projects!$M$5:$M$2413)))+(SUMPRODUCT((Projects!$A$5:$A$2413='Local Detail'!$M$3)*(Projects!$C$5:$C$2413<>'MDOT FTA Detail'!$C$4)*(Projects!$L$5:$L$2413='Local Detail'!$A78)*(Projects!$J$5:$J$2413<>'Local Detail'!$A$147)*(Projects!$O$5:$O$2413))))","v":0},0]
["STE","STP - Enhancement","Local STP",{"$f":"SUMPRODUCT((Projects!$A$5:$A$2413='Local Detail'!$D$3)*(Projects!$C$5:$C$2413<>'MDOT FTA Detail'!$C$4)*(Projects!$L$5:$L$2413='Local Detail'!$A79)*(Projects!$K$5:$K$2413))","v":0},{"$f":"((SUMPRODUCT((Projects!$A$5:$A$2413='Local Detail'!$D$3)*(Projects!$C$5:$C$2413<>'MDOT FTA Detail'!$C$4)*(Projects!$L$5:$L$2413='Local Detail'!$A79)*(Projects!$J$5:$J$2413<>'Local Detail'!$A$147)*(Projects!$M$5:$M$2413)))+(SUMPRODUCT((Projects!$A$5:$A$2413='Local Detail'!$D$3)*(Projects!$C$5:$C$2413<>'MDOT FTA Detail'!$C$4)*(Projects!$L$5:$L$2413='Local Detail'!$A79)*(Projects!$J$5:$J$2413<>'Local Detail'!$A$147)*(Projects!$O$5:$O$2413))))","v":0},0,{"$f":"SUMPRODUCT((Projects!$A$5:$A$2413='Local Detail'!$G$3)*(Projects!$C$5:$C$2413<>'MDOT FTA Detail'!$C$4)*(Projects!$L$5:$L$2413='Local Detail'!$A79)*(Projects!$K$5:$K$2413))","v":0},{"$f":"((SUMPRODUCT((Projects!$A$5:$A$2413='Local Detail'!$G$3)*(Projects!$C$5:$C$2413<>'MDOT FTA Detail'!$C$4)*(Projects!$L$5:$L$2413='Local Detail'!$A79)*(Projects!$J$5:$J$2413<>'Local Detail'!$A$147)*(Projects!$M$5:$M$2413)))+(SUMPRODUCT((Projects!$A$5:$A$2413='Local Detail'!$G$3)*(Projects!$C$5:$C$2413<>'MDOT FTA Detail'!$C$4)*(Projects!$L$5:$L$2413='Local Detail'!$A79)*(Projects!$J$5:$J$2413<>'Local Detail'!$A$147)*(Projects!$O$5:$O$2413))))","v":0},0,{"$f":"SUMPRODUCT((Projects!$A$5:$A$2413='Local Detail'!$J$3)*(Projects!$C$5:$C$2413<>'MDOT FTA Detail'!$C$4)*(Projects!$L$5:$L$2413='Local Detail'!$A79)*(Projects!$K$5:$K$2413))","v":0},{"$f":"((SUMPRODUCT((Projects!$A$5:$A$2413='Local Detail'!$J$3)*(Projects!$C$5:$C$2413<>'MDOT FTA Detail'!$C$4)*(Projects!$L$5:$L$2413='Local Detail'!$A79)*(Projects!$J$5:$J$2413<>'Local Detail'!$A$147)*(Projects!$M$5:$M$2413)))+(SUMPRODUCT((Projects!$A$5:$A$2413='Local Detail'!$J$3)*(Projects!$C$5:$C$2413<>'MDOT FTA Detail'!$C$4)*(Projects!$L$5:$L$2413='Local Detail'!$A79)*(Projects!$J$5:$J$2413<>'Local Detail'!$A$147)*(Projects!$O$5:$O$2413))))","v":0},0,{"$f":"SUMPRODUCT((Projects!$A$5:$A$2413='Local Detail'!$M$3)*(Projects!$C$5:$C$2413<>'MDOT FTA Detail'!$C$4)*(Projects!$L$5:$L$2413='Local Detail'!$A79)*(Projects!$K$5:$K$2413))","v":0},{"$f":"((SUMPRODUCT((Projects!$A$5:$A$2413='Local Detail'!$M$3)*(Projects!$C$5:$C$2413<>'MDOT FTA Detail'!$C$4)*(Projects!$L$5:$L$2413='Local Detail'!$A79)*(Projects!$J$5:$J$2413<>'Local Detail'!$A$147)*(Projects!$M$5:$M$2413)))+(SUMPRODUCT((Projects!$A$5:$A$2413='Local Detail'!$M$3)*(Projects!$C$5:$C$2413<>'MDOT FTA Detail'!$C$4)*(Projects!$L$5:$L$2413='Local Detail'!$A79)*(Projects!$J$5:$J$2413<>'Local Detail'!$A$147)*(Projects!$O$5:$O$2413))))","v":0},0]
["STG","STP - Safety - 100% Federal for ST","Local Safety",{"$f":"SUMPRODUCT((Projects!$A$5:$A$2413='Local Detail'!$D$3)*(Projects!$C$5:$C$2413<>'MDOT FTA Detail'!$C$4)*(Projects!$L$5:$L$2413='Local Detail'!$A80)*(Projects!$K$5:$K$2413))","v":0},{"$f":"((SUMPRODUCT((Projects!$A$5:$A$2413='Local Detail'!$D$3)*(Projects!$C$5:$C$2413<>'MDOT FTA Detail'!$C$4)*(Projects!$L$5:$L$2413='Local Detail'!$A80)*(Projects!$J$5:$J$2413<>'Local Detail'!$A$147)*(Projects!$M$5:$M$2413)))+(SUMPRODUCT((Projects!$A$5:$A$2413='Local Detail'!$D$3)*(Projects!$C$5:$C$2413<>'MDOT FTA Detail'!$C$4)*(Projects!$L$5:$L$2413='Local Detail'!$A80)*(Projects!$J$5:$J$2413<>'Local Detail'!$A$147)*(Projects!$O$5:$O$2413))))","v":0},0,{"$f":"SUMPRODUCT((Projects!$A$5:$A$2413='Local Detail'!$G$3)*(Projects!$C$5:$C$2413<>'MDOT FTA Detail'!$C$4)*(Projects!$L$5:$L$2413='Local Detail'!$A80)*(Projects!$K$5:$K$2413))","v":0},{"$f":"((SUMPRODUCT((Projects!$A$5:$A$2413='Local Detail'!$G$3)*(Projects!$C$5:$C$2413<>'MDOT FTA Detail'!$C$4)*(Projects!$L$5:$L$2413='Local Detail'!$A80)*(Projects!$J$5:$J$2413<>'Local Detail'!$A$147)*(Projects!$M$5:$M$2413)))+(SUMPRODUCT((Projects!$A$5:$A$2413='Local Detail'!$G$3)*(Projects!$C$5:$C$2413<>'MDOT FTA Detail'!$C$4)*(Projects!$L$5:$L$2413='Local Detail'!$A80)*(Projects!$J$5:$J$2413<>'Local Detail'!$A$147)*(Projects!$O$5:$O$2413))))","v":0},0,{"$f":"SUMPRODUCT((Projects!$A$5:$A$2413='Local Detail'!$J$3)*(Projects!$C$5:$C$2413<>'MDOT FTA Detail'!$C$4)*(Projects!$L$5:$L$2413='Local Detail'!$A80)*(Projects!$K$5:$K$2413))","v":0},{"$f":"((SUMPRODUCT((Projects!$A$5:$A$2413='Local Detail'!$J$3)*(Projects!$C$5:$C$2413<>'MDOT FTA Detail'!$C$4)*(Projects!$L$5:$L$2413='Local Detail'!$A80)*(Projects!$J$5:$J$2413<>'Local Detail'!$A$147)*(Projects!$M$5:$M$2413)))+(SUMPRODUCT((Projects!$A$5:$A$2413='Local Detail'!$J$3)*(Projects!$C$5:$C$2413<>'MDOT FTA Detail'!$C$4)*(Projects!$L$5:$L$2413='Local Detail'!$A80)*(Projects!$J$5:$J$2413<>'Local Detail'!$A$147)*(Projects!$O$5:$O$2413))))","v":0},0,{"$f":"SUMPRODUCT((Projects!$A$5:$A$2413='Local Detail'!$M$3)*(Projects!$C$5:$C$2413<>'MDOT FTA Detail'!$C$4)*(Projects!$L$5:$L$2413='Local Detail'!$A80)*(Projects!$K$5:$K$2413))","v":0},{"$f":"((SUMPRODUCT((Projects!$A$5:$A$2413='Local Detail'!$M$3)*(Projects!$C$5:$C$2413<>'MDOT FTA Detail'!$C$4)*(Projects!$L$5:$L$2413='Local Detail'!$A80)*(Projects!$J$5:$J$2413<>'Local Detail'!$A$147)*(Projects!$M$5:$M$2413)))+(SUMPRODUCT((Projects!$A$5:$A$2413='Local Detail'!$M$3)*(Projects!$C$5:$C$2413<>'MDOT FTA Detail'!$C$4)*(Projects!$L$5:$L$2413='Local Detail'!$A80)*(Projects!$J$5:$J$2413<>'Local Detail'!$A$147)*(Projects!$O$5:$O$2413))))","v":0},0]
["STH","STP - Safety - Hazard Elimination","Local Safety",{"$f":"SUMPRODUCT((Projects!$A$5:$A$2413='Local Detail'!$D$3)*(Projects!$C$5:$C$2413<>'MDOT FTA Detail'!$C$4)*(Projects!$L$5:$L$2413='Local Detail'!$A81)*(Projects!$K$5:$K$2413))","v":0},{"$f":"((SUMPRODUCT((Projects!$A$5:$A$2413='Local Detail'!$D$3)*(Projects!$C$5:$C$2413<>'MDOT FTA Detail'!$C$4)*(Projects!$L$5:$L$2413='Local Detail'!$A81)*(Projects!$J$5:$J$2413<>'Local Detail'!$A$147)*(Projects!$M$5:$M$2413)))+(SUMPRODUCT((Projects!$A$5:$A$2413='Local Detail'!$D$3)*(Projects!$C$5:$C$2413<>'MDOT FTA Detail'!$C$4)*(Projects!$L$5:$L$2413='Local Detail'!$A81)*(Projects!$J$5:$J$2413<>'Local Detail'!$A$147)*(Projects!$O$5:$O$2413))))","v":0},0,{"$f":"SUMPRODUCT((Projects!$A$5:$A$2413='Local Detail'!$G$3)*(Projects!$C$5:$C$2413<>'MDOT FTA Detail'!$C$4)*(Projects!$L$5:$L$2413='Local Detail'!$A81)*(Projects!$K$5:$K$2413))","v":0},{"$f":"((SUMPRODUCT((Projects!$A$5:$A$2413='Local Detail'!$G$3)*(Projects!$C$5:$C$2413<>'MDOT FTA Detail'!$C$4)*(Projects!$L$5:$L$2413='Local Detail'!$A81)*(Projects!$J$5:$J$2413<>'Local Detail'!$A$147)*(Projects!$M$5:$M$2413)))+(SUMPRODUCT((Projects!$A$5:$A$2413='Local Detail'!$G$3)*(Projects!$C$5:$C$2413<>'MDOT FTA Detail'!$C$4)*(Projects!$L$5:$L$2413='Local Detail'!$A81)*(Projects!$J$5:$J$2413<>'Local Detail'!$A$147)*(Projects!$O$5:$O$2413))))","v":0},0,{"$f":"SUMPRODUCT((Projects!$A$5:$A$2413='Local Detail'!$J$3)*(Projects!$C$5:$C$2413<>'MDOT FTA Detail'!$C$4)*(Projects!$L$5:$L$2413='Local Detail'!$A81)*(Projects!$K$5:$K$2413))","v":0},{"$f":"((SUMPRODUCT((Projects!$A$5:$A$2413='Local Detail'!$J$3)*(Projects!$C$5:$C$2413<>'MDOT FTA Detail'!$C$4)*(Projects!$L$5:$L$2413='Local Detail'!$A81)*(Projects!$J$5:$J$2413<>'Local Detail'!$A$147)*(Projects!$M$5:$M$2413)))+(SUMPRODUCT((Projects!$A$5:$A$2413='Local Detail'!$J$3)*(Projects!$C$5:$C$2413<>'MDOT FTA Detail'!$C$4)*(Projects!$L$5:$L$2413='Local Detail'!$A81)*(Projects!$J$5:$J$2413<>'Local Detail'!$A$147)*(Projects!$O$5:$O$2413))))","v":0},0,{"$f":"SUMPRODUCT((Projects!$A$5:$A$2413='Local Detail'!$M$3)*(Projects!$C$5:$C$2413<>'MDOT FTA Detail'!$C$4)*(Projects!$L$5:$L$2413='Local Detail'!$A81)*(Projects!$K$5:$K$2413))","v":0},{"$f":"((SUMPRODUCT((Projects!$A$5:$A$2413='Local Detail'!$M$3)*(Projects!$C$5:$C$2413<>'MDOT FTA Detail'!$C$4)*(Projects!$L$5:$L$2413='Local Detail'!$A81)*(Projects!$J$5:$J$2413<>'Local Detail'!$A$147)*(Projects!$M$5:$M$2413)))+(SUMPRODUCT((Projects!$A$5:$A$2413='Local Detail'!$M$3)*(Projects!$C$5:$C$2413<>'MDOT FTA Detail'!$C$4)*(Projects!$L$5:$L$2413='Local Detail'!$A81)*(Projects!$J$5:$J$2413<>'Local Detail'!$A$147)*(Projects!$O$5:$O$2413))))","v":0},0]
["STI","STP - Interstate (90%)","Local STP",{"$f":"SUMPRODUCT((Projects!$A$5:$A$2413='Local Detail'!$D$3)*(Projects!$C$5:$C$2413<>'MDOT FTA Detail'!$C$4)*(Projects!$L$5:$L$2413='Local Detail'!$A82)*(Projects!$K$5:$K$2413))","v":0},{"$f":"((SUMPRODUCT((Projects!$A$5:$A$2413='Local Detail'!$D$3)*(Projects!$C$5:$C$2413<>'MDOT FTA Detail'!$C$4)*(Projects!$L$5:$L$2413='Local Detail'!$A82)*(Projects!$J$5:$J$2413<>'Local Detail'!$A$147)*(Projects!$M$5:$M$2413)))+(SUMPRODUCT((Projects!$A$5:$A$2413='Local Detail'!$D$3)*(Projects!$C$5:$C$2413<>'MDOT FTA Detail'!$C$4)*(Projects!$L$5:$L$2413='Local Detail'!$A82)*(Projects!$J$5:$J$2413<>'Local Detail'!$A$147)*(Projects!$O$5:$O$2413))))","v":0},0,{"$f":"SUMPRODUCT((Projects!$A$5:$A$2413='Local Detail'!$G$3)*(Projects!$C$5:$C$2413<>'MDOT FTA Detail'!$C$4)*(Projects!$L$5:$L$2413='Local Detail'!$A82)*(Projects!$K$5:$K$2413))","v":0},{"$f":"((SUMPRODUCT((Projects!$A$5:$A$2413='Local Detail'!$G$3)*(Projects!$C$5:$C$2413<>'MDOT FTA Detail'!$C$4)*(Projects!$L$5:$L$2413='Local Detail'!$A82)*(Projects!$J$5:$J$2413<>'Local Detail'!$A$147)*(Projects!$M$5:$M$2413)))+(SUMPRODUCT((Projects!$A$5:$A$2413='Local Detail'!$G$3)*(Projects!$C$5:$C$2413<>'MDOT FTA Detail'!$C$4)*(Projects!$L$5:$L$2413='Local Detail'!$A82)*(Projects!$J$5:$J$2413<>'Local Detail'!$A$147)*(Projects!$O$5:$O$2413))))","v":0},0,{"$f":"SUMPRODUCT((Projects!$A$5:$A$2413='Local Detail'!$J$3)*(Projects!$C$5:$C$2413<>'MDOT FTA Detail'!$C$4)*(Projects!$L$5:$L$2413='Local Detail'!$A82)*(Projects!$K$5:$K$2413))","v":0},{"$f":"((SUMPRODUCT((Projects!$A$5:$A$2413='Local Detail'!$J$3)*(Projects!$C$5:$C$2413<>'MDOT FTA Detail'!$C$4)*(Projects!$L$5:$L$2413='Local Detail'!$A82)*(Projects!$J$5:$J$2413<>'Local Detail'!$A$147)*(Projects!$M$5:$M$2413)))+(SUMPRODUCT((Projects!$A$5:$A$2413='Local Detail'!$J$3)*(Projects!$C$5:$C$2413<>'MDOT FTA Detail'!$C$4)*(Projects!$L$5:$L$2413='Local Detail'!$A82)*(Projects!$J$5:$J$2413<>'Local Detail'!$A$147)*(Projects!$O$5:$O$2413))))","v":0},0,{"$f":"SUMPRODUCT((Projects!$A$5:$A$2413='Local Detail'!$M$3)*(Projects!$C$5:$C$2413<>'MDOT FTA Detail'!$C$4)*(Projects!$L$5:$L$2413='Local Detail'!$A82)*(Projects!$K$5:$K$2413))","v":0},{"$f":"((SUMPRODUCT((Projects!$A$5:$A$2413='Local Detail'!$M$3)*(Projects!$C$5:$C$2413<>'MDOT FTA Detail'!$C$4)*(Projects!$L$5:$L$2413='Local Detail'!$A82)*(Projects!$J$5:$J$2413<>'Local Detail'!$A$147)*(Projects!$M$5:$M$2413)))+(SUMPRODUCT((Projects!$A$5:$A$2413='Local Detail'!$M$3)*(Projects!$C$5:$C$2413<>'MDOT FTA Detail'!$C$4)*(Projects!$L$5:$L$2413='Local Detail'!$A82)*(Projects!$J$5:$J$2413<>'Local Detail'!$A$147)*(Projects!$O$5:$O$2413))))","v":0},0]
["STL","STP - Local","Local STP",{"$f":"SUMPRODUCT((Projects!$A$5:$A$2413='Local Detail'!$D$3)*(Projects!$C$5:$C$2413<>'MDOT FTA Detail'!$C$4)*(Projects!$L$5:$L$2413='Local Detail'!$A83)*(Projects!$K$5:$K$2413))","v":0},{"$f":"((SUMPRODUCT((Projects!$A$5:$A$2413='Local Detail'!$D$3)*(Projects!$C$5:$C$2413<>'MDOT FTA Detail'!$C$4)*(Projects!$L$5:$L$2413='Local Detail'!$A83)*(Projects!$J$5:$J$2413<>'Local Detail'!$A$147)*(Projects!$M$5:$M$2413)))+(SUMPRODUCT((Projects!$A$5:$A$2413='Local Detail'!$D$3)*(Projects!$C$5:$C$2413<>'MDOT FTA Detail'!$C$4)*(Projects!$L$5:$L$2413='Local Detail'!$A83)*(Projects!$J$5:$J$2413<>'Local Detail'!$A$147)*(Projects!$O$5:$O$2413))))","v":0},0,{"$f":"SUMPRODUCT((Projects!$A$5:$A$2413='Local Detail'!$G$3)*(Projects!$C$5:$C$2413<>'MDOT FTA Detail'!$C$4)*(Projects!$L$5:$L$2413='Local Detail'!$A83)*(Projects!$K$5:$K$2413))","v":0},{"$f":"((SUMPRODUCT((Projects!$A$5:$A$2413='Local Detail'!$G$3)*(Projects!$C$5:$C$2413<>'MDOT FTA Detail'!$C$4)*(Projects!$L$5:$L$2413='Local Detail'!$A83)*(Projects!$J$5:$J$2413<>'Local Detail'!$A$147)*(Projects!$M$5:$M$2413)))+(SUMPRODUCT((Projects!$A$5:$A$2413='Local Detail'!$G$3)*(Projects!$C$5:$C$2413<>'MDOT FTA Detail'!$C$4)*(Projects!$L$5:$L$2413='Local Detail'!$A83)*(Projects!$J$5:$J$2413<>'Local Detail'!$A$147)*(Projects!$O$5:$O$2413))))","v":0},0,{"$f":"SUMPRODUCT((Projects!$A$5:$A$2413='Local Detail'!$J$3)*(Projects!$C$5:$C$2413<>'MDOT FTA Detail'!$C$4)*(Projects!$L$5:$L$2413='Local Detail'!$A83)*(Projects!$K$5:$K$2413))","v":0},{"$f":"((SUMPRODUCT((Projects!$A$5:$A$2413='Local Detail'!$J$3)*(Projects!$C$5:$C$2413<>'MDOT FTA Detail'!$C$4)*(Projects!$L$5:$L$2413='Local Detail'!$A83)*(Projects!$J$5:$J$2413<>'Local Detail'!$A$147)*(Projects!$M$5:$M$2413)))+(SUMPRODUCT((Projects!$A$5:$A$2413='Local Detail'!$J$3)*(Projects!$C$5:$C$2413<>'MDOT FTA Detail'!$C$4)*(Projects!$L$5:$L$2413='Local Detail'!$A83)*(Projects!$J$5:$J$2413<>'Local Detail'!$A$147)*(Projects!$O$5:$O$2413))))","v":0},0,{"$f":"SUMPRODUCT((Projects!$A$5:$A$2413='Local Detail'!$M$3)*(Projects!$C$5:$C$2413<>'MDOT FTA Detail'!$C$4)*(Projects!$L$5:$L$2413='Local Detail'!$A83)*(Projects!$K$5:$K$2413))","v":0},{"$f":"((SUMPRODUCT((Projects!$A$5:$A$2413='Local Detail'!$M$3)*(Projects!$C$5:$C$2413<>'MDOT FTA Detail'!$C$4)*(Projects!$L$5:$L$2413='Local Detail'!$A83)*(Projects!$J$5:$J$2413<>'Local Detail'!$A$147)*(Projects!$M$5:$M$2413)))+(SUMPRODUCT((Projects!$A$5:$A$2413='Local Detail'!$M$3)*(Projects!$C$5:$C$2413<>'MDOT FTA Detail'!$C$4)*(Projects!$L$5:$L$2413='Local Detail'!$A83)*(Projects!$J$5:$J$2413<>'Local Detail'!$A$147)*(Projects!$O$5:$O$2413))))","v":0},0]
["STLG","Surface Transportation Safety 100% Federal for STL Items","Local STP",{"$f":"SUMPRODUCT((Projects!$A$5:$A$2413='Local Detail'!$D$3)*(Projects!$C$5:$C$2413<>'MDOT FTA Detail'!$C$4)*(Projects!$L$5:$L$2413='Local Detail'!$A84)*(Projects!$K$5:$K$2413))","v":0},{"$f":"((SUMPRODUCT((Projects!$A$5:$A$2413='Local Detail'!$D$3)*(Projects!$C$5:$C$2413<>'MDOT FTA Detail'!$C$4)*(Projects!$L$5:$L$2413='Local Detail'!$A84)*(Projects!$J$5:$J$2413<>'Local Detail'!$A$147)*(Projects!$M$5:$M$2413)))+(SUMPRODUCT((Projects!$A$5:$A$2413='Local Detail'!$D$3)*(Projects!$C$5:$C$2413<>'MDOT FTA Detail'!$C$4)*(Projects!$L$5:$L$2413='Local Detail'!$A84)*(Projects!$J$5:$J$2413<>'Local Detail'!$A$147)*(Projects!$O$5:$O$2413))))","v":0},{"$f":"D84+E84","v":0},{"$f":"SUMPRODUCT((Projects!$A$5:$A$2413='Local Detail'!$G$3)*(Projects!$C$5:$C$2413<>'MDOT FTA Detail'!$C$4)*(Projects!$L$5:$L$2413='Local Detail'!$A84)*(Projects!$K$5:$K$2413))","v":0},{"$f":"((SUMPRODUCT((Projects!$A$5:$A$2413='Local Detail'!$G$3)*(Projects!$C$5:$C$2413<>'MDOT FTA Detail'!$C$4)*(Projects!$L$5:$L$2413='Local Detail'!$A84)*(Projects!$J$5:$J$2413<>'Local Detail'!$A$147)*(Projects!$M$5:$M$2413)))+(SUMPRODUCT((Projects!$A$5:$A$2413='Local Detail'!$G$3)*(Projects!$C$5:$C$2413<>'MDOT FTA Detail'!$C$4)*(Projects!$L$5:$L$2413='Local Detail'!$A84)*(Projects!$J$5:$J$2413<>'Local Detail'!$A$147)*(Projects!$O$5:$O$2413))))","v":0},{"$f":"G84+H84","v":0},{"$f":"SUMPRODUCT((Projects!$A$5:$A$2413='Local Detail'!$J$3)*(Projects!$C$5:$C$2413<>'MDOT FTA Detail'!$C$4)*(Projects!$L$5:$L$2413='Local Detail'!$A84)*(Projects!$K$5:$K$2413))","v":0},{"$f":"((SUMPRODUCT((Projects!$A$5:$A$2413='Local Detail'!$J$3)*(Projects!$C$5:$C$2413<>'MDOT FTA Detail'!$C$4)*(Projects!$L$5:$L$2413='Local Detail'!$A84)*(Projects!$J$5:$J$2413<>'Local Detail'!$A$147)*(Projects!$M$5:$M$2413)))+(SUMPRODUCT((Projects!$A$5:$A$2413='Local Detail'!$J$3)*(Projects!$C$5:$C$2413<>'MDOT FTA Detail'!$C$4)*(Projects!$L$5:$L$2413='Local Detail'!$A84)*(Projects!$J$5:$J$2413<>'Local Detail'!$A$147)*(Projects!$O$5:$O$2413))))","v":0},{"$f":"J84+K84","v":0},{"$f":"SUMPRODUCT((Projects!$A$5:$A$2413='Local Detail'!$M$3)*(Projects!$C$5:$C$2413<>'MDOT FTA Detail'!$C$4)*(Projects!$L$5:$L$2413='Local Detail'!$A84)*(Projects!$K$5:$K$2413))","v":0},{"$f":"((SUMPRODUCT((Projects!$A$5:$A$2413='Local Detail'!$M$3)*(Projects!$C$5:$C$2413<>'MDOT FTA Detail'!$C$4)*(Projects!$L$5:$L$2413='Local Detail'!$A84)*(Projects!$J$5:$J$2413<>'Local Detail'!$A$147)*(Projects!$M$5:$M$2413)))+(SUMPRODUCT((Projects!$A$5:$A$2413='Local Detail'!$M$3)*(Projects!$C$5:$C$2413<>'MDOT FTA Detail'!$C$4)*(Projects!$L$5:$L$2413='Local Detail'!$A84)*(Projects!$J$5:$J$2413<>'Local Detail'!$A$147)*(Projects!$O$5:$O$2413))))","v":0},{"$f":"M84+N84","v":0}]
["STR","STP - Safety - Rail-Highway Crossing Protection","Local STP",{"$f":"SUMPRODUCT((Projects!$A$5:$A$2413='Local Detail'!$D$3)*(Projects!$C$5:$C$2413<>'MDOT FTA Detail'!$C$4)*(Projects!$L$5:$L$2413='Local Detail'!$A85)*(Projects!$K$5:$K$2413))","v":0},{"$f":"((SUMPRODUCT((Projects!$A$5:$A$2413='Local Detail'!$D$3)*(Projects!$C$5:$C$2413<>'MDOT FTA Detail'!$C$4)*(Projects!$L$5:$L$2413='Local Detail'!$A85)*(Projects!$J$5:$J$2413<>'Local Detail'!$A$147)*(Projects!$M$5:$M$2413)))+(SUMPRODUCT((Projects!$A$5:$A$2413='Local Detail'!$D$3)*(Projects!$C$5:$C$2413<>'MDOT FTA Detail'!$C$4)*(Projects!$L$5:$L$2413='Local Detail'!$A85)*(Projects!$J$5:$J$2413<>'Local Detail'!$A$147)*(Projects!$O$5:$O$2413))))","v":0},0,{"$f":"SUMPRODUCT((Projects!$A$5:$A$2413='Local Detail'!$G$3)*(Projects!$C$5:$C$2413<>'MDOT FTA Detail'!$C$4)*(Projects!$L$5:$L$2413='Local Detail'!$A85)*(Projects!$K$5:$K$2413))","v":0},{"$f":"((SUMPRODUCT((Projects!$A$5:$A$2413='Local Detail'!$G$3)*(Projects!$C$5:$C$2413<>'MDOT FTA Detail'!$C$4)*(Projects!$L$5:$L$2413='Local Detail'!$A85)*(Projects!$J$5:$J$2413<>'Local Detail'!$A$147)*(Projects!$M$5:$M$2413)))+(SUMPRODUCT((Projects!$A$5:$A$2413='Local Detail'!$G$3)*(Projects!$C$5:$C$2413<>'MDOT FTA Detail'!$C$4)*(Projects!$L$5:$L$2413='Local Detail'!$A85)*(Projects!$J$5:$J$2413<>'Local Detail'!$A$147)*(Projects!$O$5:$O$2413))))","v":0},0,{"$f":"SUMPRODUCT((Projects!$A$5:$A$2413='Local Detail'!$J$3)*(Projects!$C$5:$C$2413<>'MDOT FTA Detail'!$C$4)*(Projects!$L$5:$L$2413='Local Detail'!$A85)*(Projects!$K$5:$K$2413))","v":0},{"$f":"((SUMPRODUCT((Projects!$A$5:$A$2413='Local Detail'!$J$3)*(Projects!$C$5:$C$2413<>'MDOT FTA Detail'!$C$4)*(Projects!$L$5:$L$2413='Local Detail'!$A85)*(Projects!$J$5:$J$2413<>'Local Detail'!$A$147)*(Projects!$M$5:$M$2413)))+(SUMPRODUCT((Projects!$A$5:$A$2413='Local Detail'!$J$3)*(Projects!$C$5:$C$2413<>'MDOT FTA Detail'!$C$4)*(Projects!$L$5:$L$2413='Local Detail'!$A85)*(Projects!$J$5:$J$2413<>'Local Detail'!$A$147)*(Projects!$O$5:$O$2413))))","v":0},0,{"$f":"SUMPRODUCT((Projects!$A$5:$A$2413='Local Detail'!$M$3)*(Projects!$C$5:$C$2413<>'MDOT FTA Detail'!$C$4)*(Projects!$L$5:$L$2413='Local Detail'!$A85)*(Projects!$K$5:$K$2413))","v":0},{"$f":"((SUMPRODUCT((Projects!$A$5:$A$2413='Local Detail'!$M$3)*(Projects!$C$5:$C$2413<>'MDOT FTA Detail'!$C$4)*(Projects!$L$5:$L$2413='Local Detail'!$A85)*(Projects!$J$5:$J$2413<>'Local Detail'!$A$147)*(Projects!$M$5:$M$2413)))+(SUMPRODUCT((Projects!$A$5:$A$2413='Local Detail'!$M$3)*(Projects!$C$5:$C$2413<>'MDOT FTA Detail'!$C$4)*(Projects!$L$5:$L$2413='Local Detail'!$A85)*(Projects!$J$5:$J$2413<>'Local Detail'!$A$147)*(Projects!$O$5:$O$2413))))","v":0},0]
["STRG","STP - Safety Rail-Highway & Incentive Payment - 100% Federal","Local STP",{"$f":"SUMPRODUCT((Projects!$A$5:$A$2413='Local Detail'!$D$3)*(Projects!$C$5:$C$2413<>'MDOT FTA Detail'!$C$4)*(Projects!$L$5:$L$2413='Local Detail'!$A86)*(Projects!$K$5:$K$2413))","v":0},{"$f":"((SUMPRODUCT((Projects!$A$5:$A$2413='Local Detail'!$D$3)*(Projects!$C$5:$C$2413<>'MDOT FTA Detail'!$C$4)*(Projects!$L$5:$L$2413='Local Detail'!$A86)*(Projects!$J$5:$J$2413<>'Local Detail'!$A$147)*(Projects!$M$5:$M$2413)))+(SUMPRODUCT((Projects!$A$5:$A$2413='Local Detail'!$D$3)*(Projects!$C$5:$C$2413<>'MDOT FTA Detail'!$C$4)*(Projects!$L$5:$L$2413='Local Detail'!$A86)*(Projects!$J$5:$J$2413<>'Local Detail'!$A$147)*(Projects!$O$5:$O$2413))))","v":0},0,{"$f":"SUMPRODUCT((Projects!$A$5:$A$2413='Local Detail'!$G$3)*(Projects!$C$5:$C$2413<>'MDOT FTA Detail'!$C$4)*(Projects!$L$5:$L$2413='Local Detail'!$A86)*(Projects!$K$5:$K$2413))","v":0},{"$f":"((SUMPRODUCT((Projects!$A$5:$A$2413='Local Detail'!$G$3)*(Projects!$C$5:$C$2413<>'MDOT FTA Detail'!$C$4)*(Projects!$L$5:$L$2413='Local Detail'!$A86)*(Projects!$J$5:$J$2413<>'Local Detail'!$A$147)*(Projects!$M$5:$M$2413)))+(SUMPRODUCT((Projects!$A$5:$A$2413='Local Detail'!$G$3)*(Projects!$C$5:$C$2413<>'MDOT FTA Detail'!$C$4)*(Projects!$L$5:$L$2413='Local Detail'!$A86)*(Projects!$J$5:$J$2413<>'Local Detail'!$A$147)*(Projects!$O$5:$O$2413))))","v":0},0,{"$f":"SUMPRODUCT((Projects!$A$5:$A$2413='Local Detail'!$J$3)*(Projects!$C$5:$C$2413<>'MDOT FTA Detail'!$C$4)*(Projects!$L$5:$L$2413='Local Detail'!$A86)*(Projects!$K$5:$K$2413))","v":0},{"$f":"((SUMPRODUCT((Projects!$A$5:$A$2413='Local Detail'!$J$3)*(Projects!$C$5:$C$2413<>'MDOT FTA Detail'!$C$4)*(Projects!$L$5:$L$2413='Local Detail'!$A86)*(Projects!$J$5:$J$2413<>'Local Detail'!$A$147)*(Projects!$M$5:$M$2413)))+(SUMPRODUCT((Projects!$A$5:$A$2413='Local Detail'!$J$3)*(Projects!$C$5:$C$2413<>'MDOT FTA Detail'!$C$4)*(Projects!$L$5:$L$2413='Local Detail'!$A86)*(Projects!$J$5:$J$2413<>'Local Detail'!$A$147)*(Projects!$O$5:$O$2413))))","v":0},0,{"$f":"SUMPRODUCT((Projects!$A$5:$A$2413='Local Detail'!$M$3)*(Projects!$C$5:$C$2413<>'MDOT FTA Detail'!$C$4)*(Projects!$L$5:$L$2413='Local Detail'!$A86)*(Projects!$K$5:$K$2413))","v":0},{"$f":"((SUMPRODUCT((Projects!$A$5:$A$2413='Local Detail'!$M$3)*(Projects!$C$5:$C$2413<>'MDOT FTA Detail'!$C$4)*(Projects!$L$5:$L$2413='Local Detail'!$A86)*(Projects!$J$5:$J$2413<>'Local Detail'!$A$147)*(Projects!$M$5:$M$2413)))+(SUMPRODUCT((Projects!$A$5:$A$2413='Local Detail'!$M$3)*(Projects!$C$5:$C$2413<>'MDOT FTA Detail'!$C$4)*(Projects!$L$5:$L$2413='Local Detail'!$A86)*(Projects!$J$5:$J$2413<>'Local Detail'!$A$147)*(Projects!$O$5:$O$2413))))","v":0},0]
["STRH","Surface Transportation Safety Highway Crossing Hazard Elimination","Local STP",{"$f":"SUMPRODUCT((Projects!$A$5:$A$2413='Local Detail'!$D$3)*(Projects!$C$5:$C$2413<>'MDOT FTA Detail'!$C$4)*(Projects!$L$5:$L$2413='Local Detail'!$A87)*(Projects!$K$5:$K$2413))","v":0},{"$f":"((SUMPRODUCT((Projects!$A$5:$A$2413='Local Detail'!$D$3)*(Projects!$C$5:$C$2413<>'MDOT FTA Detail'!$C$4)*(Projects!$L$5:$L$2413='Local Detail'!$A87)*(Projects!$J$5:$J$2413<>'Local Detail'!$A$147)*(Projects!$M$5:$M$2413)))+(SUMPRODUCT((Projects!$A$5:$A$2413='Local Detail'!$D$3)*(Projects!$C$5:$C$2413<>'MDOT FTA Detail'!$C$4)*(Projects!$L$5:$L$2413='Local Detail'!$A87)*(Projects!$J$5:$J$2413<>'Local Detail'!$A$147)*(Projects!$O$5:$O$2413))))","v":0},{"$f":"D87+E87","v":0},{"$f":"SUMPRODUCT((Projects!$A$5:$A$2413='Local Detail'!$G$3)*(Projects!$C$5:$C$2413<>'MDOT FTA Detail'!$C$4)*(Projects!$L$5:$L$2413='Local Detail'!$A87)*(Projects!$K$5:$K$2413))","v":0},{"$f":"((SUMPRODUCT((Projects!$A$5:$A$2413='Local Detail'!$G$3)*(Projects!$C$5:$C$2413<>'MDOT FTA Detail'!$C$4)*(Projects!$L$5:$L$2413='Local Detail'!$A87)*(Projects!$J$5:$J$2413<>'Local Detail'!$A$147)*(Projects!$M$5:$M$2413)))+(SUMPRODUCT((Projects!$A$5:$A$2413='Local Detail'!$G$3)*(Projects!$C$5:$C$2413<>'MDOT FTA Detail'!$C$4)*(Projects!$L$5:$L$2413='Local Detail'!$A87)*(Projects!$J$5:$J$2413<>'Local Detail'!$A$147)*(Projects!$O$5:$O$2413))))","v":0},{"$f":"G87+H87","v":0},{"$f":"SUMPRODUCT((Projects!$A$5:$A$2413='Local Detail'!$J$3)*(Projects!$C$5:$C$2413<>'MDOT FTA Detail'!$C$4)*(Projects!$L$5:$L$2413='Local Detail'!$A87)*(Projects!$K$5:$K$2413))","v":0},{"$f":"((SUMPRODUCT((Projects!$A$5:$A$2413='Local Detail'!$J$3)*(Projects!$C$5:$C$2413<>'MDOT FTA Detail'!$C$4)*(Projects!$L$5:$L$2413='Local Detail'!$A87)*(Projects!$J$5:$J$2413<>'Local Detail'!$A$147)*(Projects!$M$5:$M$2413)))+(SUMPRODUCT((Projects!$A$5:$A$2413='Local Detail'!$J$3)*(Projects!$C$5:$C$2413<>'MDOT FTA Detail'!$C$4)*(Projects!$L$5:$L$2413='Local Detail'!$A87)*(Projects!$J$5:$J$2413<>'Local Detail'!$A$147)*(Projects!$O$5:$O$2413))))","v":0},{"$f":"J87+K87","v":0},{"$f":"SUMPRODUCT((Projects!$A$5:$A$2413='Local Detail'!$M$3)*(Projects!$C$5:$C$2413<>'MDOT FTA Detail'!$C$4)*(Projects!$L$5:$L$2413='Local Detail'!$A87)*(Projects!$K$5:$K$2413))","v":0},{"$f":"((SUMPRODUCT((Projects!$A$5:$A$2413='Local Detail'!$M$3)*(Projects!$C$5:$C$2413<>'MDOT FTA Detail'!$C$4)*(Projects!$L$5:$L$2413='Local Detail'!$A87)*(Projects!$J$5:$J$2413<>'Local Detail'!$A$147)*(Projects!$M$5:$M$2413)))+(SUMPRODUCT((Projects!$A$5:$A$2413='Local Detail'!$M$3)*(Projects!$C$5:$C$2413<>'MDOT FTA Detail'!$C$4)*(Projects!$L$5:$L$2413='Local Detail'!$A87)*(Projects!$J$5:$J$2413<>'Local Detail'!$A$147)*(Projects!$O$5:$O$2413))))","v":0},{"$f":"M87+N87","v":0}]
["STRP","Surface Transportation Safety Highway Crossing Protection Devices","Local STP",{"$f":"SUMPRODUCT((Projects!$A$5:$A$2413='Local Detail'!$D$3)*(Projects!$C$5:$C$2413<>'MDOT FTA Detail'!$C$4)*(Projects!$L$5:$L$2413='Local Detail'!$A88)*(Projects!$K$5:$K$2413))","v":0},{"$f":"((SUMPRODUCT((Projects!$A$5:$A$2413='Local Detail'!$D$3)*(Projects!$C$5:$C$2413<>'MDOT FTA Detail'!$C$4)*(Projects!$L$5:$L$2413='Local Detail'!$A88)*(Projects!$J$5:$J$2413<>'Local Detail'!$A$147)*(Projects!$M$5:$M$2413)))+(SUMPRODUCT((Projects!$A$5:$A$2413='Local Detail'!$D$3)*(Projects!$C$5:$C$2413<>'MDOT FTA Detail'!$C$4)*(Projects!$L$5:$L$2413='Local Detail'!$A88)*(Projects!$J$5:$J$2413<>'Local Detail'!$A$147)*(Projects!$O$5:$O$2413))))","v":0},{"$f":"D88+E88","v":0},{"$f":"SUMPRODUCT((Projects!$A$5:$A$2413='Local Detail'!$G$3)*(Projects!$C$5:$C$2413<>'MDOT FTA Detail'!$C$4)*(Projects!$L$5:$L$2413='Local Detail'!$A88)*(Projects!$K$5:$K$2413))","v":0},{"$f":"((SUMPRODUCT((Projects!$A$5:$A$2413='Local Detail'!$G$3)*(Projects!$C$5:$C$2413<>'MDOT FTA Detail'!$C$4)*(Projects!$L$5:$L$2413='Local Detail'!$A88)*(Projects!$J$5:$J$2413<>'Local Detail'!$A$147)*(Projects!$M$5:$M$2413)))+(SUMPRODUCT((Projects!$A$5:$A$2413='Local Detail'!$G$3)*(Projects!$C$5:$C$2413<>'MDOT FTA Detail'!$C$4)*(Projects!$L$5:$L$2413='Local Detail'!$A88)*(Projects!$J$5:$J$2413<>'Local Detail'!$A$147)*(Projects!$O$5:$O$2413))))","v":0},{"$f":"G88+H88","v":0},{"$f":"SUMPRODUCT((Projects!$A$5:$A$2413='Local Detail'!$J$3)*(Projects!$C$5:$C$2413<>'MDOT FTA Detail'!$C$4)*(Projects!$L$5:$L$2413='Local Detail'!$A88)*(Projects!$K$5:$K$2413))","v":0},{"$f":"((SUMPRODUCT((Projects!$A$5:$A$2413='Local Detail'!$J$3)*(Projects!$C$5:$C$2413<>'MDOT FTA Detail'!$C$4)*(Projects!$L$5:$L$2413='Local Detail'!$A88)*(Projects!$J$5:$J$2413<>'Local Detail'!$A$147)*(Projects!$M$5:$M$2413)))+(SUMPRODUCT((Projects!$A$5:$A$2413='Local Detail'!$J$3)*(Projects!$C$5:$C$2413<>'MDOT FTA Detail'!$C$4)*(Projects!$L$5:$L$2413='Local Detail'!$A88)*(Projects!$J$5:$J$2413<>'Local Detail'!$A$147)*(Projects!$O$5:$O$2413))))","v":0},{"$f":"J88+K88","v":0},{"$f":"SUMPRODUCT((Projects!$A$5:$A$2413='Local Detail'!$M$3)*(Projects!$C$5:$C$2413<>'MDOT FTA Detail'!$C$4)*(Projects!$L$5:$L$2413='Local Detail'!$A88)*(Projects!$K$5:$K$2413))","v":0},{"$f":"((SUMPRODUCT((Projects!$A$5:$A$2413='Local Detail'!$M$3)*(Projects!$C$5:$C$2413<>'MDOT FTA Detail'!$C$4)*(Projects!$L$5:$L$2413='Local Detail'!$A88)*(Projects!$J$5:$J$2413<>'Local Detail'!$A$147)*(Projects!$M$5:$M$2413)))+(SUMPRODUCT((Projects!$A$5:$A$2413='Local Detail'!$M$3)*(Projects!$C$5:$C$2413<>'MDOT FTA Detail'!$C$4)*(Projects!$L$5:$L$2413='Local Detail'!$A88)*(Projects!$J$5:$J$2413<>'Local Detail'!$A$147)*(Projects!$O$5:$O$2413))))","v":0},{"$f":"M88+N88","v":0}]
["STS","STP - Any Area- MDOT Safety Program","Local STP",{"$f":"SUMPRODUCT((Projects!$A$5:$A$2413='Local Detail'!$D$3)*(Projects!$C$5:$C$2413<>'MDOT FTA Detail'!$C$4)*(Projects!$L$5:$L$2413='Local Detail'!$A89)*(Projects!$K$5:$K$2413))","v":0},{"$f":"((SUMPRODUCT((Projects!$A$5:$A$2413='Local Detail'!$D$3)*(Projects!$C$5:$C$2413<>'MDOT FTA Detail'!$C$4)*(Projects!$L$5:$L$2413='Local Detail'!$A89)*(Projects!$J$5:$J$2413<>'Local Detail'!$A$147)*(Projects!$M$5:$M$2413)))+(SUMPRODUCT((Projects!$A$5:$A$2413='Local Detail'!$D$3)*(Projects!$C$5:$C$2413<>'MDOT FTA Detail'!$C$4)*(Projects!$L$5:$L$2413='Local Detail'!$A89)*(Projects!$J$5:$J$2413<>'Local Detail'!$A$147)*(Projects!$O$5:$O$2413))))","v":0},0,{"$f":"SUMPRODUCT((Projects!$A$5:$A$2413='Local Detail'!$G$3)*(Projects!$C$5:$C$2413<>'MDOT FTA Detail'!$C$4)*(Projects!$L$5:$L$2413='Local Detail'!$A89)*(Projects!$K$5:$K$2413))","v":0},{"$f":"((SUMPRODUCT((Projects!$A$5:$A$2413='Local Detail'!$G$3)*(Projects!$C$5:$C$2413<>'MDOT FTA Detail'!$C$4)*(Projects!$L$5:$L$2413='Local Detail'!$A89)*(Projects!$J$5:$J$2413<>'Local Detail'!$A$147)*(Projects!$M$5:$M$2413)))+(SUMPRODUCT((Projects!$A$5:$A$2413='Local Detail'!$G$3)*(Projects!$C$5:$C$2413<>'MDOT FTA Detail'!$C$4)*(Projects!$L$5:$L$2413='Local Detail'!$A89)*(Projects!$J$5:$J$2413<>'Local Detail'!$A$147)*(Projects!$O$5:$O$2413))))","v":0},0,{"$f":"SUMPRODUCT((Projects!$A$5:$A$2413='Local Detail'!$J$3)*(Projects!$C$5:$C$2413<>'MDOT FTA Detail'!$C$4)*(Projects!$L$5:$L$2413='Local Detail'!$A89)*(Projects!$K$5:$K$2413))","v":0},{"$f":"((SUMPRODUCT((Projects!$A$5:$A$2413='Local Detail'!$J$3)*(Projects!$C$5:$C$2413<>'MDOT FTA Detail'!$C$4)*(Projects!$L$5:$L$2413='Local Detail'!$A89)*(Projects!$J$5:$J$2413<>'Local Detail'!$A$147)*(Projects!$M$5:$M$2413)))+(SUMPRODUCT((Projects!$A$5:$A$2413='Local Detail'!$J$3)*(Projects!$C$5:$C$2413<>'MDOT FTA Detail'!$C$4)*(Projects!$L$5:$L$2413='Local Detail'!$A89)*(Projects!$J$5:$J$2413<>'Local Detail'!$A$147)*(Projects!$O$5:$O$2413))))","v":0},0,{"$f":"SUMPRODUCT((Projects!$A$5:$A$2413='Local Detail'!$M$3)*(Projects!$C$5:$C$2413<>'MDOT FTA Detail'!$C$4)*(Projects!$L$5:$L$2413='Local Detail'!$A89)*(Projects!$K$5:$K$2413))","v":0},{"$f":"((SUMPRODUCT((Projects!$A$5:$A$2413='Local Detail'!$M$3)*(Projects!$C$5:$C$2413<>'MDOT FTA Detail'!$C$4)*(Projects!$L$5:$L$2413='Local Detail'!$A89)*(Projects!$J$5:$J$2413<>'Local Detail'!$A$147)*(Projects!$M$5:$M$2413)))+(SUMPRODUCT((Projects!$A$5:$A$2413='Local Detail'!$M$3)*(Projects!$C$5:$C$2413<>'MDOT FTA Detail'!$C$4)*(Projects!$L$5:$L$2413='Local Detail'!$A89)*(Projects!$J$5:$J$2413<>'Local Detail'!$A$147)*(Projects!$O$5:$O$2413))))","v":0},0]
["STT","STP - Trunkline","Local STP",{"$f":"SUMPRODUCT((Projects!$A$5:$A$2413='Local Detail'!$D$3)*(Projects!$C$5:$C$2413<>'MDOT FTA Detail'!$C$4)*(Projects!$L$5:$L$2413='Local Detail'!$A90)*(Projects!$K$5:$K$2413))","v":0},{"$f":"((SUMPRODUCT((Projects!$A$5:$A$2413='Local Detail'!$D$3)*(Projects!$C$5:$C$2413<>'MDOT FTA Detail'!$C$4)*(Projects!$L$5:$L$2413='Local Detail'!$A90)*(Projects!$J$5:$J$2413<>'Local Detail'!$A$147)*(Projects!$M$5:$M$2413)))+(SUMPRODUCT((Projects!$A$5:$A$2413='Local Detail'!$D$3)*(Projects!$C$5:$C$2413<>'MDOT FTA Detail'!$C$4)*(Projects!$L$5:$L$2413='Local Detail'!$A90)*(Projects!$J$5:$J$2413<>'Local Detail'!$A$147)*(Projects!$O$5:$O$2413))))","v":0},0,{"$f":"SUMPRODUCT((Projects!$A$5:$A$2413='Local Detail'!$G$3)*(Projects!$C$5:$C$2413<>'MDOT FTA Detail'!$C$4)*(Projects!$L$5:$L$2413='Local Detail'!$A90)*(Projects!$K$5:$K$2413))","v":0},{"$f":"((SUMPRODUCT((Projects!$A$5:$A$2413='Local Detail'!$G$3)*(Projects!$C$5:$C$2413<>'MDOT FTA Detail'!$C$4)*(Projects!$L$5:$L$2413='Local Detail'!$A90)*(Projects!$J$5:$J$2413<>'Local Detail'!$A$147)*(Projects!$M$5:$M$2413)))+(SUMPRODUCT((Projects!$A$5:$A$2413='Local Detail'!$G$3)*(Projects!$C$5:$C$2413<>'MDOT FTA Detail'!$C$4)*(Projects!$L$5:$L$2413='Local Detail'!$A90)*(Projects!$J$5:$J$2413<>'Local Detail'!$A$147)*(Projects!$O$5:$O$2413))))","v":0},0,{"$f":"SUMPRODUCT((Projects!$A$5:$A$2413='Local Detail'!$J$3)*(Projects!$C$5:$C$2413<>'MDOT FTA Detail'!$C$4)*(Projects!$L$5:$L$2413='Local Detail'!$A90)*(Projects!$K$5:$K$2413))","v":0},{"$f":"((SUMPRODUCT((Projects!$A$5:$A$2413='Local Detail'!$J$3)*(Projects!$C$5:$C$2413<>'MDOT FTA Detail'!$C$4)*(Projects!$L$5:$L$2413='Local Detail'!$A90)*(Projects!$J$5:$J$2413<>'Local Detail'!$A$147)*(Projects!$M$5:$M$2413)))+(SUMPRODUCT((Projects!$A$5:$A$2413='Local Detail'!$J$3)*(Projects!$C$5:$C$2413<>'MDOT FTA Detail'!$C$4)*(Projects!$L$5:$L$2413='Local Detail'!$A90)*(Projects!$J$5:$J$2413<>'Local Detail'!$A$147)*(Projects!$O$5:$O$2413))))","v":0},0,{"$f":"SUMPRODUCT((Projects!$A$5:$A$2413='Local Detail'!$M$3)*(Projects!$C$5:$C$2413<>'MDOT FTA Detail'!$C$4)*(Projects!$L$5:$L$2413='Local Detail'!$A90)*(Projects!$K$5:$K$2413))","v":0},{"$f":"((SUMPRODUCT((Projects!$A$5:$A$2413='Local Detail'!$M$3)*(Projects!$C$5:$C$2413<>'MDOT FTA Detail'!$C$4)*(Projects!$L$5:$L$2413='Local Detail'!$A90)*(Projects!$J$5:$J$2413<>'Local Detail'!$A$147)*(Projects!$M$5:$M$2413)))+(SUMPRODUCT((Projects!$A$5:$A$2413='Local Detail'!$M$3)*(Projects!$C$5:$C$2413<>'MDOT FTA Detail'!$C$4)*(Projects!$L$5:$L$2413='Local Detail'!$A90)*(Projects!$J$5:$J$2413<>'Local Detail'!$A$147)*(Projects!$O$5:$O$2413))))","v":0},0]
["STU","STP - Urban Areas > 200,000 Population","Local STP",{"$f":"SUMPRODUCT((Projects!$A$5:$A$2413='Local Detail'!$D$3)*(Projects!$C$5:$C$2413<>'MDOT FTA Detail'!$C$4)*(Projects!$L$5:$L$2413='Local Detail'!$A91)*(Projects!$K$5:$K$2413))","v":514820},{"$f":"((SUMPRODUCT((Projects!$A$5:$A$2413='Local Detail'!$D$3)*(Projects!$C$5:$C$2413<>'MDOT FTA Detail'!$C$4)*(Projects!$L$5:$L$2413='Local Detail'!$A91)*(Projects!$J$5:$J$2413<>'Local Detail'!$A$147)*(Projects!$M$5:$M$2413)))+(SUMPRODUCT((Projects!$A$5:$A$2413='Local Detail'!$D$3)*(Projects!$C$5:$C$2413<>'MDOT FTA Detail'!$C$4)*(Projects!$L$5:$L$2413='Local Detail'!$A91)*(Projects!$J$5:$J$2413<>'Local Detail'!$A$147)*(Projects!$O$5:$O$2413))))","v":183969},698789,{"$f":"SUMPRODUCT((Projects!$A$5:$A$2413='Local Detail'!$G$3)*(Projects!$C$5:$C$2413<>'MDOT FTA Detail'!$C$4)*(Projects!$L$5:$L$2413='Local Detail'!$A91)*(Projects!$K$5:$K$2413))","v":490527},{"$f":"((SUMPRODUCT((Projects!$A$5:$A$2413='Local Detail'!$G$3)*(Projects!$C$5:$C$2413<>'MDOT FTA Detail'!$C$4)*(Projects!$L$5:$L$2413='Local Detail'!$A91)*(Projects!$J$5:$J$2413<>'Local Detail'!$A$147)*(Projects!$M$5:$M$2413)))+(SUMPRODUCT((Projects!$A$5:$A$2413='Local Detail'!$G$3)*(Projects!$C$5:$C$2413<>'MDOT FTA Detail'!$C$4)*(Projects!$L$5:$L$2413='Local Detail'!$A91)*(Projects!$J$5:$J$2413<>'Local Detail'!$A$147)*(Projects!$O$5:$O$2413))))","v":141800},632327,{"$f":"SUMPRODUCT((Projects!$A$5:$A$2413='Local Detail'!$J$3)*(Projects!$C$5:$C$2413<>'MDOT FTA Detail'!$C$4)*(Projects!$L$5:$L$2413='Local Detail'!$A91)*(Projects!$K$5:$K$2413))","v":480876},{"$f":"((SUMPRODUCT((Projects!$A$5:$A$2413='Local Detail'!$J$3)*(Projects!$C$5:$C$2413<>'MDOT FTA Detail'!$C$4)*(Projects!$L$5:$L$2413='Local Detail'!$A91)*(Projects!$J$5:$J$2413<>'Local Detail'!$A$147)*(Projects!$M$5:$M$2413)))+(SUMPRODUCT((Projects!$A$5:$A$2413='Local Detail'!$J$3)*(Projects!$C$5:$C$2413<>'MDOT FTA Detail'!$C$4)*(Projects!$L$5:$L$2413='Local Detail'!$A91)*(Projects!$J$5:$J$2413<>'Local Detail'!$A$147)*(Projects!$O$5:$O$2413))))","v":81660},562536,{"$f":"SUMPRODUCT((Projects!$A$5:$A$2413='Local Detail'!$M$3)*(Projects!$C$5:$C$2413<>'MDOT FTA Detail'!$C$4)*(Projects!$L$5:$L$2413='Local Detail'!$A91)*(Projects!$K$5:$K$2413))","v":518608},{"$f":"((SUMPRODUCT((Projects!$A$5:$A$2413='Local Detail'!$M$3)*(Projects!$C$5:$C$2413<>'MDOT FTA Detail'!$C$4)*(Projects!$L$5:$L$2413='Local Detail'!$A91)*(Projects!$J$5:$J$2413<>'Local Detail'!$A$147)*(Projects!$M$5:$M$2413)))+(SUMPRODUCT((Projects!$A$5:$A$2413='Local Detail'!$M$3)*(Projects!$C$5:$C$2413<>'MDOT FTA Detail'!$C$4)*(Projects!$L$5:$L$2413='Local Detail'!$A91)*(Projects!$J$5:$J$2413<>'Local Detail'!$A$147)*(Projects!$O$5:$O$2413))))","v":100406},619014]
["STUG","STP - Urban Areas < 200,000 Population 100%","Local STP",{"$f":"SUMPRODUCT((Projects!$A$5:$A$2413='Local Detail'!$D$3)*(Projects!$C$5:$C$2413<>'MDOT FTA Detail'!$C$4)*(Projects!$L$5:$L$2413='Local Detail'!$A92)*(Projects!$K$5:$K$2413))","v":0},{"$f":"((SUMPRODUCT((Projects!$A$5:$A$2413='Local Detail'!$D$3)*(Projects!$C$5:$C$2413<>'MDOT FTA Detail'!$C$4)*(Projects!$L$5:$L$2413='Local Detail'!$A92)*(Projects!$J$5:$J$2413<>'Local Detail'!$A$147)*(Projects!$M$5:$M$2413)))+(SUMPRODUCT((Projects!$A$5:$A$2413='Local Detail'!$D$3)*(Projects!$C$5:$C$2413<>'MDOT FTA Detail'!$C$4)*(Projects!$L$5:$L$2413='Local Detail'!$A92)*(Projects!$J$5:$J$2413<>'Local Detail'!$A$147)*(Projects!$O$5:$O$2413))))","v":0},{"$f":"D92+E92","v":0},{"$f":"SUMPRODUCT((Projects!$A$5:$A$2413='Local Detail'!$G$3)*(Projects!$C$5:$C$2413<>'MDOT FTA Detail'!$C$4)*(Projects!$L$5:$L$2413='Local Detail'!$A92)*(Projects!$K$5:$K$2413))","v":0},{"$f":"((SUMPRODUCT((Projects!$A$5:$A$2413='Local Detail'!$G$3)*(Projects!$C$5:$C$2413<>'MDOT FTA Detail'!$C$4)*(Projects!$L$5:$L$2413='Local Detail'!$A92)*(Projects!$J$5:$J$2413<>'Local Detail'!$A$147)*(Projects!$M$5:$M$2413)))+(SUMPRODUCT((Projects!$A$5:$A$2413='Local Detail'!$G$3)*(Projects!$C$5:$C$2413<>'MDOT FTA Detail'!$C$4)*(Projects!$L$5:$L$2413='Local Detail'!$A92)*(Projects!$J$5:$J$2413<>'Local Detail'!$A$147)*(Projects!$O$5:$O$2413))))","v":0},{"$f":"G92+H92","v":0},{"$f":"SUMPRODUCT((Projects!$A$5:$A$2413='Local Detail'!$J$3)*(Projects!$C$5:$C$2413<>'MDOT FTA Detail'!$C$4)*(Projects!$L$5:$L$2413='Local Detail'!$A92)*(Projects!$K$5:$K$2413))","v":0},{"$f":"((SUMPRODUCT((Projects!$A$5:$A$2413='Local Detail'!$J$3)*(Projects!$C$5:$C$2413<>'MDOT FTA Detail'!$C$4)*(Projects!$L$5:$L$2413='Local Detail'!$A92)*(Projects!$J$5:$J$2413<>'Local Detail'!$A$147)*(Projects!$M$5:$M$2413)))+(SUMPRODUCT((Projects!$A$5:$A$2413='Local Detail'!$J$3)*(Projects!$C$5:$C$2413<>'MDOT FTA Detail'!$C$4)*(Projects!$L$5:$L$2413='Local Detail'!$A92)*(Projects!$J$5:$J$2413<>'Local Detail'!$A$147)*(Projects!$O$5:$O$2413))))","v":0},{"$f":"J92+K92","v":0},{"$f":"SUMPRODUCT((Projects!$A$5:$A$2413='Local Detail'!$M$3)*(Projects!$C$5:$C$2413<>'MDOT FTA Detail'!$C$4)*(Projects!$L$5:$L$2413='Local Detail'!$A92)*(Projects!$K$5:$K$2413))","v":0},{"$f":"((SUMPRODUCT((Projects!$A$5:$A$2413='Local Detail'!$M$3)*(Projects!$C$5:$C$2413<>'MDOT FTA Detail'!$C$4)*(Projects!$L$5:$L$2413='Local Detail'!$A92)*(Projects!$J$5:$J$2413<>'Local Detail'!$A$147)*(Projects!$M$5:$M$2413)))+(SUMPRODUCT((Projects!$A$5:$A$2413='Local Detail'!$M$3)*(Projects!$C$5:$C$2413<>'MDOT FTA Detail'!$C$4)*(Projects!$L$5:$L$2413='Local Detail'!$A92)*(Projects!$J$5:$J$2413<>'Local Detail'!$A$147)*(Projects!$O$5:$O$2413))))","v":0},{"$f":"M92+N92","v":0}]
["STUL","STP - Urban Areas < 200,000 Population","Local STP",{"$f":"SUMPRODUCT((Projects!$A$5:$A$2413='Local Detail'!$D$3)*(Projects!$C$5:$C$2413<>'MDOT FTA Detail'!$C$4)*(Projects!$L$5:$L$2413='Local Detail'!$A93)*(Projects!$K$5:$K$2413))","v":0},{"$f":"((SUMPRODUCT((Projects!$A$5:$A$2413='Local Detail'!$D$3)*(Projects!$C$5:$C$2413<>'MDOT FTA Detail'!$C$4)*(Projects!$L$5:$L$2413='Local Detail'!$A93)*(Projects!$J$5:$J$2413<>'Local Detail'!$A$147)*(Projects!$M$5:$M$2413)))+(SUMPRODUCT((Projects!$A$5:$A$2413='Local Detail'!$D$3)*(Projects!$C$5:$C$2413<>'MDOT FTA Detail'!$C$4)*(Projects!$L$5:$L$2413='Local Detail'!$A93)*(Projects!$J$5:$J$2413<>'Local Detail'!$A$147)*(Projects!$O$5:$O$2413))))","v":0},0,{"$f":"SUMPRODUCT((Projects!$A$5:$A$2413='Local Detail'!$G$3)*(Projects!$C$5:$C$2413<>'MDOT FTA Detail'!$C$4)*(Projects!$L$5:$L$2413='Local Detail'!$A93)*(Projects!$K$5:$K$2413))","v":0},{"$f":"((SUMPRODUCT((Projects!$A$5:$A$2413='Local Detail'!$G$3)*(Projects!$C$5:$C$2413<>'MDOT FTA Detail'!$C$4)*(Projects!$L$5:$L$2413='Local Detail'!$A93)*(Projects!$J$5:$J$2413<>'Local Detail'!$A$147)*(Projects!$M$5:$M$2413)))+(SUMPRODUCT((Projects!$A$5:$A$2413='Local Detail'!$G$3)*(Projects!$C$5:$C$2413<>'MDOT FTA Detail'!$C$4)*(Projects!$L$5:$L$2413='Local Detail'!$A93)*(Projects!$J$5:$J$2413<>'Local Detail'!$A$147)*(Projects!$O$5:$O$2413))))","v":0},0,{"$f":"SUMPRODUCT((Projects!$A$5:$A$2413='Local Detail'!$J$3)*(Projects!$C$5:$C$2413<>'MDOT FTA Detail'!$C$4)*(Projects!$L$5:$L$2413='Local Detail'!$A93)*(Projects!$K$5:$K$2413))","v":0},{"$f":"((SUMPRODUCT((Projects!$A$5:$A$2413='Local Detail'!$J$3)*(Projects!$C$5:$C$2413<>'MDOT FTA Detail'!$C$4)*(Projects!$L$5:$L$2413='Local Detail'!$A93)*(Projects!$J$5:$J$2413<>'Local Detail'!$A$147)*(Projects!$M$5:$M$2413)))+(SUMPRODUCT((Projects!$A$5:$A$2413='Local Detail'!$J$3)*(Projects!$C$5:$C$2413<>'MDOT FTA Detail'!$C$4)*(Projects!$L$5:$L$2413='Local Detail'!$A93)*(Projects!$J$5:$J$2413<>'Local Detail'!$A$147)*(Projects!$O$5:$O$2413))))","v":0},0,{"$f":"SUMPRODUCT((Projects!$A$5:$A$2413='Local Detail'!$M$3)*(Projects!$C$5:$C$2413<>'MDOT FTA Detail'!$C$4)*(Projects!$L$5:$L$2413='Local Detail'!$A93)*(Projects!$K$5:$K$2413))","v":0},{"$f":"((SUMPRODUCT((Projects!$A$5:$A$2413='Local Detail'!$M$3)*(Projects!$C$5:$C$2413<>'MDOT FTA Detail'!$C$4)*(Projects!$L$5:$L$2413='Local Detail'!$A93)*(Projects!$J$5:$J$2413<>'Local Detail'!$A$147)*(Projects!$M$5:$M$2413)))+(SUMPRODUCT((Projects!$A$5:$A$2413='Local Detail'!$M$3)*(Projects!$C$5:$C$2413<>'MDOT FTA Detail'!$C$4)*(Projects!$L$5:$L$2413='Local Detail'!$A93)*(Projects!$J$5:$J$2413<>'Local Detail'!$A$147)*(Projects!$O$5:$O$2413))))","v":0},0]
["STUT","STP - Urban Areas < 200,000 Population - Trunkline","Local STP",{"$f":"SUMPRODUCT((Projects!$A$5:$A$2413='Local Detail'!$D$3)*(Projects!$C$5:$C$2413<>'MDOT FTA Detail'!$C$4)*(Projects!$L$5:$L$2413='Local Detail'!$A94)*(Projects!$K$5:$K$2413))","v":0},{"$f":"((SUMPRODUCT((Projects!$A$5:$A$2413='Local Detail'!$D$3)*(Projects!$C$5:$C$2413<>'MDOT FTA Detail'!$C$4)*(Projects!$L$5:$L$2413='Local Detail'!$A94)*(Projects!$J$5:$J$2413<>'Local Detail'!$A$147)*(Projects!$M$5:$M$2413)))+(SUMPRODUCT((Projects!$A$5:$A$2413='Local Detail'!$D$3)*(Projects!$C$5:$C$2413<>'MDOT FTA Detail'!$C$4)*(Projects!$L$5:$L$2413='Local Detail'!$A94)*(Projects!$J$5:$J$2413<>'Local Detail'!$A$147)*(Projects!$O$5:$O$2413))))","v":0},0,{"$f":"SUMPRODUCT((Projects!$A$5:$A$2413='Local Detail'!$G$3)*(Projects!$C$5:$C$2413<>'MDOT FTA Detail'!$C$4)*(Projects!$L$5:$L$2413='Local Detail'!$A94)*(Projects!$K$5:$K$2413))","v":0},{"$f":"((SUMPRODUCT((Projects!$A$5:$A$2413='Local Detail'!$G$3)*(Projects!$C$5:$C$2413<>'MDOT FTA Detail'!$C$4)*(Projects!$L$5:$L$2413='Local Detail'!$A94)*(Projects!$J$5:$J$2413<>'Local Detail'!$A$147)*(Projects!$M$5:$M$2413)))+(SUMPRODUCT((Projects!$A$5:$A$2413='Local Detail'!$G$3)*(Projects!$C$5:$C$2413<>'MDOT FTA Detail'!$C$4)*(Projects!$L$5:$L$2413='Local Detail'!$A94)*(Projects!$J$5:$J$2413<>'Local Detail'!$A$147)*(Projects!$O$5:$O$2413))))","v":0},0,{"$f":"SUMPRODUCT((Projects!$A$5:$A$2413='Local Detail'!$J$3)*(Projects!$C$5:$C$2413<>'MDOT FTA Detail'!$C$4)*(Projects!$L$5:$L$2413='Local Detail'!$A94)*(Projects!$K$5:$K$2413))","v":0},{"$f":"((SUMPRODUCT((Projects!$A$5:$A$2413='Local Detail'!$J$3)*(Projects!$C$5:$C$2413<>'MDOT FTA Detail'!$C$4)*(Projects!$L$5:$L$2413='Local Detail'!$A94)*(Projects!$J$5:$J$2413<>'Local Detail'!$A$147)*(Projects!$M$5:$M$2413)))+(SUMPRODUCT((Projects!$A$5:$A$2413='Local Detail'!$J$3)*(Projects!$C$5:$C$2413<>'MDOT FTA Detail'!$C$4)*(Projects!$L$5:$L$2413='Local Detail'!$A94)*(Projects!$J$5:$J$2413<>'Local Detail'!$A$147)*(Projects!$O$5:$O$2413))))","v":0},0,{"$f":"SUMPRODUCT((Projects!$A$5:$A$2413='Local Detail'!$M$3)*(Projects!$C$5:$C$2413<>'MDOT FTA Detail'!$C$4)*(Projects!$L$5:$L$2413='Local Detail'!$A94)*(Projects!$K$5:$K$2413))","v":0},{"$f":"((SUMPRODUCT((Projects!$A$5:$A$2413='Local Detail'!$M$3)*(Projects!$C$5:$C$2413<>'MDOT FTA Detail'!$C$4)*(Projects!$L$5:$L$2413='Local Detail'!$A94)*(Projects!$J$5:$J$2413<>'Local Detail'!$A$147)*(Projects!$M$5:$M$2413)))+(SUMPRODUCT((Projects!$A$5:$A$2413='Local Detail'!$M$3)*(Projects!$C$5:$C$2413<>'MDOT FTA Detail'!$C$4)*(Projects!$L$5:$L$2413='Local Detail'!$A94)*(Projects!$J$5:$J$2413<>'Local Detail'!$A$147)*(Projects!$O$5:$O$2413))))","v":0},0]
["SUG","STP - Safety - 100% Federal for STU","Local STP",{"$f":"SUMPRODUCT((Projects!$A$5:$A$2413='Local Detail'!$D$3)*(Projects!$C$5:$C$2413<>'MDOT FTA Detail'!$C$4)*(Projects!$L$5:$L$2413='Local Detail'!$A95)*(Projects!$K$5:$K$2413))","v":0},{"$f":"((SUMPRODUCT((Projects!$A$5:$A$2413='Local Detail'!$D$3)*(Projects!$C$5:$C$2413<>'MDOT FTA Detail'!$C$4)*(Projects!$L$5:$L$2413='Local Detail'!$A95)*(Projects!$J$5:$J$2413<>'Local Detail'!$A$147)*(Projects!$M$5:$M$2413)))+(SUMPRODUCT((Projects!$A$5:$A$2413='Local Detail'!$D$3)*(Projects!$C$5:$C$2413<>'MDOT FTA Detail'!$C$4)*(Projects!$L$5:$L$2413='Local Detail'!$A95)*(Projects!$J$5:$J$2413<>'Local Detail'!$A$147)*(Projects!$O$5:$O$2413))))","v":0},0,{"$f":"SUMPRODUCT((Projects!$A$5:$A$2413='Local Detail'!$G$3)*(Projects!$C$5:$C$2413<>'MDOT FTA Detail'!$C$4)*(Projects!$L$5:$L$2413='Local Detail'!$A95)*(Projects!$K$5:$K$2413))","v":0},{"$f":"((SUMPRODUCT((Projects!$A$5:$A$2413='Local Detail'!$G$3)*(Projects!$C$5:$C$2413<>'MDOT FTA Detail'!$C$4)*(Projects!$L$5:$L$2413='Local Detail'!$A95)*(Projects!$J$5:$J$2413<>'Local Detail'!$A$147)*(Projects!$M$5:$M$2413)))+(SUMPRODUCT((Projects!$A$5:$A$2413='Local Detail'!$G$3)*(Projects!$C$5:$C$2413<>'MDOT FTA Detail'!$C$4)*(Projects!$L$5:$L$2413='Local Detail'!$A95)*(Projects!$J$5:$J$2413<>'Local Detail'!$A$147)*(Projects!$O$5:$O$2413))))","v":0},0,{"$f":"SUMPRODUCT((Projects!$A$5:$A$2413='Local Detail'!$J$3)*(Projects!$C$5:$C$2413<>'MDOT FTA Detail'!$C$4)*(Projects!$L$5:$L$2413='Local Detail'!$A95)*(Projects!$K$5:$K$2413))","v":0},{"$f":"((SUMPRODUCT((Projects!$A$5:$A$2413='Local Detail'!$J$3)*(Projects!$C$5:$C$2413<>'MDOT FTA Detail'!$C$4)*(Projects!$L$5:$L$2413='Local Detail'!$A95)*(Projects!$J$5:$J$2413<>'Local Detail'!$A$147)*(Projects!$M$5:$M$2413)))+(SUMPRODUCT((Projects!$A$5:$A$2413='Local Detail'!$J$3)*(Projects!$C$5:$C$2413<>'MDOT FTA Detail'!$C$4)*(Projects!$L$5:$L$2413='Local Detail'!$A95)*(Projects!$J$5:$J$2413<>'Local Detail'!$A$147)*(Projects!$O$5:$O$2413))))","v":0},0,{"$f":"SUMPRODUCT((Projects!$A$5:$A$2413='Local Detail'!$M$3)*(Projects!$C$5:$C$2413<>'MDOT FTA Detail'!$C$4)*(Projects!$L$5:$L$2413='Local Detail'!$A95)*(Projects!$K$5:$K$2413))","v":0},{"$f":"((SUMPRODUCT((Projects!$A$5:$A$2413='Local Detail'!$M$3)*(Projects!$C$5:$C$2413<>'MDOT FTA Detail'!$C$4)*(Projects!$L$5:$L$2413='Local Detail'!$A95)*(Projects!$J$5:$J$2413<>'Local Detail'!$A$147)*(Projects!$M$5:$M$2413)))+(SUMPRODUCT((Projects!$A$5:$A$2413='Local Detail'!$M$3)*(Projects!$C$5:$C$2413<>'MDOT FTA Detail'!$C$4)*(Projects!$L$5:$L$2413='Local Detail'!$A95)*(Projects!$J$5:$J$2413<>'Local Detail'!$A$147)*(Projects!$O$5:$O$2413))))","v":0},0]
["SUL","Surface Transportation Urban Areas  <200,000 Population","Local STP",{"$f":"SUMPRODUCT((Projects!$A$5:$A$2413='Local Detail'!$D$3)*(Projects!$C$5:$C$2413<>'MDOT FTA Detail'!$C$4)*(Projects!$L$5:$L$2413='Local Detail'!$A96)*(Projects!$K$5:$K$2413))","v":0},{"$f":"((SUMPRODUCT((Projects!$A$5:$A$2413='Local Detail'!$D$3)*(Projects!$C$5:$C$2413<>'MDOT FTA Detail'!$C$4)*(Projects!$L$5:$L$2413='Local Detail'!$A96)*(Projects!$J$5:$J$2413<>'Local Detail'!$A$147)*(Projects!$M$5:$M$2413)))+(SUMPRODUCT((Projects!$A$5:$A$2413='Local Detail'!$D$3)*(Projects!$C$5:$C$2413<>'MDOT FTA Detail'!$C$4)*(Projects!$L$5:$L$2413='Local Detail'!$A96)*(Projects!$J$5:$J$2413<>'Local Detail'!$A$147)*(Projects!$O$5:$O$2413))))","v":0},{"$f":"D96+E96","v":0},{"$f":"SUMPRODUCT((Projects!$A$5:$A$2413='Local Detail'!$G$3)*(Projects!$C$5:$C$2413<>'MDOT FTA Detail'!$C$4)*(Projects!$L$5:$L$2413='Local Detail'!$A96)*(Projects!$K$5:$K$2413))","v":0},{"$f":"((SUMPRODUCT((Projects!$A$5:$A$2413='Local Detail'!$G$3)*(Projects!$C$5:$C$2413<>'MDOT FTA Detail'!$C$4)*(Projects!$L$5:$L$2413='Local Detail'!$A96)*(Projects!$J$5:$J$2413<>'Local Detail'!$A$147)*(Projects!$M$5:$M$2413)))+(SUMPRODUCT((Projects!$A$5:$A$2413='Local Detail'!$G$3)*(Projects!$C$5:$C$2413<>'MDOT FTA Detail'!$C$4)*(Projects!$L$5:$L$2413='Local Detail'!$A96)*(Projects!$J$5:$J$2413<>'Local Detail'!$A$147)*(Projects!$O$5:$O$2413))))","v":0},{"$f":"G96+H96","v":0},{"$f":"SUMPRODUCT((Projects!$A$5:$A$2413='Local Detail'!$J$3)*(Projects!$C$5:$C$2413<>'MDOT FTA Detail'!$C$4)*(Projects!$L$5:$L$2413='Local Detail'!$A96)*(Projects!$K$5:$K$2413))","v":0},{"$f":"((SUMPRODUCT((Projects!$A$5:$A$2413='Local Detail'!$J$3)*(Projects!$C$5:$C$2413<>'MDOT FTA Detail'!$C$4)*(Projects!$L$5:$L$2413='Local Detail'!$A96)*(Projects!$J$5:$J$2413<>'Local Detail'!$A$147)*(Projects!$M$5:$M$2413)))+(SUMPRODUCT((Projects!$A$5:$A$2413='Local Detail'!$J$3)*(Projects!$C$5:$C$2413<>'MDOT FTA Detail'!$C$4)*(Projects!$L$5:$L$2413='Local Detail'!$A96)*(Projects!$J$5:$J$2413<>'Local Detail'!$A$147)*(Projects!$O$5:$O$2413))))","v":0},{"$f":"J96+K96","v":0},{"$f":"SUMPRODUCT((Projects!$A$5:$A$2413='Local Detail'!$M$3)*(Projects!$C$5:$C$2413<>'MDOT FTA Detail'!$C$4)*(Projects!$L$5:$L$2413='Local Detail'!$A96)*(Projects!$K$5:$K$2413))","v":0},{"$f":"((SUMPRODUCT((Projects!$A$5:$A$2413='Local Detail'!$M$3)*(Projects!$C$5:$C$2413<>'MDOT FTA Detail'!$C$4)*(Projects!$L$5:$L$2413='Local Detail'!$A96)*(Projects!$J$5:$J$2413<>'Local Detail'!$A$147)*(Projects!$M$5:$M$2413)))+(SUMPRODUCT((Projects!$A$5:$A$2413='Local Detail'!$M$3)*(Projects!$C$5:$C$2413<>'MDOT FTA Detail'!$C$4)*(Projects!$L$5:$L$2413='Local Detail'!$A96)*(Projects!$J$5:$J$2413<>'Local Detail'!$A$147)*(Projects!$O$5:$O$2413))))","v":0},{"$f":"M96+N96","v":0}]
["SULG","Surfcace Transportation Urban Areas <200,000 Population 100%","Local STP",{"$f":"SUMPRODUCT((Projects!$A$5:$A$2413='Local Detail'!$D$3)*(Projects!$C$5:$C$2413<>'MDOT FTA Detail'!$C$4)*(Projects!$L$5:$L$2413='Local Detail'!$A97)*(Projects!$K$5:$K$2413))","v":0},{"$f":"((SUMPRODUCT((Projects!$A$5:$A$2413='Local Detail'!$D$3)*(Projects!$C$5:$C$2413<>'MDOT FTA Detail'!$C$4)*(Projects!$L$5:$L$2413='Local Detail'!$A97)*(Projects!$J$5:$J$2413<>'Local Detail'!$A$147)*(Projects!$M$5:$M$2413)))+(SUMPRODUCT((Projects!$A$5:$A$2413='Local Detail'!$D$3)*(Projects!$C$5:$C$2413<>'MDOT FTA Detail'!$C$4)*(Projects!$L$5:$L$2413='Local Detail'!$A97)*(Projects!$J$5:$J$2413<>'Local Detail'!$A$147)*(Projects!$O$5:$O$2413))))","v":0},0,{"$f":"SUMPRODUCT((Projects!$A$5:$A$2413='Local Detail'!$G$3)*(Projects!$C$5:$C$2413<>'MDOT FTA Detail'!$C$4)*(Projects!$L$5:$L$2413='Local Detail'!$A97)*(Projects!$K$5:$K$2413))","v":0},{"$f":"((SUMPRODUCT((Projects!$A$5:$A$2413='Local Detail'!$G$3)*(Projects!$C$5:$C$2413<>'MDOT FTA Detail'!$C$4)*(Projects!$L$5:$L$2413='Local Detail'!$A97)*(Projects!$J$5:$J$2413<>'Local Detail'!$A$147)*(Projects!$M$5:$M$2413)))+(SUMPRODUCT((Projects!$A$5:$A$2413='Local Detail'!$G$3)*(Projects!$C$5:$C$2413<>'MDOT FTA Detail'!$C$4)*(Projects!$L$5:$L$2413='Local Detail'!$A97)*(Projects!$J$5:$J$2413<>'Local Detail'!$A$147)*(Projects!$O$5:$O$2413))))","v":0},0,{"$f":"SUMPRODUCT((Projects!$A$5:$A$2413='Local Detail'!$J$3)*(Projects!$C$5:$C$2413<>'MDOT FTA Detail'!$C$4)*(Projects!$L$5:$L$2413='Local Detail'!$A97)*(Projects!$K$5:$K$2413))","v":0},{"$f":"((SUMPRODUCT((Projects!$A$5:$A$2413='Local Detail'!$J$3)*(Projects!$C$5:$C$2413<>'MDOT FTA Detail'!$C$4)*(Projects!$L$5:$L$2413='Local Detail'!$A97)*(Projects!$J$5:$J$2413<>'Local Detail'!$A$147)*(Projects!$M$5:$M$2413)))+(SUMPRODUCT((Projects!$A$5:$A$2413='Local Detail'!$J$3)*(Projects!$C$5:$C$2413<>'MDOT FTA Detail'!$C$4)*(Projects!$L$5:$L$2413='Local Detail'!$A97)*(Projects!$J$5:$J$2413<>'Local Detail'!$A$147)*(Projects!$O$5:$O$2413))))","v":0},0,{"$f":"SUMPRODUCT((Projects!$A$5:$A$2413='Local Detail'!$M$3)*(Projects!$C$5:$C$2413<>'MDOT FTA Detail'!$C$4)*(Projects!$L$5:$L$2413='Local Detail'!$A97)*(Projects!$K$5:$K$2413))","v":0},{"$f":"((SUMPRODUCT((Projects!$A$5:$A$2413='Local Detail'!$M$3)*(Projects!$C$5:$C$2413<>'MDOT FTA Detail'!$C$4)*(Projects!$L$5:$L$2413='Local Detail'!$A97)*(Projects!$J$5:$J$2413<>'Local Detail'!$A$147)*(Projects!$M$5:$M$2413)))+(SUMPRODUCT((Projects!$A$5:$A$2413='Local Detail'!$M$3)*(Projects!$C$5:$C$2413<>'MDOT FTA Detail'!$C$4)*(Projects!$L$5:$L$2413='Local Detail'!$A97)*(Projects!$J$5:$J$2413<>'Local Detail'!$A$147)*(Projects!$O$5:$O$2413))))","v":0},0]
["TA","Transportation Alternatives Program Flex","Local Other FHWA",{"$f":"SUMPRODUCT((Projects!$A$5:$A$2413='Local Detail'!$D$3)*(Projects!$C$5:$C$2413<>'MDOT FTA Detail'!$C$4)*(Projects!$L$5:$L$2413='Local Detail'!$A98)*(Projects!$K$5:$K$2413))","v":0},{"$f":"((SUMPRODUCT((Projects!$A$5:$A$2413='Local Detail'!$D$3)*(Projects!$C$5:$C$2413<>'MDOT FTA Detail'!$C$4)*(Projects!$L$5:$L$2413='Local Detail'!$A98)*(Projects!$J$5:$J$2413<>'Local Detail'!$A$147)*(Projects!$M$5:$M$2413)))+(SUMPRODUCT((Projects!$A$5:$A$2413='Local Detail'!$D$3)*(Projects!$C$5:$C$2413<>'MDOT FTA Detail'!$C$4)*(Projects!$L$5:$L$2413='Local Detail'!$A98)*(Projects!$J$5:$J$2413<>'Local Detail'!$A$147)*(Projects!$O$5:$O$2413))))","v":0},0,{"$f":"SUMPRODUCT((Projects!$A$5:$A$2413='Local Detail'!$G$3)*(Projects!$C$5:$C$2413<>'MDOT FTA Detail'!$C$4)*(Projects!$L$5:$L$2413='Local Detail'!$A98)*(Projects!$K$5:$K$2413))","v":501299},{"$f":"((SUMPRODUCT((Projects!$A$5:$A$2413='Local Detail'!$G$3)*(Projects!$C$5:$C$2413<>'MDOT FTA Detail'!$C$4)*(Projects!$L$5:$L$2413='Local Detail'!$A98)*(Projects!$J$5:$J$2413<>'Local Detail'!$A$147)*(Projects!$M$5:$M$2413)))+(SUMPRODUCT((Projects!$A$5:$A$2413='Local Detail'!$G$3)*(Projects!$C$5:$C$2413<>'MDOT FTA Detail'!$C$4)*(Projects!$L$5:$L$2413='Local Detail'!$A98)*(Projects!$J$5:$J$2413<>'Local Detail'!$A$147)*(Projects!$O$5:$O$2413))))","v":311600},812899,{"$f":"SUMPRODUCT((Projects!$A$5:$A$2413='Local Detail'!$J$3)*(Projects!$C$5:$C$2413<>'MDOT FTA Detail'!$C$4)*(Projects!$L$5:$L$2413='Local Detail'!$A98)*(Projects!$K$5:$K$2413))","v":0},{"$f":"((SUMPRODUCT((Projects!$A$5:$A$2413='Local Detail'!$J$3)*(Projects!$C$5:$C$2413<>'MDOT FTA Detail'!$C$4)*(Projects!$L$5:$L$2413='Local Detail'!$A98)*(Projects!$J$5:$J$2413<>'Local Detail'!$A$147)*(Projects!$M$5:$M$2413)))+(SUMPRODUCT((Projects!$A$5:$A$2413='Local Detail'!$J$3)*(Projects!$C$5:$C$2413<>'MDOT FTA Detail'!$C$4)*(Projects!$L$5:$L$2413='Local Detail'!$A98)*(Projects!$J$5:$J$2413<>'Local Detail'!$A$147)*(Projects!$O$5:$O$2413))))","v":0},0,{"$f":"SUMPRODUCT((Projects!$A$5:$A$2413='Local Detail'!$M$3)*(Projects!$C$5:$C$2413<>'MDOT FTA Detail'!$C$4)*(Projects!$L$5:$L$2413='Local Detail'!$A98)*(Projects!$K$5:$K$2413))","v":0},{"$f":"((SUMPRODUCT((Projects!$A$5:$A$2413='Local Detail'!$M$3)*(Projects!$C$5:$C$2413<>'MDOT FTA Detail'!$C$4)*(Projects!$L$5:$L$2413='Local Detail'!$A98)*(Projects!$J$5:$J$2413<>'Local Detail'!$A$147)*(Projects!$M$5:$M$2413)))+(SUMPRODUCT((Projects!$A$5:$A$2413='Local Detail'!$M$3)*(Projects!$C$5:$C$2413<>'MDOT FTA Detail'!$C$4)*(Projects!$L$5:$L$2413='Local Detail'!$A98)*(Projects!$J$5:$J$2413<>'Local Detail'!$A$147)*(Projects!$O$5:$O$2413))))","v":0},0]
["TAL","Transportation Alternatives Rural","Local Other FHWA",{"$f":"SUMPRODUCT((Projects!$A$5:$A$2413='Local Detail'!$D$3)*(Projects!$C$5:$C$2413<>'MDOT FTA Detail'!$C$4)*(Projects!$L$5:$L$2413='Local Detail'!$A99)*(Projects!$K$5:$K$2413))","v":0},{"$f":"((SUMPRODUCT((Projects!$A$5:$A$2413='Local Detail'!$D$3)*(Projects!$C$5:$C$2413<>'MDOT FTA Detail'!$C$4)*(Projects!$L$5:$L$2413='Local Detail'!$A99)*(Projects!$J$5:$J$2413<>'Local Detail'!$A$147)*(Projects!$M$5:$M$2413)))+(SUMPRODUCT((Projects!$A$5:$A$2413='Local Detail'!$D$3)*(Projects!$C$5:$C$2413<>'MDOT FTA Detail'!$C$4)*(Projects!$L$5:$L$2413='Local Detail'!$A99)*(Projects!$J$5:$J$2413<>'Local Detail'!$A$147)*(Projects!$O$5:$O$2413))))","v":0},0,{"$f":"SUMPRODUCT((Projects!$A$5:$A$2413='Local Detail'!$G$3)*(Projects!$C$5:$C$2413<>'MDOT FTA Detail'!$C$4)*(Projects!$L$5:$L$2413='Local Detail'!$A99)*(Projects!$K$5:$K$2413))","v":0},{"$f":"((SUMPRODUCT((Projects!$A$5:$A$2413='Local Detail'!$G$3)*(Projects!$C$5:$C$2413<>'MDOT FTA Detail'!$C$4)*(Projects!$L$5:$L$2413='Local Detail'!$A99)*(Projects!$J$5:$J$2413<>'Local Detail'!$A$147)*(Projects!$M$5:$M$2413)))+(SUMPRODUCT((Projects!$A$5:$A$2413='Local Detail'!$G$3)*(Projects!$C$5:$C$2413<>'MDOT FTA Detail'!$C$4)*(Projects!$L$5:$L$2413='Local Detail'!$A99)*(Projects!$J$5:$J$2413<>'Local Detail'!$A$147)*(Projects!$O$5:$O$2413))))","v":0},0,{"$f":"SUMPRODUCT((Projects!$A$5:$A$2413='Local Detail'!$J$3)*(Projects!$C$5:$C$2413<>'MDOT FTA Detail'!$C$4)*(Projects!$L$5:$L$2413='Local Detail'!$A99)*(Projects!$K$5:$K$2413))","v":0},{"$f":"((SUMPRODUCT((Projects!$A$5:$A$2413='Local Detail'!$J$3)*(Projects!$C$5:$C$2413<>'MDOT FTA Detail'!$C$4)*(Projects!$L$5:$L$2413='Local Detail'!$A99)*(Projects!$J$5:$J$2413<>'Local Detail'!$A$147)*(Projects!$M$5:$M$2413)))+(SUMPRODUCT((Projects!$A$5:$A$2413='Local Detail'!$J$3)*(Projects!$C$5:$C$2413<>'MDOT FTA Detail'!$C$4)*(Projects!$L$5:$L$2413='Local Detail'!$A99)*(Projects!$J$5:$J$2413<>'Local Detail'!$A$147)*(Projects!$O$5:$O$2413))))","v":0},0,{"$f":"SUMPRODUCT((Projects!$A$5:$A$2413='Local Detail'!$M$3)*(Projects!$C$5:$C$2413<>'MDOT FTA Detail'!$C$4)*(Projects!$L$5:$L$2413='Local Detail'!$A99)*(Projects!$K$5:$K$2413))","v":0},{"$f":"((SUMPRODUCT((Projects!$A$5:$A$2413='Local Detail'!$M$3)*(Projects!$C$5:$C$2413<>'MDOT FTA Detail'!$C$4)*(Projects!$L$5:$L$2413='Local Detail'!$A99)*(Projects!$J$5:$J$2413<>'Local Detail'!$A$147)*(Projects!$M$5:$M$2413)))+(SUMPRODUCT((Projects!$A$5:$A$2413='Local Detail'!$M$3)*(Projects!$C$5:$C$2413<>'MDOT FTA Detail'!$C$4)*(Projects!$L$5:$L$2413='Local Detail'!$A99)*(Projects!$J$5:$J$2413<>'Local Detail'!$A$147)*(Projects!$O$5:$O$2413))))","v":0},0]
["TAU","Transportation Alternatives Urban Areas > 200,000 Population","Local Other FHWA",{"$f":"SUMPRODUCT((Projects!$A$5:$A$2413='Local Detail'!$D$3)*(Projects!$C$5:$C$2413<>'MDOT FTA Detail'!$C$4)*(Projects!$L$5:$L$2413='Local Detail'!$A100)*(Projects!$K$5:$K$2413))","v":0},{"$f":"((SUMPRODUCT((Projects!$A$5:$A$2413='Local Detail'!$D$3)*(Projects!$C$5:$C$2413<>'MDOT FTA Detail'!$C$4)*(Projects!$L$5:$L$2413='Local Detail'!$A100)*(Projects!$J$5:$J$2413<>'Local Detail'!$A$147)*(Projects!$M$5:$M$2413)))+(SUMPRODUCT((Projects!$A$5:$A$2413='Local Detail'!$D$3)*(Projects!$C$5:$C$2413<>'MDOT FTA Detail'!$C$4)*(Projects!$L$5:$L$2413='Local Detail'!$A100)*(Projects!$J$5:$J$2413<>'Local Detail'!$A$147)*(Projects!$O$5:$O$2413))))","v":0},0,{"$f":"SUMPRODUCT((Projects!$A$5:$A$2413='Local Detail'!$G$3)*(Projects!$C$5:$C$2413<>'MDOT FTA Detail'!$C$4)*(Projects!$L$5:$L$2413='Local Detail'!$A100)*(Projects!$K$5:$K$2413))","v":80514},{"$f":"((SUMPRODUCT((Projects!$A$5:$A$2413='Local Detail'!$G$3)*(Projects!$C$5:$C$2413<>'MDOT FTA Detail'!$C$4)*(Projects!$L$5:$L$2413='Local Detail'!$A100)*(Projects!$J$5:$J$2413<>'Local Detail'!$A$147)*(Projects!$M$5:$M$2413)))+(SUMPRODUCT((Projects!$A$5:$A$2413='Local Detail'!$G$3)*(Projects!$C$5:$C$2413<>'MDOT FTA Detail'!$C$4)*(Projects!$L$5:$L$2413='Local Detail'!$A100)*(Projects!$J$5:$J$2413<>'Local Detail'!$A$147)*(Projects!$O$5:$O$2413))))","v":17854},98368,{"$f":"SUMPRODUCT((Projects!$A$5:$A$2413='Local Detail'!$J$3)*(Projects!$C$5:$C$2413<>'MDOT FTA Detail'!$C$4)*(Projects!$L$5:$L$2413='Local Detail'!$A100)*(Projects!$K$5:$K$2413))","v":0},{"$f":"((SUMPRODUCT((Projects!$A$5:$A$2413='Local Detail'!$J$3)*(Projects!$C$5:$C$2413<>'MDOT FTA Detail'!$C$4)*(Projects!$L$5:$L$2413='Local Detail'!$A100)*(Projects!$J$5:$J$2413<>'Local Detail'!$A$147)*(Projects!$M$5:$M$2413)))+(SUMPRODUCT((Projects!$A$5:$A$2413='Local Detail'!$J$3)*(Projects!$C$5:$C$2413<>'MDOT FTA Detail'!$C$4)*(Projects!$L$5:$L$2413='Local Detail'!$A100)*(Projects!$J$5:$J$2413<>'Local Detail'!$A$147)*(Projects!$O$5:$O$2413))))","v":0},0,{"$f":"SUMPRODUCT((Projects!$A$5:$A$2413='Local Detail'!$M$3)*(Projects!$C$5:$C$2413<>'MDOT FTA Detail'!$C$4)*(Projects!$L$5:$L$2413='Local Detail'!$A100)*(Projects!$K$5:$K$2413))","v":130777},{"$f":"((SUMPRODUCT((Projects!$A$5:$A$2413='Local Detail'!$M$3)*(Projects!$C$5:$C$2413<>'MDOT FTA Detail'!$C$4)*(Projects!$L$5:$L$2413='Local Detail'!$A100)*(Projects!$J$5:$J$2413<>'Local Detail'!$A$147)*(Projects!$M$5:$M$2413)))+(SUMPRODUCT((Projects!$A$5:$A$2413='Local Detail'!$M$3)*(Projects!$C$5:$C$2413<>'MDOT FTA Detail'!$C$4)*(Projects!$L$5:$L$2413='Local Detail'!$A100)*(Projects!$J$5:$J$2413<>'Local Detail'!$A$147)*(Projects!$O$5:$O$2413))))","v":87120},217897]
["TAUL","Transporation Alternatives Urban Areas < 200,000 Population","Local Other FHWA",{"$f":"SUMPRODUCT((Projects!$A$5:$A$2413='Local Detail'!$D$3)*(Projects!$C$5:$C$2413<>'MDOT FTA Detail'!$C$4)*(Projects!$L$5:$L$2413='Local Detail'!$A101)*(Projects!$K$5:$K$2413))","v":0},{"$f":"((SUMPRODUCT((Projects!$A$5:$A$2413='Local Detail'!$D$3)*(Projects!$C$5:$C$2413<>'MDOT FTA Detail'!$C$4)*(Projects!$L$5:$L$2413='Local Detail'!$A101)*(Projects!$J$5:$J$2413<>'Local Detail'!$A$147)*(Projects!$M$5:$M$2413)))+(SUMPRODUCT((Projects!$A$5:$A$2413='Local Detail'!$D$3)*(Projects!$C$5:$C$2413<>'MDOT FTA Detail'!$C$4)*(Projects!$L$5:$L$2413='Local Detail'!$A101)*(Projects!$J$5:$J$2413<>'Local Detail'!$A$147)*(Projects!$O$5:$O$2413))))","v":0},0,{"$f":"SUMPRODUCT((Projects!$A$5:$A$2413='Local Detail'!$G$3)*(Projects!$C$5:$C$2413<>'MDOT FTA Detail'!$C$4)*(Projects!$L$5:$L$2413='Local Detail'!$A101)*(Projects!$K$5:$K$2413))","v":0},{"$f":"((SUMPRODUCT((Projects!$A$5:$A$2413='Local Detail'!$G$3)*(Projects!$C$5:$C$2413<>'MDOT FTA Detail'!$C$4)*(Projects!$L$5:$L$2413='Local Detail'!$A101)*(Projects!$J$5:$J$2413<>'Local Detail'!$A$147)*(Projects!$M$5:$M$2413)))+(SUMPRODUCT((Projects!$A$5:$A$2413='Local Detail'!$G$3)*(Projects!$C$5:$C$2413<>'MDOT FTA Detail'!$C$4)*(Projects!$L$5:$L$2413='Local Detail'!$A101)*(Projects!$J$5:$J$2413<>'Local Detail'!$A$147)*(Projects!$O$5:$O$2413))))","v":0},0,{"$f":"SUMPRODUCT((Projects!$A$5:$A$2413='Local Detail'!$J$3)*(Projects!$C$5:$C$2413<>'MDOT FTA Detail'!$C$4)*(Projects!$L$5:$L$2413='Local Detail'!$A101)*(Projects!$K$5:$K$2413))","v":0},{"$f":"((SUMPRODUCT((Projects!$A$5:$A$2413='Local Detail'!$J$3)*(Projects!$C$5:$C$2413<>'MDOT FTA Detail'!$C$4)*(Projects!$L$5:$L$2413='Local Detail'!$A101)*(Projects!$J$5:$J$2413<>'Local Detail'!$A$147)*(Projects!$M$5:$M$2413)))+(SUMPRODUCT((Projects!$A$5:$A$2413='Local Detail'!$J$3)*(Projects!$C$5:$C$2413<>'MDOT FTA Detail'!$C$4)*(Projects!$L$5:$L$2413='Local Detail'!$A101)*(Projects!$J$5:$J$2413<>'Local Detail'!$A$147)*(Projects!$O$5:$O$2413))))","v":0},0,{"$f":"SUMPRODUCT((Projects!$A$5:$A$2413='Local Detail'!$M$3)*(Projects!$C$5:$C$2413<>'MDOT FTA Detail'!$C$4)*(Projects!$L$5:$L$2413='Local Detail'!$A101)*(Projects!$K$5:$K$2413))","v":0},{"$f":"((SUMPRODUCT((Projects!$A$5:$A$2413='Local Detail'!$M$3)*(Projects!$C$5:$C$2413<>'MDOT FTA Detail'!$C$4)*(Projects!$L$5:$L$2413='Local Detail'!$A101)*(Projects!$J$5:$J$2413<>'Local Detail'!$A$147)*(Projects!$M$5:$M$2413)))+(SUMPRODUCT((Projects!$A$5:$A$2413='Local Detail'!$M$3)*(Projects!$C$5:$C$2413<>'MDOT FTA Detail'!$C$4)*(Projects!$L$5:$L$2413='Local Detail'!$A101)*(Projects!$J$5:$J$2413<>'Local Detail'!$A$147)*(Projects!$O$5:$O$2413))))","v":0},0]
["TBR","Timber Bridge Fund","Local Bridge",{"$f":"SUMPRODUCT((Projects!$A$5:$A$2413='Local Detail'!$D$3)*(Projects!$C$5:$C$2413<>'MDOT FTA Detail'!$C$4)*(Projects!$L$5:$L$2413='Local Detail'!$A102)*(Projects!$K$5:$K$2413))","v":0},{"$f":"((SUMPRODUCT((Projects!$A$5:$A$2413='Local Detail'!$D$3)*(Projects!$C$5:$C$2413<>'MDOT FTA Detail'!$C$4)*(Projects!$L$5:$L$2413='Local Detail'!$A102)*(Projects!$J$5:$J$2413<>'Local Detail'!$A$147)*(Projects!$M$5:$M$2413)))+(SUMPRODUCT((Projects!$A$5:$A$2413='Local Detail'!$D$3)*(Projects!$C$5:$C$2413<>'MDOT FTA Detail'!$C$4)*(Projects!$L$5:$L$2413='Local Detail'!$A102)*(Projects!$J$5:$J$2413<>'Local Detail'!$A$147)*(Projects!$O$5:$O$2413))))","v":0},0,{"$f":"SUMPRODUCT((Projects!$A$5:$A$2413='Local Detail'!$G$3)*(Projects!$C$5:$C$2413<>'MDOT FTA Detail'!$C$4)*(Projects!$L$5:$L$2413='Local Detail'!$A102)*(Projects!$K$5:$K$2413))","v":0},{"$f":"((SUMPRODUCT((Projects!$A$5:$A$2413='Local Detail'!$G$3)*(Projects!$C$5:$C$2413<>'MDOT FTA Detail'!$C$4)*(Projects!$L$5:$L$2413='Local Detail'!$A102)*(Projects!$J$5:$J$2413<>'Local Detail'!$A$147)*(Projects!$M$5:$M$2413)))+(SUMPRODUCT((Projects!$A$5:$A$2413='Local Detail'!$G$3)*(Projects!$C$5:$C$2413<>'MDOT FTA Detail'!$C$4)*(Projects!$L$5:$L$2413='Local Detail'!$A102)*(Projects!$J$5:$J$2413<>'Local Detail'!$A$147)*(Projects!$O$5:$O$2413))))","v":0},0,{"$f":"SUMPRODUCT((Projects!$A$5:$A$2413='Local Detail'!$J$3)*(Projects!$C$5:$C$2413<>'MDOT FTA Detail'!$C$4)*(Projects!$L$5:$L$2413='Local Detail'!$A102)*(Projects!$K$5:$K$2413))","v":0},{"$f":"((SUMPRODUCT((Projects!$A$5:$A$2413='Local Detail'!$J$3)*(Projects!$C$5:$C$2413<>'MDOT FTA Detail'!$C$4)*(Projects!$L$5:$L$2413='Local Detail'!$A102)*(Projects!$J$5:$J$2413<>'Local Detail'!$A$147)*(Projects!$M$5:$M$2413)))+(SUMPRODUCT((Projects!$A$5:$A$2413='Local Detail'!$J$3)*(Projects!$C$5:$C$2413<>'MDOT FTA Detail'!$C$4)*(Projects!$L$5:$L$2413='Local Detail'!$A102)*(Projects!$J$5:$J$2413<>'Local Detail'!$A$147)*(Projects!$O$5:$O$2413))))","v":0},0,{"$f":"SUMPRODUCT((Projects!$A$5:$A$2413='Local Detail'!$M$3)*(Projects!$C$5:$C$2413<>'MDOT FTA Detail'!$C$4)*(Projects!$L$5:$L$2413='Local Detail'!$A102)*(Projects!$K$5:$K$2413))","v":0},{"$f":"((SUMPRODUCT((Projects!$A$5:$A$2413='Local Detail'!$M$3)*(Projects!$C$5:$C$2413<>'MDOT FTA Detail'!$C$4)*(Projects!$L$5:$L$2413='Local Detail'!$A102)*(Projects!$J$5:$J$2413<>'Local Detail'!$A$147)*(Projects!$M$5:$M$2413)))+(SUMPRODUCT((Projects!$A$5:$A$2413='Local Detail'!$M$3)*(Projects!$C$5:$C$2413<>'MDOT FTA Detail'!$C$4)*(Projects!$L$5:$L$2413='Local Detail'!$A102)*(Projects!$J$5:$J$2413<>'Local Detail'!$A$147)*(Projects!$O$5:$O$2413))))","v":0},0]
["TCP","Tax Compliance Program","Local Other FHWA",{"$f":"SUMPRODUCT((Projects!$A$5:$A$2413='Local Detail'!$D$3)*(Projects!$C$5:$C$2413<>'MDOT FTA Detail'!$C$4)*(Projects!$L$5:$L$2413='Local Detail'!$A103)*(Projects!$K$5:$K$2413))","v":0},{"$f":"((SUMPRODUCT((Projects!$A$5:$A$2413='Local Detail'!$D$3)*(Projects!$C$5:$C$2413<>'MDOT FTA Detail'!$C$4)*(Projects!$L$5:$L$2413='Local Detail'!$A103)*(Projects!$J$5:$J$2413<>'Local Detail'!$A$147)*(Projects!$M$5:$M$2413)))+(SUMPRODUCT((Projects!$A$5:$A$2413='Local Detail'!$D$3)*(Projects!$C$5:$C$2413<>'MDOT FTA Detail'!$C$4)*(Projects!$L$5:$L$2413='Local Detail'!$A103)*(Projects!$J$5:$J$2413<>'Local Detail'!$A$147)*(Projects!$O$5:$O$2413))))","v":0},0,{"$f":"SUMPRODUCT((Projects!$A$5:$A$2413='Local Detail'!$G$3)*(Projects!$C$5:$C$2413<>'MDOT FTA Detail'!$C$4)*(Projects!$L$5:$L$2413='Local Detail'!$A103)*(Projects!$K$5:$K$2413))","v":0},{"$f":"((SUMPRODUCT((Projects!$A$5:$A$2413='Local Detail'!$G$3)*(Projects!$C$5:$C$2413<>'MDOT FTA Detail'!$C$4)*(Projects!$L$5:$L$2413='Local Detail'!$A103)*(Projects!$J$5:$J$2413<>'Local Detail'!$A$147)*(Projects!$M$5:$M$2413)))+(SUMPRODUCT((Projects!$A$5:$A$2413='Local Detail'!$G$3)*(Projects!$C$5:$C$2413<>'MDOT FTA Detail'!$C$4)*(Projects!$L$5:$L$2413='Local Detail'!$A103)*(Projects!$J$5:$J$2413<>'Local Detail'!$A$147)*(Projects!$O$5:$O$2413))))","v":0},0,{"$f":"SUMPRODUCT((Projects!$A$5:$A$2413='Local Detail'!$J$3)*(Projects!$C$5:$C$2413<>'MDOT FTA Detail'!$C$4)*(Projects!$L$5:$L$2413='Local Detail'!$A103)*(Projects!$K$5:$K$2413))","v":0},{"$f":"((SUMPRODUCT((Projects!$A$5:$A$2413='Local Detail'!$J$3)*(Projects!$C$5:$C$2413<>'MDOT FTA Detail'!$C$4)*(Projects!$L$5:$L$2413='Local Detail'!$A103)*(Projects!$J$5:$J$2413<>'Local Detail'!$A$147)*(Projects!$M$5:$M$2413)))+(SUMPRODUCT((Projects!$A$5:$A$2413='Local Detail'!$J$3)*(Projects!$C$5:$C$2413<>'MDOT FTA Detail'!$C$4)*(Projects!$L$5:$L$2413='Local Detail'!$A103)*(Projects!$J$5:$J$2413<>'Local Detail'!$A$147)*(Projects!$O$5:$O$2413))))","v":0},0,{"$f":"SUMPRODUCT((Projects!$A$5:$A$2413='Local Detail'!$M$3)*(Projects!$C$5:$C$2413<>'MDOT FTA Detail'!$C$4)*(Projects!$L$5:$L$2413='Local Detail'!$A103)*(Projects!$K$5:$K$2413))","v":0},{"$f":"((SUMPRODUCT((Projects!$A$5:$A$2413='Local Detail'!$M$3)*(Projects!$C$5:$C$2413<>'MDOT FTA Detail'!$C$4)*(Projects!$L$5:$L$2413='Local Detail'!$A103)*(Projects!$J$5:$J$2413<>'Local Detail'!$A$147)*(Projects!$M$5:$M$2413)))+(SUMPRODUCT((Projects!$A$5:$A$2413='Local Detail'!$M$3)*(Projects!$C$5:$C$2413<>'MDOT FTA Detail'!$C$4)*(Projects!$L$5:$L$2413='Local Detail'!$A103)*(Projects!$J$5:$J$2413<>'Local Detail'!$A$147)*(Projects!$O$5:$O$2413))))","v":0},0]
["TCSP","Transportation, Community and System Preservation","Local Other FHWA",{"$f":"SUMPRODUCT((Projects!$A$5:$A$2413='Local Detail'!$D$3)*(Projects!$C$5:$C$2413<>'MDOT FTA Detail'!$C$4)*(Projects!$L$5:$L$2413='Local Detail'!$A104)*(Projects!$K$5:$K$2413))","v":0},{"$f":"((SUMPRODUCT((Projects!$A$5:$A$2413='Local Detail'!$D$3)*(Projects!$C$5:$C$2413<>'MDOT FTA Detail'!$C$4)*(Projects!$L$5:$L$2413='Local Detail'!$A104)*(Projects!$J$5:$J$2413<>'Local Detail'!$A$147)*(Projects!$M$5:$M$2413)))+(SUMPRODUCT((Projects!$A$5:$A$2413='Local Detail'!$D$3)*(Projects!$C$5:$C$2413<>'MDOT FTA Detail'!$C$4)*(Projects!$L$5:$L$2413='Local Detail'!$A104)*(Projects!$J$5:$J$2413<>'Local Detail'!$A$147)*(Projects!$O$5:$O$2413))))","v":0},0,{"$f":"SUMPRODUCT((Projects!$A$5:$A$2413='Local Detail'!$G$3)*(Projects!$C$5:$C$2413<>'MDOT FTA Detail'!$C$4)*(Projects!$L$5:$L$2413='Local Detail'!$A104)*(Projects!$K$5:$K$2413))","v":0},{"$f":"((SUMPRODUCT((Projects!$A$5:$A$2413='Local Detail'!$G$3)*(Projects!$C$5:$C$2413<>'MDOT FTA Detail'!$C$4)*(Projects!$L$5:$L$2413='Local Detail'!$A104)*(Projects!$J$5:$J$2413<>'Local Detail'!$A$147)*(Projects!$M$5:$M$2413)))+(SUMPRODUCT((Projects!$A$5:$A$2413='Local Detail'!$G$3)*(Projects!$C$5:$C$2413<>'MDOT FTA Detail'!$C$4)*(Projects!$L$5:$L$2413='Local Detail'!$A104)*(Projects!$J$5:$J$2413<>'Local Detail'!$A$147)*(Projects!$O$5:$O$2413))))","v":0},0,{"$f":"SUMPRODUCT((Projects!$A$5:$A$2413='Local Detail'!$J$3)*(Projects!$C$5:$C$2413<>'MDOT FTA Detail'!$C$4)*(Projects!$L$5:$L$2413='Local Detail'!$A104)*(Projects!$K$5:$K$2413))","v":0},{"$f":"((SUMPRODUCT((Projects!$A$5:$A$2413='Local Detail'!$J$3)*(Projects!$C$5:$C$2413<>'MDOT FTA Detail'!$C$4)*(Projects!$L$5:$L$2413='Local Detail'!$A104)*(Projects!$J$5:$J$2413<>'Local Detail'!$A$147)*(Projects!$M$5:$M$2413)))+(SUMPRODUCT((Projects!$A$5:$A$2413='Local Detail'!$J$3)*(Projects!$C$5:$C$2413<>'MDOT FTA Detail'!$C$4)*(Projects!$L$5:$L$2413='Local Detail'!$A104)*(Projects!$J$5:$J$2413<>'Local Detail'!$A$147)*(Projects!$O$5:$O$2413))))","v":0},0,{"$f":"SUMPRODUCT((Projects!$A$5:$A$2413='Local Detail'!$M$3)*(Projects!$C$5:$C$2413<>'MDOT FTA Detail'!$C$4)*(Projects!$L$5:$L$2413='Local Detail'!$A104)*(Projects!$K$5:$K$2413))","v":0},{"$f":"((SUMPRODUCT((Projects!$A$5:$A$2413='Local Detail'!$M$3)*(Projects!$C$5:$C$2413<>'MDOT FTA Detail'!$C$4)*(Projects!$L$5:$L$2413='Local Detail'!$A104)*(Projects!$J$5:$J$2413<>'Local Detail'!$A$147)*(Projects!$M$5:$M$2413)))+(SUMPRODUCT((Projects!$A$5:$A$2413='Local Detail'!$M$3)*(Projects!$C$5:$C$2413<>'MDOT FTA Detail'!$C$4)*(Projects!$L$5:$L$2413='Local Detail'!$A104)*(Projects!$J$5:$J$2413<>'Local Detail'!$A$147)*(Projects!$O$5:$O$2413))))","v":0},0]
["TG","Transportation  Grant (100% Fed)","Local Other FHWA",{"$f":"SUMPRODUCT((Projects!$A$5:$A$2413='Local Detail'!$D$3)*(Projects!$C$5:$C$2413<>'MDOT FTA Detail'!$C$4)*(Projects!$L$5:$L$2413='Local Detail'!$A105)*(Projects!$K$5:$K$2413))","v":0},{"$f":"((SUMPRODUCT((Projects!$A$5:$A$2413='Local Detail'!$D$3)*(Projects!$C$5:$C$2413<>'MDOT FTA Detail'!$C$4)*(Projects!$L$5:$L$2413='Local Detail'!$A105)*(Projects!$J$5:$J$2413<>'Local Detail'!$A$147)*(Projects!$M$5:$M$2413)))+(SUMPRODUCT((Projects!$A$5:$A$2413='Local Detail'!$D$3)*(Projects!$C$5:$C$2413<>'MDOT FTA Detail'!$C$4)*(Projects!$L$5:$L$2413='Local Detail'!$A105)*(Projects!$J$5:$J$2413<>'Local Detail'!$A$147)*(Projects!$O$5:$O$2413))))","v":0},0,{"$f":"SUMPRODUCT((Projects!$A$5:$A$2413='Local Detail'!$G$3)*(Projects!$C$5:$C$2413<>'MDOT FTA Detail'!$C$4)*(Projects!$L$5:$L$2413='Local Detail'!$A105)*(Projects!$K$5:$K$2413))","v":0},{"$f":"((SUMPRODUCT((Projects!$A$5:$A$2413='Local Detail'!$G$3)*(Projects!$C$5:$C$2413<>'MDOT FTA Detail'!$C$4)*(Projects!$L$5:$L$2413='Local Detail'!$A105)*(Projects!$J$5:$J$2413<>'Local Detail'!$A$147)*(Projects!$M$5:$M$2413)))+(SUMPRODUCT((Projects!$A$5:$A$2413='Local Detail'!$G$3)*(Projects!$C$5:$C$2413<>'MDOT FTA Detail'!$C$4)*(Projects!$L$5:$L$2413='Local Detail'!$A105)*(Projects!$J$5:$J$2413<>'Local Detail'!$A$147)*(Projects!$O$5:$O$2413))))","v":0},0,{"$f":"SUMPRODUCT((Projects!$A$5:$A$2413='Local Detail'!$J$3)*(Projects!$C$5:$C$2413<>'MDOT FTA Detail'!$C$4)*(Projects!$L$5:$L$2413='Local Detail'!$A105)*(Projects!$K$5:$K$2413))","v":0},{"$f":"((SUMPRODUCT((Projects!$A$5:$A$2413='Local Detail'!$J$3)*(Projects!$C$5:$C$2413<>'MDOT FTA Detail'!$C$4)*(Projects!$L$5:$L$2413='Local Detail'!$A105)*(Projects!$J$5:$J$2413<>'Local Detail'!$A$147)*(Projects!$M$5:$M$2413)))+(SUMPRODUCT((Projects!$A$5:$A$2413='Local Detail'!$J$3)*(Projects!$C$5:$C$2413<>'MDOT FTA Detail'!$C$4)*(Projects!$L$5:$L$2413='Local Detail'!$A105)*(Projects!$J$5:$J$2413<>'Local Detail'!$A$147)*(Projects!$O$5:$O$2413))))","v":0},0,{"$f":"SUMPRODUCT((Projects!$A$5:$A$2413='Local Detail'!$M$3)*(Projects!$C$5:$C$2413<>'MDOT FTA Detail'!$C$4)*(Projects!$L$5:$L$2413='Local Detail'!$A105)*(Projects!$K$5:$K$2413))","v":0},{"$f":"((SUMPRODUCT((Projects!$A$5:$A$2413='Local Detail'!$M$3)*(Projects!$C$5:$C$2413<>'MDOT FTA Detail'!$C$4)*(Projects!$L$5:$L$2413='Local Detail'!$A105)*(Projects!$J$5:$J$2413<>'Local Detail'!$A$147)*(Projects!$M$5:$M$2413)))+(SUMPRODUCT((Projects!$A$5:$A$2413='Local Detail'!$M$3)*(Projects!$C$5:$C$2413<>'MDOT FTA Detail'!$C$4)*(Projects!$L$5:$L$2413='Local Detail'!$A105)*(Projects!$J$5:$J$2413<>'Local Detail'!$A$147)*(Projects!$O$5:$O$2413))))","v":0},0]
["TGR2","TIGER II Discretionary Grant","Local Other FHWA",{"$f":"SUMPRODUCT((Projects!$A$5:$A$2413='Local Detail'!$D$3)*(Projects!$C$5:$C$2413<>'MDOT FTA Detail'!$C$4)*(Projects!$L$5:$L$2413='Local Detail'!$A106)*(Projects!$K$5:$K$2413))","v":0},{"$f":"((SUMPRODUCT((Projects!$A$5:$A$2413='Local Detail'!$D$3)*(Projects!$C$5:$C$2413<>'MDOT FTA Detail'!$C$4)*(Projects!$L$5:$L$2413='Local Detail'!$A106)*(Projects!$J$5:$J$2413<>'Local Detail'!$A$147)*(Projects!$M$5:$M$2413)))+(SUMPRODUCT((Projects!$A$5:$A$2413='Local Detail'!$D$3)*(Projects!$C$5:$C$2413<>'MDOT FTA Detail'!$C$4)*(Projects!$L$5:$L$2413='Local Detail'!$A106)*(Projects!$J$5:$J$2413<>'Local Detail'!$A$147)*(Projects!$O$5:$O$2413))))","v":0},{"$f":"D106+E106","v":0},{"$f":"SUMPRODUCT((Projects!$A$5:$A$2413='Local Detail'!$G$3)*(Projects!$C$5:$C$2413<>'MDOT FTA Detail'!$C$4)*(Projects!$L$5:$L$2413='Local Detail'!$A106)*(Projects!$K$5:$K$2413))","v":0},{"$f":"((SUMPRODUCT((Projects!$A$5:$A$2413='Local Detail'!$G$3)*(Projects!$C$5:$C$2413<>'MDOT FTA Detail'!$C$4)*(Projects!$L$5:$L$2413='Local Detail'!$A106)*(Projects!$J$5:$J$2413<>'Local Detail'!$A$147)*(Projects!$M$5:$M$2413)))+(SUMPRODUCT((Projects!$A$5:$A$2413='Local Detail'!$G$3)*(Projects!$C$5:$C$2413<>'MDOT FTA Detail'!$C$4)*(Projects!$L$5:$L$2413='Local Detail'!$A106)*(Projects!$J$5:$J$2413<>'Local Detail'!$A$147)*(Projects!$O$5:$O$2413))))","v":0},{"$f":"G106+H106","v":0},{"$f":"SUMPRODUCT((Projects!$A$5:$A$2413='Local Detail'!$J$3)*(Projects!$C$5:$C$2413<>'MDOT FTA Detail'!$C$4)*(Projects!$L$5:$L$2413='Local Detail'!$A106)*(Projects!$K$5:$K$2413))","v":0},{"$f":"((SUMPRODUCT((Projects!$A$5:$A$2413='Local Detail'!$J$3)*(Projects!$C$5:$C$2413<>'MDOT FTA Detail'!$C$4)*(Projects!$L$5:$L$2413='Local Detail'!$A106)*(Projects!$J$5:$J$2413<>'Local Detail'!$A$147)*(Projects!$M$5:$M$2413)))+(SUMPRODUCT((Projects!$A$5:$A$2413='Local Detail'!$J$3)*(Projects!$C$5:$C$2413<>'MDOT FTA Detail'!$C$4)*(Projects!$L$5:$L$2413='Local Detail'!$A106)*(Projects!$J$5:$J$2413<>'Local Detail'!$A$147)*(Projects!$O$5:$O$2413))))","v":0},{"$f":"J106+K106","v":0},{"$f":"SUMPRODUCT((Projects!$A$5:$A$2413='Local Detail'!$M$3)*(Projects!$C$5:$C$2413<>'MDOT FTA Detail'!$C$4)*(Projects!$L$5:$L$2413='Local Detail'!$A106)*(Projects!$K$5:$K$2413))","v":0},{"$f":"((SUMPRODUCT((Projects!$A$5:$A$2413='Local Detail'!$M$3)*(Projects!$C$5:$C$2413<>'MDOT FTA Detail'!$C$4)*(Projects!$L$5:$L$2413='Local Detail'!$A106)*(Projects!$J$5:$J$2413<>'Local Detail'!$A$147)*(Projects!$M$5:$M$2413)))+(SUMPRODUCT((Projects!$A$5:$A$2413='Local Detail'!$M$3)*(Projects!$C$5:$C$2413<>'MDOT FTA Detail'!$C$4)*(Projects!$L$5:$L$2413='Local Detail'!$A106)*(Projects!$J$5:$J$2413<>'Local Detail'!$A$147)*(Projects!$O$5:$O$2413))))","v":0},{"$f":"M106+N106","v":0}]
["TGR3","TIGER III Discretionary Grant","Local Other FHWA",{"$f":"SUMPRODUCT((Projects!$A$5:$A$2413='Local Detail'!$D$3)*(Projects!$C$5:$C$2413<>'MDOT FTA Detail'!$C$4)*(Projects!$L$5:$L$2413='Local Detail'!$A107)*(Projects!$K$5:$K$2413))","v":0},{"$f":"((SUMPRODUCT((Projects!$A$5:$A$2413='Local Detail'!$D$3)*(Projects!$C$5:$C$2413<>'MDOT FTA Detail'!$C$4)*(Projects!$L$5:$L$2413='Local Detail'!$A107)*(Projects!$J$5:$J$2413<>'Local Detail'!$A$147)*(Projects!$M$5:$M$2413)))+(SUMPRODUCT((Projects!$A$5:$A$2413='Local Detail'!$D$3)*(Projects!$C$5:$C$2413<>'MDOT FTA Detail'!$C$4)*(Projects!$L$5:$L$2413='Local Detail'!$A107)*(Projects!$J$5:$J$2413<>'Local Detail'!$A$147)*(Projects!$O$5:$O$2413))))","v":0},{"$f":"D107+E107","v":0},{"$f":"SUMPRODUCT((Projects!$A$5:$A$2413='Local Detail'!$G$3)*(Projects!$C$5:$C$2413<>'MDOT FTA Detail'!$C$4)*(Projects!$L$5:$L$2413='Local Detail'!$A107)*(Projects!$K$5:$K$2413))","v":0},{"$f":"((SUMPRODUCT((Projects!$A$5:$A$2413='Local Detail'!$G$3)*(Projects!$C$5:$C$2413<>'MDOT FTA Detail'!$C$4)*(Projects!$L$5:$L$2413='Local Detail'!$A107)*(Projects!$J$5:$J$2413<>'Local Detail'!$A$147)*(Projects!$M$5:$M$2413)))+(SUMPRODUCT((Projects!$A$5:$A$2413='Local Detail'!$G$3)*(Projects!$C$5:$C$2413<>'MDOT FTA Detail'!$C$4)*(Projects!$L$5:$L$2413='Local Detail'!$A107)*(Projects!$J$5:$J$2413<>'Local Detail'!$A$147)*(Projects!$O$5:$O$2413))))","v":0},{"$f":"G107+H107","v":0},{"$f":"SUMPRODUCT((Projects!$A$5:$A$2413='Local Detail'!$J$3)*(Projects!$C$5:$C$2413<>'MDOT FTA Detail'!$C$4)*(Projects!$L$5:$L$2413='Local Detail'!$A107)*(Projects!$K$5:$K$2413))","v":0},{"$f":"((SUMPRODUCT((Projects!$A$5:$A$2413='Local Detail'!$J$3)*(Projects!$C$5:$C$2413<>'MDOT FTA Detail'!$C$4)*(Projects!$L$5:$L$2413='Local Detail'!$A107)*(Projects!$J$5:$J$2413<>'Local Detail'!$A$147)*(Projects!$M$5:$M$2413)))+(SUMPRODUCT((Projects!$A$5:$A$2413='Local Detail'!$J$3)*(Projects!$C$5:$C$2413<>'MDOT FTA Detail'!$C$4)*(Projects!$L$5:$L$2413='Local Detail'!$A107)*(Projects!$J$5:$J$2413<>'Local Detail'!$A$147)*(Projects!$O$5:$O$2413))))","v":0},{"$f":"J107+K107","v":0},{"$f":"SUMPRODUCT((Projects!$A$5:$A$2413='Local Detail'!$M$3)*(Projects!$C$5:$C$2413<>'MDOT FTA Detail'!$C$4)*(Projects!$L$5:$L$2413='Local Detail'!$A107)*(Projects!$K$5:$K$2413))","v":0},{"$f":"((SUMPRODUCT((Projects!$A$5:$A$2413='Local Detail'!$M$3)*(Projects!$C$5:$C$2413<>'MDOT FTA Detail'!$C$4)*(Projects!$L$5:$L$2413='Local Detail'!$A107)*(Projects!$J$5:$J$2413<>'Local Detail'!$A$147)*(Projects!$M$5:$M$2413)))+(SUMPRODUCT((Projects!$A$5:$A$2413='Local Detail'!$M$3)*(Projects!$C$5:$C$2413<>'MDOT FTA Detail'!$C$4)*(Projects!$L$5:$L$2413='Local Detail'!$A107)*(Projects!$J$5:$J$2413<>'Local Detail'!$A$147)*(Projects!$O$5:$O$2413))))","v":0},{"$f":"M107+N107","v":0}]
["TIP","Transportation Improvements Projects SAFETEA-LU","Local Other FHWA",{"$f":"SUMPRODUCT((Projects!$A$5:$A$2413='Local Detail'!$D$3)*(Projects!$C$5:$C$2413<>'MDOT FTA Detail'!$C$4)*(Projects!$L$5:$L$2413='Local Detail'!$A108)*(Projects!$K$5:$K$2413))","v":0},{"$f":"((SUMPRODUCT((Projects!$A$5:$A$2413='Local Detail'!$D$3)*(Projects!$C$5:$C$2413<>'MDOT FTA Detail'!$C$4)*(Projects!$L$5:$L$2413='Local Detail'!$A108)*(Projects!$J$5:$J$2413<>'Local Detail'!$A$147)*(Projects!$M$5:$M$2413)))+(SUMPRODUCT((Projects!$A$5:$A$2413='Local Detail'!$D$3)*(Projects!$C$5:$C$2413<>'MDOT FTA Detail'!$C$4)*(Projects!$L$5:$L$2413='Local Detail'!$A108)*(Projects!$J$5:$J$2413<>'Local Detail'!$A$147)*(Projects!$O$5:$O$2413))))","v":0},{"$f":"D108+E108","v":0},{"$f":"SUMPRODUCT((Projects!$A$5:$A$2413='Local Detail'!$G$3)*(Projects!$C$5:$C$2413<>'MDOT FTA Detail'!$C$4)*(Projects!$L$5:$L$2413='Local Detail'!$A108)*(Projects!$K$5:$K$2413))","v":0},{"$f":"((SUMPRODUCT((Projects!$A$5:$A$2413='Local Detail'!$G$3)*(Projects!$C$5:$C$2413<>'MDOT FTA Detail'!$C$4)*(Projects!$L$5:$L$2413='Local Detail'!$A108)*(Projects!$J$5:$J$2413<>'Local Detail'!$A$147)*(Projects!$M$5:$M$2413)))+(SUMPRODUCT((Projects!$A$5:$A$2413='Local Detail'!$G$3)*(Projects!$C$5:$C$2413<>'MDOT FTA Detail'!$C$4)*(Projects!$L$5:$L$2413='Local Detail'!$A108)*(Projects!$J$5:$J$2413<>'Local Detail'!$A$147)*(Projects!$O$5:$O$2413))))","v":0},{"$f":"G108+H108","v":0},{"$f":"SUMPRODUCT((Projects!$A$5:$A$2413='Local Detail'!$J$3)*(Projects!$C$5:$C$2413<>'MDOT FTA Detail'!$C$4)*(Projects!$L$5:$L$2413='Local Detail'!$A108)*(Projects!$K$5:$K$2413))","v":0},{"$f":"((SUMPRODUCT((Projects!$A$5:$A$2413='Local Detail'!$J$3)*(Projects!$C$5:$C$2413<>'MDOT FTA Detail'!$C$4)*(Projects!$L$5:$L$2413='Local Detail'!$A108)*(Projects!$J$5:$J$2413<>'Local Detail'!$A$147)*(Projects!$M$5:$M$2413)))+(SUMPRODUCT((Projects!$A$5:$A$2413='Local Detail'!$J$3)*(Projects!$C$5:$C$2413<>'MDOT FTA Detail'!$C$4)*(Projects!$L$5:$L$2413='Local Detail'!$A108)*(Projects!$J$5:$J$2413<>'Local Detail'!$A$147)*(Projects!$O$5:$O$2413))))","v":0},{"$f":"J108+K108","v":0},{"$f":"SUMPRODUCT((Projects!$A$5:$A$2413='Local Detail'!$M$3)*(Projects!$C$5:$C$2413<>'MDOT FTA Detail'!$C$4)*(Projects!$L$5:$L$2413='Local Detail'!$A108)*(Projects!$K$5:$K$2413))","v":0},{"$f":"((SUMPRODUCT((Projects!$A$5:$A$2413='Local Detail'!$M$3)*(Projects!$C$5:$C$2413<>'MDOT FTA Detail'!$C$4)*(Projects!$L$5:$L$2413='Local Detail'!$A108)*(Projects!$J$5:$J$2413<>'Local Detail'!$A$147)*(Projects!$M$5:$M$2413)))+(SUMPRODUCT((Projects!$A$5:$A$2413='Local Detail'!$M$3)*(Projects!$C$5:$C$2413<>'MDOT FTA Detail'!$C$4)*(Projects!$L$5:$L$2413='Local Detail'!$A108)*(Projects!$J$5:$J$2413<>'Local Detail'!$A$147)*(Projects!$O$5:$O$2413))))","v":0},{"$f":"M108+N108","v":0}]
["TPFD","Truck Parking Faciilities Discretionary","Local Other FHWA",{"$f":"SUMPRODUCT((Projects!$A$5:$A$2413='Local Detail'!$D$3)*(Projects!$C$5:$C$2413<>'MDOT FTA Detail'!$C$4)*(Projects!$L$5:$L$2413='Local Detail'!$A109)*(Projects!$K$5:$K$2413))","v":0},{"$f":"((SUMPRODUCT((Projects!$A$5:$A$2413='Local Detail'!$D$3)*(Projects!$C$5:$C$2413<>'MDOT FTA Detail'!$C$4)*(Projects!$L$5:$L$2413='Local Detail'!$A109)*(Projects!$J$5:$J$2413<>'Local Detail'!$A$147)*(Projects!$M$5:$M$2413)))+(SUMPRODUCT((Projects!$A$5:$A$2413='Local Detail'!$D$3)*(Projects!$C$5:$C$2413<>'MDOT FTA Detail'!$C$4)*(Projects!$L$5:$L$2413='Local Detail'!$A109)*(Projects!$J$5:$J$2413<>'Local Detail'!$A$147)*(Projects!$O$5:$O$2413))))","v":0},0,{"$f":"SUMPRODUCT((Projects!$A$5:$A$2413='Local Detail'!$G$3)*(Projects!$C$5:$C$2413<>'MDOT FTA Detail'!$C$4)*(Projects!$L$5:$L$2413='Local Detail'!$A109)*(Projects!$K$5:$K$2413))","v":0},{"$f":"((SUMPRODUCT((Projects!$A$5:$A$2413='Local Detail'!$G$3)*(Projects!$C$5:$C$2413<>'MDOT FTA Detail'!$C$4)*(Projects!$L$5:$L$2413='Local Detail'!$A109)*(Projects!$J$5:$J$2413<>'Local Detail'!$A$147)*(Projects!$M$5:$M$2413)))+(SUMPRODUCT((Projects!$A$5:$A$2413='Local Detail'!$G$3)*(Projects!$C$5:$C$2413<>'MDOT FTA Detail'!$C$4)*(Projects!$L$5:$L$2413='Local Detail'!$A109)*(Projects!$J$5:$J$2413<>'Local Detail'!$A$147)*(Projects!$O$5:$O$2413))))","v":0},0,{"$f":"SUMPRODUCT((Projects!$A$5:$A$2413='Local Detail'!$J$3)*(Projects!$C$5:$C$2413<>'MDOT FTA Detail'!$C$4)*(Projects!$L$5:$L$2413='Local Detail'!$A109)*(Projects!$K$5:$K$2413))","v":0},{"$f":"((SUMPRODUCT((Projects!$A$5:$A$2413='Local Detail'!$J$3)*(Projects!$C$5:$C$2413<>'MDOT FTA Detail'!$C$4)*(Projects!$L$5:$L$2413='Local Detail'!$A109)*(Projects!$J$5:$J$2413<>'Local Detail'!$A$147)*(Projects!$M$5:$M$2413)))+(SUMPRODUCT((Projects!$A$5:$A$2413='Local Detail'!$J$3)*(Projects!$C$5:$C$2413<>'MDOT FTA Detail'!$C$4)*(Projects!$L$5:$L$2413='Local Detail'!$A109)*(Projects!$J$5:$J$2413<>'Local Detail'!$A$147)*(Projects!$O$5:$O$2413))))","v":0},0,{"$f":"SUMPRODUCT((Projects!$A$5:$A$2413='Local Detail'!$M$3)*(Projects!$C$5:$C$2413<>'MDOT FTA Detail'!$C$4)*(Projects!$L$5:$L$2413='Local Detail'!$A109)*(Projects!$K$5:$K$2413))","v":0},{"$f":"((SUMPRODUCT((Projects!$A$5:$A$2413='Local Detail'!$M$3)*(Projects!$C$5:$C$2413<>'MDOT FTA Detail'!$C$4)*(Projects!$L$5:$L$2413='Local Detail'!$A109)*(Projects!$J$5:$J$2413<>'Local Detail'!$A$147)*(Projects!$M$5:$M$2413)))+(SUMPRODUCT((Projects!$A$5:$A$2413='Local Detail'!$M$3)*(Projects!$C$5:$C$2413<>'MDOT FTA Detail'!$C$4)*(Projects!$L$5:$L$2413='Local Detail'!$A109)*(Projects!$J$5:$J$2413<>'Local Detail'!$A$147)*(Projects!$O$5:$O$2413))))","v":0},0]
["CTF","Comprehensive Transit Fund","Transit","No FF",{"$f":"SUMPRODUCT((Projects!$A$5:$A$2413='Local Detail'!$D$3)*(Projects!$K$5:$K$2413=0)*(Projects!$C$5:$C$2413<>'MDOT FTA Detail'!$C$4)*(Projects!$N$5:$N$2413='Local Detail'!$A110)*(Projects!$J$5:$J$2413<>'Local Detail'!$A$147)*(Projects!$M$5:$M$2413))","v":0},{"$f":"E110","v":0},"No FF",{"$f":"SUMPRODUCT((Projects!$A$5:$A$2413='Local Detail'!$G$3)*(Projects!$K$5:$K$2413=0)*(Projects!$C$5:$C$2413<>'MDOT FTA Detail'!$C$4)*(Projects!$N$5:$N$2413='Local Detail'!$A110)*(Projects!$J$5:$J$2413<>'Local Detail'!$A$147)*(Projects!$Q$5:$Q$2413))","v":0},{"$f":"H110","v":0},"No FF",{"$f":"SUMPRODUCT((Projects!$A$5:$A$2413='Local Detail'!$J$3)*(Projects!$K$5:$K$2413=0)*(Projects!$C$5:$C$2413<>'MDOT FTA Detail'!$C$4)*(Projects!$N$5:$N$2413='Local Detail'!$A110)*(Projects!$J$5:$J$2413<>'Local Detail'!$A$147)*(Projects!$Q$5:$Q$2413))","v":0},{"$f":"K110","v":0},"No FF",{"$f":"SUMPRODUCT((Projects!$A$5:$A$2413='Local Detail'!$M$3)*(Projects!$K$5:$K$2413=0)*(Projects!$C$5:$C$2413<>'MDOT FTA Detail'!$C$4)*(Projects!$N$5:$N$2413='Local Detail'!$A110)*(Projects!$J$5:$J$2413<>'Local Detail'!$A$147)*(Projects!$Q$5:$Q$2413))","v":0},{"$f":"N110","v":0}]
["BI04","Build Michigan Bond Issue 2004","Local Non-Federal","No FF",{"$f":"SUMPRODUCT((Projects!$A$5:$A$2413='Local Detail'!$D$3)*(Projects!$K$5:$K$2413=0)*(Projects!$C$5:$C$2413<>'MDOT FTA Detail'!$C$4)*(Projects!$N$5:$N$2413='Local Detail'!$A111)*(Projects!$J$5:$J$2413<>'Local Detail'!$A$147)*(Projects!$M$5:$M$2413))","v":0},0,"No FF",{"$f":"SUMPRODUCT((Projects!$A$5:$A$2413='Local Detail'!$G$3)*(Projects!$K$5:$K$2413=0)*(Projects!$C$5:$C$2413<>'MDOT FTA Detail'!$C$4)*(Projects!$N$5:$N$2413='Local Detail'!$A111)*(Projects!$J$5:$J$2413<>'Local Detail'!$A$147)*(Projects!$M$5:$M$2413))","v":0},0,"No FF",{"$f":"SUMPRODUCT((Projects!$A$5:$A$2413='Local Detail'!$J$3)*(Projects!$K$5:$K$2413=0)*(Projects!$C$5:$C$2413<>'MDOT FTA Detail'!$C$4)*(Projects!$N$5:$N$2413='Local Detail'!$A111)*(Projects!$J$5:$J$2413<>'Local Detail'!$A$147)*(Projects!$M$5:$M$2413))","v":0},0,"No FF",{"$f":"SUMPRODUCT((Projects!$A$5:$A$2413='Local Detail'!$M$3)*(Projects!$K$5:$K$2413=0)*(Projects!$C$5:$C$2413<>'MDOT FTA Detail'!$C$4)*(Projects!$N$5:$N$2413='Local Detail'!$A111)*(Projects!$J$5:$J$2413<>'Local Detail'!$A$147)*(Projects!$M$5:$M$2413))","v":0},0]
["BI06","Build Michigan Bond Issue 2006","Local Non-Federal","No FF",{"$f":"SUMPRODUCT((Projects!$A$5:$A$2413='Local Detail'!$D$3)*(Projects!$K$5:$K$2413=0)*(Projects!$C$5:$C$2413<>'MDOT FTA Detail'!$C$4)*(Projects!$N$5:$N$2413='Local Detail'!$A112)*(Projects!$J$5:$J$2413<>'Local Detail'!$A$147)*(Projects!$M$5:$M$2413))","v":0},0,"No FF",{"$f":"SUMPRODUCT((Projects!$A$5:$A$2413='Local Detail'!$G$3)*(Projects!$K$5:$K$2413=0)*(Projects!$C$5:$C$2413<>'MDOT FTA Detail'!$C$4)*(Projects!$N$5:$N$2413='Local Detail'!$A112)*(Projects!$J$5:$J$2413<>'Local Detail'!$A$147)*(Projects!$M$5:$M$2413))","v":0},0,"No FF",{"$f":"SUMPRODUCT((Projects!$A$5:$A$2413='Local Detail'!$J$3)*(Projects!$K$5:$K$2413=0)*(Projects!$C$5:$C$2413<>'MDOT FTA Detail'!$C$4)*(Projects!$N$5:$N$2413='Local Detail'!$A112)*(Projects!$J$5:$J$2413<>'Local Detail'!$A$147)*(Projects!$M$5:$M$2413))","v":0},0,"No FF",{"$f":"SUMPRODUCT((Projects!$A$5:$A$2413='Local Detail'!$M$3)*(Projects!$K$5:$K$2413=0)*(Projects!$C$5:$C$2413<>'MDOT FTA Detail'!$C$4)*(Projects!$N$5:$N$2413='Local Detail'!$A112)*(Projects!$J$5:$J$2413<>'Local Detail'!$A$147)*(Projects!$M$5:$M$2413))","v":0},0]
["BI08","Build Michigan Bond Issue 2008","Local Non-Federal","No FF",{"$f":"SUMPRODUCT((Projects!$A$5:$A$2413='Local Detail'!$D$3)*(Projects!$K$5:$K$2413=0)*(Projects!$C$5:$C$2413<>'MDOT FTA Detail'!$C$4)*(Projects!$N$5:$N$2413='Local Detail'!$A113)*(Projects!$J$5:$J$2413<>'Local Detail'!$A$147)*(Projects!$M$5:$M$2413))","v":0},0,"No FF",{"$f":"SUMPRODUCT((Projects!$A$5:$A$2413='Local Detail'!$G$3)*(Projects!$K$5:$K$2413=0)*(Projects!$C$5:$C$2413<>'MDOT FTA Detail'!$C$4)*(Projects!$N$5:$N$2413='Local Detail'!$A113)*(Projects!$J$5:$J$2413<>'Local Detail'!$A$147)*(Projects!$M$5:$M$2413))","v":0},0,"No FF",{"$f":"SUMPRODUCT((Projects!$A$5:$A$2413='Local Detail'!$J$3)*(Projects!$K$5:$K$2413=0)*(Projects!$C$5:$C$2413<>'MDOT FTA Detail'!$C$4)*(Projects!$N$5:$N$2413='Local Detail'!$A113)*(Projects!$J$5:$J$2413<>'Local Detail'!$A$147)*(Projects!$M$5:$M$2413))","v":0},0,"No FF",{"$f":"SUMPRODUCT((Projects!$A$5:$A$2413='Local Detail'!$M$3)*(Projects!$K$5:$K$2413=0)*(Projects!$C$5:$C$2413<>'MDOT FTA Detail'!$C$4)*(Projects!$N$5:$N$2413='Local Detail'!$A113)*(Projects!$J$5:$J$2413<>'Local Detail'!$A$147)*(Projects!$M$5:$M$2413))","v":0},0]
["BT01","Bond Trunkline Roads for First Issue","Local Non-Federal","No FF",{"$f":"SUMPRODUCT((Projects!$A$5:$A$2413='Local Detail'!$D$3)*(Projects!$K$5:$K$2413=0)*(Projects!$C$5:$C$2413<>'MDOT FTA Detail'!$C$4)*(Projects!$N$5:$N$2413='Local Detail'!$A114)*(Projects!$J$5:$J$2413<>'Local Detail'!$A$147)*(Projects!$M$5:$M$2413))","v":0},0,"No FF",{"$f":"SUMPRODUCT((Projects!$A$5:$A$2413='Local Detail'!$G$3)*(Projects!$K$5:$K$2413=0)*(Projects!$C$5:$C$2413<>'MDOT FTA Detail'!$C$4)*(Projects!$N$5:$N$2413='Local Detail'!$A114)*(Projects!$J$5:$J$2413<>'Local Detail'!$A$147)*(Projects!$M$5:$M$2413))","v":0},0,"No FF",{"$f":"SUMPRODUCT((Projects!$A$5:$A$2413='Local Detail'!$J$3)*(Projects!$K$5:$K$2413=0)*(Projects!$C$5:$C$2413<>'MDOT FTA Detail'!$C$4)*(Projects!$N$5:$N$2413='Local Detail'!$A114)*(Projects!$J$5:$J$2413<>'Local Detail'!$A$147)*(Projects!$M$5:$M$2413))","v":0},0,"No FF",{"$f":"SUMPRODUCT((Projects!$A$5:$A$2413='Local Detail'!$M$3)*(Projects!$K$5:$K$2413=0)*(Projects!$C$5:$C$2413<>'MDOT FTA Detail'!$C$4)*(Projects!$N$5:$N$2413='Local Detail'!$A114)*(Projects!$J$5:$J$2413<>'Local Detail'!$A$147)*(Projects!$M$5:$M$2413))","v":0},0]
["CANX","Canadian Bridge Funds","Local Non-Federal","No FF",{"$f":"SUMPRODUCT((Projects!$A$5:$A$2413='Local Detail'!$D$3)*(Projects!$K$5:$K$2413=0)*(Projects!$C$5:$C$2413<>'MDOT FTA Detail'!$C$4)*(Projects!$N$5:$N$2413='Local Detail'!$A115)*(Projects!$J$5:$J$2413<>'Local Detail'!$A$147)*(Projects!$M$5:$M$2413))","v":0},{"$f":"E115","v":0},"No FF",{"$f":"SUMPRODUCT((Projects!$A$5:$A$2413='Local Detail'!$G$3)*(Projects!$K$5:$K$2413=0)*(Projects!$C$5:$C$2413<>'MDOT FTA Detail'!$C$4)*(Projects!$N$5:$N$2413='Local Detail'!$A115)*(Projects!$J$5:$J$2413<>'Local Detail'!$A$147)*(Projects!$M$5:$M$2413))","v":0},{"$f":"H115","v":0},"No FF",{"$f":"SUMPRODUCT((Projects!$A$5:$A$2413='Local Detail'!$J$3)*(Projects!$K$5:$K$2413=0)*(Projects!$C$5:$C$2413<>'MDOT FTA Detail'!$C$4)*(Projects!$N$5:$N$2413='Local Detail'!$A115)*(Projects!$J$5:$J$2413<>'Local Detail'!$A$147)*(Projects!$M$5:$M$2413))","v":0},{"$f":"K115","v":0},"No FF",{"$f":"SUMPRODUCT((Projects!$A$5:$A$2413='Local Detail'!$M$3)*(Projects!$K$5:$K$2413=0)*(Projects!$C$5:$C$2413<>'MDOT FTA Detail'!$C$4)*(Projects!$N$5:$N$2413='Local Detail'!$A115)*(Projects!$J$5:$J$2413<>'Local Detail'!$A$147)*(Projects!$M$5:$M$2413))","v":0},{"$f":"N115","v":0}]
["EDA","Economic Development - Category A","Local Non-Federal","No FF",{"$f":"SUMPRODUCT((Projects!$A$5:$A$2413='Local Detail'!$D$3)*(Projects!$K$5:$K$2413=0)*(Projects!$C$5:$C$2413<>'MDOT FTA Detail'!$C$4)*(Projects!$N$5:$N$2413='Local Detail'!$A116)*(Projects!$J$5:$J$2413<>'Local Detail'!$A$147)*(Projects!$M$5:$M$2413))","v":0},0,"No FF",{"$f":"SUMPRODUCT((Projects!$A$5:$A$2413='Local Detail'!$G$3)*(Projects!$K$5:$K$2413=0)*(Projects!$C$5:$C$2413<>'MDOT FTA Detail'!$C$4)*(Projects!$N$5:$N$2413='Local Detail'!$A116)*(Projects!$J$5:$J$2413<>'Local Detail'!$A$147)*(Projects!$M$5:$M$2413))","v":0},0,"No FF",{"$f":"SUMPRODUCT((Projects!$A$5:$A$2413='Local Detail'!$J$3)*(Projects!$K$5:$K$2413=0)*(Projects!$C$5:$C$2413<>'MDOT FTA Detail'!$C$4)*(Projects!$N$5:$N$2413='Local Detail'!$A116)*(Projects!$J$5:$J$2413<>'Local Detail'!$A$147)*(Projects!$M$5:$M$2413))","v":0},0,"No FF",{"$f":"SUMPRODUCT((Projects!$A$5:$A$2413='Local Detail'!$M$3)*(Projects!$K$5:$K$2413=0)*(Projects!$C$5:$C$2413<>'MDOT FTA Detail'!$C$4)*(Projects!$N$5:$N$2413='Local Detail'!$A116)*(Projects!$J$5:$J$2413<>'Local Detail'!$A$147)*(Projects!$M$5:$M$2413))","v":0},0]
["EDC","Economic Development - Category C","Local Non-Federal","No FF",{"$f":"SUMPRODUCT((Projects!$A$5:$A$2413='Local Detail'!$D$3)*(Projects!$K$5:$K$2413=0)*(Projects!$C$5:$C$2413<>'MDOT FTA Detail'!$C$4)*(Projects!$N$5:$N$2413='Local Detail'!$A117)*(Projects!$J$5:$J$2413<>'Local Detail'!$A$147)*(Projects!$M$5:$M$2413))","v":0},0,"No FF",{"$f":"SUMPRODUCT((Projects!$A$5:$A$2413='Local Detail'!$G$3)*(Projects!$K$5:$K$2413=0)*(Projects!$C$5:$C$2413<>'MDOT FTA Detail'!$C$4)*(Projects!$N$5:$N$2413='Local Detail'!$A117)*(Projects!$J$5:$J$2413<>'Local Detail'!$A$147)*(Projects!$M$5:$M$2413))","v":0},0,"No FF",{"$f":"SUMPRODUCT((Projects!$A$5:$A$2413='Local Detail'!$J$3)*(Projects!$K$5:$K$2413=0)*(Projects!$C$5:$C$2413<>'MDOT FTA Detail'!$C$4)*(Projects!$N$5:$N$2413='Local Detail'!$A117)*(Projects!$J$5:$J$2413<>'Local Detail'!$A$147)*(Projects!$M$5:$M$2413))","v":0},0,"No FF",{"$f":"SUMPRODUCT((Projects!$A$5:$A$2413='Local Detail'!$M$3)*(Projects!$K$5:$K$2413=0)*(Projects!$C$5:$C$2413<>'MDOT FTA Detail'!$C$4)*(Projects!$N$5:$N$2413='Local Detail'!$A117)*(Projects!$J$5:$J$2413<>'Local Detail'!$A$147)*(Projects!$M$5:$M$2413))","v":0},0]
["EDD","Economic Development - Category D","Local Non-Federal","No FF",{"$f":"SUMPRODUCT((Projects!$A$5:$A$2413='Local Detail'!$D$3)*(Projects!$K$5:$K$2413=0)*(Projects!$C$5:$C$2413<>'MDOT FTA Detail'!$C$4)*(Projects!$N$5:$N$2413='Local Detail'!$A118)*(Projects!$J$5:$J$2413<>'Local Detail'!$A$147)*(Projects!$M$5:$M$2413))","v":0},0,"No FF",{"$f":"SUMPRODUCT((Projects!$A$5:$A$2413='Local Detail'!$G$3)*(Projects!$K$5:$K$2413=0)*(Projects!$C$5:$C$2413<>'MDOT FTA Detail'!$C$4)*(Projects!$N$5:$N$2413='Local Detail'!$A118)*(Projects!$J$5:$J$2413<>'Local Detail'!$A$147)*(Projects!$M$5:$M$2413))","v":0},0,"No FF",{"$f":"SUMPRODUCT((Projects!$A$5:$A$2413='Local Detail'!$J$3)*(Projects!$K$5:$K$2413=0)*(Projects!$C$5:$C$2413<>'MDOT FTA Detail'!$C$4)*(Projects!$N$5:$N$2413='Local Detail'!$A118)*(Projects!$J$5:$J$2413<>'Local Detail'!$A$147)*(Projects!$M$5:$M$2413))","v":0},0,"No FF",{"$f":"SUMPRODUCT((Projects!$A$5:$A$2413='Local Detail'!$M$3)*(Projects!$K$5:$K$2413=0)*(Projects!$C$5:$C$2413<>'MDOT FTA Detail'!$C$4)*(Projects!$N$5:$N$2413='Local Detail'!$A118)*(Projects!$J$5:$J$2413<>'Local Detail'!$A$147)*(Projects!$M$5:$M$2413))","v":0},0]
["EDF","Economic Development - Category F","Local Non-Federal","No FF",{"$f":"SUMPRODUCT((Projects!$A$5:$A$2413='Local Detail'!$D$3)*(Projects!$K$5:$K$2413=0)*(Projects!$C$5:$C$2413<>'MDOT FTA Detail'!$C$4)*(Projects!$N$5:$N$2413='Local Detail'!$A119)*(Projects!$J$5:$J$2413<>'Local Detail'!$A$147)*(Projects!$M$5:$M$2413))","v":0},0,"No FF",{"$f":"SUMPRODUCT((Projects!$A$5:$A$2413='Local Detail'!$G$3)*(Projects!$K$5:$K$2413=0)*(Projects!$C$5:$C$2413<>'MDOT FTA Detail'!$C$4)*(Projects!$N$5:$N$2413='Local Detail'!$A119)*(Projects!$J$5:$J$2413<>'Local Detail'!$A$147)*(Projects!$M$5:$M$2413))","v":0},0,"No FF",{"$f":"SUMPRODUCT((Projects!$A$5:$A$2413='Local Detail'!$J$3)*(Projects!$K$5:$K$2413=0)*(Projects!$C$5:$C$2413<>'MDOT FTA Detail'!$C$4)*(Projects!$N$5:$N$2413='Local Detail'!$A119)*(Projects!$J$5:$J$2413<>'Local Detail'!$A$147)*(Projects!$M$5:$M$2413))","v":0},0,"No FF",{"$f":"SUMPRODUCT((Projects!$A$5:$A$2413='Local Detail'!$M$3)*(Projects!$K$5:$K$2413=0)*(Projects!$C$5:$C$2413<>'MDOT FTA Detail'!$C$4)*(Projects!$N$5:$N$2413='Local Detail'!$A119)*(Projects!$J$5:$J$2413<>'Local Detail'!$A$147)*(Projects!$M$5:$M$2413))","v":0},0]
["GF15","General Fund 2015","Local Non-Federal","No FF",{"$f":"SUMPRODUCT((Projects!$A$5:$A$2413='Local Detail'!$D$3)*(Projects!$K$5:$K$2413=0)*(Projects!$C$5:$C$2413<>'MDOT FTA Detail'!$C$4)*(Projects!$N$5:$N$2413='Local Detail'!$A120)*(Projects!$J$5:$J$2413<>'Local Detail'!$A$147)*(Projects!$M$5:$M$2413))","v":0},{"$f":"E120","v":0},"No FF",{"$f":"SUMPRODUCT((Projects!$A$5:$A$2413='Local Detail'!$G$3)*(Projects!$K$5:$K$2413=0)*(Projects!$C$5:$C$2413<>'MDOT FTA Detail'!$C$4)*(Projects!$N$5:$N$2413='Local Detail'!$A120)*(Projects!$J$5:$J$2413<>'Local Detail'!$A$147)*(Projects!$M$5:$M$2413))","v":0},{"$f":"H120","v":0},"No FF",{"$f":"SUMPRODUCT((Projects!$A$5:$A$2413='Local Detail'!$J$3)*(Projects!$K$5:$K$2413=0)*(Projects!$C$5:$C$2413<>'MDOT FTA Detail'!$C$4)*(Projects!$N$5:$N$2413='Local Detail'!$A120)*(Projects!$J$5:$J$2413<>'Local Detail'!$A$147)*(Projects!$M$5:$M$2413))","v":0},{"$f":"K120","v":0},"No FF",{"$f":"SUMPRODUCT((Projects!$A$5:$A$2413='Local Detail'!$M$3)*(Projects!$K$5:$K$2413=0)*(Projects!$C$5:$C$2413<>'MDOT FTA Detail'!$C$4)*(Projects!$N$5:$N$2413='Local Detail'!$A120)*(Projects!$J$5:$J$2413<>'Local Detail'!$A$147)*(Projects!$M$5:$M$2413))","v":0},{"$f":"N120","v":0}]
["GF16","General Fund 2016","Local Non-Federal","No FF",{"$f":"SUMPRODUCT((Projects!$A$5:$A$2413='Local Detail'!$D$3)*(Projects!$K$5:$K$2413=0)*(Projects!$C$5:$C$2413<>'MDOT FTA Detail'!$C$4)*(Projects!$N$5:$N$2413='Local Detail'!$A121)*(Projects!$J$5:$J$2413<>'Local Detail'!$A$147)*(Projects!$M$5:$M$2413))","v":0},0,"No FF",{"$f":"SUMPRODUCT((Projects!$A$5:$A$2413='Local Detail'!$G$3)*(Projects!$K$5:$K$2413=0)*(Projects!$C$5:$C$2413<>'MDOT FTA Detail'!$C$4)*(Projects!$N$5:$N$2413='Local Detail'!$A121)*(Projects!$J$5:$J$2413<>'Local Detail'!$A$147)*(Projects!$M$5:$M$2413))","v":0},0,"No FF",{"$f":"SUMPRODUCT((Projects!$A$5:$A$2413='Local Detail'!$J$3)*(Projects!$K$5:$K$2413=0)*(Projects!$C$5:$C$2413<>'MDOT FTA Detail'!$C$4)*(Projects!$N$5:$N$2413='Local Detail'!$A121)*(Projects!$J$5:$J$2413<>'Local Detail'!$A$147)*(Projects!$M$5:$M$2413))","v":0},0,"No FF",{"$f":"SUMPRODUCT((Projects!$A$5:$A$2413='Local Detail'!$M$3)*(Projects!$K$5:$K$2413=0)*(Projects!$C$5:$C$2413<>'MDOT FTA Detail'!$C$4)*(Projects!$N$5:$N$2413='Local Detail'!$A121)*(Projects!$J$5:$J$2413<>'Local Detail'!$A$147)*(Projects!$M$5:$M$2413))","v":0},0]
["JT07","Jobs Today Bond Issue 2007 GARVEE (State AC for Federal GARVEE Bonds)","Local Non-Federal","No FF",{"$f":"SUMPRODUCT((Projects!$A$5:$A$2413='Local Detail'!$D$3)*(Projects!$K$5:$K$2413=0)*(Projects!$C$5:$C$2413<>'MDOT FTA Detail'!$C$4)*(Projects!$N$5:$N$2413='Local Detail'!$A122)*(Projects!$J$5:$J$2413<>'Local Detail'!$A$147)*(Projects!$M$5:$M$2413))","v":0},0,"No FF",{"$f":"SUMPRODUCT((Projects!$A$5:$A$2413='Local Detail'!$G$3)*(Projects!$K$5:$K$2413=0)*(Projects!$C$5:$C$2413<>'MDOT FTA Detail'!$C$4)*(Projects!$N$5:$N$2413='Local Detail'!$A122)*(Projects!$J$5:$J$2413<>'Local Detail'!$A$147)*(Projects!$M$5:$M$2413))","v":0},0,"No FF",{"$f":"SUMPRODUCT((Projects!$A$5:$A$2413='Local Detail'!$J$3)*(Projects!$K$5:$K$2413=0)*(Projects!$C$5:$C$2413<>'MDOT FTA Detail'!$C$4)*(Projects!$N$5:$N$2413='Local Detail'!$A122)*(Projects!$J$5:$J$2413<>'Local Detail'!$A$147)*(Projects!$M$5:$M$2413))","v":0},0,"No FF",{"$f":"SUMPRODUCT((Projects!$A$5:$A$2413='Local Detail'!$M$3)*(Projects!$K$5:$K$2413=0)*(Projects!$C$5:$C$2413<>'MDOT FTA Detail'!$C$4)*(Projects!$N$5:$N$2413='Local Detail'!$A122)*(Projects!$J$5:$J$2413<>'Local Detail'!$A$147)*(Projects!$M$5:$M$2413))","v":0},0]
["LFMP","Local Fund Match Program - 100% Local","Local Non-Federal","No FF",{"$f":"SUMPRODUCT((Projects!$A$5:$A$2413='Local Detail'!$D$3)*(Projects!$K$5:$K$2413=0)*(Projects!$C$5:$C$2413<>'MDOT FTA Detail'!$C$4)*(Projects!$N$5:$N$2413='Local Detail'!$A123)*(Projects!$J$5:$J$2413<>'Local Detail'!$A$147)*(Projects!$M$5:$M$2413))","v":0},0,"No FF",{"$f":"SUMPRODUCT((Projects!$A$5:$A$2413='Local Detail'!$G$3)*(Projects!$K$5:$K$2413=0)*(Projects!$C$5:$C$2413<>'MDOT FTA Detail'!$C$4)*(Projects!$N$5:$N$2413='Local Detail'!$A123)*(Projects!$J$5:$J$2413<>'Local Detail'!$A$147)*(Projects!$M$5:$M$2413))","v":0},0,"No FF",{"$f":"SUMPRODUCT((Projects!$A$5:$A$2413='Local Detail'!$J$3)*(Projects!$K$5:$K$2413=0)*(Projects!$C$5:$C$2413<>'MDOT FTA Detail'!$C$4)*(Projects!$N$5:$N$2413='Local Detail'!$A123)*(Projects!$J$5:$J$2413<>'Local Detail'!$A$147)*(Projects!$M$5:$M$2413))","v":0},0,"No FF",{"$f":"SUMPRODUCT((Projects!$A$5:$A$2413='Local Detail'!$M$3)*(Projects!$K$5:$K$2413=0)*(Projects!$C$5:$C$2413<>'MDOT FTA Detail'!$C$4)*(Projects!$N$5:$N$2413='Local Detail'!$A123)*(Projects!$J$5:$J$2413<>'Local Detail'!$A$147)*(Projects!$M$5:$M$2413))","v":0},0]
["M","State Funds - Michigan Betterment","Local Non-Federal","No FF",{"$f":"SUMPRODUCT((Projects!$A$5:$A$2413='Local Detail'!$D$3)*(Projects!$K$5:$K$2413=0)*(Projects!$C$5:$C$2413<>'MDOT FTA Detail'!$C$4)*(Projects!$N$5:$N$2413='Local Detail'!$A124)*(Projects!$J$5:$J$2413<>'Local Detail'!$A$147)*(Projects!$M$5:$M$2413))","v":0},0,"No FF",{"$f":"SUMPRODUCT((Projects!$A$5:$A$2413='Local Detail'!$G$3)*(Projects!$K$5:$K$2413=0)*(Projects!$C$5:$C$2413<>'MDOT FTA Detail'!$C$4)*(Projects!$N$5:$N$2413='Local Detail'!$A124)*(Projects!$J$5:$J$2413<>'Local Detail'!$A$147)*(Projects!$M$5:$M$2413))","v":0},0,"No FF",{"$f":"SUMPRODUCT((Projects!$A$5:$A$2413='Local Detail'!$J$3)*(Projects!$K$5:$K$2413=0)*(Projects!$C$5:$C$2413<>'MDOT FTA Detail'!$C$4)*(Projects!$N$5:$N$2413='Local Detail'!$A124)*(Projects!$J$5:$J$2413<>'Local Detail'!$A$147)*(Projects!$M$5:$M$2413))","v":0},0,"No FF",{"$f":"SUMPRODUCT((Projects!$A$5:$A$2413='Local Detail'!$M$3)*(Projects!$K$5:$K$2413=0)*(Projects!$C$5:$C$2413<>'MDOT FTA Detail'!$C$4)*(Projects!$N$5:$N$2413='Local Detail'!$A124)*(Projects!$J$5:$J$2413<>'Local Detail'!$A$147)*(Projects!$M$5:$M$2413))","v":0},0]
["MBS","Michigan Budget Stabilization","Local Non-Federal","No FF",{"$f":"SUMPRODUCT((Projects!$A$5:$A$2413='Local Detail'!$D$3)*(Projects!$K$5:$K$2413=0)*(Projects!$C$5:$C$2413<>'MDOT FTA Detail'!$C$4)*(Projects!$N$5:$N$2413='Local Detail'!$A125)*(Projects!$J$5:$J$2413<>'Local Detail'!$A$147)*(Projects!$M$5:$M$2413))","v":0},0,"No FF",{"$f":"SUMPRODUCT((Projects!$A$5:$A$2413='Local Detail'!$G$3)*(Projects!$K$5:$K$2413=0)*(Projects!$C$5:$C$2413<>'MDOT FTA Detail'!$C$4)*(Projects!$N$5:$N$2413='Local Detail'!$A125)*(Projects!$J$5:$J$2413<>'Local Detail'!$A$147)*(Projects!$M$5:$M$2413))","v":0},0,"No FF",{"$f":"SUMPRODUCT((Projects!$A$5:$A$2413='Local Detail'!$J$3)*(Projects!$K$5:$K$2413=0)*(Projects!$C$5:$C$2413<>'MDOT FTA Detail'!$C$4)*(Projects!$N$5:$N$2413='Local Detail'!$A125)*(Projects!$J$5:$J$2413<>'Local Detail'!$A$147)*(Projects!$M$5:$M$2413))","v":0},0,"No FF",{"$f":"SUMPRODUCT((Projects!$A$5:$A$2413='Local Detail'!$M$3)*(Projects!$K$5:$K$2413=0)*(Projects!$C$5:$C$2413<>'MDOT FTA Detail'!$C$4)*(Projects!$N$5:$N$2413='Local Detail'!$A125)*(Projects!$J$5:$J$2413<>'Local Detail'!$A$147)*(Projects!$M$5:$M$2413))","v":0},0]
["MBWB","Michigan Blue Water Bridge","Local Non-Federal","No FF",{"$f":"SUMPRODUCT((Projects!$A$5:$A$2413='Local Detail'!$D$3)*(Projects!$K$5:$K$2413=0)*(Projects!$C$5:$C$2413<>'MDOT FTA Detail'!$C$4)*(Projects!$N$5:$N$2413='Local Detail'!$A126)*(Projects!$J$5:$J$2413<>'Local Detail'!$A$147)*(Projects!$M$5:$M$2413))","v":0},0,"No FF",{"$f":"SUMPRODUCT((Projects!$A$5:$A$2413='Local Detail'!$G$3)*(Projects!$K$5:$K$2413=0)*(Projects!$C$5:$C$2413<>'MDOT FTA Detail'!$C$4)*(Projects!$N$5:$N$2413='Local Detail'!$A126)*(Projects!$J$5:$J$2413<>'Local Detail'!$A$147)*(Projects!$M$5:$M$2413))","v":0},0,"No FF",{"$f":"SUMPRODUCT((Projects!$A$5:$A$2413='Local Detail'!$J$3)*(Projects!$K$5:$K$2413=0)*(Projects!$C$5:$C$2413<>'MDOT FTA Detail'!$C$4)*(Projects!$N$5:$N$2413='Local Detail'!$A126)*(Projects!$J$5:$J$2413<>'Local Detail'!$A$147)*(Projects!$M$5:$M$2413))","v":0},0,"No FF",{"$f":"SUMPRODUCT((Projects!$A$5:$A$2413='Local Detail'!$M$3)*(Projects!$K$5:$K$2413=0)*(Projects!$C$5:$C$2413<>'MDOT FTA Detail'!$C$4)*(Projects!$N$5:$N$2413='Local Detail'!$A126)*(Projects!$J$5:$J$2413<>'Local Detail'!$A$147)*(Projects!$M$5:$M$2413))","v":0},0]
["MCS","State Funds - Critical Structures","Local Non-Federal","No FF",{"$f":"SUMPRODUCT((Projects!$A$5:$A$2413='Local Detail'!$D$3)*(Projects!$K$5:$K$2413=0)*(Projects!$C$5:$C$2413<>'MDOT FTA Detail'!$C$4)*(Projects!$N$5:$N$2413='Local Detail'!$A127)*(Projects!$J$5:$J$2413<>'Local Detail'!$A$147)*(Projects!$M$5:$M$2413))","v":0},0,"No FF",{"$f":"SUMPRODUCT((Projects!$A$5:$A$2413='Local Detail'!$G$3)*(Projects!$K$5:$K$2413=0)*(Projects!$C$5:$C$2413<>'MDOT FTA Detail'!$C$4)*(Projects!$N$5:$N$2413='Local Detail'!$A127)*(Projects!$J$5:$J$2413<>'Local Detail'!$A$147)*(Projects!$M$5:$M$2413))","v":0},0,"No FF",{"$f":"SUMPRODUCT((Projects!$A$5:$A$2413='Local Detail'!$J$3)*(Projects!$K$5:$K$2413=0)*(Projects!$C$5:$C$2413<>'MDOT FTA Detail'!$C$4)*(Projects!$N$5:$N$2413='Local Detail'!$A127)*(Projects!$J$5:$J$2413<>'Local Detail'!$A$147)*(Projects!$M$5:$M$2413))","v":0},0,"No FF",{"$f":"SUMPRODUCT((Projects!$A$5:$A$2413='Local Detail'!$M$3)*(Projects!$K$5:$K$2413=0)*(Projects!$C$5:$C$2413<>'MDOT FTA Detail'!$C$4)*(Projects!$N$5:$N$2413='Local Detail'!$A127)*(Projects!$J$5:$J$2413<>'Local Detail'!$A$147)*(Projects!$M$5:$M$2413))","v":0},0]
["MDA","Drainage Assessment","Local Non-Federal","No FF",{"$f":"SUMPRODUCT((Projects!$A$5:$A$2413='Local Detail'!$D$3)*(Projects!$K$5:$K$2413=0)*(Projects!$C$5:$C$2413<>'MDOT FTA Detail'!$C$4)*(Projects!$N$5:$N$2413='Local Detail'!$A128)*(Projects!$J$5:$J$2413<>'Local Detail'!$A$147)*(Projects!$M$5:$M$2413))","v":0},0,"No FF",{"$f":"SUMPRODUCT((Projects!$A$5:$A$2413='Local Detail'!$G$3)*(Projects!$K$5:$K$2413=0)*(Projects!$C$5:$C$2413<>'MDOT FTA Detail'!$C$4)*(Projects!$N$5:$N$2413='Local Detail'!$A128)*(Projects!$J$5:$J$2413<>'Local Detail'!$A$147)*(Projects!$M$5:$M$2413))","v":0},0,"No FF",{"$f":"SUMPRODUCT((Projects!$A$5:$A$2413='Local Detail'!$J$3)*(Projects!$K$5:$K$2413=0)*(Projects!$C$5:$C$2413<>'MDOT FTA Detail'!$C$4)*(Projects!$N$5:$N$2413='Local Detail'!$A128)*(Projects!$J$5:$J$2413<>'Local Detail'!$A$147)*(Projects!$M$5:$M$2413))","v":0},0,"No FF",{"$f":"SUMPRODUCT((Projects!$A$5:$A$2413='Local Detail'!$M$3)*(Projects!$K$5:$K$2413=0)*(Projects!$C$5:$C$2413<>'MDOT FTA Detail'!$C$4)*(Projects!$N$5:$N$2413='Local Detail'!$A128)*(Projects!$J$5:$J$2413<>'Local Detail'!$A$147)*(Projects!$M$5:$M$2413))","v":0},0]
["MER","Emergency Program","Local Non-Federal","No FF",{"$f":"SUMPRODUCT((Projects!$A$5:$A$2413='Local Detail'!$D$3)*(Projects!$K$5:$K$2413=0)*(Projects!$C$5:$C$2413<>'MDOT FTA Detail'!$C$4)*(Projects!$N$5:$N$2413='Local Detail'!$A129)*(Projects!$J$5:$J$2413<>'Local Detail'!$A$147)*(Projects!$M$5:$M$2413))","v":0},0,"No FF",{"$f":"SUMPRODUCT((Projects!$A$5:$A$2413='Local Detail'!$G$3)*(Projects!$K$5:$K$2413=0)*(Projects!$C$5:$C$2413<>'MDOT FTA Detail'!$C$4)*(Projects!$N$5:$N$2413='Local Detail'!$A129)*(Projects!$J$5:$J$2413<>'Local Detail'!$A$147)*(Projects!$M$5:$M$2413))","v":0},0,"No FF",{"$f":"SUMPRODUCT((Projects!$A$5:$A$2413='Local Detail'!$J$3)*(Projects!$K$5:$K$2413=0)*(Projects!$C$5:$C$2413<>'MDOT FTA Detail'!$C$4)*(Projects!$N$5:$N$2413='Local Detail'!$A129)*(Projects!$J$5:$J$2413<>'Local Detail'!$A$147)*(Projects!$M$5:$M$2413))","v":0},0,"No FF",{"$f":"SUMPRODUCT((Projects!$A$5:$A$2413='Local Detail'!$M$3)*(Projects!$K$5:$K$2413=0)*(Projects!$C$5:$C$2413<>'MDOT FTA Detail'!$C$4)*(Projects!$N$5:$N$2413='Local Detail'!$A129)*(Projects!$J$5:$J$2413<>'Local Detail'!$A$147)*(Projects!$M$5:$M$2413))","v":0},0]
["MIR","State Funds - Institutional Roads","Local Non-Federal","No FF",{"$f":"SUMPRODUCT((Projects!$A$5:$A$2413='Local Detail'!$D$3)*(Projects!$K$5:$K$2413=0)*(Projects!$C$5:$C$2413<>'MDOT FTA Detail'!$C$4)*(Projects!$N$5:$N$2413='Local Detail'!$A130)*(Projects!$J$5:$J$2413<>'Local Detail'!$A$147)*(Projects!$M$5:$M$2413))","v":0},0,"No FF",{"$f":"SUMPRODUCT((Projects!$A$5:$A$2413='Local Detail'!$G$3)*(Projects!$K$5:$K$2413=0)*(Projects!$C$5:$C$2413<>'MDOT FTA Detail'!$C$4)*(Projects!$N$5:$N$2413='Local Detail'!$A130)*(Projects!$J$5:$J$2413<>'Local Detail'!$A$147)*(Projects!$M$5:$M$2413))","v":0},0,"No FF",{"$f":"SUMPRODUCT((Projects!$A$5:$A$2413='Local Detail'!$J$3)*(Projects!$K$5:$K$2413=0)*(Projects!$C$5:$C$2413<>'MDOT FTA Detail'!$C$4)*(Projects!$N$5:$N$2413='Local Detail'!$A130)*(Projects!$J$5:$J$2413<>'Local Detail'!$A$147)*(Projects!$M$5:$M$2413))","v":0},0,"No FF",{"$f":"SUMPRODUCT((Projects!$A$5:$A$2413='Local Detail'!$M$3)*(Projects!$K$5:$K$2413=0)*(Projects!$C$5:$C$2413<>'MDOT FTA Detail'!$C$4)*(Projects!$N$5:$N$2413='Local Detail'!$A130)*(Projects!$J$5:$J$2413<>'Local Detail'!$A$147)*(Projects!$M$5:$M$2413))","v":0},0]
["MRR","Michigan Railroad","Local Non-Federal","No FF",{"$f":"SUMPRODUCT((Projects!$A$5:$A$2413='Local Detail'!$D$3)*(Projects!$K$5:$K$2413=0)*(Projects!$C$5:$C$2413<>'MDOT FTA Detail'!$C$4)*(Projects!$N$5:$N$2413='Local Detail'!$A131)*(Projects!$J$5:$J$2413<>'Local Detail'!$A$147)*(Projects!$M$5:$M$2413))","v":0},0,"No FF",{"$f":"SUMPRODUCT((Projects!$A$5:$A$2413='Local Detail'!$G$3)*(Projects!$K$5:$K$2413=0)*(Projects!$C$5:$C$2413<>'MDOT FTA Detail'!$C$4)*(Projects!$N$5:$N$2413='Local Detail'!$A131)*(Projects!$J$5:$J$2413<>'Local Detail'!$A$147)*(Projects!$M$5:$M$2413))","v":0},0,"No FF",{"$f":"SUMPRODUCT((Projects!$A$5:$A$2413='Local Detail'!$J$3)*(Projects!$K$5:$K$2413=0)*(Projects!$C$5:$C$2413<>'MDOT FTA Detail'!$C$4)*(Projects!$N$5:$N$2413='Local Detail'!$A131)*(Projects!$J$5:$J$2413<>'Local Detail'!$A$147)*(Projects!$M$5:$M$2413))","v":0},0,"No FF",{"$f":"SUMPRODUCT((Projects!$A$5:$A$2413='Local Detail'!$M$3)*(Projects!$K$5:$K$2413=0)*(Projects!$C$5:$C$2413<>'MDOT FTA Detail'!$C$4)*(Projects!$N$5:$N$2413='Local Detail'!$A131)*(Projects!$J$5:$J$2413<>'Local Detail'!$A$147)*(Projects!$M$5:$M$2413))","v":0},0]
["MRRF","Michigan Revolving Real Estate Fund","Local Non-Federal","No FF",{"$f":"SUMPRODUCT((Projects!$A$5:$A$2413='Local Detail'!$D$3)*(Projects!$K$5:$K$2413=0)*(Projects!$C$5:$C$2413<>'MDOT FTA Detail'!$C$4)*(Projects!$N$5:$N$2413='Local Detail'!$A132)*(Projects!$J$5:$J$2413<>'Local Detail'!$A$147)*(Projects!$M$5:$M$2413))","v":0},0,"No FF",{"$f":"SUMPRODUCT((Projects!$A$5:$A$2413='Local Detail'!$G$3)*(Projects!$K$5:$K$2413=0)*(Projects!$C$5:$C$2413<>'MDOT FTA Detail'!$C$4)*(Projects!$N$5:$N$2413='Local Detail'!$A132)*(Projects!$J$5:$J$2413<>'Local Detail'!$A$147)*(Projects!$M$5:$M$2413))","v":0},0,"No FF",{"$f":"SUMPRODUCT((Projects!$A$5:$A$2413='Local Detail'!$J$3)*(Projects!$K$5:$K$2413=0)*(Projects!$C$5:$C$2413<>'MDOT FTA Detail'!$C$4)*(Projects!$N$5:$N$2413='Local Detail'!$A132)*(Projects!$J$5:$J$2413<>'Local Detail'!$A$147)*(Projects!$M$5:$M$2413))","v":0},0,"No FF",{"$f":"SUMPRODUCT((Projects!$A$5:$A$2413='Local Detail'!$M$3)*(Projects!$K$5:$K$2413=0)*(Projects!$C$5:$C$2413<>'MDOT FTA Detail'!$C$4)*(Projects!$N$5:$N$2413='Local Detail'!$A132)*(Projects!$J$5:$J$2413<>'Local Detail'!$A$147)*(Projects!$M$5:$M$2413))","v":0},0]
["MS","Safety Program","Local Non-Federal","No FF",{"$f":"SUMPRODUCT((Projects!$A$5:$A$2413='Local Detail'!$D$3)*(Projects!$K$5:$K$2413=0)*(Projects!$C$5:$C$2413<>'MDOT FTA Detail'!$C$4)*(Projects!$N$5:$N$2413='Local Detail'!$A133)*(Projects!$J$5:$J$2413<>'Local Detail'!$A$147)*(Projects!$M$5:$M$2413))","v":0},0,"No FF",{"$f":"SUMPRODUCT((Projects!$A$5:$A$2413='Local Detail'!$G$3)*(Projects!$K$5:$K$2413=0)*(Projects!$C$5:$C$2413<>'MDOT FTA Detail'!$C$4)*(Projects!$N$5:$N$2413='Local Detail'!$A133)*(Projects!$J$5:$J$2413<>'Local Detail'!$A$147)*(Projects!$M$5:$M$2413))","v":0},0,"No FF",{"$f":"SUMPRODUCT((Projects!$A$5:$A$2413='Local Detail'!$J$3)*(Projects!$K$5:$K$2413=0)*(Projects!$C$5:$C$2413<>'MDOT FTA Detail'!$C$4)*(Projects!$N$5:$N$2413='Local Detail'!$A133)*(Projects!$J$5:$J$2413<>'Local Detail'!$A$147)*(Projects!$M$5:$M$2413))","v":0},0,"No FF",{"$f":"SUMPRODUCT((Projects!$A$5:$A$2413='Local Detail'!$M$3)*(Projects!$K$5:$K$2413=0)*(Projects!$C$5:$C$2413<>'MDOT FTA Detail'!$C$4)*(Projects!$N$5:$N$2413='Local Detail'!$A133)*(Projects!$J$5:$J$2413<>'Local Detail'!$A$147)*(Projects!$M$5:$M$2413))","v":0},0]
["MTB","Turnback Program","Local Non-Federal","No FF",{"$f":"SUMPRODUCT((Projects!$A$5:$A$2413='Local Detail'!$D$3)*(Projects!$K$5:$K$2413=0)*(Projects!$C$5:$C$2413<>'MDOT FTA Detail'!$C$4)*(Projects!$N$5:$N$2413='Local Detail'!$A134)*(Projects!$J$5:$J$2413<>'Local Detail'!$A$147)*(Projects!$M$5:$M$2413))","v":0},0,"No FF",{"$f":"SUMPRODUCT((Projects!$A$5:$A$2413='Local Detail'!$G$3)*(Projects!$K$5:$K$2413=0)*(Projects!$C$5:$C$2413<>'MDOT FTA Detail'!$C$4)*(Projects!$N$5:$N$2413='Local Detail'!$A134)*(Projects!$J$5:$J$2413<>'Local Detail'!$A$147)*(Projects!$M$5:$M$2413))","v":0},0,"No FF",{"$f":"SUMPRODUCT((Projects!$A$5:$A$2413='Local Detail'!$J$3)*(Projects!$K$5:$K$2413=0)*(Projects!$C$5:$C$2413<>'MDOT FTA Detail'!$C$4)*(Projects!$N$5:$N$2413='Local Detail'!$A134)*(Projects!$J$5:$J$2413<>'Local Detail'!$A$147)*(Projects!$M$5:$M$2413))","v":0},0,"No FF",{"$f":"SUMPRODUCT((Projects!$A$5:$A$2413='Local Detail'!$M$3)*(Projects!$K$5:$K$2413=0)*(Projects!$C$5:$C$2413<>'MDOT FTA Detail'!$C$4)*(Projects!$N$5:$N$2413='Local Detail'!$A134)*(Projects!$J$5:$J$2413<>'Local Detail'!$A$147)*(Projects!$M$5:$M$2413))","v":0},0]
["PRIP","Priority Roads Investment Program","Local Non-Federal","No FF",{"$f":"SUMPRODUCT((Projects!$A$5:$A$2413='Local Detail'!$D$3)*(Projects!$K$5:$K$2413=0)*(Projects!$C$5:$C$2413<>'MDOT FTA Detail'!$C$4)*(Projects!$N$5:$N$2413='Local Detail'!$A135)*(Projects!$J$5:$J$2413<>'Local Detail'!$A$147)*(Projects!$M$5:$M$2413))","v":0},{"$f":"E135","v":0},"No FF",{"$f":"SUMPRODUCT((Projects!$A$5:$A$2413='Local Detail'!$G$3)*(Projects!$K$5:$K$2413=0)*(Projects!$C$5:$C$2413<>'MDOT FTA Detail'!$C$4)*(Projects!$N$5:$N$2413='Local Detail'!$A135)*(Projects!$J$5:$J$2413<>'Local Detail'!$A$147)*(Projects!$M$5:$M$2413))","v":0},{"$f":"H135","v":0},"No FF",{"$f":"SUMPRODUCT((Projects!$A$5:$A$2413='Local Detail'!$J$3)*(Projects!$K$5:$K$2413=0)*(Projects!$C$5:$C$2413<>'MDOT FTA Detail'!$C$4)*(Projects!$N$5:$N$2413='Local Detail'!$A135)*(Projects!$J$5:$J$2413<>'Local Detail'!$A$147)*(Projects!$M$5:$M$2413))","v":0},{"$f":"K135","v":0},"No FF",{"$f":"SUMPRODUCT((Projects!$A$5:$A$2413='Local Detail'!$M$3)*(Projects!$K$5:$K$2413=0)*(Projects!$C$5:$C$2413<>'MDOT FTA Detail'!$C$4)*(Projects!$N$5:$N$2413='Local Detail'!$A135)*(Projects!$J$5:$J$2413<>'Local Detail'!$A$147)*(Projects!$M$5:$M$2413))","v":0},{"$f":"N135","v":0}]
["RRRF","Michigan Road and Risk Reserver Funds","Local Non-Federal","No FF",{"$f":"SUMPRODUCT((Projects!$A$5:$A$2413='Local Detail'!$D$3)*(Projects!$K$5:$K$2413=0)*(Projects!$C$5:$C$2413<>'MDOT FTA Detail'!$C$4)*(Projects!$N$5:$N$2413='Local Detail'!$A136)*(Projects!$J$5:$J$2413<>'Local Detail'!$A$147)*(Projects!$M$5:$M$2413))","v":0},{"$f":"E136","v":0},"No FF",{"$f":"SUMPRODUCT((Projects!$A$5:$A$2413='Local Detail'!$G$3)*(Projects!$K$5:$K$2413=0)*(Projects!$C$5:$C$2413<>'MDOT FTA Detail'!$C$4)*(Projects!$N$5:$N$2413='Local Detail'!$A136)*(Projects!$J$5:$J$2413<>'Local Detail'!$A$147)*(Projects!$M$5:$M$2413))","v":0},{"$f":"H136","v":0},"No FF",{"$f":"SUMPRODUCT((Projects!$A$5:$A$2413='Local Detail'!$J$3)*(Projects!$K$5:$K$2413=0)*(Projects!$C$5:$C$2413<>'MDOT FTA Detail'!$C$4)*(Projects!$N$5:$N$2413='Local Detail'!$A136)*(Projects!$J$5:$J$2413<>'Local Detail'!$A$147)*(Projects!$M$5:$M$2413))","v":0},{"$f":"K136","v":0},"No FF",{"$f":"SUMPRODUCT((Projects!$A$5:$A$2413='Local Detail'!$M$3)*(Projects!$K$5:$K$2413=0)*(Projects!$C$5:$C$2413<>'MDOT FTA Detail'!$C$4)*(Projects!$N$5:$N$2413='Local Detail'!$A136)*(Projects!$J$5:$J$2413<>'Local Detail'!$A$147)*(Projects!$M$5:$M$2413))","v":0},{"$f":"N136","v":0}]
["SIBG","100% State Infrastructure Bank","Local Non-Federal","No FF",{"$f":"SUMPRODUCT((Projects!$A$5:$A$2413='Local Detail'!$D$3)*(Projects!$K$5:$K$2413=0)*(Projects!$C$5:$C$2413<>'MDOT FTA Detail'!$C$4)*(Projects!$N$5:$N$2413='Local Detail'!$A137)*(Projects!$J$5:$J$2413<>'Local Detail'!$A$147)*(Projects!$M$5:$M$2413))","v":0},0,"No FF",{"$f":"SUMPRODUCT((Projects!$A$5:$A$2413='Local Detail'!$G$3)*(Projects!$K$5:$K$2413=0)*(Projects!$C$5:$C$2413<>'MDOT FTA Detail'!$C$4)*(Projects!$N$5:$N$2413='Local Detail'!$A137)*(Projects!$J$5:$J$2413<>'Local Detail'!$A$147)*(Projects!$M$5:$M$2413))","v":0},0,"No FF",{"$f":"SUMPRODUCT((Projects!$A$5:$A$2413='Local Detail'!$J$3)*(Projects!$K$5:$K$2413=0)*(Projects!$C$5:$C$2413<>'MDOT FTA Detail'!$C$4)*(Projects!$N$5:$N$2413='Local Detail'!$A137)*(Projects!$J$5:$J$2413<>'Local Detail'!$A$147)*(Projects!$M$5:$M$2413))","v":0},0,"No FF",{"$f":"SUMPRODUCT((Projects!$A$5:$A$2413='Local Detail'!$M$3)*(Projects!$K$5:$K$2413=0)*(Projects!$C$5:$C$2413<>'MDOT FTA Detail'!$C$4)*(Projects!$N$5:$N$2413='Local Detail'!$A137)*(Projects!$J$5:$J$2413<>'Local Detail'!$A$147)*(Projects!$M$5:$M$2413))","v":0},0]
["CITY","Local - City (Specify city in Comments)","Local Non-Federal","No FF",{"$f":"SUMPRODUCT((Projects!$A$5:$A$2413='Local Detail'!$D$3)*(Projects!$K$5:$K$2413=0)*(Projects!$C$5:$C$2413<>'MDOT FTA Detail'!$C$4)*(Projects!$P$5:$P$2413='Local Detail'!$A138)*(Projects!$J$5:$J$2413<>'Local Detail'!$A$147)*(Projects!$O$5:$O$2413))","v":0},0,"No FF",{"$f":"SUMPRODUCT((Projects!$A$5:$A$2413='Local Detail'!$G$3)*(Projects!$K$5:$K$2413=0)*(Projects!$C$5:$C$2413<>'MDOT FTA Detail'!$C$4)*(Projects!$P$5:$P$2413='Local Detail'!$A138)*(Projects!$N$5:$N$2413<>'Local Detail'!$A$110)*(Projects!$J$5:$J$2413<>'Local Detail'!$A$147)*(Projects!$O$5:$O$2413))","v":0},{"$f":"H138","v":0},"No FF",{"$f":"SUMPRODUCT((Projects!$A$5:$A$2413='Local Detail'!$J$3)*(Projects!$K$5:$K$2413=0)*(Projects!$C$5:$C$2413<>'MDOT FTA Detail'!$C$4)*(Projects!$P$5:$P$2413='Local Detail'!$A138)*(Projects!$N$5:$N$2413<>'Local Detail'!$A$110)*(Projects!$J$5:$J$2413<>'Local Detail'!$A$147)*(Projects!$O$5:$O$2413))","v":0},0,"No FF",{"$f":"SUMPRODUCT((Projects!$A$5:$A$2413='Local Detail'!$M$3)*(Projects!$K$5:$K$2413=0)*(Projects!$C$5:$C$2413<>'MDOT FTA Detail'!$C$4)*(Projects!$P$5:$P$2413='Local Detail'!$A138)*(Projects!$N$5:$N$2413<>'Local Detail'!$A$110)*(Projects!$J$5:$J$2413<>'Local Detail'!$A$147)*(Projects!$O$5:$O$2413))","v":0},0]
["CANX","Canadian Bridge Funds","Local Non-Federal","No FF",{"$f":"SUMPRODUCT((Projects!$A$5:$A$2413='Local Detail'!$D$3)*(Projects!$K$5:$K$2413=0)*(Projects!$C$5:$C$2413<>'MDOT FTA Detail'!$C$4)*(Projects!$P$5:$P$2413='Local Detail'!$A139)*(Projects!$J$5:$J$2413<>'Local Detail'!$A$147)*(Projects!$O$5:$O$2413))","v":0},{"$f":"E139","v":0},"No FF",{"$f":"SUMPRODUCT((Projects!$A$5:$A$2413='Local Detail'!$G$3)*(Projects!$K$5:$K$2413=0)*(Projects!$C$5:$C$2413<>'MDOT FTA Detail'!$C$4)*(Projects!$P$5:$P$2413='Local Detail'!$A139)*(Projects!$J$5:$J$2413<>'Local Detail'!$A$147)*(Projects!$O$5:$O$2413))","v":0},{"$f":"H139","v":0},"No FF",{"$f":"SUMPRODUCT((Projects!$A$5:$A$2413='Local Detail'!$J$3)*(Projects!$K$5:$K$2413=0)*(Projects!$C$5:$C$2413<>'MDOT FTA Detail'!$C$4)*(Projects!$P$5:$P$2413='Local Detail'!$A139)*(Projects!$J$5:$J$2413<>'Local Detail'!$A$147)*(Projects!$O$5:$O$2413))","v":0},{"$f":"K139","v":0},"No FF",{"$f":"SUMPRODUCT((Projects!$A$5:$A$2413='Local Detail'!$M$3)*(Projects!$K$5:$K$2413=0)*(Projects!$C$5:$C$2413<>'MDOT FTA Detail'!$C$4)*(Projects!$P$5:$P$2413='Local Detail'!$A139)*(Projects!$J$5:$J$2413<>'Local Detail'!$A$147)*(Projects!$O$5:$O$2413))","v":0},{"$f":"N139","v":0}]
["CNTY","Local - County (Specify county in Comments) ","Local Non-Federal","No FF",{"$f":"SUMPRODUCT((Projects!$A$5:$A$2413='Local Detail'!$D$3)*(Projects!$K$5:$K$2413=0)*(Projects!$C$5:$C$2413<>'MDOT FTA Detail'!$C$4)*(Projects!$P$5:$P$2413='Local Detail'!$A140)*(Projects!$J$5:$J$2413<>'Local Detail'!$A$147)*(Projects!$O$5:$O$2413))","v":0},0,"No FF",{"$f":"SUMPRODUCT((Projects!$A$5:$A$2413='Local Detail'!$G$3)*(Projects!$K$5:$K$2413=0)*(Projects!$C$5:$C$2413<>'MDOT FTA Detail'!$C$4)*(Projects!$P$5:$P$2413='Local Detail'!$A140)*(Projects!$N$5:$N$2413<>'Local Detail'!$A$110)*(Projects!$J$5:$J$2413<>'Local Detail'!$A$147)*(Projects!$O$5:$O$2413))","v":0},0,"No FF",{"$f":"SUMPRODUCT((Projects!$A$5:$A$2413='Local Detail'!$J$3)*(Projects!$K$5:$K$2413=0)*(Projects!$C$5:$C$2413<>'MDOT FTA Detail'!$C$4)*(Projects!$P$5:$P$2413='Local Detail'!$A140)*(Projects!$N$5:$N$2413<>'Local Detail'!$A$110)*(Projects!$J$5:$J$2413<>'Local Detail'!$A$147)*(Projects!$O$5:$O$2413))","v":0},0,"No FF",{"$f":"SUMPRODUCT((Projects!$A$5:$A$2413='Local Detail'!$M$3)*(Projects!$K$5:$K$2413=0)*(Projects!$C$5:$C$2413<>'MDOT FTA Detail'!$C$4)*(Projects!$P$5:$P$2413='Local Detail'!$A140)*(Projects!$N$5:$N$2413<>'Local Detail'!$A$110)*(Projects!$J$5:$J$2413<>'Local Detail'!$A$147)*(Projects!$O$5:$O$2413))","v":0},0]
["OLF","Other Local Funds (Specify local fund source in Comments) ","Local Non-Federal","No FF",{"$f":"SUMPRODUCT((Projects!$A$5:$A$2413='Local Detail'!$D$3)*(Projects!$K$5:$K$2413=0)*(Projects!$C$5:$C$2413<>'MDOT FTA Detail'!$C$4)*(Projects!$P$5:$P$2413='Local Detail'!$A141)*(Projects!$J$5:$J$2413<>'Local Detail'!$A$147)*(Projects!$O$5:$O$2413))","v":0},0,"No FF",{"$f":"SUMPRODUCT((Projects!$A$5:$A$2413='Local Detail'!$G$3)*(Projects!$K$5:$K$2413=0)*(Projects!$C$5:$C$2413<>'MDOT FTA Detail'!$C$4)*(Projects!$P$5:$P$2413='Local Detail'!$A141)*(Projects!$N$5:$N$2413<>'Local Detail'!$A$110)*(Projects!$J$5:$J$2413<>'Local Detail'!$A$147)*(Projects!$O$5:$O$2413))","v":0},{"$f":"H141","v":0},"No FF",{"$f":"SUMPRODUCT((Projects!$A$5:$A$2413='Local Detail'!$J$3)*(Projects!$K$5:$K$2413=0)*(Projects!$C$5:$C$2413<>'MDOT FTA Detail'!$C$4)*(Projects!$P$5:$P$2413='Local Detail'!$A141)*(Projects!$N$5:$N$2413<>'Local Detail'!$A$110)*(Projects!$J$5:$J$2413<>'Local Detail'!$A$147)*(Projects!$O$5:$O$2413))","v":0},0,"No FF",{"$f":"SUMPRODUCT((Projects!$A$5:$A$2413='Local Detail'!$M$3)*(Projects!$K$5:$K$2413=0)*(Projects!$C$5:$C$2413<>'MDOT FTA Detail'!$C$4)*(Projects!$P$5:$P$2413='Local Detail'!$A141)*(Projects!$N$5:$N$2413<>'Local Detail'!$A$110)*(Projects!$J$5:$J$2413<>'Local Detail'!$A$147)*(Projects!$O$5:$O$2413))","v":0},0]
["PRVT","Private (Non-governmental)","Local Non-Federal","No FF",{"$f":"SUMPRODUCT((Projects!$A$5:$A$2413='Local Detail'!$D$3)*(Projects!$K$5:$K$2413=0)*(Projects!$C$5:$C$2413<>'MDOT FTA Detail'!$C$4)*(Projects!$P$5:$P$2413='Local Detail'!$A142)*(Projects!$J$5:$J$2413<>'Local Detail'!$A$147)*(Projects!$O$5:$O$2413))","v":0},0,"No FF",{"$f":"SUMPRODUCT((Projects!$A$5:$A$2413='Local Detail'!$G$3)*(Projects!$K$5:$K$2413=0)*(Projects!$C$5:$C$2413<>'MDOT FTA Detail'!$C$4)*(Projects!$P$5:$P$2413='Local Detail'!$A142)*(Projects!$N$5:$N$2413<>'Local Detail'!$A$110)*(Projects!$J$5:$J$2413<>'Local Detail'!$A$147)*(Projects!$O$5:$O$2413))","v":0},0,"No FF",{"$f":"SUMPRODUCT((Projects!$A$5:$A$2413='Local Detail'!$J$3)*(Projects!$K$5:$K$2413=0)*(Projects!$C$5:$C$2413<>'MDOT FTA Detail'!$C$4)*(Projects!$P$5:$P$2413='Local Detail'!$A142)*(Projects!$N$5:$N$2413<>'Local Detail'!$A$110)*(Projects!$J$5:$J$2413<>'Local Detail'!$A$147)*(Projects!$O$5:$O$2413))","v":0},0,"No FF",{"$f":"SUMPRODUCT((Projects!$A$5:$A$2413='Local Detail'!$M$3)*(Projects!$K$5:$K$2413=0)*(Projects!$C$5:$C$2413<>'MDOT FTA Detail'!$C$4)*(Projects!$P$5:$P$2413='Local Detail'!$A142)*(Projects!$N$5:$N$2413<>'Local Detail'!$A$110)*(Projects!$J$5:$J$2413<>'Local Detail'!$A$147)*(Projects!$O$5:$O$2413))","v":0},0]
["TRAL","Local - Transit Authority Funds (Specify transit authority in Comments)","Local Non-Federal","No FF",{"$f":"SUMPRODUCT((Projects!$A$5:$A$2413='Local Detail'!$D$3)*(Projects!$K$5:$K$2413=0)*(Projects!$C$5:$C$2413<>'MDOT FTA Detail'!$C$4)*(Projects!$P$5:$P$2413='Local Detail'!$A143)*(Projects!$J$5:$J$2413<>'Local Detail'!$A$147)*(Projects!$O$5:$O$2413))","v":0},0,"No FF",{"$f":"SUMPRODUCT((Projects!$A$5:$A$2413='Local Detail'!$G$3)*(Projects!$K$5:$K$2413=0)*(Projects!$C$5:$C$2413<>'MDOT FTA Detail'!$C$4)*(Projects!$P$5:$P$2413='Local Detail'!$A143)*(Projects!$N$5:$N$2413<>'Local Detail'!$A$110)*(Projects!$J$5:$J$2413<>'Local Detail'!$A$147)*(Projects!$O$5:$O$2413))","v":0},0,"No FF",{"$f":"SUMPRODUCT((Projects!$A$5:$A$2413='Local Detail'!$J$3)*(Projects!$K$5:$K$2413=0)*(Projects!$C$5:$C$2413<>'MDOT FTA Detail'!$C$4)*(Projects!$P$5:$P$2413='Local Detail'!$A143)*(Projects!$N$5:$N$2413<>'Local Detail'!$A$110)*(Projects!$J$5:$J$2413<>'Local Detail'!$A$147)*(Projects!$O$5:$O$2413))","v":0},0,"No FF",{"$f":"SUMPRODUCT((Projects!$A$5:$A$2413='Local Detail'!$M$3)*(Projects!$K$5:$K$2413=0)*(Projects!$C$5:$C$2413<>'MDOT FTA Detail'!$C$4)*(Projects!$P$5:$P$2413='Local Detail'!$A143)*(Projects!$N$5:$N$2413<>'Local Detail'!$A$110)*(Projects!$J$5:$J$2413<>'Local Detail'!$A$147)*(Projects!$O$5:$O$2413))","v":0},0]
["TWP","Local - Township (Specify township in Comments)","Local Non-Federal","No FF",{"$f":"SUMPRODUCT((Projects!$A$5:$A$2413='Local Detail'!$D$3)*(Projects!$K$5:$K$2413=0)*(Projects!$C$5:$C$2413<>'MDOT FTA Detail'!$C$4)*(Projects!$P$5:$P$2413='Local Detail'!$A144)*(Projects!$J$5:$J$2413<>'Local Detail'!$A$147)*(Projects!$O$5:$O$2413))","v":0},0,"No FF",{"$f":"SUMPRODUCT((Projects!$A$5:$A$2413='Local Detail'!$G$3)*(Projects!$K$5:$K$2413=0)*(Projects!$C$5:$C$2413<>'MDOT FTA Detail'!$C$4)*(Projects!$P$5:$P$2413='Local Detail'!$A144)*(Projects!$N$5:$N$2413<>'Local Detail'!$A$110)*(Projects!$J$5:$J$2413<>'Local Detail'!$A$147)*(Projects!$O$5:$O$2413))","v":0},0,"No FF",{"$f":"SUMPRODUCT((Projects!$A$5:$A$2413='Local Detail'!$J$3)*(Projects!$K$5:$K$2413=0)*(Projects!$C$5:$C$2413<>'MDOT FTA Detail'!$C$4)*(Projects!$P$5:$P$2413='Local Detail'!$A144)*(Projects!$N$5:$N$2413<>'Local Detail'!$A$110)*(Projects!$J$5:$J$2413<>'Local Detail'!$A$147)*(Projects!$O$5:$O$2413))","v":0},0,"No FF",{"$f":"SUMPRODUCT((Projects!$A$5:$A$2413='Local Detail'!$M$3)*(Projects!$K$5:$K$2413=0)*(Projects!$C$5:$C$2413<>'MDOT FTA Detail'!$C$4)*(Projects!$P$5:$P$2413='Local Detail'!$A144)*(Projects!$N$5:$N$2413<>'Local Detail'!$A$110)*(Projects!$J$5:$J$2413<>'Local Detail'!$A$147)*(Projects!$O$5:$O$2413))","v":0},0]
["VLG","Local - Village (Specify village in Comments)","Local Non-Federal","No FF",{"$f":"SUMPRODUCT((Projects!$A$5:$A$2413='Local Detail'!$D$3)*(Projects!$K$5:$K$2413=0)*(Projects!$C$5:$C$2413<>'MDOT FTA Detail'!$C$4)*(Projects!$P$5:$P$2413='Local Detail'!$A145)*(Projects!$J$5:$J$2413<>'Local Detail'!$A$147)*(Projects!$O$5:$O$2413))","v":0},0,"No FF",{"$f":"SUMPRODUCT((Projects!$A$5:$A$2413='Local Detail'!$G$3)*(Projects!$K$5:$K$2413=0)*(Projects!$C$5:$C$2413<>'MDOT FTA Detail'!$C$4)*(Projects!$P$5:$P$2413='Local Detail'!$A145)*(Projects!$N$5:$N$2413<>'Local Detail'!$A$110)*(Projects!$J$5:$J$2413<>'Local Detail'!$A$147)*(Projects!$O$5:$O$2413))","v":0},0,"No FF",{"$f":"SUMPRODUCT((Projects!$A$5:$A$2413='Local Detail'!$J$3)*(Projects!$K$5:$K$2413=0)*(Projects!$C$5:$C$2413<>'MDOT FTA Detail'!$C$4)*(Projects!$P$5:$P$2413='Local Detail'!$A145)*(Projects!$N$5:$N$2413<>'Local Detail'!$A$110)*(Projects!$J$5:$J$2413<>'Local Detail'!$A$147)*(Projects!$O$5:$O$2413))","v":0},0,"No FF",{"$f":"SUMPRODUCT((Projects!$A$5:$A$2413='Local Detail'!$M$3)*(Projects!$K$5:$K$2413=0)*(Projects!$C$5:$C$2413<>'MDOT FTA Detail'!$C$4)*(Projects!$P$5:$P$2413='Local Detail'!$A145)*(Projects!$N$5:$N$2413<>'Local Detail'!$A$110)*(Projects!$J$5:$J$2413<>'Local Detail'!$A$147)*(Projects!$O$5:$O$2413))","v":0},0]
[]
["AC","Local AC Projects","Local AC","No FF",{"$f":"((SUMPRODUCT((Projects!$A$5:$A$2413='Local Detail'!$D$3)*(Projects!$C$5:$C$2413<>'MDOT FTA Detail'!$C$4)*(Projects!$J$5:$J$2413='Local Detail'!$A$147)*(Projects!$M$5:$M$2413)))+(SUMPRODUCT((Projects!$A$5:$A$2413='Local Detail'!$D$3)*(Projects!$C$5:$C$2413<>'MDOT FTA Detail'!$C$4)*(Projects!$J$5:$J$2413='Local Detail'!$A$147)*(Projects!$O$5:$O$2413))))","v":0},{"$f":"E147","v":0},"No FF",{"$f":"((SUMPRODUCT((Projects!$A$5:$A$2413='Local Detail'!$G$3)*(Projects!$C$5:$C$2413<>'MDOT FTA Detail'!$C$4)*(Projects!$J$5:$J$2413='Local Detail'!$A$147)*(Projects!$M$5:$M$2413)))+(SUMPRODUCT((Projects!$A$5:$A$2413='Local Detail'!$G$3)*(Projects!$C$5:$C$2413<>'MDOT FTA Detail'!$C$4)*(Projects!$J$5:$J$2413='Local Detail'!$A$147)*(Projects!$O$5:$O$2413))))","v":68918},{"$f":"H147","v":68918},"No FF",{"$f":"((SUMPRODUCT((Projects!$A$5:$A$2413='Local Detail'!$J$3)*(Projects!$C$5:$C$2413<>'MDOT FTA Detail'!$C$4)*(Projects!$J$5:$J$2413='Local Detail'!$A$147)*(Projects!$M$5:$M$2413)))+(SUMPRODUCT((Projects!$A$5:$A$2413='Local Detail'!$J$3)*(Projects!$C$5:$C$2413<>'MDOT FTA Detail'!$C$4)*(Projects!$J$5:$J$2413='Local Detail'!$A$147)*(Projects!$O$5:$O$2413))))","v":79732},{"$f":"K147","v":79732},"No FF",{"$f":"((SUMPRODUCT((Projects!$A$5:$A$2413='Local Detail'!$M$3)*(Projects!$C$5:$C$2413<>'MDOT FTA Detail'!$C$4)*(Projects!$J$5:$J$2413='Local Detail'!$A$147)*(Projects!$M$5:$M$2413)))+(SUMPRODUCT((Projects!$A$5:$A$2413='Local Detail'!$M$3)*(Projects!$C$5:$C$2413<>'MDOT FTA Detail'!$C$4)*(Projects!$J$5:$J$2413='Local Detail'!$A$147)*(Projects!$O$5:$O$2413))))","v":0},{"$f":"N147","v":0}]

{"sheet":"Codes","index":13,"n_rows":221,"n_cols":4,"rows_kept":221,"cut":false,"hidden":false,"merged":[]}
[null,"Fund Sources"]
["BHI","Bridge Rehabilitation - Prior 1991 - Interstate","Federal"]
["BHN","Bridge Rehabilitation - National Highway System (NHS)","Federal"]
["BHO","Bridge Rehabilitation - Not Classified, Off System","Federal"]
["BHT","Bridge Rehabilitation - Surface Transportation Program (STP)","Federal"]
["BI08","Build Michigan FY08","Federal"]
["BO","Bridge Not Classified Off System","Federal","2012-12-14"]
["BOWD","Business Opportunity & Workforce Development Center","Federal"]
["BRI","Bridge Replacement - Pre 1991 Interstate","Federal"]
["BRN","Bridge Replacement - National Highway System (NHS)","Federal"]
["BRO","Bridge Replacement - Not Classified, Off System","Federal"]
["BRT","Bridge Replacement - Surface Transportation Program (STP)","Federal"]
["CANX","Canadian Bridge Funds",null,"2013-05-15"]
["CBCD","Corridor & Border Crossing Discretionary","Federal"]
["CBIP","Coordinated Border Infrastructure Program - SAFETEA-LU","Federal"]
["CM","Congestion Mitigation & Air Quality","Federal"]
["CMG","Congestion Mitigation & Air Quality - 100% Federal","Federal"]
["CPM","Congestion Mititagion & Air Quality for PM 2.5 Emissions","Federal"]
["CPMG","Congestion Mititagion & Air Quality for PM 2.5 Emissions - 100% Federal","Federal"]
["D129","Demonstration for Surface Transportation  - Section 129","Federal"]
["DIG","ISTEA Demonstration 100% Federal on Interstate","Federal"]
["DOG","ISTEA Demonstration 100% Federal Not Classified","Federal"]
["DPN","ISTEA Demonstration 80% Federal on NHS","Federal"]
["DPO","ISTEA Demonstration 80% Federal Not Classified","Federal"]
["DPS","ISTEA Demonstration 80% Federal on STP","Federal"]
["DPSA","Demonstration Project Section 112 Division A","Federal"]
["DST","Donor Bonus Surface Transportation","Federal"]
["DSTU","Donor Bonus Surface Transportation - (Urban > 200,000)","Federal"]
["DSTT","Donor Bonus Surface Transportation - Rural - Trunkline","Federal"]
["EBSL","Equity Bonus - SAFETEA-LU","Federal"]
["EDAF","Economic Development - Category A with Federal Aid","Federal"]
["EDCF","Economic Development - Category C with Federal Aid","Federal"]
["EDDF","Economic Development - Category D with Federal Aid","Federal"]
["EDFF","Economic Development - Category F with Federal Aid","Federal"]
["ER","Emergency Relief","Federal"]
["FBD","Ferry Boat & Terminal Discretionary","Federal"]
["FFH","Federal Forest Highway","Federal"]
["FLH","Federal Land Highways - Public Lands","Federal"]
["HBOA","Highway Bridge Obligation  Authority","Federal"]
["HPP","High Priority Projects (Demo)","Federal"]
["HPSL","High Priority Projects - SAFETEA-LU","Federal"]
["HRRR","High Risk Rural Roads - SAFETEA-LU","Federal"]
["HSG","High Speed Raix Crossings - 100% Federal","Federal"]
["HSIP","Highway Safety Improvement Program - SAFETEA-LU","Federal"]
["IM","Interstate Maintenance - No Added Lanes","Federal"]
["IMD","Interstate Maintenance Discretionary","Federal"]
["IMG","Interstate Maintenance - Safety - 100% Federal","Federal"]
["ITS","Intelligent Transportation Systems","Federal"]
["JST","85% Minimum Floor Surface Transportation","Federal"]
["JSTU","85% Minimum Floor Surface Transportation (Urban Area > 200,000)","Federal"]
["LTA","Local Technical Assistance Program","Federal"]
["MG","Minimum Guarantee","Federal"]
["NCII","National Corridor Infrastructure Improvement - SAFETEA-LU","Federal"]
["NH","National Highway System","Federal"]
["NHG","National Highway System - Safety - 100% Federal","Federal"]
["NHI","National Highway Funds on I (Does not Qualify for I)","Federal"]
["NHIM","National Highway Funds on I (Qualifies for IM)","Federal"]
["NHS","National Highway System - MDOT Safety Program","Federal"]
["NRT","National Recreational Trails","Federal"]
["OFHWA","Other FHWA Funds (Specify source in Comments)","Federal"]
["PNRS","Projects of National and Regional Significance","Federal"]
["PRIP","Priority Roads Investment Program","PRIP"]
["RP","Research Project","Federal"]
["RPH","American Recovery and Reinvestment Act","Federal"]
["SBD","Scenic Byways - Discretionary","Federal"]
["SIB","State Infrastructure Bank","Federal"]
["SLG","Surface Transportation Safety","Federal"]
["SRHG","Surface Transportation Safety Highway Crossing Hazard Elimination 100%","Federal","2012-12-14"]
["SRPG","Surface Transportation Safety Highway Crossing Protection Devices 100%","Federal","2012-12-14"]
["SRSE","Safe Routes to School - Either - SAFETEA-LU","Federal"]
["SRSI","Safe Routes to School - Infrastructure - SAFETEA-LU","Federal"]
["SRSN","Safe Routes to School - Non-infrastructure - SAFETEA-LU","Federal"]
["SST","Supportive Services Training","Federal"]
["ST","Surface Transportation Program (STP) - Any Area","Federal"]
["STE","STP - Enhancement","Federal"]
["STG","STP - Safety - 100% Federal for ST","Federal"]
["STH","STP - Safety - Hazard Elimination","Federal"]
["STI","STP - Interstate (90%)","Federal"]
["STL","STP - Local","Federal"]
["STLG","Surface Transportation Safety 100% Fed for STL-Items","Federal","2012-12-14"]
["STR","STP - Safety - Rail-Highway Crossing Protection","Federal"]
["STRG","STP - Safety Rail-Highway & Incentive Payment - 100% Federal","Federal"]
["STRH","Surface Transportation Safety Highway Crossing Hazard Elimination","Federal","2012-12-14"]
["STRP","Surface Transportation Safety Highway Crossing Protection Devices","Federal","2012-12-14"]
["STS","STP - Any Area- MDOT Safety Program","Federal"]
["STT","STP - Trunkline","Federal"]
["STU","STP - Urban Areas > 200,000 Population","Federal"]
["STUG","STP - Urban Areas < 200,000 Population 100%","Federal"]
["STUL","STP - Urban Areas < 200,000 Population","Federal"]
["STUT","STP - Urban Areas < 200,000 Population - Trunkline","Federal"]
["SUG","STP - Safety - 100% Federal for STU","Federal"]
["SUL","Surface Transportation Urban Areas < 200k Population","Federal","2012-12-14"]
["SULG","Surface Transportation Urban Areas < 200k Population 100%","Federal","2012-12-14"]
["TA","Transportation Alternatives Program Flex","Federal","2012-12-14"]
["TAL","Transportation Alternatives Rural","Federal","2012-12-14"]
["TAU","Transportation Alternatives Urban Areas > 200K Population","Federal","2012-12-14"]
["TAUL","Transportation Alternatives Urban Areas < 200K Population","Federal","2012-12-14"]
["TBR","Timber Bridge Fund","Federal"]
["TCP","Tax Compliance Program","Federal"]
["TCSP","Transportation, Community and System Preservation","Federal"]
["TG","Transportation  Grant (100% Fed)","Federal"]
["TGR2","TIGER II Discretionary Grant","Federal","2012-12-14"]
["TGR3","TIGER III Discretionary Grant","Federal","2012-12-14"]
["TIP","Transportation Improvements Projects SAFETEA-LU","Federal","2012-12-14"]
["TPFD","Truck Parking Facilities Discretionary","Federal","2012-12-14"]
["CTF","Comprehensive Transportation Fund","Transit","2014-04-24"]
[3038,"Section 3038 - Over the Road Bus Program","Transit"]
[3045,"Section 3045 - National Fuel Cell Technology Development Program","Transit"]
[5303,"Section 5303 - Metropolitan Transportation Planning","Transit"]
[5304,"Section 5304 - Statewide Transportation Planning","Transit"]
[5305,"Section 5305 - Metropolitan and Statewide Planning","Transit"]
[5307,"Section 5307 - UZA Formula","Transit"]
[5308,"Section 5308 - Clean Fuels Program","Transit"]
[5309,"Section 5309 - Fixed Guideway Capital Investment Grant","Transit"]
[5310,"Section 5310 - Enhanced Mobility of Seniors and Individuals with Disabilities","Transit"]
[5311,"Section 5311 - Non-UZA ","Transit"]
[5312,"Section 5312 - Research, Development, Demonstration, and Deployment","Transit","2013-01-07"]
[5313,"Section 5313 - Transit Cooperative Research Program","Transit"]
[5314,"Section 5314 - Technical Assistance and Standards","Transit"]
[5316,"Section 5316 - Transit - Section 5316 - Job Access/Reverse Commute","Transit"]
[5317,"Section 5317 - Transit - Section 5317 - New Freedom Initiative","Transit"]
[5320,"Section 5320 - Alternative Transportation in Parks and Public Lands","Transit"]
[5322,"Section 5322 - Human Resources and Training","Transit","2013-01-07"]
[5324,"Section 5324 - Emergency Relief","Transit","2013-01-07"]
[5326,"Section 5326 - Asset Management Provisions","Transit","2013-01-07"]
[5329,"Section 5329 - Safety","Transit","2013-01-07"]
[5337,"Section 5337 - State of Good Repair Grants","Transit","2013-01-07"]
[5339,"Section 5339 - Bus and Bus Facilities","Transit"]
[5505,"Section 5505 - University Transportation Centers Program","Transit"]
["BI04","Build Michigan Bond Issue 2004","State"]
["BI06","Build Michigan Bond Issue 2006","State"]
["BI08","Build Michigan Bond Issue 2008","State"]
["BT01","Bond Trunkline Roads for First Issue","State"]
["CANX","Canadian Bridge Funds",null,"2013-05-15"]
["CTF","Comprehensive Transportation Fund","State"]
["EDA","Economic Development - Category A","State"]
["EDC","Economic Development - Category C","State"]
["EDD","Economic Development - Category D","State"]
["EDF","Economic Development - Category F","State"]
["JT07","Jobs Today Bond Issue 2007 GARVEE (State AC for Federal GARVEE Bonds)","State"]
["LFMP","Local Fund Match Program - 100% Local","State"]
["M","State Funds - Michigan Betterment","State"]
["MBS","Michigan Budget Stabilization","State"]
["MBWB","Michigan Blue Water Bridge","State"]
["MCS","State Funds - Critical Structures","State"]
["MDA","Drainage Assessment","State"]
["MER","Emergency Program","State"]
["MIR","State Funds - Institutional Roads","State"]
["MRR","Michigan Railroad","State"]
["MRRF","Michigan Revolving Real Estate Fund","State"]
["MS","Safety Program","State"]
["MTB","Turnback Program","State"]
["PRIP","Priority Roads Investment Program","State"]
["RRRF","Michigan Road and Risk Reserve Funds","State"]
["SIBG","100% State Infrastructure Bank","State"]
["CITY","Local - City (Specify city in Comments)","Local"]
["CANX","Canadian Bridge Funds",null,"2013-05-15"]
["CNTY","Local - County (Specify county in Comments) ","Local"]
["OLF","Other Local Funds (Specify local fund source in Comments) ","Local"]
["PRVT","Private (Non-governmental)","Local"]
["TRAL","Local - Transit Authority Funds (Specify transit authority in Comments)","Local"]
["TWP","Local - Township (Specify township in Comments)","Local"]
["VLG","Local - Village (Specify village in Comments)","Local"]
[]
[null,"Primary Work Types"]
[null,"Bridge - other","Surface Transportation"]
[null,"Bridge replacement","Surface Transportation"]
[null,"Bridge restore & rehabilitate","Surface Transportation"]
[null,"New route/structure (capacity increase)","Surface Transportation"]
[null,"Reconstruct","Surface Transportation"]
[null,"Restore & rehabilitate","Surface Transportation"]
[null,"Resurface","Surface Transportation"]
[null,"Roadside facility","Surface Transportation"]
[null,"Traffic ops/safety","Surface Transportation"]
[null,"Widen - major (capacity increase)","Surface Transportation"]
[null,"Widen - minor","Surface Transportation"]
[null,"Transit","Transit"]
[null,"Transit capital","Transit"]
[null,"Transit communication equipment","Transit"]
[null,"Transit facility","Transit"]
[null,"Transit maintenance equipment and parts","Transit"]
[null,"Transit operations","Transit"]
[null,"Transit operations equipment","Transit"]
[null,"Transit vehicle additions/replacements","Transit"]
[null,"Transit vehicle rehabilitation","Transit"]
[null,"Aviation","Miscellaneous"]
[null,"GPA ","Miscellaneous"]
[null,"Heritage routes","Miscellaneous"]
[null,"Intermodal/multimodal","Miscellaneous"]
[null,"Marine/port","Miscellaneous"]
[null,"Miscellaneous","Miscellaneous"]
[null,"Planning and research","Miscellaneous"]
[null,"Rail","Miscellaneous"]
[null,"Studies","Miscellaneous"]
[null,"Wetland mitigation","Miscellaneous"]
[]
[]
[]
[]
[null,"Amendment Type"]
[null,"Add"]
[null,"Delete"]
[null,"Cost"]
[null,"Scope"]
[null,"Year"]
[]
[]
[]
[]
[null,"Phase"]
[]
[null,"EPE"]
[null,"PE"]
[null,"ROW"]
[null,"CON"]
[null,"T-Cap"]
[null,"T-Ops"]
[null,"SUB"]
[null,"UTL"]
[null,"OP"]
[null,"CAP"]

{"sheet":"Other Acronyms","index":14,"n_rows":41,"n_cols":2,"rows_kept":41,"cut":false,"hidden":false,"merged":[]}
["Acronym","Definition"]
["ADA","Americans with Disabilities Act"]
["ART","Apprenticeship Readiness Training"]
["BACEP","Bonding and Access to Capital Education Program"]
["C & S","Crush and Shape"]
["C & T","Construction and Technology"]
["CCTV","Closed Circuit Television"]
["CPM","Capital Prevenitve Maintenance"]
["CSM","Capital Scheduled Maintenance"]
["DBE","Disadvantaged Business Enterprises"]
["ESS","Environmental Sensing Stations"]
["FSU","Ferris State University"]
["FTA","Federal Transit Authority"]
["GPA","General Program Account"]
["HMA","Hot-Mix Asphalt"]
["ITS","Intelligent Transportation System"]
["LED","Light Emitting Diode"]
["LTAP","Local Technical Assistance Program"]
["MERL","Michigan Engineer's Resource Library"]
["MICCD","Michigan Construction Career Days"]
["MTU","Michigan Technological University"]
["NB","Northbound"]
["Non-UZA","Non-Urbanized Area"]
["NPS","National Park Service"]
["NSTI","National Summer Transportation Institute"]
["OHR","Office of Human Resources"]
["OJT","On the Job Training"]
["PEL","Planning and Environmental Linkage"]
["PITWS","Portable Intermittent Truck Weigh Stations"]
["RCAR","Road Construction Apprenticeship Readiness"]
["RCWD","Road Construction Work Force Development"]
["RTAP","Rural Transit Assistance Program"]
["RTF","Rural Task Force"]
["RWIS","Road Weather Information System"]
["SB","Southbound"]
["SRTS","Safe Routes to School"]
["SS","Support Services"]
["STOC","Statewide Operations Center"]
["TRAC","Training and Civil Engineering Pipeline"]
["Y Achievers","Young Achievers"]
["YDMP","Youth Development Mentoring Program"]