{"text_format":"1","workbook":"xlsx","n_sheets":11,"sheets":["Projects","FY 2014","FY 2015","FY 2016","FY 2017","Constraint","Illustrative","NonFHWA_NonFTA","MDOT FTA Detail","Local Detail","Codes"],"not_rendered":{"charts":0,"images":0,"macros":1,"external_links":0,"defined_names":22,"comments":0,"pivot_tables":0},"unopened":[],"bounds":{"document_bytes":16777216,"sheet_cells":100000,"rows_first":2000,"rows_last":500,"rows_between":2000,"halvings":0,"cell_chars":16384,"cell_head_chars":4096},"cells_cut":0,"cells_raw":0,"read":"whole","date_system":"1900"}

{"sheet":"Projects","index":0,"n_rows":46,"n_cols":32,"rows_kept":46,"cut":false,"hidden":false,"merged":[[0,0,0,22],[1,0,1,22],[2,30,2,31]]}
["STIP / TIP Report"]
["2013-06-20"]
["Required Fields",null,null,null,null,null,null,null,null,null,null,null,null,null,null,null,null,null,null,null,null,null,null,null,null,"Optional Fields",null,null,null,null,{"$f":"'MDOT FTA Detail'!B1","v":"E-File v. 3.4 (04.26.13)"}]
["Fiscal Year","County","Respon-sible Agency","Project Name","Limits","Length","Primary Work Type","Project Description","Phase","Advance Construct","Federal Cost ($1000s)","Federal Fund Source","State Cost ($1000s)","State Fund Source","Local Cost ($1000s)","Local Fund Source","Total Phase Cost ($1000s)","MDOT Job No.","Local ID No.","MPO/ Rural Action Date","Amend-ment Type","Air Quality","Comments","Total Project Cost ($1000s)","x","Local Priority","EJ","Federal Approval Date ","Capped Federal Cost ($1000s)","Date Obligated","Amount Obligated ($1000s)","Let Date"]
[2014,"Berrien","MDOT","I-94 WB","On I-94 WB from Red Arrow Highway (Exit 16) for 7.4 miles northeasterly to 0.5 miles northeast of Puetz Road. I-94 WB exit and entrance ramps at Exit 16 and Exit 22 extensions.",7.391,"Restore and Rehabilitate","Mill existing and place two course HMA Overlay. Shoulder reconstruction. Median grading, replace or repair all cuvlerts under I-94 WB except 84\" Tanner Creek. Channel excavation of Thornton County Drain. Crown relocation to between center and outside lane. Underdrain installation. Dune grass planting. Ramp accel/decel extensions.","ROW",null,45000,"IM",5000,"M",null,null,{"$f":"SUM(K5+M5+O5)","v":50000},113585,null,"2013-06-17",null,null,"Added to TIP 6/2013",15000000]
[2014,"Berrien","Village of Shoreham","Brown School Road","Lakeshore Drive,east to CSX railroad tracks",0.3,"Reconstruct","Remove extg. road materials; lower subase; install storm sewer, stormwater detention basin; install concrete curb & gutter; install new aggregate base and HMA surface; install sidewalks, mark bike paths on each side.","CON",null,400000,"STUL",null,null,99000,"VLG",{"$f":"SUM(K6+M6+O6)","v":499000},null,null,"2013-06-17",null,null,"Added to TIP 6/2013",520000]
[2014,"Berrien","Berrien County Road Commission","Brown School Road","St. Joseph Township from Cleveland Avenue West to Village of Shoreham",0.3,"Resurface","Resurface and place 5 foot wide paved shoulders.","CON",null,135080,"STUL",null,null,33187,"TWP",168267,null,null,"2013-06-17",null,null,"Added to TIP 6/2013",170000]
[2014,"Berrien","Berrien County Road Commission","Hollywood Road","Hollywood Road: M-63 to 500 feet south of Glenlord; and Palladium Drive: Hollywood Road to 1000 feet west; and Maiden La",1.3,"Restore and Rehabilitate","Restore and rehabilitate","CON","ACC",286444,"STUL",null,null,null,null,286444,null,null,"2013-06-17",null,null,"Added to TIP 6/2013",714416]
[2015,"Berrien","MDOT","I-94","Urban: Empire Road over I-94, 1.7 mile E of Benton Harbor. Rural: Carmody Road over I-94, 2.3 miles E of I-196. County Line Road over I-94, 8.6 miles E of I-196",2.6429999999999998,"Bridge - other","Concrete Shallow overlay, Beam and substructure repair, Paint bearings, Joints, Railing retrofit, and approaches","CON",null,511520,"IM",56836,"M",null,null,{"$f":"SUM(K9+M9+O9)","v":568356},null,null,"2013-06-17",null,null,"Added to TIP 6/2013"]
[2015,"Berrien","MDOT","US-31","at Napier Avenue",0,"Roadside Facilitiy","Carpool Lot Expansion and Resurface","PE",null,8185,"ST",1815,"M",null,null,10000,null,null,"2013-06-17",null,null,"Added to TIP 6/2013"]
[2015,"Berrien","MDOT","I-94","Urban: Empire Road over I-94, 1.7 mile E of Benton Harbor. Rural: Carmody Road over I-94, 2.3 miles E of I-196. County L",2.6,"Bridge - other","Concrete Shallow overlay, Beam and substructure repair, Paint bearings, Joints, Railing retrofit, and approaches.","CON",null,1611593,"IM",179067,"M",null,null,1790660,null,null,"2013-06-17",null,null,"Added to TIP 6/2013"]
[2015,"Berrien","Berrien County Road Commission","Marquette Woods Road ","St. Joseph Ave. East to Roosevelt Rd.",0.5,"Restore and Rehabilitate","Improve the existing pavement section from the existing 22 feet edge to edge to 32 feet wide hot mix asphalt paved section including 8 foot shoulders consisting of 5 feet paved and 3 foot aggregate. Additionally, concrete sidewalks will be completed on both north and south sides or Marquette Woods Road to facilitate all modes of pedestrian traffic.","CON",null,407000,"STUL",null,null,101400,"TWP",508400,null,null,"2013-06-17",null,null,"Added to TIP 6/2013"]
[2015,"Berrien","City of St. Joseph","Botham Avenue ","Botham Avenue - Niles Avenue (M-63) to Morton Avenue",0.3,"Reconstruct","Full reconstruction of Botham Avenue from Niles Road to Morton Avenue. Work is anticipated to include new utilities: storm sewer, sanitary sewer and water main. Existing concrete pavement with curb and gutter will be replaced with HMA pavement and curb and gutter or concrete curb and gutter, dependent upon which option is the most cost effective. Sidewalk ramps will be replaced to meet current standards.","CON","AC",430634,"STUL",null,null,1017200,"CITY",1447834,null,null,"2013-06-17",null,null,"Added to TIP 6/2013"]
[2016,"Berrien","City of St. Joseph","Botham Avenue ","Botham Avenue - Niles Avenue (M-63) to Morton Avenue",0.3,"Reconstruct","Full reconstruction of Botham Avenue from Niles Road to Morton Avenue. Work is anticipated to include new utilities: storm sewer, sanitary sewer and water main. Existing concrete pavement with curb and gutter will be replaced with HMA pavement and curb and gutter or concrete curb and gutter, dependent upon which option is the most cost effective. Sidewalk ramps will be replaced to meet current standards.","CON","ACC",205333,"STUL",null,null,null,null,205333,null,null,"2013-06-17",null,null,"Added to TIP 6/2013"]
[2016,"Berrien","MDOT","I-94 WB","Red Arrow Highway (Exit 16) to I-94 BL (Exit 23)",7.4,"Restore & rehabilitate","Mill Existing and Multiple Course HMA Overlay","CON",null,11655000,"IM",1295000,"M",null,null,12950000,null,null,"2013-06-17",null,null,"Added to TIP 6/2013"]
[2016,"Berrien","MDOT","US-31","at Napier Avenue",0,"Roadside facility","Carpool Lot Expansion and Resurface","CON",null,63025,"ST",13975,"M",null,null,77000,null,null,"2013-06-17",null,null,"Added to TIP 6/2013"]
[2016,"Berrien","Berrien County Road Commission","Shawnee Road ","Jericho to Date",0.5,"Resurface","5 foot wide paved shoulders and resurfacing","CON",null,373658,"STUL",null,null,91066,"TWP",464724,null,null,"2013-06-17",null,null,"Added to TIP 6/2013"]
[2016,"Berrien","City of Benton Harbor","Colfax Avenue ","May St to Britain Ave",0.8,"Resurface","Cold mill and resurface Colfax Avenue from May St to Britain Avenue including ADA ramp replacements and minor drainage improvements.","CON",null,277333,"STUL",null,null,69066,"CITY",346399,null,null,"2013-06-17",null,null,"Added to TIP 6/2013"]
[2017,"Berrien","Berrien County Road Commission","John Beers Road:","Hollywood Road thence West 0.51 Miles to West Township Line",0.5,"Resurface","Resurface existing pavement that already has 4 foot wide paved shoulders.","CON",null,192163,"STUL",null,null,46600,"TWP",238763,null,null,"2013-06-17",null,null,"Added to TIP 6/2013"]
[2017,"Berrien","Berrien County Road Commission","Hilltop Road","M-63 (Niles Road) to BL-94 (Lakeshore Drive)",0.6,"Miscellaneous","Hot patch and micro surface","CON",null,652000,"STUL",null,null,130400,"TWP",782400,null,null,"2013-06-17",null,null,"Added to TIP 6/2013- City of St. Joseph and St. Joseph City will both be contributing towards local match on this project. "]
[2014,"Berrien","Berrien County Transportation (Berrien Bus)","Rural Operating Funds","Rural Portions of TwinCATS MPO Area",0,"Transit Operations","Public Transit Operations","T-Ops",null,26030,5311,26030,"M",null,null,52060,null,null,"2013-06-17",null,null,"Added to TIP 6/2013"]
[2015,"Berrien","Berrien County Transportation (Berrien Bus)","Rural Operating Funds","Rural Portions of TwinCATS MPO Area",0,"Transit Operations","Public Transit Operations","T-Ops",null,26030,5311,26030,"M",null,null,52060,null,null,"2013-06-17",null,null,"Added to TIP 6/2013"]
[2016,"Berrien","Berrien County Transportation (Berrien Bus)","Rural Operating Funds","Rural Portions of TwinCATS MPO Area",0,"Transit Operations","Public Transit Operations","T-Ops",null,26030,5311,26030,"M",null,null,52060,null,null,"2013-06-17",null,null,"Added to TIP 6/2013"]
[2017,"Berrien","Berrien County Transportation (Berrien Bus)","Rural Operating Funds","Rural Portions of TwinCATS MPO Area",0,"Transit Operations","Public Transit Operations","T-Ops",null,26030,5311,26030,"M",null,null,52060,null,null,"2013-06-17",null,null,"Added to TIP 6/2013"]
[2014,"Berrien","TCATA","Public Transportation","Benton Harbor, St. Joseph, Benton Township",0,"Transit operations","Bus operations","T-Ops",null,680000,5307,704343,"CTF",445657,"CITY",1830000,null,null,"2013-06-17",null,null,"Added to TIP 6/2013"]
[2014,"Berrien","TCATA","New Line haul","Benton Harbor, St. Joseph, Benton Township,",0,"Transit operations","It's a commuter route that takes low income passengers to an area that has potentially 70 employees","T-Ops",null,106000,5316,106000,"CTF",null,null,212000,null,null,"2013-06-17",null,null,"Added to TIP 6/2013"]
[2014,"Berrien","TCATA","Expanded Hours","Benton Harbor, St. Joseph, Benton Township",0,"Transit operations","Provide fixed route service during times beyond the normal systems service hours","T-Ops",null,87000,5316,null,null,null,null,87000,null,null,"2013-06-17",null,null,"Added to TIP 6/2013"]
[2014,"Berrien","TCATA","Mobility Manager","Benton Harbor, St. Joseph, Benton Township",0,"Transit operations","Mobility Manager to coordinate transportation for the disabled passengers","T-Ops",null,75000,5317,null,null,null,null,75000,null,null,"2013-06-17",null,null,"Added to TIP 6/2013"]
[2016,"Berrien","TCATA","Replacement Buses","Benton Harbor, St. Joseph, Benton Township",0,"Transit Vehicle Replacements/Additions","Bus Replacement - replace two (2) 2010 cutaway buses with a 2016 or newer cutaway bus","T-Cap",null,100000,"CM",null,null,25000,"CITY",125000,null,null,"2013-06-17",null,null,"Added to TIP 6/2013"]
[2017,"Berrien","TCATA","Replacement Buses","Benton Harbor, St. Joseph, Benton Township",0,"Transit Vehicle Replacements/Additions","Bus Replacement - replace three (3) 2010 cutaway buses with a 2016 or newer cutaway bus","T-Cap",null,168000,"CM",null,null,42000,"CITY",210000,null,null,"2013-06-17",null,null,"Added to TIP 6/2013"]
[2017,"Berrien","Berrien Bus","Replacement Buses","Rural Portions of TwinCATS MPO Area",0,"Transit Vehicle Replacements/Additions","Bus Replacement - replace four (4) less than 30' small buses with four (4) 2017 or newer less than 30' small buses","T-Cap",null,312000,"CM",78000,"CTF",null,null,390000,null,null,"2013-06-17",null,null,"Added to TIP 6/2013"]
[2015,"Berrien","Berrien County Road Commission","Napier Avenue at Pipestone St.","Napier Avenue at Pipestone St. ",0,"Traffic Signal Upgrade","Traffic signal modernization including removal of existing signals and new mast arms, LED traffic signals, video detection, base mount controller & cabinet, sidewalk ramp upgrades, and preparations for corridor-wide interconnection","CON",null,160000,"CM",null,null,null,null,160000,null,null,"2013-06-17",null,null,"Added to TIP 6/2013",160000]
[2014,"Berrien","Berrien County Road Commission","Roosevelt Road","From Hidden Pines trail South 1700 Ft",0,"Non-motorized Improvements","1,700 lineal feet of 10 ft. wide, HMA non-motorized trail parallel to existing roadway.  Work includes tree removal, machine grading, sand subbase, agg base, HMA surface, striping, detectable warning strips.","CON",null,92800,"CM",null,null,23200,"TWP",116000,null,null,"2013-06-17",null,null,"Added to TIP 6/2013",116000]
[2014,"Berrien","City of Benton Harbor","Pipestone St at Empire Avenue","Pipestone St at Empire Avenue",0,"Traffic Signal Upgrade","Traffic signal modernization including removal of existing signals and new mast arms, LED traffic signals, video detection, base mount controller & cabinet, sidewalk ramp upgrades, and preparations for corridor-wide interconnection","CON",null,220000,"CM",null,null,null,null,220000,null,null,"2013-06-17",null,null,"Added to TIP 6/2013",220000]
[2015,"Berrien","City of Benton Harbor","Pipestone St at Britain Avenue","Pipestone St at Britain Avenue",0,"Traffic Signal Upgrade","Traffic Signal improvements including new controller, video detection, conduits and fiber optic cable, and other preparations for corridor-wide interconnection","CON",null,116000,"CM",null,null,null,null,116000,null,null,"2013-06-17",null,null,"Added to TIP 6/2013",116000]
[2016,"Berrien","City of Benton Harbor","Pipestone  St at Wall St","Pipestone St at Wall St",0,"Traffic Signal Upgrade","Traffic Signal improvements including new controller, video detection, and preparations for corridor-wide interconnection","CON",null,65000,"CM",null,null,null,null,65000,null,null,"2013-06-17",null,null,"Added to TIP 6/2013",65000]
[2017,"Berrien","City of Benton Harbor","Pipestone St at Jefferson St","Pipestone St at Jefferson St",0,"Traffic Signal Upgrade","Traffic signal modernization including removal of existing signals and new mast arms, LED traffic signals, video detection, base mount controller & cabinet, sidewalk ramp upgrades, and other preparations for corridor-wide interconnection","CON",null,240000,"CM",null,null,null,null,240000,null,null,"2013-06-17",null,null,"Added to TIP 6/2013",240000]
[2017,"Berrien","City of Benton Harbor","Pipestone St at Market St","Pipestone St at Market St",0,"Traffic Signal Upgrade","Traffic Signal improvements including new controller, video detection, conduits and fiber optic cable, and final preparations for corridor-wide interconnection","CON",null,209000,"CM",null,null,null,null,209000,null,null,"2013-06-17",null,null,"Added to TIP 6/2013",209000]
[2014,"Berrien","MDOT","M-139","at Nickerson Avenue carpool lot off M-139, Benton Township, Berrien County. Lot # 711005",0,"Roadside Facility","Reseal joints in existing concrete parking lot, replace pavement markings, and install sidewalk ramp.","CON",null,19644,"STUT",null,"M",null,null,19644,103293,null,"2013-05-20","Year",null,"5/20/13 Delay letting from FY 12 to FY 14; minor scope revision",30500]
[2014,"BERRIEN","Berrien County","Date Road","over Keelo Creek",0,"Bridge replacement","Bridge Replacement","CON","",720000,"BRO",135000,"M",45000,"CNTY",900000,115768,null,"2012-02-27",null,"Exempt",null,900000,null,null,null,"2012-06-07"]
[2014,"BERRIEN","Benton Harbor","Broadway Ave","Pipestone St to Empire Ave",0.9,"Resurface","Mill and resurface road, minor drainage improvements, ADA sidewalk ramp replacements","CON",null,240000,"STUL",null,null,60000,"CITY",300000,112087,null,"2012-12-17",null,"Exempt","12/17/12- Project moved from 2012 to 2014 ",485762,null,null,null,"2013-03-06"]
[2014,"Berrien","MDOT","I-94","Westbound off ramp at Pipestone Road",0.17199999999999999,"Reconstruct","Geometric improvement to realign ramp. Realignment will reduce congestion in the vicinity of the interchange.","A","",1000000,"CM",250000,"M",null,null,1250000,114962,null,"2012-11-19",null,"Exempt","11/2012 added to 2011-2014 TIP; November 2012; November 29 spoke with MDOT rep E. Jolivette and not clear if MDOT will pursue these projects",1250000,null,null,null,"2012-12-27"]
[2014,"Berrien","SWMPC","Berrien County Rideshare","Berrien County",0,"Miscellaneous","Southwest Michigan Planning Commission Rideshare Program to assist the community which includes citizens and businesses.",null,null,12000,"CMG",null,null,null,null,12000,116815,null,"2012-11-19",null,"Exempt","11/2012 added to 2011-2014 TIP",12000,null,null,null,"2012-12-27"]
[2014,"Berrien","MDOT","M-63","M-139 to I-94",1.609,"GPA ","Two course HMA Overlay and paved shoulders.","ROW",null,16370,"NH",3630,"M",null,null,20000,118928,null,"2013-07-15","Add",null,"Added to TIP 7/15/13; Construction Anticipated 2018",2950000]
[2014,"Berrien","MDOT","M-63","M-139 to I-94",1.609,"GPA ","Two course HMA Overlay and paved shoulders.","PE",null,245550,"NH",54450,"M",null,null,300000,118928,null,"2013-07-15","Add",null,"Added to TIP 7/15/13; Construction Anticipated 2018",2950000]
[2014,"Berrien","MDOT","I-196","I-94 to 0.5 miles South of M-63 (Exit 7)",8.0890000000000004,"Restore & rehabilitate","Mill Existing & Multiple Course HMA Overlay","PE",null,1620000,"IM",180000,"M",null,null,1800000,118792,null,"2013-07-15","Add",null,"Added to TIP 7/15/13; Construction Anticipated 2018",28425000]

{"sheet":"FY 2014","index":1,"n_rows":44,"n_cols":4,"rows_kept":44,"cut":false,"hidden":false,"merged":[[0,1,0,3]]}
[null,"FY 2014"]
["Highway Program","Estimated Federal Commitments","Estimated Non-Federal Commitments","Total Proposed Commitments"]
["MDOT AC & M Program",null,{"$f":"D3","v":0},{"$f":"SUM('MDOT FTA Detail'!F129:F157)+'MDOT FTA Detail'!F159","v":0}]
["MDOT FA Program",{"$f":"SUM('MDOT FTA Detail'!D6:D104)","v":2946564},{"$f":"D4-B4","v":493080},{"$f":"SUM('MDOT FTA Detail'!F6:F104)","v":3439644}]
["Sub-Total MDOT",{"$f":"B4","v":2946564},{"$f":"C3+C4","v":493080},{"$f":"D3+D4","v":3439644}]
["Local STP",{"$f":"SUM('Local Detail'!D73,'Local Detail'!D74,'Local Detail'!D77:D92,'Local Detail'!D67:D68,'Local Detail'!D49:D50)","v":1061524},{"$f":"D6-B6","v":192187},{"$f":"SUM('Local Detail'!F73,'Local Detail'!F74,'Local Detail'!F77:F92,'Local Detail'!F67:F68,'Local Detail'!F49:F50)","v":1253711}]
["Local Bridge",{"$f":"SUM('Local Detail'!D6:D9,'Local Detail'!D13:D16,'Local Detail'!D97,'Local Detail'!D11:D11,'Local Detail'!D39)","v":720000},180000,{"$f":"SUM('Local Detail'!F6:F9,'Local Detail'!F13:F16,'Local Detail'!F97,'Local Detail'!F11:F11,'Local Detail'!F39)","v":900000}]
["Local CMAQ",{"$f":"SUM('Local Detail'!D19:D20)","v":324800},23200,{"$f":"SUM('Local Detail'!F19:F20)","v":348000}]
["Local Safety",{"$f":"SUM('Local Detail'!D42,'Local Detail'!D44,'Local Detail'!D75:D76)","v":0},0,{"$f":"SUM('Local Detail'!F42,'Local Detail'!F44,'Local Detail'!F75:F76)","v":0}]
["Local Equity Bonus (TEDF)",{"$f":"SUM('Local Detail'!D27:D34)","v":0},0,{"$f":"SUM('Local Detail'!F27:F34)","v":0}]
["Local Other FHWA",{"$f":"SUM('Local Detail'!D10,'Local Detail'!D12,'Local Detail'!D17:D18,'Local Detail'!D21:D26,'Local Detail'!D35:D38,'Local Detail'!D40:D41,'Local Detail'!D43,'Local Detail'!D45:D48,'Local Detail'!D51:D66,'Local Detail'!D98:D104,'Local Detail'!D93:D96,'Local Detail'!D69:D72)","v":0},0,{"$f":"SUM('Local Detail'!F10,'Local Detail'!F12,'Local Detail'!F17:F18,'Local Detail'!F21:F26,'Local Detail'!F35:F38,'Local Detail'!F40:F41,'Local Detail'!F43,'Local Detail'!F45:F48,'Local Detail'!F51:F66,'Local Detail'!F98:F104,'Local Detail'!F93:F96,'Local Detail'!F69:F72)","v":0}]
["Local AC Starts",null,{"$f":"D12","v":0},{"$f":"'Local Detail'!F136","v":0}]
["Local Non-Federal",null,{"$f":"D13","v":0},{"$f":"SUM('Local Detail'!F106:F134)","v":0}]
["Sub-Total Local",{"$f":"SUM(B6:B11)","v":2106324},{"$f":"SUM(C6:C13)","v":395387},{"$f":"SUM(D6:D13)","v":2501711}]
["Total Highway",{"$f":"B14+B5","v":5052888},{"$f":"C14+C5","v":888467},{"$f":"D14+D5","v":5941355}]
[]
[]
["Transit Fund Source","Estimated Federal Commitments","Estimated Non-Federal Commitments","Total Proposed Commitments"]
["CTF - Comprehensive Transit Fund",null,{"$f":"'MDOT FTA Detail'!E128+'Local Detail'!E105","v":0},{"$f":"C19","v":0}]
["Section 3038 - Over the Road Bus Program",{"$f":"'MDOT FTA Detail'!D105","v":0},{"$f":"D20-B20","v":0},{"$f":"'MDOT FTA Detail'!F105","v":0}]
["Section 3045 - National Fuel Cell Technology Development Program",{"$f":"'MDOT FTA Detail'!D106","v":0},{"$f":"D21-B21","v":0},{"$f":"'MDOT FTA Detail'!F106","v":0}]
["Section 5303 - Metropolitan Transportation Planning",{"$f":"'MDOT FTA Detail'!D107","v":0},0,{"$f":"'MDOT FTA Detail'!F107","v":0}]
["Section 5304 - Statewide Transportation Planning",{"$f":"'MDOT FTA Detail'!D108","v":0},0,{"$f":"'MDOT FTA Detail'!F108","v":0}]
["Section 5305 - Metropolitan and Statewide Planning",{"$f":"'MDOT FTA Detail'!D109","v":0},0,{"$f":"'MDOT FTA Detail'!F109","v":0}]
["Section 5307 - UZA Formula",{"$f":"'MDOT FTA Detail'!D110","v":680000},1150000,{"$f":"'MDOT FTA Detail'!F110","v":1830000}]
["Section 5308 - Clean Fuels Program",{"$f":"'MDOT FTA Detail'!D111","v":0},0,{"$f":"'MDOT FTA Detail'!F111","v":0}]
["Section 5309 - Fixed Guideway Capital Investment Grant",{"$f":"'MDOT FTA Detail'!D112","v":0},0,{"$f":"'MDOT FTA Detail'!F112","v":0}]
["Section 5310 - Enhanced Mobility of Seniors and Individuals with Disabilities",{"$f":"'MDOT FTA Detail'!D113","v":0},0,{"$f":"'MDOT FTA Detail'!F113","v":0}]
["Section 5311 - Non-UZA ",{"$f":"'MDOT FTA Detail'!D114","v":26030},26030,{"$f":"'MDOT FTA Detail'!F114","v":52060}]
["Section 5312 - Research, Development, Demonstration, and Deployment",{"$f":"'MDOT FTA Detail'!D115","v":0},{"$f":"D30-B30","v":0},{"$f":"'MDOT FTA Detail'!F115","v":0}]
["Section 5313 - Transit Cooperative Research Program",{"$f":"'MDOT FTA Detail'!D116","v":0},0,{"$f":"'MDOT FTA Detail'!F116","v":0}]
["Section 5314 - Technical Assistance and Standards",{"$f":"'MDOT FTA Detail'!D117","v":0},0,{"$f":"'MDOT FTA Detail'!F117","v":0}]
["Section 5316 - Transit - Section 5316 - Job Access/Reverse Commute",{"$f":"'MDOT FTA Detail'!D118","v":193000},106000,{"$f":"'MDOT FTA Detail'!F118","v":299000}]
["Section 5317 - Transit - Section 5317 - New Freedom Initiative",{"$f":"'MDOT FTA Detail'!D119","v":75000},0,{"$f":"'MDOT FTA Detail'!F119","v":75000}]
["Section 5320 - Alternative Transportation in Parks and Public Lands",{"$f":"'MDOT FTA Detail'!D120","v":0},0,{"$f":"'MDOT FTA Detail'!F120","v":0}]
["Section 5322 - Human Resources and Training",{"$f":"'MDOT FTA Detail'!D121","v":0},{"$f":"D36-B36","v":0},{"$f":"'MDOT FTA Detail'!F121","v":0}]
["Section 5324 - Emergency Relief",{"$f":"'MDOT FTA Detail'!D122","v":0},{"$f":"D37-B37","v":0},{"$f":"'MDOT FTA Detail'!F122","v":0}]
["Section 5326 - Asset Management Provisions",{"$f":"'MDOT FTA Detail'!D123","v":0},{"$f":"D38-B38","v":0},{"$f":"'MDOT FTA Detail'!F123","v":0}]
["Section 5329 - Safety",{"$f":"'MDOT FTA Detail'!D124","v":0},{"$f":"D39-B39","v":0},{"$f":"'MDOT FTA Detail'!F124","v":0}]
["Section 5337 - State of Good Repair Grants",{"$f":"'MDOT FTA Detail'!D125","v":0},{"$f":"D40-B40","v":0},{"$f":"'MDOT FTA Detail'!F125","v":0}]
["Section 5339 - Bus and Bus Facilities",{"$f":"'MDOT FTA Detail'!D126","v":0},0,{"$f":"'MDOT FTA Detail'!F126","v":0}]
["Section 5505 - University Transportation Centers Program",{"$f":"'MDOT FTA Detail'!D127","v":0},0,{"$f":"'MDOT FTA Detail'!F127","v":0}]
["Total Transit",{"$f":"SUM(B19:B42)","v":974030},{"$f":"SUM(C19:C42)","v":1282030},{"$f":"SUM(D19:D42)","v":2256060}]
["Grand Total",{"$f":"B43+B15","v":6026918},{"$f":"C43+C15","v":2170497},{"$f":"D43+D15","v":8197415}]

{"sheet":"FY 2015","index":2,"n_rows":44,"n_cols":4,"rows_kept":44,"cut":false,"hidden":false,"merged":[[0,1,0,3]]}
[null,"FY 2015"]
["Highway Program","Estimated Federal Commitments","Estimated Non-Federal Commitments","Total Proposed Commitments"]
["MDOT AC & M Program",null,{"$f":"D3","v":0},{"$f":"SUM('MDOT FTA Detail'!I129:I157)+'MDOT FTA Detail'!I159","v":0}]
["MDOT FA Program",{"$f":"SUM('MDOT FTA Detail'!G6:G104)","v":2131298},{"$f":"D4-B4","v":237718},{"$f":"SUM('MDOT FTA Detail'!I6:I104)","v":2369016}]
["Sub-Total MDOT",{"$f":"B4","v":2131298},{"$f":"C3+C4","v":237718},{"$f":"D3+D4","v":2369016}]
["Local STP",{"$f":"SUM('Local Detail'!G73,'Local Detail'!G74,'Local Detail'!G77:G92,'Local Detail'!G67:G68,'Local Detail'!G49:G50)","v":837634},{"$f":"D6-B6","v":101400},{"$f":"SUM('Local Detail'!I73,'Local Detail'!I74,'Local Detail'!I77:I92,'Local Detail'!I67:I68,'Local Detail'!I49:I50)","v":939034}]
["Local Bridge",{"$f":"SUM('Local Detail'!G6:G9,'Local Detail'!G13:G16,'Local Detail'!G97,'Local Detail'!G11:G11,'Local Detail'!G39)","v":0},0,{"$f":"SUM('Local Detail'!I6:I9,'Local Detail'!I13:I16,'Local Detail'!I97,'Local Detail'!I11:I11,'Local Detail'!I39)","v":0}]
["Local CMAQ",{"$f":"SUM('Local Detail'!G19:G20)","v":276000},0,{"$f":"SUM('Local Detail'!I19:I20)","v":276000}]
["Local Safety",{"$f":"SUM('Local Detail'!G42,'Local Detail'!G44,'Local Detail'!G75:G76)","v":0},0,{"$f":"SUM('Local Detail'!I42,'Local Detail'!I44,'Local Detail'!I75:I76)","v":0}]
["Local Equity Bonus (TEDF)",{"$f":"SUM('Local Detail'!G27:G34)","v":0},0,{"$f":"SUM('Local Detail'!I27:I34)","v":0}]
["Local Other FHWA",{"$f":"SUM('Local Detail'!G10,'Local Detail'!G12,'Local Detail'!G17:G18,'Local Detail'!G21:G26,'Local Detail'!G35:G38,'Local Detail'!G40:G41,'Local Detail'!G43,'Local Detail'!G45:G48,'Local Detail'!G51:G66,'Local Detail'!G98:G104,'Local Detail'!G93:G96,'Local Detail'!G69:G72)","v":0},0,{"$f":"SUM('Local Detail'!I10,'Local Detail'!I12,'Local Detail'!I17:I18,'Local Detail'!I21:I26,'Local Detail'!I35:I38,'Local Detail'!I40:I41,'Local Detail'!I43,'Local Detail'!I45:I48,'Local Detail'!I51:I66,'Local Detail'!I98:I104,'Local Detail'!I93:I96,'Local Detail'!I69:I72)","v":0}]
["Local AC Starts",null,{"$f":"D12","v":1017200},{"$f":"'Local Detail'!I136","v":1017200}]
["Local Non-Federal",null,{"$f":"D13","v":0},{"$f":"SUM('Local Detail'!I106:I134)","v":0}]
["Sub-Total Local",{"$f":"SUM(B6:B11)","v":1113634},{"$f":"SUM(C6:C13)","v":1118600},{"$f":"SUM(D6:D13)","v":2232234}]
["Total Highway",{"$f":"B14+B5","v":3244932},{"$f":"C14+C5","v":1356318},{"$f":"D14+D5","v":4601250}]
[]
[]
["Transit Fund Source","Estimated Federal Commitments","Estimated Non-Federal Commitments","Total Proposed Commitments"]
["CTF - Comprehensive Transit Fund",null,{"$f":"'MDOT FTA Detail'!H128+'Local Detail'!H105","v":0},{"$f":"C19","v":0}]
["Section 3038 - Over the Road Bus Program",{"$f":"'MDOT FTA Detail'!G105","v":0},{"$f":"D20-B20","v":0},{"$f":"'MDOT FTA Detail'!I105","v":0}]
["Section 3045 - National Fuel Cell Technology Development Program",{"$f":"'MDOT FTA Detail'!G106","v":0},{"$f":"D21-B21","v":0},{"$f":"'MDOT FTA Detail'!I106","v":0}]
["Section 5303 - Metropolitan Transportation Planning",{"$f":"'MDOT FTA Detail'!G107","v":0},0,{"$f":"'MDOT FTA Detail'!I107","v":0}]
["Section 5304 - Statewide Transportation Planning",{"$f":"'MDOT FTA Detail'!G108","v":0},0,{"$f":"'MDOT FTA Detail'!I108","v":0}]
["Section 5305 - Metropolitan and Statewide Planning",{"$f":"'MDOT FTA Detail'!G109","v":0},0,{"$f":"'MDOT FTA Detail'!I109","v":0}]
["Section 5307 - UZA Formula",{"$f":"'MDOT FTA Detail'!G110","v":0},0,{"$f":"'MDOT FTA Detail'!I110","v":0}]
["Section 5308 - Clean Fuels Program",{"$f":"'MDOT FTA Detail'!G111","v":0},0,{"$f":"'MDOT FTA Detail'!I111","v":0}]
["Section 5309 - Fixed Guideway Capital Investment Grant",{"$f":"'MDOT FTA Detail'!G112","v":0},0,{"$f":"'MDOT FTA Detail'!I112","v":0}]
["Section 5310 - Enhanced Mobility of Seniors and Individuals with Disabilities",{"$f":"'MDOT FTA Detail'!G113","v":0},0,{"$f":"'MDOT FTA Detail'!I113","v":0}]
["Section 5311 - Non-UZA ",{"$f":"'MDOT FTA Detail'!G114","v":26030},26030,{"$f":"'MDOT FTA Detail'!I114","v":52060}]
["Section 5312 - Research, Development, Demonstration, and Deployment",{"$f":"'MDOT FTA Detail'!G115","v":0},{"$f":"D30-B30","v":0},{"$f":"'MDOT FTA Detail'!I115","v":0}]
["Section 5313 - Transit Cooperative Research Program",{"$f":"'MDOT FTA Detail'!G116","v":0},0,{"$f":"'MDOT FTA Detail'!I116","v":0}]
["Section 5314 - Technical Assistance and Standards",{"$f":"'MDOT FTA Detail'!G117","v":0},0,{"$f":"'MDOT FTA Detail'!I117","v":0}]
["Section 5316 - Transit - Section 5316 - Job Access/Reverse Commute",{"$f":"'MDOT FTA Detail'!G118","v":0},0,{"$f":"'MDOT FTA Detail'!I118","v":0}]
["Section 5317 - Transit - Section 5317 - New Freedom Initiative",{"$f":"'MDOT FTA Detail'!G119","v":0},0,{"$f":"'MDOT FTA Detail'!I119","v":0}]
["Section 5320 - Alternative Transportation in Parks and Public Lands",{"$f":"'MDOT FTA Detail'!G120","v":0},0,{"$f":"'MDOT FTA Detail'!I120","v":0}]
["Section 5322 - Human Resources and Training",{"$f":"'MDOT FTA Detail'!G121","v":0},{"$f":"D36-B36","v":0},{"$f":"'MDOT FTA Detail'!I121","v":0}]
["Section 5324 - Emergency Relief",{"$f":"'MDOT FTA Detail'!G122","v":0},{"$f":"D37-B37","v":0},{"$f":"'MDOT FTA Detail'!I122","v":0}]
["Section 5326 - Asset Management Provisions",{"$f":"'MDOT FTA Detail'!G123","v":0},{"$f":"D38-B38","v":0},{"$f":"'MDOT FTA Detail'!I123","v":0}]
["Section 5329 - Safety",{"$f":"'MDOT FTA Detail'!G124","v":0},{"$f":"D39-B39","v":0},{"$f":"'MDOT FTA Detail'!I124","v":0}]
["Section 5337 - State of Good Repair Grants",{"$f":"'MDOT FTA Detail'!G125","v":0},{"$f":"D40-B40","v":0},{"$f":"'MDOT FTA Detail'!I125","v":0}]
["Section 5339 - Bus and Bus Facilities",{"$f":"'MDOT FTA Detail'!G126","v":0},0,{"$f":"'MDOT FTA Detail'!I126","v":0}]
["Section 5505 - University Transportation Centers Program",{"$f":"'MDOT FTA Detail'!G127","v":0},0,{"$f":"'MDOT FTA Detail'!I127","v":0}]
["Total Transit",{"$f":"SUM(B19:B42)","v":26030},{"$f":"SUM(C19:C42)","v":26030},{"$f":"SUM(D19:D42)","v":52060}]
["Grand Total",{"$f":"B43+B15","v":3270962},{"$f":"C43+C15","v":1382348},{"$f":"D43+D15","v":4653310}]

{"sheet":"FY 2016","index":3,"n_rows":44,"n_cols":4,"rows_kept":44,"cut":false,"hidden":false,"merged":[[0,1,0,3]]}
[null,"FY 2016"]
["Highway Program","Estimated Federal Commitments","Estimated Non-Federal Commitments","Total Proposed Commitments"]
["MDOT AC & M Program",null,{"$f":"D3","v":0},{"$f":"SUM('MDOT FTA Detail'!L129:L157)+'MDOT FTA Detail'!L159","v":0}]
["MDOT FA Program",{"$f":"SUM('MDOT FTA Detail'!J6:J104)","v":11718025},{"$f":"D4-B4","v":1308975},{"$f":"SUM('MDOT FTA Detail'!L6:L104)","v":13027000}]
["Sub-Total MDOT",{"$f":"B4","v":11718025},{"$f":"C3+C4","v":1308975},{"$f":"D3+D4","v":13027000}]
["Local STP",{"$f":"SUM('Local Detail'!J73,'Local Detail'!J74,'Local Detail'!J77:J92,'Local Detail'!J67:J68,'Local Detail'!J49:J50)","v":856324},{"$f":"D6-B6","v":160132},{"$f":"SUM('Local Detail'!L73,'Local Detail'!L74,'Local Detail'!L77:L92,'Local Detail'!L67:L68,'Local Detail'!L49:L50)","v":1016456}]
["Local Bridge",{"$f":"SUM('Local Detail'!J6:J9,'Local Detail'!J13:J16,'Local Detail'!J97,'Local Detail'!J11:J11,'Local Detail'!J39)","v":0},0,{"$f":"SUM('Local Detail'!L6:L9,'Local Detail'!L13:L16,'Local Detail'!L97,'Local Detail'!L11:L11,'Local Detail'!L39)","v":0}]
["Local CMAQ",{"$f":"SUM('Local Detail'!J19:J20)","v":165000},25000,{"$f":"SUM('Local Detail'!L19:L20)","v":190000}]
["Local Safety",{"$f":"SUM('Local Detail'!J42,'Local Detail'!J44,'Local Detail'!J75:J76)","v":0},0,{"$f":"SUM('Local Detail'!L42,'Local Detail'!L44,'Local Detail'!L75:L76)","v":0}]
["Local Equity Bonus (TEDF)",{"$f":"SUM('Local Detail'!J27:J34)","v":0},0,{"$f":"SUM('Local Detail'!L27:L34)","v":0}]
["Local Other FHWA",{"$f":"SUM('Local Detail'!J10,'Local Detail'!J12,'Local Detail'!J17:J18,'Local Detail'!J21:J26,'Local Detail'!J35:J38,'Local Detail'!J40:J41,'Local Detail'!J43,'Local Detail'!J45:J48,'Local Detail'!J51:J66,'Local Detail'!J98:J104,'Local Detail'!J93:J96,'Local Detail'!J69:J72)","v":0},0,{"$f":"SUM('Local Detail'!L10,'Local Detail'!L12,'Local Detail'!L17:L18,'Local Detail'!L21:L26,'Local Detail'!L35:L38,'Local Detail'!L40:L41,'Local Detail'!L43,'Local Detail'!L45:L48,'Local Detail'!L51:L66,'Local Detail'!L98:L104,'Local Detail'!L93:L96,'Local Detail'!L69:L72)","v":0}]
["Local AC Starts",null,{"$f":"D12","v":0},{"$f":"'Local Detail'!L136","v":0}]
["Local Non-Federal",null,{"$f":"D13","v":0},{"$f":"SUM('Local Detail'!L106:L134)","v":0}]
["Sub-Total Local",{"$f":"SUM(B6:B11)","v":1021324},{"$f":"SUM(C6:C13)","v":185132},{"$f":"SUM(D6:D13)","v":1206456}]
["Total Highway",{"$f":"B14+B5","v":12739349},{"$f":"C14+C5","v":1494107},{"$f":"D14+D5","v":14233456}]
[]
[]
["Transit Fund Source","Estimated Federal Commitments","Estimated Non-Federal Commitments","Total Proposed Commitments"]
["CTF - Comprehensive Transit Fund",null,{"$f":"'MDOT FTA Detail'!K128+'Local Detail'!K105","v":0},{"$f":"C19","v":0}]
["Section 3038 - Over the Road Bus Program",{"$f":"'MDOT FTA Detail'!J105","v":0},{"$f":"D20-B20","v":0},{"$f":"'MDOT FTA Detail'!L105","v":0}]
["Section 3045 - National Fuel Cell Technology Development Program",{"$f":"'MDOT FTA Detail'!J106","v":0},{"$f":"D21-B21","v":0},{"$f":"'MDOT FTA Detail'!L106","v":0}]
["Section 5303 - Metropolitan Transportation Planning",{"$f":"'MDOT FTA Detail'!J107","v":0},0,{"$f":"'MDOT FTA Detail'!L107","v":0}]
["Section 5304 - Statewide Transportation Planning",{"$f":"'MDOT FTA Detail'!J108","v":0},0,{"$f":"'MDOT FTA Detail'!L108","v":0}]
["Section 5305 - Metropolitan and Statewide Planning",{"$f":"'MDOT FTA Detail'!J109","v":0},0,{"$f":"'MDOT FTA Detail'!L109","v":0}]
["Section 5307 - UZA Formula",{"$f":"'MDOT FTA Detail'!J110","v":0},0,{"$f":"'MDOT FTA Detail'!L110","v":0}]
["Section 5308 - Clean Fuels Program",{"$f":"'MDOT FTA Detail'!J111","v":0},0,{"$f":"'MDOT FTA Detail'!L111","v":0}]
["Section 5309 - Fixed Guideway Capital Investment Grant",{"$f":"'MDOT FTA Detail'!J112","v":0},0,{"$f":"'MDOT FTA Detail'!L112","v":0}]
["Section 5310 - Enhanced Mobility of Seniors and Individuals with Disabilities",{"$f":"'MDOT FTA Detail'!J113","v":0},0,{"$f":"'MDOT FTA Detail'!L113","v":0}]
["Section 5311 - Non-UZA ",{"$f":"'MDOT FTA Detail'!J114","v":26030},26030,{"$f":"'MDOT FTA Detail'!L114","v":52060}]
["Section 5312 - Research, Development, Demonstration, and Deployment",{"$f":"'MDOT FTA Detail'!J115","v":0},{"$f":"D30-B30","v":0},{"$f":"'MDOT FTA Detail'!L115","v":0}]
["Section 5313 - Transit Cooperative Research Program",{"$f":"'MDOT FTA Detail'!J116","v":0},0,{"$f":"'MDOT FTA Detail'!L116","v":0}]
["Section 5314 - Technical Assistance and Standards",{"$f":"'MDOT FTA Detail'!J117","v":0},0,{"$f":"'MDOT FTA Detail'!L117","v":0}]
["Section 5316 - Transit - Section 5316 - Job Access/Reverse Commute",{"$f":"'MDOT FTA Detail'!J118","v":0},0,{"$f":"'MDOT FTA Detail'!L118","v":0}]
["Section 5317 - Transit - Section 5317 - New Freedom Initiative",{"$f":"'MDOT FTA Detail'!J119","v":0},0,{"$f":"'MDOT FTA Detail'!L119","v":0}]
["Section 5320 - Alternative Transportation in Parks and Public Lands",{"$f":"'MDOT FTA Detail'!J120","v":0},0,{"$f":"'MDOT FTA Detail'!L120","v":0}]
["Section 5322 - Human Resources and Training",{"$f":"'MDOT FTA Detail'!J121","v":0},{"$f":"D36-B36","v":0},{"$f":"'MDOT FTA Detail'!L121","v":0}]
["Section 5324 - Emergency Relief",{"$f":"'MDOT FTA Detail'!J122","v":0},{"$f":"D37-B37","v":0},{"$f":"'MDOT FTA Detail'!L122","v":0}]
["Section 5326 - Asset Management Provisions",{"$f":"'MDOT FTA Detail'!J123","v":0},{"$f":"D38-B38","v":0},{"$f":"'MDOT FTA Detail'!L123","v":0}]
["Section 5329 - Safety",{"$f":"'MDOT FTA Detail'!J124","v":0},{"$f":"D39-B39","v":0},{"$f":"'MDOT FTA Detail'!L124","v":0}]
["Section 5337 - State of Good Repair Grants",{"$f":"'MDOT FTA Detail'!J125","v":0},{"$f":"D40-B40","v":0},{"$f":"'MDOT FTA Detail'!L125","v":0}]
["Section 5339 - Bus and Bus Facilities",{"$f":"'MDOT FTA Detail'!J126","v":0},0,{"$f":"'MDOT FTA Detail'!L126","v":0}]
["Section 5505 - University Transportation Centers Program",{"$f":"'MDOT FTA Detail'!J127","v":0},0,{"$f":"'MDOT FTA Detail'!L127","v":0}]
["Total Transit",{"$f":"SUM(B19:B42)","v":26030},{"$f":"SUM(C19:C42)","v":26030},{"$f":"SUM(D19:D42)","v":52060}]
["Grand Total",{"$f":"B43+B15","v":12765379},{"$f":"C43+C15","v":1520137},{"$f":"D43+D15","v":14285516}]

{"sheet":"FY 2017","index":4,"n_rows":44,"n_cols":4,"rows_kept":44,"cut":false,"hidden":false,"merged":[[0,1,0,3]]}
[null,"FY 2017"]
["Highway Program","Estimated Federal Commitments","Estimated Non-Federal Commitments","Total Proposed Commitments"]
["MDOT AC & M Program",null,{"$f":"D3","v":0},{"$f":"SUM('MDOT FTA Detail'!O129:O157)+'MDOT FTA Detail'!O159","v":0}]
["MDOT FA Program",{"$f":"SUM('MDOT FTA Detail'!M6:M104)","v":0},{"$f":"D4-B4","v":0},{"$f":"SUM('MDOT FTA Detail'!O6:O104)","v":0}]
["Sub-Total MDOT",{"$f":"B3+B4","v":0},{"$f":"D5-B5","v":0},{"$f":"D3+D4","v":0}]
["Local STP",{"$f":"SUM('Local Detail'!M73,'Local Detail'!M74,'Local Detail'!M77:M92,'Local Detail'!M67:M68,'Local Detail'!M49:M50)","v":844163},177000,{"$f":"SUM('Local Detail'!O73,'Local Detail'!O74,'Local Detail'!O77:O92,'Local Detail'!O67:O68,'Local Detail'!O49:O50)","v":1021163}]
["Local Bridge",{"$f":"SUM('Local Detail'!M6:M9,'Local Detail'!M13:M16,'Local Detail'!M97,'Local Detail'!M11:M11,'Local Detail'!M39)","v":0},0,{"$f":"SUM('Local Detail'!O6:O9,'Local Detail'!O13:O16,'Local Detail'!O97,'Local Detail'!O11:O11,'Local Detail'!O39)","v":0}]
["Local CMAQ",{"$f":"SUM('Local Detail'!M19:M20)","v":929000},120000,{"$f":"SUM('Local Detail'!O19:O20)","v":1049000}]
["Local Safety",{"$f":"SUM('Local Detail'!M42,'Local Detail'!M44,'Local Detail'!M75:M76)","v":0},0,{"$f":"SUM('Local Detail'!O42,'Local Detail'!O44,'Local Detail'!O75:O76)","v":0}]
["Local Equity Bonus (TEDF)",{"$f":"SUM('Local Detail'!M27:M34)","v":0},0,{"$f":"SUM('Local Detail'!O27:O34)","v":0}]
["Local Other FHWA",{"$f":"SUM('Local Detail'!M10,'Local Detail'!M12,'Local Detail'!M17:M18,'Local Detail'!M21:M26,'Local Detail'!M35:M38,'Local Detail'!M40:M41,'Local Detail'!M43,'Local Detail'!M45:M48,'Local Detail'!M51:M66,'Local Detail'!M98:M104,'Local Detail'!M93:M96,'Local Detail'!M69:M72)","v":0},0,{"$f":"SUM('Local Detail'!O10,'Local Detail'!O12,'Local Detail'!O17:O18,'Local Detail'!O21:O26,'Local Detail'!O35:O38,'Local Detail'!O40:O41,'Local Detail'!O43,'Local Detail'!O45:O48,'Local Detail'!O51:O66,'Local Detail'!O98:O104,'Local Detail'!O93:O96,'Local Detail'!O69:O72)","v":0}]
["Local AC Starts",null,{"$f":"D12","v":0},{"$f":"'Local Detail'!O136","v":0}]
["Local Non-Federal",null,{"$f":"D13","v":0},{"$f":"SUM('Local Detail'!O106:O134)","v":0}]
["Sub-Total Local",{"$f":"SUM(B6:B11)","v":1773163},{"$f":"SUM(C6:C13)","v":297000},{"$f":"SUM(D6:D13)","v":2070163}]
["Total Highway",{"$f":"B14+B5","v":1773163},{"$f":"C14+C5","v":297000},{"$f":"D14+D5","v":2070163}]
[]
[]
["Transit Fund Source","Estimated Federal Commitments","Estimated Non-Federal Commitments","Total Proposed Commitments"]
["CTF - Comprehensive Transit Fund",null,{"$f":"'MDOT FTA Detail'!N128+'Local Detail'!N105","v":0},{"$f":"C19","v":0}]
["Section 3038 - Over the Road Bus Program",{"$f":"'MDOT FTA Detail'!M105","v":0},{"$f":"D20-B20","v":0},{"$f":"'MDOT FTA Detail'!O105","v":0}]
["Section 3045 - National Fuel Cell Technology Development Program",{"$f":"'MDOT FTA Detail'!M106","v":0},{"$f":"D21-B21","v":0},{"$f":"'MDOT FTA Detail'!O106","v":0}]
["Section 5303 - Metropolitan Transportation Planning",{"$f":"'MDOT FTA Detail'!M107","v":0},0,{"$f":"'MDOT FTA Detail'!O107","v":0}]
["Section 5304 - Statewide Transportation Planning",{"$f":"'MDOT FTA Detail'!M108","v":0},0,{"$f":"'MDOT FTA Detail'!O108","v":0}]
["Section 5305 - Metropolitan and Statewide Planning",{"$f":"'MDOT FTA Detail'!M109","v":0},0,{"$f":"'MDOT FTA Detail'!O109","v":0}]
["Section 5307 - UZA Formula",{"$f":"'MDOT FTA Detail'!M110","v":0},0,{"$f":"'MDOT FTA Detail'!O110","v":0}]
["Section 5308 - Clean Fuels Program",{"$f":"'MDOT FTA Detail'!M111","v":0},0,{"$f":"'MDOT FTA Detail'!O111","v":0}]
["Section 5309 - Fixed Guideway Capital Investment Grant",{"$f":"'MDOT FTA Detail'!M112","v":0},0,{"$f":"'MDOT FTA Detail'!O112","v":0}]
["Section 5310 - Enhanced Mobility of Seniors and Individuals with Disabilities",{"$f":"'MDOT FTA Detail'!M113","v":0},0,{"$f":"'MDOT FTA Detail'!O113","v":0}]
["Section 5311 - Non-UZA ",{"$f":"'MDOT FTA Detail'!M114","v":26030},26030,{"$f":"'MDOT FTA Detail'!O114","v":52060}]
["Section 5312 - Research, Development, Demonstration, and Deployment",{"$f":"'MDOT FTA Detail'!M115","v":0},{"$f":"D30-B30","v":0},{"$f":"'MDOT FTA Detail'!O115","v":0}]
["Section 5313 - Transit Cooperative Research Program",{"$f":"'MDOT FTA Detail'!M116","v":0},0,{"$f":"'MDOT FTA Detail'!O116","v":0}]
["Section 5314 - Technical Assistance and Standards",{"$f":"'MDOT FTA Detail'!M117","v":0},0,{"$f":"'MDOT FTA Detail'!O117","v":0}]
["Section 5316 - Transit - Section 5316 - Job Access/Reverse Commute",{"$f":"'MDOT FTA Detail'!M118","v":0},0,{"$f":"'MDOT FTA Detail'!O118","v":0}]
["Section 5317 - Transit - Section 5317 - New Freedom Initiative",{"$f":"'MDOT FTA Detail'!M119","v":0},0,{"$f":"'MDOT FTA Detail'!O119","v":0}]
["Section 5320 - Alternative Transportation in Parks and Public Lands",{"$f":"'MDOT FTA Detail'!M120","v":0},0,{"$f":"'MDOT FTA Detail'!O120","v":0}]
["Section 5322 - Human Resources and Training",{"$f":"'MDOT FTA Detail'!M121","v":0},{"$f":"D36-B36","v":0},{"$f":"'MDOT FTA Detail'!O121","v":0}]
["Section 5324 - Emergency Relief",{"$f":"'MDOT FTA Detail'!M122","v":0},{"$f":"D37-B37","v":0},{"$f":"'MDOT FTA Detail'!O122","v":0}]
["Section 5326 - Asset Management Provisions",{"$f":"'MDOT FTA Detail'!M123","v":0},{"$f":"D38-B38","v":0},{"$f":"'MDOT FTA Detail'!O123","v":0}]
["Section 5329 - Safety",{"$f":"'MDOT FTA Detail'!M124","v":0},{"$f":"D39-B39","v":0},{"$f":"'MDOT FTA Detail'!O124","v":0}]
["Section 5337 - State of Good Repair Grants",{"$f":"'MDOT FTA Detail'!M125","v":0},{"$f":"D40-B40","v":0},{"$f":"'MDOT FTA Detail'!O125","v":0}]
["Section 5339 - Bus and Bus Facilities",{"$f":"'MDOT FTA Detail'!M126","v":0},0,{"$f":"'MDOT FTA Detail'!O126","v":0}]
["Section 5505 - University Transportation Centers Program",{"$f":"'MDOT FTA Detail'!M127","v":0},0,{"$f":"'MDOT FTA Detail'!O127","v":0}]
["Total Transit",{"$f":"SUM(B19:B42)","v":26030},{"$f":"SUM(C19:C42)","v":26030},{"$f":"SUM(D19:D42)","v":52060}]
["Grand Total",{"$f":"B43+B15","v":1799193},{"$f":"C43+C15","v":323030},{"$f":"D43+D15","v":2122223}]

{"sheet":"Constraint","index":5,"n_rows":44,"n_cols":17,"rows_kept":44,"cut":false,"hidden":false,"merged":[[0,13,0,16],[0,1,0,4],[0,5,0,8],[0,9,0,12]]}
["2013-06-20",2014,null,null,null,2015,null,null,null,2016,null,null,null,2017]
["Highway Program","Estimated Federal Revenue","Estimated Non-Federal Revenue","Estimated Total Revenue","Total Proposed Commitments","Estimated Federal Revenue","Estimated Non-Federal Revenue","Estimated Total Revenue","Total Proposed Commitments","Estimated Federal Revenue","Estimated Non-Federal Revenue","Estimated Total Revenue","Total Proposed Commitments","Estimated Federal Revenue","Estimated Non-Federal Revenue","Estimated Total Revenue","Total Proposed Commitments"]
["MDOT AC & M Program",null,0,0,{"$f":"'FY 2014'!D3","v":0},null,0,0,{"$f":"'FY 2015'!D3","v":0},null,0,0,{"$f":"'FY 2016'!D3","v":0},null,0,0,{"$f":"'FY 2017'!D3","v":0}]
["MDOT FA Program",2946564,493080,3439644,{"$f":"'FY 2014'!D4","v":3439644},2131298,237718,2369016,{"$f":"'FY 2015'!D4","v":2369016},11718025,1308975,13027000,{"$f":"'FY 2016'!D4","v":13027000},0,0,0,{"$f":"'FY 2017'!D4","v":0}]
["Sub-Total MDOT",2946564,493080,3439644,{"$f":"'FY 2014'!D5","v":3439644},2131298,237718,2369016,{"$f":"'FY 2015'!D5","v":2369016},11718025,1308975,13027000,{"$f":"'FY 2016'!D5","v":13027000},0,0,0,{"$f":"'FY 2017'!D5","v":0}]
["Local STP",1061524,192187,1253711,{"$f":"'FY 2014'!D6","v":1253711},837634,101400,939034,{"$f":"'FY 2015'!D6","v":939034},856324,160132,1016456,{"$f":"'FY 2016'!D6","v":1016456},844163,177000,1021163,{"$f":"'FY 2017'!D6","v":1021163}]
["Local Bridge",720000,180000,900000,{"$f":"'FY 2014'!D7","v":900000},0,0,0,{"$f":"'FY 2015'!D7","v":0},0,0,0,{"$f":"'FY 2016'!D7","v":0},0,0,0,{"$f":"'FY 2017'!D7","v":0}]
["Local CMAQ",324800,23200,348000,{"$f":"'FY 2014'!D8","v":348000},276000,0,276000,{"$f":"'FY 2015'!D8","v":276000},165000,25000,190000,{"$f":"'FY 2016'!D8","v":190000},929000,120000,1049000,{"$f":"'FY 2017'!D8","v":1049000}]
["Local Safety",0,0,0,{"$f":"'FY 2014'!D9","v":0},0,0,0,{"$f":"'FY 2015'!D9","v":0},0,0,0,{"$f":"'FY 2016'!D9","v":0},0,0,0,{"$f":"'FY 2017'!D9","v":0}]
["Local Equity Bonus (TEDF)",0,0,0,{"$f":"'FY 2014'!D10","v":0},0,0,0,{"$f":"'FY 2015'!D10","v":0},0,0,0,{"$f":"'FY 2016'!D10","v":0},0,0,0,{"$f":"'FY 2017'!D10","v":0}]
["Local Other FHWA",0,0,0,{"$f":"'FY 2014'!D11","v":0},0,0,0,{"$f":"'FY 2015'!D11","v":0},0,0,0,{"$f":"'FY 2016'!D11","v":0},0,0,0,{"$f":"'FY 2017'!D11","v":0}]
["Local AC Starts",null,0,0,{"$f":"'FY 2014'!D12","v":0},null,1017200,1017200,{"$f":"'FY 2015'!D12","v":1017200},null,0,0,{"$f":"'FY 2016'!D12","v":0},null,0,0,{"$f":"'FY 2017'!D12","v":0}]
["Local Non-Federal",null,0,0,{"$f":"'FY 2014'!D13","v":0},null,0,0,{"$f":"'FY 2015'!D13","v":0},null,0,0,{"$f":"'FY 2016'!D13","v":0},null,0,0,{"$f":"'FY 2017'!D13","v":0}]
["Sub-Total Local",2106324,395387,2501711,{"$f":"'FY 2014'!D14","v":2501711},1113634,1118600,2232234,{"$f":"'FY 2015'!D14","v":2232234},1021324,185132,1206456,{"$f":"'FY 2016'!D14","v":1206456},1773163,297000,2070163,{"$f":"'FY 2017'!D14","v":2070163}]
["Total Highway",5052888,888467,5941355,{"$f":"'FY 2014'!D15","v":5941355},3244932,1356318,4601250,{"$f":"'FY 2015'!D15","v":4601250},12739349,1494107,14233456,{"$f":"'FY 2016'!D15","v":14233456},1773163,297000,2070163,{"$f":"'FY 2017'!D15","v":2070163}]
[]
[]
["Transit Fund Source","Estimated Federal Revenue","Estimated Non-Federal Revenue","Estimated Total Revenue","Total Proposed Commitments","Estimated Federal Revenue","Estimated Non-Federal Revenue","Estimated Total Revenue","Total Proposed Commitments","Estimated Federal Revenue","Estimated Non-Federal Revenue","Estimated Total Revenue","Total Proposed Commitments","Estimated Federal Revenue","Estimated Non-Federal Revenue","Estimated Total Revenue","Total Proposed Commitments"]
["CTF - Comprehensive Transit Fund",null,0,0,{"$f":"'FY 2014'!D19","v":0},null,0,0,{"$f":"'FY 2015'!D19","v":0},null,0,0,{"$f":"'FY 2016'!D19","v":0},null,0,0,{"$f":"'FY 2017'!D19","v":0}]
["Section 3038 - Over the Road Bus Program",0,0,0,{"$f":"'FY 2014'!D20","v":0},0,0,0,{"$f":"'FY 2015'!D20","v":0},0,0,0,{"$f":"'FY 2016'!D20","v":0},0,0,0,{"$f":"'FY 2017'!D20","v":0}]
["Section 3045 - National Fuel Cell Technology Development Program",0,0,0,{"$f":"'FY 2014'!D21","v":0},0,0,0,{"$f":"'FY 2015'!D21","v":0},0,0,0,{"$f":"'FY 2016'!D21","v":0},0,0,0,{"$f":"'FY 2017'!D21","v":0}]
["Section 5303 - Metropolitan Transportation Planning",0,0,0,{"$f":"'FY 2014'!D22","v":0},0,0,0,{"$f":"'FY 2015'!D22","v":0},0,0,0,{"$f":"'FY 2016'!D22","v":0},0,0,0,{"$f":"'FY 2017'!D22","v":0}]
["Section 5304 - Statewide Transportation Planning",0,0,0,{"$f":"'FY 2014'!D23","v":0},0,0,0,{"$f":"'FY 2015'!D23","v":0},0,0,0,{"$f":"'FY 2016'!D23","v":0},0,0,0,{"$f":"'FY 2017'!D23","v":0}]
["Section 5305 - Metropolitan and Statewide Planning",0,0,0,{"$f":"'FY 2014'!D24","v":0},0,0,0,{"$f":"'FY 2015'!D24","v":0},0,0,0,{"$f":"'FY 2016'!D24","v":0},0,0,0,{"$f":"'FY 2017'!D24","v":0}]
["Section 5307 - UZA Formula",680000,1150000,1830000,{"$f":"'FY 2014'!D25","v":1830000},0,0,0,{"$f":"'FY 2015'!D25","v":0},0,0,0,{"$f":"'FY 2016'!D25","v":0},0,0,0,{"$f":"'FY 2017'!D25","v":0}]
["Section 5308 - Clean Fuels Program",0,0,0,{"$f":"'FY 2014'!D26","v":0},0,0,0,{"$f":"'FY 2015'!D26","v":0},0,0,0,{"$f":"'FY 2016'!D26","v":0},0,0,0,{"$f":"'FY 2017'!D26","v":0}]
["Section 5309 - Fixed Guideway Capital Investment Grant",0,0,0,{"$f":"'FY 2014'!D27","v":0},0,0,0,{"$f":"'FY 2015'!D27","v":0},0,0,0,{"$f":"'FY 2016'!D27","v":0},0,0,0,{"$f":"'FY 2017'!D27","v":0}]
["Section 5310 - Enhanced Mobility of Seniors and Individuals with Disabilities",0,0,0,{"$f":"'FY 2014'!D28","v":0},0,0,0,{"$f":"'FY 2015'!D28","v":0},0,0,0,{"$f":"'FY 2016'!D28","v":0},0,0,0,{"$f":"'FY 2017'!D28","v":0}]
["Section 5311 - Non-UZA ",26030,26030,52060,{"$f":"'FY 2014'!D29","v":52060},26030,26030,52060,{"$f":"'FY 2015'!D29","v":52060},26030,26030,52060,{"$f":"'FY 2016'!D29","v":52060},26030,26030,52060,{"$f":"'FY 2017'!D29","v":52060}]
["Section 5312 - Research, Development, Demonstration, and Deployment",0,0,0,{"$f":"'FY 2014'!D31","v":0},0,0,0,{"$f":"'FY 2015'!D31","v":0},0,0,0,{"$f":"'FY 2016'!D31","v":0},0,0,0,{"$f":"'FY 2017'!D31","v":0}]
["Section 5313 - Transit Cooperative Research Program",0,0,0,{"$f":"'FY 2014'!D32","v":0},0,0,0,{"$f":"'FY 2015'!D32","v":0},0,0,0,{"$f":"'FY 2016'!D32","v":0},0,0,0,{"$f":"'FY 2017'!D32","v":0}]
["Section 5314 - Technical Assistance and Standards",0,0,0,{"$f":"'FY 2014'!D33","v":299000},0,0,0,{"$f":"'FY 2015'!D33","v":0},0,0,0,{"$f":"'FY 2016'!D33","v":0},0,0,0,{"$f":"'FY 2017'!D33","v":0}]
["Section 5316 - Transit - Section 5316 - Job Access/Reverse Commute",193000,106000,299000,{"$f":"'FY 2014'!D34","v":75000},0,0,0,{"$f":"'FY 2015'!D34","v":0},0,0,0,{"$f":"'FY 2016'!D34","v":0},0,0,0,{"$f":"'FY 2017'!D34","v":0}]
["Section 5317 - Transit - Section 5317 - New Freedom Initiative",75000,0,75000,{"$f":"'FY 2014'!D35","v":0},0,0,0,{"$f":"'FY 2015'!D35","v":0},0,0,0,{"$f":"'FY 2016'!D35","v":0},0,0,0,{"$f":"'FY 2017'!D35","v":0}]
["Section 5320 - Alternative Transportation in Parks and Public Lands",0,0,0,{"$f":"'FY 2014'!D41","v":0},0,0,0,{"$f":"'FY 2015'!D41","v":0},0,0,0,{"$f":"'FY 2016'!D41","v":0},0,0,0,{"$f":"'FY 2017'!D41","v":0}]
["Section 5322 - Human Resources and Training",0,0,0,{"$f":"'FY 2014'!D42","v":0},0,0,0,{"$f":"'FY 2015'!D42","v":0},0,0,0,{"$f":"'FY 2016'!D42","v":0},0,0,0,{"$f":"'FY 2017'!D42","v":0}]
["Section 5324 - Emergency Relief",0,0,0,0,0,0,0,0,0,0,0,0,0,0,0,0]
["Section 5326 - Asset Management Provisions",0,0,0,0,0,0,0,0,0,0,0,0,0,0,0,0]
["Section 5329 - Safety",0,0,0,0,0,0,0,0,0,0,0,0,0,0,0,0]
["Section 5337 - State of Good Repair Grants",0,0,0,0,0,0,0,0,0,0,0,0,0,0,0,0]
["Section 5339 - Bus and Bus Facilities",0,0,0,0,0,0,0,0,0,0,0,0,0,0,0,0]
["Section 5505 - University Transportation Centers Program",0,0,0,0,0,0,0,0,0,0,0,0,0,0,0,0]
["Total Transit",974030,1282030,2256060,{"$f":"SUM(E19:E42)","v":2256060},26030,26030,52060,52060,26030,26030,52060,52060,26030,26030,52060,{"$f":"SUM(Q19:Q42)","v":52060}]
["Grand Total",6026918,2170497,8197415,{"$f":"SUM(E15+E43)","v":8197415},3270962,1382348,4653310,4653310,12765379,1520137,14285516,14285516,1799193,323030,2122223,2122223]

{"sheet":"Illustrative","index":6,"n_rows":4,"n_cols":32,"rows_kept":4,"cut":false,"hidden":false,"merged":[[1,0,1,22],[0,0,0,22]]}
["Illustrative Projects (Optional)"]
["2013-01-09"]
["Required Fields",null,null,null,null,null,null,null,null,null,null,null,null,null,null,null,null,null,null,null,null,null,null,null,null,"Optional Fields"]
["Fiscal Year","County","Respon-sible Agency","Project Name","Limits","Length","Primary Work Type","Project Description","Phase","Advance Construct","Federal Cost ($1000s)","Federal Fund Source","State Cost ($1000s)","State Fund Source","Local Cost ($1000s)","Local Fund Source","Total Cost ($1000s)","MDOT Job No.","Local ID No.","MPO/ Rural Approval Date","Amend-ment Type","Air Quality","Comments","Total Project Cost ($1000s)","x","Local Priority","EJ","Federal Approval Date ","Capped Federal Cost ($1000s)","Date Obligated","Amount Obligated ($1000s)","Let Date"]

{"sheet":"NonFHWA_NonFTA","index":7,"n_rows":10,"n_cols":32,"rows_kept":10,"cut":false,"hidden":false,"merged":[[1,0,1,22],[0,0,0,22]]}
["Non FHWA/FTA Projects FY 2014 - 2017 (Optional)"]
["2013-01-02"]
["Required Fields",null,null,null,null,null,null,null,null,null,null,null,null,null,null,null,null,null,null,null,null,null,null,null,null,"Optional Fields"]
["Fiscal Year","County","Respon-sible Agency","Project Name","Limits","Length","Primary Work Type","Project Description","Phase","Advance Construct","Federal Cost ($1000s)","Federal Fund Source","State Cost ($1000s)","State Fund Source","Local Cost ($1000s)","Local Fund Source","Total Cost ($1000s)","MDOT Job No.","Local ID No.","MPO/ Rural Approval Date","Amend-ment Type","Air Quality","Comments","Total Project Cost ($1000s)","x","Local Priority","EJ","Federal Approval Date ","Capped Federal Cost ($1000s)","Date Obligated","Amount Obligated ($1000s)","Let Date"]
[2014,"Berrien","City of Niles","Snow Removal Equipment","Jerry Tyler Memorial Airport",null,"Aviation","Replace aging snow removal equipment",null,null,90,null,5,null,5,"CITY",100,null,null,null,null,null,null,100]
[2015,"Berrien","City of Niles","Runway 15/33","Jerry Tyler Memorial Airport",null,"Aviation","Paint and Crack Seal Rwy 15/33","CON",null,39,null,2,null,2,"CITY",43,null,null,null,null,null,null,43]
[2017,"Berrien","City of Niles","Rehabilitate Runway 15/33","Jerry Tyler Memorial Airport",null,"Aviation","Design the rehabilitation of runway 15/33","Design",null,68,null,3750,null,4,"CITY",75,null,null,null,null,null,null,75]
[2018,"Berrien","City of Niles","Rehabilitate Runway 15/33","Jerry Tyler Memorial Airport",null,"Aviation","Full rehab of runway 15/33","CON",null,642,null,59,null,59,"CITY",1175,null,null,null,null,null,"Federal apportionment in the amount of 416,000",1175]
[2020,"Berrien","City of Niles","Rehabilitate Airport Apron and Parking Lot","Jerry Tyler Memorial Airport",null,"Aviation","Rehad east aircraft apron and automobile parking lot","CON",null,207,null,12,null,12,"CITY",230,null,null,null,null,null,null,230]
[2023,"Berrien","City of Niles","Fence Installation","Jerry Tyler Memorial Airport",null,"Aviation","Construct animal control fence","CON",null,328,null,18,null,18,"CITY",364,null,null,null,null,null,null,364]

{"sheet":"MDOT FTA Detail","index":8,"n_rows":159,"n_cols":15,"rows_kept":159,"cut":false,"hidden":false,"merged":[[2,3,2,5],[2,6,2,8],[2,9,2,11],[2,12,2,14]]}
[null,"E-File v. 3.4 (04.26.13)"]
[]
[null,null,null,2014,null,null,2015,null,null,2016,null,null,2017]
["Fund","Fund Sources","MDOT","Proposed Federal Commitments","Proposed Non-Federal Commitments","Total Proposed Commitments","Proposed Federal Commitments","Proposed Non-Federal Commitments","Total Proposed Commitments","Proposed Federal Commitments","Proposed Non-Federal Commitments","Total Proposed Commitments","Proposed Federal Commitments","Proposed Non-Federal Commitments","Total Proposed Commitments"]
[]
["BHI","Bridge Rehabilitation - Prior 1991 - Interstate","MDOT FA",{"$f":"SUMPRODUCT((Projects!$A$5:$A$2481='MDOT FTA Detail'!$D$3)*(Projects!$C$5:$C$2481='MDOT FTA Detail'!$C$4)*(Projects!$L$5:$L$2481='MDOT FTA Detail'!$A6)*(Projects!$J$5:$J$2481<>'MDOT FTA Detail'!$A$159)*(Projects!$K$5:K$2481))","v":0},{"$f":"F6-D6","v":0},{"$f":"SUMPRODUCT((Projects!$A$5:$A$2481='MDOT FTA Detail'!$D$3)*(Projects!$C$5:$C$2481='MDOT FTA Detail'!$C$4)*(Projects!$L$5:$L$2481='MDOT FTA Detail'!$A6)*(Projects!$J$5:$J$2481<>'MDOT FTA Detail'!$A$159)*(Projects!$Q$5:Q$2481))","v":0},{"$f":"SUMPRODUCT((Projects!$A$5:$A$2481='MDOT FTA Detail'!$G$3)*(Projects!$C$5:$C$2481='MDOT FTA Detail'!$C$4)*(Projects!$L$5:$L$2481='MDOT FTA Detail'!$A6)*(Projects!$J$5:$J$2481<>'MDOT FTA Detail'!$A$159)*(Projects!$K$5:K$2481))","v":0},{"$f":"I6-G6","v":0},{"$f":"SUMPRODUCT((Projects!$A$5:$A$2481='MDOT FTA Detail'!$G$3)*(Projects!$C$5:$C$2481='MDOT FTA Detail'!$C$4)*(Projects!$L$5:$L$2481='MDOT FTA Detail'!$A6)*(Projects!$J$5:$J$2481<>'MDOT FTA Detail'!$A$159)*(Projects!$Q$5:Q$2481))","v":0},{"$f":"SUMPRODUCT((Projects!$A$5:$A$2481='MDOT FTA Detail'!$J$3)*(Projects!$C$5:$C$2481='MDOT FTA Detail'!$C$4)*(Projects!$L$5:$L$2481='MDOT FTA Detail'!$A6)*(Projects!$J$5:$J$2481<>'MDOT FTA Detail'!$A$159)*(Projects!$K$5:$K$2481))","v":0},{"$f":"L6-J6","v":0},{"$f":"SUMPRODUCT((Projects!$A$5:$A$2481='MDOT FTA Detail'!$J$3)*(Projects!$C$5:$C$2481='MDOT FTA Detail'!$C$4)*(Projects!$L$5:$L$2481='MDOT FTA Detail'!$A6)*(Projects!$J$5:$J$2481<>'MDOT FTA Detail'!$A$159)*(Projects!$Q$5:$Q$2481))","v":0},{"$f":"SUMPRODUCT((Projects!$A$5:$A$2481='MDOT FTA Detail'!$M$3)*(Projects!$C$5:$C$2481='MDOT FTA Detail'!$C$4)*(Projects!$L$5:$L$2481='MDOT FTA Detail'!$A6)*(Projects!$J$5:$J$2481<>'MDOT FTA Detail'!$A$159)*(Projects!$K$5:$K$2481))","v":0},{"$f":"O6-M6","v":0},{"$f":"SUMPRODUCT((Projects!$A$5:$A$2481='MDOT FTA Detail'!$M$3)*(Projects!$C$5:$C$2481='MDOT FTA Detail'!$C$4)*(Projects!$L$5:$L$2481='MDOT FTA Detail'!$A6)*(Projects!$J$5:$J$2481<>'MDOT FTA Detail'!$A$159)*(Projects!$Q$5:$Q$2481))","v":0}]
["BHN","Bridge Rehabilitation - National Highway System (NHS)","MDOT FA",{"$f":"SUMPRODUCT((Projects!$A$5:$A$2481='MDOT FTA Detail'!$D$3)*(Projects!$C$5:$C$2481='MDOT FTA Detail'!$C$4)*(Projects!$L$5:$L$2481='MDOT FTA Detail'!$A7)*(Projects!$J$5:$J$2481<>'MDOT FTA Detail'!$A$159)*(Projects!$K$5:K$2481))","v":0},0,{"$f":"SUMPRODUCT((Projects!$A$5:$A$2481='MDOT FTA Detail'!$D$3)*(Projects!$C$5:$C$2481='MDOT FTA Detail'!$C$4)*(Projects!$L$5:$L$2481='MDOT FTA Detail'!$A7)*(Projects!$J$5:$J$2481<>'MDOT FTA Detail'!$A$159)*(Projects!$Q$5:Q$2481))","v":0},{"$f":"SUMPRODUCT((Projects!$A$5:$A$2481='MDOT FTA Detail'!$G$3)*(Projects!$C$5:$C$2481='MDOT FTA Detail'!$C$4)*(Projects!$L$5:$L$2481='MDOT FTA Detail'!$A7)*(Projects!$J$5:$J$2481<>'MDOT FTA Detail'!$A$159)*(Projects!$K$5:K$2481))","v":0},0,{"$f":"SUMPRODUCT((Projects!$A$5:$A$2481='MDOT FTA Detail'!$G$3)*(Projects!$C$5:$C$2481='MDOT FTA Detail'!$C$4)*(Projects!$L$5:$L$2481='MDOT FTA Detail'!$A7)*(Projects!$J$5:$J$2481<>'MDOT FTA Detail'!$A$159)*(Projects!$Q$5:Q$2481))","v":0},{"$f":"SUMPRODUCT((Projects!$A$5:$A$2481='MDOT FTA Detail'!$J$3)*(Projects!$C$5:$C$2481='MDOT FTA Detail'!$C$4)*(Projects!$L$5:$L$2481='MDOT FTA Detail'!$A7)*(Projects!$J$5:$J$2481<>'MDOT FTA Detail'!$A$159)*(Projects!$K$5:$K$2481))","v":0},0,{"$f":"SUMPRODUCT((Projects!$A$5:$A$2481='MDOT FTA Detail'!$J$3)*(Projects!$C$5:$C$2481='MDOT FTA Detail'!$C$4)*(Projects!$L$5:$L$2481='MDOT FTA Detail'!$A7)*(Projects!$J$5:$J$2481<>'MDOT FTA Detail'!$A$159)*(Projects!$Q$5:$Q$2481))","v":0},{"$f":"SUMPRODUCT((Projects!$A$5:$A$2481='MDOT FTA Detail'!$M$3)*(Projects!$C$5:$C$2481='MDOT FTA Detail'!$C$4)*(Projects!$L$5:$L$2481='MDOT FTA Detail'!$A7)*(Projects!$J$5:$J$2481<>'MDOT FTA Detail'!$A$159)*(Projects!$K$5:$K$2481))","v":0},0,{"$f":"SUMPRODUCT((Projects!$A$5:$A$2481='MDOT FTA Detail'!$M$3)*(Projects!$C$5:$C$2481='MDOT FTA Detail'!$C$4)*(Projects!$L$5:$L$2481='MDOT FTA Detail'!$A7)*(Projects!$J$5:$J$2481<>'MDOT FTA Detail'!$A$159)*(Projects!$Q$5:$Q$2481))","v":0}]
["BHO","Bridge Rehabilitation - Not Classified, Off System","MDOT FA",{"$f":"SUMPRODUCT((Projects!$A$5:$A$2481='MDOT FTA Detail'!$D$3)*(Projects!$C$5:$C$2481='MDOT FTA Detail'!$C$4)*(Projects!$L$5:$L$2481='MDOT FTA Detail'!$A8)*(Projects!$J$5:$J$2481<>'MDOT FTA Detail'!$A$159)*(Projects!$K$5:K$2481))","v":0},0,{"$f":"SUMPRODUCT((Projects!$A$5:$A$2481='MDOT FTA Detail'!$D$3)*(Projects!$C$5:$C$2481='MDOT FTA Detail'!$C$4)*(Projects!$L$5:$L$2481='MDOT FTA Detail'!$A8)*(Projects!$J$5:$J$2481<>'MDOT FTA Detail'!$A$159)*(Projects!$Q$5:Q$2481))","v":0},{"$f":"SUMPRODUCT((Projects!$A$5:$A$2481='MDOT FTA Detail'!$G$3)*(Projects!$C$5:$C$2481='MDOT FTA Detail'!$C$4)*(Projects!$L$5:$L$2481='MDOT FTA Detail'!$A8)*(Projects!$J$5:$J$2481<>'MDOT FTA Detail'!$A$159)*(Projects!$K$5:K$2481))","v":0},0,{"$f":"SUMPRODUCT((Projects!$A$5:$A$2481='MDOT FTA Detail'!$G$3)*(Projects!$C$5:$C$2481='MDOT FTA Detail'!$C$4)*(Projects!$L$5:$L$2481='MDOT FTA Detail'!$A8)*(Projects!$J$5:$J$2481<>'MDOT FTA Detail'!$A$159)*(Projects!$Q$5:Q$2481))","v":0},{"$f":"SUMPRODUCT((Projects!$A$5:$A$2481='MDOT FTA Detail'!$J$3)*(Projects!$C$5:$C$2481='MDOT FTA Detail'!$C$4)*(Projects!$L$5:$L$2481='MDOT FTA Detail'!$A8)*(Projects!$J$5:$J$2481<>'MDOT FTA Detail'!$A$159)*(Projects!$K$5:$K$2481))","v":0},0,{"$f":"SUMPRODUCT((Projects!$A$5:$A$2481='MDOT FTA Detail'!$J$3)*(Projects!$C$5:$C$2481='MDOT FTA Detail'!$C$4)*(Projects!$L$5:$L$2481='MDOT FTA Detail'!$A8)*(Projects!$J$5:$J$2481<>'MDOT FTA Detail'!$A$159)*(Projects!$Q$5:$Q$2481))","v":0},{"$f":"SUMPRODUCT((Projects!$A$5:$A$2481='MDOT FTA Detail'!$M$3)*(Projects!$C$5:$C$2481='MDOT FTA Detail'!$C$4)*(Projects!$L$5:$L$2481='MDOT FTA Detail'!$A8)*(Projects!$J$5:$J$2481<>'MDOT FTA Detail'!$A$159)*(Projects!$K$5:$K$2481))","v":0},0,{"$f":"SUMPRODUCT((Projects!$A$5:$A$2481='MDOT FTA Detail'!$M$3)*(Projects!$C$5:$C$2481='MDOT FTA Detail'!$C$4)*(Projects!$L$5:$L$2481='MDOT FTA Detail'!$A8)*(Projects!$J$5:$J$2481<>'MDOT FTA Detail'!$A$159)*(Projects!$Q$5:$Q$2481))","v":0}]
["BHT","Bridge Rehabilitation - Surface Transportation Program (STP)","MDOT FA",{"$f":"SUMPRODUCT((Projects!$A$5:$A$2481='MDOT FTA Detail'!$D$3)*(Projects!$C$5:$C$2481='MDOT FTA Detail'!$C$4)*(Projects!$L$5:$L$2481='MDOT FTA Detail'!$A9)*(Projects!$J$5:$J$2481<>'MDOT FTA Detail'!$A$159)*(Projects!$K$5:K$2481))","v":0},0,{"$f":"SUMPRODUCT((Projects!$A$5:$A$2481='MDOT FTA Detail'!$D$3)*(Projects!$C$5:$C$2481='MDOT FTA Detail'!$C$4)*(Projects!$L$5:$L$2481='MDOT FTA Detail'!$A9)*(Projects!$J$5:$J$2481<>'MDOT FTA Detail'!$A$159)*(Projects!$Q$5:Q$2481))","v":0},{"$f":"SUMPRODUCT((Projects!$A$5:$A$2481='MDOT FTA Detail'!$G$3)*(Projects!$C$5:$C$2481='MDOT FTA Detail'!$C$4)*(Projects!$L$5:$L$2481='MDOT FTA Detail'!$A9)*(Projects!$J$5:$J$2481<>'MDOT FTA Detail'!$A$159)*(Projects!$K$5:K$2481))","v":0},0,{"$f":"SUMPRODUCT((Projects!$A$5:$A$2481='MDOT FTA Detail'!$G$3)*(Projects!$C$5:$C$2481='MDOT FTA Detail'!$C$4)*(Projects!$L$5:$L$2481='MDOT FTA Detail'!$A9)*(Projects!$J$5:$J$2481<>'MDOT FTA Detail'!$A$159)*(Projects!$Q$5:Q$2481))","v":0},{"$f":"SUMPRODUCT((Projects!$A$5:$A$2481='MDOT FTA Detail'!$J$3)*(Projects!$C$5:$C$2481='MDOT FTA Detail'!$C$4)*(Projects!$L$5:$L$2481='MDOT FTA Detail'!$A9)*(Projects!$J$5:$J$2481<>'MDOT FTA Detail'!$A$159)*(Projects!$K$5:$K$2481))","v":0},0,{"$f":"SUMPRODUCT((Projects!$A$5:$A$2481='MDOT FTA Detail'!$J$3)*(Projects!$C$5:$C$2481='MDOT FTA Detail'!$C$4)*(Projects!$L$5:$L$2481='MDOT FTA Detail'!$A9)*(Projects!$J$5:$J$2481<>'MDOT FTA Detail'!$A$159)*(Projects!$Q$5:$Q$2481))","v":0},{"$f":"SUMPRODUCT((Projects!$A$5:$A$2481='MDOT FTA Detail'!$M$3)*(Projects!$C$5:$C$2481='MDOT FTA Detail'!$C$4)*(Projects!$L$5:$L$2481='MDOT FTA Detail'!$A9)*(Projects!$J$5:$J$2481<>'MDOT FTA Detail'!$A$159)*(Projects!$K$5:$K$2481))","v":0},0,{"$f":"SUMPRODUCT((Projects!$A$5:$A$2481='MDOT FTA Detail'!$M$3)*(Projects!$C$5:$C$2481='MDOT FTA Detail'!$C$4)*(Projects!$L$5:$L$2481='MDOT FTA Detail'!$A9)*(Projects!$J$5:$J$2481<>'MDOT FTA Detail'!$A$159)*(Projects!$Q$5:$Q$2481))","v":0}]
["BI08","Build Michigan FY08","MDOT FA",{"$f":"SUMPRODUCT((Projects!$A$5:$A$2481='MDOT FTA Detail'!$D$3)*(Projects!$C$5:$C$2481='MDOT FTA Detail'!$C$4)*(Projects!$L$5:$L$2481='MDOT FTA Detail'!$A10)*(Projects!$J$5:$J$2481<>'MDOT FTA Detail'!$A$159)*(Projects!$K$5:K$2481))","v":0},0,{"$f":"SUMPRODUCT((Projects!$A$5:$A$2481='MDOT FTA Detail'!$D$3)*(Projects!$C$5:$C$2481='MDOT FTA Detail'!$C$4)*(Projects!$L$5:$L$2481='MDOT FTA Detail'!$A10)*(Projects!$J$5:$J$2481<>'MDOT FTA Detail'!$A$159)*(Projects!$Q$5:Q$2481))","v":0},{"$f":"SUMPRODUCT((Projects!$A$5:$A$2481='MDOT FTA Detail'!$G$3)*(Projects!$C$5:$C$2481='MDOT FTA Detail'!$C$4)*(Projects!$L$5:$L$2481='MDOT FTA Detail'!$A10)*(Projects!$J$5:$J$2481<>'MDOT FTA Detail'!$A$159)*(Projects!$K$5:K$2481))","v":0},0,{"$f":"SUMPRODUCT((Projects!$A$5:$A$2481='MDOT FTA Detail'!$G$3)*(Projects!$C$5:$C$2481='MDOT FTA Detail'!$C$4)*(Projects!$L$5:$L$2481='MDOT FTA Detail'!$A10)*(Projects!$J$5:$J$2481<>'MDOT FTA Detail'!$A$159)*(Projects!$Q$5:Q$2481))","v":0},{"$f":"SUMPRODUCT((Projects!$A$5:$A$2481='MDOT FTA Detail'!$J$3)*(Projects!$C$5:$C$2481='MDOT FTA Detail'!$C$4)*(Projects!$L$5:$L$2481='MDOT FTA Detail'!$A10)*(Projects!$J$5:$J$2481<>'MDOT FTA Detail'!$A$159)*(Projects!$K$5:$K$2481))","v":0},0,{"$f":"SUMPRODUCT((Projects!$A$5:$A$2481='MDOT FTA Detail'!$J$3)*(Projects!$C$5:$C$2481='MDOT FTA Detail'!$C$4)*(Projects!$L$5:$L$2481='MDOT FTA Detail'!$A10)*(Projects!$J$5:$J$2481<>'MDOT FTA Detail'!$A$159)*(Projects!$Q$5:$Q$2481))","v":0},{"$f":"SUMPRODUCT((Projects!$A$5:$A$2481='MDOT FTA Detail'!$M$3)*(Projects!$C$5:$C$2481='MDOT FTA Detail'!$C$4)*(Projects!$L$5:$L$2481='MDOT FTA Detail'!$A10)*(Projects!$J$5:$J$2481<>'MDOT FTA Detail'!$A$159)*(Projects!$K$5:$K$2481))","v":0},0,{"$f":"SUMPRODUCT((Projects!$A$5:$A$2481='MDOT FTA Detail'!$M$3)*(Projects!$C$5:$C$2481='MDOT FTA Detail'!$C$4)*(Projects!$L$5:$L$2481='MDOT FTA Detail'!$A10)*(Projects!$J$5:$J$2481<>'MDOT FTA Detail'!$A$159)*(Projects!$Q$5:$Q$2481))","v":0}]
["BO","Bridge Not Classified Off System","MDOT FA",{"$f":"SUMPRODUCT((Projects!$A$5:$A$2481='MDOT FTA Detail'!$D$3)*(Projects!$C$5:$C$2481='MDOT FTA Detail'!$C$4)*(Projects!$L$5:$L$2481='MDOT FTA Detail'!$A11)*(Projects!$J$5:$J$2481<>'MDOT FTA Detail'!$A$159)*(Projects!$K$5:K$2481))","v":0},{"$f":"F11-D11","v":0},{"$f":"SUMPRODUCT((Projects!$A$5:$A$2481='MDOT FTA Detail'!$D$3)*(Projects!$C$5:$C$2481='MDOT FTA Detail'!$C$4)*(Projects!$L$5:$L$2481='MDOT FTA Detail'!$A11)*(Projects!$J$5:$J$2481<>'MDOT FTA Detail'!$A$159)*(Projects!$Q$5:Q$2481))","v":0},{"$f":"SUMPRODUCT((Projects!$A$5:$A$2481='MDOT FTA Detail'!$G$3)*(Projects!$C$5:$C$2481='MDOT FTA Detail'!$C$4)*(Projects!$L$5:$L$2481='MDOT FTA Detail'!$A11)*(Projects!$J$5:$J$2481<>'MDOT FTA Detail'!$A$159)*(Projects!$K$5:K$2481))","v":0},{"$f":"I11-G11","v":0},{"$f":"SUMPRODUCT((Projects!$A$5:$A$2481='MDOT FTA Detail'!$G$3)*(Projects!$C$5:$C$2481='MDOT FTA Detail'!$C$4)*(Projects!$L$5:$L$2481='MDOT FTA Detail'!$A11)*(Projects!$J$5:$J$2481<>'MDOT FTA Detail'!$A$159)*(Projects!$Q$5:Q$2481))","v":0},{"$f":"SUMPRODUCT((Projects!$A$5:$A$2481='MDOT FTA Detail'!$J$3)*(Projects!$C$5:$C$2481='MDOT FTA Detail'!$C$4)*(Projects!$L$5:$L$2481='MDOT FTA Detail'!$A11)*(Projects!$J$5:$J$2481<>'MDOT FTA Detail'!$A$159)*(Projects!$K$5:$K$2481))","v":0},{"$f":"L11-J11","v":0},{"$f":"SUMPRODUCT((Projects!$A$5:$A$2481='MDOT FTA Detail'!$J$3)*(Projects!$C$5:$C$2481='MDOT FTA Detail'!$C$4)*(Projects!$L$5:$L$2481='MDOT FTA Detail'!$A11)*(Projects!$J$5:$J$2481<>'MDOT FTA Detail'!$A$159)*(Projects!$Q$5:$Q$2481))","v":0},{"$f":"SUMPRODUCT((Projects!$A$5:$A$2481='MDOT FTA Detail'!$M$3)*(Projects!$C$5:$C$2481='MDOT FTA Detail'!$C$4)*(Projects!$L$5:$L$2481='MDOT FTA Detail'!$A11)*(Projects!$J$5:$J$2481<>'MDOT FTA Detail'!$A$159)*(Projects!$K$5:$K$2481))","v":0},{"$f":"O11-M11","v":0},{"$f":"SUMPRODUCT((Projects!$A$5:$A$2481='MDOT FTA Detail'!$M$3)*(Projects!$C$5:$C$2481='MDOT FTA Detail'!$C$4)*(Projects!$L$5:$L$2481='MDOT FTA Detail'!$A11)*(Projects!$J$5:$J$2481<>'MDOT FTA Detail'!$A$159)*(Projects!$Q$5:$Q$2481))","v":0}]
["BOWD","Business Opportunity & Workforce Development Center","MDOT FA",{"$f":"SUMPRODUCT((Projects!$A$5:$A$2481='MDOT FTA Detail'!$D$3)*(Projects!$C$5:$C$2481='MDOT FTA Detail'!$C$4)*(Projects!$L$5:$L$2481='MDOT FTA Detail'!$A12)*(Projects!$J$5:$J$2481<>'MDOT FTA Detail'!$A$159)*(Projects!$K$5:K$2481))","v":0},0,{"$f":"SUMPRODUCT((Projects!$A$5:$A$2481='MDOT FTA Detail'!$D$3)*(Projects!$C$5:$C$2481='MDOT FTA Detail'!$C$4)*(Projects!$L$5:$L$2481='MDOT FTA Detail'!$A12)*(Projects!$J$5:$J$2481<>'MDOT FTA Detail'!$A$159)*(Projects!$Q$5:Q$2481))","v":0},{"$f":"SUMPRODUCT((Projects!$A$5:$A$2481='MDOT FTA Detail'!$G$3)*(Projects!$C$5:$C$2481='MDOT FTA Detail'!$C$4)*(Projects!$L$5:$L$2481='MDOT FTA Detail'!$A12)*(Projects!$J$5:$J$2481<>'MDOT FTA Detail'!$A$159)*(Projects!$K$5:K$2481))","v":0},0,{"$f":"SUMPRODUCT((Projects!$A$5:$A$2481='MDOT FTA Detail'!$G$3)*(Projects!$C$5:$C$2481='MDOT FTA Detail'!$C$4)*(Projects!$L$5:$L$2481='MDOT FTA Detail'!$A12)*(Projects!$J$5:$J$2481<>'MDOT FTA Detail'!$A$159)*(Projects!$Q$5:Q$2481))","v":0},{"$f":"SUMPRODUCT((Projects!$A$5:$A$2481='MDOT FTA Detail'!$J$3)*(Projects!$C$5:$C$2481='MDOT FTA Detail'!$C$4)*(Projects!$L$5:$L$2481='MDOT FTA Detail'!$A12)*(Projects!$J$5:$J$2481<>'MDOT FTA Detail'!$A$159)*(Projects!$K$5:$K$2481))","v":0},0,{"$f":"SUMPRODUCT((Projects!$A$5:$A$2481='MDOT FTA Detail'!$J$3)*(Projects!$C$5:$C$2481='MDOT FTA Detail'!$C$4)*(Projects!$L$5:$L$2481='MDOT FTA Detail'!$A12)*(Projects!$J$5:$J$2481<>'MDOT FTA Detail'!$A$159)*(Projects!$Q$5:$Q$2481))","v":0},{"$f":"SUMPRODUCT((Projects!$A$5:$A$2481='MDOT FTA Detail'!$M$3)*(Projects!$C$5:$C$2481='MDOT FTA Detail'!$C$4)*(Projects!$L$5:$L$2481='MDOT FTA Detail'!$A12)*(Projects!$J$5:$J$2481<>'MDOT FTA Detail'!$A$159)*(Projects!$K$5:$K$2481))","v":0},0,{"$f":"SUMPRODUCT((Projects!$A$5:$A$2481='MDOT FTA Detail'!$M$3)*(Projects!$C$5:$C$2481='MDOT FTA Detail'!$C$4)*(Projects!$L$5:$L$2481='MDOT FTA Detail'!$A12)*(Projects!$J$5:$J$2481<>'MDOT FTA Detail'!$A$159)*(Projects!$Q$5:$Q$2481))","v":0}]
["BRI","Bridge Replacement - Pre 1991 Interstate","MDOT FA",{"$f":"SUMPRODUCT((Projects!$A$5:$A$2481='MDOT FTA Detail'!$D$3)*(Projects!$C$5:$C$2481='MDOT FTA Detail'!$C$4)*(Projects!$L$5:$L$2481='MDOT FTA Detail'!$A13)*(Projects!$J$5:$J$2481<>'MDOT FTA Detail'!$A$159)*(Projects!$K$5:K$2481))","v":0},0,{"$f":"SUMPRODUCT((Projects!$A$5:$A$2481='MDOT FTA Detail'!$D$3)*(Projects!$C$5:$C$2481='MDOT FTA Detail'!$C$4)*(Projects!$L$5:$L$2481='MDOT FTA Detail'!$A13)*(Projects!$J$5:$J$2481<>'MDOT FTA Detail'!$A$159)*(Projects!$Q$5:Q$2481))","v":0},{"$f":"SUMPRODUCT((Projects!$A$5:$A$2481='MDOT FTA Detail'!$G$3)*(Projects!$C$5:$C$2481='MDOT FTA Detail'!$C$4)*(Projects!$L$5:$L$2481='MDOT FTA Detail'!$A13)*(Projects!$J$5:$J$2481<>'MDOT FTA Detail'!$A$159)*(Projects!$K$5:K$2481))","v":0},0,{"$f":"SUMPRODUCT((Projects!$A$5:$A$2481='MDOT FTA Detail'!$G$3)*(Projects!$C$5:$C$2481='MDOT FTA Detail'!$C$4)*(Projects!$L$5:$L$2481='MDOT FTA Detail'!$A13)*(Projects!$J$5:$J$2481<>'MDOT FTA Detail'!$A$159)*(Projects!$Q$5:Q$2481))","v":0},{"$f":"SUMPRODUCT((Projects!$A$5:$A$2481='MDOT FTA Detail'!$J$3)*(Projects!$C$5:$C$2481='MDOT FTA Detail'!$C$4)*(Projects!$L$5:$L$2481='MDOT FTA Detail'!$A13)*(Projects!$J$5:$J$2481<>'MDOT FTA Detail'!$A$159)*(Projects!$K$5:$K$2481))","v":0},0,{"$f":"SUMPRODUCT((Projects!$A$5:$A$2481='MDOT FTA Detail'!$J$3)*(Projects!$C$5:$C$2481='MDOT FTA Detail'!$C$4)*(Projects!$L$5:$L$2481='MDOT FTA Detail'!$A13)*(Projects!$J$5:$J$2481<>'MDOT FTA Detail'!$A$159)*(Projects!$Q$5:$Q$2481))","v":0},{"$f":"SUMPRODUCT((Projects!$A$5:$A$2481='MDOT FTA Detail'!$M$3)*(Projects!$C$5:$C$2481='MDOT FTA Detail'!$C$4)*(Projects!$L$5:$L$2481='MDOT FTA Detail'!$A13)*(Projects!$J$5:$J$2481<>'MDOT FTA Detail'!$A$159)*(Projects!$K$5:$K$2481))","v":0},0,{"$f":"SUMPRODUCT((Projects!$A$5:$A$2481='MDOT FTA Detail'!$M$3)*(Projects!$C$5:$C$2481='MDOT FTA Detail'!$C$4)*(Projects!$L$5:$L$2481='MDOT FTA Detail'!$A13)*(Projects!$J$5:$J$2481<>'MDOT FTA Detail'!$A$159)*(Projects!$Q$5:$Q$2481))","v":0}]
["BRN","Bridge Replacement - National Highway System (NHS)","MDOT FA",{"$f":"SUMPRODUCT((Projects!$A$5:$A$2481='MDOT FTA Detail'!$D$3)*(Projects!$C$5:$C$2481='MDOT FTA Detail'!$C$4)*(Projects!$L$5:$L$2481='MDOT FTA Detail'!$A14)*(Projects!$J$5:$J$2481<>'MDOT FTA Detail'!$A$159)*(Projects!$K$5:K$2481))","v":0},0,{"$f":"SUMPRODUCT((Projects!$A$5:$A$2481='MDOT FTA Detail'!$D$3)*(Projects!$C$5:$C$2481='MDOT FTA Detail'!$C$4)*(Projects!$L$5:$L$2481='MDOT FTA Detail'!$A14)*(Projects!$J$5:$J$2481<>'MDOT FTA Detail'!$A$159)*(Projects!$Q$5:Q$2481))","v":0},{"$f":"SUMPRODUCT((Projects!$A$5:$A$2481='MDOT FTA Detail'!$G$3)*(Projects!$C$5:$C$2481='MDOT FTA Detail'!$C$4)*(Projects!$L$5:$L$2481='MDOT FTA Detail'!$A14)*(Projects!$J$5:$J$2481<>'MDOT FTA Detail'!$A$159)*(Projects!$K$5:K$2481))","v":0},0,{"$f":"SUMPRODUCT((Projects!$A$5:$A$2481='MDOT FTA Detail'!$G$3)*(Projects!$C$5:$C$2481='MDOT FTA Detail'!$C$4)*(Projects!$L$5:$L$2481='MDOT FTA Detail'!$A14)*(Projects!$J$5:$J$2481<>'MDOT FTA Detail'!$A$159)*(Projects!$Q$5:Q$2481))","v":0},{"$f":"SUMPRODUCT((Projects!$A$5:$A$2481='MDOT FTA Detail'!$J$3)*(Projects!$C$5:$C$2481='MDOT FTA Detail'!$C$4)*(Projects!$L$5:$L$2481='MDOT FTA Detail'!$A14)*(Projects!$J$5:$J$2481<>'MDOT FTA Detail'!$A$159)*(Projects!$K$5:$K$2481))","v":0},0,{"$f":"SUMPRODUCT((Projects!$A$5:$A$2481='MDOT FTA Detail'!$J$3)*(Projects!$C$5:$C$2481='MDOT FTA Detail'!$C$4)*(Projects!$L$5:$L$2481='MDOT FTA Detail'!$A14)*(Projects!$J$5:$J$2481<>'MDOT FTA Detail'!$A$159)*(Projects!$Q$5:$Q$2481))","v":0},{"$f":"SUMPRODUCT((Projects!$A$5:$A$2481='MDOT FTA Detail'!$M$3)*(Projects!$C$5:$C$2481='MDOT FTA Detail'!$C$4)*(Projects!$L$5:$L$2481='MDOT FTA Detail'!$A14)*(Projects!$J$5:$J$2481<>'MDOT FTA Detail'!$A$159)*(Projects!$K$5:$K$2481))","v":0},0,{"$f":"SUMPRODUCT((Projects!$A$5:$A$2481='MDOT FTA Detail'!$M$3)*(Projects!$C$5:$C$2481='MDOT FTA Detail'!$C$4)*(Projects!$L$5:$L$2481='MDOT FTA Detail'!$A14)*(Projects!$J$5:$J$2481<>'MDOT FTA Detail'!$A$159)*(Projects!$Q$5:$Q$2481))","v":0}]
["BRO","Bridge Replacement - Not Classified, Off System","MDOT FA",{"$f":"SUMPRODUCT((Projects!$A$5:$A$2481='MDOT FTA Detail'!$D$3)*(Projects!$C$5:$C$2481='MDOT FTA Detail'!$C$4)*(Projects!$L$5:$L$2481='MDOT FTA Detail'!$A15)*(Projects!$J$5:$J$2481<>'MDOT FTA Detail'!$A$159)*(Projects!$K$5:K$2481))","v":0},0,{"$f":"SUMPRODUCT((Projects!$A$5:$A$2481='MDOT FTA Detail'!$D$3)*(Projects!$C$5:$C$2481='MDOT FTA Detail'!$C$4)*(Projects!$L$5:$L$2481='MDOT FTA Detail'!$A15)*(Projects!$J$5:$J$2481<>'MDOT FTA Detail'!$A$159)*(Projects!$Q$5:Q$2481))","v":0},{"$f":"SUMPRODUCT((Projects!$A$5:$A$2481='MDOT FTA Detail'!$G$3)*(Projects!$C$5:$C$2481='MDOT FTA Detail'!$C$4)*(Projects!$L$5:$L$2481='MDOT FTA Detail'!$A15)*(Projects!$J$5:$J$2481<>'MDOT FTA Detail'!$A$159)*(Projects!$K$5:K$2481))","v":0},0,{"$f":"SUMPRODUCT((Projects!$A$5:$A$2481='MDOT FTA Detail'!$G$3)*(Projects!$C$5:$C$2481='MDOT FTA Detail'!$C$4)*(Projects!$L$5:$L$2481='MDOT FTA Detail'!$A15)*(Projects!$J$5:$J$2481<>'MDOT FTA Detail'!$A$159)*(Projects!$Q$5:Q$2481))","v":0},{"$f":"SUMPRODUCT((Projects!$A$5:$A$2481='MDOT FTA Detail'!$J$3)*(Projects!$C$5:$C$2481='MDOT FTA Detail'!$C$4)*(Projects!$L$5:$L$2481='MDOT FTA Detail'!$A15)*(Projects!$J$5:$J$2481<>'MDOT FTA Detail'!$A$159)*(Projects!$K$5:$K$2481))","v":0},0,{"$f":"SUMPRODUCT((Projects!$A$5:$A$2481='MDOT FTA Detail'!$J$3)*(Projects!$C$5:$C$2481='MDOT FTA Detail'!$C$4)*(Projects!$L$5:$L$2481='MDOT FTA Detail'!$A15)*(Projects!$J$5:$J$2481<>'MDOT FTA Detail'!$A$159)*(Projects!$Q$5:$Q$2481))","v":0},{"$f":"SUMPRODUCT((Projects!$A$5:$A$2481='MDOT FTA Detail'!$M$3)*(Projects!$C$5:$C$2481='MDOT FTA Detail'!$C$4)*(Projects!$L$5:$L$2481='MDOT FTA Detail'!$A15)*(Projects!$J$5:$J$2481<>'MDOT FTA Detail'!$A$159)*(Projects!$K$5:$K$2481))","v":0},0,{"$f":"SUMPRODUCT((Projects!$A$5:$A$2481='MDOT FTA Detail'!$M$3)*(Projects!$C$5:$C$2481='MDOT FTA Detail'!$C$4)*(Projects!$L$5:$L$2481='MDOT FTA Detail'!$A15)*(Projects!$J$5:$J$2481<>'MDOT FTA Detail'!$A$159)*(Projects!$Q$5:$Q$2481))","v":0}]
["BRT","Bridge Replacement - Surface Transportation Program (STP)","MDOT FA",{"$f":"SUMPRODUCT((Projects!$A$5:$A$2481='MDOT FTA Detail'!$D$3)*(Projects!$C$5:$C$2481='MDOT FTA Detail'!$C$4)*(Projects!$L$5:$L$2481='MDOT FTA Detail'!$A16)*(Projects!$J$5:$J$2481<>'MDOT FTA Detail'!$A$159)*(Projects!$K$5:K$2481))","v":0},0,{"$f":"SUMPRODUCT((Projects!$A$5:$A$2481='MDOT FTA Detail'!$D$3)*(Projects!$C$5:$C$2481='MDOT FTA Detail'!$C$4)*(Projects!$L$5:$L$2481='MDOT FTA Detail'!$A16)*(Projects!$J$5:$J$2481<>'MDOT FTA Detail'!$A$159)*(Projects!$Q$5:Q$2481))","v":0},{"$f":"SUMPRODUCT((Projects!$A$5:$A$2481='MDOT FTA Detail'!$G$3)*(Projects!$C$5:$C$2481='MDOT FTA Detail'!$C$4)*(Projects!$L$5:$L$2481='MDOT FTA Detail'!$A16)*(Projects!$J$5:$J$2481<>'MDOT FTA Detail'!$A$159)*(Projects!$K$5:K$2481))","v":0},0,{"$f":"SUMPRODUCT((Projects!$A$5:$A$2481='MDOT FTA Detail'!$G$3)*(Projects!$C$5:$C$2481='MDOT FTA Detail'!$C$4)*(Projects!$L$5:$L$2481='MDOT FTA Detail'!$A16)*(Projects!$J$5:$J$2481<>'MDOT FTA Detail'!$A$159)*(Projects!$Q$5:Q$2481))","v":0},{"$f":"SUMPRODUCT((Projects!$A$5:$A$2481='MDOT FTA Detail'!$J$3)*(Projects!$C$5:$C$2481='MDOT FTA Detail'!$C$4)*(Projects!$L$5:$L$2481='MDOT FTA Detail'!$A16)*(Projects!$J$5:$J$2481<>'MDOT FTA Detail'!$A$159)*(Projects!$K$5:$K$2481))","v":0},0,{"$f":"SUMPRODUCT((Projects!$A$5:$A$2481='MDOT FTA Detail'!$J$3)*(Projects!$C$5:$C$2481='MDOT FTA Detail'!$C$4)*(Projects!$L$5:$L$2481='MDOT FTA Detail'!$A16)*(Projects!$J$5:$J$2481<>'MDOT FTA Detail'!$A$159)*(Projects!$Q$5:$Q$2481))","v":0},{"$f":"SUMPRODUCT((Projects!$A$5:$A$2481='MDOT FTA Detail'!$M$3)*(Projects!$C$5:$C$2481='MDOT FTA Detail'!$C$4)*(Projects!$L$5:$L$2481='MDOT FTA Detail'!$A16)*(Projects!$J$5:$J$2481<>'MDOT FTA Detail'!$A$159)*(Projects!$K$5:$K$2481))","v":0},0,{"$f":"SUMPRODUCT((Projects!$A$5:$A$2481='MDOT FTA Detail'!$M$3)*(Projects!$C$5:$C$2481='MDOT FTA Detail'!$C$4)*(Projects!$L$5:$L$2481='MDOT FTA Detail'!$A16)*(Projects!$J$5:$J$2481<>'MDOT FTA Detail'!$A$159)*(Projects!$Q$5:$Q$2481))","v":0}]
["CBCD","Corridor & Border Crossing Discretionary","MDOT FA",{"$f":"SUMPRODUCT((Projects!$A$5:$A$2481='MDOT FTA Detail'!$D$3)*(Projects!$C$5:$C$2481='MDOT FTA Detail'!$C$4)*(Projects!$L$5:$L$2481='MDOT FTA Detail'!$A17)*(Projects!$J$5:$J$2481<>'MDOT FTA Detail'!$A$159)*(Projects!$K$5:K$2481))","v":0},0,{"$f":"SUMPRODUCT((Projects!$A$5:$A$2481='MDOT FTA Detail'!$D$3)*(Projects!$C$5:$C$2481='MDOT FTA Detail'!$C$4)*(Projects!$L$5:$L$2481='MDOT FTA Detail'!$A17)*(Projects!$J$5:$J$2481<>'MDOT FTA Detail'!$A$159)*(Projects!$Q$5:Q$2481))","v":0},{"$f":"SUMPRODUCT((Projects!$A$5:$A$2481='MDOT FTA Detail'!$G$3)*(Projects!$C$5:$C$2481='MDOT FTA Detail'!$C$4)*(Projects!$L$5:$L$2481='MDOT FTA Detail'!$A17)*(Projects!$J$5:$J$2481<>'MDOT FTA Detail'!$A$159)*(Projects!$K$5:K$2481))","v":0},0,{"$f":"SUMPRODUCT((Projects!$A$5:$A$2481='MDOT FTA Detail'!$G$3)*(Projects!$C$5:$C$2481='MDOT FTA Detail'!$C$4)*(Projects!$L$5:$L$2481='MDOT FTA Detail'!$A17)*(Projects!$J$5:$J$2481<>'MDOT FTA Detail'!$A$159)*(Projects!$Q$5:Q$2481))","v":0},{"$f":"SUMPRODUCT((Projects!$A$5:$A$2481='MDOT FTA Detail'!$J$3)*(Projects!$C$5:$C$2481='MDOT FTA Detail'!$C$4)*(Projects!$L$5:$L$2481='MDOT FTA Detail'!$A17)*(Projects!$J$5:$J$2481<>'MDOT FTA Detail'!$A$159)*(Projects!$K$5:$K$2481))","v":0},0,{"$f":"SUMPRODUCT((Projects!$A$5:$A$2481='MDOT FTA Detail'!$J$3)*(Projects!$C$5:$C$2481='MDOT FTA Detail'!$C$4)*(Projects!$L$5:$L$2481='MDOT FTA Detail'!$A17)*(Projects!$J$5:$J$2481<>'MDOT FTA Detail'!$A$159)*(Projects!$Q$5:$Q$2481))","v":0},{"$f":"SUMPRODUCT((Projects!$A$5:$A$2481='MDOT FTA Detail'!$M$3)*(Projects!$C$5:$C$2481='MDOT FTA Detail'!$C$4)*(Projects!$L$5:$L$2481='MDOT FTA Detail'!$A17)*(Projects!$J$5:$J$2481<>'MDOT FTA Detail'!$A$159)*(Projects!$K$5:$K$2481))","v":0},0,{"$f":"SUMPRODUCT((Projects!$A$5:$A$2481='MDOT FTA Detail'!$M$3)*(Projects!$C$5:$C$2481='MDOT FTA Detail'!$C$4)*(Projects!$L$5:$L$2481='MDOT FTA Detail'!$A17)*(Projects!$J$5:$J$2481<>'MDOT FTA Detail'!$A$159)*(Projects!$Q$5:$Q$2481))","v":0}]
["CBIP","Coordinated Border Infrastructure Program - SAFETEA-LU","MDOT FA",{"$f":"SUMPRODUCT((Projects!$A$5:$A$2481='MDOT FTA Detail'!$D$3)*(Projects!$C$5:$C$2481='MDOT FTA Detail'!$C$4)*(Projects!$L$5:$L$2481='MDOT FTA Detail'!$A18)*(Projects!$J$5:$J$2481<>'MDOT FTA Detail'!$A$159)*(Projects!$K$5:K$2481))","v":0},0,{"$f":"SUMPRODUCT((Projects!$A$5:$A$2481='MDOT FTA Detail'!$D$3)*(Projects!$C$5:$C$2481='MDOT FTA Detail'!$C$4)*(Projects!$L$5:$L$2481='MDOT FTA Detail'!$A18)*(Projects!$J$5:$J$2481<>'MDOT FTA Detail'!$A$159)*(Projects!$Q$5:Q$2481))","v":0},{"$f":"SUMPRODUCT((Projects!$A$5:$A$2481='MDOT FTA Detail'!$G$3)*(Projects!$C$5:$C$2481='MDOT FTA Detail'!$C$4)*(Projects!$L$5:$L$2481='MDOT FTA Detail'!$A18)*(Projects!$J$5:$J$2481<>'MDOT FTA Detail'!$A$159)*(Projects!$K$5:K$2481))","v":0},0,{"$f":"SUMPRODUCT((Projects!$A$5:$A$2481='MDOT FTA Detail'!$G$3)*(Projects!$C$5:$C$2481='MDOT FTA Detail'!$C$4)*(Projects!$L$5:$L$2481='MDOT FTA Detail'!$A18)*(Projects!$J$5:$J$2481<>'MDOT FTA Detail'!$A$159)*(Projects!$Q$5:Q$2481))","v":0},{"$f":"SUMPRODUCT((Projects!$A$5:$A$2481='MDOT FTA Detail'!$J$3)*(Projects!$C$5:$C$2481='MDOT FTA Detail'!$C$4)*(Projects!$L$5:$L$2481='MDOT FTA Detail'!$A18)*(Projects!$J$5:$J$2481<>'MDOT FTA Detail'!$A$159)*(Projects!$K$5:$K$2481))","v":0},0,{"$f":"SUMPRODUCT((Projects!$A$5:$A$2481='MDOT FTA Detail'!$J$3)*(Projects!$C$5:$C$2481='MDOT FTA Detail'!$C$4)*(Projects!$L$5:$L$2481='MDOT FTA Detail'!$A18)*(Projects!$J$5:$J$2481<>'MDOT FTA Detail'!$A$159)*(Projects!$Q$5:$Q$2481))","v":0},{"$f":"SUMPRODUCT((Projects!$A$5:$A$2481='MDOT FTA Detail'!$M$3)*(Projects!$C$5:$C$2481='MDOT FTA Detail'!$C$4)*(Projects!$L$5:$L$2481='MDOT FTA Detail'!$A18)*(Projects!$J$5:$J$2481<>'MDOT FTA Detail'!$A$159)*(Projects!$K$5:$K$2481))","v":0},0,{"$f":"SUMPRODUCT((Projects!$A$5:$A$2481='MDOT FTA Detail'!$M$3)*(Projects!$C$5:$C$2481='MDOT FTA Detail'!$C$4)*(Projects!$L$5:$L$2481='MDOT FTA Detail'!$A18)*(Projects!$J$5:$J$2481<>'MDOT FTA Detail'!$A$159)*(Projects!$Q$5:$Q$2481))","v":0}]
["CM","Congestion Mitigation & Air Quality","MDOT FA",{"$f":"SUMPRODUCT((Projects!$A$5:$A$2481='MDOT FTA Detail'!$D$3)*(Projects!$C$5:$C$2481='MDOT FTA Detail'!$C$4)*(Projects!$L$5:$L$2481='MDOT FTA Detail'!$A19)*(Projects!$J$5:$J$2481<>'MDOT FTA Detail'!$A$159)*(Projects!$K$5:K$2481))","v":1000000},250000,{"$f":"SUMPRODUCT((Projects!$A$5:$A$2481='MDOT FTA Detail'!$D$3)*(Projects!$C$5:$C$2481='MDOT FTA Detail'!$C$4)*(Projects!$L$5:$L$2481='MDOT FTA Detail'!$A19)*(Projects!$J$5:$J$2481<>'MDOT FTA Detail'!$A$159)*(Projects!$Q$5:Q$2481))","v":1250000},{"$f":"SUMPRODUCT((Projects!$A$5:$A$2481='MDOT FTA Detail'!$G$3)*(Projects!$C$5:$C$2481='MDOT FTA Detail'!$C$4)*(Projects!$L$5:$L$2481='MDOT FTA Detail'!$A19)*(Projects!$J$5:$J$2481<>'MDOT FTA Detail'!$A$159)*(Projects!$K$5:K$2481))","v":0},0,{"$f":"SUMPRODUCT((Projects!$A$5:$A$2481='MDOT FTA Detail'!$G$3)*(Projects!$C$5:$C$2481='MDOT FTA Detail'!$C$4)*(Projects!$L$5:$L$2481='MDOT FTA Detail'!$A19)*(Projects!$J$5:$J$2481<>'MDOT FTA Detail'!$A$159)*(Projects!$Q$5:Q$2481))","v":0},{"$f":"SUMPRODUCT((Projects!$A$5:$A$2481='MDOT FTA Detail'!$J$3)*(Projects!$C$5:$C$2481='MDOT FTA Detail'!$C$4)*(Projects!$L$5:$L$2481='MDOT FTA Detail'!$A19)*(Projects!$J$5:$J$2481<>'MDOT FTA Detail'!$A$159)*(Projects!$K$5:$K$2481))","v":0},0,{"$f":"SUMPRODUCT((Projects!$A$5:$A$2481='MDOT FTA Detail'!$J$3)*(Projects!$C$5:$C$2481='MDOT FTA Detail'!$C$4)*(Projects!$L$5:$L$2481='MDOT FTA Detail'!$A19)*(Projects!$J$5:$J$2481<>'MDOT FTA Detail'!$A$159)*(Projects!$Q$5:$Q$2481))","v":0},{"$f":"SUMPRODUCT((Projects!$A$5:$A$2481='MDOT FTA Detail'!$M$3)*(Projects!$C$5:$C$2481='MDOT FTA Detail'!$C$4)*(Projects!$L$5:$L$2481='MDOT FTA Detail'!$A19)*(Projects!$J$5:$J$2481<>'MDOT FTA Detail'!$A$159)*(Projects!$K$5:$K$2481))","v":0},0,{"$f":"SUMPRODUCT((Projects!$A$5:$A$2481='MDOT FTA Detail'!$M$3)*(Projects!$C$5:$C$2481='MDOT FTA Detail'!$C$4)*(Projects!$L$5:$L$2481='MDOT FTA Detail'!$A19)*(Projects!$J$5:$J$2481<>'MDOT FTA Detail'!$A$159)*(Projects!$Q$5:$Q$2481))","v":0}]
["CMG","Congestion Mitigation & Air Quality - 100% Federal","MDOT FA",{"$f":"SUMPRODUCT((Projects!$A$5:$A$2481='MDOT FTA Detail'!$D$3)*(Projects!$C$5:$C$2481='MDOT FTA Detail'!$C$4)*(Projects!$L$5:$L$2481='MDOT FTA Detail'!$A20)*(Projects!$J$5:$J$2481<>'MDOT FTA Detail'!$A$159)*(Projects!$K$5:K$2481))","v":0},0,{"$f":"SUMPRODUCT((Projects!$A$5:$A$2481='MDOT FTA Detail'!$D$3)*(Projects!$C$5:$C$2481='MDOT FTA Detail'!$C$4)*(Projects!$L$5:$L$2481='MDOT FTA Detail'!$A20)*(Projects!$J$5:$J$2481<>'MDOT FTA Detail'!$A$159)*(Projects!$Q$5:Q$2481))","v":0},{"$f":"SUMPRODUCT((Projects!$A$5:$A$2481='MDOT FTA Detail'!$G$3)*(Projects!$C$5:$C$2481='MDOT FTA Detail'!$C$4)*(Projects!$L$5:$L$2481='MDOT FTA Detail'!$A20)*(Projects!$J$5:$J$2481<>'MDOT FTA Detail'!$A$159)*(Projects!$K$5:K$2481))","v":0},0,{"$f":"SUMPRODUCT((Projects!$A$5:$A$2481='MDOT FTA Detail'!$G$3)*(Projects!$C$5:$C$2481='MDOT FTA Detail'!$C$4)*(Projects!$L$5:$L$2481='MDOT FTA Detail'!$A20)*(Projects!$J$5:$J$2481<>'MDOT FTA Detail'!$A$159)*(Projects!$Q$5:Q$2481))","v":0},{"$f":"SUMPRODUCT((Projects!$A$5:$A$2481='MDOT FTA Detail'!$J$3)*(Projects!$C$5:$C$2481='MDOT FTA Detail'!$C$4)*(Projects!$L$5:$L$2481='MDOT FTA Detail'!$A20)*(Projects!$J$5:$J$2481<>'MDOT FTA Detail'!$A$159)*(Projects!$K$5:$K$2481))","v":0},0,{"$f":"SUMPRODUCT((Projects!$A$5:$A$2481='MDOT FTA Detail'!$J$3)*(Projects!$C$5:$C$2481='MDOT FTA Detail'!$C$4)*(Projects!$L$5:$L$2481='MDOT FTA Detail'!$A20)*(Projects!$J$5:$J$2481<>'MDOT FTA Detail'!$A$159)*(Projects!$Q$5:$Q$2481))","v":0},{"$f":"SUMPRODUCT((Projects!$A$5:$A$2481='MDOT FTA Detail'!$M$3)*(Projects!$C$5:$C$2481='MDOT FTA Detail'!$C$4)*(Projects!$L$5:$L$2481='MDOT FTA Detail'!$A20)*(Projects!$J$5:$J$2481<>'MDOT FTA Detail'!$A$159)*(Projects!$K$5:$K$2481))","v":0},0,{"$f":"SUMPRODUCT((Projects!$A$5:$A$2481='MDOT FTA Detail'!$M$3)*(Projects!$C$5:$C$2481='MDOT FTA Detail'!$C$4)*(Projects!$L$5:$L$2481='MDOT FTA Detail'!$A20)*(Projects!$J$5:$J$2481<>'MDOT FTA Detail'!$A$159)*(Projects!$Q$5:$Q$2481))","v":0}]
["DIG","ISTEA Demonstration 100% Federal on Interstate","MDOT FA",{"$f":"SUMPRODUCT((Projects!$A$5:$A$2481='MDOT FTA Detail'!$D$3)*(Projects!$C$5:$C$2481='MDOT FTA Detail'!$C$4)*(Projects!$L$5:$L$2481='MDOT FTA Detail'!$A21)*(Projects!$J$5:$J$2481<>'MDOT FTA Detail'!$A$159)*(Projects!$K$5:K$2481))","v":0},0,{"$f":"SUMPRODUCT((Projects!$A$5:$A$2481='MDOT FTA Detail'!$D$3)*(Projects!$C$5:$C$2481='MDOT FTA Detail'!$C$4)*(Projects!$L$5:$L$2481='MDOT FTA Detail'!$A21)*(Projects!$J$5:$J$2481<>'MDOT FTA Detail'!$A$159)*(Projects!$Q$5:Q$2481))","v":0},{"$f":"SUMPRODUCT((Projects!$A$5:$A$2481='MDOT FTA Detail'!$G$3)*(Projects!$C$5:$C$2481='MDOT FTA Detail'!$C$4)*(Projects!$L$5:$L$2481='MDOT FTA Detail'!$A21)*(Projects!$J$5:$J$2481<>'MDOT FTA Detail'!$A$159)*(Projects!$K$5:K$2481))","v":0},0,{"$f":"SUMPRODUCT((Projects!$A$5:$A$2481='MDOT FTA Detail'!$G$3)*(Projects!$C$5:$C$2481='MDOT FTA Detail'!$C$4)*(Projects!$L$5:$L$2481='MDOT FTA Detail'!$A21)*(Projects!$J$5:$J$2481<>'MDOT FTA Detail'!$A$159)*(Projects!$Q$5:Q$2481))","v":0},{"$f":"SUMPRODUCT((Projects!$A$5:$A$2481='MDOT FTA Detail'!$J$3)*(Projects!$C$5:$C$2481='MDOT FTA Detail'!$C$4)*(Projects!$L$5:$L$2481='MDOT FTA Detail'!$A21)*(Projects!$J$5:$J$2481<>'MDOT FTA Detail'!$A$159)*(Projects!$K$5:$K$2481))","v":0},0,{"$f":"SUMPRODUCT((Projects!$A$5:$A$2481='MDOT FTA Detail'!$J$3)*(Projects!$C$5:$C$2481='MDOT FTA Detail'!$C$4)*(Projects!$L$5:$L$2481='MDOT FTA Detail'!$A21)*(Projects!$J$5:$J$2481<>'MDOT FTA Detail'!$A$159)*(Projects!$Q$5:$Q$2481))","v":0},{"$f":"SUMPRODUCT((Projects!$A$5:$A$2481='MDOT FTA Detail'!$M$3)*(Projects!$C$5:$C$2481='MDOT FTA Detail'!$C$4)*(Projects!$L$5:$L$2481='MDOT FTA Detail'!$A21)*(Projects!$J$5:$J$2481<>'MDOT FTA Detail'!$A$159)*(Projects!$K$5:$K$2481))","v":0},0,{"$f":"SUMPRODUCT((Projects!$A$5:$A$2481='MDOT FTA Detail'!$M$3)*(Projects!$C$5:$C$2481='MDOT FTA Detail'!$C$4)*(Projects!$L$5:$L$2481='MDOT FTA Detail'!$A21)*(Projects!$J$5:$J$2481<>'MDOT FTA Detail'!$A$159)*(Projects!$Q$5:$Q$2481))","v":0}]
["DOG","ISTEA Demonstration 100% Federal Not Classified","MDOT FA",{"$f":"SUMPRODUCT((Projects!$A$5:$A$2481='MDOT FTA Detail'!$D$3)*(Projects!$C$5:$C$2481='MDOT FTA Detail'!$C$4)*(Projects!$L$5:$L$2481='MDOT FTA Detail'!$A22)*(Projects!$J$5:$J$2481<>'MDOT FTA Detail'!$A$159)*(Projects!$K$5:K$2481))","v":0},0,{"$f":"SUMPRODUCT((Projects!$A$5:$A$2481='MDOT FTA Detail'!$D$3)*(Projects!$C$5:$C$2481='MDOT FTA Detail'!$C$4)*(Projects!$L$5:$L$2481='MDOT FTA Detail'!$A22)*(Projects!$J$5:$J$2481<>'MDOT FTA Detail'!$A$159)*(Projects!$Q$5:Q$2481))","v":0},{"$f":"SUMPRODUCT((Projects!$A$5:$A$2481='MDOT FTA Detail'!$G$3)*(Projects!$C$5:$C$2481='MDOT FTA Detail'!$C$4)*(Projects!$L$5:$L$2481='MDOT FTA Detail'!$A22)*(Projects!$J$5:$J$2481<>'MDOT FTA Detail'!$A$159)*(Projects!$K$5:K$2481))","v":0},0,{"$f":"SUMPRODUCT((Projects!$A$5:$A$2481='MDOT FTA Detail'!$G$3)*(Projects!$C$5:$C$2481='MDOT FTA Detail'!$C$4)*(Projects!$L$5:$L$2481='MDOT FTA Detail'!$A22)*(Projects!$J$5:$J$2481<>'MDOT FTA Detail'!$A$159)*(Projects!$Q$5:Q$2481))","v":0},{"$f":"SUMPRODUCT((Projects!$A$5:$A$2481='MDOT FTA Detail'!$J$3)*(Projects!$C$5:$C$2481='MDOT FTA Detail'!$C$4)*(Projects!$L$5:$L$2481='MDOT FTA Detail'!$A22)*(Projects!$J$5:$J$2481<>'MDOT FTA Detail'!$A$159)*(Projects!$K$5:$K$2481))","v":0},0,{"$f":"SUMPRODUCT((Projects!$A$5:$A$2481='MDOT FTA Detail'!$J$3)*(Projects!$C$5:$C$2481='MDOT FTA Detail'!$C$4)*(Projects!$L$5:$L$2481='MDOT FTA Detail'!$A22)*(Projects!$J$5:$J$2481<>'MDOT FTA Detail'!$A$159)*(Projects!$Q$5:$Q$2481))","v":0},{"$f":"SUMPRODUCT((Projects!$A$5:$A$2481='MDOT FTA Detail'!$M$3)*(Projects!$C$5:$C$2481='MDOT FTA Detail'!$C$4)*(Projects!$L$5:$L$2481='MDOT FTA Detail'!$A22)*(Projects!$J$5:$J$2481<>'MDOT FTA Detail'!$A$159)*(Projects!$K$5:$K$2481))","v":0},0,{"$f":"SUMPRODUCT((Projects!$A$5:$A$2481='MDOT FTA Detail'!$M$3)*(Projects!$C$5:$C$2481='MDOT FTA Detail'!$C$4)*(Projects!$L$5:$L$2481='MDOT FTA Detail'!$A22)*(Projects!$J$5:$J$2481<>'MDOT FTA Detail'!$A$159)*(Projects!$Q$5:$Q$2481))","v":0}]
["DPN","ISTEA Demonstration 80% Federal on NHS","MDOT FA",{"$f":"SUMPRODUCT((Projects!$A$5:$A$2481='MDOT FTA Detail'!$D$3)*(Projects!$C$5:$C$2481='MDOT FTA Detail'!$C$4)*(Projects!$L$5:$L$2481='MDOT FTA Detail'!$A23)*(Projects!$J$5:$J$2481<>'MDOT FTA Detail'!$A$159)*(Projects!$K$5:K$2481))","v":0},0,{"$f":"SUMPRODUCT((Projects!$A$5:$A$2481='MDOT FTA Detail'!$D$3)*(Projects!$C$5:$C$2481='MDOT FTA Detail'!$C$4)*(Projects!$L$5:$L$2481='MDOT FTA Detail'!$A23)*(Projects!$J$5:$J$2481<>'MDOT FTA Detail'!$A$159)*(Projects!$Q$5:Q$2481))","v":0},{"$f":"SUMPRODUCT((Projects!$A$5:$A$2481='MDOT FTA Detail'!$G$3)*(Projects!$C$5:$C$2481='MDOT FTA Detail'!$C$4)*(Projects!$L$5:$L$2481='MDOT FTA Detail'!$A23)*(Projects!$J$5:$J$2481<>'MDOT FTA Detail'!$A$159)*(Projects!$K$5:K$2481))","v":0},0,{"$f":"SUMPRODUCT((Projects!$A$5:$A$2481='MDOT FTA Detail'!$G$3)*(Projects!$C$5:$C$2481='MDOT FTA Detail'!$C$4)*(Projects!$L$5:$L$2481='MDOT FTA Detail'!$A23)*(Projects!$J$5:$J$2481<>'MDOT FTA Detail'!$A$159)*(Projects!$Q$5:Q$2481))","v":0},{"$f":"SUMPRODUCT((Projects!$A$5:$A$2481='MDOT FTA Detail'!$J$3)*(Projects!$C$5:$C$2481='MDOT FTA Detail'!$C$4)*(Projects!$L$5:$L$2481='MDOT FTA Detail'!$A23)*(Projects!$J$5:$J$2481<>'MDOT FTA Detail'!$A$159)*(Projects!$K$5:$K$2481))","v":0},0,{"$f":"SUMPRODUCT((Projects!$A$5:$A$2481='MDOT FTA Detail'!$J$3)*(Projects!$C$5:$C$2481='MDOT FTA Detail'!$C$4)*(Projects!$L$5:$L$2481='MDOT FTA Detail'!$A23)*(Projects!$J$5:$J$2481<>'MDOT FTA Detail'!$A$159)*(Projects!$Q$5:$Q$2481))","v":0},{"$f":"SUMPRODUCT((Projects!$A$5:$A$2481='MDOT FTA Detail'!$M$3)*(Projects!$C$5:$C$2481='MDOT FTA Detail'!$C$4)*(Projects!$L$5:$L$2481='MDOT FTA Detail'!$A23)*(Projects!$J$5:$J$2481<>'MDOT FTA Detail'!$A$159)*(Projects!$K$5:$K$2481))","v":0},0,{"$f":"SUMPRODUCT((Projects!$A$5:$A$2481='MDOT FTA Detail'!$M$3)*(Projects!$C$5:$C$2481='MDOT FTA Detail'!$C$4)*(Projects!$L$5:$L$2481='MDOT FTA Detail'!$A23)*(Projects!$J$5:$J$2481<>'MDOT FTA Detail'!$A$159)*(Projects!$Q$5:$Q$2481))","v":0}]
["DPO","ISTEA Demonstration 80% Federal Not Classified","MDOT FA",{"$f":"SUMPRODUCT((Projects!$A$5:$A$2481='MDOT FTA Detail'!$D$3)*(Projects!$C$5:$C$2481='MDOT FTA Detail'!$C$4)*(Projects!$L$5:$L$2481='MDOT FTA Detail'!$A24)*(Projects!$J$5:$J$2481<>'MDOT FTA Detail'!$A$159)*(Projects!$K$5:K$2481))","v":0},0,{"$f":"SUMPRODUCT((Projects!$A$5:$A$2481='MDOT FTA Detail'!$D$3)*(Projects!$C$5:$C$2481='MDOT FTA Detail'!$C$4)*(Projects!$L$5:$L$2481='MDOT FTA Detail'!$A24)*(Projects!$J$5:$J$2481<>'MDOT FTA Detail'!$A$159)*(Projects!$Q$5:Q$2481))","v":0},{"$f":"SUMPRODUCT((Projects!$A$5:$A$2481='MDOT FTA Detail'!$G$3)*(Projects!$C$5:$C$2481='MDOT FTA Detail'!$C$4)*(Projects!$L$5:$L$2481='MDOT FTA Detail'!$A24)*(Projects!$J$5:$J$2481<>'MDOT FTA Detail'!$A$159)*(Projects!$K$5:K$2481))","v":0},0,{"$f":"SUMPRODUCT((Projects!$A$5:$A$2481='MDOT FTA Detail'!$G$3)*(Projects!$C$5:$C$2481='MDOT FTA Detail'!$C$4)*(Projects!$L$5:$L$2481='MDOT FTA Detail'!$A24)*(Projects!$J$5:$J$2481<>'MDOT FTA Detail'!$A$159)*(Projects!$Q$5:Q$2481))","v":0},{"$f":"SUMPRODUCT((Projects!$A$5:$A$2481='MDOT FTA Detail'!$J$3)*(Projects!$C$5:$C$2481='MDOT FTA Detail'!$C$4)*(Projects!$L$5:$L$2481='MDOT FTA Detail'!$A24)*(Projects!$J$5:$J$2481<>'MDOT FTA Detail'!$A$159)*(Projects!$K$5:$K$2481))","v":0},0,{"$f":"SUMPRODUCT((Projects!$A$5:$A$2481='MDOT FTA Detail'!$J$3)*(Projects!$C$5:$C$2481='MDOT FTA Detail'!$C$4)*(Projects!$L$5:$L$2481='MDOT FTA Detail'!$A24)*(Projects!$J$5:$J$2481<>'MDOT FTA Detail'!$A$159)*(Projects!$Q$5:$Q$2481))","v":0},{"$f":"SUMPRODUCT((Projects!$A$5:$A$2481='MDOT FTA Detail'!$M$3)*(Projects!$C$5:$C$2481='MDOT FTA Detail'!$C$4)*(Projects!$L$5:$L$2481='MDOT FTA Detail'!$A24)*(Projects!$J$5:$J$2481<>'MDOT FTA Detail'!$A$159)*(Projects!$K$5:$K$2481))","v":0},0,{"$f":"SUMPRODUCT((Projects!$A$5:$A$2481='MDOT FTA Detail'!$M$3)*(Projects!$C$5:$C$2481='MDOT FTA Detail'!$C$4)*(Projects!$L$5:$L$2481='MDOT FTA Detail'!$A24)*(Projects!$J$5:$J$2481<>'MDOT FTA Detail'!$A$159)*(Projects!$Q$5:$Q$2481))","v":0}]
["DPS","ISTEA Demonstration 80% Federal on STP","MDOT FA",{"$f":"SUMPRODUCT((Projects!$A$5:$A$2481='MDOT FTA Detail'!$D$3)*(Projects!$C$5:$C$2481='MDOT FTA Detail'!$C$4)*(Projects!$L$5:$L$2481='MDOT FTA Detail'!$A25)*(Projects!$J$5:$J$2481<>'MDOT FTA Detail'!$A$159)*(Projects!$K$5:K$2481))","v":0},0,{"$f":"SUMPRODUCT((Projects!$A$5:$A$2481='MDOT FTA Detail'!$D$3)*(Projects!$C$5:$C$2481='MDOT FTA Detail'!$C$4)*(Projects!$L$5:$L$2481='MDOT FTA Detail'!$A25)*(Projects!$J$5:$J$2481<>'MDOT FTA Detail'!$A$159)*(Projects!$Q$5:Q$2481))","v":0},{"$f":"SUMPRODUCT((Projects!$A$5:$A$2481='MDOT FTA Detail'!$G$3)*(Projects!$C$5:$C$2481='MDOT FTA Detail'!$C$4)*(Projects!$L$5:$L$2481='MDOT FTA Detail'!$A25)*(Projects!$J$5:$J$2481<>'MDOT FTA Detail'!$A$159)*(Projects!$K$5:K$2481))","v":0},0,{"$f":"SUMPRODUCT((Projects!$A$5:$A$2481='MDOT FTA Detail'!$G$3)*(Projects!$C$5:$C$2481='MDOT FTA Detail'!$C$4)*(Projects!$L$5:$L$2481='MDOT FTA Detail'!$A25)*(Projects!$J$5:$J$2481<>'MDOT FTA Detail'!$A$159)*(Projects!$Q$5:Q$2481))","v":0},{"$f":"SUMPRODUCT((Projects!$A$5:$A$2481='MDOT FTA Detail'!$J$3)*(Projects!$C$5:$C$2481='MDOT FTA Detail'!$C$4)*(Projects!$L$5:$L$2481='MDOT FTA Detail'!$A25)*(Projects!$J$5:$J$2481<>'MDOT FTA Detail'!$A$159)*(Projects!$K$5:$K$2481))","v":0},0,{"$f":"SUMPRODUCT((Projects!$A$5:$A$2481='MDOT FTA Detail'!$J$3)*(Projects!$C$5:$C$2481='MDOT FTA Detail'!$C$4)*(Projects!$L$5:$L$2481='MDOT FTA Detail'!$A25)*(Projects!$J$5:$J$2481<>'MDOT FTA Detail'!$A$159)*(Projects!$Q$5:$Q$2481))","v":0},{"$f":"SUMPRODUCT((Projects!$A$5:$A$2481='MDOT FTA Detail'!$M$3)*(Projects!$C$5:$C$2481='MDOT FTA Detail'!$C$4)*(Projects!$L$5:$L$2481='MDOT FTA Detail'!$A25)*(Projects!$J$5:$J$2481<>'MDOT FTA Detail'!$A$159)*(Projects!$K$5:$K$2481))","v":0},0,{"$f":"SUMPRODUCT((Projects!$A$5:$A$2481='MDOT FTA Detail'!$M$3)*(Projects!$C$5:$C$2481='MDOT FTA Detail'!$C$4)*(Projects!$L$5:$L$2481='MDOT FTA Detail'!$A25)*(Projects!$J$5:$J$2481<>'MDOT FTA Detail'!$A$159)*(Projects!$Q$5:$Q$2481))","v":0}]
["DPSA","Demonstration Project Section 112 Division A","MDOT FA",{"$f":"SUMPRODUCT((Projects!$A$5:$A$2481='MDOT FTA Detail'!$D$3)*(Projects!$C$5:$C$2481='MDOT FTA Detail'!$C$4)*(Projects!$L$5:$L$2481='MDOT FTA Detail'!$A26)*(Projects!$J$5:$J$2481<>'MDOT FTA Detail'!$A$159)*(Projects!$K$5:K$2481))","v":0},0,{"$f":"SUMPRODUCT((Projects!$A$5:$A$2481='MDOT FTA Detail'!$D$3)*(Projects!$C$5:$C$2481='MDOT FTA Detail'!$C$4)*(Projects!$L$5:$L$2481='MDOT FTA Detail'!$A26)*(Projects!$J$5:$J$2481<>'MDOT FTA Detail'!$A$159)*(Projects!$Q$5:Q$2481))","v":0},{"$f":"SUMPRODUCT((Projects!$A$5:$A$2481='MDOT FTA Detail'!$G$3)*(Projects!$C$5:$C$2481='MDOT FTA Detail'!$C$4)*(Projects!$L$5:$L$2481='MDOT FTA Detail'!$A26)*(Projects!$J$5:$J$2481<>'MDOT FTA Detail'!$A$159)*(Projects!$K$5:K$2481))","v":0},0,{"$f":"SUMPRODUCT((Projects!$A$5:$A$2481='MDOT FTA Detail'!$G$3)*(Projects!$C$5:$C$2481='MDOT FTA Detail'!$C$4)*(Projects!$L$5:$L$2481='MDOT FTA Detail'!$A26)*(Projects!$J$5:$J$2481<>'MDOT FTA Detail'!$A$159)*(Projects!$Q$5:Q$2481))","v":0},{"$f":"SUMPRODUCT((Projects!$A$5:$A$2481='MDOT FTA Detail'!$J$3)*(Projects!$C$5:$C$2481='MDOT FTA Detail'!$C$4)*(Projects!$L$5:$L$2481='MDOT FTA Detail'!$A26)*(Projects!$J$5:$J$2481<>'MDOT FTA Detail'!$A$159)*(Projects!$K$5:$K$2481))","v":0},0,{"$f":"SUMPRODUCT((Projects!$A$5:$A$2481='MDOT FTA Detail'!$J$3)*(Projects!$C$5:$C$2481='MDOT FTA Detail'!$C$4)*(Projects!$L$5:$L$2481='MDOT FTA Detail'!$A26)*(Projects!$J$5:$J$2481<>'MDOT FTA Detail'!$A$159)*(Projects!$Q$5:$Q$2481))","v":0},{"$f":"SUMPRODUCT((Projects!$A$5:$A$2481='MDOT FTA Detail'!$M$3)*(Projects!$C$5:$C$2481='MDOT FTA Detail'!$C$4)*(Projects!$L$5:$L$2481='MDOT FTA Detail'!$A26)*(Projects!$J$5:$J$2481<>'MDOT FTA Detail'!$A$159)*(Projects!$K$5:$K$2481))","v":0},0,{"$f":"SUMPRODUCT((Projects!$A$5:$A$2481='MDOT FTA Detail'!$M$3)*(Projects!$C$5:$C$2481='MDOT FTA Detail'!$C$4)*(Projects!$L$5:$L$2481='MDOT FTA Detail'!$A26)*(Projects!$J$5:$J$2481<>'MDOT FTA Detail'!$A$159)*(Projects!$Q$5:$Q$2481))","v":0}]
["DST","Donor Bonus Surface Transportation","MDOT FA",{"$f":"SUMPRODUCT((Projects!$A$5:$A$2481='MDOT FTA Detail'!$D$3)*(Projects!$C$5:$C$2481='MDOT FTA Detail'!$C$4)*(Projects!$L$5:$L$2481='MDOT FTA Detail'!$A27)*(Projects!$J$5:$J$2481<>'MDOT FTA Detail'!$A$159)*(Projects!$K$5:K$2481))","v":0},0,{"$f":"SUMPRODUCT((Projects!$A$5:$A$2481='MDOT FTA Detail'!$D$3)*(Projects!$C$5:$C$2481='MDOT FTA Detail'!$C$4)*(Projects!$L$5:$L$2481='MDOT FTA Detail'!$A27)*(Projects!$J$5:$J$2481<>'MDOT FTA Detail'!$A$159)*(Projects!$Q$5:Q$2481))","v":0},{"$f":"SUMPRODUCT((Projects!$A$5:$A$2481='MDOT FTA Detail'!$G$3)*(Projects!$C$5:$C$2481='MDOT FTA Detail'!$C$4)*(Projects!$L$5:$L$2481='MDOT FTA Detail'!$A27)*(Projects!$J$5:$J$2481<>'MDOT FTA Detail'!$A$159)*(Projects!$K$5:K$2481))","v":0},0,{"$f":"SUMPRODUCT((Projects!$A$5:$A$2481='MDOT FTA Detail'!$G$3)*(Projects!$C$5:$C$2481='MDOT FTA Detail'!$C$4)*(Projects!$L$5:$L$2481='MDOT FTA Detail'!$A27)*(Projects!$J$5:$J$2481<>'MDOT FTA Detail'!$A$159)*(Projects!$Q$5:Q$2481))","v":0},{"$f":"SUMPRODUCT((Projects!$A$5:$A$2481='MDOT FTA Detail'!$J$3)*(Projects!$C$5:$C$2481='MDOT FTA Detail'!$C$4)*(Projects!$L$5:$L$2481='MDOT FTA Detail'!$A27)*(Projects!$J$5:$J$2481<>'MDOT FTA Detail'!$A$159)*(Projects!$K$5:$K$2481))","v":0},0,{"$f":"SUMPRODUCT((Projects!$A$5:$A$2481='MDOT FTA Detail'!$J$3)*(Projects!$C$5:$C$2481='MDOT FTA Detail'!$C$4)*(Projects!$L$5:$L$2481='MDOT FTA Detail'!$A27)*(Projects!$J$5:$J$2481<>'MDOT FTA Detail'!$A$159)*(Projects!$Q$5:$Q$2481))","v":0},{"$f":"SUMPRODUCT((Projects!$A$5:$A$2481='MDOT FTA Detail'!$M$3)*(Projects!$C$5:$C$2481='MDOT FTA Detail'!$C$4)*(Projects!$L$5:$L$2481='MDOT FTA Detail'!$A27)*(Projects!$J$5:$J$2481<>'MDOT FTA Detail'!$A$159)*(Projects!$K$5:$K$2481))","v":0},0,{"$f":"SUMPRODUCT((Projects!$A$5:$A$2481='MDOT FTA Detail'!$M$3)*(Projects!$C$5:$C$2481='MDOT FTA Detail'!$C$4)*(Projects!$L$5:$L$2481='MDOT FTA Detail'!$A27)*(Projects!$J$5:$J$2481<>'MDOT FTA Detail'!$A$159)*(Projects!$Q$5:$Q$2481))","v":0}]
["DSTU","Donor Bonus Surface Transportation - (Urban > 2499,000)","MDOT FA",{"$f":"SUMPRODUCT((Projects!$A$5:$A$2481='MDOT FTA Detail'!$D$3)*(Projects!$C$5:$C$2481='MDOT FTA Detail'!$C$4)*(Projects!$L$5:$L$2481='MDOT FTA Detail'!$A28)*(Projects!$J$5:$J$2481<>'MDOT FTA Detail'!$A$159)*(Projects!$K$5:K$2481))","v":0},0,{"$f":"SUMPRODUCT((Projects!$A$5:$A$2481='MDOT FTA Detail'!$D$3)*(Projects!$C$5:$C$2481='MDOT FTA Detail'!$C$4)*(Projects!$L$5:$L$2481='MDOT FTA Detail'!$A28)*(Projects!$J$5:$J$2481<>'MDOT FTA Detail'!$A$159)*(Projects!$Q$5:Q$2481))","v":0},{"$f":"SUMPRODUCT((Projects!$A$5:$A$2481='MDOT FTA Detail'!$G$3)*(Projects!$C$5:$C$2481='MDOT FTA Detail'!$C$4)*(Projects!$L$5:$L$2481='MDOT FTA Detail'!$A28)*(Projects!$J$5:$J$2481<>'MDOT FTA Detail'!$A$159)*(Projects!$K$5:K$2481))","v":0},0,{"$f":"SUMPRODUCT((Projects!$A$5:$A$2481='MDOT FTA Detail'!$G$3)*(Projects!$C$5:$C$2481='MDOT FTA Detail'!$C$4)*(Projects!$L$5:$L$2481='MDOT FTA Detail'!$A28)*(Projects!$J$5:$J$2481<>'MDOT FTA Detail'!$A$159)*(Projects!$Q$5:Q$2481))","v":0},{"$f":"SUMPRODUCT((Projects!$A$5:$A$2481='MDOT FTA Detail'!$J$3)*(Projects!$C$5:$C$2481='MDOT FTA Detail'!$C$4)*(Projects!$L$5:$L$2481='MDOT FTA Detail'!$A28)*(Projects!$J$5:$J$2481<>'MDOT FTA Detail'!$A$159)*(Projects!$K$5:$K$2481))","v":0},0,{"$f":"SUMPRODUCT((Projects!$A$5:$A$2481='MDOT FTA Detail'!$J$3)*(Projects!$C$5:$C$2481='MDOT FTA Detail'!$C$4)*(Projects!$L$5:$L$2481='MDOT FTA Detail'!$A28)*(Projects!$J$5:$J$2481<>'MDOT FTA Detail'!$A$159)*(Projects!$Q$5:$Q$2481))","v":0},{"$f":"SUMPRODUCT((Projects!$A$5:$A$2481='MDOT FTA Detail'!$M$3)*(Projects!$C$5:$C$2481='MDOT FTA Detail'!$C$4)*(Projects!$L$5:$L$2481='MDOT FTA Detail'!$A28)*(Projects!$J$5:$J$2481<>'MDOT FTA Detail'!$A$159)*(Projects!$K$5:$K$2481))","v":0},0,{"$f":"SUMPRODUCT((Projects!$A$5:$A$2481='MDOT FTA Detail'!$M$3)*(Projects!$C$5:$C$2481='MDOT FTA Detail'!$C$4)*(Projects!$L$5:$L$2481='MDOT FTA Detail'!$A28)*(Projects!$J$5:$J$2481<>'MDOT FTA Detail'!$A$159)*(Projects!$Q$5:$Q$2481))","v":0}]
["DSTT","Donor Bonus Surface Transportation - Rural - Trunkline","MDOT FA",{"$f":"SUMPRODUCT((Projects!$A$5:$A$2481='MDOT FTA Detail'!$D$3)*(Projects!$C$5:$C$2481='MDOT FTA Detail'!$C$4)*(Projects!$L$5:$L$2481='MDOT FTA Detail'!$A29)*(Projects!$J$5:$J$2481<>'MDOT FTA Detail'!$A$159)*(Projects!$K$5:K$2481))","v":0},0,{"$f":"SUMPRODUCT((Projects!$A$5:$A$2481='MDOT FTA Detail'!$D$3)*(Projects!$C$5:$C$2481='MDOT FTA Detail'!$C$4)*(Projects!$L$5:$L$2481='MDOT FTA Detail'!$A29)*(Projects!$J$5:$J$2481<>'MDOT FTA Detail'!$A$159)*(Projects!$Q$5:Q$2481))","v":0},{"$f":"SUMPRODUCT((Projects!$A$5:$A$2481='MDOT FTA Detail'!$G$3)*(Projects!$C$5:$C$2481='MDOT FTA Detail'!$C$4)*(Projects!$L$5:$L$2481='MDOT FTA Detail'!$A29)*(Projects!$J$5:$J$2481<>'MDOT FTA Detail'!$A$159)*(Projects!$K$5:K$2481))","v":0},0,{"$f":"SUMPRODUCT((Projects!$A$5:$A$2481='MDOT FTA Detail'!$G$3)*(Projects!$C$5:$C$2481='MDOT FTA Detail'!$C$4)*(Projects!$L$5:$L$2481='MDOT FTA Detail'!$A29)*(Projects!$J$5:$J$2481<>'MDOT FTA Detail'!$A$159)*(Projects!$Q$5:Q$2481))","v":0},{"$f":"SUMPRODUCT((Projects!$A$5:$A$2481='MDOT FTA Detail'!$J$3)*(Projects!$C$5:$C$2481='MDOT FTA Detail'!$C$4)*(Projects!$L$5:$L$2481='MDOT FTA Detail'!$A29)*(Projects!$J$5:$J$2481<>'MDOT FTA Detail'!$A$159)*(Projects!$K$5:$K$2481))","v":0},0,{"$f":"SUMPRODUCT((Projects!$A$5:$A$2481='MDOT FTA Detail'!$J$3)*(Projects!$C$5:$C$2481='MDOT FTA Detail'!$C$4)*(Projects!$L$5:$L$2481='MDOT FTA Detail'!$A29)*(Projects!$J$5:$J$2481<>'MDOT FTA Detail'!$A$159)*(Projects!$Q$5:$Q$2481))","v":0},{"$f":"SUMPRODUCT((Projects!$A$5:$A$2481='MDOT FTA Detail'!$M$3)*(Projects!$C$5:$C$2481='MDOT FTA Detail'!$C$4)*(Projects!$L$5:$L$2481='MDOT FTA Detail'!$A29)*(Projects!$J$5:$J$2481<>'MDOT FTA Detail'!$A$159)*(Projects!$K$5:$K$2481))","v":0},0,{"$f":"SUMPRODUCT((Projects!$A$5:$A$2481='MDOT FTA Detail'!$M$3)*(Projects!$C$5:$C$2481='MDOT FTA Detail'!$C$4)*(Projects!$L$5:$L$2481='MDOT FTA Detail'!$A29)*(Projects!$J$5:$J$2481<>'MDOT FTA Detail'!$A$159)*(Projects!$Q$5:$Q$2481))","v":0}]
["EBSL","Equity Bonus - SAFETEA-LU","MDOT FA",{"$f":"SUMPRODUCT((Projects!$A$5:$A$2481='MDOT FTA Detail'!$D$3)*(Projects!$C$5:$C$2481='MDOT FTA Detail'!$C$4)*(Projects!$L$5:$L$2481='MDOT FTA Detail'!$A30)*(Projects!$J$5:$J$2481<>'MDOT FTA Detail'!$A$159)*(Projects!$K$5:K$2481))","v":0},0,{"$f":"SUMPRODUCT((Projects!$A$5:$A$2481='MDOT FTA Detail'!$D$3)*(Projects!$C$5:$C$2481='MDOT FTA Detail'!$C$4)*(Projects!$L$5:$L$2481='MDOT FTA Detail'!$A30)*(Projects!$J$5:$J$2481<>'MDOT FTA Detail'!$A$159)*(Projects!$Q$5:Q$2481))","v":0},{"$f":"SUMPRODUCT((Projects!$A$5:$A$2481='MDOT FTA Detail'!$G$3)*(Projects!$C$5:$C$2481='MDOT FTA Detail'!$C$4)*(Projects!$L$5:$L$2481='MDOT FTA Detail'!$A30)*(Projects!$J$5:$J$2481<>'MDOT FTA Detail'!$A$159)*(Projects!$K$5:K$2481))","v":0},0,{"$f":"SUMPRODUCT((Projects!$A$5:$A$2481='MDOT FTA Detail'!$G$3)*(Projects!$C$5:$C$2481='MDOT FTA Detail'!$C$4)*(Projects!$L$5:$L$2481='MDOT FTA Detail'!$A30)*(Projects!$J$5:$J$2481<>'MDOT FTA Detail'!$A$159)*(Projects!$Q$5:Q$2481))","v":0},{"$f":"SUMPRODUCT((Projects!$A$5:$A$2481='MDOT FTA Detail'!$J$3)*(Projects!$C$5:$C$2481='MDOT FTA Detail'!$C$4)*(Projects!$L$5:$L$2481='MDOT FTA Detail'!$A30)*(Projects!$J$5:$J$2481<>'MDOT FTA Detail'!$A$159)*(Projects!$K$5:$K$2481))","v":0},0,{"$f":"SUMPRODUCT((Projects!$A$5:$A$2481='MDOT FTA Detail'!$J$3)*(Projects!$C$5:$C$2481='MDOT FTA Detail'!$C$4)*(Projects!$L$5:$L$2481='MDOT FTA Detail'!$A30)*(Projects!$J$5:$J$2481<>'MDOT FTA Detail'!$A$159)*(Projects!$Q$5:$Q$2481))","v":0},{"$f":"SUMPRODUCT((Projects!$A$5:$A$2481='MDOT FTA Detail'!$M$3)*(Projects!$C$5:$C$2481='MDOT FTA Detail'!$C$4)*(Projects!$L$5:$L$2481='MDOT FTA Detail'!$A30)*(Projects!$J$5:$J$2481<>'MDOT FTA Detail'!$A$159)*(Projects!$K$5:$K$2481))","v":0},0,{"$f":"SUMPRODUCT((Projects!$A$5:$A$2481='MDOT FTA Detail'!$M$3)*(Projects!$C$5:$C$2481='MDOT FTA Detail'!$C$4)*(Projects!$L$5:$L$2481='MDOT FTA Detail'!$A30)*(Projects!$J$5:$J$2481<>'MDOT FTA Detail'!$A$159)*(Projects!$Q$5:$Q$2481))","v":0}]
["EDAF","Economic Development - Category A with Federal Aid","MDOT FA",{"$f":"SUMPRODUCT((Projects!$A$5:$A$2481='MDOT FTA Detail'!$D$3)*(Projects!$C$5:$C$2481='MDOT FTA Detail'!$C$4)*(Projects!$L$5:$L$2481='MDOT FTA Detail'!$A31)*(Projects!$J$5:$J$2481<>'MDOT FTA Detail'!$A$159)*(Projects!$K$5:K$2481))","v":0},0,{"$f":"SUMPRODUCT((Projects!$A$5:$A$2481='MDOT FTA Detail'!$D$3)*(Projects!$C$5:$C$2481='MDOT FTA Detail'!$C$4)*(Projects!$L$5:$L$2481='MDOT FTA Detail'!$A31)*(Projects!$J$5:$J$2481<>'MDOT FTA Detail'!$A$159)*(Projects!$Q$5:Q$2481))","v":0},{"$f":"SUMPRODUCT((Projects!$A$5:$A$2481='MDOT FTA Detail'!$G$3)*(Projects!$C$5:$C$2481='MDOT FTA Detail'!$C$4)*(Projects!$L$5:$L$2481='MDOT FTA Detail'!$A31)*(Projects!$J$5:$J$2481<>'MDOT FTA Detail'!$A$159)*(Projects!$K$5:K$2481))","v":0},0,{"$f":"SUMPRODUCT((Projects!$A$5:$A$2481='MDOT FTA Detail'!$G$3)*(Projects!$C$5:$C$2481='MDOT FTA Detail'!$C$4)*(Projects!$L$5:$L$2481='MDOT FTA Detail'!$A31)*(Projects!$J$5:$J$2481<>'MDOT FTA Detail'!$A$159)*(Projects!$Q$5:Q$2481))","v":0},{"$f":"SUMPRODUCT((Projects!$A$5:$A$2481='MDOT FTA Detail'!$J$3)*(Projects!$C$5:$C$2481='MDOT FTA Detail'!$C$4)*(Projects!$L$5:$L$2481='MDOT FTA Detail'!$A31)*(Projects!$J$5:$J$2481<>'MDOT FTA Detail'!$A$159)*(Projects!$K$5:$K$2481))","v":0},0,{"$f":"SUMPRODUCT((Projects!$A$5:$A$2481='MDOT FTA Detail'!$J$3)*(Projects!$C$5:$C$2481='MDOT FTA Detail'!$C$4)*(Projects!$L$5:$L$2481='MDOT FTA Detail'!$A31)*(Projects!$J$5:$J$2481<>'MDOT FTA Detail'!$A$159)*(Projects!$Q$5:$Q$2481))","v":0},{"$f":"SUMPRODUCT((Projects!$A$5:$A$2481='MDOT FTA Detail'!$M$3)*(Projects!$C$5:$C$2481='MDOT FTA Detail'!$C$4)*(Projects!$L$5:$L$2481='MDOT FTA Detail'!$A31)*(Projects!$J$5:$J$2481<>'MDOT FTA Detail'!$A$159)*(Projects!$K$5:$K$2481))","v":0},0,{"$f":"SUMPRODUCT((Projects!$A$5:$A$2481='MDOT FTA Detail'!$M$3)*(Projects!$C$5:$C$2481='MDOT FTA Detail'!$C$4)*(Projects!$L$5:$L$2481='MDOT FTA Detail'!$A31)*(Projects!$J$5:$J$2481<>'MDOT FTA Detail'!$A$159)*(Projects!$Q$5:$Q$2481))","v":0}]
["EDCF","Economic Development - Category C with Federal Aid","MDOT FA",{"$f":"SUMPRODUCT((Projects!$A$5:$A$2481='MDOT FTA Detail'!$D$3)*(Projects!$C$5:$C$2481='MDOT FTA Detail'!$C$4)*(Projects!$L$5:$L$2481='MDOT FTA Detail'!$A32)*(Projects!$J$5:$J$2481<>'MDOT FTA Detail'!$A$159)*(Projects!$K$5:K$2481))","v":0},0,{"$f":"SUMPRODUCT((Projects!$A$5:$A$2481='MDOT FTA Detail'!$D$3)*(Projects!$C$5:$C$2481='MDOT FTA Detail'!$C$4)*(Projects!$L$5:$L$2481='MDOT FTA Detail'!$A32)*(Projects!$J$5:$J$2481<>'MDOT FTA Detail'!$A$159)*(Projects!$Q$5:Q$2481))","v":0},{"$f":"SUMPRODUCT((Projects!$A$5:$A$2481='MDOT FTA Detail'!$G$3)*(Projects!$C$5:$C$2481='MDOT FTA Detail'!$C$4)*(Projects!$L$5:$L$2481='MDOT FTA Detail'!$A32)*(Projects!$J$5:$J$2481<>'MDOT FTA Detail'!$A$159)*(Projects!$K$5:K$2481))","v":0},0,{"$f":"SUMPRODUCT((Projects!$A$5:$A$2481='MDOT FTA Detail'!$G$3)*(Projects!$C$5:$C$2481='MDOT FTA Detail'!$C$4)*(Projects!$L$5:$L$2481='MDOT FTA Detail'!$A32)*(Projects!$J$5:$J$2481<>'MDOT FTA Detail'!$A$159)*(Projects!$Q$5:Q$2481))","v":0},{"$f":"SUMPRODUCT((Projects!$A$5:$A$2481='MDOT FTA Detail'!$J$3)*(Projects!$C$5:$C$2481='MDOT FTA Detail'!$C$4)*(Projects!$L$5:$L$2481='MDOT FTA Detail'!$A32)*(Projects!$J$5:$J$2481<>'MDOT FTA Detail'!$A$159)*(Projects!$K$5:$K$2481))","v":0},0,{"$f":"SUMPRODUCT((Projects!$A$5:$A$2481='MDOT FTA Detail'!$J$3)*(Projects!$C$5:$C$2481='MDOT FTA Detail'!$C$4)*(Projects!$L$5:$L$2481='MDOT FTA Detail'!$A32)*(Projects!$J$5:$J$2481<>'MDOT FTA Detail'!$A$159)*(Projects!$Q$5:$Q$2481))","v":0},{"$f":"SUMPRODUCT((Projects!$A$5:$A$2481='MDOT FTA Detail'!$M$3)*(Projects!$C$5:$C$2481='MDOT FTA Detail'!$C$4)*(Projects!$L$5:$L$2481='MDOT FTA Detail'!$A32)*(Projects!$J$5:$J$2481<>'MDOT FTA Detail'!$A$159)*(Projects!$K$5:$K$2481))","v":0},0,{"$f":"SUMPRODUCT((Projects!$A$5:$A$2481='MDOT FTA Detail'!$M$3)*(Projects!$C$5:$C$2481='MDOT FTA Detail'!$C$4)*(Projects!$L$5:$L$2481='MDOT FTA Detail'!$A32)*(Projects!$J$5:$J$2481<>'MDOT FTA Detail'!$A$159)*(Projects!$Q$5:$Q$2481))","v":0}]
["EDDF","Economic Development - Category D with Federal Aid","MDOT FA",{"$f":"SUMPRODUCT((Projects!$A$5:$A$2481='MDOT FTA Detail'!$D$3)*(Projects!$C$5:$C$2481='MDOT FTA Detail'!$C$4)*(Projects!$L$5:$L$2481='MDOT FTA Detail'!$A33)*(Projects!$J$5:$J$2481<>'MDOT FTA Detail'!$A$159)*(Projects!$K$5:K$2481))","v":0},0,{"$f":"SUMPRODUCT((Projects!$A$5:$A$2481='MDOT FTA Detail'!$D$3)*(Projects!$C$5:$C$2481='MDOT FTA Detail'!$C$4)*(Projects!$L$5:$L$2481='MDOT FTA Detail'!$A33)*(Projects!$J$5:$J$2481<>'MDOT FTA Detail'!$A$159)*(Projects!$Q$5:Q$2481))","v":0},{"$f":"SUMPRODUCT((Projects!$A$5:$A$2481='MDOT FTA Detail'!$G$3)*(Projects!$C$5:$C$2481='MDOT FTA Detail'!$C$4)*(Projects!$L$5:$L$2481='MDOT FTA Detail'!$A33)*(Projects!$J$5:$J$2481<>'MDOT FTA Detail'!$A$159)*(Projects!$K$5:K$2481))","v":0},0,{"$f":"SUMPRODUCT((Projects!$A$5:$A$2481='MDOT FTA Detail'!$G$3)*(Projects!$C$5:$C$2481='MDOT FTA Detail'!$C$4)*(Projects!$L$5:$L$2481='MDOT FTA Detail'!$A33)*(Projects!$J$5:$J$2481<>'MDOT FTA Detail'!$A$159)*(Projects!$Q$5:Q$2481))","v":0},{"$f":"SUMPRODUCT((Projects!$A$5:$A$2481='MDOT FTA Detail'!$J$3)*(Projects!$C$5:$C$2481='MDOT FTA Detail'!$C$4)*(Projects!$L$5:$L$2481='MDOT FTA Detail'!$A33)*(Projects!$J$5:$J$2481<>'MDOT FTA Detail'!$A$159)*(Projects!$K$5:$K$2481))","v":0},0,{"$f":"SUMPRODUCT((Projects!$A$5:$A$2481='MDOT FTA Detail'!$J$3)*(Projects!$C$5:$C$2481='MDOT FTA Detail'!$C$4)*(Projects!$L$5:$L$2481='MDOT FTA Detail'!$A33)*(Projects!$J$5:$J$2481<>'MDOT FTA Detail'!$A$159)*(Projects!$Q$5:$Q$2481))","v":0},{"$f":"SUMPRODUCT((Projects!$A$5:$A$2481='MDOT FTA Detail'!$M$3)*(Projects!$C$5:$C$2481='MDOT FTA Detail'!$C$4)*(Projects!$L$5:$L$2481='MDOT FTA Detail'!$A33)*(Projects!$J$5:$J$2481<>'MDOT FTA Detail'!$A$159)*(Projects!$K$5:$K$2481))","v":0},0,{"$f":"SUMPRODUCT((Projects!$A$5:$A$2481='MDOT FTA Detail'!$M$3)*(Projects!$C$5:$C$2481='MDOT FTA Detail'!$C$4)*(Projects!$L$5:$L$2481='MDOT FTA Detail'!$A33)*(Projects!$J$5:$J$2481<>'MDOT FTA Detail'!$A$159)*(Projects!$Q$5:$Q$2481))","v":0}]
["EDFF","Economic Development - Category F with Federal Aid","MDOT FA",{"$f":"SUMPRODUCT((Projects!$A$5:$A$2481='MDOT FTA Detail'!$D$3)*(Projects!$C$5:$C$2481='MDOT FTA Detail'!$C$4)*(Projects!$L$5:$L$2481='MDOT FTA Detail'!$A34)*(Projects!$J$5:$J$2481<>'MDOT FTA Detail'!$A$159)*(Projects!$K$5:K$2481))","v":0},0,{"$f":"SUMPRODUCT((Projects!$A$5:$A$2481='MDOT FTA Detail'!$D$3)*(Projects!$C$5:$C$2481='MDOT FTA Detail'!$C$4)*(Projects!$L$5:$L$2481='MDOT FTA Detail'!$A34)*(Projects!$J$5:$J$2481<>'MDOT FTA Detail'!$A$159)*(Projects!$Q$5:Q$2481))","v":0},{"$f":"SUMPRODUCT((Projects!$A$5:$A$2481='MDOT FTA Detail'!$G$3)*(Projects!$C$5:$C$2481='MDOT FTA Detail'!$C$4)*(Projects!$L$5:$L$2481='MDOT FTA Detail'!$A34)*(Projects!$J$5:$J$2481<>'MDOT FTA Detail'!$A$159)*(Projects!$K$5:K$2481))","v":0},0,{"$f":"SUMPRODUCT((Projects!$A$5:$A$2481='MDOT FTA Detail'!$G$3)*(Projects!$C$5:$C$2481='MDOT FTA Detail'!$C$4)*(Projects!$L$5:$L$2481='MDOT FTA Detail'!$A34)*(Projects!$J$5:$J$2481<>'MDOT FTA Detail'!$A$159)*(Projects!$Q$5:Q$2481))","v":0},{"$f":"SUMPRODUCT((Projects!$A$5:$A$2481='MDOT FTA Detail'!$J$3)*(Projects!$C$5:$C$2481='MDOT FTA Detail'!$C$4)*(Projects!$L$5:$L$2481='MDOT FTA Detail'!$A34)*(Projects!$J$5:$J$2481<>'MDOT FTA Detail'!$A$159)*(Projects!$K$5:$K$2481))","v":0},0,{"$f":"SUMPRODUCT((Projects!$A$5:$A$2481='MDOT FTA Detail'!$J$3)*(Projects!$C$5:$C$2481='MDOT FTA Detail'!$C$4)*(Projects!$L$5:$L$2481='MDOT FTA Detail'!$A34)*(Projects!$J$5:$J$2481<>'MDOT FTA Detail'!$A$159)*(Projects!$Q$5:$Q$2481))","v":0},{"$f":"SUMPRODUCT((Projects!$A$5:$A$2481='MDOT FTA Detail'!$M$3)*(Projects!$C$5:$C$2481='MDOT FTA Detail'!$C$4)*(Projects!$L$5:$L$2481='MDOT FTA Detail'!$A34)*(Projects!$J$5:$J$2481<>'MDOT FTA Detail'!$A$159)*(Projects!$K$5:$K$2481))","v":0},0,{"$f":"SUMPRODUCT((Projects!$A$5:$A$2481='MDOT FTA Detail'!$M$3)*(Projects!$C$5:$C$2481='MDOT FTA Detail'!$C$4)*(Projects!$L$5:$L$2481='MDOT FTA Detail'!$A34)*(Projects!$J$5:$J$2481<>'MDOT FTA Detail'!$A$159)*(Projects!$Q$5:$Q$2481))","v":0}]
["ER","Emergency Relief","MDOT FA",{"$f":"SUMPRODUCT((Projects!$A$5:$A$2481='MDOT FTA Detail'!$D$3)*(Projects!$C$5:$C$2481='MDOT FTA Detail'!$C$4)*(Projects!$L$5:$L$2481='MDOT FTA Detail'!$A35)*(Projects!$J$5:$J$2481<>'MDOT FTA Detail'!$A$159)*(Projects!$K$5:K$2481))","v":0},0,{"$f":"SUMPRODUCT((Projects!$A$5:$A$2481='MDOT FTA Detail'!$D$3)*(Projects!$C$5:$C$2481='MDOT FTA Detail'!$C$4)*(Projects!$L$5:$L$2481='MDOT FTA Detail'!$A35)*(Projects!$J$5:$J$2481<>'MDOT FTA Detail'!$A$159)*(Projects!$Q$5:Q$2481))","v":0},{"$f":"SUMPRODUCT((Projects!$A$5:$A$2481='MDOT FTA Detail'!$G$3)*(Projects!$C$5:$C$2481='MDOT FTA Detail'!$C$4)*(Projects!$L$5:$L$2481='MDOT FTA Detail'!$A35)*(Projects!$J$5:$J$2481<>'MDOT FTA Detail'!$A$159)*(Projects!$K$5:K$2481))","v":0},0,{"$f":"SUMPRODUCT((Projects!$A$5:$A$2481='MDOT FTA Detail'!$G$3)*(Projects!$C$5:$C$2481='MDOT FTA Detail'!$C$4)*(Projects!$L$5:$L$2481='MDOT FTA Detail'!$A35)*(Projects!$J$5:$J$2481<>'MDOT FTA Detail'!$A$159)*(Projects!$Q$5:Q$2481))","v":0},{"$f":"SUMPRODUCT((Projects!$A$5:$A$2481='MDOT FTA Detail'!$J$3)*(Projects!$C$5:$C$2481='MDOT FTA Detail'!$C$4)*(Projects!$L$5:$L$2481='MDOT FTA Detail'!$A35)*(Projects!$J$5:$J$2481<>'MDOT FTA Detail'!$A$159)*(Projects!$K$5:$K$2481))","v":0},0,{"$f":"SUMPRODUCT((Projects!$A$5:$A$2481='MDOT FTA Detail'!$J$3)*(Projects!$C$5:$C$2481='MDOT FTA Detail'!$C$4)*(Projects!$L$5:$L$2481='MDOT FTA Detail'!$A35)*(Projects!$J$5:$J$2481<>'MDOT FTA Detail'!$A$159)*(Projects!$Q$5:$Q$2481))","v":0},{"$f":"SUMPRODUCT((Projects!$A$5:$A$2481='MDOT FTA Detail'!$M$3)*(Projects!$C$5:$C$2481='MDOT FTA Detail'!$C$4)*(Projects!$L$5:$L$2481='MDOT FTA Detail'!$A35)*(Projects!$J$5:$J$2481<>'MDOT FTA Detail'!$A$159)*(Projects!$K$5:$K$2481))","v":0},0,{"$f":"SUMPRODUCT((Projects!$A$5:$A$2481='MDOT FTA Detail'!$M$3)*(Projects!$C$5:$C$2481='MDOT FTA Detail'!$C$4)*(Projects!$L$5:$L$2481='MDOT FTA Detail'!$A35)*(Projects!$J$5:$J$2481<>'MDOT FTA Detail'!$A$159)*(Projects!$Q$5:$Q$2481))","v":0}]
["FBD","Ferry Boat & Terminal Discretionary","MDOT FA",{"$f":"SUMPRODUCT((Projects!$A$5:$A$2481='MDOT FTA Detail'!$D$3)*(Projects!$C$5:$C$2481='MDOT FTA Detail'!$C$4)*(Projects!$L$5:$L$2481='MDOT FTA Detail'!$A36)*(Projects!$J$5:$J$2481<>'MDOT FTA Detail'!$A$159)*(Projects!$K$5:K$2481))","v":0},0,{"$f":"SUMPRODUCT((Projects!$A$5:$A$2481='MDOT FTA Detail'!$D$3)*(Projects!$C$5:$C$2481='MDOT FTA Detail'!$C$4)*(Projects!$L$5:$L$2481='MDOT FTA Detail'!$A36)*(Projects!$J$5:$J$2481<>'MDOT FTA Detail'!$A$159)*(Projects!$Q$5:Q$2481))","v":0},{"$f":"SUMPRODUCT((Projects!$A$5:$A$2481='MDOT FTA Detail'!$G$3)*(Projects!$C$5:$C$2481='MDOT FTA Detail'!$C$4)*(Projects!$L$5:$L$2481='MDOT FTA Detail'!$A36)*(Projects!$J$5:$J$2481<>'MDOT FTA Detail'!$A$159)*(Projects!$K$5:K$2481))","v":0},0,{"$f":"SUMPRODUCT((Projects!$A$5:$A$2481='MDOT FTA Detail'!$G$3)*(Projects!$C$5:$C$2481='MDOT FTA Detail'!$C$4)*(Projects!$L$5:$L$2481='MDOT FTA Detail'!$A36)*(Projects!$J$5:$J$2481<>'MDOT FTA Detail'!$A$159)*(Projects!$Q$5:Q$2481))","v":0},{"$f":"SUMPRODUCT((Projects!$A$5:$A$2481='MDOT FTA Detail'!$J$3)*(Projects!$C$5:$C$2481='MDOT FTA Detail'!$C$4)*(Projects!$L$5:$L$2481='MDOT FTA Detail'!$A36)*(Projects!$J$5:$J$2481<>'MDOT FTA Detail'!$A$159)*(Projects!$K$5:$K$2481))","v":0},0,{"$f":"SUMPRODUCT((Projects!$A$5:$A$2481='MDOT FTA Detail'!$J$3)*(Projects!$C$5:$C$2481='MDOT FTA Detail'!$C$4)*(Projects!$L$5:$L$2481='MDOT FTA Detail'!$A36)*(Projects!$J$5:$J$2481<>'MDOT FTA Detail'!$A$159)*(Projects!$Q$5:$Q$2481))","v":0},{"$f":"SUMPRODUCT((Projects!$A$5:$A$2481='MDOT FTA Detail'!$M$3)*(Projects!$C$5:$C$2481='MDOT FTA Detail'!$C$4)*(Projects!$L$5:$L$2481='MDOT FTA Detail'!$A36)*(Projects!$J$5:$J$2481<>'MDOT FTA Detail'!$A$159)*(Projects!$K$5:$K$2481))","v":0},0,{"$f":"SUMPRODUCT((Projects!$A$5:$A$2481='MDOT FTA Detail'!$M$3)*(Projects!$C$5:$C$2481='MDOT FTA Detail'!$C$4)*(Projects!$L$5:$L$2481='MDOT FTA Detail'!$A36)*(Projects!$J$5:$J$2481<>'MDOT FTA Detail'!$A$159)*(Projects!$Q$5:$Q$2481))","v":0}]
["FFH","Federal Forest Highway","MDOT FA",{"$f":"SUMPRODUCT((Projects!$A$5:$A$2481='MDOT FTA Detail'!$D$3)*(Projects!$C$5:$C$2481='MDOT FTA Detail'!$C$4)*(Projects!$L$5:$L$2481='MDOT FTA Detail'!$A37)*(Projects!$J$5:$J$2481<>'MDOT FTA Detail'!$A$159)*(Projects!$K$5:K$2481))","v":0},0,{"$f":"SUMPRODUCT((Projects!$A$5:$A$2481='MDOT FTA Detail'!$D$3)*(Projects!$C$5:$C$2481='MDOT FTA Detail'!$C$4)*(Projects!$L$5:$L$2481='MDOT FTA Detail'!$A37)*(Projects!$J$5:$J$2481<>'MDOT FTA Detail'!$A$159)*(Projects!$Q$5:Q$2481))","v":0},{"$f":"SUMPRODUCT((Projects!$A$5:$A$2481='MDOT FTA Detail'!$G$3)*(Projects!$C$5:$C$2481='MDOT FTA Detail'!$C$4)*(Projects!$L$5:$L$2481='MDOT FTA Detail'!$A37)*(Projects!$J$5:$J$2481<>'MDOT FTA Detail'!$A$159)*(Projects!$K$5:K$2481))","v":0},0,{"$f":"SUMPRODUCT((Projects!$A$5:$A$2481='MDOT FTA Detail'!$G$3)*(Projects!$C$5:$C$2481='MDOT FTA Detail'!$C$4)*(Projects!$L$5:$L$2481='MDOT FTA Detail'!$A37)*(Projects!$J$5:$J$2481<>'MDOT FTA Detail'!$A$159)*(Projects!$Q$5:Q$2481))","v":0},{"$f":"SUMPRODUCT((Projects!$A$5:$A$2481='MDOT FTA Detail'!$J$3)*(Projects!$C$5:$C$2481='MDOT FTA Detail'!$C$4)*(Projects!$L$5:$L$2481='MDOT FTA Detail'!$A37)*(Projects!$J$5:$J$2481<>'MDOT FTA Detail'!$A$159)*(Projects!$K$5:$K$2481))","v":0},0,{"$f":"SUMPRODUCT((Projects!$A$5:$A$2481='MDOT FTA Detail'!$J$3)*(Projects!$C$5:$C$2481='MDOT FTA Detail'!$C$4)*(Projects!$L$5:$L$2481='MDOT FTA Detail'!$A37)*(Projects!$J$5:$J$2481<>'MDOT FTA Detail'!$A$159)*(Projects!$Q$5:$Q$2481))","v":0},{"$f":"SUMPRODUCT((Projects!$A$5:$A$2481='MDOT FTA Detail'!$M$3)*(Projects!$C$5:$C$2481='MDOT FTA Detail'!$C$4)*(Projects!$L$5:$L$2481='MDOT FTA Detail'!$A37)*(Projects!$J$5:$J$2481<>'MDOT FTA Detail'!$A$159)*(Projects!$K$5:$K$2481))","v":0},0,{"$f":"SUMPRODUCT((Projects!$A$5:$A$2481='MDOT FTA Detail'!$M$3)*(Projects!$C$5:$C$2481='MDOT FTA Detail'!$C$4)*(Projects!$L$5:$L$2481='MDOT FTA Detail'!$A37)*(Projects!$J$5:$J$2481<>'MDOT FTA Detail'!$A$159)*(Projects!$Q$5:$Q$2481))","v":0}]
["FLH","Federal Land Highways - Public Lands","MDOT FA",{"$f":"SUMPRODUCT((Projects!$A$5:$A$2481='MDOT FTA Detail'!$D$3)*(Projects!$C$5:$C$2481='MDOT FTA Detail'!$C$4)*(Projects!$L$5:$L$2481='MDOT FTA Detail'!$A38)*(Projects!$J$5:$J$2481<>'MDOT FTA Detail'!$A$159)*(Projects!$K$5:K$2481))","v":0},0,{"$f":"SUMPRODUCT((Projects!$A$5:$A$2481='MDOT FTA Detail'!$D$3)*(Projects!$C$5:$C$2481='MDOT FTA Detail'!$C$4)*(Projects!$L$5:$L$2481='MDOT FTA Detail'!$A38)*(Projects!$J$5:$J$2481<>'MDOT FTA Detail'!$A$159)*(Projects!$Q$5:Q$2481))","v":0},{"$f":"SUMPRODUCT((Projects!$A$5:$A$2481='MDOT FTA Detail'!$G$3)*(Projects!$C$5:$C$2481='MDOT FTA Detail'!$C$4)*(Projects!$L$5:$L$2481='MDOT FTA Detail'!$A38)*(Projects!$J$5:$J$2481<>'MDOT FTA Detail'!$A$159)*(Projects!$K$5:K$2481))","v":0},0,{"$f":"SUMPRODUCT((Projects!$A$5:$A$2481='MDOT FTA Detail'!$G$3)*(Projects!$C$5:$C$2481='MDOT FTA Detail'!$C$4)*(Projects!$L$5:$L$2481='MDOT FTA Detail'!$A38)*(Projects!$J$5:$J$2481<>'MDOT FTA Detail'!$A$159)*(Projects!$Q$5:Q$2481))","v":0},{"$f":"SUMPRODUCT((Projects!$A$5:$A$2481='MDOT FTA Detail'!$J$3)*(Projects!$C$5:$C$2481='MDOT FTA Detail'!$C$4)*(Projects!$L$5:$L$2481='MDOT FTA Detail'!$A38)*(Projects!$J$5:$J$2481<>'MDOT FTA Detail'!$A$159)*(Projects!$K$5:$K$2481))","v":0},0,{"$f":"SUMPRODUCT((Projects!$A$5:$A$2481='MDOT FTA Detail'!$J$3)*(Projects!$C$5:$C$2481='MDOT FTA Detail'!$C$4)*(Projects!$L$5:$L$2481='MDOT FTA Detail'!$A38)*(Projects!$J$5:$J$2481<>'MDOT FTA Detail'!$A$159)*(Projects!$Q$5:$Q$2481))","v":0},{"$f":"SUMPRODUCT((Projects!$A$5:$A$2481='MDOT FTA Detail'!$M$3)*(Projects!$C$5:$C$2481='MDOT FTA Detail'!$C$4)*(Projects!$L$5:$L$2481='MDOT FTA Detail'!$A38)*(Projects!$J$5:$J$2481<>'MDOT FTA Detail'!$A$159)*(Projects!$K$5:$K$2481))","v":0},0,{"$f":"SUMPRODUCT((Projects!$A$5:$A$2481='MDOT FTA Detail'!$M$3)*(Projects!$C$5:$C$2481='MDOT FTA Detail'!$C$4)*(Projects!$L$5:$L$2481='MDOT FTA Detail'!$A38)*(Projects!$J$5:$J$2481<>'MDOT FTA Detail'!$A$159)*(Projects!$Q$5:$Q$2481))","v":0}]
["HBOA","Highway Bridge Obligation  Authority","MDOT FA",{"$f":"SUMPRODUCT((Projects!$A$5:$A$2481='MDOT FTA Detail'!$D$3)*(Projects!$C$5:$C$2481='MDOT FTA Detail'!$C$4)*(Projects!$L$5:$L$2481='MDOT FTA Detail'!$A39)*(Projects!$J$5:$J$2481<>'MDOT FTA Detail'!$A$159)*(Projects!$K$5:K$2481))","v":0},0,{"$f":"SUMPRODUCT((Projects!$A$5:$A$2481='MDOT FTA Detail'!$D$3)*(Projects!$C$5:$C$2481='MDOT FTA Detail'!$C$4)*(Projects!$L$5:$L$2481='MDOT FTA Detail'!$A39)*(Projects!$J$5:$J$2481<>'MDOT FTA Detail'!$A$159)*(Projects!$Q$5:Q$2481))","v":0},{"$f":"SUMPRODUCT((Projects!$A$5:$A$2481='MDOT FTA Detail'!$G$3)*(Projects!$C$5:$C$2481='MDOT FTA Detail'!$C$4)*(Projects!$L$5:$L$2481='MDOT FTA Detail'!$A39)*(Projects!$J$5:$J$2481<>'MDOT FTA Detail'!$A$159)*(Projects!$K$5:K$2481))","v":0},0,{"$f":"SUMPRODUCT((Projects!$A$5:$A$2481='MDOT FTA Detail'!$G$3)*(Projects!$C$5:$C$2481='MDOT FTA Detail'!$C$4)*(Projects!$L$5:$L$2481='MDOT FTA Detail'!$A39)*(Projects!$J$5:$J$2481<>'MDOT FTA Detail'!$A$159)*(Projects!$Q$5:Q$2481))","v":0},{"$f":"SUMPRODUCT((Projects!$A$5:$A$2481='MDOT FTA Detail'!$J$3)*(Projects!$C$5:$C$2481='MDOT FTA Detail'!$C$4)*(Projects!$L$5:$L$2481='MDOT FTA Detail'!$A39)*(Projects!$J$5:$J$2481<>'MDOT FTA Detail'!$A$159)*(Projects!$K$5:$K$2481))","v":0},0,{"$f":"SUMPRODUCT((Projects!$A$5:$A$2481='MDOT FTA Detail'!$J$3)*(Projects!$C$5:$C$2481='MDOT FTA Detail'!$C$4)*(Projects!$L$5:$L$2481='MDOT FTA Detail'!$A39)*(Projects!$J$5:$J$2481<>'MDOT FTA Detail'!$A$159)*(Projects!$Q$5:$Q$2481))","v":0},{"$f":"SUMPRODUCT((Projects!$A$5:$A$2481='MDOT FTA Detail'!$M$3)*(Projects!$C$5:$C$2481='MDOT FTA Detail'!$C$4)*(Projects!$L$5:$L$2481='MDOT FTA Detail'!$A39)*(Projects!$J$5:$J$2481<>'MDOT FTA Detail'!$A$159)*(Projects!$K$5:$K$2481))","v":0},0,{"$f":"SUMPRODUCT((Projects!$A$5:$A$2481='MDOT FTA Detail'!$M$3)*(Projects!$C$5:$C$2481='MDOT FTA Detail'!$C$4)*(Projects!$L$5:$L$2481='MDOT FTA Detail'!$A39)*(Projects!$J$5:$J$2481<>'MDOT FTA Detail'!$A$159)*(Projects!$Q$5:$Q$2481))","v":0}]
["HPP","High Priority Projects (Demo)","MDOT FA",{"$f":"SUMPRODUCT((Projects!$A$5:$A$2481='MDOT FTA Detail'!$D$3)*(Projects!$C$5:$C$2481='MDOT FTA Detail'!$C$4)*(Projects!$L$5:$L$2481='MDOT FTA Detail'!$A40)*(Projects!$J$5:$J$2481<>'MDOT FTA Detail'!$A$159)*(Projects!$K$5:K$2481))","v":0},0,{"$f":"SUMPRODUCT((Projects!$A$5:$A$2481='MDOT FTA Detail'!$D$3)*(Projects!$C$5:$C$2481='MDOT FTA Detail'!$C$4)*(Projects!$L$5:$L$2481='MDOT FTA Detail'!$A40)*(Projects!$J$5:$J$2481<>'MDOT FTA Detail'!$A$159)*(Projects!$Q$5:Q$2481))","v":0},{"$f":"SUMPRODUCT((Projects!$A$5:$A$2481='MDOT FTA Detail'!$G$3)*(Projects!$C$5:$C$2481='MDOT FTA Detail'!$C$4)*(Projects!$L$5:$L$2481='MDOT FTA Detail'!$A40)*(Projects!$J$5:$J$2481<>'MDOT FTA Detail'!$A$159)*(Projects!$K$5:K$2481))","v":0},0,{"$f":"SUMPRODUCT((Projects!$A$5:$A$2481='MDOT FTA Detail'!$G$3)*(Projects!$C$5:$C$2481='MDOT FTA Detail'!$C$4)*(Projects!$L$5:$L$2481='MDOT FTA Detail'!$A40)*(Projects!$J$5:$J$2481<>'MDOT FTA Detail'!$A$159)*(Projects!$Q$5:Q$2481))","v":0},{"$f":"SUMPRODUCT((Projects!$A$5:$A$2481='MDOT FTA Detail'!$J$3)*(Projects!$C$5:$C$2481='MDOT FTA Detail'!$C$4)*(Projects!$L$5:$L$2481='MDOT FTA Detail'!$A40)*(Projects!$J$5:$J$2481<>'MDOT FTA Detail'!$A$159)*(Projects!$K$5:$K$2481))","v":0},0,{"$f":"SUMPRODUCT((Projects!$A$5:$A$2481='MDOT FTA Detail'!$J$3)*(Projects!$C$5:$C$2481='MDOT FTA Detail'!$C$4)*(Projects!$L$5:$L$2481='MDOT FTA Detail'!$A40)*(Projects!$J$5:$J$2481<>'MDOT FTA Detail'!$A$159)*(Projects!$Q$5:$Q$2481))","v":0},{"$f":"SUMPRODUCT((Projects!$A$5:$A$2481='MDOT FTA Detail'!$M$3)*(Projects!$C$5:$C$2481='MDOT FTA Detail'!$C$4)*(Projects!$L$5:$L$2481='MDOT FTA Detail'!$A40)*(Projects!$J$5:$J$2481<>'MDOT FTA Detail'!$A$159)*(Projects!$K$5:$K$2481))","v":0},0,{"$f":"SUMPRODUCT((Projects!$A$5:$A$2481='MDOT FTA Detail'!$M$3)*(Projects!$C$5:$C$2481='MDOT FTA Detail'!$C$4)*(Projects!$L$5:$L$2481='MDOT FTA Detail'!$A40)*(Projects!$J$5:$J$2481<>'MDOT FTA Detail'!$A$159)*(Projects!$Q$5:$Q$2481))","v":0}]
["HPSL","High Priority Projects - SAFETEA-LU","MDOT FA",{"$f":"SUMPRODUCT((Projects!$A$5:$A$2481='MDOT FTA Detail'!$D$3)*(Projects!$C$5:$C$2481='MDOT FTA Detail'!$C$4)*(Projects!$L$5:$L$2481='MDOT FTA Detail'!$A41)*(Projects!$J$5:$J$2481<>'MDOT FTA Detail'!$A$159)*(Projects!$K$5:K$2481))","v":0},0,{"$f":"SUMPRODUCT((Projects!$A$5:$A$2481='MDOT FTA Detail'!$D$3)*(Projects!$C$5:$C$2481='MDOT FTA Detail'!$C$4)*(Projects!$L$5:$L$2481='MDOT FTA Detail'!$A41)*(Projects!$J$5:$J$2481<>'MDOT FTA Detail'!$A$159)*(Projects!$Q$5:Q$2481))","v":0},{"$f":"SUMPRODUCT((Projects!$A$5:$A$2481='MDOT FTA Detail'!$G$3)*(Projects!$C$5:$C$2481='MDOT FTA Detail'!$C$4)*(Projects!$L$5:$L$2481='MDOT FTA Detail'!$A41)*(Projects!$J$5:$J$2481<>'MDOT FTA Detail'!$A$159)*(Projects!$K$5:K$2481))","v":0},0,{"$f":"SUMPRODUCT((Projects!$A$5:$A$2481='MDOT FTA Detail'!$G$3)*(Projects!$C$5:$C$2481='MDOT FTA Detail'!$C$4)*(Projects!$L$5:$L$2481='MDOT FTA Detail'!$A41)*(Projects!$J$5:$J$2481<>'MDOT FTA Detail'!$A$159)*(Projects!$Q$5:Q$2481))","v":0},{"$f":"SUMPRODUCT((Projects!$A$5:$A$2481='MDOT FTA Detail'!$J$3)*(Projects!$C$5:$C$2481='MDOT FTA Detail'!$C$4)*(Projects!$L$5:$L$2481='MDOT FTA Detail'!$A41)*(Projects!$J$5:$J$2481<>'MDOT FTA Detail'!$A$159)*(Projects!$K$5:$K$2481))","v":0},0,{"$f":"SUMPRODUCT((Projects!$A$5:$A$2481='MDOT FTA Detail'!$J$3)*(Projects!$C$5:$C$2481='MDOT FTA Detail'!$C$4)*(Projects!$L$5:$L$2481='MDOT FTA Detail'!$A41)*(Projects!$J$5:$J$2481<>'MDOT FTA Detail'!$A$159)*(Projects!$Q$5:$Q$2481))","v":0},{"$f":"SUMPRODUCT((Projects!$A$5:$A$2481='MDOT FTA Detail'!$M$3)*(Projects!$C$5:$C$2481='MDOT FTA Detail'!$C$4)*(Projects!$L$5:$L$2481='MDOT FTA Detail'!$A41)*(Projects!$J$5:$J$2481<>'MDOT FTA Detail'!$A$159)*(Projects!$K$5:$K$2481))","v":0},0,{"$f":"SUMPRODUCT((Projects!$A$5:$A$2481='MDOT FTA Detail'!$M$3)*(Projects!$C$5:$C$2481='MDOT FTA Detail'!$C$4)*(Projects!$L$5:$L$2481='MDOT FTA Detail'!$A41)*(Projects!$J$5:$J$2481<>'MDOT FTA Detail'!$A$159)*(Projects!$Q$5:$Q$2481))","v":0}]
["HRRR","High Risk Rural Roads - SAFETEA-LU","MDOT FA",{"$f":"SUMPRODUCT((Projects!$A$5:$A$2481='MDOT FTA Detail'!$D$3)*(Projects!$C$5:$C$2481='MDOT FTA Detail'!$C$4)*(Projects!$L$5:$L$2481='MDOT FTA Detail'!$A42)*(Projects!$J$5:$J$2481<>'MDOT FTA Detail'!$A$159)*(Projects!$K$5:K$2481))","v":0},0,{"$f":"SUMPRODUCT((Projects!$A$5:$A$2481='MDOT FTA Detail'!$D$3)*(Projects!$C$5:$C$2481='MDOT FTA Detail'!$C$4)*(Projects!$L$5:$L$2481='MDOT FTA Detail'!$A42)*(Projects!$J$5:$J$2481<>'MDOT FTA Detail'!$A$159)*(Projects!$Q$5:Q$2481))","v":0},{"$f":"SUMPRODUCT((Projects!$A$5:$A$2481='MDOT FTA Detail'!$G$3)*(Projects!$C$5:$C$2481='MDOT FTA Detail'!$C$4)*(Projects!$L$5:$L$2481='MDOT FTA Detail'!$A42)*(Projects!$J$5:$J$2481<>'MDOT FTA Detail'!$A$159)*(Projects!$K$5:K$2481))","v":0},0,{"$f":"SUMPRODUCT((Projects!$A$5:$A$2481='MDOT FTA Detail'!$G$3)*(Projects!$C$5:$C$2481='MDOT FTA Detail'!$C$4)*(Projects!$L$5:$L$2481='MDOT FTA Detail'!$A42)*(Projects!$J$5:$J$2481<>'MDOT FTA Detail'!$A$159)*(Projects!$Q$5:Q$2481))","v":0},{"$f":"SUMPRODUCT((Projects!$A$5:$A$2481='MDOT FTA Detail'!$J$3)*(Projects!$C$5:$C$2481='MDOT FTA Detail'!$C$4)*(Projects!$L$5:$L$2481='MDOT FTA Detail'!$A42)*(Projects!$J$5:$J$2481<>'MDOT FTA Detail'!$A$159)*(Projects!$K$5:$K$2481))","v":0},0,{"$f":"SUMPRODUCT((Projects!$A$5:$A$2481='MDOT FTA Detail'!$J$3)*(Projects!$C$5:$C$2481='MDOT FTA Detail'!$C$4)*(Projects!$L$5:$L$2481='MDOT FTA Detail'!$A42)*(Projects!$J$5:$J$2481<>'MDOT FTA Detail'!$A$159)*(Projects!$Q$5:$Q$2481))","v":0},{"$f":"SUMPRODUCT((Projects!$A$5:$A$2481='MDOT FTA Detail'!$M$3)*(Projects!$C$5:$C$2481='MDOT FTA Detail'!$C$4)*(Projects!$L$5:$L$2481='MDOT FTA Detail'!$A42)*(Projects!$J$5:$J$2481<>'MDOT FTA Detail'!$A$159)*(Projects!$K$5:$K$2481))","v":0},0,{"$f":"SUMPRODUCT((Projects!$A$5:$A$2481='MDOT FTA Detail'!$M$3)*(Projects!$C$5:$C$2481='MDOT FTA Detail'!$C$4)*(Projects!$L$5:$L$2481='MDOT FTA Detail'!$A42)*(Projects!$J$5:$J$2481<>'MDOT FTA Detail'!$A$159)*(Projects!$Q$5:$Q$2481))","v":0}]
["HSG","High Speed Raix Crossings - 100% Federal","MDOT FA",{"$f":"SUMPRODUCT((Projects!$A$5:$A$2481='MDOT FTA Detail'!$D$3)*(Projects!$C$5:$C$2481='MDOT FTA Detail'!$C$4)*(Projects!$L$5:$L$2481='MDOT FTA Detail'!$A43)*(Projects!$J$5:$J$2481<>'MDOT FTA Detail'!$A$159)*(Projects!$K$5:K$2481))","v":0},0,{"$f":"SUMPRODUCT((Projects!$A$5:$A$2481='MDOT FTA Detail'!$D$3)*(Projects!$C$5:$C$2481='MDOT FTA Detail'!$C$4)*(Projects!$L$5:$L$2481='MDOT FTA Detail'!$A43)*(Projects!$J$5:$J$2481<>'MDOT FTA Detail'!$A$159)*(Projects!$Q$5:Q$2481))","v":0},{"$f":"SUMPRODUCT((Projects!$A$5:$A$2481='MDOT FTA Detail'!$G$3)*(Projects!$C$5:$C$2481='MDOT FTA Detail'!$C$4)*(Projects!$L$5:$L$2481='MDOT FTA Detail'!$A43)*(Projects!$J$5:$J$2481<>'MDOT FTA Detail'!$A$159)*(Projects!$K$5:K$2481))","v":0},0,{"$f":"SUMPRODUCT((Projects!$A$5:$A$2481='MDOT FTA Detail'!$G$3)*(Projects!$C$5:$C$2481='MDOT FTA Detail'!$C$4)*(Projects!$L$5:$L$2481='MDOT FTA Detail'!$A43)*(Projects!$J$5:$J$2481<>'MDOT FTA Detail'!$A$159)*(Projects!$Q$5:Q$2481))","v":0},{"$f":"SUMPRODUCT((Projects!$A$5:$A$2481='MDOT FTA Detail'!$J$3)*(Projects!$C$5:$C$2481='MDOT FTA Detail'!$C$4)*(Projects!$L$5:$L$2481='MDOT FTA Detail'!$A43)*(Projects!$J$5:$J$2481<>'MDOT FTA Detail'!$A$159)*(Projects!$K$5:$K$2481))","v":0},0,{"$f":"SUMPRODUCT((Projects!$A$5:$A$2481='MDOT FTA Detail'!$J$3)*(Projects!$C$5:$C$2481='MDOT FTA Detail'!$C$4)*(Projects!$L$5:$L$2481='MDOT FTA Detail'!$A43)*(Projects!$J$5:$J$2481<>'MDOT FTA Detail'!$A$159)*(Projects!$Q$5:$Q$2481))","v":0},{"$f":"SUMPRODUCT((Projects!$A$5:$A$2481='MDOT FTA Detail'!$M$3)*(Projects!$C$5:$C$2481='MDOT FTA Detail'!$C$4)*(Projects!$L$5:$L$2481='MDOT FTA Detail'!$A43)*(Projects!$J$5:$J$2481<>'MDOT FTA Detail'!$A$159)*(Projects!$K$5:$K$2481))","v":0},0,{"$f":"SUMPRODUCT((Projects!$A$5:$A$2481='MDOT FTA Detail'!$M$3)*(Projects!$C$5:$C$2481='MDOT FTA Detail'!$C$4)*(Projects!$L$5:$L$2481='MDOT FTA Detail'!$A43)*(Projects!$J$5:$J$2481<>'MDOT FTA Detail'!$A$159)*(Projects!$Q$5:$Q$2481))","v":0}]
["HSIP","Highway Safety Improvement Program - SAFETEA-LU","MDOT FA",{"$f":"SUMPRODUCT((Projects!$A$5:$A$2481='MDOT FTA Detail'!$D$3)*(Projects!$C$5:$C$2481='MDOT FTA Detail'!$C$4)*(Projects!$L$5:$L$2481='MDOT FTA Detail'!$A44)*(Projects!$J$5:$J$2481<>'MDOT FTA Detail'!$A$159)*(Projects!$K$5:K$2481))","v":0},0,{"$f":"SUMPRODUCT((Projects!$A$5:$A$2481='MDOT FTA Detail'!$D$3)*(Projects!$C$5:$C$2481='MDOT FTA Detail'!$C$4)*(Projects!$L$5:$L$2481='MDOT FTA Detail'!$A44)*(Projects!$J$5:$J$2481<>'MDOT FTA Detail'!$A$159)*(Projects!$Q$5:Q$2481))","v":0},{"$f":"SUMPRODUCT((Projects!$A$5:$A$2481='MDOT FTA Detail'!$G$3)*(Projects!$C$5:$C$2481='MDOT FTA Detail'!$C$4)*(Projects!$L$5:$L$2481='MDOT FTA Detail'!$A44)*(Projects!$J$5:$J$2481<>'MDOT FTA Detail'!$A$159)*(Projects!$K$5:K$2481))","v":0},0,{"$f":"SUMPRODUCT((Projects!$A$5:$A$2481='MDOT FTA Detail'!$G$3)*(Projects!$C$5:$C$2481='MDOT FTA Detail'!$C$4)*(Projects!$L$5:$L$2481='MDOT FTA Detail'!$A44)*(Projects!$J$5:$J$2481<>'MDOT FTA Detail'!$A$159)*(Projects!$Q$5:Q$2481))","v":0},{"$f":"SUMPRODUCT((Projects!$A$5:$A$2481='MDOT FTA Detail'!$J$3)*(Projects!$C$5:$C$2481='MDOT FTA Detail'!$C$4)*(Projects!$L$5:$L$2481='MDOT FTA Detail'!$A44)*(Projects!$J$5:$J$2481<>'MDOT FTA Detail'!$A$159)*(Projects!$K$5:$K$2481))","v":0},0,{"$f":"SUMPRODUCT((Projects!$A$5:$A$2481='MDOT FTA Detail'!$J$3)*(Projects!$C$5:$C$2481='MDOT FTA Detail'!$C$4)*(Projects!$L$5:$L$2481='MDOT FTA Detail'!$A44)*(Projects!$J$5:$J$2481<>'MDOT FTA Detail'!$A$159)*(Projects!$Q$5:$Q$2481))","v":0},{"$f":"SUMPRODUCT((Projects!$A$5:$A$2481='MDOT FTA Detail'!$M$3)*(Projects!$C$5:$C$2481='MDOT FTA Detail'!$C$4)*(Projects!$L$5:$L$2481='MDOT FTA Detail'!$A44)*(Projects!$J$5:$J$2481<>'MDOT FTA Detail'!$A$159)*(Projects!$K$5:$K$2481))","v":0},0,{"$f":"SUMPRODUCT((Projects!$A$5:$A$2481='MDOT FTA Detail'!$M$3)*(Projects!$C$5:$C$2481='MDOT FTA Detail'!$C$4)*(Projects!$L$5:$L$2481='MDOT FTA Detail'!$A44)*(Projects!$J$5:$J$2481<>'MDOT FTA Detail'!$A$159)*(Projects!$Q$5:$Q$2481))","v":0}]
["IM","Interstate Maintenance - No Added Lanes","MDOT FA",{"$f":"SUMPRODUCT((Projects!$A$5:$A$2481='MDOT FTA Detail'!$D$3)*(Projects!$C$5:$C$2481='MDOT FTA Detail'!$C$4)*(Projects!$L$5:$L$2481='MDOT FTA Detail'!$A45)*(Projects!$J$5:$J$2481<>'MDOT FTA Detail'!$A$159)*(Projects!$K$5:K$2481))","v":1665000},185000,{"$f":"SUMPRODUCT((Projects!$A$5:$A$2481='MDOT FTA Detail'!$D$3)*(Projects!$C$5:$C$2481='MDOT FTA Detail'!$C$4)*(Projects!$L$5:$L$2481='MDOT FTA Detail'!$A45)*(Projects!$J$5:$J$2481<>'MDOT FTA Detail'!$A$159)*(Projects!$Q$5:Q$2481))","v":1850000},{"$f":"SUMPRODUCT((Projects!$A$5:$A$2481='MDOT FTA Detail'!$G$3)*(Projects!$C$5:$C$2481='MDOT FTA Detail'!$C$4)*(Projects!$L$5:$L$2481='MDOT FTA Detail'!$A45)*(Projects!$J$5:$J$2481<>'MDOT FTA Detail'!$A$159)*(Projects!$K$5:K$2481))","v":2123113},235903,{"$f":"SUMPRODUCT((Projects!$A$5:$A$2481='MDOT FTA Detail'!$G$3)*(Projects!$C$5:$C$2481='MDOT FTA Detail'!$C$4)*(Projects!$L$5:$L$2481='MDOT FTA Detail'!$A45)*(Projects!$J$5:$J$2481<>'MDOT FTA Detail'!$A$159)*(Projects!$Q$5:Q$2481))","v":2359016},{"$f":"SUMPRODUCT((Projects!$A$5:$A$2481='MDOT FTA Detail'!$J$3)*(Projects!$C$5:$C$2481='MDOT FTA Detail'!$C$4)*(Projects!$L$5:$L$2481='MDOT FTA Detail'!$A45)*(Projects!$J$5:$J$2481<>'MDOT FTA Detail'!$A$159)*(Projects!$K$5:$K$2481))","v":11655000},1295000,{"$f":"SUMPRODUCT((Projects!$A$5:$A$2481='MDOT FTA Detail'!$J$3)*(Projects!$C$5:$C$2481='MDOT FTA Detail'!$C$4)*(Projects!$L$5:$L$2481='MDOT FTA Detail'!$A45)*(Projects!$J$5:$J$2481<>'MDOT FTA Detail'!$A$159)*(Projects!$Q$5:$Q$2481))","v":12950000},{"$f":"SUMPRODUCT((Projects!$A$5:$A$2481='MDOT FTA Detail'!$M$3)*(Projects!$C$5:$C$2481='MDOT FTA Detail'!$C$4)*(Projects!$L$5:$L$2481='MDOT FTA Detail'!$A45)*(Projects!$J$5:$J$2481<>'MDOT FTA Detail'!$A$159)*(Projects!$K$5:$K$2481))","v":0},0,{"$f":"SUMPRODUCT((Projects!$A$5:$A$2481='MDOT FTA Detail'!$M$3)*(Projects!$C$5:$C$2481='MDOT FTA Detail'!$C$4)*(Projects!$L$5:$L$2481='MDOT FTA Detail'!$A45)*(Projects!$J$5:$J$2481<>'MDOT FTA Detail'!$A$159)*(Projects!$Q$5:$Q$2481))","v":0}]
["IMD","Interstate Maintenance Discretionary","MDOT FA",{"$f":"SUMPRODUCT((Projects!$A$5:$A$2481='MDOT FTA Detail'!$D$3)*(Projects!$C$5:$C$2481='MDOT FTA Detail'!$C$4)*(Projects!$L$5:$L$2481='MDOT FTA Detail'!$A46)*(Projects!$J$5:$J$2481<>'MDOT FTA Detail'!$A$159)*(Projects!$K$5:K$2481))","v":0},0,{"$f":"SUMPRODUCT((Projects!$A$5:$A$2481='MDOT FTA Detail'!$D$3)*(Projects!$C$5:$C$2481='MDOT FTA Detail'!$C$4)*(Projects!$L$5:$L$2481='MDOT FTA Detail'!$A46)*(Projects!$J$5:$J$2481<>'MDOT FTA Detail'!$A$159)*(Projects!$Q$5:Q$2481))","v":0},{"$f":"SUMPRODUCT((Projects!$A$5:$A$2481='MDOT FTA Detail'!$G$3)*(Projects!$C$5:$C$2481='MDOT FTA Detail'!$C$4)*(Projects!$L$5:$L$2481='MDOT FTA Detail'!$A46)*(Projects!$J$5:$J$2481<>'MDOT FTA Detail'!$A$159)*(Projects!$K$5:K$2481))","v":0},0,{"$f":"SUMPRODUCT((Projects!$A$5:$A$2481='MDOT FTA Detail'!$G$3)*(Projects!$C$5:$C$2481='MDOT FTA Detail'!$C$4)*(Projects!$L$5:$L$2481='MDOT FTA Detail'!$A46)*(Projects!$J$5:$J$2481<>'MDOT FTA Detail'!$A$159)*(Projects!$Q$5:Q$2481))","v":0},{"$f":"SUMPRODUCT((Projects!$A$5:$A$2481='MDOT FTA Detail'!$J$3)*(Projects!$C$5:$C$2481='MDOT FTA Detail'!$C$4)*(Projects!$L$5:$L$2481='MDOT FTA Detail'!$A46)*(Projects!$J$5:$J$2481<>'MDOT FTA Detail'!$A$159)*(Projects!$K$5:$K$2481))","v":0},0,{"$f":"SUMPRODUCT((Projects!$A$5:$A$2481='MDOT FTA Detail'!$J$3)*(Projects!$C$5:$C$2481='MDOT FTA Detail'!$C$4)*(Projects!$L$5:$L$2481='MDOT FTA Detail'!$A46)*(Projects!$J$5:$J$2481<>'MDOT FTA Detail'!$A$159)*(Projects!$Q$5:$Q$2481))","v":0},{"$f":"SUMPRODUCT((Projects!$A$5:$A$2481='MDOT FTA Detail'!$M$3)*(Projects!$C$5:$C$2481='MDOT FTA Detail'!$C$4)*(Projects!$L$5:$L$2481='MDOT FTA Detail'!$A46)*(Projects!$J$5:$J$2481<>'MDOT FTA Detail'!$A$159)*(Projects!$K$5:$K$2481))","v":0},0,{"$f":"SUMPRODUCT((Projects!$A$5:$A$2481='MDOT FTA Detail'!$M$3)*(Projects!$C$5:$C$2481='MDOT FTA Detail'!$C$4)*(Projects!$L$5:$L$2481='MDOT FTA Detail'!$A46)*(Projects!$J$5:$J$2481<>'MDOT FTA Detail'!$A$159)*(Projects!$Q$5:$Q$2481))","v":0}]
["IMG","Interstate Maintenance - Safety - 100% Federal","MDOT FA",{"$f":"SUMPRODUCT((Projects!$A$5:$A$2481='MDOT FTA Detail'!$D$3)*(Projects!$C$5:$C$2481='MDOT FTA Detail'!$C$4)*(Projects!$L$5:$L$2481='MDOT FTA Detail'!$A47)*(Projects!$J$5:$J$2481<>'MDOT FTA Detail'!$A$159)*(Projects!$K$5:K$2481))","v":0},0,{"$f":"SUMPRODUCT((Projects!$A$5:$A$2481='MDOT FTA Detail'!$D$3)*(Projects!$C$5:$C$2481='MDOT FTA Detail'!$C$4)*(Projects!$L$5:$L$2481='MDOT FTA Detail'!$A47)*(Projects!$J$5:$J$2481<>'MDOT FTA Detail'!$A$159)*(Projects!$Q$5:Q$2481))","v":0},{"$f":"SUMPRODUCT((Projects!$A$5:$A$2481='MDOT FTA Detail'!$G$3)*(Projects!$C$5:$C$2481='MDOT FTA Detail'!$C$4)*(Projects!$L$5:$L$2481='MDOT FTA Detail'!$A47)*(Projects!$J$5:$J$2481<>'MDOT FTA Detail'!$A$159)*(Projects!$K$5:K$2481))","v":0},0,{"$f":"SUMPRODUCT((Projects!$A$5:$A$2481='MDOT FTA Detail'!$G$3)*(Projects!$C$5:$C$2481='MDOT FTA Detail'!$C$4)*(Projects!$L$5:$L$2481='MDOT FTA Detail'!$A47)*(Projects!$J$5:$J$2481<>'MDOT FTA Detail'!$A$159)*(Projects!$Q$5:Q$2481))","v":0},{"$f":"SUMPRODUCT((Projects!$A$5:$A$2481='MDOT FTA Detail'!$J$3)*(Projects!$C$5:$C$2481='MDOT FTA Detail'!$C$4)*(Projects!$L$5:$L$2481='MDOT FTA Detail'!$A47)*(Projects!$J$5:$J$2481<>'MDOT FTA Detail'!$A$159)*(Projects!$K$5:$K$2481))","v":0},0,{"$f":"SUMPRODUCT((Projects!$A$5:$A$2481='MDOT FTA Detail'!$J$3)*(Projects!$C$5:$C$2481='MDOT FTA Detail'!$C$4)*(Projects!$L$5:$L$2481='MDOT FTA Detail'!$A47)*(Projects!$J$5:$J$2481<>'MDOT FTA Detail'!$A$159)*(Projects!$Q$5:$Q$2481))","v":0},{"$f":"SUMPRODUCT((Projects!$A$5:$A$2481='MDOT FTA Detail'!$M$3)*(Projects!$C$5:$C$2481='MDOT FTA Detail'!$C$4)*(Projects!$L$5:$L$2481='MDOT FTA Detail'!$A47)*(Projects!$J$5:$J$2481<>'MDOT FTA Detail'!$A$159)*(Projects!$K$5:$K$2481))","v":0},0,{"$f":"SUMPRODUCT((Projects!$A$5:$A$2481='MDOT FTA Detail'!$M$3)*(Projects!$C$5:$C$2481='MDOT FTA Detail'!$C$4)*(Projects!$L$5:$L$2481='MDOT FTA Detail'!$A47)*(Projects!$J$5:$J$2481<>'MDOT FTA Detail'!$A$159)*(Projects!$Q$5:$Q$2481))","v":0}]
["ITS","Intelligent Transportation Systems","MDOT FA",{"$f":"SUMPRODUCT((Projects!$A$5:$A$2481='MDOT FTA Detail'!$D$3)*(Projects!$C$5:$C$2481='MDOT FTA Detail'!$C$4)*(Projects!$L$5:$L$2481='MDOT FTA Detail'!$A48)*(Projects!$J$5:$J$2481<>'MDOT FTA Detail'!$A$159)*(Projects!$K$5:K$2481))","v":0},0,{"$f":"SUMPRODUCT((Projects!$A$5:$A$2481='MDOT FTA Detail'!$D$3)*(Projects!$C$5:$C$2481='MDOT FTA Detail'!$C$4)*(Projects!$L$5:$L$2481='MDOT FTA Detail'!$A48)*(Projects!$J$5:$J$2481<>'MDOT FTA Detail'!$A$159)*(Projects!$Q$5:Q$2481))","v":0},{"$f":"SUMPRODUCT((Projects!$A$5:$A$2481='MDOT FTA Detail'!$G$3)*(Projects!$C$5:$C$2481='MDOT FTA Detail'!$C$4)*(Projects!$L$5:$L$2481='MDOT FTA Detail'!$A48)*(Projects!$J$5:$J$2481<>'MDOT FTA Detail'!$A$159)*(Projects!$K$5:K$2481))","v":0},0,{"$f":"SUMPRODUCT((Projects!$A$5:$A$2481='MDOT FTA Detail'!$G$3)*(Projects!$C$5:$C$2481='MDOT FTA Detail'!$C$4)*(Projects!$L$5:$L$2481='MDOT FTA Detail'!$A48)*(Projects!$J$5:$J$2481<>'MDOT FTA Detail'!$A$159)*(Projects!$Q$5:Q$2481))","v":0},{"$f":"SUMPRODUCT((Projects!$A$5:$A$2481='MDOT FTA Detail'!$J$3)*(Projects!$C$5:$C$2481='MDOT FTA Detail'!$C$4)*(Projects!$L$5:$L$2481='MDOT FTA Detail'!$A48)*(Projects!$J$5:$J$2481<>'MDOT FTA Detail'!$A$159)*(Projects!$K$5:$K$2481))","v":0},0,{"$f":"SUMPRODUCT((Projects!$A$5:$A$2481='MDOT FTA Detail'!$J$3)*(Projects!$C$5:$C$2481='MDOT FTA Detail'!$C$4)*(Projects!$L$5:$L$2481='MDOT FTA Detail'!$A48)*(Projects!$J$5:$J$2481<>'MDOT FTA Detail'!$A$159)*(Projects!$Q$5:$Q$2481))","v":0},{"$f":"SUMPRODUCT((Projects!$A$5:$A$2481='MDOT FTA Detail'!$M$3)*(Projects!$C$5:$C$2481='MDOT FTA Detail'!$C$4)*(Projects!$L$5:$L$2481='MDOT FTA Detail'!$A48)*(Projects!$J$5:$J$2481<>'MDOT FTA Detail'!$A$159)*(Projects!$K$5:$K$2481))","v":0},0,{"$f":"SUMPRODUCT((Projects!$A$5:$A$2481='MDOT FTA Detail'!$M$3)*(Projects!$C$5:$C$2481='MDOT FTA Detail'!$C$4)*(Projects!$L$5:$L$2481='MDOT FTA Detail'!$A48)*(Projects!$J$5:$J$2481<>'MDOT FTA Detail'!$A$159)*(Projects!$Q$5:$Q$2481))","v":0}]
["JST","85% Minimum Floor Surface Transportation","MDOT FA",{"$f":"SUMPRODUCT((Projects!$A$5:$A$2481='MDOT FTA Detail'!$D$3)*(Projects!$C$5:$C$2481='MDOT FTA Detail'!$C$4)*(Projects!$L$5:$L$2481='MDOT FTA Detail'!$A49)*(Projects!$J$5:$J$2481<>'MDOT FTA Detail'!$A$159)*(Projects!$K$5:K$2481))","v":0},0,{"$f":"SUMPRODUCT((Projects!$A$5:$A$2481='MDOT FTA Detail'!$D$3)*(Projects!$C$5:$C$2481='MDOT FTA Detail'!$C$4)*(Projects!$L$5:$L$2481='MDOT FTA Detail'!$A49)*(Projects!$J$5:$J$2481<>'MDOT FTA Detail'!$A$159)*(Projects!$Q$5:Q$2481))","v":0},{"$f":"SUMPRODUCT((Projects!$A$5:$A$2481='MDOT FTA Detail'!$G$3)*(Projects!$C$5:$C$2481='MDOT FTA Detail'!$C$4)*(Projects!$L$5:$L$2481='MDOT FTA Detail'!$A49)*(Projects!$J$5:$J$2481<>'MDOT FTA Detail'!$A$159)*(Projects!$K$5:K$2481))","v":0},0,{"$f":"SUMPRODUCT((Projects!$A$5:$A$2481='MDOT FTA Detail'!$G$3)*(Projects!$C$5:$C$2481='MDOT FTA Detail'!$C$4)*(Projects!$L$5:$L$2481='MDOT FTA Detail'!$A49)*(Projects!$J$5:$J$2481<>'MDOT FTA Detail'!$A$159)*(Projects!$Q$5:Q$2481))","v":0},{"$f":"SUMPRODUCT((Projects!$A$5:$A$2481='MDOT FTA Detail'!$J$3)*(Projects!$C$5:$C$2481='MDOT FTA Detail'!$C$4)*(Projects!$L$5:$L$2481='MDOT FTA Detail'!$A49)*(Projects!$J$5:$J$2481<>'MDOT FTA Detail'!$A$159)*(Projects!$K$5:$K$2481))","v":0},0,{"$f":"SUMPRODUCT((Projects!$A$5:$A$2481='MDOT FTA Detail'!$J$3)*(Projects!$C$5:$C$2481='MDOT FTA Detail'!$C$4)*(Projects!$L$5:$L$2481='MDOT FTA Detail'!$A49)*(Projects!$J$5:$J$2481<>'MDOT FTA Detail'!$A$159)*(Projects!$Q$5:$Q$2481))","v":0},{"$f":"SUMPRODUCT((Projects!$A$5:$A$2481='MDOT FTA Detail'!$M$3)*(Projects!$C$5:$C$2481='MDOT FTA Detail'!$C$4)*(Projects!$L$5:$L$2481='MDOT FTA Detail'!$A49)*(Projects!$J$5:$J$2481<>'MDOT FTA Detail'!$A$159)*(Projects!$K$5:$K$2481))","v":0},0,{"$f":"SUMPRODUCT((Projects!$A$5:$A$2481='MDOT FTA Detail'!$M$3)*(Projects!$C$5:$C$2481='MDOT FTA Detail'!$C$4)*(Projects!$L$5:$L$2481='MDOT FTA Detail'!$A49)*(Projects!$J$5:$J$2481<>'MDOT FTA Detail'!$A$159)*(Projects!$Q$5:$Q$2481))","v":0}]
["JSTU","85% Minimum Floor Surface Transportation (Urban Area > 2499,000)","MDOT FA",{"$f":"SUMPRODUCT((Projects!$A$5:$A$2481='MDOT FTA Detail'!$D$3)*(Projects!$C$5:$C$2481='MDOT FTA Detail'!$C$4)*(Projects!$L$5:$L$2481='MDOT FTA Detail'!$A50)*(Projects!$J$5:$J$2481<>'MDOT FTA Detail'!$A$159)*(Projects!$K$5:K$2481))","v":0},0,{"$f":"SUMPRODUCT((Projects!$A$5:$A$2481='MDOT FTA Detail'!$D$3)*(Projects!$C$5:$C$2481='MDOT FTA Detail'!$C$4)*(Projects!$L$5:$L$2481='MDOT FTA Detail'!$A50)*(Projects!$J$5:$J$2481<>'MDOT FTA Detail'!$A$159)*(Projects!$Q$5:Q$2481))","v":0},{"$f":"SUMPRODUCT((Projects!$A$5:$A$2481='MDOT FTA Detail'!$G$3)*(Projects!$C$5:$C$2481='MDOT FTA Detail'!$C$4)*(Projects!$L$5:$L$2481='MDOT FTA Detail'!$A50)*(Projects!$J$5:$J$2481<>'MDOT FTA Detail'!$A$159)*(Projects!$K$5:K$2481))","v":0},0,{"$f":"SUMPRODUCT((Projects!$A$5:$A$2481='MDOT FTA Detail'!$G$3)*(Projects!$C$5:$C$2481='MDOT FTA Detail'!$C$4)*(Projects!$L$5:$L$2481='MDOT FTA Detail'!$A50)*(Projects!$J$5:$J$2481<>'MDOT FTA Detail'!$A$159)*(Projects!$Q$5:Q$2481))","v":0},{"$f":"SUMPRODUCT((Projects!$A$5:$A$2481='MDOT FTA Detail'!$J$3)*(Projects!$C$5:$C$2481='MDOT FTA Detail'!$C$4)*(Projects!$L$5:$L$2481='MDOT FTA Detail'!$A50)*(Projects!$J$5:$J$2481<>'MDOT FTA Detail'!$A$159)*(Projects!$K$5:$K$2481))","v":0},0,{"$f":"SUMPRODUCT((Projects!$A$5:$A$2481='MDOT FTA Detail'!$J$3)*(Projects!$C$5:$C$2481='MDOT FTA Detail'!$C$4)*(Projects!$L$5:$L$2481='MDOT FTA Detail'!$A50)*(Projects!$J$5:$J$2481<>'MDOT FTA Detail'!$A$159)*(Projects!$Q$5:$Q$2481))","v":0},{"$f":"SUMPRODUCT((Projects!$A$5:$A$2481='MDOT FTA Detail'!$M$3)*(Projects!$C$5:$C$2481='MDOT FTA Detail'!$C$4)*(Projects!$L$5:$L$2481='MDOT FTA Detail'!$A50)*(Projects!$J$5:$J$2481<>'MDOT FTA Detail'!$A$159)*(Projects!$K$5:$K$2481))","v":0},0,{"$f":"SUMPRODUCT((Projects!$A$5:$A$2481='MDOT FTA Detail'!$M$3)*(Projects!$C$5:$C$2481='MDOT FTA Detail'!$C$4)*(Projects!$L$5:$L$2481='MDOT FTA Detail'!$A50)*(Projects!$J$5:$J$2481<>'MDOT FTA Detail'!$A$159)*(Projects!$Q$5:$Q$2481))","v":0}]
["LTA","Local Technical Assistance Program","MDOT FA",{"$f":"SUMPRODUCT((Projects!$A$5:$A$2481='MDOT FTA Detail'!$D$3)*(Projects!$C$5:$C$2481='MDOT FTA Detail'!$C$4)*(Projects!$L$5:$L$2481='MDOT FTA Detail'!$A51)*(Projects!$J$5:$J$2481<>'MDOT FTA Detail'!$A$159)*(Projects!$K$5:K$2481))","v":0},0,{"$f":"SUMPRODUCT((Projects!$A$5:$A$2481='MDOT FTA Detail'!$D$3)*(Projects!$C$5:$C$2481='MDOT FTA Detail'!$C$4)*(Projects!$L$5:$L$2481='MDOT FTA Detail'!$A51)*(Projects!$J$5:$J$2481<>'MDOT FTA Detail'!$A$159)*(Projects!$Q$5:Q$2481))","v":0},{"$f":"SUMPRODUCT((Projects!$A$5:$A$2481='MDOT FTA Detail'!$G$3)*(Projects!$C$5:$C$2481='MDOT FTA Detail'!$C$4)*(Projects!$L$5:$L$2481='MDOT FTA Detail'!$A51)*(Projects!$J$5:$J$2481<>'MDOT FTA Detail'!$A$159)*(Projects!$K$5:K$2481))","v":0},0,{"$f":"SUMPRODUCT((Projects!$A$5:$A$2481='MDOT FTA Detail'!$G$3)*(Projects!$C$5:$C$2481='MDOT FTA Detail'!$C$4)*(Projects!$L$5:$L$2481='MDOT FTA Detail'!$A51)*(Projects!$J$5:$J$2481<>'MDOT FTA Detail'!$A$159)*(Projects!$Q$5:Q$2481))","v":0},{"$f":"SUMPRODUCT((Projects!$A$5:$A$2481='MDOT FTA Detail'!$J$3)*(Projects!$C$5:$C$2481='MDOT FTA Detail'!$C$4)*(Projects!$L$5:$L$2481='MDOT FTA Detail'!$A51)*(Projects!$J$5:$J$2481<>'MDOT FTA Detail'!$A$159)*(Projects!$K$5:$K$2481))","v":0},0,{"$f":"SUMPRODUCT((Projects!$A$5:$A$2481='MDOT FTA Detail'!$J$3)*(Projects!$C$5:$C$2481='MDOT FTA Detail'!$C$4)*(Projects!$L$5:$L$2481='MDOT FTA Detail'!$A51)*(Projects!$J$5:$J$2481<>'MDOT FTA Detail'!$A$159)*(Projects!$Q$5:$Q$2481))","v":0},{"$f":"SUMPRODUCT((Projects!$A$5:$A$2481='MDOT FTA Detail'!$M$3)*(Projects!$C$5:$C$2481='MDOT FTA Detail'!$C$4)*(Projects!$L$5:$L$2481='MDOT FTA Detail'!$A51)*(Projects!$J$5:$J$2481<>'MDOT FTA Detail'!$A$159)*(Projects!$K$5:$K$2481))","v":0},0,{"$f":"SUMPRODUCT((Projects!$A$5:$A$2481='MDOT FTA Detail'!$M$3)*(Projects!$C$5:$C$2481='MDOT FTA Detail'!$C$4)*(Projects!$L$5:$L$2481='MDOT FTA Detail'!$A51)*(Projects!$J$5:$J$2481<>'MDOT FTA Detail'!$A$159)*(Projects!$Q$5:$Q$2481))","v":0}]
["MG","Minimum Guarantee","MDOT FA",{"$f":"SUMPRODUCT((Projects!$A$5:$A$2481='MDOT FTA Detail'!$D$3)*(Projects!$C$5:$C$2481='MDOT FTA Detail'!$C$4)*(Projects!$L$5:$L$2481='MDOT FTA Detail'!$A52)*(Projects!$J$5:$J$2481<>'MDOT FTA Detail'!$A$159)*(Projects!$K$5:K$2481))","v":0},0,{"$f":"SUMPRODUCT((Projects!$A$5:$A$2481='MDOT FTA Detail'!$D$3)*(Projects!$C$5:$C$2481='MDOT FTA Detail'!$C$4)*(Projects!$L$5:$L$2481='MDOT FTA Detail'!$A52)*(Projects!$J$5:$J$2481<>'MDOT FTA Detail'!$A$159)*(Projects!$Q$5:Q$2481))","v":0},{"$f":"SUMPRODUCT((Projects!$A$5:$A$2481='MDOT FTA Detail'!$G$3)*(Projects!$C$5:$C$2481='MDOT FTA Detail'!$C$4)*(Projects!$L$5:$L$2481='MDOT FTA Detail'!$A52)*(Projects!$J$5:$J$2481<>'MDOT FTA Detail'!$A$159)*(Projects!$K$5:K$2481))","v":0},0,{"$f":"SUMPRODUCT((Projects!$A$5:$A$2481='MDOT FTA Detail'!$G$3)*(Projects!$C$5:$C$2481='MDOT FTA Detail'!$C$4)*(Projects!$L$5:$L$2481='MDOT FTA Detail'!$A52)*(Projects!$J$5:$J$2481<>'MDOT FTA Detail'!$A$159)*(Projects!$Q$5:Q$2481))","v":0},{"$f":"SUMPRODUCT((Projects!$A$5:$A$2481='MDOT FTA Detail'!$J$3)*(Projects!$C$5:$C$2481='MDOT FTA Detail'!$C$4)*(Projects!$L$5:$L$2481='MDOT FTA Detail'!$A52)*(Projects!$J$5:$J$2481<>'MDOT FTA Detail'!$A$159)*(Projects!$K$5:$K$2481))","v":0},0,{"$f":"SUMPRODUCT((Projects!$A$5:$A$2481='MDOT FTA Detail'!$J$3)*(Projects!$C$5:$C$2481='MDOT FTA Detail'!$C$4)*(Projects!$L$5:$L$2481='MDOT FTA Detail'!$A52)*(Projects!$J$5:$J$2481<>'MDOT FTA Detail'!$A$159)*(Projects!$Q$5:$Q$2481))","v":0},{"$f":"SUMPRODUCT((Projects!$A$5:$A$2481='MDOT FTA Detail'!$M$3)*(Projects!$C$5:$C$2481='MDOT FTA Detail'!$C$4)*(Projects!$L$5:$L$2481='MDOT FTA Detail'!$A52)*(Projects!$J$5:$J$2481<>'MDOT FTA Detail'!$A$159)*(Projects!$K$5:$K$2481))","v":0},0,{"$f":"SUMPRODUCT((Projects!$A$5:$A$2481='MDOT FTA Detail'!$M$3)*(Projects!$C$5:$C$2481='MDOT FTA Detail'!$C$4)*(Projects!$L$5:$L$2481='MDOT FTA Detail'!$A52)*(Projects!$J$5:$J$2481<>'MDOT FTA Detail'!$A$159)*(Projects!$Q$5:$Q$2481))","v":0}]
["NCII","National Corridor Infrastructure Improvement - SAFETEA-LU","MDOT FA",{"$f":"SUMPRODUCT((Projects!$A$5:$A$2481='MDOT FTA Detail'!$D$3)*(Projects!$C$5:$C$2481='MDOT FTA Detail'!$C$4)*(Projects!$L$5:$L$2481='MDOT FTA Detail'!$A53)*(Projects!$J$5:$J$2481<>'MDOT FTA Detail'!$A$159)*(Projects!$K$5:K$2481))","v":0},0,{"$f":"SUMPRODUCT((Projects!$A$5:$A$2481='MDOT FTA Detail'!$D$3)*(Projects!$C$5:$C$2481='MDOT FTA Detail'!$C$4)*(Projects!$L$5:$L$2481='MDOT FTA Detail'!$A53)*(Projects!$J$5:$J$2481<>'MDOT FTA Detail'!$A$159)*(Projects!$Q$5:Q$2481))","v":0},{"$f":"SUMPRODUCT((Projects!$A$5:$A$2481='MDOT FTA Detail'!$G$3)*(Projects!$C$5:$C$2481='MDOT FTA Detail'!$C$4)*(Projects!$L$5:$L$2481='MDOT FTA Detail'!$A53)*(Projects!$J$5:$J$2481<>'MDOT FTA Detail'!$A$159)*(Projects!$K$5:K$2481))","v":0},0,{"$f":"SUMPRODUCT((Projects!$A$5:$A$2481='MDOT FTA Detail'!$G$3)*(Projects!$C$5:$C$2481='MDOT FTA Detail'!$C$4)*(Projects!$L$5:$L$2481='MDOT FTA Detail'!$A53)*(Projects!$J$5:$J$2481<>'MDOT FTA Detail'!$A$159)*(Projects!$Q$5:Q$2481))","v":0},{"$f":"SUMPRODUCT((Projects!$A$5:$A$2481='MDOT FTA Detail'!$J$3)*(Projects!$C$5:$C$2481='MDOT FTA Detail'!$C$4)*(Projects!$L$5:$L$2481='MDOT FTA Detail'!$A53)*(Projects!$J$5:$J$2481<>'MDOT FTA Detail'!$A$159)*(Projects!$K$5:$K$2481))","v":0},0,{"$f":"SUMPRODUCT((Projects!$A$5:$A$2481='MDOT FTA Detail'!$J$3)*(Projects!$C$5:$C$2481='MDOT FTA Detail'!$C$4)*(Projects!$L$5:$L$2481='MDOT FTA Detail'!$A53)*(Projects!$J$5:$J$2481<>'MDOT FTA Detail'!$A$159)*(Projects!$Q$5:$Q$2481))","v":0},{"$f":"SUMPRODUCT((Projects!$A$5:$A$2481='MDOT FTA Detail'!$M$3)*(Projects!$C$5:$C$2481='MDOT FTA Detail'!$C$4)*(Projects!$L$5:$L$2481='MDOT FTA Detail'!$A53)*(Projects!$J$5:$J$2481<>'MDOT FTA Detail'!$A$159)*(Projects!$K$5:$K$2481))","v":0},0,{"$f":"SUMPRODUCT((Projects!$A$5:$A$2481='MDOT FTA Detail'!$M$3)*(Projects!$C$5:$C$2481='MDOT FTA Detail'!$C$4)*(Projects!$L$5:$L$2481='MDOT FTA Detail'!$A53)*(Projects!$J$5:$J$2481<>'MDOT FTA Detail'!$A$159)*(Projects!$Q$5:$Q$2481))","v":0}]
["NH","National Highway System","MDOT FA",{"$f":"SUMPRODUCT((Projects!$A$5:$A$2481='MDOT FTA Detail'!$D$3)*(Projects!$C$5:$C$2481='MDOT FTA Detail'!$C$4)*(Projects!$L$5:$L$2481='MDOT FTA Detail'!$A54)*(Projects!$J$5:$J$2481<>'MDOT FTA Detail'!$A$159)*(Projects!$K$5:K$2481))","v":261920},58080,{"$f":"SUMPRODUCT((Projects!$A$5:$A$2481='MDOT FTA Detail'!$D$3)*(Projects!$C$5:$C$2481='MDOT FTA Detail'!$C$4)*(Projects!$L$5:$L$2481='MDOT FTA Detail'!$A54)*(Projects!$J$5:$J$2481<>'MDOT FTA Detail'!$A$159)*(Projects!$Q$5:Q$2481))","v":320000},{"$f":"SUMPRODUCT((Projects!$A$5:$A$2481='MDOT FTA Detail'!$G$3)*(Projects!$C$5:$C$2481='MDOT FTA Detail'!$C$4)*(Projects!$L$5:$L$2481='MDOT FTA Detail'!$A54)*(Projects!$J$5:$J$2481<>'MDOT FTA Detail'!$A$159)*(Projects!$K$5:K$2481))","v":0},0,{"$f":"SUMPRODUCT((Projects!$A$5:$A$2481='MDOT FTA Detail'!$G$3)*(Projects!$C$5:$C$2481='MDOT FTA Detail'!$C$4)*(Projects!$L$5:$L$2481='MDOT FTA Detail'!$A54)*(Projects!$J$5:$J$2481<>'MDOT FTA Detail'!$A$159)*(Projects!$Q$5:Q$2481))","v":0},{"$f":"SUMPRODUCT((Projects!$A$5:$A$2481='MDOT FTA Detail'!$J$3)*(Projects!$C$5:$C$2481='MDOT FTA Detail'!$C$4)*(Projects!$L$5:$L$2481='MDOT FTA Detail'!$A54)*(Projects!$J$5:$J$2481<>'MDOT FTA Detail'!$A$159)*(Projects!$K$5:$K$2481))","v":0},0,{"$f":"SUMPRODUCT((Projects!$A$5:$A$2481='MDOT FTA Detail'!$J$3)*(Projects!$C$5:$C$2481='MDOT FTA Detail'!$C$4)*(Projects!$L$5:$L$2481='MDOT FTA Detail'!$A54)*(Projects!$J$5:$J$2481<>'MDOT FTA Detail'!$A$159)*(Projects!$Q$5:$Q$2481))","v":0},{"$f":"SUMPRODUCT((Projects!$A$5:$A$2481='MDOT FTA Detail'!$M$3)*(Projects!$C$5:$C$2481='MDOT FTA Detail'!$C$4)*(Projects!$L$5:$L$2481='MDOT FTA Detail'!$A54)*(Projects!$J$5:$J$2481<>'MDOT FTA Detail'!$A$159)*(Projects!$K$5:$K$2481))","v":0},0,{"$f":"SUMPRODUCT((Projects!$A$5:$A$2481='MDOT FTA Detail'!$M$3)*(Projects!$C$5:$C$2481='MDOT FTA Detail'!$C$4)*(Projects!$L$5:$L$2481='MDOT FTA Detail'!$A54)*(Projects!$J$5:$J$2481<>'MDOT FTA Detail'!$A$159)*(Projects!$Q$5:$Q$2481))","v":0}]
["NHG","National Highway System - Safety - 100% Federal","MDOT FA",{"$f":"SUMPRODUCT((Projects!$A$5:$A$2481='MDOT FTA Detail'!$D$3)*(Projects!$C$5:$C$2481='MDOT FTA Detail'!$C$4)*(Projects!$L$5:$L$2481='MDOT FTA Detail'!$A55)*(Projects!$J$5:$J$2481<>'MDOT FTA Detail'!$A$159)*(Projects!$K$5:K$2481))","v":0},0,{"$f":"SUMPRODUCT((Projects!$A$5:$A$2481='MDOT FTA Detail'!$D$3)*(Projects!$C$5:$C$2481='MDOT FTA Detail'!$C$4)*(Projects!$L$5:$L$2481='MDOT FTA Detail'!$A55)*(Projects!$J$5:$J$2481<>'MDOT FTA Detail'!$A$159)*(Projects!$Q$5:Q$2481))","v":0},{"$f":"SUMPRODUCT((Projects!$A$5:$A$2481='MDOT FTA Detail'!$G$3)*(Projects!$C$5:$C$2481='MDOT FTA Detail'!$C$4)*(Projects!$L$5:$L$2481='MDOT FTA Detail'!$A55)*(Projects!$J$5:$J$2481<>'MDOT FTA Detail'!$A$159)*(Projects!$K$5:K$2481))","v":0},0,{"$f":"SUMPRODUCT((Projects!$A$5:$A$2481='MDOT FTA Detail'!$G$3)*(Projects!$C$5:$C$2481='MDOT FTA Detail'!$C$4)*(Projects!$L$5:$L$2481='MDOT FTA Detail'!$A55)*(Projects!$J$5:$J$2481<>'MDOT FTA Detail'!$A$159)*(Projects!$Q$5:Q$2481))","v":0},{"$f":"SUMPRODUCT((Projects!$A$5:$A$2481='MDOT FTA Detail'!$J$3)*(Projects!$C$5:$C$2481='MDOT FTA Detail'!$C$4)*(Projects!$L$5:$L$2481='MDOT FTA Detail'!$A55)*(Projects!$J$5:$J$2481<>'MDOT FTA Detail'!$A$159)*(Projects!$K$5:$K$2481))","v":0},0,{"$f":"SUMPRODUCT((Projects!$A$5:$A$2481='MDOT FTA Detail'!$J$3)*(Projects!$C$5:$C$2481='MDOT FTA Detail'!$C$4)*(Projects!$L$5:$L$2481='MDOT FTA Detail'!$A55)*(Projects!$J$5:$J$2481<>'MDOT FTA Detail'!$A$159)*(Projects!$Q$5:$Q$2481))","v":0},{"$f":"SUMPRODUCT((Projects!$A$5:$A$2481='MDOT FTA Detail'!$M$3)*(Projects!$C$5:$C$2481='MDOT FTA Detail'!$C$4)*(Projects!$L$5:$L$2481='MDOT FTA Detail'!$A55)*(Projects!$J$5:$J$2481<>'MDOT FTA Detail'!$A$159)*(Projects!$K$5:$K$2481))","v":0},0,{"$f":"SUMPRODUCT((Projects!$A$5:$A$2481='MDOT FTA Detail'!$M$3)*(Projects!$C$5:$C$2481='MDOT FTA Detail'!$C$4)*(Projects!$L$5:$L$2481='MDOT FTA Detail'!$A55)*(Projects!$J$5:$J$2481<>'MDOT FTA Detail'!$A$159)*(Projects!$Q$5:$Q$2481))","v":0}]
["NHI","National Highway Funds on I (Does not Qualify for I)","MDOT FA",{"$f":"SUMPRODUCT((Projects!$A$5:$A$2481='MDOT FTA Detail'!$D$3)*(Projects!$C$5:$C$2481='MDOT FTA Detail'!$C$4)*(Projects!$L$5:$L$2481='MDOT FTA Detail'!$A56)*(Projects!$J$5:$J$2481<>'MDOT FTA Detail'!$A$159)*(Projects!$K$5:K$2481))","v":0},0,{"$f":"SUMPRODUCT((Projects!$A$5:$A$2481='MDOT FTA Detail'!$D$3)*(Projects!$C$5:$C$2481='MDOT FTA Detail'!$C$4)*(Projects!$L$5:$L$2481='MDOT FTA Detail'!$A56)*(Projects!$J$5:$J$2481<>'MDOT FTA Detail'!$A$159)*(Projects!$Q$5:Q$2481))","v":0},{"$f":"SUMPRODUCT((Projects!$A$5:$A$2481='MDOT FTA Detail'!$G$3)*(Projects!$C$5:$C$2481='MDOT FTA Detail'!$C$4)*(Projects!$L$5:$L$2481='MDOT FTA Detail'!$A56)*(Projects!$J$5:$J$2481<>'MDOT FTA Detail'!$A$159)*(Projects!$K$5:K$2481))","v":0},0,{"$f":"SUMPRODUCT((Projects!$A$5:$A$2481='MDOT FTA Detail'!$G$3)*(Projects!$C$5:$C$2481='MDOT FTA Detail'!$C$4)*(Projects!$L$5:$L$2481='MDOT FTA Detail'!$A56)*(Projects!$J$5:$J$2481<>'MDOT FTA Detail'!$A$159)*(Projects!$Q$5:Q$2481))","v":0},{"$f":"SUMPRODUCT((Projects!$A$5:$A$2481='MDOT FTA Detail'!$J$3)*(Projects!$C$5:$C$2481='MDOT FTA Detail'!$C$4)*(Projects!$L$5:$L$2481='MDOT FTA Detail'!$A56)*(Projects!$J$5:$J$2481<>'MDOT FTA Detail'!$A$159)*(Projects!$K$5:$K$2481))","v":0},0,{"$f":"SUMPRODUCT((Projects!$A$5:$A$2481='MDOT FTA Detail'!$J$3)*(Projects!$C$5:$C$2481='MDOT FTA Detail'!$C$4)*(Projects!$L$5:$L$2481='MDOT FTA Detail'!$A56)*(Projects!$J$5:$J$2481<>'MDOT FTA Detail'!$A$159)*(Projects!$Q$5:$Q$2481))","v":0},{"$f":"SUMPRODUCT((Projects!$A$5:$A$2481='MDOT FTA Detail'!$M$3)*(Projects!$C$5:$C$2481='MDOT FTA Detail'!$C$4)*(Projects!$L$5:$L$2481='MDOT FTA Detail'!$A56)*(Projects!$J$5:$J$2481<>'MDOT FTA Detail'!$A$159)*(Projects!$K$5:$K$2481))","v":0},0,{"$f":"SUMPRODUCT((Projects!$A$5:$A$2481='MDOT FTA Detail'!$M$3)*(Projects!$C$5:$C$2481='MDOT FTA Detail'!$C$4)*(Projects!$L$5:$L$2481='MDOT FTA Detail'!$A56)*(Projects!$J$5:$J$2481<>'MDOT FTA Detail'!$A$159)*(Projects!$Q$5:$Q$2481))","v":0}]
["NHIM","National Highway Funds on I (Qualifies for IM)","MDOT FA",{"$f":"SUMPRODUCT((Projects!$A$5:$A$2481='MDOT FTA Detail'!$D$3)*(Projects!$C$5:$C$2481='MDOT FTA Detail'!$C$4)*(Projects!$L$5:$L$2481='MDOT FTA Detail'!$A57)*(Projects!$J$5:$J$2481<>'MDOT FTA Detail'!$A$159)*(Projects!$K$5:K$2481))","v":0},0,{"$f":"SUMPRODUCT((Projects!$A$5:$A$2481='MDOT FTA Detail'!$D$3)*(Projects!$C$5:$C$2481='MDOT FTA Detail'!$C$4)*(Projects!$L$5:$L$2481='MDOT FTA Detail'!$A57)*(Projects!$J$5:$J$2481<>'MDOT FTA Detail'!$A$159)*(Projects!$Q$5:Q$2481))","v":0},{"$f":"SUMPRODUCT((Projects!$A$5:$A$2481='MDOT FTA Detail'!$G$3)*(Projects!$C$5:$C$2481='MDOT FTA Detail'!$C$4)*(Projects!$L$5:$L$2481='MDOT FTA Detail'!$A57)*(Projects!$J$5:$J$2481<>'MDOT FTA Detail'!$A$159)*(Projects!$K$5:K$2481))","v":0},0,{"$f":"SUMPRODUCT((Projects!$A$5:$A$2481='MDOT FTA Detail'!$G$3)*(Projects!$C$5:$C$2481='MDOT FTA Detail'!$C$4)*(Projects!$L$5:$L$2481='MDOT FTA Detail'!$A57)*(Projects!$J$5:$J$2481<>'MDOT FTA Detail'!$A$159)*(Projects!$Q$5:Q$2481))","v":0},{"$f":"SUMPRODUCT((Projects!$A$5:$A$2481='MDOT FTA Detail'!$J$3)*(Projects!$C$5:$C$2481='MDOT FTA Detail'!$C$4)*(Projects!$L$5:$L$2481='MDOT FTA Detail'!$A57)*(Projects!$J$5:$J$2481<>'MDOT FTA Detail'!$A$159)*(Projects!$K$5:$K$2481))","v":0},0,{"$f":"SUMPRODUCT((Projects!$A$5:$A$2481='MDOT FTA Detail'!$J$3)*(Projects!$C$5:$C$2481='MDOT FTA Detail'!$C$4)*(Projects!$L$5:$L$2481='MDOT FTA Detail'!$A57)*(Projects!$J$5:$J$2481<>'MDOT FTA Detail'!$A$159)*(Projects!$Q$5:$Q$2481))","v":0},{"$f":"SUMPRODUCT((Projects!$A$5:$A$2481='MDOT FTA Detail'!$M$3)*(Projects!$C$5:$C$2481='MDOT FTA Detail'!$C$4)*(Projects!$L$5:$L$2481='MDOT FTA Detail'!$A57)*(Projects!$J$5:$J$2481<>'MDOT FTA Detail'!$A$159)*(Projects!$K$5:$K$2481))","v":0},0,{"$f":"SUMPRODUCT((Projects!$A$5:$A$2481='MDOT FTA Detail'!$M$3)*(Projects!$C$5:$C$2481='MDOT FTA Detail'!$C$4)*(Projects!$L$5:$L$2481='MDOT FTA Detail'!$A57)*(Projects!$J$5:$J$2481<>'MDOT FTA Detail'!$A$159)*(Projects!$Q$5:$Q$2481))","v":0}]
["NHS","National Highway System - MDOT Safety Program","MDOT FA",{"$f":"SUMPRODUCT((Projects!$A$5:$A$2481='MDOT FTA Detail'!$D$3)*(Projects!$C$5:$C$2481='MDOT FTA Detail'!$C$4)*(Projects!$L$5:$L$2481='MDOT FTA Detail'!$A58)*(Projects!$J$5:$J$2481<>'MDOT FTA Detail'!$A$159)*(Projects!$K$5:K$2481))","v":0},0,{"$f":"SUMPRODUCT((Projects!$A$5:$A$2481='MDOT FTA Detail'!$D$3)*(Projects!$C$5:$C$2481='MDOT FTA Detail'!$C$4)*(Projects!$L$5:$L$2481='MDOT FTA Detail'!$A58)*(Projects!$J$5:$J$2481<>'MDOT FTA Detail'!$A$159)*(Projects!$Q$5:Q$2481))","v":0},{"$f":"SUMPRODUCT((Projects!$A$5:$A$2481='MDOT FTA Detail'!$G$3)*(Projects!$C$5:$C$2481='MDOT FTA Detail'!$C$4)*(Projects!$L$5:$L$2481='MDOT FTA Detail'!$A58)*(Projects!$J$5:$J$2481<>'MDOT FTA Detail'!$A$159)*(Projects!$K$5:K$2481))","v":0},0,{"$f":"SUMPRODUCT((Projects!$A$5:$A$2481='MDOT FTA Detail'!$G$3)*(Projects!$C$5:$C$2481='MDOT FTA Detail'!$C$4)*(Projects!$L$5:$L$2481='MDOT FTA Detail'!$A58)*(Projects!$J$5:$J$2481<>'MDOT FTA Detail'!$A$159)*(Projects!$Q$5:Q$2481))","v":0},{"$f":"SUMPRODUCT((Projects!$A$5:$A$2481='MDOT FTA Detail'!$J$3)*(Projects!$C$5:$C$2481='MDOT FTA Detail'!$C$4)*(Projects!$L$5:$L$2481='MDOT FTA Detail'!$A58)*(Projects!$J$5:$J$2481<>'MDOT FTA Detail'!$A$159)*(Projects!$K$5:$K$2481))","v":0},0,{"$f":"SUMPRODUCT((Projects!$A$5:$A$2481='MDOT FTA Detail'!$J$3)*(Projects!$C$5:$C$2481='MDOT FTA Detail'!$C$4)*(Projects!$L$5:$L$2481='MDOT FTA Detail'!$A58)*(Projects!$J$5:$J$2481<>'MDOT FTA Detail'!$A$159)*(Projects!$Q$5:$Q$2481))","v":0},{"$f":"SUMPRODUCT((Projects!$A$5:$A$2481='MDOT FTA Detail'!$M$3)*(Projects!$C$5:$C$2481='MDOT FTA Detail'!$C$4)*(Projects!$L$5:$L$2481='MDOT FTA Detail'!$A58)*(Projects!$J$5:$J$2481<>'MDOT FTA Detail'!$A$159)*(Projects!$K$5:$K$2481))","v":0},0,{"$f":"SUMPRODUCT((Projects!$A$5:$A$2481='MDOT FTA Detail'!$M$3)*(Projects!$C$5:$C$2481='MDOT FTA Detail'!$C$4)*(Projects!$L$5:$L$2481='MDOT FTA Detail'!$A58)*(Projects!$J$5:$J$2481<>'MDOT FTA Detail'!$A$159)*(Projects!$Q$5:$Q$2481))","v":0}]
["NRT","National Recreational Trails","MDOT FA",{"$f":"SUMPRODUCT((Projects!$A$5:$A$2481='MDOT FTA Detail'!$D$3)*(Projects!$C$5:$C$2481='MDOT FTA Detail'!$C$4)*(Projects!$L$5:$L$2481='MDOT FTA Detail'!$A59)*(Projects!$J$5:$J$2481<>'MDOT FTA Detail'!$A$159)*(Projects!$K$5:K$2481))","v":0},0,{"$f":"SUMPRODUCT((Projects!$A$5:$A$2481='MDOT FTA Detail'!$D$3)*(Projects!$C$5:$C$2481='MDOT FTA Detail'!$C$4)*(Projects!$L$5:$L$2481='MDOT FTA Detail'!$A59)*(Projects!$J$5:$J$2481<>'MDOT FTA Detail'!$A$159)*(Projects!$Q$5:Q$2481))","v":0},{"$f":"SUMPRODUCT((Projects!$A$5:$A$2481='MDOT FTA Detail'!$G$3)*(Projects!$C$5:$C$2481='MDOT FTA Detail'!$C$4)*(Projects!$L$5:$L$2481='MDOT FTA Detail'!$A59)*(Projects!$J$5:$J$2481<>'MDOT FTA Detail'!$A$159)*(Projects!$K$5:K$2481))","v":0},0,{"$f":"SUMPRODUCT((Projects!$A$5:$A$2481='MDOT FTA Detail'!$G$3)*(Projects!$C$5:$C$2481='MDOT FTA Detail'!$C$4)*(Projects!$L$5:$L$2481='MDOT FTA Detail'!$A59)*(Projects!$J$5:$J$2481<>'MDOT FTA Detail'!$A$159)*(Projects!$Q$5:Q$2481))","v":0},{"$f":"SUMPRODUCT((Projects!$A$5:$A$2481='MDOT FTA Detail'!$J$3)*(Projects!$C$5:$C$2481='MDOT FTA Detail'!$C$4)*(Projects!$L$5:$L$2481='MDOT FTA Detail'!$A59)*(Projects!$J$5:$J$2481<>'MDOT FTA Detail'!$A$159)*(Projects!$K$5:$K$2481))","v":0},0,{"$f":"SUMPRODUCT((Projects!$A$5:$A$2481='MDOT FTA Detail'!$J$3)*(Projects!$C$5:$C$2481='MDOT FTA Detail'!$C$4)*(Projects!$L$5:$L$2481='MDOT FTA Detail'!$A59)*(Projects!$J$5:$J$2481<>'MDOT FTA Detail'!$A$159)*(Projects!$Q$5:$Q$2481))","v":0},{"$f":"SUMPRODUCT((Projects!$A$5:$A$2481='MDOT FTA Detail'!$M$3)*(Projects!$C$5:$C$2481='MDOT FTA Detail'!$C$4)*(Projects!$L$5:$L$2481='MDOT FTA Detail'!$A59)*(Projects!$J$5:$J$2481<>'MDOT FTA Detail'!$A$159)*(Projects!$K$5:$K$2481))","v":0},0,{"$f":"SUMPRODUCT((Projects!$A$5:$A$2481='MDOT FTA Detail'!$M$3)*(Projects!$C$5:$C$2481='MDOT FTA Detail'!$C$4)*(Projects!$L$5:$L$2481='MDOT FTA Detail'!$A59)*(Projects!$J$5:$J$2481<>'MDOT FTA Detail'!$A$159)*(Projects!$Q$5:$Q$2481))","v":0}]
["OFHWA","Other FHWA Funds (Specify source in Comments)","MDOT FA",{"$f":"SUMPRODUCT((Projects!$A$5:$A$2481='MDOT FTA Detail'!$D$3)*(Projects!$C$5:$C$2481='MDOT FTA Detail'!$C$4)*(Projects!$L$5:$L$2481='MDOT FTA Detail'!$A60)*(Projects!$J$5:$J$2481<>'MDOT FTA Detail'!$A$159)*(Projects!$K$5:K$2481))","v":0},{"$f":"F60-D60","v":0},{"$f":"SUMPRODUCT((Projects!$A$5:$A$2481='MDOT FTA Detail'!$D$3)*(Projects!$C$5:$C$2481='MDOT FTA Detail'!$C$4)*(Projects!$L$5:$L$2481='MDOT FTA Detail'!$A60)*(Projects!$J$5:$J$2481<>'MDOT FTA Detail'!$A$159)*(Projects!$Q$5:Q$2481))","v":0},{"$f":"SUMPRODUCT((Projects!$A$5:$A$2481='MDOT FTA Detail'!$G$3)*(Projects!$C$5:$C$2481='MDOT FTA Detail'!$C$4)*(Projects!$L$5:$L$2481='MDOT FTA Detail'!$A60)*(Projects!$J$5:$J$2481<>'MDOT FTA Detail'!$A$159)*(Projects!$K$5:K$2481))","v":0},{"$f":"I60-G60","v":0},{"$f":"SUMPRODUCT((Projects!$A$5:$A$2481='MDOT FTA Detail'!$G$3)*(Projects!$C$5:$C$2481='MDOT FTA Detail'!$C$4)*(Projects!$L$5:$L$2481='MDOT FTA Detail'!$A60)*(Projects!$J$5:$J$2481<>'MDOT FTA Detail'!$A$159)*(Projects!$Q$5:Q$2481))","v":0},{"$f":"SUMPRODUCT((Projects!$A$5:$A$2481='MDOT FTA Detail'!$J$3)*(Projects!$C$5:$C$2481='MDOT FTA Detail'!$C$4)*(Projects!$L$5:$L$2481='MDOT FTA Detail'!$A60)*(Projects!$J$5:$J$2481<>'MDOT FTA Detail'!$A$159)*(Projects!$K$5:$K$2481))","v":0},{"$f":"L60-J60","v":0},{"$f":"SUMPRODUCT((Projects!$A$5:$A$2481='MDOT FTA Detail'!$J$3)*(Projects!$C$5:$C$2481='MDOT FTA Detail'!$C$4)*(Projects!$L$5:$L$2481='MDOT FTA Detail'!$A60)*(Projects!$J$5:$J$2481<>'MDOT FTA Detail'!$A$159)*(Projects!$Q$5:$Q$2481))","v":0},{"$f":"SUMPRODUCT((Projects!$A$5:$A$2481='MDOT FTA Detail'!$M$3)*(Projects!$C$5:$C$2481='MDOT FTA Detail'!$C$4)*(Projects!$L$5:$L$2481='MDOT FTA Detail'!$A60)*(Projects!$J$5:$J$2481<>'MDOT FTA Detail'!$A$159)*(Projects!$K$5:$K$2481))","v":0},{"$f":"O60-M60","v":0},{"$f":"SUMPRODUCT((Projects!$A$5:$A$2481='MDOT FTA Detail'!$M$3)*(Projects!$C$5:$C$2481='MDOT FTA Detail'!$C$4)*(Projects!$L$5:$L$2481='MDOT FTA Detail'!$A60)*(Projects!$J$5:$J$2481<>'MDOT FTA Detail'!$A$159)*(Projects!$Q$5:$Q$2481))","v":0}]
["PNRS","Projects of National and Regional Significance","MDOT FA",{"$f":"SUMPRODUCT((Projects!$A$5:$A$2481='MDOT FTA Detail'!$D$3)*(Projects!$C$5:$C$2481='MDOT FTA Detail'!$C$4)*(Projects!$L$5:$L$2481='MDOT FTA Detail'!$A61)*(Projects!$J$5:$J$2481<>'MDOT FTA Detail'!$A$159)*(Projects!$K$5:K$2481))","v":0},0,{"$f":"SUMPRODUCT((Projects!$A$5:$A$2481='MDOT FTA Detail'!$D$3)*(Projects!$C$5:$C$2481='MDOT FTA Detail'!$C$4)*(Projects!$L$5:$L$2481='MDOT FTA Detail'!$A61)*(Projects!$J$5:$J$2481<>'MDOT FTA Detail'!$A$159)*(Projects!$Q$5:Q$2481))","v":0},{"$f":"SUMPRODUCT((Projects!$A$5:$A$2481='MDOT FTA Detail'!$G$3)*(Projects!$C$5:$C$2481='MDOT FTA Detail'!$C$4)*(Projects!$L$5:$L$2481='MDOT FTA Detail'!$A61)*(Projects!$J$5:$J$2481<>'MDOT FTA Detail'!$A$159)*(Projects!$K$5:K$2481))","v":0},0,{"$f":"SUMPRODUCT((Projects!$A$5:$A$2481='MDOT FTA Detail'!$G$3)*(Projects!$C$5:$C$2481='MDOT FTA Detail'!$C$4)*(Projects!$L$5:$L$2481='MDOT FTA Detail'!$A61)*(Projects!$J$5:$J$2481<>'MDOT FTA Detail'!$A$159)*(Projects!$Q$5:Q$2481))","v":0},{"$f":"SUMPRODUCT((Projects!$A$5:$A$2481='MDOT FTA Detail'!$J$3)*(Projects!$C$5:$C$2481='MDOT FTA Detail'!$C$4)*(Projects!$L$5:$L$2481='MDOT FTA Detail'!$A61)*(Projects!$J$5:$J$2481<>'MDOT FTA Detail'!$A$159)*(Projects!$K$5:$K$2481))","v":0},0,{"$f":"SUMPRODUCT((Projects!$A$5:$A$2481='MDOT FTA Detail'!$J$3)*(Projects!$C$5:$C$2481='MDOT FTA Detail'!$C$4)*(Projects!$L$5:$L$2481='MDOT FTA Detail'!$A61)*(Projects!$J$5:$J$2481<>'MDOT FTA Detail'!$A$159)*(Projects!$Q$5:$Q$2481))","v":0},{"$f":"SUMPRODUCT((Projects!$A$5:$A$2481='MDOT FTA Detail'!$M$3)*(Projects!$C$5:$C$2481='MDOT FTA Detail'!$C$4)*(Projects!$L$5:$L$2481='MDOT FTA Detail'!$A61)*(Projects!$J$5:$J$2481<>'MDOT FTA Detail'!$A$159)*(Projects!$K$5:$K$2481))","v":0},0,{"$f":"SUMPRODUCT((Projects!$A$5:$A$2481='MDOT FTA Detail'!$M$3)*(Projects!$C$5:$C$2481='MDOT FTA Detail'!$C$4)*(Projects!$L$5:$L$2481='MDOT FTA Detail'!$A61)*(Projects!$J$5:$J$2481<>'MDOT FTA Detail'!$A$159)*(Projects!$Q$5:$Q$2481))","v":0}]
["RP","Research Project","MDOT FA",{"$f":"SUMPRODUCT((Projects!$A$5:$A$2481='MDOT FTA Detail'!$D$3)*(Projects!$C$5:$C$2481='MDOT FTA Detail'!$C$4)*(Projects!$L$5:$L$2481='MDOT FTA Detail'!$A62)*(Projects!$J$5:$J$2481<>'MDOT FTA Detail'!$A$159)*(Projects!$K$5:K$2481))","v":0},0,{"$f":"SUMPRODUCT((Projects!$A$5:$A$2481='MDOT FTA Detail'!$D$3)*(Projects!$C$5:$C$2481='MDOT FTA Detail'!$C$4)*(Projects!$L$5:$L$2481='MDOT FTA Detail'!$A62)*(Projects!$J$5:$J$2481<>'MDOT FTA Detail'!$A$159)*(Projects!$Q$5:Q$2481))","v":0},{"$f":"SUMPRODUCT((Projects!$A$5:$A$2481='MDOT FTA Detail'!$G$3)*(Projects!$C$5:$C$2481='MDOT FTA Detail'!$C$4)*(Projects!$L$5:$L$2481='MDOT FTA Detail'!$A62)*(Projects!$J$5:$J$2481<>'MDOT FTA Detail'!$A$159)*(Projects!$K$5:K$2481))","v":0},0,{"$f":"SUMPRODUCT((Projects!$A$5:$A$2481='MDOT FTA Detail'!$G$3)*(Projects!$C$5:$C$2481='MDOT FTA Detail'!$C$4)*(Projects!$L$5:$L$2481='MDOT FTA Detail'!$A62)*(Projects!$J$5:$J$2481<>'MDOT FTA Detail'!$A$159)*(Projects!$Q$5:Q$2481))","v":0},{"$f":"SUMPRODUCT((Projects!$A$5:$A$2481='MDOT FTA Detail'!$J$3)*(Projects!$C$5:$C$2481='MDOT FTA Detail'!$C$4)*(Projects!$L$5:$L$2481='MDOT FTA Detail'!$A62)*(Projects!$J$5:$J$2481<>'MDOT FTA Detail'!$A$159)*(Projects!$K$5:$K$2481))","v":0},0,{"$f":"SUMPRODUCT((Projects!$A$5:$A$2481='MDOT FTA Detail'!$J$3)*(Projects!$C$5:$C$2481='MDOT FTA Detail'!$C$4)*(Projects!$L$5:$L$2481='MDOT FTA Detail'!$A62)*(Projects!$J$5:$J$2481<>'MDOT FTA Detail'!$A$159)*(Projects!$Q$5:$Q$2481))","v":0},{"$f":"SUMPRODUCT((Projects!$A$5:$A$2481='MDOT FTA Detail'!$M$3)*(Projects!$C$5:$C$2481='MDOT FTA Detail'!$C$4)*(Projects!$L$5:$L$2481='MDOT FTA Detail'!$A62)*(Projects!$J$5:$J$2481<>'MDOT FTA Detail'!$A$159)*(Projects!$K$5:$K$2481))","v":0},0,{"$f":"SUMPRODUCT((Projects!$A$5:$A$2481='MDOT FTA Detail'!$M$3)*(Projects!$C$5:$C$2481='MDOT FTA Detail'!$C$4)*(Projects!$L$5:$L$2481='MDOT FTA Detail'!$A62)*(Projects!$J$5:$J$2481<>'MDOT FTA Detail'!$A$159)*(Projects!$Q$5:$Q$2481))","v":0}]
["RPH","American Recovery and Reinvestment Act","MDOT FA",{"$f":"SUMPRODUCT((Projects!$A$5:$A$2481='MDOT FTA Detail'!$D$3)*(Projects!$C$5:$C$2481='MDOT FTA Detail'!$C$4)*(Projects!$L$5:$L$2481='MDOT FTA Detail'!$A63)*(Projects!$J$5:$J$2481<>'MDOT FTA Detail'!$A$159)*(Projects!$K$5:K$2481))","v":0},0,{"$f":"SUMPRODUCT((Projects!$A$5:$A$2481='MDOT FTA Detail'!$D$3)*(Projects!$C$5:$C$2481='MDOT FTA Detail'!$C$4)*(Projects!$L$5:$L$2481='MDOT FTA Detail'!$A63)*(Projects!$J$5:$J$2481<>'MDOT FTA Detail'!$A$159)*(Projects!$Q$5:Q$2481))","v":0},{"$f":"SUMPRODUCT((Projects!$A$5:$A$2481='MDOT FTA Detail'!$G$3)*(Projects!$C$5:$C$2481='MDOT FTA Detail'!$C$4)*(Projects!$L$5:$L$2481='MDOT FTA Detail'!$A63)*(Projects!$J$5:$J$2481<>'MDOT FTA Detail'!$A$159)*(Projects!$K$5:K$2481))","v":0},0,{"$f":"SUMPRODUCT((Projects!$A$5:$A$2481='MDOT FTA Detail'!$G$3)*(Projects!$C$5:$C$2481='MDOT FTA Detail'!$C$4)*(Projects!$L$5:$L$2481='MDOT FTA Detail'!$A63)*(Projects!$J$5:$J$2481<>'MDOT FTA Detail'!$A$159)*(Projects!$Q$5:Q$2481))","v":0},{"$f":"SUMPRODUCT((Projects!$A$5:$A$2481='MDOT FTA Detail'!$J$3)*(Projects!$C$5:$C$2481='MDOT FTA Detail'!$C$4)*(Projects!$L$5:$L$2481='MDOT FTA Detail'!$A63)*(Projects!$J$5:$J$2481<>'MDOT FTA Detail'!$A$159)*(Projects!$K$5:$K$2481))","v":0},0,{"$f":"SUMPRODUCT((Projects!$A$5:$A$2481='MDOT FTA Detail'!$J$3)*(Projects!$C$5:$C$2481='MDOT FTA Detail'!$C$4)*(Projects!$L$5:$L$2481='MDOT FTA Detail'!$A63)*(Projects!$J$5:$J$2481<>'MDOT FTA Detail'!$A$159)*(Projects!$Q$5:$Q$2481))","v":0},{"$f":"SUMPRODUCT((Projects!$A$5:$A$2481='MDOT FTA Detail'!$M$3)*(Projects!$C$5:$C$2481='MDOT FTA Detail'!$C$4)*(Projects!$L$5:$L$2481='MDOT FTA Detail'!$A63)*(Projects!$J$5:$J$2481<>'MDOT FTA Detail'!$A$159)*(Projects!$K$5:$K$2481))","v":0},0,{"$f":"SUMPRODUCT((Projects!$A$5:$A$2481='MDOT FTA Detail'!$M$3)*(Projects!$C$5:$C$2481='MDOT FTA Detail'!$C$4)*(Projects!$L$5:$L$2481='MDOT FTA Detail'!$A63)*(Projects!$J$5:$J$2481<>'MDOT FTA Detail'!$A$159)*(Projects!$Q$5:$Q$2481))","v":0}]
["SBD","Scenic Byways - Discretionary","MDOT FA",{"$f":"SUMPRODUCT((Projects!$A$5:$A$2481='MDOT FTA Detail'!$D$3)*(Projects!$C$5:$C$2481='MDOT FTA Detail'!$C$4)*(Projects!$L$5:$L$2481='MDOT FTA Detail'!$A64)*(Projects!$J$5:$J$2481<>'MDOT FTA Detail'!$A$159)*(Projects!$K$5:K$2481))","v":0},0,{"$f":"SUMPRODUCT((Projects!$A$5:$A$2481='MDOT FTA Detail'!$D$3)*(Projects!$C$5:$C$2481='MDOT FTA Detail'!$C$4)*(Projects!$L$5:$L$2481='MDOT FTA Detail'!$A64)*(Projects!$J$5:$J$2481<>'MDOT FTA Detail'!$A$159)*(Projects!$Q$5:Q$2481))","v":0},{"$f":"SUMPRODUCT((Projects!$A$5:$A$2481='MDOT FTA Detail'!$G$3)*(Projects!$C$5:$C$2481='MDOT FTA Detail'!$C$4)*(Projects!$L$5:$L$2481='MDOT FTA Detail'!$A64)*(Projects!$J$5:$J$2481<>'MDOT FTA Detail'!$A$159)*(Projects!$K$5:K$2481))","v":0},0,{"$f":"SUMPRODUCT((Projects!$A$5:$A$2481='MDOT FTA Detail'!$G$3)*(Projects!$C$5:$C$2481='MDOT FTA Detail'!$C$4)*(Projects!$L$5:$L$2481='MDOT FTA Detail'!$A64)*(Projects!$J$5:$J$2481<>'MDOT FTA Detail'!$A$159)*(Projects!$Q$5:Q$2481))","v":0},{"$f":"SUMPRODUCT((Projects!$A$5:$A$2481='MDOT FTA Detail'!$J$3)*(Projects!$C$5:$C$2481='MDOT FTA Detail'!$C$4)*(Projects!$L$5:$L$2481='MDOT FTA Detail'!$A64)*(Projects!$J$5:$J$2481<>'MDOT FTA Detail'!$A$159)*(Projects!$K$5:$K$2481))","v":0},0,{"$f":"SUMPRODUCT((Projects!$A$5:$A$2481='MDOT FTA Detail'!$J$3)*(Projects!$C$5:$C$2481='MDOT FTA Detail'!$C$4)*(Projects!$L$5:$L$2481='MDOT FTA Detail'!$A64)*(Projects!$J$5:$J$2481<>'MDOT FTA Detail'!$A$159)*(Projects!$Q$5:$Q$2481))","v":0},{"$f":"SUMPRODUCT((Projects!$A$5:$A$2481='MDOT FTA Detail'!$M$3)*(Projects!$C$5:$C$2481='MDOT FTA Detail'!$C$4)*(Projects!$L$5:$L$2481='MDOT FTA Detail'!$A64)*(Projects!$J$5:$J$2481<>'MDOT FTA Detail'!$A$159)*(Projects!$K$5:$K$2481))","v":0},0,{"$f":"SUMPRODUCT((Projects!$A$5:$A$2481='MDOT FTA Detail'!$M$3)*(Projects!$C$5:$C$2481='MDOT FTA Detail'!$C$4)*(Projects!$L$5:$L$2481='MDOT FTA Detail'!$A64)*(Projects!$J$5:$J$2481<>'MDOT FTA Detail'!$A$159)*(Projects!$Q$5:$Q$2481))","v":0}]
["SIB","State Infrastructure Bank","MDOT FA",{"$f":"SUMPRODUCT((Projects!$A$5:$A$2481='MDOT FTA Detail'!$D$3)*(Projects!$C$5:$C$2481='MDOT FTA Detail'!$C$4)*(Projects!$L$5:$L$2481='MDOT FTA Detail'!$A65)*(Projects!$J$5:$J$2481<>'MDOT FTA Detail'!$A$159)*(Projects!$K$5:K$2481))","v":0},0,{"$f":"SUMPRODUCT((Projects!$A$5:$A$2481='MDOT FTA Detail'!$D$3)*(Projects!$C$5:$C$2481='MDOT FTA Detail'!$C$4)*(Projects!$L$5:$L$2481='MDOT FTA Detail'!$A65)*(Projects!$J$5:$J$2481<>'MDOT FTA Detail'!$A$159)*(Projects!$Q$5:Q$2481))","v":0},{"$f":"SUMPRODUCT((Projects!$A$5:$A$2481='MDOT FTA Detail'!$G$3)*(Projects!$C$5:$C$2481='MDOT FTA Detail'!$C$4)*(Projects!$L$5:$L$2481='MDOT FTA Detail'!$A65)*(Projects!$J$5:$J$2481<>'MDOT FTA Detail'!$A$159)*(Projects!$K$5:K$2481))","v":0},0,{"$f":"SUMPRODUCT((Projects!$A$5:$A$2481='MDOT FTA Detail'!$G$3)*(Projects!$C$5:$C$2481='MDOT FTA Detail'!$C$4)*(Projects!$L$5:$L$2481='MDOT FTA Detail'!$A65)*(Projects!$J$5:$J$2481<>'MDOT FTA Detail'!$A$159)*(Projects!$Q$5:Q$2481))","v":0},{"$f":"SUMPRODUCT((Projects!$A$5:$A$2481='MDOT FTA Detail'!$J$3)*(Projects!$C$5:$C$2481='MDOT FTA Detail'!$C$4)*(Projects!$L$5:$L$2481='MDOT FTA Detail'!$A65)*(Projects!$J$5:$J$2481<>'MDOT FTA Detail'!$A$159)*(Projects!$K$5:$K$2481))","v":0},0,{"$f":"SUMPRODUCT((Projects!$A$5:$A$2481='MDOT FTA Detail'!$J$3)*(Projects!$C$5:$C$2481='MDOT FTA Detail'!$C$4)*(Projects!$L$5:$L$2481='MDOT FTA Detail'!$A65)*(Projects!$J$5:$J$2481<>'MDOT FTA Detail'!$A$159)*(Projects!$Q$5:$Q$2481))","v":0},{"$f":"SUMPRODUCT((Projects!$A$5:$A$2481='MDOT FTA Detail'!$M$3)*(Projects!$C$5:$C$2481='MDOT FTA Detail'!$C$4)*(Projects!$L$5:$L$2481='MDOT FTA Detail'!$A65)*(Projects!$J$5:$J$2481<>'MDOT FTA Detail'!$A$159)*(Projects!$K$5:$K$2481))","v":0},0,{"$f":"SUMPRODUCT((Projects!$A$5:$A$2481='MDOT FTA Detail'!$M$3)*(Projects!$C$5:$C$2481='MDOT FTA Detail'!$C$4)*(Projects!$L$5:$L$2481='MDOT FTA Detail'!$A65)*(Projects!$J$5:$J$2481<>'MDOT FTA Detail'!$A$159)*(Projects!$Q$5:$Q$2481))","v":0}]
["SLG","Surface Transportation Safety","MDOT FA",{"$f":"SUMPRODUCT((Projects!$A$5:$A$2481='MDOT FTA Detail'!$D$3)*(Projects!$C$5:$C$2481='MDOT FTA Detail'!$C$4)*(Projects!$L$5:$L$2481='MDOT FTA Detail'!$A66)*(Projects!$J$5:$J$2481<>'MDOT FTA Detail'!$A$159)*(Projects!$K$5:K$2481))","v":0},0,{"$f":"SUMPRODUCT((Projects!$A$5:$A$2481='MDOT FTA Detail'!$D$3)*(Projects!$C$5:$C$2481='MDOT FTA Detail'!$C$4)*(Projects!$L$5:$L$2481='MDOT FTA Detail'!$A66)*(Projects!$J$5:$J$2481<>'MDOT FTA Detail'!$A$159)*(Projects!$Q$5:Q$2481))","v":0},{"$f":"SUMPRODUCT((Projects!$A$5:$A$2481='MDOT FTA Detail'!$G$3)*(Projects!$C$5:$C$2481='MDOT FTA Detail'!$C$4)*(Projects!$L$5:$L$2481='MDOT FTA Detail'!$A66)*(Projects!$J$5:$J$2481<>'MDOT FTA Detail'!$A$159)*(Projects!$K$5:K$2481))","v":0},0,{"$f":"SUMPRODUCT((Projects!$A$5:$A$2481='MDOT FTA Detail'!$G$3)*(Projects!$C$5:$C$2481='MDOT FTA Detail'!$C$4)*(Projects!$L$5:$L$2481='MDOT FTA Detail'!$A66)*(Projects!$J$5:$J$2481<>'MDOT FTA Detail'!$A$159)*(Projects!$Q$5:Q$2481))","v":0},{"$f":"SUMPRODUCT((Projects!$A$5:$A$2481='MDOT FTA Detail'!$J$3)*(Projects!$C$5:$C$2481='MDOT FTA Detail'!$C$4)*(Projects!$L$5:$L$2481='MDOT FTA Detail'!$A66)*(Projects!$J$5:$J$2481<>'MDOT FTA Detail'!$A$159)*(Projects!$K$5:$K$2481))","v":0},0,{"$f":"SUMPRODUCT((Projects!$A$5:$A$2481='MDOT FTA Detail'!$J$3)*(Projects!$C$5:$C$2481='MDOT FTA Detail'!$C$4)*(Projects!$L$5:$L$2481='MDOT FTA Detail'!$A66)*(Projects!$J$5:$J$2481<>'MDOT FTA Detail'!$A$159)*(Projects!$Q$5:$Q$2481))","v":0},{"$f":"SUMPRODUCT((Projects!$A$5:$A$2481='MDOT FTA Detail'!$M$3)*(Projects!$C$5:$C$2481='MDOT FTA Detail'!$C$4)*(Projects!$L$5:$L$2481='MDOT FTA Detail'!$A66)*(Projects!$J$5:$J$2481<>'MDOT FTA Detail'!$A$159)*(Projects!$K$5:$K$2481))","v":0},0,{"$f":"SUMPRODUCT((Projects!$A$5:$A$2481='MDOT FTA Detail'!$M$3)*(Projects!$C$5:$C$2481='MDOT FTA Detail'!$C$4)*(Projects!$L$5:$L$2481='MDOT FTA Detail'!$A66)*(Projects!$J$5:$J$2481<>'MDOT FTA Detail'!$A$159)*(Projects!$Q$5:$Q$2481))","v":0}]
["SRSE","Surface Transportation Safety Highway Crossing Hazard Elimination","MDOT FA",{"$f":"SUMPRODUCT((Projects!$A$5:$A$2481='MDOT FTA Detail'!$D$3)*(Projects!$C$5:$C$2481='MDOT FTA Detail'!$C$4)*(Projects!$L$5:$L$2481='MDOT FTA Detail'!$A67)*(Projects!$J$5:$J$2481<>'MDOT FTA Detail'!$A$159)*(Projects!$K$5:K$2481))","v":0},0,{"$f":"SUMPRODUCT((Projects!$A$5:$A$2481='MDOT FTA Detail'!$D$3)*(Projects!$C$5:$C$2481='MDOT FTA Detail'!$C$4)*(Projects!$L$5:$L$2481='MDOT FTA Detail'!$A67)*(Projects!$J$5:$J$2481<>'MDOT FTA Detail'!$A$159)*(Projects!$Q$5:Q$2481))","v":0},{"$f":"SUMPRODUCT((Projects!$A$5:$A$2481='MDOT FTA Detail'!$G$3)*(Projects!$C$5:$C$2481='MDOT FTA Detail'!$C$4)*(Projects!$L$5:$L$2481='MDOT FTA Detail'!$A67)*(Projects!$J$5:$J$2481<>'MDOT FTA Detail'!$A$159)*(Projects!$K$5:K$2481))","v":0},0,{"$f":"SUMPRODUCT((Projects!$A$5:$A$2481='MDOT FTA Detail'!$G$3)*(Projects!$C$5:$C$2481='MDOT FTA Detail'!$C$4)*(Projects!$L$5:$L$2481='MDOT FTA Detail'!$A67)*(Projects!$J$5:$J$2481<>'MDOT FTA Detail'!$A$159)*(Projects!$Q$5:Q$2481))","v":0},{"$f":"SUMPRODUCT((Projects!$A$5:$A$2481='MDOT FTA Detail'!$J$3)*(Projects!$C$5:$C$2481='MDOT FTA Detail'!$C$4)*(Projects!$L$5:$L$2481='MDOT FTA Detail'!$A67)*(Projects!$J$5:$J$2481<>'MDOT FTA Detail'!$A$159)*(Projects!$K$5:$K$2481))","v":0},0,{"$f":"SUMPRODUCT((Projects!$A$5:$A$2481='MDOT FTA Detail'!$J$3)*(Projects!$C$5:$C$2481='MDOT FTA Detail'!$C$4)*(Projects!$L$5:$L$2481='MDOT FTA Detail'!$A67)*(Projects!$J$5:$J$2481<>'MDOT FTA Detail'!$A$159)*(Projects!$Q$5:$Q$2481))","v":0},{"$f":"SUMPRODUCT((Projects!$A$5:$A$2481='MDOT FTA Detail'!$M$3)*(Projects!$C$5:$C$2481='MDOT FTA Detail'!$C$4)*(Projects!$L$5:$L$2481='MDOT FTA Detail'!$A67)*(Projects!$J$5:$J$2481<>'MDOT FTA Detail'!$A$159)*(Projects!$K$5:$K$2481))","v":0},0,{"$f":"SUMPRODUCT((Projects!$A$5:$A$2481='MDOT FTA Detail'!$M$3)*(Projects!$C$5:$C$2481='MDOT FTA Detail'!$C$4)*(Projects!$L$5:$L$2481='MDOT FTA Detail'!$A67)*(Projects!$J$5:$J$2481<>'MDOT FTA Detail'!$A$159)*(Projects!$Q$5:$Q$2481))","v":0}]
["SRHG","Surface Transportation Safety Highway Crossing Protection Devices 100%","MDOT FA",{"$f":"SUMPRODUCT((Projects!$A$5:$A$2481='MDOT FTA Detail'!$D$3)*(Projects!$C$5:$C$2481='MDOT FTA Detail'!$C$4)*(Projects!$L$5:$L$2481='MDOT FTA Detail'!$A68)*(Projects!$J$5:$J$2481<>'MDOT FTA Detail'!$A$159)*(Projects!$K$5:K$2481))","v":0},{"$f":"F68-D68","v":0},{"$f":"SUMPRODUCT((Projects!$A$5:$A$2481='MDOT FTA Detail'!$D$3)*(Projects!$C$5:$C$2481='MDOT FTA Detail'!$C$4)*(Projects!$L$5:$L$2481='MDOT FTA Detail'!$A68)*(Projects!$J$5:$J$2481<>'MDOT FTA Detail'!$A$159)*(Projects!$Q$5:Q$2481))","v":0},{"$f":"SUMPRODUCT((Projects!$A$5:$A$2481='MDOT FTA Detail'!$G$3)*(Projects!$C$5:$C$2481='MDOT FTA Detail'!$C$4)*(Projects!$L$5:$L$2481='MDOT FTA Detail'!$A68)*(Projects!$J$5:$J$2481<>'MDOT FTA Detail'!$A$159)*(Projects!$K$5:K$2481))","v":0},{"$f":"I68-G68","v":0},{"$f":"SUMPRODUCT((Projects!$A$5:$A$2481='MDOT FTA Detail'!$G$3)*(Projects!$C$5:$C$2481='MDOT FTA Detail'!$C$4)*(Projects!$L$5:$L$2481='MDOT FTA Detail'!$A68)*(Projects!$J$5:$J$2481<>'MDOT FTA Detail'!$A$159)*(Projects!$Q$5:Q$2481))","v":0},{"$f":"SUMPRODUCT((Projects!$A$5:$A$2481='MDOT FTA Detail'!$J$3)*(Projects!$C$5:$C$2481='MDOT FTA Detail'!$C$4)*(Projects!$L$5:$L$2481='MDOT FTA Detail'!$A68)*(Projects!$J$5:$J$2481<>'MDOT FTA Detail'!$A$159)*(Projects!$K$5:$K$2481))","v":0},{"$f":"L68-J68","v":0},{"$f":"SUMPRODUCT((Projects!$A$5:$A$2481='MDOT FTA Detail'!$J$3)*(Projects!$C$5:$C$2481='MDOT FTA Detail'!$C$4)*(Projects!$L$5:$L$2481='MDOT FTA Detail'!$A68)*(Projects!$J$5:$J$2481<>'MDOT FTA Detail'!$A$159)*(Projects!$Q$5:$Q$2481))","v":0},{"$f":"SUMPRODUCT((Projects!$A$5:$A$2481='MDOT FTA Detail'!$M$3)*(Projects!$C$5:$C$2481='MDOT FTA Detail'!$C$4)*(Projects!$L$5:$L$2481='MDOT FTA Detail'!$A68)*(Projects!$J$5:$J$2481<>'MDOT FTA Detail'!$A$159)*(Projects!$K$5:$K$2481))","v":0},{"$f":"O68-M68","v":0},{"$f":"SUMPRODUCT((Projects!$A$5:$A$2481='MDOT FTA Detail'!$M$3)*(Projects!$C$5:$C$2481='MDOT FTA Detail'!$C$4)*(Projects!$L$5:$L$2481='MDOT FTA Detail'!$A68)*(Projects!$J$5:$J$2481<>'MDOT FTA Detail'!$A$159)*(Projects!$Q$5:$Q$2481))","v":0}]
["SRPG","Safe Routes to School - Either - SAFETEA-LU","MDOT FA",{"$f":"SUMPRODUCT((Projects!$A$5:$A$2481='MDOT FTA Detail'!$D$3)*(Projects!$C$5:$C$2481='MDOT FTA Detail'!$C$4)*(Projects!$L$5:$L$2481='MDOT FTA Detail'!$A69)*(Projects!$J$5:$J$2481<>'MDOT FTA Detail'!$A$159)*(Projects!$K$5:K$2481))","v":0},{"$f":"F69-D69","v":0},{"$f":"SUMPRODUCT((Projects!$A$5:$A$2481='MDOT FTA Detail'!$D$3)*(Projects!$C$5:$C$2481='MDOT FTA Detail'!$C$4)*(Projects!$L$5:$L$2481='MDOT FTA Detail'!$A69)*(Projects!$J$5:$J$2481<>'MDOT FTA Detail'!$A$159)*(Projects!$Q$5:Q$2481))","v":0},{"$f":"SUMPRODUCT((Projects!$A$5:$A$2481='MDOT FTA Detail'!$G$3)*(Projects!$C$5:$C$2481='MDOT FTA Detail'!$C$4)*(Projects!$L$5:$L$2481='MDOT FTA Detail'!$A69)*(Projects!$J$5:$J$2481<>'MDOT FTA Detail'!$A$159)*(Projects!$K$5:K$2481))","v":0},{"$f":"I69-G69","v":0},{"$f":"SUMPRODUCT((Projects!$A$5:$A$2481='MDOT FTA Detail'!$G$3)*(Projects!$C$5:$C$2481='MDOT FTA Detail'!$C$4)*(Projects!$L$5:$L$2481='MDOT FTA Detail'!$A69)*(Projects!$J$5:$J$2481<>'MDOT FTA Detail'!$A$159)*(Projects!$Q$5:Q$2481))","v":0},{"$f":"SUMPRODUCT((Projects!$A$5:$A$2481='MDOT FTA Detail'!$J$3)*(Projects!$C$5:$C$2481='MDOT FTA Detail'!$C$4)*(Projects!$L$5:$L$2481='MDOT FTA Detail'!$A69)*(Projects!$J$5:$J$2481<>'MDOT FTA Detail'!$A$159)*(Projects!$K$5:$K$2481))","v":0},{"$f":"L69-J69","v":0},{"$f":"SUMPRODUCT((Projects!$A$5:$A$2481='MDOT FTA Detail'!$J$3)*(Projects!$C$5:$C$2481='MDOT FTA Detail'!$C$4)*(Projects!$L$5:$L$2481='MDOT FTA Detail'!$A69)*(Projects!$J$5:$J$2481<>'MDOT FTA Detail'!$A$159)*(Projects!$Q$5:$Q$2481))","v":0},{"$f":"SUMPRODUCT((Projects!$A$5:$A$2481='MDOT FTA Detail'!$M$3)*(Projects!$C$5:$C$2481='MDOT FTA Detail'!$C$4)*(Projects!$L$5:$L$2481='MDOT FTA Detail'!$A69)*(Projects!$J$5:$J$2481<>'MDOT FTA Detail'!$A$159)*(Projects!$K$5:$K$2481))","v":0},{"$f":"O69-M69","v":0},{"$f":"SUMPRODUCT((Projects!$A$5:$A$2481='MDOT FTA Detail'!$M$3)*(Projects!$C$5:$C$2481='MDOT FTA Detail'!$C$4)*(Projects!$L$5:$L$2481='MDOT FTA Detail'!$A69)*(Projects!$J$5:$J$2481<>'MDOT FTA Detail'!$A$159)*(Projects!$Q$5:$Q$2481))","v":0}]
["SRSI","Safe Routes to School - Infrastructure - SAFETEA-LU","MDOT FA",{"$f":"SUMPRODUCT((Projects!$A$5:$A$2481='MDOT FTA Detail'!$D$3)*(Projects!$C$5:$C$2481='MDOT FTA Detail'!$C$4)*(Projects!$L$5:$L$2481='MDOT FTA Detail'!$A70)*(Projects!$J$5:$J$2481<>'MDOT FTA Detail'!$A$159)*(Projects!$K$5:K$2481))","v":0},0,{"$f":"SUMPRODUCT((Projects!$A$5:$A$2481='MDOT FTA Detail'!$D$3)*(Projects!$C$5:$C$2481='MDOT FTA Detail'!$C$4)*(Projects!$L$5:$L$2481='MDOT FTA Detail'!$A70)*(Projects!$J$5:$J$2481<>'MDOT FTA Detail'!$A$159)*(Projects!$Q$5:Q$2481))","v":0},{"$f":"SUMPRODUCT((Projects!$A$5:$A$2481='MDOT FTA Detail'!$G$3)*(Projects!$C$5:$C$2481='MDOT FTA Detail'!$C$4)*(Projects!$L$5:$L$2481='MDOT FTA Detail'!$A70)*(Projects!$J$5:$J$2481<>'MDOT FTA Detail'!$A$159)*(Projects!$K$5:K$2481))","v":0},0,{"$f":"SUMPRODUCT((Projects!$A$5:$A$2481='MDOT FTA Detail'!$G$3)*(Projects!$C$5:$C$2481='MDOT FTA Detail'!$C$4)*(Projects!$L$5:$L$2481='MDOT FTA Detail'!$A70)*(Projects!$J$5:$J$2481<>'MDOT FTA Detail'!$A$159)*(Projects!$Q$5:Q$2481))","v":0},{"$f":"SUMPRODUCT((Projects!$A$5:$A$2481='MDOT FTA Detail'!$J$3)*(Projects!$C$5:$C$2481='MDOT FTA Detail'!$C$4)*(Projects!$L$5:$L$2481='MDOT FTA Detail'!$A70)*(Projects!$J$5:$J$2481<>'MDOT FTA Detail'!$A$159)*(Projects!$K$5:$K$2481))","v":0},0,{"$f":"SUMPRODUCT((Projects!$A$5:$A$2481='MDOT FTA Detail'!$J$3)*(Projects!$C$5:$C$2481='MDOT FTA Detail'!$C$4)*(Projects!$L$5:$L$2481='MDOT FTA Detail'!$A70)*(Projects!$J$5:$J$2481<>'MDOT FTA Detail'!$A$159)*(Projects!$Q$5:$Q$2481))","v":0},{"$f":"SUMPRODUCT((Projects!$A$5:$A$2481='MDOT FTA Detail'!$M$3)*(Projects!$C$5:$C$2481='MDOT FTA Detail'!$C$4)*(Projects!$L$5:$L$2481='MDOT FTA Detail'!$A70)*(Projects!$J$5:$J$2481<>'MDOT FTA Detail'!$A$159)*(Projects!$K$5:$K$2481))","v":0},0,{"$f":"SUMPRODUCT((Projects!$A$5:$A$2481='MDOT FTA Detail'!$M$3)*(Projects!$C$5:$C$2481='MDOT FTA Detail'!$C$4)*(Projects!$L$5:$L$2481='MDOT FTA Detail'!$A70)*(Projects!$J$5:$J$2481<>'MDOT FTA Detail'!$A$159)*(Projects!$Q$5:$Q$2481))","v":0}]
["SRSN","Safe Routes to School - Non-infrastructure - SAFETEA-LU","MDOT FA",{"$f":"SUMPRODUCT((Projects!$A$5:$A$2481='MDOT FTA Detail'!$D$3)*(Projects!$C$5:$C$2481='MDOT FTA Detail'!$C$4)*(Projects!$L$5:$L$2481='MDOT FTA Detail'!$A71)*(Projects!$J$5:$J$2481<>'MDOT FTA Detail'!$A$159)*(Projects!$K$5:K$2481))","v":0},0,{"$f":"SUMPRODUCT((Projects!$A$5:$A$2481='MDOT FTA Detail'!$D$3)*(Projects!$C$5:$C$2481='MDOT FTA Detail'!$C$4)*(Projects!$L$5:$L$2481='MDOT FTA Detail'!$A71)*(Projects!$J$5:$J$2481<>'MDOT FTA Detail'!$A$159)*(Projects!$Q$5:Q$2481))","v":0},{"$f":"SUMPRODUCT((Projects!$A$5:$A$2481='MDOT FTA Detail'!$G$3)*(Projects!$C$5:$C$2481='MDOT FTA Detail'!$C$4)*(Projects!$L$5:$L$2481='MDOT FTA Detail'!$A71)*(Projects!$J$5:$J$2481<>'MDOT FTA Detail'!$A$159)*(Projects!$K$5:K$2481))","v":0},0,{"$f":"SUMPRODUCT((Projects!$A$5:$A$2481='MDOT FTA Detail'!$G$3)*(Projects!$C$5:$C$2481='MDOT FTA Detail'!$C$4)*(Projects!$L$5:$L$2481='MDOT FTA Detail'!$A71)*(Projects!$J$5:$J$2481<>'MDOT FTA Detail'!$A$159)*(Projects!$Q$5:Q$2481))","v":0},{"$f":"SUMPRODUCT((Projects!$A$5:$A$2481='MDOT FTA Detail'!$J$3)*(Projects!$C$5:$C$2481='MDOT FTA Detail'!$C$4)*(Projects!$L$5:$L$2481='MDOT FTA Detail'!$A71)*(Projects!$J$5:$J$2481<>'MDOT FTA Detail'!$A$159)*(Projects!$K$5:$K$2481))","v":0},0,{"$f":"SUMPRODUCT((Projects!$A$5:$A$2481='MDOT FTA Detail'!$J$3)*(Projects!$C$5:$C$2481='MDOT FTA Detail'!$C$4)*(Projects!$L$5:$L$2481='MDOT FTA Detail'!$A71)*(Projects!$J$5:$J$2481<>'MDOT FTA Detail'!$A$159)*(Projects!$Q$5:$Q$2481))","v":0},{"$f":"SUMPRODUCT((Projects!$A$5:$A$2481='MDOT FTA Detail'!$M$3)*(Projects!$C$5:$C$2481='MDOT FTA Detail'!$C$4)*(Projects!$L$5:$L$2481='MDOT FTA Detail'!$A71)*(Projects!$J$5:$J$2481<>'MDOT FTA Detail'!$A$159)*(Projects!$K$5:$K$2481))","v":0},0,{"$f":"SUMPRODUCT((Projects!$A$5:$A$2481='MDOT FTA Detail'!$M$3)*(Projects!$C$5:$C$2481='MDOT FTA Detail'!$C$4)*(Projects!$L$5:$L$2481='MDOT FTA Detail'!$A71)*(Projects!$J$5:$J$2481<>'MDOT FTA Detail'!$A$159)*(Projects!$Q$5:$Q$2481))","v":0}]
["SST","Supportive Services Training","MDOT FA",{"$f":"SUMPRODUCT((Projects!$A$5:$A$2481='MDOT FTA Detail'!$D$3)*(Projects!$C$5:$C$2481='MDOT FTA Detail'!$C$4)*(Projects!$L$5:$L$2481='MDOT FTA Detail'!$A72)*(Projects!$J$5:$J$2481<>'MDOT FTA Detail'!$A$159)*(Projects!$K$5:K$2481))","v":0},0,{"$f":"SUMPRODUCT((Projects!$A$5:$A$2481='MDOT FTA Detail'!$D$3)*(Projects!$C$5:$C$2481='MDOT FTA Detail'!$C$4)*(Projects!$L$5:$L$2481='MDOT FTA Detail'!$A72)*(Projects!$J$5:$J$2481<>'MDOT FTA Detail'!$A$159)*(Projects!$Q$5:Q$2481))","v":0},{"$f":"SUMPRODUCT((Projects!$A$5:$A$2481='MDOT FTA Detail'!$G$3)*(Projects!$C$5:$C$2481='MDOT FTA Detail'!$C$4)*(Projects!$L$5:$L$2481='MDOT FTA Detail'!$A72)*(Projects!$J$5:$J$2481<>'MDOT FTA Detail'!$A$159)*(Projects!$K$5:K$2481))","v":0},0,{"$f":"SUMPRODUCT((Projects!$A$5:$A$2481='MDOT FTA Detail'!$G$3)*(Projects!$C$5:$C$2481='MDOT FTA Detail'!$C$4)*(Projects!$L$5:$L$2481='MDOT FTA Detail'!$A72)*(Projects!$J$5:$J$2481<>'MDOT FTA Detail'!$A$159)*(Projects!$Q$5:Q$2481))","v":0},{"$f":"SUMPRODUCT((Projects!$A$5:$A$2481='MDOT FTA Detail'!$J$3)*(Projects!$C$5:$C$2481='MDOT FTA Detail'!$C$4)*(Projects!$L$5:$L$2481='MDOT FTA Detail'!$A72)*(Projects!$J$5:$J$2481<>'MDOT FTA Detail'!$A$159)*(Projects!$K$5:$K$2481))","v":0},0,{"$f":"SUMPRODUCT((Projects!$A$5:$A$2481='MDOT FTA Detail'!$J$3)*(Projects!$C$5:$C$2481='MDOT FTA Detail'!$C$4)*(Projects!$L$5:$L$2481='MDOT FTA Detail'!$A72)*(Projects!$J$5:$J$2481<>'MDOT FTA Detail'!$A$159)*(Projects!$Q$5:$Q$2481))","v":0},{"$f":"SUMPRODUCT((Projects!$A$5:$A$2481='MDOT FTA Detail'!$M$3)*(Projects!$C$5:$C$2481='MDOT FTA Detail'!$C$4)*(Projects!$L$5:$L$2481='MDOT FTA Detail'!$A72)*(Projects!$J$5:$J$2481<>'MDOT FTA Detail'!$A$159)*(Projects!$K$5:$K$2481))","v":0},0,{"$f":"SUMPRODUCT((Projects!$A$5:$A$2481='MDOT FTA Detail'!$M$3)*(Projects!$C$5:$C$2481='MDOT FTA Detail'!$C$4)*(Projects!$L$5:$L$2481='MDOT FTA Detail'!$A72)*(Projects!$J$5:$J$2481<>'MDOT FTA Detail'!$A$159)*(Projects!$Q$5:$Q$2481))","v":0}]
["ST","Surface Transportation Program (STP) - Any Area","MDOT FA",{"$f":"SUMPRODUCT((Projects!$A$5:$A$2481='MDOT FTA Detail'!$D$3)*(Projects!$C$5:$C$2481='MDOT FTA Detail'!$C$4)*(Projects!$L$5:$L$2481='MDOT FTA Detail'!$A73)*(Projects!$J$5:$J$2481<>'MDOT FTA Detail'!$A$159)*(Projects!$K$5:K$2481))","v":0},0,{"$f":"SUMPRODUCT((Projects!$A$5:$A$2481='MDOT FTA Detail'!$D$3)*(Projects!$C$5:$C$2481='MDOT FTA Detail'!$C$4)*(Projects!$L$5:$L$2481='MDOT FTA Detail'!$A73)*(Projects!$J$5:$J$2481<>'MDOT FTA Detail'!$A$159)*(Projects!$Q$5:Q$2481))","v":0},{"$f":"SUMPRODUCT((Projects!$A$5:$A$2481='MDOT FTA Detail'!$G$3)*(Projects!$C$5:$C$2481='MDOT FTA Detail'!$C$4)*(Projects!$L$5:$L$2481='MDOT FTA Detail'!$A73)*(Projects!$J$5:$J$2481<>'MDOT FTA Detail'!$A$159)*(Projects!$K$5:K$2481))","v":8185},1815,{"$f":"SUMPRODUCT((Projects!$A$5:$A$2481='MDOT FTA Detail'!$G$3)*(Projects!$C$5:$C$2481='MDOT FTA Detail'!$C$4)*(Projects!$L$5:$L$2481='MDOT FTA Detail'!$A73)*(Projects!$J$5:$J$2481<>'MDOT FTA Detail'!$A$159)*(Projects!$Q$5:Q$2481))","v":10000},{"$f":"SUMPRODUCT((Projects!$A$5:$A$2481='MDOT FTA Detail'!$J$3)*(Projects!$C$5:$C$2481='MDOT FTA Detail'!$C$4)*(Projects!$L$5:$L$2481='MDOT FTA Detail'!$A73)*(Projects!$J$5:$J$2481<>'MDOT FTA Detail'!$A$159)*(Projects!$K$5:$K$2481))","v":63025},13975,{"$f":"SUMPRODUCT((Projects!$A$5:$A$2481='MDOT FTA Detail'!$J$3)*(Projects!$C$5:$C$2481='MDOT FTA Detail'!$C$4)*(Projects!$L$5:$L$2481='MDOT FTA Detail'!$A73)*(Projects!$J$5:$J$2481<>'MDOT FTA Detail'!$A$159)*(Projects!$Q$5:$Q$2481))","v":77000},{"$f":"SUMPRODUCT((Projects!$A$5:$A$2481='MDOT FTA Detail'!$M$3)*(Projects!$C$5:$C$2481='MDOT FTA Detail'!$C$4)*(Projects!$L$5:$L$2481='MDOT FTA Detail'!$A73)*(Projects!$J$5:$J$2481<>'MDOT FTA Detail'!$A$159)*(Projects!$K$5:$K$2481))","v":0},0,{"$f":"SUMPRODUCT((Projects!$A$5:$A$2481='MDOT FTA Detail'!$M$3)*(Projects!$C$5:$C$2481='MDOT FTA Detail'!$C$4)*(Projects!$L$5:$L$2481='MDOT FTA Detail'!$A73)*(Projects!$J$5:$J$2481<>'MDOT FTA Detail'!$A$159)*(Projects!$Q$5:$Q$2481))","v":0}]
["STE","STP - Enhancement","MDOT FA",{"$f":"SUMPRODUCT((Projects!$A$5:$A$2481='MDOT FTA Detail'!$D$3)*(Projects!$C$5:$C$2481='MDOT FTA Detail'!$C$4)*(Projects!$L$5:$L$2481='MDOT FTA Detail'!$A74)*(Projects!$J$5:$J$2481<>'MDOT FTA Detail'!$A$159)*(Projects!$K$5:K$2481))","v":0},0,{"$f":"SUMPRODUCT((Projects!$A$5:$A$2481='MDOT FTA Detail'!$D$3)*(Projects!$C$5:$C$2481='MDOT FTA Detail'!$C$4)*(Projects!$L$5:$L$2481='MDOT FTA Detail'!$A74)*(Projects!$J$5:$J$2481<>'MDOT FTA Detail'!$A$159)*(Projects!$Q$5:Q$2481))","v":0},{"$f":"SUMPRODUCT((Projects!$A$5:$A$2481='MDOT FTA Detail'!$G$3)*(Projects!$C$5:$C$2481='MDOT FTA Detail'!$C$4)*(Projects!$L$5:$L$2481='MDOT FTA Detail'!$A74)*(Projects!$J$5:$J$2481<>'MDOT FTA Detail'!$A$159)*(Projects!$K$5:K$2481))","v":0},0,{"$f":"SUMPRODUCT((Projects!$A$5:$A$2481='MDOT FTA Detail'!$G$3)*(Projects!$C$5:$C$2481='MDOT FTA Detail'!$C$4)*(Projects!$L$5:$L$2481='MDOT FTA Detail'!$A74)*(Projects!$J$5:$J$2481<>'MDOT FTA Detail'!$A$159)*(Projects!$Q$5:Q$2481))","v":0},{"$f":"SUMPRODUCT((Projects!$A$5:$A$2481='MDOT FTA Detail'!$J$3)*(Projects!$C$5:$C$2481='MDOT FTA Detail'!$C$4)*(Projects!$L$5:$L$2481='MDOT FTA Detail'!$A74)*(Projects!$J$5:$J$2481<>'MDOT FTA Detail'!$A$159)*(Projects!$K$5:$K$2481))","v":0},0,{"$f":"SUMPRODUCT((Projects!$A$5:$A$2481='MDOT FTA Detail'!$J$3)*(Projects!$C$5:$C$2481='MDOT FTA Detail'!$C$4)*(Projects!$L$5:$L$2481='MDOT FTA Detail'!$A74)*(Projects!$J$5:$J$2481<>'MDOT FTA Detail'!$A$159)*(Projects!$Q$5:$Q$2481))","v":0},{"$f":"SUMPRODUCT((Projects!$A$5:$A$2481='MDOT FTA Detail'!$M$3)*(Projects!$C$5:$C$2481='MDOT FTA Detail'!$C$4)*(Projects!$L$5:$L$2481='MDOT FTA Detail'!$A74)*(Projects!$J$5:$J$2481<>'MDOT FTA Detail'!$A$159)*(Projects!$K$5:$K$2481))","v":0},0,{"$f":"SUMPRODUCT((Projects!$A$5:$A$2481='MDOT FTA Detail'!$M$3)*(Projects!$C$5:$C$2481='MDOT FTA Detail'!$C$4)*(Projects!$L$5:$L$2481='MDOT FTA Detail'!$A74)*(Projects!$J$5:$J$2481<>'MDOT FTA Detail'!$A$159)*(Projects!$Q$5:$Q$2481))","v":0}]
["STG","STP - Safety - 100% Federal for ST","MDOT FA",{"$f":"SUMPRODUCT((Projects!$A$5:$A$2481='MDOT FTA Detail'!$D$3)*(Projects!$C$5:$C$2481='MDOT FTA Detail'!$C$4)*(Projects!$L$5:$L$2481='MDOT FTA Detail'!$A75)*(Projects!$J$5:$J$2481<>'MDOT FTA Detail'!$A$159)*(Projects!$K$5:K$2481))","v":0},0,{"$f":"SUMPRODUCT((Projects!$A$5:$A$2481='MDOT FTA Detail'!$D$3)*(Projects!$C$5:$C$2481='MDOT FTA Detail'!$C$4)*(Projects!$L$5:$L$2481='MDOT FTA Detail'!$A75)*(Projects!$J$5:$J$2481<>'MDOT FTA Detail'!$A$159)*(Projects!$Q$5:Q$2481))","v":0},{"$f":"SUMPRODUCT((Projects!$A$5:$A$2481='MDOT FTA Detail'!$G$3)*(Projects!$C$5:$C$2481='MDOT FTA Detail'!$C$4)*(Projects!$L$5:$L$2481='MDOT FTA Detail'!$A75)*(Projects!$J$5:$J$2481<>'MDOT FTA Detail'!$A$159)*(Projects!$K$5:K$2481))","v":0},0,{"$f":"SUMPRODUCT((Projects!$A$5:$A$2481='MDOT FTA Detail'!$G$3)*(Projects!$C$5:$C$2481='MDOT FTA Detail'!$C$4)*(Projects!$L$5:$L$2481='MDOT FTA Detail'!$A75)*(Projects!$J$5:$J$2481<>'MDOT FTA Detail'!$A$159)*(Projects!$Q$5:Q$2481))","v":0},{"$f":"SUMPRODUCT((Projects!$A$5:$A$2481='MDOT FTA Detail'!$J$3)*(Projects!$C$5:$C$2481='MDOT FTA Detail'!$C$4)*(Projects!$L$5:$L$2481='MDOT FTA Detail'!$A75)*(Projects!$J$5:$J$2481<>'MDOT FTA Detail'!$A$159)*(Projects!$K$5:$K$2481))","v":0},0,{"$f":"SUMPRODUCT((Projects!$A$5:$A$2481='MDOT FTA Detail'!$J$3)*(Projects!$C$5:$C$2481='MDOT FTA Detail'!$C$4)*(Projects!$L$5:$L$2481='MDOT FTA Detail'!$A75)*(Projects!$J$5:$J$2481<>'MDOT FTA Detail'!$A$159)*(Projects!$Q$5:$Q$2481))","v":0},{"$f":"SUMPRODUCT((Projects!$A$5:$A$2481='MDOT FTA Detail'!$M$3)*(Projects!$C$5:$C$2481='MDOT FTA Detail'!$C$4)*(Projects!$L$5:$L$2481='MDOT FTA Detail'!$A75)*(Projects!$J$5:$J$2481<>'MDOT FTA Detail'!$A$159)*(Projects!$K$5:$K$2481))","v":0},0,{"$f":"SUMPRODUCT((Projects!$A$5:$A$2481='MDOT FTA Detail'!$M$3)*(Projects!$C$5:$C$2481='MDOT FTA Detail'!$C$4)*(Projects!$L$5:$L$2481='MDOT FTA Detail'!$A75)*(Projects!$J$5:$J$2481<>'MDOT FTA Detail'!$A$159)*(Projects!$Q$5:$Q$2481))","v":0}]
["STH","STP - Safety - Hazard Elimination","MDOT FA",{"$f":"SUMPRODUCT((Projects!$A$5:$A$2481='MDOT FTA Detail'!$D$3)*(Projects!$C$5:$C$2481='MDOT FTA Detail'!$C$4)*(Projects!$L$5:$L$2481='MDOT FTA Detail'!$A76)*(Projects!$J$5:$J$2481<>'MDOT FTA Detail'!$A$159)*(Projects!$K$5:K$2481))","v":0},0,{"$f":"SUMPRODUCT((Projects!$A$5:$A$2481='MDOT FTA Detail'!$D$3)*(Projects!$C$5:$C$2481='MDOT FTA Detail'!$C$4)*(Projects!$L$5:$L$2481='MDOT FTA Detail'!$A76)*(Projects!$J$5:$J$2481<>'MDOT FTA Detail'!$A$159)*(Projects!$Q$5:Q$2481))","v":0},{"$f":"SUMPRODUCT((Projects!$A$5:$A$2481='MDOT FTA Detail'!$G$3)*(Projects!$C$5:$C$2481='MDOT FTA Detail'!$C$4)*(Projects!$L$5:$L$2481='MDOT FTA Detail'!$A76)*(Projects!$J$5:$J$2481<>'MDOT FTA Detail'!$A$159)*(Projects!$K$5:K$2481))","v":0},0,{"$f":"SUMPRODUCT((Projects!$A$5:$A$2481='MDOT FTA Detail'!$G$3)*(Projects!$C$5:$C$2481='MDOT FTA Detail'!$C$4)*(Projects!$L$5:$L$2481='MDOT FTA Detail'!$A76)*(Projects!$J$5:$J$2481<>'MDOT FTA Detail'!$A$159)*(Projects!$Q$5:Q$2481))","v":0},{"$f":"SUMPRODUCT((Projects!$A$5:$A$2481='MDOT FTA Detail'!$J$3)*(Projects!$C$5:$C$2481='MDOT FTA Detail'!$C$4)*(Projects!$L$5:$L$2481='MDOT FTA Detail'!$A76)*(Projects!$J$5:$J$2481<>'MDOT FTA Detail'!$A$159)*(Projects!$K$5:$K$2481))","v":0},0,{"$f":"SUMPRODUCT((Projects!$A$5:$A$2481='MDOT FTA Detail'!$J$3)*(Projects!$C$5:$C$2481='MDOT FTA Detail'!$C$4)*(Projects!$L$5:$L$2481='MDOT FTA Detail'!$A76)*(Projects!$J$5:$J$2481<>'MDOT FTA Detail'!$A$159)*(Projects!$Q$5:$Q$2481))","v":0},{"$f":"SUMPRODUCT((Projects!$A$5:$A$2481='MDOT FTA Detail'!$M$3)*(Projects!$C$5:$C$2481='MDOT FTA Detail'!$C$4)*(Projects!$L$5:$L$2481='MDOT FTA Detail'!$A76)*(Projects!$J$5:$J$2481<>'MDOT FTA Detail'!$A$159)*(Projects!$K$5:$K$2481))","v":0},0,{"$f":"SUMPRODUCT((Projects!$A$5:$A$2481='MDOT FTA Detail'!$M$3)*(Projects!$C$5:$C$2481='MDOT FTA Detail'!$C$4)*(Projects!$L$5:$L$2481='MDOT FTA Detail'!$A76)*(Projects!$J$5:$J$2481<>'MDOT FTA Detail'!$A$159)*(Projects!$Q$5:$Q$2481))","v":0}]
["STI","STP - Interstate (90%)","MDOT FA",{"$f":"SUMPRODUCT((Projects!$A$5:$A$2481='MDOT FTA Detail'!$D$3)*(Projects!$C$5:$C$2481='MDOT FTA Detail'!$C$4)*(Projects!$L$5:$L$2481='MDOT FTA Detail'!$A77)*(Projects!$J$5:$J$2481<>'MDOT FTA Detail'!$A$159)*(Projects!$K$5:K$2481))","v":0},0,{"$f":"SUMPRODUCT((Projects!$A$5:$A$2481='MDOT FTA Detail'!$D$3)*(Projects!$C$5:$C$2481='MDOT FTA Detail'!$C$4)*(Projects!$L$5:$L$2481='MDOT FTA Detail'!$A77)*(Projects!$J$5:$J$2481<>'MDOT FTA Detail'!$A$159)*(Projects!$Q$5:Q$2481))","v":0},{"$f":"SUMPRODUCT((Projects!$A$5:$A$2481='MDOT FTA Detail'!$G$3)*(Projects!$C$5:$C$2481='MDOT FTA Detail'!$C$4)*(Projects!$L$5:$L$2481='MDOT FTA Detail'!$A77)*(Projects!$J$5:$J$2481<>'MDOT FTA Detail'!$A$159)*(Projects!$K$5:K$2481))","v":0},0,{"$f":"SUMPRODUCT((Projects!$A$5:$A$2481='MDOT FTA Detail'!$G$3)*(Projects!$C$5:$C$2481='MDOT FTA Detail'!$C$4)*(Projects!$L$5:$L$2481='MDOT FTA Detail'!$A77)*(Projects!$J$5:$J$2481<>'MDOT FTA Detail'!$A$159)*(Projects!$Q$5:Q$2481))","v":0},{"$f":"SUMPRODUCT((Projects!$A$5:$A$2481='MDOT FTA Detail'!$J$3)*(Projects!$C$5:$C$2481='MDOT FTA Detail'!$C$4)*(Projects!$L$5:$L$2481='MDOT FTA Detail'!$A77)*(Projects!$J$5:$J$2481<>'MDOT FTA Detail'!$A$159)*(Projects!$K$5:$K$2481))","v":0},0,{"$f":"SUMPRODUCT((Projects!$A$5:$A$2481='MDOT FTA Detail'!$J$3)*(Projects!$C$5:$C$2481='MDOT FTA Detail'!$C$4)*(Projects!$L$5:$L$2481='MDOT FTA Detail'!$A77)*(Projects!$J$5:$J$2481<>'MDOT FTA Detail'!$A$159)*(Projects!$Q$5:$Q$2481))","v":0},{"$f":"SUMPRODUCT((Projects!$A$5:$A$2481='MDOT FTA Detail'!$M$3)*(Projects!$C$5:$C$2481='MDOT FTA Detail'!$C$4)*(Projects!$L$5:$L$2481='MDOT FTA Detail'!$A77)*(Projects!$J$5:$J$2481<>'MDOT FTA Detail'!$A$159)*(Projects!$K$5:$K$2481))","v":0},0,{"$f":"SUMPRODUCT((Projects!$A$5:$A$2481='MDOT FTA Detail'!$M$3)*(Projects!$C$5:$C$2481='MDOT FTA Detail'!$C$4)*(Projects!$L$5:$L$2481='MDOT FTA Detail'!$A77)*(Projects!$J$5:$J$2481<>'MDOT FTA Detail'!$A$159)*(Projects!$Q$5:$Q$2481))","v":0}]
["STL","STP - Local","MDOT FA",{"$f":"SUMPRODUCT((Projects!$A$5:$A$2481='MDOT FTA Detail'!$D$3)*(Projects!$C$5:$C$2481='MDOT FTA Detail'!$C$4)*(Projects!$L$5:$L$2481='MDOT FTA Detail'!$A78)*(Projects!$J$5:$J$2481<>'MDOT FTA Detail'!$A$159)*(Projects!$K$5:K$2481))","v":0},0,{"$f":"SUMPRODUCT((Projects!$A$5:$A$2481='MDOT FTA Detail'!$D$3)*(Projects!$C$5:$C$2481='MDOT FTA Detail'!$C$4)*(Projects!$L$5:$L$2481='MDOT FTA Detail'!$A78)*(Projects!$J$5:$J$2481<>'MDOT FTA Detail'!$A$159)*(Projects!$Q$5:Q$2481))","v":0},{"$f":"SUMPRODUCT((Projects!$A$5:$A$2481='MDOT FTA Detail'!$G$3)*(Projects!$C$5:$C$2481='MDOT FTA Detail'!$C$4)*(Projects!$L$5:$L$2481='MDOT FTA Detail'!$A78)*(Projects!$J$5:$J$2481<>'MDOT FTA Detail'!$A$159)*(Projects!$K$5:K$2481))","v":0},0,{"$f":"SUMPRODUCT((Projects!$A$5:$A$2481='MDOT FTA Detail'!$G$3)*(Projects!$C$5:$C$2481='MDOT FTA Detail'!$C$4)*(Projects!$L$5:$L$2481='MDOT FTA Detail'!$A78)*(Projects!$J$5:$J$2481<>'MDOT FTA Detail'!$A$159)*(Projects!$Q$5:Q$2481))","v":0},{"$f":"SUMPRODUCT((Projects!$A$5:$A$2481='MDOT FTA Detail'!$J$3)*(Projects!$C$5:$C$2481='MDOT FTA Detail'!$C$4)*(Projects!$L$5:$L$2481='MDOT FTA Detail'!$A78)*(Projects!$J$5:$J$2481<>'MDOT FTA Detail'!$A$159)*(Projects!$K$5:$K$2481))","v":0},0,{"$f":"SUMPRODUCT((Projects!$A$5:$A$2481='MDOT FTA Detail'!$J$3)*(Projects!$C$5:$C$2481='MDOT FTA Detail'!$C$4)*(Projects!$L$5:$L$2481='MDOT FTA Detail'!$A78)*(Projects!$J$5:$J$2481<>'MDOT FTA Detail'!$A$159)*(Projects!$Q$5:$Q$2481))","v":0},{"$f":"SUMPRODUCT((Projects!$A$5:$A$2481='MDOT FTA Detail'!$M$3)*(Projects!$C$5:$C$2481='MDOT FTA Detail'!$C$4)*(Projects!$L$5:$L$2481='MDOT FTA Detail'!$A78)*(Projects!$J$5:$J$2481<>'MDOT FTA Detail'!$A$159)*(Projects!$K$5:$K$2481))","v":0},0,{"$f":"SUMPRODUCT((Projects!$A$5:$A$2481='MDOT FTA Detail'!$M$3)*(Projects!$C$5:$C$2481='MDOT FTA Detail'!$C$4)*(Projects!$L$5:$L$2481='MDOT FTA Detail'!$A78)*(Projects!$J$5:$J$2481<>'MDOT FTA Detail'!$A$159)*(Projects!$Q$5:$Q$2481))","v":0}]
["STLG","Surface Transportation Safety 100% Federal for STL Items","MDOT FA",{"$f":"SUMPRODUCT((Projects!$A$5:$A$2481='MDOT FTA Detail'!$D$3)*(Projects!$C$5:$C$2481='MDOT FTA Detail'!$C$4)*(Projects!$L$5:$L$2481='MDOT FTA Detail'!$A79)*(Projects!$J$5:$J$2481<>'MDOT FTA Detail'!$A$159)*(Projects!$K$5:K$2481))","v":0},{"$f":"F79-D79","v":0},{"$f":"SUMPRODUCT((Projects!$A$5:$A$2481='MDOT FTA Detail'!$D$3)*(Projects!$C$5:$C$2481='MDOT FTA Detail'!$C$4)*(Projects!$L$5:$L$2481='MDOT FTA Detail'!$A79)*(Projects!$J$5:$J$2481<>'MDOT FTA Detail'!$A$159)*(Projects!$Q$5:Q$2481))","v":0},{"$f":"SUMPRODUCT((Projects!$A$5:$A$2481='MDOT FTA Detail'!$G$3)*(Projects!$C$5:$C$2481='MDOT FTA Detail'!$C$4)*(Projects!$L$5:$L$2481='MDOT FTA Detail'!$A79)*(Projects!$J$5:$J$2481<>'MDOT FTA Detail'!$A$159)*(Projects!$K$5:K$2481))","v":0},{"$f":"I79-G79","v":0},{"$f":"SUMPRODUCT((Projects!$A$5:$A$2481='MDOT FTA Detail'!$G$3)*(Projects!$C$5:$C$2481='MDOT FTA Detail'!$C$4)*(Projects!$L$5:$L$2481='MDOT FTA Detail'!$A79)*(Projects!$J$5:$J$2481<>'MDOT FTA Detail'!$A$159)*(Projects!$Q$5:Q$2481))","v":0},{"$f":"SUMPRODUCT((Projects!$A$5:$A$2481='MDOT FTA Detail'!$J$3)*(Projects!$C$5:$C$2481='MDOT FTA Detail'!$C$4)*(Projects!$L$5:$L$2481='MDOT FTA Detail'!$A79)*(Projects!$J$5:$J$2481<>'MDOT FTA Detail'!$A$159)*(Projects!$K$5:$K$2481))","v":0},{"$f":"L79-J79","v":0},{"$f":"SUMPRODUCT((Projects!$A$5:$A$2481='MDOT FTA Detail'!$J$3)*(Projects!$C$5:$C$2481='MDOT FTA Detail'!$C$4)*(Projects!$L$5:$L$2481='MDOT FTA Detail'!$A79)*(Projects!$J$5:$J$2481<>'MDOT FTA Detail'!$A$159)*(Projects!$Q$5:$Q$2481))","v":0},{"$f":"SUMPRODUCT((Projects!$A$5:$A$2481='MDOT FTA Detail'!$M$3)*(Projects!$C$5:$C$2481='MDOT FTA Detail'!$C$4)*(Projects!$L$5:$L$2481='MDOT FTA Detail'!$A79)*(Projects!$J$5:$J$2481<>'MDOT FTA Detail'!$A$159)*(Projects!$K$5:$K$2481))","v":0},{"$f":"O79-M79","v":0},{"$f":"SUMPRODUCT((Projects!$A$5:$A$2481='MDOT FTA Detail'!$M$3)*(Projects!$C$5:$C$2481='MDOT FTA Detail'!$C$4)*(Projects!$L$5:$L$2481='MDOT FTA Detail'!$A79)*(Projects!$J$5:$J$2481<>'MDOT FTA Detail'!$A$159)*(Projects!$Q$5:$Q$2481))","v":0}]
["STR","STP - Safety - Rail-Highway Crossing Protection","MDOT FA",{"$f":"SUMPRODUCT((Projects!$A$5:$A$2481='MDOT FTA Detail'!$D$3)*(Projects!$C$5:$C$2481='MDOT FTA Detail'!$C$4)*(Projects!$L$5:$L$2481='MDOT FTA Detail'!$A80)*(Projects!$J$5:$J$2481<>'MDOT FTA Detail'!$A$159)*(Projects!$K$5:K$2481))","v":0},0,{"$f":"SUMPRODUCT((Projects!$A$5:$A$2481='MDOT FTA Detail'!$D$3)*(Projects!$C$5:$C$2481='MDOT FTA Detail'!$C$4)*(Projects!$L$5:$L$2481='MDOT FTA Detail'!$A80)*(Projects!$J$5:$J$2481<>'MDOT FTA Detail'!$A$159)*(Projects!$Q$5:Q$2481))","v":0},{"$f":"SUMPRODUCT((Projects!$A$5:$A$2481='MDOT FTA Detail'!$G$3)*(Projects!$C$5:$C$2481='MDOT FTA Detail'!$C$4)*(Projects!$L$5:$L$2481='MDOT FTA Detail'!$A80)*(Projects!$J$5:$J$2481<>'MDOT FTA Detail'!$A$159)*(Projects!$K$5:K$2481))","v":0},0,{"$f":"SUMPRODUCT((Projects!$A$5:$A$2481='MDOT FTA Detail'!$G$3)*(Projects!$C$5:$C$2481='MDOT FTA Detail'!$C$4)*(Projects!$L$5:$L$2481='MDOT FTA Detail'!$A80)*(Projects!$J$5:$J$2481<>'MDOT FTA Detail'!$A$159)*(Projects!$Q$5:Q$2481))","v":0},{"$f":"SUMPRODUCT((Projects!$A$5:$A$2481='MDOT FTA Detail'!$J$3)*(Projects!$C$5:$C$2481='MDOT FTA Detail'!$C$4)*(Projects!$L$5:$L$2481='MDOT FTA Detail'!$A80)*(Projects!$J$5:$J$2481<>'MDOT FTA Detail'!$A$159)*(Projects!$K$5:$K$2481))","v":0},0,{"$f":"SUMPRODUCT((Projects!$A$5:$A$2481='MDOT FTA Detail'!$J$3)*(Projects!$C$5:$C$2481='MDOT FTA Detail'!$C$4)*(Projects!$L$5:$L$2481='MDOT FTA Detail'!$A80)*(Projects!$J$5:$J$2481<>'MDOT FTA Detail'!$A$159)*(Projects!$Q$5:$Q$2481))","v":0},{"$f":"SUMPRODUCT((Projects!$A$5:$A$2481='MDOT FTA Detail'!$M$3)*(Projects!$C$5:$C$2481='MDOT FTA Detail'!$C$4)*(Projects!$L$5:$L$2481='MDOT FTA Detail'!$A80)*(Projects!$J$5:$J$2481<>'MDOT FTA Detail'!$A$159)*(Projects!$K$5:$K$2481))","v":0},0,{"$f":"SUMPRODUCT((Projects!$A$5:$A$2481='MDOT FTA Detail'!$M$3)*(Projects!$C$5:$C$2481='MDOT FTA Detail'!$C$4)*(Projects!$L$5:$L$2481='MDOT FTA Detail'!$A80)*(Projects!$J$5:$J$2481<>'MDOT FTA Detail'!$A$159)*(Projects!$Q$5:$Q$2481))","v":0}]
["STRG","STP - Safety Rail-Highway & Incentive Payment - 100% Federal","MDOT FA",{"$f":"SUMPRODUCT((Projects!$A$5:$A$2481='MDOT FTA Detail'!$D$3)*(Projects!$C$5:$C$2481='MDOT FTA Detail'!$C$4)*(Projects!$L$5:$L$2481='MDOT FTA Detail'!$A81)*(Projects!$J$5:$J$2481<>'MDOT FTA Detail'!$A$159)*(Projects!$K$5:K$2481))","v":0},0,{"$f":"SUMPRODUCT((Projects!$A$5:$A$2481='MDOT FTA Detail'!$D$3)*(Projects!$C$5:$C$2481='MDOT FTA Detail'!$C$4)*(Projects!$L$5:$L$2481='MDOT FTA Detail'!$A81)*(Projects!$J$5:$J$2481<>'MDOT FTA Detail'!$A$159)*(Projects!$Q$5:Q$2481))","v":0},{"$f":"SUMPRODUCT((Projects!$A$5:$A$2481='MDOT FTA Detail'!$G$3)*(Projects!$C$5:$C$2481='MDOT FTA Detail'!$C$4)*(Projects!$L$5:$L$2481='MDOT FTA Detail'!$A81)*(Projects!$J$5:$J$2481<>'MDOT FTA Detail'!$A$159)*(Projects!$K$5:K$2481))","v":0},0,{"$f":"SUMPRODUCT((Projects!$A$5:$A$2481='MDOT FTA Detail'!$G$3)*(Projects!$C$5:$C$2481='MDOT FTA Detail'!$C$4)*(Projects!$L$5:$L$2481='MDOT FTA Detail'!$A81)*(Projects!$J$5:$J$2481<>'MDOT FTA Detail'!$A$159)*(Projects!$Q$5:Q$2481))","v":0},{"$f":"SUMPRODUCT((Projects!$A$5:$A$2481='MDOT FTA Detail'!$J$3)*(Projects!$C$5:$C$2481='MDOT FTA Detail'!$C$4)*(Projects!$L$5:$L$2481='MDOT FTA Detail'!$A81)*(Projects!$J$5:$J$2481<>'MDOT FTA Detail'!$A$159)*(Projects!$K$5:$K$2481))","v":0},0,{"$f":"SUMPRODUCT((Projects!$A$5:$A$2481='MDOT FTA Detail'!$J$3)*(Projects!$C$5:$C$2481='MDOT FTA Detail'!$C$4)*(Projects!$L$5:$L$2481='MDOT FTA Detail'!$A81)*(Projects!$J$5:$J$2481<>'MDOT FTA Detail'!$A$159)*(Projects!$Q$5:$Q$2481))","v":0},{"$f":"SUMPRODUCT((Projects!$A$5:$A$2481='MDOT FTA Detail'!$M$3)*(Projects!$C$5:$C$2481='MDOT FTA Detail'!$C$4)*(Projects!$L$5:$L$2481='MDOT FTA Detail'!$A81)*(Projects!$J$5:$J$2481<>'MDOT FTA Detail'!$A$159)*(Projects!$K$5:$K$2481))","v":0},0,{"$f":"SUMPRODUCT((Projects!$A$5:$A$2481='MDOT FTA Detail'!$M$3)*(Projects!$C$5:$C$2481='MDOT FTA Detail'!$C$4)*(Projects!$L$5:$L$2481='MDOT FTA Detail'!$A81)*(Projects!$J$5:$J$2481<>'MDOT FTA Detail'!$A$159)*(Projects!$Q$5:$Q$2481))","v":0}]
["STRH","Surface Transportation Safety Highway Crossing Hazard Elimination","MDOT FA",{"$f":"SUMPRODUCT((Projects!$A$5:$A$2481='MDOT FTA Detail'!$D$3)*(Projects!$C$5:$C$2481='MDOT FTA Detail'!$C$4)*(Projects!$L$5:$L$2481='MDOT FTA Detail'!$A82)*(Projects!$J$5:$J$2481<>'MDOT FTA Detail'!$A$159)*(Projects!$K$5:K$2481))","v":0},{"$f":"F82-D82","v":0},{"$f":"SUMPRODUCT((Projects!$A$5:$A$2481='MDOT FTA Detail'!$D$3)*(Projects!$C$5:$C$2481='MDOT FTA Detail'!$C$4)*(Projects!$L$5:$L$2481='MDOT FTA Detail'!$A82)*(Projects!$J$5:$J$2481<>'MDOT FTA Detail'!$A$159)*(Projects!$Q$5:Q$2481))","v":0},{"$f":"SUMPRODUCT((Projects!$A$5:$A$2481='MDOT FTA Detail'!$G$3)*(Projects!$C$5:$C$2481='MDOT FTA Detail'!$C$4)*(Projects!$L$5:$L$2481='MDOT FTA Detail'!$A82)*(Projects!$J$5:$J$2481<>'MDOT FTA Detail'!$A$159)*(Projects!$K$5:K$2481))","v":0},{"$f":"I82-G82","v":0},{"$f":"SUMPRODUCT((Projects!$A$5:$A$2481='MDOT FTA Detail'!$G$3)*(Projects!$C$5:$C$2481='MDOT FTA Detail'!$C$4)*(Projects!$L$5:$L$2481='MDOT FTA Detail'!$A82)*(Projects!$J$5:$J$2481<>'MDOT FTA Detail'!$A$159)*(Projects!$Q$5:Q$2481))","v":0},{"$f":"SUMPRODUCT((Projects!$A$5:$A$2481='MDOT FTA Detail'!$J$3)*(Projects!$C$5:$C$2481='MDOT FTA Detail'!$C$4)*(Projects!$L$5:$L$2481='MDOT FTA Detail'!$A82)*(Projects!$J$5:$J$2481<>'MDOT FTA Detail'!$A$159)*(Projects!$K$5:$K$2481))","v":0},{"$f":"L82-J82","v":0},{"$f":"SUMPRODUCT((Projects!$A$5:$A$2481='MDOT FTA Detail'!$J$3)*(Projects!$C$5:$C$2481='MDOT FTA Detail'!$C$4)*(Projects!$L$5:$L$2481='MDOT FTA Detail'!$A82)*(Projects!$J$5:$J$2481<>'MDOT FTA Detail'!$A$159)*(Projects!$Q$5:$Q$2481))","v":0},{"$f":"SUMPRODUCT((Projects!$A$5:$A$2481='MDOT FTA Detail'!$M$3)*(Projects!$C$5:$C$2481='MDOT FTA Detail'!$C$4)*(Projects!$L$5:$L$2481='MDOT FTA Detail'!$A82)*(Projects!$J$5:$J$2481<>'MDOT FTA Detail'!$A$159)*(Projects!$K$5:$K$2481))","v":0},{"$f":"O82-M82","v":0},{"$f":"SUMPRODUCT((Projects!$A$5:$A$2481='MDOT FTA Detail'!$M$3)*(Projects!$C$5:$C$2481='MDOT FTA Detail'!$C$4)*(Projects!$L$5:$L$2481='MDOT FTA Detail'!$A82)*(Projects!$J$5:$J$2481<>'MDOT FTA Detail'!$A$159)*(Projects!$Q$5:$Q$2481))","v":0}]
["STRP","Surface Transportation Safety Highway Crossing Protection Devices","MDOT FA",{"$f":"SUMPRODUCT((Projects!$A$5:$A$2481='MDOT FTA Detail'!$D$3)*(Projects!$C$5:$C$2481='MDOT FTA Detail'!$C$4)*(Projects!$L$5:$L$2481='MDOT FTA Detail'!$A83)*(Projects!$J$5:$J$2481<>'MDOT FTA Detail'!$A$159)*(Projects!$K$5:K$2481))","v":0},{"$f":"F83-D83","v":0},{"$f":"SUMPRODUCT((Projects!$A$5:$A$2481='MDOT FTA Detail'!$D$3)*(Projects!$C$5:$C$2481='MDOT FTA Detail'!$C$4)*(Projects!$L$5:$L$2481='MDOT FTA Detail'!$A83)*(Projects!$J$5:$J$2481<>'MDOT FTA Detail'!$A$159)*(Projects!$Q$5:Q$2481))","v":0},{"$f":"SUMPRODUCT((Projects!$A$5:$A$2481='MDOT FTA Detail'!$G$3)*(Projects!$C$5:$C$2481='MDOT FTA Detail'!$C$4)*(Projects!$L$5:$L$2481='MDOT FTA Detail'!$A83)*(Projects!$J$5:$J$2481<>'MDOT FTA Detail'!$A$159)*(Projects!$K$5:K$2481))","v":0},{"$f":"I83-G83","v":0},{"$f":"SUMPRODUCT((Projects!$A$5:$A$2481='MDOT FTA Detail'!$G$3)*(Projects!$C$5:$C$2481='MDOT FTA Detail'!$C$4)*(Projects!$L$5:$L$2481='MDOT FTA Detail'!$A83)*(Projects!$J$5:$J$2481<>'MDOT FTA Detail'!$A$159)*(Projects!$Q$5:Q$2481))","v":0},{"$f":"SUMPRODUCT((Projects!$A$5:$A$2481='MDOT FTA Detail'!$J$3)*(Projects!$C$5:$C$2481='MDOT FTA Detail'!$C$4)*(Projects!$L$5:$L$2481='MDOT FTA Detail'!$A83)*(Projects!$J$5:$J$2481<>'MDOT FTA Detail'!$A$159)*(Projects!$K$5:$K$2481))","v":0},{"$f":"L83-J83","v":0},{"$f":"SUMPRODUCT((Projects!$A$5:$A$2481='MDOT FTA Detail'!$J$3)*(Projects!$C$5:$C$2481='MDOT FTA Detail'!$C$4)*(Projects!$L$5:$L$2481='MDOT FTA Detail'!$A83)*(Projects!$J$5:$J$2481<>'MDOT FTA Detail'!$A$159)*(Projects!$Q$5:$Q$2481))","v":0},{"$f":"SUMPRODUCT((Projects!$A$5:$A$2481='MDOT FTA Detail'!$M$3)*(Projects!$C$5:$C$2481='MDOT FTA Detail'!$C$4)*(Projects!$L$5:$L$2481='MDOT FTA Detail'!$A83)*(Projects!$J$5:$J$2481<>'MDOT FTA Detail'!$A$159)*(Projects!$K$5:$K$2481))","v":0},{"$f":"O83-M83","v":0},{"$f":"SUMPRODUCT((Projects!$A$5:$A$2481='MDOT FTA Detail'!$M$3)*(Projects!$C$5:$C$2481='MDOT FTA Detail'!$C$4)*(Projects!$L$5:$L$2481='MDOT FTA Detail'!$A83)*(Projects!$J$5:$J$2481<>'MDOT FTA Detail'!$A$159)*(Projects!$Q$5:$Q$2481))","v":0}]
["STS","STP - Any Area- MDOT Safety Program","MDOT FA",{"$f":"SUMPRODUCT((Projects!$A$5:$A$2481='MDOT FTA Detail'!$D$3)*(Projects!$C$5:$C$2481='MDOT FTA Detail'!$C$4)*(Projects!$L$5:$L$2481='MDOT FTA Detail'!$A84)*(Projects!$J$5:$J$2481<>'MDOT FTA Detail'!$A$159)*(Projects!$K$5:K$2481))","v":0},0,{"$f":"SUMPRODUCT((Projects!$A$5:$A$2481='MDOT FTA Detail'!$D$3)*(Projects!$C$5:$C$2481='MDOT FTA Detail'!$C$4)*(Projects!$L$5:$L$2481='MDOT FTA Detail'!$A84)*(Projects!$J$5:$J$2481<>'MDOT FTA Detail'!$A$159)*(Projects!$Q$5:Q$2481))","v":0},{"$f":"SUMPRODUCT((Projects!$A$5:$A$2481='MDOT FTA Detail'!$G$3)*(Projects!$C$5:$C$2481='MDOT FTA Detail'!$C$4)*(Projects!$L$5:$L$2481='MDOT FTA Detail'!$A84)*(Projects!$J$5:$J$2481<>'MDOT FTA Detail'!$A$159)*(Projects!$K$5:K$2481))","v":0},0,{"$f":"SUMPRODUCT((Projects!$A$5:$A$2481='MDOT FTA Detail'!$G$3)*(Projects!$C$5:$C$2481='MDOT FTA Detail'!$C$4)*(Projects!$L$5:$L$2481='MDOT FTA Detail'!$A84)*(Projects!$J$5:$J$2481<>'MDOT FTA Detail'!$A$159)*(Projects!$Q$5:Q$2481))","v":0},{"$f":"SUMPRODUCT((Projects!$A$5:$A$2481='MDOT FTA Detail'!$J$3)*(Projects!$C$5:$C$2481='MDOT FTA Detail'!$C$4)*(Projects!$L$5:$L$2481='MDOT FTA Detail'!$A84)*(Projects!$J$5:$J$2481<>'MDOT FTA Detail'!$A$159)*(Projects!$K$5:$K$2481))","v":0},0,{"$f":"SUMPRODUCT((Projects!$A$5:$A$2481='MDOT FTA Detail'!$J$3)*(Projects!$C$5:$C$2481='MDOT FTA Detail'!$C$4)*(Projects!$L$5:$L$2481='MDOT FTA Detail'!$A84)*(Projects!$J$5:$J$2481<>'MDOT FTA Detail'!$A$159)*(Projects!$Q$5:$Q$2481))","v":0},{"$f":"SUMPRODUCT((Projects!$A$5:$A$2481='MDOT FTA Detail'!$M$3)*(Projects!$C$5:$C$2481='MDOT FTA Detail'!$C$4)*(Projects!$L$5:$L$2481='MDOT FTA Detail'!$A84)*(Projects!$J$5:$J$2481<>'MDOT FTA Detail'!$A$159)*(Projects!$K$5:$K$2481))","v":0},0,{"$f":"SUMPRODUCT((Projects!$A$5:$A$2481='MDOT FTA Detail'!$M$3)*(Projects!$C$5:$C$2481='MDOT FTA Detail'!$C$4)*(Projects!$L$5:$L$2481='MDOT FTA Detail'!$A84)*(Projects!$J$5:$J$2481<>'MDOT FTA Detail'!$A$159)*(Projects!$Q$5:$Q$2481))","v":0}]
["STT","STP - Trunkline","MDOT FA",{"$f":"SUMPRODUCT((Projects!$A$5:$A$2481='MDOT FTA Detail'!$D$3)*(Projects!$C$5:$C$2481='MDOT FTA Detail'!$C$4)*(Projects!$L$5:$L$2481='MDOT FTA Detail'!$A85)*(Projects!$J$5:$J$2481<>'MDOT FTA Detail'!$A$159)*(Projects!$K$5:K$2481))","v":0},0,{"$f":"SUMPRODUCT((Projects!$A$5:$A$2481='MDOT FTA Detail'!$D$3)*(Projects!$C$5:$C$2481='MDOT FTA Detail'!$C$4)*(Projects!$L$5:$L$2481='MDOT FTA Detail'!$A85)*(Projects!$J$5:$J$2481<>'MDOT FTA Detail'!$A$159)*(Projects!$Q$5:Q$2481))","v":0},{"$f":"SUMPRODUCT((Projects!$A$5:$A$2481='MDOT FTA Detail'!$G$3)*(Projects!$C$5:$C$2481='MDOT FTA Detail'!$C$4)*(Projects!$L$5:$L$2481='MDOT FTA Detail'!$A85)*(Projects!$J$5:$J$2481<>'MDOT FTA Detail'!$A$159)*(Projects!$K$5:K$2481))","v":0},0,{"$f":"SUMPRODUCT((Projects!$A$5:$A$2481='MDOT FTA Detail'!$G$3)*(Projects!$C$5:$C$2481='MDOT FTA Detail'!$C$4)*(Projects!$L$5:$L$2481='MDOT FTA Detail'!$A85)*(Projects!$J$5:$J$2481<>'MDOT FTA Detail'!$A$159)*(Projects!$Q$5:Q$2481))","v":0},{"$f":"SUMPRODUCT((Projects!$A$5:$A$2481='MDOT FTA Detail'!$J$3)*(Projects!$C$5:$C$2481='MDOT FTA Detail'!$C$4)*(Projects!$L$5:$L$2481='MDOT FTA Detail'!$A85)*(Projects!$J$5:$J$2481<>'MDOT FTA Detail'!$A$159)*(Projects!$K$5:$K$2481))","v":0},0,{"$f":"SUMPRODUCT((Projects!$A$5:$A$2481='MDOT FTA Detail'!$J$3)*(Projects!$C$5:$C$2481='MDOT FTA Detail'!$C$4)*(Projects!$L$5:$L$2481='MDOT FTA Detail'!$A85)*(Projects!$J$5:$J$2481<>'MDOT FTA Detail'!$A$159)*(Projects!$Q$5:$Q$2481))","v":0},{"$f":"SUMPRODUCT((Projects!$A$5:$A$2481='MDOT FTA Detail'!$M$3)*(Projects!$C$5:$C$2481='MDOT FTA Detail'!$C$4)*(Projects!$L$5:$L$2481='MDOT FTA Detail'!$A85)*(Projects!$J$5:$J$2481<>'MDOT FTA Detail'!$A$159)*(Projects!$K$5:$K$2481))","v":0},0,{"$f":"SUMPRODUCT((Projects!$A$5:$A$2481='MDOT FTA Detail'!$M$3)*(Projects!$C$5:$C$2481='MDOT FTA Detail'!$C$4)*(Projects!$L$5:$L$2481='MDOT FTA Detail'!$A85)*(Projects!$J$5:$J$2481<>'MDOT FTA Detail'!$A$159)*(Projects!$Q$5:$Q$2481))","v":0}]
["STU","STP - Urban Areas > 200,000 Population","MDOT FA",{"$f":"SUMPRODUCT((Projects!$A$5:$A$2481='MDOT FTA Detail'!$D$3)*(Projects!$C$5:$C$2481='MDOT FTA Detail'!$C$4)*(Projects!$L$5:$L$2481='MDOT FTA Detail'!$A86)*(Projects!$J$5:$J$2481<>'MDOT FTA Detail'!$A$159)*(Projects!$K$5:K$2481))","v":0},0,{"$f":"SUMPRODUCT((Projects!$A$5:$A$2481='MDOT FTA Detail'!$D$3)*(Projects!$C$5:$C$2481='MDOT FTA Detail'!$C$4)*(Projects!$L$5:$L$2481='MDOT FTA Detail'!$A86)*(Projects!$J$5:$J$2481<>'MDOT FTA Detail'!$A$159)*(Projects!$Q$5:Q$2481))","v":0},{"$f":"SUMPRODUCT((Projects!$A$5:$A$2481='MDOT FTA Detail'!$G$3)*(Projects!$C$5:$C$2481='MDOT FTA Detail'!$C$4)*(Projects!$L$5:$L$2481='MDOT FTA Detail'!$A86)*(Projects!$J$5:$J$2481<>'MDOT FTA Detail'!$A$159)*(Projects!$K$5:K$2481))","v":0},0,{"$f":"SUMPRODUCT((Projects!$A$5:$A$2481='MDOT FTA Detail'!$G$3)*(Projects!$C$5:$C$2481='MDOT FTA Detail'!$C$4)*(Projects!$L$5:$L$2481='MDOT FTA Detail'!$A86)*(Projects!$J$5:$J$2481<>'MDOT FTA Detail'!$A$159)*(Projects!$Q$5:Q$2481))","v":0},{"$f":"SUMPRODUCT((Projects!$A$5:$A$2481='MDOT FTA Detail'!$J$3)*(Projects!$C$5:$C$2481='MDOT FTA Detail'!$C$4)*(Projects!$L$5:$L$2481='MDOT FTA Detail'!$A86)*(Projects!$J$5:$J$2481<>'MDOT FTA Detail'!$A$159)*(Projects!$K$5:$K$2481))","v":0},0,{"$f":"SUMPRODUCT((Projects!$A$5:$A$2481='MDOT FTA Detail'!$J$3)*(Projects!$C$5:$C$2481='MDOT FTA Detail'!$C$4)*(Projects!$L$5:$L$2481='MDOT FTA Detail'!$A86)*(Projects!$J$5:$J$2481<>'MDOT FTA Detail'!$A$159)*(Projects!$Q$5:$Q$2481))","v":0},{"$f":"SUMPRODUCT((Projects!$A$5:$A$2481='MDOT FTA Detail'!$M$3)*(Projects!$C$5:$C$2481='MDOT FTA Detail'!$C$4)*(Projects!$L$5:$L$2481='MDOT FTA Detail'!$A86)*(Projects!$J$5:$J$2481<>'MDOT FTA Detail'!$A$159)*(Projects!$K$5:$K$2481))","v":0},0,{"$f":"SUMPRODUCT((Projects!$A$5:$A$2481='MDOT FTA Detail'!$M$3)*(Projects!$C$5:$C$2481='MDOT FTA Detail'!$C$4)*(Projects!$L$5:$L$2481='MDOT FTA Detail'!$A86)*(Projects!$J$5:$J$2481<>'MDOT FTA Detail'!$A$159)*(Projects!$Q$5:$Q$2481))","v":0}]
["STUG","STP - Urban Areas < 200,000  Population 100%","MDOT FA",{"$f":"SUMPRODUCT((Projects!$A$5:$A$2481='MDOT FTA Detail'!$D$3)*(Projects!$C$5:$C$2481='MDOT FTA Detail'!$C$4)*(Projects!$L$5:$L$2481='MDOT FTA Detail'!$A87)*(Projects!$J$5:$J$2481<>'MDOT FTA Detail'!$A$159)*(Projects!$K$5:K$2481))","v":0},{"$f":"F87-D87","v":0},{"$f":"SUMPRODUCT((Projects!$A$5:$A$2481='MDOT FTA Detail'!$D$3)*(Projects!$C$5:$C$2481='MDOT FTA Detail'!$C$4)*(Projects!$L$5:$L$2481='MDOT FTA Detail'!$A87)*(Projects!$J$5:$J$2481<>'MDOT FTA Detail'!$A$159)*(Projects!$Q$5:Q$2481))","v":0},{"$f":"SUMPRODUCT((Projects!$A$5:$A$2481='MDOT FTA Detail'!$G$3)*(Projects!$C$5:$C$2481='MDOT FTA Detail'!$C$4)*(Projects!$L$5:$L$2481='MDOT FTA Detail'!$A87)*(Projects!$J$5:$J$2481<>'MDOT FTA Detail'!$A$159)*(Projects!$K$5:K$2481))","v":0},{"$f":"I87-G87","v":0},{"$f":"SUMPRODUCT((Projects!$A$5:$A$2481='MDOT FTA Detail'!$G$3)*(Projects!$C$5:$C$2481='MDOT FTA Detail'!$C$4)*(Projects!$L$5:$L$2481='MDOT FTA Detail'!$A87)*(Projects!$J$5:$J$2481<>'MDOT FTA Detail'!$A$159)*(Projects!$Q$5:Q$2481))","v":0},{"$f":"SUMPRODUCT((Projects!$A$5:$A$2481='MDOT FTA Detail'!$J$3)*(Projects!$C$5:$C$2481='MDOT FTA Detail'!$C$4)*(Projects!$L$5:$L$2481='MDOT FTA Detail'!$A87)*(Projects!$J$5:$J$2481<>'MDOT FTA Detail'!$A$159)*(Projects!$K$5:$K$2481))","v":0},{"$f":"L87-J87","v":0},{"$f":"SUMPRODUCT((Projects!$A$5:$A$2481='MDOT FTA Detail'!$J$3)*(Projects!$C$5:$C$2481='MDOT FTA Detail'!$C$4)*(Projects!$L$5:$L$2481='MDOT FTA Detail'!$A87)*(Projects!$J$5:$J$2481<>'MDOT FTA Detail'!$A$159)*(Projects!$Q$5:$Q$2481))","v":0},{"$f":"SUMPRODUCT((Projects!$A$5:$A$2481='MDOT FTA Detail'!$M$3)*(Projects!$C$5:$C$2481='MDOT FTA Detail'!$C$4)*(Projects!$L$5:$L$2481='MDOT FTA Detail'!$A87)*(Projects!$J$5:$J$2481<>'MDOT FTA Detail'!$A$159)*(Projects!$K$5:$K$2481))","v":0},{"$f":"O87-M87","v":0},{"$f":"SUMPRODUCT((Projects!$A$5:$A$2481='MDOT FTA Detail'!$M$3)*(Projects!$C$5:$C$2481='MDOT FTA Detail'!$C$4)*(Projects!$L$5:$L$2481='MDOT FTA Detail'!$A87)*(Projects!$J$5:$J$2481<>'MDOT FTA Detail'!$A$159)*(Projects!$Q$5:$Q$2481))","v":0}]
["STUL","STP - Urban Areas < 200,000 Population","MDOT FA",{"$f":"SUMPRODUCT((Projects!$A$5:$A$2481='MDOT FTA Detail'!$D$3)*(Projects!$C$5:$C$2481='MDOT FTA Detail'!$C$4)*(Projects!$L$5:$L$2481='MDOT FTA Detail'!$A88)*(Projects!$J$5:$J$2481<>'MDOT FTA Detail'!$A$159)*(Projects!$K$5:K$2481))","v":0},0,{"$f":"SUMPRODUCT((Projects!$A$5:$A$2481='MDOT FTA Detail'!$D$3)*(Projects!$C$5:$C$2481='MDOT FTA Detail'!$C$4)*(Projects!$L$5:$L$2481='MDOT FTA Detail'!$A88)*(Projects!$J$5:$J$2481<>'MDOT FTA Detail'!$A$159)*(Projects!$Q$5:Q$2481))","v":0},{"$f":"SUMPRODUCT((Projects!$A$5:$A$2481='MDOT FTA Detail'!$G$3)*(Projects!$C$5:$C$2481='MDOT FTA Detail'!$C$4)*(Projects!$L$5:$L$2481='MDOT FTA Detail'!$A88)*(Projects!$J$5:$J$2481<>'MDOT FTA Detail'!$A$159)*(Projects!$K$5:K$2481))","v":0},0,{"$f":"SUMPRODUCT((Projects!$A$5:$A$2481='MDOT FTA Detail'!$G$3)*(Projects!$C$5:$C$2481='MDOT FTA Detail'!$C$4)*(Projects!$L$5:$L$2481='MDOT FTA Detail'!$A88)*(Projects!$J$5:$J$2481<>'MDOT FTA Detail'!$A$159)*(Projects!$Q$5:Q$2481))","v":0},{"$f":"SUMPRODUCT((Projects!$A$5:$A$2481='MDOT FTA Detail'!$J$3)*(Projects!$C$5:$C$2481='MDOT FTA Detail'!$C$4)*(Projects!$L$5:$L$2481='MDOT FTA Detail'!$A88)*(Projects!$J$5:$J$2481<>'MDOT FTA Detail'!$A$159)*(Projects!$K$5:$K$2481))","v":0},0,{"$f":"SUMPRODUCT((Projects!$A$5:$A$2481='MDOT FTA Detail'!$J$3)*(Projects!$C$5:$C$2481='MDOT FTA Detail'!$C$4)*(Projects!$L$5:$L$2481='MDOT FTA Detail'!$A88)*(Projects!$J$5:$J$2481<>'MDOT FTA Detail'!$A$159)*(Projects!$Q$5:$Q$2481))","v":0},{"$f":"SUMPRODUCT((Projects!$A$5:$A$2481='MDOT FTA Detail'!$M$3)*(Projects!$C$5:$C$2481='MDOT FTA Detail'!$C$4)*(Projects!$L$5:$L$2481='MDOT FTA Detail'!$A88)*(Projects!$J$5:$J$2481<>'MDOT FTA Detail'!$A$159)*(Projects!$K$5:$K$2481))","v":0},0,{"$f":"SUMPRODUCT((Projects!$A$5:$A$2481='MDOT FTA Detail'!$M$3)*(Projects!$C$5:$C$2481='MDOT FTA Detail'!$C$4)*(Projects!$L$5:$L$2481='MDOT FTA Detail'!$A88)*(Projects!$J$5:$J$2481<>'MDOT FTA Detail'!$A$159)*(Projects!$Q$5:$Q$2481))","v":0}]
["STUT","STP - Urban Areas < 200,000 Population - Trunkline","MDOT FA",{"$f":"SUMPRODUCT((Projects!$A$5:$A$2481='MDOT FTA Detail'!$D$3)*(Projects!$C$5:$C$2481='MDOT FTA Detail'!$C$4)*(Projects!$L$5:$L$2481='MDOT FTA Detail'!$A89)*(Projects!$J$5:$J$2481<>'MDOT FTA Detail'!$A$159)*(Projects!$K$5:K$2481))","v":19644},0,{"$f":"SUMPRODUCT((Projects!$A$5:$A$2481='MDOT FTA Detail'!$D$3)*(Projects!$C$5:$C$2481='MDOT FTA Detail'!$C$4)*(Projects!$L$5:$L$2481='MDOT FTA Detail'!$A89)*(Projects!$J$5:$J$2481<>'MDOT FTA Detail'!$A$159)*(Projects!$Q$5:Q$2481))","v":19644},{"$f":"SUMPRODUCT((Projects!$A$5:$A$2481='MDOT FTA Detail'!$G$3)*(Projects!$C$5:$C$2481='MDOT FTA Detail'!$C$4)*(Projects!$L$5:$L$2481='MDOT FTA Detail'!$A89)*(Projects!$J$5:$J$2481<>'MDOT FTA Detail'!$A$159)*(Projects!$K$5:K$2481))","v":0},0,{"$f":"SUMPRODUCT((Projects!$A$5:$A$2481='MDOT FTA Detail'!$G$3)*(Projects!$C$5:$C$2481='MDOT FTA Detail'!$C$4)*(Projects!$L$5:$L$2481='MDOT FTA Detail'!$A89)*(Projects!$J$5:$J$2481<>'MDOT FTA Detail'!$A$159)*(Projects!$Q$5:Q$2481))","v":0},{"$f":"SUMPRODUCT((Projects!$A$5:$A$2481='MDOT FTA Detail'!$J$3)*(Projects!$C$5:$C$2481='MDOT FTA Detail'!$C$4)*(Projects!$L$5:$L$2481='MDOT FTA Detail'!$A89)*(Projects!$J$5:$J$2481<>'MDOT FTA Detail'!$A$159)*(Projects!$K$5:$K$2481))","v":0},0,{"$f":"SUMPRODUCT((Projects!$A$5:$A$2481='MDOT FTA Detail'!$J$3)*(Projects!$C$5:$C$2481='MDOT FTA Detail'!$C$4)*(Projects!$L$5:$L$2481='MDOT FTA Detail'!$A89)*(Projects!$J$5:$J$2481<>'MDOT FTA Detail'!$A$159)*(Projects!$Q$5:$Q$2481))","v":0},{"$f":"SUMPRODUCT((Projects!$A$5:$A$2481='MDOT FTA Detail'!$M$3)*(Projects!$C$5:$C$2481='MDOT FTA Detail'!$C$4)*(Projects!$L$5:$L$2481='MDOT FTA Detail'!$A89)*(Projects!$J$5:$J$2481<>'MDOT FTA Detail'!$A$159)*(Projects!$K$5:$K$2481))","v":0},0,{"$f":"SUMPRODUCT((Projects!$A$5:$A$2481='MDOT FTA Detail'!$M$3)*(Projects!$C$5:$C$2481='MDOT FTA Detail'!$C$4)*(Projects!$L$5:$L$2481='MDOT FTA Detail'!$A89)*(Projects!$J$5:$J$2481<>'MDOT FTA Detail'!$A$159)*(Projects!$Q$5:$Q$2481))","v":0}]
["SUG","STP - Safety - 100% Federal for STU","MDOT FA",{"$f":"SUMPRODUCT((Projects!$A$5:$A$2481='MDOT FTA Detail'!$D$3)*(Projects!$C$5:$C$2481='MDOT FTA Detail'!$C$4)*(Projects!$L$5:$L$2481='MDOT FTA Detail'!$A90)*(Projects!$J$5:$J$2481<>'MDOT FTA Detail'!$A$159)*(Projects!$K$5:K$2481))","v":0},0,{"$f":"SUMPRODUCT((Projects!$A$5:$A$2481='MDOT FTA Detail'!$D$3)*(Projects!$C$5:$C$2481='MDOT FTA Detail'!$C$4)*(Projects!$L$5:$L$2481='MDOT FTA Detail'!$A90)*(Projects!$J$5:$J$2481<>'MDOT FTA Detail'!$A$159)*(Projects!$Q$5:Q$2481))","v":0},{"$f":"SUMPRODUCT((Projects!$A$5:$A$2481='MDOT FTA Detail'!$G$3)*(Projects!$C$5:$C$2481='MDOT FTA Detail'!$C$4)*(Projects!$L$5:$L$2481='MDOT FTA Detail'!$A90)*(Projects!$J$5:$J$2481<>'MDOT FTA Detail'!$A$159)*(Projects!$K$5:K$2481))","v":0},0,{"$f":"SUMPRODUCT((Projects!$A$5:$A$2481='MDOT FTA Detail'!$G$3)*(Projects!$C$5:$C$2481='MDOT FTA Detail'!$C$4)*(Projects!$L$5:$L$2481='MDOT FTA Detail'!$A90)*(Projects!$J$5:$J$2481<>'MDOT FTA Detail'!$A$159)*(Projects!$Q$5:Q$2481))","v":0},{"$f":"SUMPRODUCT((Projects!$A$5:$A$2481='MDOT FTA Detail'!$J$3)*(Projects!$C$5:$C$2481='MDOT FTA Detail'!$C$4)*(Projects!$L$5:$L$2481='MDOT FTA Detail'!$A90)*(Projects!$J$5:$J$2481<>'MDOT FTA Detail'!$A$159)*(Projects!$K$5:$K$2481))","v":0},0,{"$f":"SUMPRODUCT((Projects!$A$5:$A$2481='MDOT FTA Detail'!$J$3)*(Projects!$C$5:$C$2481='MDOT FTA Detail'!$C$4)*(Projects!$L$5:$L$2481='MDOT FTA Detail'!$A90)*(Projects!$J$5:$J$2481<>'MDOT FTA Detail'!$A$159)*(Projects!$Q$5:$Q$2481))","v":0},{"$f":"SUMPRODUCT((Projects!$A$5:$A$2481='MDOT FTA Detail'!$M$3)*(Projects!$C$5:$C$2481='MDOT FTA Detail'!$C$4)*(Projects!$L$5:$L$2481='MDOT FTA Detail'!$A90)*(Projects!$J$5:$J$2481<>'MDOT FTA Detail'!$A$159)*(Projects!$K$5:$K$2481))","v":0},0,{"$f":"SUMPRODUCT((Projects!$A$5:$A$2481='MDOT FTA Detail'!$M$3)*(Projects!$C$5:$C$2481='MDOT FTA Detail'!$C$4)*(Projects!$L$5:$L$2481='MDOT FTA Detail'!$A90)*(Projects!$J$5:$J$2481<>'MDOT FTA Detail'!$A$159)*(Projects!$Q$5:$Q$2481))","v":0}]
["SUL","Surface Transportation Urban Areas  <200,000 Population","MDOT FA",{"$f":"SUMPRODUCT((Projects!$A$5:$A$2481='MDOT FTA Detail'!$D$3)*(Projects!$C$5:$C$2481='MDOT FTA Detail'!$C$4)*(Projects!$L$5:$L$2481='MDOT FTA Detail'!$A91)*(Projects!$J$5:$J$2481<>'MDOT FTA Detail'!$A$159)*(Projects!$K$5:K$2481))","v":0},{"$f":"F91-D91","v":0},{"$f":"SUMPRODUCT((Projects!$A$5:$A$2481='MDOT FTA Detail'!$D$3)*(Projects!$C$5:$C$2481='MDOT FTA Detail'!$C$4)*(Projects!$L$5:$L$2481='MDOT FTA Detail'!$A91)*(Projects!$J$5:$J$2481<>'MDOT FTA Detail'!$A$159)*(Projects!$Q$5:Q$2481))","v":0},{"$f":"SUMPRODUCT((Projects!$A$5:$A$2481='MDOT FTA Detail'!$G$3)*(Projects!$C$5:$C$2481='MDOT FTA Detail'!$C$4)*(Projects!$L$5:$L$2481='MDOT FTA Detail'!$A91)*(Projects!$J$5:$J$2481<>'MDOT FTA Detail'!$A$159)*(Projects!$K$5:K$2481))","v":0},{"$f":"I91-G91","v":0},{"$f":"SUMPRODUCT((Projects!$A$5:$A$2481='MDOT FTA Detail'!$G$3)*(Projects!$C$5:$C$2481='MDOT FTA Detail'!$C$4)*(Projects!$L$5:$L$2481='MDOT FTA Detail'!$A91)*(Projects!$J$5:$J$2481<>'MDOT FTA Detail'!$A$159)*(Projects!$Q$5:Q$2481))","v":0},{"$f":"SUMPRODUCT((Projects!$A$5:$A$2481='MDOT FTA Detail'!$J$3)*(Projects!$C$5:$C$2481='MDOT FTA Detail'!$C$4)*(Projects!$L$5:$L$2481='MDOT FTA Detail'!$A91)*(Projects!$J$5:$J$2481<>'MDOT FTA Detail'!$A$159)*(Projects!$K$5:$K$2481))","v":0},{"$f":"L91-J91","v":0},{"$f":"SUMPRODUCT((Projects!$A$5:$A$2481='MDOT FTA Detail'!$J$3)*(Projects!$C$5:$C$2481='MDOT FTA Detail'!$C$4)*(Projects!$L$5:$L$2481='MDOT FTA Detail'!$A91)*(Projects!$J$5:$J$2481<>'MDOT FTA Detail'!$A$159)*(Projects!$Q$5:$Q$2481))","v":0},{"$f":"SUMPRODUCT((Projects!$A$5:$A$2481='MDOT FTA Detail'!$M$3)*(Projects!$C$5:$C$2481='MDOT FTA Detail'!$C$4)*(Projects!$L$5:$L$2481='MDOT FTA Detail'!$A91)*(Projects!$J$5:$J$2481<>'MDOT FTA Detail'!$A$159)*(Projects!$K$5:$K$2481))","v":0},{"$f":"O91-M91","v":0},{"$f":"SUMPRODUCT((Projects!$A$5:$A$2481='MDOT FTA Detail'!$M$3)*(Projects!$C$5:$C$2481='MDOT FTA Detail'!$C$4)*(Projects!$L$5:$L$2481='MDOT FTA Detail'!$A91)*(Projects!$J$5:$J$2481<>'MDOT FTA Detail'!$A$159)*(Projects!$Q$5:$Q$2481))","v":0}]
["SULG","Surfcace Transportation Urban Areas <200,000 Population 100%","MDOT FA",{"$f":"SUMPRODUCT((Projects!$A$5:$A$2481='MDOT FTA Detail'!$D$3)*(Projects!$C$5:$C$2481='MDOT FTA Detail'!$C$4)*(Projects!$L$5:$L$2481='MDOT FTA Detail'!$A92)*(Projects!$J$5:$J$2481<>'MDOT FTA Detail'!$A$159)*(Projects!$K$5:K$2481))","v":0},0,{"$f":"SUMPRODUCT((Projects!$A$5:$A$2481='MDOT FTA Detail'!$D$3)*(Projects!$C$5:$C$2481='MDOT FTA Detail'!$C$4)*(Projects!$L$5:$L$2481='MDOT FTA Detail'!$A92)*(Projects!$J$5:$J$2481<>'MDOT FTA Detail'!$A$159)*(Projects!$Q$5:Q$2481))","v":0},{"$f":"SUMPRODUCT((Projects!$A$5:$A$2481='MDOT FTA Detail'!$G$3)*(Projects!$C$5:$C$2481='MDOT FTA Detail'!$C$4)*(Projects!$L$5:$L$2481='MDOT FTA Detail'!$A92)*(Projects!$J$5:$J$2481<>'MDOT FTA Detail'!$A$159)*(Projects!$K$5:K$2481))","v":0},0,{"$f":"SUMPRODUCT((Projects!$A$5:$A$2481='MDOT FTA Detail'!$G$3)*(Projects!$C$5:$C$2481='MDOT FTA Detail'!$C$4)*(Projects!$L$5:$L$2481='MDOT FTA Detail'!$A92)*(Projects!$J$5:$J$2481<>'MDOT FTA Detail'!$A$159)*(Projects!$Q$5:Q$2481))","v":0},{"$f":"SUMPRODUCT((Projects!$A$5:$A$2481='MDOT FTA Detail'!$J$3)*(Projects!$C$5:$C$2481='MDOT FTA Detail'!$C$4)*(Projects!$L$5:$L$2481='MDOT FTA Detail'!$A92)*(Projects!$J$5:$J$2481<>'MDOT FTA Detail'!$A$159)*(Projects!$K$5:$K$2481))","v":0},0,{"$f":"SUMPRODUCT((Projects!$A$5:$A$2481='MDOT FTA Detail'!$J$3)*(Projects!$C$5:$C$2481='MDOT FTA Detail'!$C$4)*(Projects!$L$5:$L$2481='MDOT FTA Detail'!$A92)*(Projects!$J$5:$J$2481<>'MDOT FTA Detail'!$A$159)*(Projects!$Q$5:$Q$2481))","v":0},{"$f":"SUMPRODUCT((Projects!$A$5:$A$2481='MDOT FTA Detail'!$M$3)*(Projects!$C$5:$C$2481='MDOT FTA Detail'!$C$4)*(Projects!$L$5:$L$2481='MDOT FTA Detail'!$A92)*(Projects!$J$5:$J$2481<>'MDOT FTA Detail'!$A$159)*(Projects!$K$5:$K$2481))","v":0},0,{"$f":"SUMPRODUCT((Projects!$A$5:$A$2481='MDOT FTA Detail'!$M$3)*(Projects!$C$5:$C$2481='MDOT FTA Detail'!$C$4)*(Projects!$L$5:$L$2481='MDOT FTA Detail'!$A92)*(Projects!$J$5:$J$2481<>'MDOT FTA Detail'!$A$159)*(Projects!$Q$5:$Q$2481))","v":0}]
["TA","Transportation Alternatives Program Flex","MDOT FA",{"$f":"SUMPRODUCT((Projects!$A$5:$A$2481='MDOT FTA Detail'!$D$3)*(Projects!$C$5:$C$2481='MDOT FTA Detail'!$C$4)*(Projects!$L$5:$L$2481='MDOT FTA Detail'!$A93)*(Projects!$J$5:$J$2481<>'MDOT FTA Detail'!$A$159)*(Projects!$K$5:K$2481))","v":0},0,{"$f":"SUMPRODUCT((Projects!$A$5:$A$2481='MDOT FTA Detail'!$D$3)*(Projects!$C$5:$C$2481='MDOT FTA Detail'!$C$4)*(Projects!$L$5:$L$2481='MDOT FTA Detail'!$A93)*(Projects!$J$5:$J$2481<>'MDOT FTA Detail'!$A$159)*(Projects!$Q$5:Q$2481))","v":0},{"$f":"SUMPRODUCT((Projects!$A$5:$A$2481='MDOT FTA Detail'!$G$3)*(Projects!$C$5:$C$2481='MDOT FTA Detail'!$C$4)*(Projects!$L$5:$L$2481='MDOT FTA Detail'!$A93)*(Projects!$J$5:$J$2481<>'MDOT FTA Detail'!$A$159)*(Projects!$K$5:K$2481))","v":0},0,{"$f":"SUMPRODUCT((Projects!$A$5:$A$2481='MDOT FTA Detail'!$G$3)*(Projects!$C$5:$C$2481='MDOT FTA Detail'!$C$4)*(Projects!$L$5:$L$2481='MDOT FTA Detail'!$A93)*(Projects!$J$5:$J$2481<>'MDOT FTA Detail'!$A$159)*(Projects!$Q$5:Q$2481))","v":0},{"$f":"SUMPRODUCT((Projects!$A$5:$A$2481='MDOT FTA Detail'!$J$3)*(Projects!$C$5:$C$2481='MDOT FTA Detail'!$C$4)*(Projects!$L$5:$L$2481='MDOT FTA Detail'!$A93)*(Projects!$J$5:$J$2481<>'MDOT FTA Detail'!$A$159)*(Projects!$K$5:$K$2481))","v":0},0,{"$f":"SUMPRODUCT((Projects!$A$5:$A$2481='MDOT FTA Detail'!$J$3)*(Projects!$C$5:$C$2481='MDOT FTA Detail'!$C$4)*(Projects!$L$5:$L$2481='MDOT FTA Detail'!$A93)*(Projects!$J$5:$J$2481<>'MDOT FTA Detail'!$A$159)*(Projects!$Q$5:$Q$2481))","v":0},{"$f":"SUMPRODUCT((Projects!$A$5:$A$2481='MDOT FTA Detail'!$M$3)*(Projects!$C$5:$C$2481='MDOT FTA Detail'!$C$4)*(Projects!$L$5:$L$2481='MDOT FTA Detail'!$A93)*(Projects!$J$5:$J$2481<>'MDOT FTA Detail'!$A$159)*(Projects!$K$5:$K$2481))","v":0},0,{"$f":"SUMPRODUCT((Projects!$A$5:$A$2481='MDOT FTA Detail'!$M$3)*(Projects!$C$5:$C$2481='MDOT FTA Detail'!$C$4)*(Projects!$L$5:$L$2481='MDOT FTA Detail'!$A93)*(Projects!$J$5:$J$2481<>'MDOT FTA Detail'!$A$159)*(Projects!$Q$5:$Q$2481))","v":0}]
["TAL","Transportation Alternatives Rural","MDOT FA",{"$f":"SUMPRODUCT((Projects!$A$5:$A$2481='MDOT FTA Detail'!$D$3)*(Projects!$C$5:$C$2481='MDOT FTA Detail'!$C$4)*(Projects!$L$5:$L$2481='MDOT FTA Detail'!$A94)*(Projects!$J$5:$J$2481<>'MDOT FTA Detail'!$A$159)*(Projects!$K$5:K$2481))","v":0},0,{"$f":"SUMPRODUCT((Projects!$A$5:$A$2481='MDOT FTA Detail'!$D$3)*(Projects!$C$5:$C$2481='MDOT FTA Detail'!$C$4)*(Projects!$L$5:$L$2481='MDOT FTA Detail'!$A94)*(Projects!$J$5:$J$2481<>'MDOT FTA Detail'!$A$159)*(Projects!$Q$5:Q$2481))","v":0},{"$f":"SUMPRODUCT((Projects!$A$5:$A$2481='MDOT FTA Detail'!$G$3)*(Projects!$C$5:$C$2481='MDOT FTA Detail'!$C$4)*(Projects!$L$5:$L$2481='MDOT FTA Detail'!$A94)*(Projects!$J$5:$J$2481<>'MDOT FTA Detail'!$A$159)*(Projects!$K$5:K$2481))","v":0},0,{"$f":"SUMPRODUCT((Projects!$A$5:$A$2481='MDOT FTA Detail'!$G$3)*(Projects!$C$5:$C$2481='MDOT FTA Detail'!$C$4)*(Projects!$L$5:$L$2481='MDOT FTA Detail'!$A94)*(Projects!$J$5:$J$2481<>'MDOT FTA Detail'!$A$159)*(Projects!$Q$5:Q$2481))","v":0},{"$f":"SUMPRODUCT((Projects!$A$5:$A$2481='MDOT FTA Detail'!$J$3)*(Projects!$C$5:$C$2481='MDOT FTA Detail'!$C$4)*(Projects!$L$5:$L$2481='MDOT FTA Detail'!$A94)*(Projects!$J$5:$J$2481<>'MDOT FTA Detail'!$A$159)*(Projects!$K$5:$K$2481))","v":0},0,{"$f":"SUMPRODUCT((Projects!$A$5:$A$2481='MDOT FTA Detail'!$J$3)*(Projects!$C$5:$C$2481='MDOT FTA Detail'!$C$4)*(Projects!$L$5:$L$2481='MDOT FTA Detail'!$A94)*(Projects!$J$5:$J$2481<>'MDOT FTA Detail'!$A$159)*(Projects!$Q$5:$Q$2481))","v":0},{"$f":"SUMPRODUCT((Projects!$A$5:$A$2481='MDOT FTA Detail'!$M$3)*(Projects!$C$5:$C$2481='MDOT FTA Detail'!$C$4)*(Projects!$L$5:$L$2481='MDOT FTA Detail'!$A94)*(Projects!$J$5:$J$2481<>'MDOT FTA Detail'!$A$159)*(Projects!$K$5:$K$2481))","v":0},0,{"$f":"SUMPRODUCT((Projects!$A$5:$A$2481='MDOT FTA Detail'!$M$3)*(Projects!$C$5:$C$2481='MDOT FTA Detail'!$C$4)*(Projects!$L$5:$L$2481='MDOT FTA Detail'!$A94)*(Projects!$J$5:$J$2481<>'MDOT FTA Detail'!$A$159)*(Projects!$Q$5:$Q$2481))","v":0}]
["TAU","Transportation Alternatives Urban Areas > 200,000 Population","MDOT FA",{"$f":"SUMPRODUCT((Projects!$A$5:$A$2481='MDOT FTA Detail'!$D$3)*(Projects!$C$5:$C$2481='MDOT FTA Detail'!$C$4)*(Projects!$L$5:$L$2481='MDOT FTA Detail'!$A95)*(Projects!$J$5:$J$2481<>'MDOT FTA Detail'!$A$159)*(Projects!$K$5:K$2481))","v":0},0,{"$f":"SUMPRODUCT((Projects!$A$5:$A$2481='MDOT FTA Detail'!$D$3)*(Projects!$C$5:$C$2481='MDOT FTA Detail'!$C$4)*(Projects!$L$5:$L$2481='MDOT FTA Detail'!$A95)*(Projects!$J$5:$J$2481<>'MDOT FTA Detail'!$A$159)*(Projects!$Q$5:Q$2481))","v":0},{"$f":"SUMPRODUCT((Projects!$A$5:$A$2481='MDOT FTA Detail'!$G$3)*(Projects!$C$5:$C$2481='MDOT FTA Detail'!$C$4)*(Projects!$L$5:$L$2481='MDOT FTA Detail'!$A95)*(Projects!$J$5:$J$2481<>'MDOT FTA Detail'!$A$159)*(Projects!$K$5:K$2481))","v":0},0,{"$f":"SUMPRODUCT((Projects!$A$5:$A$2481='MDOT FTA Detail'!$G$3)*(Projects!$C$5:$C$2481='MDOT FTA Detail'!$C$4)*(Projects!$L$5:$L$2481='MDOT FTA Detail'!$A95)*(Projects!$J$5:$J$2481<>'MDOT FTA Detail'!$A$159)*(Projects!$Q$5:Q$2481))","v":0},{"$f":"SUMPRODUCT((Projects!$A$5:$A$2481='MDOT FTA Detail'!$J$3)*(Projects!$C$5:$C$2481='MDOT FTA Detail'!$C$4)*(Projects!$L$5:$L$2481='MDOT FTA Detail'!$A95)*(Projects!$J$5:$J$2481<>'MDOT FTA Detail'!$A$159)*(Projects!$K$5:$K$2481))","v":0},0,{"$f":"SUMPRODUCT((Projects!$A$5:$A$2481='MDOT FTA Detail'!$J$3)*(Projects!$C$5:$C$2481='MDOT FTA Detail'!$C$4)*(Projects!$L$5:$L$2481='MDOT FTA Detail'!$A95)*(Projects!$J$5:$J$2481<>'MDOT FTA Detail'!$A$159)*(Projects!$Q$5:$Q$2481))","v":0},{"$f":"SUMPRODUCT((Projects!$A$5:$A$2481='MDOT FTA Detail'!$M$3)*(Projects!$C$5:$C$2481='MDOT FTA Detail'!$C$4)*(Projects!$L$5:$L$2481='MDOT FTA Detail'!$A95)*(Projects!$J$5:$J$2481<>'MDOT FTA Detail'!$A$159)*(Projects!$K$5:$K$2481))","v":0},0,{"$f":"SUMPRODUCT((Projects!$A$5:$A$2481='MDOT FTA Detail'!$M$3)*(Projects!$C$5:$C$2481='MDOT FTA Detail'!$C$4)*(Projects!$L$5:$L$2481='MDOT FTA Detail'!$A95)*(Projects!$J$5:$J$2481<>'MDOT FTA Detail'!$A$159)*(Projects!$Q$5:$Q$2481))","v":0}]
["TAUL","Transporation Alternatives Urban Areas < 200,000 Population","MDOT FA",{"$f":"SUMPRODUCT((Projects!$A$5:$A$2481='MDOT FTA Detail'!$D$3)*(Projects!$C$5:$C$2481='MDOT FTA Detail'!$C$4)*(Projects!$L$5:$L$2481='MDOT FTA Detail'!$A96)*(Projects!$J$5:$J$2481<>'MDOT FTA Detail'!$A$159)*(Projects!$K$5:K$2481))","v":0},0,{"$f":"SUMPRODUCT((Projects!$A$5:$A$2481='MDOT FTA Detail'!$D$3)*(Projects!$C$5:$C$2481='MDOT FTA Detail'!$C$4)*(Projects!$L$5:$L$2481='MDOT FTA Detail'!$A96)*(Projects!$J$5:$J$2481<>'MDOT FTA Detail'!$A$159)*(Projects!$Q$5:Q$2481))","v":0},{"$f":"SUMPRODUCT((Projects!$A$5:$A$2481='MDOT FTA Detail'!$G$3)*(Projects!$C$5:$C$2481='MDOT FTA Detail'!$C$4)*(Projects!$L$5:$L$2481='MDOT FTA Detail'!$A96)*(Projects!$J$5:$J$2481<>'MDOT FTA Detail'!$A$159)*(Projects!$K$5:K$2481))","v":0},0,{"$f":"SUMPRODUCT((Projects!$A$5:$A$2481='MDOT FTA Detail'!$G$3)*(Projects!$C$5:$C$2481='MDOT FTA Detail'!$C$4)*(Projects!$L$5:$L$2481='MDOT FTA Detail'!$A96)*(Projects!$J$5:$J$2481<>'MDOT FTA Detail'!$A$159)*(Projects!$Q$5:Q$2481))","v":0},{"$f":"SUMPRODUCT((Projects!$A$5:$A$2481='MDOT FTA Detail'!$J$3)*(Projects!$C$5:$C$2481='MDOT FTA Detail'!$C$4)*(Projects!$L$5:$L$2481='MDOT FTA Detail'!$A96)*(Projects!$J$5:$J$2481<>'MDOT FTA Detail'!$A$159)*(Projects!$K$5:$K$2481))","v":0},0,{"$f":"SUMPRODUCT((Projects!$A$5:$A$2481='MDOT FTA Detail'!$J$3)*(Projects!$C$5:$C$2481='MDOT FTA Detail'!$C$4)*(Projects!$L$5:$L$2481='MDOT FTA Detail'!$A96)*(Projects!$J$5:$J$2481<>'MDOT FTA Detail'!$A$159)*(Projects!$Q$5:$Q$2481))","v":0},{"$f":"SUMPRODUCT((Projects!$A$5:$A$2481='MDOT FTA Detail'!$M$3)*(Projects!$C$5:$C$2481='MDOT FTA Detail'!$C$4)*(Projects!$L$5:$L$2481='MDOT FTA Detail'!$A96)*(Projects!$J$5:$J$2481<>'MDOT FTA Detail'!$A$159)*(Projects!$K$5:$K$2481))","v":0},0,{"$f":"SUMPRODUCT((Projects!$A$5:$A$2481='MDOT FTA Detail'!$M$3)*(Projects!$C$5:$C$2481='MDOT FTA Detail'!$C$4)*(Projects!$L$5:$L$2481='MDOT FTA Detail'!$A96)*(Projects!$J$5:$J$2481<>'MDOT FTA Detail'!$A$159)*(Projects!$Q$5:$Q$2481))","v":0}]
["TBR","Timber Bridge Fund","MDOT FA",{"$f":"SUMPRODUCT((Projects!$A$5:$A$2481='MDOT FTA Detail'!$D$3)*(Projects!$C$5:$C$2481='MDOT FTA Detail'!$C$4)*(Projects!$L$5:$L$2481='MDOT FTA Detail'!$A97)*(Projects!$J$5:$J$2481<>'MDOT FTA Detail'!$A$159)*(Projects!$K$5:K$2481))","v":0},0,{"$f":"SUMPRODUCT((Projects!$A$5:$A$2481='MDOT FTA Detail'!$D$3)*(Projects!$C$5:$C$2481='MDOT FTA Detail'!$C$4)*(Projects!$L$5:$L$2481='MDOT FTA Detail'!$A97)*(Projects!$J$5:$J$2481<>'MDOT FTA Detail'!$A$159)*(Projects!$Q$5:Q$2481))","v":0},{"$f":"SUMPRODUCT((Projects!$A$5:$A$2481='MDOT FTA Detail'!$G$3)*(Projects!$C$5:$C$2481='MDOT FTA Detail'!$C$4)*(Projects!$L$5:$L$2481='MDOT FTA Detail'!$A97)*(Projects!$J$5:$J$2481<>'MDOT FTA Detail'!$A$159)*(Projects!$K$5:K$2481))","v":0},0,{"$f":"SUMPRODUCT((Projects!$A$5:$A$2481='MDOT FTA Detail'!$G$3)*(Projects!$C$5:$C$2481='MDOT FTA Detail'!$C$4)*(Projects!$L$5:$L$2481='MDOT FTA Detail'!$A97)*(Projects!$J$5:$J$2481<>'MDOT FTA Detail'!$A$159)*(Projects!$Q$5:Q$2481))","v":0},{"$f":"SUMPRODUCT((Projects!$A$5:$A$2481='MDOT FTA Detail'!$J$3)*(Projects!$C$5:$C$2481='MDOT FTA Detail'!$C$4)*(Projects!$L$5:$L$2481='MDOT FTA Detail'!$A97)*(Projects!$J$5:$J$2481<>'MDOT FTA Detail'!$A$159)*(Projects!$K$5:$K$2481))","v":0},0,{"$f":"SUMPRODUCT((Projects!$A$5:$A$2481='MDOT FTA Detail'!$J$3)*(Projects!$C$5:$C$2481='MDOT FTA Detail'!$C$4)*(Projects!$L$5:$L$2481='MDOT FTA Detail'!$A97)*(Projects!$J$5:$J$2481<>'MDOT FTA Detail'!$A$159)*(Projects!$Q$5:$Q$2481))","v":0},{"$f":"SUMPRODUCT((Projects!$A$5:$A$2481='MDOT FTA Detail'!$M$3)*(Projects!$C$5:$C$2481='MDOT FTA Detail'!$C$4)*(Projects!$L$5:$L$2481='MDOT FTA Detail'!$A97)*(Projects!$J$5:$J$2481<>'MDOT FTA Detail'!$A$159)*(Projects!$K$5:$K$2481))","v":0},0,{"$f":"SUMPRODUCT((Projects!$A$5:$A$2481='MDOT FTA Detail'!$M$3)*(Projects!$C$5:$C$2481='MDOT FTA Detail'!$C$4)*(Projects!$L$5:$L$2481='MDOT FTA Detail'!$A97)*(Projects!$J$5:$J$2481<>'MDOT FTA Detail'!$A$159)*(Projects!$Q$5:$Q$2481))","v":0}]
["TCP","Tax Compliance Program","MDOT FA",{"$f":"SUMPRODUCT((Projects!$A$5:$A$2481='MDOT FTA Detail'!$D$3)*(Projects!$C$5:$C$2481='MDOT FTA Detail'!$C$4)*(Projects!$L$5:$L$2481='MDOT FTA Detail'!$A98)*(Projects!$J$5:$J$2481<>'MDOT FTA Detail'!$A$159)*(Projects!$K$5:K$2481))","v":0},0,{"$f":"SUMPRODUCT((Projects!$A$5:$A$2481='MDOT FTA Detail'!$D$3)*(Projects!$C$5:$C$2481='MDOT FTA Detail'!$C$4)*(Projects!$L$5:$L$2481='MDOT FTA Detail'!$A98)*(Projects!$J$5:$J$2481<>'MDOT FTA Detail'!$A$159)*(Projects!$Q$5:Q$2481))","v":0},{"$f":"SUMPRODUCT((Projects!$A$5:$A$2481='MDOT FTA Detail'!$G$3)*(Projects!$C$5:$C$2481='MDOT FTA Detail'!$C$4)*(Projects!$L$5:$L$2481='MDOT FTA Detail'!$A98)*(Projects!$J$5:$J$2481<>'MDOT FTA Detail'!$A$159)*(Projects!$K$5:K$2481))","v":0},0,{"$f":"SUMPRODUCT((Projects!$A$5:$A$2481='MDOT FTA Detail'!$G$3)*(Projects!$C$5:$C$2481='MDOT FTA Detail'!$C$4)*(Projects!$L$5:$L$2481='MDOT FTA Detail'!$A98)*(Projects!$J$5:$J$2481<>'MDOT FTA Detail'!$A$159)*(Projects!$Q$5:Q$2481))","v":0},{"$f":"SUMPRODUCT((Projects!$A$5:$A$2481='MDOT FTA Detail'!$J$3)*(Projects!$C$5:$C$2481='MDOT FTA Detail'!$C$4)*(Projects!$L$5:$L$2481='MDOT FTA Detail'!$A98)*(Projects!$J$5:$J$2481<>'MDOT FTA Detail'!$A$159)*(Projects!$K$5:$K$2481))","v":0},0,{"$f":"SUMPRODUCT((Projects!$A$5:$A$2481='MDOT FTA Detail'!$J$3)*(Projects!$C$5:$C$2481='MDOT FTA Detail'!$C$4)*(Projects!$L$5:$L$2481='MDOT FTA Detail'!$A98)*(Projects!$J$5:$J$2481<>'MDOT FTA Detail'!$A$159)*(Projects!$Q$5:$Q$2481))","v":0},{"$f":"SUMPRODUCT((Projects!$A$5:$A$2481='MDOT FTA Detail'!$M$3)*(Projects!$C$5:$C$2481='MDOT FTA Detail'!$C$4)*(Projects!$L$5:$L$2481='MDOT FTA Detail'!$A98)*(Projects!$J$5:$J$2481<>'MDOT FTA Detail'!$A$159)*(Projects!$K$5:$K$2481))","v":0},0,{"$f":"SUMPRODUCT((Projects!$A$5:$A$2481='MDOT FTA Detail'!$M$3)*(Projects!$C$5:$C$2481='MDOT FTA Detail'!$C$4)*(Projects!$L$5:$L$2481='MDOT FTA Detail'!$A98)*(Projects!$J$5:$J$2481<>'MDOT FTA Detail'!$A$159)*(Projects!$Q$5:$Q$2481))","v":0}]
["TCSP","Transportation, Community and System Preservation","MDOT FA",{"$f":"SUMPRODUCT((Projects!$A$5:$A$2481='MDOT FTA Detail'!$D$3)*(Projects!$C$5:$C$2481='MDOT FTA Detail'!$C$4)*(Projects!$L$5:$L$2481='MDOT FTA Detail'!$A99)*(Projects!$J$5:$J$2481<>'MDOT FTA Detail'!$A$159)*(Projects!$K$5:K$2481))","v":0},0,{"$f":"SUMPRODUCT((Projects!$A$5:$A$2481='MDOT FTA Detail'!$D$3)*(Projects!$C$5:$C$2481='MDOT FTA Detail'!$C$4)*(Projects!$L$5:$L$2481='MDOT FTA Detail'!$A99)*(Projects!$J$5:$J$2481<>'MDOT FTA Detail'!$A$159)*(Projects!$Q$5:Q$2481))","v":0},{"$f":"SUMPRODUCT((Projects!$A$5:$A$2481='MDOT FTA Detail'!$G$3)*(Projects!$C$5:$C$2481='MDOT FTA Detail'!$C$4)*(Projects!$L$5:$L$2481='MDOT FTA Detail'!$A99)*(Projects!$J$5:$J$2481<>'MDOT FTA Detail'!$A$159)*(Projects!$K$5:K$2481))","v":0},0,{"$f":"SUMPRODUCT((Projects!$A$5:$A$2481='MDOT FTA Detail'!$G$3)*(Projects!$C$5:$C$2481='MDOT FTA Detail'!$C$4)*(Projects!$L$5:$L$2481='MDOT FTA Detail'!$A99)*(Projects!$J$5:$J$2481<>'MDOT FTA Detail'!$A$159)*(Projects!$Q$5:Q$2481))","v":0},{"$f":"SUMPRODUCT((Projects!$A$5:$A$2481='MDOT FTA Detail'!$J$3)*(Projects!$C$5:$C$2481='MDOT FTA Detail'!$C$4)*(Projects!$L$5:$L$2481='MDOT FTA Detail'!$A99)*(Projects!$J$5:$J$2481<>'MDOT FTA Detail'!$A$159)*(Projects!$K$5:$K$2481))","v":0},0,{"$f":"SUMPRODUCT((Projects!$A$5:$A$2481='MDOT FTA Detail'!$J$3)*(Projects!$C$5:$C$2481='MDOT FTA Detail'!$C$4)*(Projects!$L$5:$L$2481='MDOT FTA Detail'!$A99)*(Projects!$J$5:$J$2481<>'MDOT FTA Detail'!$A$159)*(Projects!$Q$5:$Q$2481))","v":0},{"$f":"SUMPRODUCT((Projects!$A$5:$A$2481='MDOT FTA Detail'!$M$3)*(Projects!$C$5:$C$2481='MDOT FTA Detail'!$C$4)*(Projects!$L$5:$L$2481='MDOT FTA Detail'!$A99)*(Projects!$J$5:$J$2481<>'MDOT FTA Detail'!$A$159)*(Projects!$K$5:$K$2481))","v":0},0,{"$f":"SUMPRODUCT((Projects!$A$5:$A$2481='MDOT FTA Detail'!$M$3)*(Projects!$C$5:$C$2481='MDOT FTA Detail'!$C$4)*(Projects!$L$5:$L$2481='MDOT FTA Detail'!$A99)*(Projects!$J$5:$J$2481<>'MDOT FTA Detail'!$A$159)*(Projects!$Q$5:$Q$2481))","v":0}]
["TG","Transportation  Grant (100% Fed)","MDOT FA",{"$f":"SUMPRODUCT((Projects!$A$5:$A$2481='MDOT FTA Detail'!$D$3)*(Projects!$C$5:$C$2481='MDOT FTA Detail'!$C$4)*(Projects!$L$5:$L$2481='MDOT FTA Detail'!$A100)*(Projects!$J$5:$J$2481<>'MDOT FTA Detail'!$A$159)*(Projects!$K$5:K$2481))","v":0},0,{"$f":"SUMPRODUCT((Projects!$A$5:$A$2481='MDOT FTA Detail'!$D$3)*(Projects!$C$5:$C$2481='MDOT FTA Detail'!$C$4)*(Projects!$L$5:$L$2481='MDOT FTA Detail'!$A100)*(Projects!$J$5:$J$2481<>'MDOT FTA Detail'!$A$159)*(Projects!$Q$5:Q$2481))","v":0},{"$f":"SUMPRODUCT((Projects!$A$5:$A$2481='MDOT FTA Detail'!$G$3)*(Projects!$C$5:$C$2481='MDOT FTA Detail'!$C$4)*(Projects!$L$5:$L$2481='MDOT FTA Detail'!$A100)*(Projects!$J$5:$J$2481<>'MDOT FTA Detail'!$A$159)*(Projects!$K$5:K$2481))","v":0},0,{"$f":"SUMPRODUCT((Projects!$A$5:$A$2481='MDOT FTA Detail'!$G$3)*(Projects!$C$5:$C$2481='MDOT FTA Detail'!$C$4)*(Projects!$L$5:$L$2481='MDOT FTA Detail'!$A100)*(Projects!$J$5:$J$2481<>'MDOT FTA Detail'!$A$159)*(Projects!$Q$5:Q$2481))","v":0},{"$f":"SUMPRODUCT((Projects!$A$5:$A$2481='MDOT FTA Detail'!$J$3)*(Projects!$C$5:$C$2481='MDOT FTA Detail'!$C$4)*(Projects!$L$5:$L$2481='MDOT FTA Detail'!$A100)*(Projects!$J$5:$J$2481<>'MDOT FTA Detail'!$A$159)*(Projects!$K$5:$K$2481))","v":0},0,{"$f":"SUMPRODUCT((Projects!$A$5:$A$2481='MDOT FTA Detail'!$J$3)*(Projects!$C$5:$C$2481='MDOT FTA Detail'!$C$4)*(Projects!$L$5:$L$2481='MDOT FTA Detail'!$A100)*(Projects!$J$5:$J$2481<>'MDOT FTA Detail'!$A$159)*(Projects!$Q$5:$Q$2481))","v":0},{"$f":"SUMPRODUCT((Projects!$A$5:$A$2481='MDOT FTA Detail'!$M$3)*(Projects!$C$5:$C$2481='MDOT FTA Detail'!$C$4)*(Projects!$L$5:$L$2481='MDOT FTA Detail'!$A100)*(Projects!$J$5:$J$2481<>'MDOT FTA Detail'!$A$159)*(Projects!$K$5:$K$2481))","v":0},0,{"$f":"SUMPRODUCT((Projects!$A$5:$A$2481='MDOT FTA Detail'!$M$3)*(Projects!$C$5:$C$2481='MDOT FTA Detail'!$C$4)*(Projects!$L$5:$L$2481='MDOT FTA Detail'!$A100)*(Projects!$J$5:$J$2481<>'MDOT FTA Detail'!$A$159)*(Projects!$Q$5:$Q$2481))","v":0}]
["TGR2","TIGER II Discretionary Grant","MDOT FA",{"$f":"SUMPRODUCT((Projects!$A$5:$A$2481='MDOT FTA Detail'!$D$3)*(Projects!$C$5:$C$2481='MDOT FTA Detail'!$C$4)*(Projects!$L$5:$L$2481='MDOT FTA Detail'!$A101)*(Projects!$J$5:$J$2481<>'MDOT FTA Detail'!$A$159)*(Projects!$K$5:K$2481))","v":0},{"$f":"F101-D101","v":0},{"$f":"SUMPRODUCT((Projects!$A$5:$A$2481='MDOT FTA Detail'!$D$3)*(Projects!$C$5:$C$2481='MDOT FTA Detail'!$C$4)*(Projects!$L$5:$L$2481='MDOT FTA Detail'!$A101)*(Projects!$J$5:$J$2481<>'MDOT FTA Detail'!$A$159)*(Projects!$Q$5:Q$2481))","v":0},{"$f":"SUMPRODUCT((Projects!$A$5:$A$2481='MDOT FTA Detail'!$G$3)*(Projects!$C$5:$C$2481='MDOT FTA Detail'!$C$4)*(Projects!$L$5:$L$2481='MDOT FTA Detail'!$A101)*(Projects!$J$5:$J$2481<>'MDOT FTA Detail'!$A$159)*(Projects!$K$5:K$2481))","v":0},{"$f":"I101-G101","v":0},{"$f":"SUMPRODUCT((Projects!$A$5:$A$2481='MDOT FTA Detail'!$G$3)*(Projects!$C$5:$C$2481='MDOT FTA Detail'!$C$4)*(Projects!$L$5:$L$2481='MDOT FTA Detail'!$A101)*(Projects!$J$5:$J$2481<>'MDOT FTA Detail'!$A$159)*(Projects!$Q$5:Q$2481))","v":0},{"$f":"SUMPRODUCT((Projects!$A$5:$A$2481='MDOT FTA Detail'!$J$3)*(Projects!$C$5:$C$2481='MDOT FTA Detail'!$C$4)*(Projects!$L$5:$L$2481='MDOT FTA Detail'!$A101)*(Projects!$J$5:$J$2481<>'MDOT FTA Detail'!$A$159)*(Projects!$K$5:$K$2481))","v":0},{"$f":"L101-J101","v":0},{"$f":"SUMPRODUCT((Projects!$A$5:$A$2481='MDOT FTA Detail'!$J$3)*(Projects!$C$5:$C$2481='MDOT FTA Detail'!$C$4)*(Projects!$L$5:$L$2481='MDOT FTA Detail'!$A101)*(Projects!$J$5:$J$2481<>'MDOT FTA Detail'!$A$159)*(Projects!$Q$5:$Q$2481))","v":0},{"$f":"SUMPRODUCT((Projects!$A$5:$A$2481='MDOT FTA Detail'!$M$3)*(Projects!$C$5:$C$2481='MDOT FTA Detail'!$C$4)*(Projects!$L$5:$L$2481='MDOT FTA Detail'!$A101)*(Projects!$J$5:$J$2481<>'MDOT FTA Detail'!$A$159)*(Projects!$K$5:$K$2481))","v":0},{"$f":"O101-M101","v":0},{"$f":"SUMPRODUCT((Projects!$A$5:$A$2481='MDOT FTA Detail'!$M$3)*(Projects!$C$5:$C$2481='MDOT FTA Detail'!$C$4)*(Projects!$L$5:$L$2481='MDOT FTA Detail'!$A101)*(Projects!$J$5:$J$2481<>'MDOT FTA Detail'!$A$159)*(Projects!$Q$5:$Q$2481))","v":0}]
["TGR3","TIGER III Discretionary Grant","MDOT FA",{"$f":"SUMPRODUCT((Projects!$A$5:$A$2481='MDOT FTA Detail'!$D$3)*(Projects!$C$5:$C$2481='MDOT FTA Detail'!$C$4)*(Projects!$L$5:$L$2481='MDOT FTA Detail'!$A102)*(Projects!$J$5:$J$2481<>'MDOT FTA Detail'!$A$159)*(Projects!$K$5:K$2481))","v":0},{"$f":"F102-D102","v":0},{"$f":"SUMPRODUCT((Projects!$A$5:$A$2481='MDOT FTA Detail'!$D$3)*(Projects!$C$5:$C$2481='MDOT FTA Detail'!$C$4)*(Projects!$L$5:$L$2481='MDOT FTA Detail'!$A102)*(Projects!$J$5:$J$2481<>'MDOT FTA Detail'!$A$159)*(Projects!$Q$5:Q$2481))","v":0},{"$f":"SUMPRODUCT((Projects!$A$5:$A$2481='MDOT FTA Detail'!$G$3)*(Projects!$C$5:$C$2481='MDOT FTA Detail'!$C$4)*(Projects!$L$5:$L$2481='MDOT FTA Detail'!$A102)*(Projects!$J$5:$J$2481<>'MDOT FTA Detail'!$A$159)*(Projects!$K$5:K$2481))","v":0},{"$f":"I102-G102","v":0},{"$f":"SUMPRODUCT((Projects!$A$5:$A$2481='MDOT FTA Detail'!$G$3)*(Projects!$C$5:$C$2481='MDOT FTA Detail'!$C$4)*(Projects!$L$5:$L$2481='MDOT FTA Detail'!$A102)*(Projects!$J$5:$J$2481<>'MDOT FTA Detail'!$A$159)*(Projects!$Q$5:Q$2481))","v":0},{"$f":"SUMPRODUCT((Projects!$A$5:$A$2481='MDOT FTA Detail'!$J$3)*(Projects!$C$5:$C$2481='MDOT FTA Detail'!$C$4)*(Projects!$L$5:$L$2481='MDOT FTA Detail'!$A102)*(Projects!$J$5:$J$2481<>'MDOT FTA Detail'!$A$159)*(Projects!$K$5:$K$2481))","v":0},{"$f":"L102-J102","v":0},{"$f":"SUMPRODUCT((Projects!$A$5:$A$2481='MDOT FTA Detail'!$J$3)*(Projects!$C$5:$C$2481='MDOT FTA Detail'!$C$4)*(Projects!$L$5:$L$2481='MDOT FTA Detail'!$A102)*(Projects!$J$5:$J$2481<>'MDOT FTA Detail'!$A$159)*(Projects!$Q$5:$Q$2481))","v":0},{"$f":"SUMPRODUCT((Projects!$A$5:$A$2481='MDOT FTA Detail'!$M$3)*(Projects!$C$5:$C$2481='MDOT FTA Detail'!$C$4)*(Projects!$L$5:$L$2481='MDOT FTA Detail'!$A102)*(Projects!$J$5:$J$2481<>'MDOT FTA Detail'!$A$159)*(Projects!$K$5:$K$2481))","v":0},{"$f":"O102-M102","v":0},{"$f":"SUMPRODUCT((Projects!$A$5:$A$2481='MDOT FTA Detail'!$M$3)*(Projects!$C$5:$C$2481='MDOT FTA Detail'!$C$4)*(Projects!$L$5:$L$2481='MDOT FTA Detail'!$A102)*(Projects!$J$5:$J$2481<>'MDOT FTA Detail'!$A$159)*(Projects!$Q$5:$Q$2481))","v":0}]
["TIP","Transportation Improvements Projects SAFETEA-LU","MDOT FA",{"$f":"SUMPRODUCT((Projects!$A$5:$A$2481='MDOT FTA Detail'!$D$3)*(Projects!$C$5:$C$2481='MDOT FTA Detail'!$C$4)*(Projects!$L$5:$L$2481='MDOT FTA Detail'!$A103)*(Projects!$J$5:$J$2481<>'MDOT FTA Detail'!$A$159)*(Projects!$K$5:K$2481))","v":0},{"$f":"F103-D103","v":0},{"$f":"SUMPRODUCT((Projects!$A$5:$A$2481='MDOT FTA Detail'!$D$3)*(Projects!$C$5:$C$2481='MDOT FTA Detail'!$C$4)*(Projects!$L$5:$L$2481='MDOT FTA Detail'!$A103)*(Projects!$J$5:$J$2481<>'MDOT FTA Detail'!$A$159)*(Projects!$Q$5:Q$2481))","v":0},{"$f":"SUMPRODUCT((Projects!$A$5:$A$2481='MDOT FTA Detail'!$G$3)*(Projects!$C$5:$C$2481='MDOT FTA Detail'!$C$4)*(Projects!$L$5:$L$2481='MDOT FTA Detail'!$A103)*(Projects!$J$5:$J$2481<>'MDOT FTA Detail'!$A$159)*(Projects!$K$5:K$2481))","v":0},{"$f":"I103-G103","v":0},{"$f":"SUMPRODUCT((Projects!$A$5:$A$2481='MDOT FTA Detail'!$G$3)*(Projects!$C$5:$C$2481='MDOT FTA Detail'!$C$4)*(Projects!$L$5:$L$2481='MDOT FTA Detail'!$A103)*(Projects!$J$5:$J$2481<>'MDOT FTA Detail'!$A$159)*(Projects!$Q$5:Q$2481))","v":0},{"$f":"SUMPRODUCT((Projects!$A$5:$A$2481='MDOT FTA Detail'!$J$3)*(Projects!$C$5:$C$2481='MDOT FTA Detail'!$C$4)*(Projects!$L$5:$L$2481='MDOT FTA Detail'!$A103)*(Projects!$J$5:$J$2481<>'MDOT FTA Detail'!$A$159)*(Projects!$K$5:$K$2481))","v":0},{"$f":"L103-J103","v":0},{"$f":"SUMPRODUCT((Projects!$A$5:$A$2481='MDOT FTA Detail'!$J$3)*(Projects!$C$5:$C$2481='MDOT FTA Detail'!$C$4)*(Projects!$L$5:$L$2481='MDOT FTA Detail'!$A103)*(Projects!$J$5:$J$2481<>'MDOT FTA Detail'!$A$159)*(Projects!$Q$5:$Q$2481))","v":0},{"$f":"SUMPRODUCT((Projects!$A$5:$A$2481='MDOT FTA Detail'!$M$3)*(Projects!$C$5:$C$2481='MDOT FTA Detail'!$C$4)*(Projects!$L$5:$L$2481='MDOT FTA Detail'!$A103)*(Projects!$J$5:$J$2481<>'MDOT FTA Detail'!$A$159)*(Projects!$K$5:$K$2481))","v":0},{"$f":"O103-M103","v":0},{"$f":"SUMPRODUCT((Projects!$A$5:$A$2481='MDOT FTA Detail'!$M$3)*(Projects!$C$5:$C$2481='MDOT FTA Detail'!$C$4)*(Projects!$L$5:$L$2481='MDOT FTA Detail'!$A103)*(Projects!$J$5:$J$2481<>'MDOT FTA Detail'!$A$159)*(Projects!$Q$5:$Q$2481))","v":0}]
["TPFD","Truck Parking Faciilities Discretionary","MDOT FA",{"$f":"SUMPRODUCT((Projects!$A$5:$A$2481='MDOT FTA Detail'!$D$3)*(Projects!$C$5:$C$2481='MDOT FTA Detail'!$C$4)*(Projects!$L$5:$L$2481='MDOT FTA Detail'!$A104)*(Projects!$J$5:$J$2481<>'MDOT FTA Detail'!$A$159)*(Projects!$K$5:K$2481))","v":0},0,{"$f":"SUMPRODUCT((Projects!$A$5:$A$2481='MDOT FTA Detail'!$D$3)*(Projects!$C$5:$C$2481='MDOT FTA Detail'!$C$4)*(Projects!$L$5:$L$2481='MDOT FTA Detail'!$A104)*(Projects!$J$5:$J$2481<>'MDOT FTA Detail'!$A$159)*(Projects!$Q$5:Q$2481))","v":0},{"$f":"SUMPRODUCT((Projects!$A$5:$A$2481='MDOT FTA Detail'!$G$3)*(Projects!$C$5:$C$2481='MDOT FTA Detail'!$C$4)*(Projects!$L$5:$L$2481='MDOT FTA Detail'!$A104)*(Projects!$J$5:$J$2481<>'MDOT FTA Detail'!$A$159)*(Projects!$K$5:K$2481))","v":0},0,{"$f":"SUMPRODUCT((Projects!$A$5:$A$2481='MDOT FTA Detail'!$G$3)*(Projects!$C$5:$C$2481='MDOT FTA Detail'!$C$4)*(Projects!$L$5:$L$2481='MDOT FTA Detail'!$A104)*(Projects!$J$5:$J$2481<>'MDOT FTA Detail'!$A$159)*(Projects!$Q$5:Q$2481))","v":0},{"$f":"SUMPRODUCT((Projects!$A$5:$A$2481='MDOT FTA Detail'!$J$3)*(Projects!$C$5:$C$2481='MDOT FTA Detail'!$C$4)*(Projects!$L$5:$L$2481='MDOT FTA Detail'!$A104)*(Projects!$J$5:$J$2481<>'MDOT FTA Detail'!$A$159)*(Projects!$K$5:$K$2481))","v":0},0,{"$f":"SUMPRODUCT((Projects!$A$5:$A$2481='MDOT FTA Detail'!$J$3)*(Projects!$C$5:$C$2481='MDOT FTA Detail'!$C$4)*(Projects!$L$5:$L$2481='MDOT FTA Detail'!$A104)*(Projects!$J$5:$J$2481<>'MDOT FTA Detail'!$A$159)*(Projects!$Q$5:$Q$2481))","v":0},{"$f":"SUMPRODUCT((Projects!$A$5:$A$2481='MDOT FTA Detail'!$M$3)*(Projects!$C$5:$C$2481='MDOT FTA Detail'!$C$4)*(Projects!$L$5:$L$2481='MDOT FTA Detail'!$A104)*(Projects!$J$5:$J$2481<>'MDOT FTA Detail'!$A$159)*(Projects!$K$5:$K$2481))","v":0},0,{"$f":"SUMPRODUCT((Projects!$A$5:$A$2481='MDOT FTA Detail'!$M$3)*(Projects!$C$5:$C$2481='MDOT FTA Detail'!$C$4)*(Projects!$L$5:$L$2481='MDOT FTA Detail'!$A104)*(Projects!$J$5:$J$2481<>'MDOT FTA Detail'!$A$159)*(Projects!$Q$5:$Q$2481))","v":0}]
[3038,"Section 3038 - Over the Road Bus Program","Transit",{"$f":"SUMPRODUCT((Projects!$A$5:$A$2481='MDOT FTA Detail'!$D$3)*(Projects!$L$5:$L$2481='MDOT FTA Detail'!$A105)*(Projects!$K$5:$K$2481))","v":0},{"$f":"F105-D105","v":0},{"$f":"SUMPRODUCT((Projects!$A$5:$A$2481='MDOT FTA Detail'!$D$3)*(Projects!$L$5:$L$2481='MDOT FTA Detail'!$A105)*(Projects!$Q$5:$Q$2481))","v":0},{"$f":"SUMPRODUCT((Projects!$A$5:$A$2481='MDOT FTA Detail'!$G$3)*(Projects!$L$5:$L$2481='MDOT FTA Detail'!$A105)*(Projects!$K$5:$K$2481))","v":0},{"$f":"I105-G105","v":0},{"$f":"SUMPRODUCT((Projects!$A$5:$A$2481='MDOT FTA Detail'!$G$3)*(Projects!$L$5:$L$2481='MDOT FTA Detail'!$A105)*(Projects!$Q$5:$Q$2481))","v":0},{"$f":"SUMPRODUCT((Projects!$A$5:$A$2481='MDOT FTA Detail'!$J$3)*(Projects!$L$5:$L$2481='MDOT FTA Detail'!$A105)*(Projects!$K$5:$K$2481))","v":0},{"$f":"L105-J105","v":0},{"$f":"SUMPRODUCT((Projects!$A$5:$A$2481='MDOT FTA Detail'!$J$3)*(Projects!$L$5:$L$2481='MDOT FTA Detail'!$A105)*(Projects!$Q$5:$Q$2481))","v":0},{"$f":"SUMPRODUCT((Projects!$A$5:$A$2481='MDOT FTA Detail'!$M$3)*(Projects!$L$5:$L$2481='MDOT FTA Detail'!$A105)*(Projects!$K$5:$K$2481))","v":0},{"$f":"O105-M105","v":0},{"$f":"SUMPRODUCT((Projects!$A$5:$A$2481='MDOT FTA Detail'!$M$3)*(Projects!$L$5:$L$2481='MDOT FTA Detail'!$A105)*(Projects!$Q$5:$Q$2481))","v":0}]
[3045,"Section 3045 - National Fuel Cell Technology Development Program","Transit",{"$f":"SUMPRODUCT((Projects!$A$5:$A$2481='MDOT FTA Detail'!$D$3)*(Projects!$L$5:$L$2481='MDOT FTA Detail'!$A106)*(Projects!$K$5:$K$2481))","v":0},{"$f":"F106-D106","v":0},{"$f":"SUMPRODUCT((Projects!$A$5:$A$2481='MDOT FTA Detail'!$D$3)*(Projects!$L$5:$L$2481='MDOT FTA Detail'!$A106)*(Projects!$Q$5:$Q$2481))","v":0},{"$f":"SUMPRODUCT((Projects!$A$5:$A$2481='MDOT FTA Detail'!$G$3)*(Projects!$L$5:$L$2481='MDOT FTA Detail'!$A106)*(Projects!$K$5:$K$2481))","v":0},{"$f":"I106-G106","v":0},{"$f":"SUMPRODUCT((Projects!$A$5:$A$2481='MDOT FTA Detail'!$G$3)*(Projects!$L$5:$L$2481='MDOT FTA Detail'!$A106)*(Projects!$Q$5:$Q$2481))","v":0},{"$f":"SUMPRODUCT((Projects!$A$5:$A$2481='MDOT FTA Detail'!$J$3)*(Projects!$L$5:$L$2481='MDOT FTA Detail'!$A106)*(Projects!$K$5:$K$2481))","v":0},{"$f":"L106-J106","v":0},{"$f":"SUMPRODUCT((Projects!$A$5:$A$2481='MDOT FTA Detail'!$J$3)*(Projects!$L$5:$L$2481='MDOT FTA Detail'!$A106)*(Projects!$Q$5:$Q$2481))","v":0},{"$f":"SUMPRODUCT((Projects!$A$5:$A$2481='MDOT FTA Detail'!$M$3)*(Projects!$L$5:$L$2481='MDOT FTA Detail'!$A106)*(Projects!$K$5:$K$2481))","v":0},{"$f":"O106-M106","v":0},{"$f":"SUMPRODUCT((Projects!$A$5:$A$2481='MDOT FTA Detail'!$M$3)*(Projects!$L$5:$L$2481='MDOT FTA Detail'!$A106)*(Projects!$Q$5:$Q$2481))","v":0}]
[5303,"Section 5303 - Metropolitan Transportation Planning","Transit",{"$f":"SUMPRODUCT((Projects!$A$5:$A$2481='MDOT FTA Detail'!$D$3)*(Projects!$L$5:$L$2481='MDOT FTA Detail'!$A107)*(Projects!$K$5:$K$2481))","v":0},{"$f":"F107-D107","v":0},{"$f":"SUMPRODUCT((Projects!$A$5:$A$2481='MDOT FTA Detail'!$D$3)*(Projects!$L$5:$L$2481='MDOT FTA Detail'!$A107)*(Projects!$Q$5:$Q$2481))","v":0},{"$f":"SUMPRODUCT((Projects!$A$5:$A$2481='MDOT FTA Detail'!$G$3)*(Projects!$L$5:$L$2481='MDOT FTA Detail'!$A107)*(Projects!$K$5:$K$2481))","v":0},0,{"$f":"SUMPRODUCT((Projects!$A$5:$A$2481='MDOT FTA Detail'!$G$3)*(Projects!$L$5:$L$2481='MDOT FTA Detail'!$A107)*(Projects!$Q$5:$Q$2481))","v":0},{"$f":"SUMPRODUCT((Projects!$A$5:$A$2481='MDOT FTA Detail'!$J$3)*(Projects!$L$5:$L$2481='MDOT FTA Detail'!$A107)*(Projects!$K$5:$K$2481))","v":0},0,{"$f":"SUMPRODUCT((Projects!$A$5:$A$2481='MDOT FTA Detail'!$J$3)*(Projects!$L$5:$L$2481='MDOT FTA Detail'!$A107)*(Projects!$Q$5:$Q$2481))","v":0},{"$f":"SUMPRODUCT((Projects!$A$5:$A$2481='MDOT FTA Detail'!$M$3)*(Projects!$L$5:$L$2481='MDOT FTA Detail'!$A107)*(Projects!$K$5:$K$2481))","v":0},0,{"$f":"SUMPRODUCT((Projects!$A$5:$A$2481='MDOT FTA Detail'!$M$3)*(Projects!$L$5:$L$2481='MDOT FTA Detail'!$A107)*(Projects!$Q$5:$Q$2481))","v":0}]
[5304,"Section 5304 - Statewide Transportation Planning","Transit",{"$f":"SUMPRODUCT((Projects!$A$5:$A$2481='MDOT FTA Detail'!$D$3)*(Projects!$L$5:$L$2481='MDOT FTA Detail'!$A108)*(Projects!$K$5:$K$2481))","v":0},0,{"$f":"SUMPRODUCT((Projects!$A$5:$A$2481='MDOT FTA Detail'!$D$3)*(Projects!$L$5:$L$2481='MDOT FTA Detail'!$A108)*(Projects!$Q$5:$Q$2481))","v":0},{"$f":"SUMPRODUCT((Projects!$A$5:$A$2481='MDOT FTA Detail'!$G$3)*(Projects!$L$5:$L$2481='MDOT FTA Detail'!$A108)*(Projects!$K$5:$K$2481))","v":0},0,{"$f":"SUMPRODUCT((Projects!$A$5:$A$2481='MDOT FTA Detail'!$G$3)*(Projects!$L$5:$L$2481='MDOT FTA Detail'!$A108)*(Projects!$Q$5:$Q$2481))","v":0},{"$f":"SUMPRODUCT((Projects!$A$5:$A$2481='MDOT FTA Detail'!$J$3)*(Projects!$L$5:$L$2481='MDOT FTA Detail'!$A108)*(Projects!$K$5:$K$2481))","v":0},0,{"$f":"SUMPRODUCT((Projects!$A$5:$A$2481='MDOT FTA Detail'!$J$3)*(Projects!$L$5:$L$2481='MDOT FTA Detail'!$A108)*(Projects!$Q$5:$Q$2481))","v":0},{"$f":"SUMPRODUCT((Projects!$A$5:$A$2481='MDOT FTA Detail'!$M$3)*(Projects!$L$5:$L$2481='MDOT FTA Detail'!$A108)*(Projects!$K$5:$K$2481))","v":0},0,{"$f":"SUMPRODUCT((Projects!$A$5:$A$2481='MDOT FTA Detail'!$M$3)*(Projects!$L$5:$L$2481='MDOT FTA Detail'!$A108)*(Projects!$Q$5:$Q$2481))","v":0}]
[5305,"Section 5305 - Metropolitan and Statewide Planning","Transit",{"$f":"SUMPRODUCT((Projects!$A$5:$A$2481='MDOT FTA Detail'!$D$3)*(Projects!$L$5:$L$2481='MDOT FTA Detail'!$A109)*(Projects!$K$5:$K$2481))","v":0},0,{"$f":"SUMPRODUCT((Projects!$A$5:$A$2481='MDOT FTA Detail'!$D$3)*(Projects!$L$5:$L$2481='MDOT FTA Detail'!$A109)*(Projects!$Q$5:$Q$2481))","v":0},{"$f":"SUMPRODUCT((Projects!$A$5:$A$2481='MDOT FTA Detail'!$G$3)*(Projects!$L$5:$L$2481='MDOT FTA Detail'!$A109)*(Projects!$K$5:$K$2481))","v":0},0,{"$f":"SUMPRODUCT((Projects!$A$5:$A$2481='MDOT FTA Detail'!$G$3)*(Projects!$L$5:$L$2481='MDOT FTA Detail'!$A109)*(Projects!$Q$5:$Q$2481))","v":0},{"$f":"SUMPRODUCT((Projects!$A$5:$A$2481='MDOT FTA Detail'!$J$3)*(Projects!$L$5:$L$2481='MDOT FTA Detail'!$A109)*(Projects!$K$5:$K$2481))","v":0},0,{"$f":"SUMPRODUCT((Projects!$A$5:$A$2481='MDOT FTA Detail'!$J$3)*(Projects!$L$5:$L$2481='MDOT FTA Detail'!$A109)*(Projects!$Q$5:$Q$2481))","v":0},{"$f":"SUMPRODUCT((Projects!$A$5:$A$2481='MDOT FTA Detail'!$M$3)*(Projects!$L$5:$L$2481='MDOT FTA Detail'!$A109)*(Projects!$K$5:$K$2481))","v":0},0,{"$f":"SUMPRODUCT((Projects!$A$5:$A$2481='MDOT FTA Detail'!$M$3)*(Projects!$L$5:$L$2481='MDOT FTA Detail'!$A109)*(Projects!$Q$5:$Q$2481))","v":0}]
[5307,"Section 5307 - UZA Formula","Transit",{"$f":"SUMPRODUCT((Projects!$A$5:$A$2481='MDOT FTA Detail'!$D$3)*(Projects!$L$5:$L$2481='MDOT FTA Detail'!$A110)*(Projects!$K$5:$K$2481))","v":680000},1150000,{"$f":"SUMPRODUCT((Projects!$A$5:$A$2481='MDOT FTA Detail'!$D$3)*(Projects!$L$5:$L$2481='MDOT FTA Detail'!$A110)*(Projects!$Q$5:$Q$2481))","v":1830000},{"$f":"SUMPRODUCT((Projects!$A$5:$A$2481='MDOT FTA Detail'!$G$3)*(Projects!$L$5:$L$2481='MDOT FTA Detail'!$A110)*(Projects!$K$5:$K$2481))","v":0},0,{"$f":"SUMPRODUCT((Projects!$A$5:$A$2481='MDOT FTA Detail'!$G$3)*(Projects!$L$5:$L$2481='MDOT FTA Detail'!$A110)*(Projects!$Q$5:$Q$2481))","v":0},{"$f":"SUMPRODUCT((Projects!$A$5:$A$2481='MDOT FTA Detail'!$J$3)*(Projects!$L$5:$L$2481='MDOT FTA Detail'!$A110)*(Projects!$K$5:$K$2481))","v":0},0,{"$f":"SUMPRODUCT((Projects!$A$5:$A$2481='MDOT FTA Detail'!$J$3)*(Projects!$L$5:$L$2481='MDOT FTA Detail'!$A110)*(Projects!$Q$5:$Q$2481))","v":0},{"$f":"SUMPRODUCT((Projects!$A$5:$A$2481='MDOT FTA Detail'!$M$3)*(Projects!$L$5:$L$2481='MDOT FTA Detail'!$A110)*(Projects!$K$5:$K$2481))","v":0},0,{"$f":"SUMPRODUCT((Projects!$A$5:$A$2481='MDOT FTA Detail'!$M$3)*(Projects!$L$5:$L$2481='MDOT FTA Detail'!$A110)*(Projects!$Q$5:$Q$2481))","v":0}]
[5308,"Section 5308 - Clean Fuels Program","Transit",{"$f":"SUMPRODUCT((Projects!$A$5:$A$2481='MDOT FTA Detail'!$D$3)*(Projects!$L$5:$L$2481='MDOT FTA Detail'!$A111)*(Projects!$K$5:$K$2481))","v":0},0,{"$f":"SUMPRODUCT((Projects!$A$5:$A$2481='MDOT FTA Detail'!$D$3)*(Projects!$L$5:$L$2481='MDOT FTA Detail'!$A111)*(Projects!$Q$5:$Q$2481))","v":0},{"$f":"SUMPRODUCT((Projects!$A$5:$A$2481='MDOT FTA Detail'!$G$3)*(Projects!$L$5:$L$2481='MDOT FTA Detail'!$A111)*(Projects!$K$5:$K$2481))","v":0},0,{"$f":"SUMPRODUCT((Projects!$A$5:$A$2481='MDOT FTA Detail'!$G$3)*(Projects!$L$5:$L$2481='MDOT FTA Detail'!$A111)*(Projects!$Q$5:$Q$2481))","v":0},{"$f":"SUMPRODUCT((Projects!$A$5:$A$2481='MDOT FTA Detail'!$J$3)*(Projects!$L$5:$L$2481='MDOT FTA Detail'!$A111)*(Projects!$K$5:$K$2481))","v":0},0,{"$f":"SUMPRODUCT((Projects!$A$5:$A$2481='MDOT FTA Detail'!$J$3)*(Projects!$L$5:$L$2481='MDOT FTA Detail'!$A111)*(Projects!$Q$5:$Q$2481))","v":0},{"$f":"SUMPRODUCT((Projects!$A$5:$A$2481='MDOT FTA Detail'!$M$3)*(Projects!$L$5:$L$2481='MDOT FTA Detail'!$A111)*(Projects!$K$5:$K$2481))","v":0},0,{"$f":"SUMPRODUCT((Projects!$A$5:$A$2481='MDOT FTA Detail'!$M$3)*(Projects!$L$5:$L$2481='MDOT FTA Detail'!$A111)*(Projects!$Q$5:$Q$2481))","v":0}]
[5309,"Section 5309 - Fixed Guideway Capital Investment Grant","Transit",{"$f":"SUMPRODUCT((Projects!$A$5:$A$2481='MDOT FTA Detail'!$D$3)*(Projects!$L$5:$L$2481='MDOT FTA Detail'!$A112)*(Projects!$K$5:$K$2481))","v":0},0,{"$f":"SUMPRODUCT((Projects!$A$5:$A$2481='MDOT FTA Detail'!$D$3)*(Projects!$L$5:$L$2481='MDOT FTA Detail'!$A112)*(Projects!$Q$5:$Q$2481))","v":0},{"$f":"SUMPRODUCT((Projects!$A$5:$A$2481='MDOT FTA Detail'!$G$3)*(Projects!$L$5:$L$2481='MDOT FTA Detail'!$A112)*(Projects!$K$5:$K$2481))","v":0},0,{"$f":"SUMPRODUCT((Projects!$A$5:$A$2481='MDOT FTA Detail'!$G$3)*(Projects!$L$5:$L$2481='MDOT FTA Detail'!$A112)*(Projects!$Q$5:$Q$2481))","v":0},{"$f":"SUMPRODUCT((Projects!$A$5:$A$2481='MDOT FTA Detail'!$J$3)*(Projects!$L$5:$L$2481='MDOT FTA Detail'!$A112)*(Projects!$K$5:$K$2481))","v":0},0,{"$f":"SUMPRODUCT((Projects!$A$5:$A$2481='MDOT FTA Detail'!$J$3)*(Projects!$L$5:$L$2481='MDOT FTA Detail'!$A112)*(Projects!$Q$5:$Q$2481))","v":0},{"$f":"SUMPRODUCT((Projects!$A$5:$A$2481='MDOT FTA Detail'!$M$3)*(Projects!$L$5:$L$2481='MDOT FTA Detail'!$A112)*(Projects!$K$5:$K$2481))","v":0},0,{"$f":"SUMPRODUCT((Projects!$A$5:$A$2481='MDOT FTA Detail'!$M$3)*(Projects!$L$5:$L$2481='MDOT FTA Detail'!$A112)*(Projects!$Q$5:$Q$2481))","v":0}]
[5310,"Section 5310 - Enhanced Mobility of Seniors and Individuals with Disabilities","Transit",{"$f":"SUMPRODUCT((Projects!$A$5:$A$2481='MDOT FTA Detail'!$D$3)*(Projects!$L$5:$L$2481='MDOT FTA Detail'!$A113)*(Projects!$K$5:$K$2481))","v":0},0,{"$f":"SUMPRODUCT((Projects!$A$5:$A$2481='MDOT FTA Detail'!$D$3)*(Projects!$L$5:$L$2481='MDOT FTA Detail'!$A113)*(Projects!$Q$5:$Q$2481))","v":0},{"$f":"SUMPRODUCT((Projects!$A$5:$A$2481='MDOT FTA Detail'!$G$3)*(Projects!$L$5:$L$2481='MDOT FTA Detail'!$A113)*(Projects!$K$5:$K$2481))","v":0},0,{"$f":"SUMPRODUCT((Projects!$A$5:$A$2481='MDOT FTA Detail'!$G$3)*(Projects!$L$5:$L$2481='MDOT FTA Detail'!$A113)*(Projects!$Q$5:$Q$2481))","v":0},{"$f":"SUMPRODUCT((Projects!$A$5:$A$2481='MDOT FTA Detail'!$J$3)*(Projects!$L$5:$L$2481='MDOT FTA Detail'!$A113)*(Projects!$K$5:$K$2481))","v":0},0,{"$f":"SUMPRODUCT((Projects!$A$5:$A$2481='MDOT FTA Detail'!$J$3)*(Projects!$L$5:$L$2481='MDOT FTA Detail'!$A113)*(Projects!$Q$5:$Q$2481))","v":0},{"$f":"SUMPRODUCT((Projects!$A$5:$A$2481='MDOT FTA Detail'!$M$3)*(Projects!$L$5:$L$2481='MDOT FTA Detail'!$A113)*(Projects!$K$5:$K$2481))","v":0},0,{"$f":"SUMPRODUCT((Projects!$A$5:$A$2481='MDOT FTA Detail'!$M$3)*(Projects!$L$5:$L$2481='MDOT FTA Detail'!$A113)*(Projects!$Q$5:$Q$2481))","v":0}]
[5311,"Section 5311 - Non-UZA ","Transit",{"$f":"SUMPRODUCT((Projects!$A$5:$A$2481='MDOT FTA Detail'!$D$3)*(Projects!$L$5:$L$2481='MDOT FTA Detail'!$A114)*(Projects!$K$5:$K$2481))","v":26030},26030,{"$f":"SUMPRODUCT((Projects!$A$5:$A$2481='MDOT FTA Detail'!$D$3)*(Projects!$L$5:$L$2481='MDOT FTA Detail'!$A114)*(Projects!$Q$5:$Q$2481))","v":52060},{"$f":"SUMPRODUCT((Projects!$A$5:$A$2481='MDOT FTA Detail'!$G$3)*(Projects!$L$5:$L$2481='MDOT FTA Detail'!$A114)*(Projects!$K$5:$K$2481))","v":26030},26030,{"$f":"SUMPRODUCT((Projects!$A$5:$A$2481='MDOT FTA Detail'!$G$3)*(Projects!$L$5:$L$2481='MDOT FTA Detail'!$A114)*(Projects!$Q$5:$Q$2481))","v":52060},{"$f":"SUMPRODUCT((Projects!$A$5:$A$2481='MDOT FTA Detail'!$J$3)*(Projects!$L$5:$L$2481='MDOT FTA Detail'!$A114)*(Projects!$K$5:$K$2481))","v":26030},26030,{"$f":"SUMPRODUCT((Projects!$A$5:$A$2481='MDOT FTA Detail'!$J$3)*(Projects!$L$5:$L$2481='MDOT FTA Detail'!$A114)*(Projects!$Q$5:$Q$2481))","v":52060},{"$f":"SUMPRODUCT((Projects!$A$5:$A$2481='MDOT FTA Detail'!$M$3)*(Projects!$L$5:$L$2481='MDOT FTA Detail'!$A114)*(Projects!$K$5:$K$2481))","v":26030},26030,{"$f":"SUMPRODUCT((Projects!$A$5:$A$2481='MDOT FTA Detail'!$M$3)*(Projects!$L$5:$L$2481='MDOT FTA Detail'!$A114)*(Projects!$Q$5:$Q$2481))","v":52060}]
[5312,"Section 5312 - Research, Development, Demonstration, and Deployment","Transit",{"$f":"SUMPRODUCT((Projects!$A$5:$A$2481='MDOT FTA Detail'!$D$3)*(Projects!$L$5:$L$2481='MDOT FTA Detail'!$A115)*(Projects!$K$5:$K$2481))","v":0},{"$f":"F115-D115","v":0},{"$f":"SUMPRODUCT((Projects!$A$5:$A$2481='MDOT FTA Detail'!$D$3)*(Projects!$L$5:$L$2481='MDOT FTA Detail'!$A115)*(Projects!$Q$5:$Q$2481))","v":0},{"$f":"SUMPRODUCT((Projects!$A$5:$A$2481='MDOT FTA Detail'!$G$3)*(Projects!$L$5:$L$2481='MDOT FTA Detail'!$A115)*(Projects!$K$5:$K$2481))","v":0},{"$f":"I115-G115","v":0},{"$f":"SUMPRODUCT((Projects!$A$5:$A$2481='MDOT FTA Detail'!$G$3)*(Projects!$L$5:$L$2481='MDOT FTA Detail'!$A115)*(Projects!$Q$5:$Q$2481))","v":0},{"$f":"SUMPRODUCT((Projects!$A$5:$A$2481='MDOT FTA Detail'!$J$3)*(Projects!$L$5:$L$2481='MDOT FTA Detail'!$A115)*(Projects!$K$5:$K$2481))","v":0},{"$f":"L115-J115","v":0},{"$f":"SUMPRODUCT((Projects!$A$5:$A$2481='MDOT FTA Detail'!$J$3)*(Projects!$L$5:$L$2481='MDOT FTA Detail'!$A115)*(Projects!$Q$5:$Q$2481))","v":0},{"$f":"SUMPRODUCT((Projects!$A$5:$A$2481='MDOT FTA Detail'!$M$3)*(Projects!$L$5:$L$2481='MDOT FTA Detail'!$A115)*(Projects!$K$5:$K$2481))","v":0},{"$f":"O115-M115","v":0},{"$f":"SUMPRODUCT((Projects!$A$5:$A$2481='MDOT FTA Detail'!$M$3)*(Projects!$L$5:$L$2481='MDOT FTA Detail'!$A115)*(Projects!$Q$5:$Q$2481))","v":0}]
[5313,"Section 5313 - Transit Cooperative Research Program","Transit",{"$f":"SUMPRODUCT((Projects!$A$5:$A$2481='MDOT FTA Detail'!$D$3)*(Projects!$L$5:$L$2481='MDOT FTA Detail'!$A116)*(Projects!$K$5:$K$2481))","v":0},0,{"$f":"SUMPRODUCT((Projects!$A$5:$A$2481='MDOT FTA Detail'!$D$3)*(Projects!$L$5:$L$2481='MDOT FTA Detail'!$A116)*(Projects!$Q$5:$Q$2481))","v":0},{"$f":"SUMPRODUCT((Projects!$A$5:$A$2481='MDOT FTA Detail'!$G$3)*(Projects!$L$5:$L$2481='MDOT FTA Detail'!$A116)*(Projects!$K$5:$K$2481))","v":0},0,{"$f":"SUMPRODUCT((Projects!$A$5:$A$2481='MDOT FTA Detail'!$G$3)*(Projects!$L$5:$L$2481='MDOT FTA Detail'!$A116)*(Projects!$Q$5:$Q$2481))","v":0},{"$f":"SUMPRODUCT((Projects!$A$5:$A$2481='MDOT FTA Detail'!$J$3)*(Projects!$L$5:$L$2481='MDOT FTA Detail'!$A116)*(Projects!$K$5:$K$2481))","v":0},0,{"$f":"SUMPRODUCT((Projects!$A$5:$A$2481='MDOT FTA Detail'!$J$3)*(Projects!$L$5:$L$2481='MDOT FTA Detail'!$A116)*(Projects!$Q$5:$Q$2481))","v":0},{"$f":"SUMPRODUCT((Projects!$A$5:$A$2481='MDOT FTA Detail'!$M$3)*(Projects!$L$5:$L$2481='MDOT FTA Detail'!$A116)*(Projects!$K$5:$K$2481))","v":0},0,{"$f":"SUMPRODUCT((Projects!$A$5:$A$2481='MDOT FTA Detail'!$M$3)*(Projects!$L$5:$L$2481='MDOT FTA Detail'!$A116)*(Projects!$Q$5:$Q$2481))","v":0}]
[5314,"Section 5314 - Technical Assistance and Standards","Transit",{"$f":"SUMPRODUCT((Projects!$A$5:$A$2481='MDOT FTA Detail'!$D$3)*(Projects!$L$5:$L$2481='MDOT FTA Detail'!$A117)*(Projects!$K$5:$K$2481))","v":0},0,{"$f":"SUMPRODUCT((Projects!$A$5:$A$2481='MDOT FTA Detail'!$D$3)*(Projects!$L$5:$L$2481='MDOT FTA Detail'!$A117)*(Projects!$Q$5:$Q$2481))","v":0},{"$f":"SUMPRODUCT((Projects!$A$5:$A$2481='MDOT FTA Detail'!$G$3)*(Projects!$L$5:$L$2481='MDOT FTA Detail'!$A117)*(Projects!$K$5:$K$2481))","v":0},0,{"$f":"SUMPRODUCT((Projects!$A$5:$A$2481='MDOT FTA Detail'!$G$3)*(Projects!$L$5:$L$2481='MDOT FTA Detail'!$A117)*(Projects!$Q$5:$Q$2481))","v":0},{"$f":"SUMPRODUCT((Projects!$A$5:$A$2481='MDOT FTA Detail'!$J$3)*(Projects!$L$5:$L$2481='MDOT FTA Detail'!$A117)*(Projects!$K$5:$K$2481))","v":0},0,{"$f":"SUMPRODUCT((Projects!$A$5:$A$2481='MDOT FTA Detail'!$J$3)*(Projects!$L$5:$L$2481='MDOT FTA Detail'!$A117)*(Projects!$Q$5:$Q$2481))","v":0},{"$f":"SUMPRODUCT((Projects!$A$5:$A$2481='MDOT FTA Detail'!$M$3)*(Projects!$L$5:$L$2481='MDOT FTA Detail'!$A117)*(Projects!$K$5:$K$2481))","v":0},0,{"$f":"SUMPRODUCT((Projects!$A$5:$A$2481='MDOT FTA Detail'!$M$3)*(Projects!$L$5:$L$2481='MDOT FTA Detail'!$A117)*(Projects!$Q$5:$Q$2481))","v":0}]
[5316,"Section 5316 - Transit - Section 5316 - Job Access/Reverse Commute","Transit",{"$f":"SUMPRODUCT((Projects!$A$5:$A$2481='MDOT FTA Detail'!$D$3)*(Projects!$L$5:$L$2481='MDOT FTA Detail'!$A118)*(Projects!$K$5:$K$2481))","v":193000},106000,{"$f":"SUMPRODUCT((Projects!$A$5:$A$2481='MDOT FTA Detail'!$D$3)*(Projects!$L$5:$L$2481='MDOT FTA Detail'!$A118)*(Projects!$Q$5:$Q$2481))","v":299000},{"$f":"SUMPRODUCT((Projects!$A$5:$A$2481='MDOT FTA Detail'!$G$3)*(Projects!$L$5:$L$2481='MDOT FTA Detail'!$A118)*(Projects!$K$5:$K$2481))","v":0},0,{"$f":"SUMPRODUCT((Projects!$A$5:$A$2481='MDOT FTA Detail'!$G$3)*(Projects!$L$5:$L$2481='MDOT FTA Detail'!$A118)*(Projects!$Q$5:$Q$2481))","v":0},{"$f":"SUMPRODUCT((Projects!$A$5:$A$2481='MDOT FTA Detail'!$J$3)*(Projects!$L$5:$L$2481='MDOT FTA Detail'!$A118)*(Projects!$K$5:$K$2481))","v":0},0,{"$f":"SUMPRODUCT((Projects!$A$5:$A$2481='MDOT FTA Detail'!$J$3)*(Projects!$L$5:$L$2481='MDOT FTA Detail'!$A118)*(Projects!$Q$5:$Q$2481))","v":0},{"$f":"SUMPRODUCT((Projects!$A$5:$A$2481='MDOT FTA Detail'!$M$3)*(Projects!$L$5:$L$2481='MDOT FTA Detail'!$A118)*(Projects!$K$5:$K$2481))","v":0},0,{"$f":"SUMPRODUCT((Projects!$A$5:$A$2481='MDOT FTA Detail'!$M$3)*(Projects!$L$5:$L$2481='MDOT FTA Detail'!$A118)*(Projects!$Q$5:$Q$2481))","v":0}]
[5317,"Section 5317 - Transit - Section 5317 - New Freedom Initiative","Transit",{"$f":"SUMPRODUCT((Projects!$A$5:$A$2481='MDOT FTA Detail'!$D$3)*(Projects!$L$5:$L$2481='MDOT FTA Detail'!$A119)*(Projects!$K$5:$K$2481))","v":75000},0,{"$f":"SUMPRODUCT((Projects!$A$5:$A$2481='MDOT FTA Detail'!$D$3)*(Projects!$L$5:$L$2481='MDOT FTA Detail'!$A119)*(Projects!$Q$5:$Q$2481))","v":75000},{"$f":"SUMPRODUCT((Projects!$A$5:$A$2481='MDOT FTA Detail'!$G$3)*(Projects!$L$5:$L$2481='MDOT FTA Detail'!$A119)*(Projects!$K$5:$K$2481))","v":0},0,{"$f":"SUMPRODUCT((Projects!$A$5:$A$2481='MDOT FTA Detail'!$G$3)*(Projects!$L$5:$L$2481='MDOT FTA Detail'!$A119)*(Projects!$Q$5:$Q$2481))","v":0},{"$f":"SUMPRODUCT((Projects!$A$5:$A$2481='MDOT FTA Detail'!$J$3)*(Projects!$L$5:$L$2481='MDOT FTA Detail'!$A119)*(Projects!$K$5:$K$2481))","v":0},0,{"$f":"SUMPRODUCT((Projects!$A$5:$A$2481='MDOT FTA Detail'!$J$3)*(Projects!$L$5:$L$2481='MDOT FTA Detail'!$A119)*(Projects!$Q$5:$Q$2481))","v":0},{"$f":"SUMPRODUCT((Projects!$A$5:$A$2481='MDOT FTA Detail'!$M$3)*(Projects!$L$5:$L$2481='MDOT FTA Detail'!$A119)*(Projects!$K$5:$K$2481))","v":0},0,{"$f":"SUMPRODUCT((Projects!$A$5:$A$2481='MDOT FTA Detail'!$M$3)*(Projects!$L$5:$L$2481='MDOT FTA Detail'!$A119)*(Projects!$Q$5:$Q$2481))","v":0}]
[5320,"Section 5320 - Alternative Transportation in Parks and Public Lands","Transit",{"$f":"SUMPRODUCT((Projects!$A$5:$A$2481='MDOT FTA Detail'!$D$3)*(Projects!$L$5:$L$2481='MDOT FTA Detail'!$A120)*(Projects!$K$5:$K$2481))","v":0},0,{"$f":"SUMPRODUCT((Projects!$A$5:$A$2481='MDOT FTA Detail'!$D$3)*(Projects!$L$5:$L$2481='MDOT FTA Detail'!$A120)*(Projects!$Q$5:$Q$2481))","v":0},{"$f":"SUMPRODUCT((Projects!$A$5:$A$2481='MDOT FTA Detail'!$G$3)*(Projects!$L$5:$L$2481='MDOT FTA Detail'!$A120)*(Projects!$K$5:$K$2481))","v":0},0,{"$f":"SUMPRODUCT((Projects!$A$5:$A$2481='MDOT FTA Detail'!$G$3)*(Projects!$L$5:$L$2481='MDOT FTA Detail'!$A120)*(Projects!$Q$5:$Q$2481))","v":0},{"$f":"SUMPRODUCT((Projects!$A$5:$A$2481='MDOT FTA Detail'!$J$3)*(Projects!$L$5:$L$2481='MDOT FTA Detail'!$A120)*(Projects!$K$5:$K$2481))","v":0},0,{"$f":"SUMPRODUCT((Projects!$A$5:$A$2481='MDOT FTA Detail'!$J$3)*(Projects!$L$5:$L$2481='MDOT FTA Detail'!$A120)*(Projects!$Q$5:$Q$2481))","v":0},{"$f":"SUMPRODUCT((Projects!$A$5:$A$2481='MDOT FTA Detail'!$M$3)*(Projects!$L$5:$L$2481='MDOT FTA Detail'!$A120)*(Projects!$K$5:$K$2481))","v":0},0,{"$f":"SUMPRODUCT((Projects!$A$5:$A$2481='MDOT FTA Detail'!$M$3)*(Projects!$L$5:$L$2481='MDOT FTA Detail'!$A120)*(Projects!$Q$5:$Q$2481))","v":0}]
[5322,"Section 5322 - Human Resources and Training","Transit",{"$f":"SUMPRODUCT((Projects!$A$5:$A$2481='MDOT FTA Detail'!$D$3)*(Projects!$L$5:$L$2481='MDOT FTA Detail'!$A121)*(Projects!$K$5:$K$2481))","v":0},{"$f":"F121-D121","v":0},{"$f":"SUMPRODUCT((Projects!$A$5:$A$2481='MDOT FTA Detail'!$D$3)*(Projects!$L$5:$L$2481='MDOT FTA Detail'!$A121)*(Projects!$Q$5:$Q$2481))","v":0},{"$f":"SUMPRODUCT((Projects!$A$5:$A$2481='MDOT FTA Detail'!$G$3)*(Projects!$L$5:$L$2481='MDOT FTA Detail'!$A121)*(Projects!$K$5:$K$2481))","v":0},{"$f":"I121-G121","v":0},{"$f":"SUMPRODUCT((Projects!$A$5:$A$2481='MDOT FTA Detail'!$G$3)*(Projects!$L$5:$L$2481='MDOT FTA Detail'!$A121)*(Projects!$Q$5:$Q$2481))","v":0},{"$f":"SUMPRODUCT((Projects!$A$5:$A$2481='MDOT FTA Detail'!$J$3)*(Projects!$L$5:$L$2481='MDOT FTA Detail'!$A121)*(Projects!$K$5:$K$2481))","v":0},{"$f":"L121-J121","v":0},{"$f":"SUMPRODUCT((Projects!$A$5:$A$2481='MDOT FTA Detail'!$J$3)*(Projects!$L$5:$L$2481='MDOT FTA Detail'!$A121)*(Projects!$Q$5:$Q$2481))","v":0},{"$f":"SUMPRODUCT((Projects!$A$5:$A$2481='MDOT FTA Detail'!$M$3)*(Projects!$L$5:$L$2481='MDOT FTA Detail'!$A121)*(Projects!$K$5:$K$2481))","v":0},{"$f":"O121-M121","v":0},{"$f":"SUMPRODUCT((Projects!$A$5:$A$2481='MDOT FTA Detail'!$M$3)*(Projects!$L$5:$L$2481='MDOT FTA Detail'!$A121)*(Projects!$Q$5:$Q$2481))","v":0}]
[5324,"Section 5324 - Emergency Relief","Transit",{"$f":"SUMPRODUCT((Projects!$A$5:$A$2481='MDOT FTA Detail'!$D$3)*(Projects!$L$5:$L$2481='MDOT FTA Detail'!$A122)*(Projects!$K$5:$K$2481))","v":0},0,{"$f":"SUMPRODUCT((Projects!$A$5:$A$2481='MDOT FTA Detail'!$D$3)*(Projects!$L$5:$L$2481='MDOT FTA Detail'!$A122)*(Projects!$Q$5:$Q$2481))","v":0},{"$f":"SUMPRODUCT((Projects!$A$5:$A$2481='MDOT FTA Detail'!$G$3)*(Projects!$L$5:$L$2481='MDOT FTA Detail'!$A122)*(Projects!$K$5:$K$2481))","v":0},0,{"$f":"SUMPRODUCT((Projects!$A$5:$A$2481='MDOT FTA Detail'!$G$3)*(Projects!$L$5:$L$2481='MDOT FTA Detail'!$A122)*(Projects!$Q$5:$Q$2481))","v":0},{"$f":"SUMPRODUCT((Projects!$A$5:$A$2481='MDOT FTA Detail'!$J$3)*(Projects!$L$5:$L$2481='MDOT FTA Detail'!$A122)*(Projects!$K$5:$K$2481))","v":0},0,{"$f":"SUMPRODUCT((Projects!$A$5:$A$2481='MDOT FTA Detail'!$J$3)*(Projects!$L$5:$L$2481='MDOT FTA Detail'!$A122)*(Projects!$Q$5:$Q$2481))","v":0},{"$f":"SUMPRODUCT((Projects!$A$5:$A$2481='MDOT FTA Detail'!$M$3)*(Projects!$L$5:$L$2481='MDOT FTA Detail'!$A122)*(Projects!$K$5:$K$2481))","v":0},0,{"$f":"SUMPRODUCT((Projects!$A$5:$A$2481='MDOT FTA Detail'!$M$3)*(Projects!$L$5:$L$2481='MDOT FTA Detail'!$A122)*(Projects!$Q$5:$Q$2481))","v":0}]
[5326,"Section 5326 - Asset Management Provisions","Transit",{"$f":"SUMPRODUCT((Projects!$A$5:$A$2481='MDOT FTA Detail'!$D$3)*(Projects!$L$5:$L$2481='MDOT FTA Detail'!$A123)*(Projects!$K$5:$K$2481))","v":0},0,{"$f":"SUMPRODUCT((Projects!$A$5:$A$2481='MDOT FTA Detail'!$D$3)*(Projects!$L$5:$L$2481='MDOT FTA Detail'!$A123)*(Projects!$Q$5:$Q$2481))","v":0},{"$f":"SUMPRODUCT((Projects!$A$5:$A$2481='MDOT FTA Detail'!$G$3)*(Projects!$L$5:$L$2481='MDOT FTA Detail'!$A123)*(Projects!$K$5:$K$2481))","v":0},0,{"$f":"SUMPRODUCT((Projects!$A$5:$A$2481='MDOT FTA Detail'!$G$3)*(Projects!$L$5:$L$2481='MDOT FTA Detail'!$A123)*(Projects!$Q$5:$Q$2481))","v":0},{"$f":"SUMPRODUCT((Projects!$A$5:$A$2481='MDOT FTA Detail'!$J$3)*(Projects!$L$5:$L$2481='MDOT FTA Detail'!$A123)*(Projects!$K$5:$K$2481))","v":0},0,{"$f":"SUMPRODUCT((Projects!$A$5:$A$2481='MDOT FTA Detail'!$J$3)*(Projects!$L$5:$L$2481='MDOT FTA Detail'!$A123)*(Projects!$Q$5:$Q$2481))","v":0},{"$f":"SUMPRODUCT((Projects!$A$5:$A$2481='MDOT FTA Detail'!$M$3)*(Projects!$L$5:$L$2481='MDOT FTA Detail'!$A123)*(Projects!$K$5:$K$2481))","v":0},0,{"$f":"SUMPRODUCT((Projects!$A$5:$A$2481='MDOT FTA Detail'!$M$3)*(Projects!$L$5:$L$2481='MDOT FTA Detail'!$A123)*(Projects!$Q$5:$Q$2481))","v":0}]
[5329,"Section 5329 - Safety","Transit",{"$f":"SUMPRODUCT((Projects!$A$5:$A$2481='MDOT FTA Detail'!$D$3)*(Projects!$L$5:$L$2481='MDOT FTA Detail'!$A124)*(Projects!$K$5:$K$2481))","v":0},0,{"$f":"SUMPRODUCT((Projects!$A$5:$A$2481='MDOT FTA Detail'!$D$3)*(Projects!$L$5:$L$2481='MDOT FTA Detail'!$A124)*(Projects!$Q$5:$Q$2481))","v":0},{"$f":"SUMPRODUCT((Projects!$A$5:$A$2481='MDOT FTA Detail'!$G$3)*(Projects!$L$5:$L$2481='MDOT FTA Detail'!$A124)*(Projects!$K$5:$K$2481))","v":0},0,{"$f":"SUMPRODUCT((Projects!$A$5:$A$2481='MDOT FTA Detail'!$G$3)*(Projects!$L$5:$L$2481='MDOT FTA Detail'!$A124)*(Projects!$Q$5:$Q$2481))","v":0},{"$f":"SUMPRODUCT((Projects!$A$5:$A$2481='MDOT FTA Detail'!$J$3)*(Projects!$L$5:$L$2481='MDOT FTA Detail'!$A124)*(Projects!$K$5:$K$2481))","v":0},0,{"$f":"SUMPRODUCT((Projects!$A$5:$A$2481='MDOT FTA Detail'!$J$3)*(Projects!$L$5:$L$2481='MDOT FTA Detail'!$A124)*(Projects!$Q$5:$Q$2481))","v":0},{"$f":"SUMPRODUCT((Projects!$A$5:$A$2481='MDOT FTA Detail'!$M$3)*(Projects!$L$5:$L$2481='MDOT FTA Detail'!$A124)*(Projects!$K$5:$K$2481))","v":0},0,{"$f":"SUMPRODUCT((Projects!$A$5:$A$2481='MDOT FTA Detail'!$M$3)*(Projects!$L$5:$L$2481='MDOT FTA Detail'!$A124)*(Projects!$Q$5:$Q$2481))","v":0}]
[5337,"Section 5337 - State of Good Repair Grants","Transit",{"$f":"SUMPRODUCT((Projects!$A$5:$A$2481='MDOT FTA Detail'!$D$3)*(Projects!$L$5:$L$2481='MDOT FTA Detail'!$A125)*(Projects!$K$5:$K$2481))","v":0},0,{"$f":"SUMPRODUCT((Projects!$A$5:$A$2481='MDOT FTA Detail'!$D$3)*(Projects!$L$5:$L$2481='MDOT FTA Detail'!$A125)*(Projects!$Q$5:$Q$2481))","v":0},{"$f":"SUMPRODUCT((Projects!$A$5:$A$2481='MDOT FTA Detail'!$G$3)*(Projects!$L$5:$L$2481='MDOT FTA Detail'!$A125)*(Projects!$K$5:$K$2481))","v":0},0,{"$f":"SUMPRODUCT((Projects!$A$5:$A$2481='MDOT FTA Detail'!$G$3)*(Projects!$L$5:$L$2481='MDOT FTA Detail'!$A125)*(Projects!$Q$5:$Q$2481))","v":0},{"$f":"SUMPRODUCT((Projects!$A$5:$A$2481='MDOT FTA Detail'!$J$3)*(Projects!$L$5:$L$2481='MDOT FTA Detail'!$A125)*(Projects!$K$5:$K$2481))","v":0},0,{"$f":"SUMPRODUCT((Projects!$A$5:$A$2481='MDOT FTA Detail'!$J$3)*(Projects!$L$5:$L$2481='MDOT FTA Detail'!$A125)*(Projects!$Q$5:$Q$2481))","v":0},{"$f":"SUMPRODUCT((Projects!$A$5:$A$2481='MDOT FTA Detail'!$M$3)*(Projects!$L$5:$L$2481='MDOT FTA Detail'!$A125)*(Projects!$K$5:$K$2481))","v":0},0,{"$f":"SUMPRODUCT((Projects!$A$5:$A$2481='MDOT FTA Detail'!$M$3)*(Projects!$L$5:$L$2481='MDOT FTA Detail'!$A125)*(Projects!$Q$5:$Q$2481))","v":0}]
[5339,"Section 5339 - Bus and Bus Facilities","Transit",{"$f":"SUMPRODUCT((Projects!$A$5:$A$2481='MDOT FTA Detail'!$D$3)*(Projects!$L$5:$L$2481='MDOT FTA Detail'!$A126)*(Projects!$K$5:$K$2481))","v":0},{"$f":"F126-D126","v":0},{"$f":"SUMPRODUCT((Projects!$A$5:$A$2481='MDOT FTA Detail'!$D$3)*(Projects!$L$5:$L$2481='MDOT FTA Detail'!$A126)*(Projects!$Q$5:$Q$2481))","v":0},{"$f":"SUMPRODUCT((Projects!$A$5:$A$2481='MDOT FTA Detail'!$G$3)*(Projects!$L$5:$L$2481='MDOT FTA Detail'!$A126)*(Projects!$K$5:$K$2481))","v":0},{"$f":"I126-G126","v":0},{"$f":"SUMPRODUCT((Projects!$A$5:$A$2481='MDOT FTA Detail'!$G$3)*(Projects!$L$5:$L$2481='MDOT FTA Detail'!$A126)*(Projects!$Q$5:$Q$2481))","v":0},{"$f":"SUMPRODUCT((Projects!$A$5:$A$2481='MDOT FTA Detail'!$J$3)*(Projects!$L$5:$L$2481='MDOT FTA Detail'!$A126)*(Projects!$K$5:$K$2481))","v":0},{"$f":"L126-J126","v":0},{"$f":"SUMPRODUCT((Projects!$A$5:$A$2481='MDOT FTA Detail'!$J$3)*(Projects!$L$5:$L$2481='MDOT FTA Detail'!$A126)*(Projects!$Q$5:$Q$2481))","v":0},{"$f":"SUMPRODUCT((Projects!$A$5:$A$2481='MDOT FTA Detail'!$M$3)*(Projects!$L$5:$L$2481='MDOT FTA Detail'!$A126)*(Projects!$K$5:$K$2481))","v":0},{"$f":"O126-M126","v":0},{"$f":"SUMPRODUCT((Projects!$A$5:$A$2481='MDOT FTA Detail'!$M$3)*(Projects!$L$5:$L$2481='MDOT FTA Detail'!$A126)*(Projects!$Q$5:$Q$2481))","v":0}]
[5505,"Section 5505 - University Transportation Centers Program","Transit",{"$f":"SUMPRODUCT((Projects!$A$5:$A$2481='MDOT FTA Detail'!$D$3)*(Projects!$L$5:$L$2481='MDOT FTA Detail'!$A127)*(Projects!$K$5:$K$2481))","v":0},0,{"$f":"SUMPRODUCT((Projects!$A$5:$A$2481='MDOT FTA Detail'!$D$3)*(Projects!$L$5:$L$2481='MDOT FTA Detail'!$A127)*(Projects!$Q$5:$Q$2481))","v":0},{"$f":"SUMPRODUCT((Projects!$A$5:$A$2481='MDOT FTA Detail'!$G$3)*(Projects!$L$5:$L$2481='MDOT FTA Detail'!$A127)*(Projects!$K$5:$K$2481))","v":0},0,{"$f":"SUMPRODUCT((Projects!$A$5:$A$2481='MDOT FTA Detail'!$G$3)*(Projects!$L$5:$L$2481='MDOT FTA Detail'!$A127)*(Projects!$Q$5:$Q$2481))","v":0},{"$f":"SUMPRODUCT((Projects!$A$5:$A$2481='MDOT FTA Detail'!$J$3)*(Projects!$L$5:$L$2481='MDOT FTA Detail'!$A127)*(Projects!$K$5:$K$2481))","v":0},0,{"$f":"SUMPRODUCT((Projects!$A$5:$A$2481='MDOT FTA Detail'!$J$3)*(Projects!$L$5:$L$2481='MDOT FTA Detail'!$A127)*(Projects!$Q$5:$Q$2481))","v":0},{"$f":"SUMPRODUCT((Projects!$A$5:$A$2481='MDOT FTA Detail'!$M$3)*(Projects!$L$5:$L$2481='MDOT FTA Detail'!$A127)*(Projects!$K$5:$K$2481))","v":0},0,{"$f":"SUMPRODUCT((Projects!$A$5:$A$2481='MDOT FTA Detail'!$M$3)*(Projects!$L$5:$L$2481='MDOT FTA Detail'!$A127)*(Projects!$Q$5:$Q$2481))","v":0}]
["CTF","Comprehensive Transit Fund","Transit","No FF",{"$f":"SUMPRODUCT((Projects!$A$5:$A$2481='MDOT FTA Detail'!$D$3)*(Projects!$K$5:$K$2481=0)*(Projects!$C$5:$C$2481='MDOT FTA Detail'!$C$4)*(Projects!$N$5:$N$2481='MDOT FTA Detail'!$A128)*(Projects!$J$5:$J$2481<>'MDOT FTA Detail'!$A$159)*(Projects!$M$5:$M$2481))","v":0},{"$f":"E128","v":0},"No FF",{"$f":"SUMPRODUCT((Projects!$A$5:$A$2481='MDOT FTA Detail'!$G$3)*(Projects!$K$5:$K$2481=0)*(Projects!$C$5:$C$2481='MDOT FTA Detail'!$C$4)*(Projects!$N$5:$N$2481='MDOT FTA Detail'!$A128)*(Projects!$J$5:$J$2481<>'MDOT FTA Detail'!$A$159)*(Projects!$M$5:$M$2481))","v":0},{"$f":"H128","v":0},"No FF",{"$f":"SUMPRODUCT((Projects!$A$5:$A$2481='MDOT FTA Detail'!$J$3)*(Projects!$K$5:$K$2481=0)*(Projects!$C$5:$C$2481='MDOT FTA Detail'!$C$4)*(Projects!$N$5:$N$2481='MDOT FTA Detail'!$A128)*(Projects!$J$5:$J$2481<>'MDOT FTA Detail'!$A$159)*(Projects!$M$5:$M$2481))","v":0},{"$f":"K128","v":0},"No FF",{"$f":"SUMPRODUCT((Projects!$A$5:$A$2481='MDOT FTA Detail'!$M$3)*(Projects!$K$5:$K$2481=0)*(Projects!$C$5:$C$2481='MDOT FTA Detail'!$C$4)*(Projects!$N$5:$N$2481='MDOT FTA Detail'!$A128)*(Projects!$J$5:$J$2481<>'MDOT FTA Detail'!$A$159)*(Projects!$M$5:$M$2481))","v":0},{"$f":"N128","v":0}]
["BI04","Build Michigan Bond Issue 2004","MDOT M","No FF",{"$f":"SUMPRODUCT((Projects!$A$5:$A$2481='MDOT FTA Detail'!$D$3)*(Projects!$K$5:$K$2481=0)*(Projects!$C$5:$C$2481='MDOT FTA Detail'!$C$4)*(Projects!$N$5:$N$2481='MDOT FTA Detail'!$A129)*(Projects!$J$5:$J$2481<>'MDOT FTA Detail'!$A$159)*(Projects!$M$5:$M$2481))","v":0},0,"No FF",{"$f":"SUMPRODUCT((Projects!$A$5:$A$2481='MDOT FTA Detail'!$G$3)*(Projects!$K$5:$K$2481=0)*(Projects!$C$5:$C$2481='MDOT FTA Detail'!$C$4)*(Projects!$N$5:$N$2481='MDOT FTA Detail'!$A129)*(Projects!$J$5:$J$2481<>'MDOT FTA Detail'!$A$159)*(Projects!$M$5:$M$2481))","v":0},0,"No FF",{"$f":"SUMPRODUCT((Projects!$A$5:$A$2481='MDOT FTA Detail'!$J$3)*(Projects!$K$5:$K$2481=0)*(Projects!$C$5:$C$2481='MDOT FTA Detail'!$C$4)*(Projects!$N$5:$N$2481='MDOT FTA Detail'!$A129)*(Projects!$J$5:$J$2481<>'MDOT FTA Detail'!$A$159)*(Projects!$M$5:$M$2481))","v":0},0,"No FF",{"$f":"SUMPRODUCT((Projects!$A$5:$A$2481='MDOT FTA Detail'!$M$3)*(Projects!$K$5:$K$2481=0)*(Projects!$C$5:$C$2481='MDOT FTA Detail'!$C$4)*(Projects!$N$5:$N$2481='MDOT FTA Detail'!$A129)*(Projects!$J$5:$J$2481<>'MDOT FTA Detail'!$A$159)*(Projects!$M$5:$M$2481))","v":0},0]
["BI06","Build Michigan Bond Issue 2006","MDOT M","No FF",{"$f":"SUMPRODUCT((Projects!$A$5:$A$2481='MDOT FTA Detail'!$D$3)*(Projects!$K$5:$K$2481=0)*(Projects!$C$5:$C$2481='MDOT FTA Detail'!$C$4)*(Projects!$N$5:$N$2481='MDOT FTA Detail'!$A130)*(Projects!$J$5:$J$2481<>'MDOT FTA Detail'!$A$159)*(Projects!$M$5:$M$2481))","v":0},0,"No FF",{"$f":"SUMPRODUCT((Projects!$A$5:$A$2481='MDOT FTA Detail'!$G$3)*(Projects!$K$5:$K$2481=0)*(Projects!$C$5:$C$2481='MDOT FTA Detail'!$C$4)*(Projects!$N$5:$N$2481='MDOT FTA Detail'!$A130)*(Projects!$J$5:$J$2481<>'MDOT FTA Detail'!$A$159)*(Projects!$M$5:$M$2481))","v":0},0,"No FF",{"$f":"SUMPRODUCT((Projects!$A$5:$A$2481='MDOT FTA Detail'!$J$3)*(Projects!$K$5:$K$2481=0)*(Projects!$C$5:$C$2481='MDOT FTA Detail'!$C$4)*(Projects!$N$5:$N$2481='MDOT FTA Detail'!$A130)*(Projects!$J$5:$J$2481<>'MDOT FTA Detail'!$A$159)*(Projects!$M$5:$M$2481))","v":0},0,"No FF",{"$f":"SUMPRODUCT((Projects!$A$5:$A$2481='MDOT FTA Detail'!$M$3)*(Projects!$K$5:$K$2481=0)*(Projects!$C$5:$C$2481='MDOT FTA Detail'!$C$4)*(Projects!$N$5:$N$2481='MDOT FTA Detail'!$A130)*(Projects!$J$5:$J$2481<>'MDOT FTA Detail'!$A$159)*(Projects!$M$5:$M$2481))","v":0},0]
["BI08","Build Michigan Bond Issue 2008","MDOT M","No FF",{"$f":"SUMPRODUCT((Projects!$A$5:$A$2481='MDOT FTA Detail'!$D$3)*(Projects!$K$5:$K$2481=0)*(Projects!$C$5:$C$2481='MDOT FTA Detail'!$C$4)*(Projects!$N$5:$N$2481='MDOT FTA Detail'!$A131)*(Projects!$J$5:$J$2481<>'MDOT FTA Detail'!$A$159)*(Projects!$M$5:$M$2481))","v":0},0,"No FF",{"$f":"SUMPRODUCT((Projects!$A$5:$A$2481='MDOT FTA Detail'!$G$3)*(Projects!$K$5:$K$2481=0)*(Projects!$C$5:$C$2481='MDOT FTA Detail'!$C$4)*(Projects!$N$5:$N$2481='MDOT FTA Detail'!$A131)*(Projects!$J$5:$J$2481<>'MDOT FTA Detail'!$A$159)*(Projects!$M$5:$M$2481))","v":0},0,"No FF",{"$f":"SUMPRODUCT((Projects!$A$5:$A$2481='MDOT FTA Detail'!$J$3)*(Projects!$K$5:$K$2481=0)*(Projects!$C$5:$C$2481='MDOT FTA Detail'!$C$4)*(Projects!$N$5:$N$2481='MDOT FTA Detail'!$A131)*(Projects!$J$5:$J$2481<>'MDOT FTA Detail'!$A$159)*(Projects!$M$5:$M$2481))","v":0},0,"No FF",{"$f":"SUMPRODUCT((Projects!$A$5:$A$2481='MDOT FTA Detail'!$M$3)*(Projects!$K$5:$K$2481=0)*(Projects!$C$5:$C$2481='MDOT FTA Detail'!$C$4)*(Projects!$N$5:$N$2481='MDOT FTA Detail'!$A131)*(Projects!$J$5:$J$2481<>'MDOT FTA Detail'!$A$159)*(Projects!$M$5:$M$2481))","v":0},0]
["BT01","Bond Trunkline Roads for First Issue","MDOT M","No FF",{"$f":"SUMPRODUCT((Projects!$A$5:$A$2481='MDOT FTA Detail'!$D$3)*(Projects!$K$5:$K$2481=0)*(Projects!$C$5:$C$2481='MDOT FTA Detail'!$C$4)*(Projects!$N$5:$N$2481='MDOT FTA Detail'!$A132)*(Projects!$J$5:$J$2481<>'MDOT FTA Detail'!$A$159)*(Projects!$M$5:$M$2481))","v":0},0,"No FF",{"$f":"SUMPRODUCT((Projects!$A$5:$A$2481='MDOT FTA Detail'!$G$3)*(Projects!$K$5:$K$2481=0)*(Projects!$C$5:$C$2481='MDOT FTA Detail'!$C$4)*(Projects!$N$5:$N$2481='MDOT FTA Detail'!$A132)*(Projects!$J$5:$J$2481<>'MDOT FTA Detail'!$A$159)*(Projects!$M$5:$M$2481))","v":0},0,"No FF",{"$f":"SUMPRODUCT((Projects!$A$5:$A$2481='MDOT FTA Detail'!$J$3)*(Projects!$K$5:$K$2481=0)*(Projects!$C$5:$C$2481='MDOT FTA Detail'!$C$4)*(Projects!$N$5:$N$2481='MDOT FTA Detail'!$A132)*(Projects!$J$5:$J$2481<>'MDOT FTA Detail'!$A$159)*(Projects!$M$5:$M$2481))","v":0},0,"No FF",{"$f":"SUMPRODUCT((Projects!$A$5:$A$2481='MDOT FTA Detail'!$M$3)*(Projects!$K$5:$K$2481=0)*(Projects!$C$5:$C$2481='MDOT FTA Detail'!$C$4)*(Projects!$N$5:$N$2481='MDOT FTA Detail'!$A132)*(Projects!$J$5:$J$2481<>'MDOT FTA Detail'!$A$159)*(Projects!$M$5:$M$2481))","v":0},0]
["EDA","Economic Development - Category A","MDOT M","No FF",{"$f":"SUMPRODUCT((Projects!$A$5:$A$2481='MDOT FTA Detail'!$D$3)*(Projects!$K$5:$K$2481=0)*(Projects!$C$5:$C$2481='MDOT FTA Detail'!$C$4)*(Projects!$N$5:$N$2481='MDOT FTA Detail'!$A133)*(Projects!$J$5:$J$2481<>'MDOT FTA Detail'!$A$159)*(Projects!$M$5:$M$2481))","v":0},0,"No FF",{"$f":"SUMPRODUCT((Projects!$A$5:$A$2481='MDOT FTA Detail'!$G$3)*(Projects!$K$5:$K$2481=0)*(Projects!$C$5:$C$2481='MDOT FTA Detail'!$C$4)*(Projects!$N$5:$N$2481='MDOT FTA Detail'!$A133)*(Projects!$J$5:$J$2481<>'MDOT FTA Detail'!$A$159)*(Projects!$M$5:$M$2481))","v":0},0,"No FF",{"$f":"SUMPRODUCT((Projects!$A$5:$A$2481='MDOT FTA Detail'!$J$3)*(Projects!$K$5:$K$2481=0)*(Projects!$C$5:$C$2481='MDOT FTA Detail'!$C$4)*(Projects!$N$5:$N$2481='MDOT FTA Detail'!$A133)*(Projects!$J$5:$J$2481<>'MDOT FTA Detail'!$A$159)*(Projects!$M$5:$M$2481))","v":0},0,"No FF",{"$f":"SUMPRODUCT((Projects!$A$5:$A$2481='MDOT FTA Detail'!$M$3)*(Projects!$K$5:$K$2481=0)*(Projects!$C$5:$C$2481='MDOT FTA Detail'!$C$4)*(Projects!$N$5:$N$2481='MDOT FTA Detail'!$A133)*(Projects!$J$5:$J$2481<>'MDOT FTA Detail'!$A$159)*(Projects!$M$5:$M$2481))","v":0},0]
["EDC","Economic Development - Category C","MDOT M","No FF",{"$f":"SUMPRODUCT((Projects!$A$5:$A$2481='MDOT FTA Detail'!$D$3)*(Projects!$K$5:$K$2481=0)*(Projects!$C$5:$C$2481='MDOT FTA Detail'!$C$4)*(Projects!$N$5:$N$2481='MDOT FTA Detail'!$A134)*(Projects!$J$5:$J$2481<>'MDOT FTA Detail'!$A$159)*(Projects!$M$5:$M$2481))","v":0},0,"No FF",{"$f":"SUMPRODUCT((Projects!$A$5:$A$2481='MDOT FTA Detail'!$G$3)*(Projects!$K$5:$K$2481=0)*(Projects!$C$5:$C$2481='MDOT FTA Detail'!$C$4)*(Projects!$N$5:$N$2481='MDOT FTA Detail'!$A134)*(Projects!$J$5:$J$2481<>'MDOT FTA Detail'!$A$159)*(Projects!$M$5:$M$2481))","v":0},0,"No FF",{"$f":"SUMPRODUCT((Projects!$A$5:$A$2481='MDOT FTA Detail'!$J$3)*(Projects!$K$5:$K$2481=0)*(Projects!$C$5:$C$2481='MDOT FTA Detail'!$C$4)*(Projects!$N$5:$N$2481='MDOT FTA Detail'!$A134)*(Projects!$J$5:$J$2481<>'MDOT FTA Detail'!$A$159)*(Projects!$M$5:$M$2481))","v":0},0,"No FF",{"$f":"SUMPRODUCT((Projects!$A$5:$A$2481='MDOT FTA Detail'!$M$3)*(Projects!$K$5:$K$2481=0)*(Projects!$C$5:$C$2481='MDOT FTA Detail'!$C$4)*(Projects!$N$5:$N$2481='MDOT FTA Detail'!$A134)*(Projects!$J$5:$J$2481<>'MDOT FTA Detail'!$A$159)*(Projects!$M$5:$M$2481))","v":0},0]
["EDD","Economic Development - Category D","MDOT M","No FF",{"$f":"SUMPRODUCT((Projects!$A$5:$A$2481='MDOT FTA Detail'!$D$3)*(Projects!$K$5:$K$2481=0)*(Projects!$C$5:$C$2481='MDOT FTA Detail'!$C$4)*(Projects!$N$5:$N$2481='MDOT FTA Detail'!$A135)*(Projects!$J$5:$J$2481<>'MDOT FTA Detail'!$A$159)*(Projects!$M$5:$M$2481))","v":0},0,"No FF",{"$f":"SUMPRODUCT((Projects!$A$5:$A$2481='MDOT FTA Detail'!$G$3)*(Projects!$K$5:$K$2481=0)*(Projects!$C$5:$C$2481='MDOT FTA Detail'!$C$4)*(Projects!$N$5:$N$2481='MDOT FTA Detail'!$A135)*(Projects!$J$5:$J$2481<>'MDOT FTA Detail'!$A$159)*(Projects!$M$5:$M$2481))","v":0},0,"No FF",{"$f":"SUMPRODUCT((Projects!$A$5:$A$2481='MDOT FTA Detail'!$J$3)*(Projects!$K$5:$K$2481=0)*(Projects!$C$5:$C$2481='MDOT FTA Detail'!$C$4)*(Projects!$N$5:$N$2481='MDOT FTA Detail'!$A135)*(Projects!$J$5:$J$2481<>'MDOT FTA Detail'!$A$159)*(Projects!$M$5:$M$2481))","v":0},0,"No FF",{"$f":"SUMPRODUCT((Projects!$A$5:$A$2481='MDOT FTA Detail'!$M$3)*(Projects!$K$5:$K$2481=0)*(Projects!$C$5:$C$2481='MDOT FTA Detail'!$C$4)*(Projects!$N$5:$N$2481='MDOT FTA Detail'!$A135)*(Projects!$J$5:$J$2481<>'MDOT FTA Detail'!$A$159)*(Projects!$M$5:$M$2481))","v":0},0]
["EDF","Economic Development - Category F","MDOT M","No FF",{"$f":"SUMPRODUCT((Projects!$A$5:$A$2481='MDOT FTA Detail'!$D$3)*(Projects!$K$5:$K$2481=0)*(Projects!$C$5:$C$2481='MDOT FTA Detail'!$C$4)*(Projects!$N$5:$N$2481='MDOT FTA Detail'!$A136)*(Projects!$J$5:$J$2481<>'MDOT FTA Detail'!$A$159)*(Projects!$M$5:$M$2481))","v":0},0,"No FF",{"$f":"SUMPRODUCT((Projects!$A$5:$A$2481='MDOT FTA Detail'!$G$3)*(Projects!$K$5:$K$2481=0)*(Projects!$C$5:$C$2481='MDOT FTA Detail'!$C$4)*(Projects!$N$5:$N$2481='MDOT FTA Detail'!$A136)*(Projects!$J$5:$J$2481<>'MDOT FTA Detail'!$A$159)*(Projects!$M$5:$M$2481))","v":0},0,"No FF",{"$f":"SUMPRODUCT((Projects!$A$5:$A$2481='MDOT FTA Detail'!$J$3)*(Projects!$K$5:$K$2481=0)*(Projects!$C$5:$C$2481='MDOT FTA Detail'!$C$4)*(Projects!$N$5:$N$2481='MDOT FTA Detail'!$A136)*(Projects!$J$5:$J$2481<>'MDOT FTA Detail'!$A$159)*(Projects!$M$5:$M$2481))","v":0},0,"No FF",{"$f":"SUMPRODUCT((Projects!$A$5:$A$2481='MDOT FTA Detail'!$M$3)*(Projects!$K$5:$K$2481=0)*(Projects!$C$5:$C$2481='MDOT FTA Detail'!$C$4)*(Projects!$N$5:$N$2481='MDOT FTA Detail'!$A136)*(Projects!$J$5:$J$2481<>'MDOT FTA Detail'!$A$159)*(Projects!$M$5:$M$2481))","v":0},0]
["JT07","Jobs Today Bond Issue 2007 GARVEE (State AC for Federal GARVEE Bonds)","MDOT M","No FF",{"$f":"SUMPRODUCT((Projects!$A$5:$A$2481='MDOT FTA Detail'!$D$3)*(Projects!$K$5:$K$2481=0)*(Projects!$C$5:$C$2481='MDOT FTA Detail'!$C$4)*(Projects!$N$5:$N$2481='MDOT FTA Detail'!$A137)*(Projects!$J$5:$J$2481<>'MDOT FTA Detail'!$A$159)*(Projects!$M$5:$M$2481))","v":0},0,"No FF",{"$f":"SUMPRODUCT((Projects!$A$5:$A$2481='MDOT FTA Detail'!$G$3)*(Projects!$K$5:$K$2481=0)*(Projects!$C$5:$C$2481='MDOT FTA Detail'!$C$4)*(Projects!$N$5:$N$2481='MDOT FTA Detail'!$A137)*(Projects!$J$5:$J$2481<>'MDOT FTA Detail'!$A$159)*(Projects!$M$5:$M$2481))","v":0},0,"No FF",{"$f":"SUMPRODUCT((Projects!$A$5:$A$2481='MDOT FTA Detail'!$J$3)*(Projects!$K$5:$K$2481=0)*(Projects!$C$5:$C$2481='MDOT FTA Detail'!$C$4)*(Projects!$N$5:$N$2481='MDOT FTA Detail'!$A137)*(Projects!$J$5:$J$2481<>'MDOT FTA Detail'!$A$159)*(Projects!$M$5:$M$2481))","v":0},0,"No FF",{"$f":"SUMPRODUCT((Projects!$A$5:$A$2481='MDOT FTA Detail'!$M$3)*(Projects!$K$5:$K$2481=0)*(Projects!$C$5:$C$2481='MDOT FTA Detail'!$C$4)*(Projects!$N$5:$N$2481='MDOT FTA Detail'!$A137)*(Projects!$J$5:$J$2481<>'MDOT FTA Detail'!$A$159)*(Projects!$M$5:$M$2481))","v":0},0]
["LFMP","Local Fund Match Program - 100% Local","MDOT M","No FF",{"$f":"SUMPRODUCT((Projects!$A$5:$A$2481='MDOT FTA Detail'!$D$3)*(Projects!$K$5:$K$2481=0)*(Projects!$C$5:$C$2481='MDOT FTA Detail'!$C$4)*(Projects!$N$5:$N$2481='MDOT FTA Detail'!$A138)*(Projects!$J$5:$J$2481<>'MDOT FTA Detail'!$A$159)*(Projects!$M$5:$M$2481))","v":0},0,"No FF",{"$f":"SUMPRODUCT((Projects!$A$5:$A$2481='MDOT FTA Detail'!$G$3)*(Projects!$K$5:$K$2481=0)*(Projects!$C$5:$C$2481='MDOT FTA Detail'!$C$4)*(Projects!$N$5:$N$2481='MDOT FTA Detail'!$A138)*(Projects!$J$5:$J$2481<>'MDOT FTA Detail'!$A$159)*(Projects!$M$5:$M$2481))","v":0},0,"No FF",{"$f":"SUMPRODUCT((Projects!$A$5:$A$2481='MDOT FTA Detail'!$J$3)*(Projects!$K$5:$K$2481=0)*(Projects!$C$5:$C$2481='MDOT FTA Detail'!$C$4)*(Projects!$N$5:$N$2481='MDOT FTA Detail'!$A138)*(Projects!$J$5:$J$2481<>'MDOT FTA Detail'!$A$159)*(Projects!$M$5:$M$2481))","v":0},0,"No FF",{"$f":"SUMPRODUCT((Projects!$A$5:$A$2481='MDOT FTA Detail'!$M$3)*(Projects!$K$5:$K$2481=0)*(Projects!$C$5:$C$2481='MDOT FTA Detail'!$C$4)*(Projects!$N$5:$N$2481='MDOT FTA Detail'!$A138)*(Projects!$J$5:$J$2481<>'MDOT FTA Detail'!$A$159)*(Projects!$M$5:$M$2481))","v":0},0]
["M","State Funds - Michigan Betterment","MDOT M","No FF",{"$f":"SUMPRODUCT((Projects!$A$5:$A$2481='MDOT FTA Detail'!$D$3)*(Projects!$K$5:$K$2481=0)*(Projects!$C$5:$C$2481='MDOT FTA Detail'!$C$4)*(Projects!$N$5:$N$2481='MDOT FTA Detail'!$A139)*(Projects!$J$5:$J$2481<>'MDOT FTA Detail'!$A$159)*(Projects!$M$5:$M$2481))","v":0},0,"No FF",{"$f":"SUMPRODUCT((Projects!$A$5:$A$2481='MDOT FTA Detail'!$G$3)*(Projects!$K$5:$K$2481=0)*(Projects!$C$5:$C$2481='MDOT FTA Detail'!$C$4)*(Projects!$N$5:$N$2481='MDOT FTA Detail'!$A139)*(Projects!$J$5:$J$2481<>'MDOT FTA Detail'!$A$159)*(Projects!$M$5:$M$2481))","v":0},0,"No FF",{"$f":"SUMPRODUCT((Projects!$A$5:$A$2481='MDOT FTA Detail'!$J$3)*(Projects!$K$5:$K$2481=0)*(Projects!$C$5:$C$2481='MDOT FTA Detail'!$C$4)*(Projects!$N$5:$N$2481='MDOT FTA Detail'!$A139)*(Projects!$J$5:$J$2481<>'MDOT FTA Detail'!$A$159)*(Projects!$M$5:$M$2481))","v":0},0,"No FF",{"$f":"SUMPRODUCT((Projects!$A$5:$A$2481='MDOT FTA Detail'!$M$3)*(Projects!$K$5:$K$2481=0)*(Projects!$C$5:$C$2481='MDOT FTA Detail'!$C$4)*(Projects!$N$5:$N$2481='MDOT FTA Detail'!$A139)*(Projects!$J$5:$J$2481<>'MDOT FTA Detail'!$A$159)*(Projects!$M$5:$M$2481))","v":0},0]
["MBS","Michigan Budget Stabilization","MDOT M","No FF",{"$f":"SUMPRODUCT((Projects!$A$5:$A$2481='MDOT FTA Detail'!$D$3)*(Projects!$K$5:$K$2481=0)*(Projects!$C$5:$C$2481='MDOT FTA Detail'!$C$4)*(Projects!$N$5:$N$2481='MDOT FTA Detail'!$A140)*(Projects!$J$5:$J$2481<>'MDOT FTA Detail'!$A$159)*(Projects!$M$5:$M$2481))","v":0},0,"No FF",{"$f":"SUMPRODUCT((Projects!$A$5:$A$2481='MDOT FTA Detail'!$G$3)*(Projects!$K$5:$K$2481=0)*(Projects!$C$5:$C$2481='MDOT FTA Detail'!$C$4)*(Projects!$N$5:$N$2481='MDOT FTA Detail'!$A140)*(Projects!$J$5:$J$2481<>'MDOT FTA Detail'!$A$159)*(Projects!$M$5:$M$2481))","v":0},0,"No FF",{"$f":"SUMPRODUCT((Projects!$A$5:$A$2481='MDOT FTA Detail'!$J$3)*(Projects!$K$5:$K$2481=0)*(Projects!$C$5:$C$2481='MDOT FTA Detail'!$C$4)*(Projects!$N$5:$N$2481='MDOT FTA Detail'!$A140)*(Projects!$J$5:$J$2481<>'MDOT FTA Detail'!$A$159)*(Projects!$M$5:$M$2481))","v":0},0,"No FF",{"$f":"SUMPRODUCT((Projects!$A$5:$A$2481='MDOT FTA Detail'!$M$3)*(Projects!$K$5:$K$2481=0)*(Projects!$C$5:$C$2481='MDOT FTA Detail'!$C$4)*(Projects!$N$5:$N$2481='MDOT FTA Detail'!$A140)*(Projects!$J$5:$J$2481<>'MDOT FTA Detail'!$A$159)*(Projects!$M$5:$M$2481))","v":0},0]
["MBWB","Michigan Blue Water Bridge","MDOT M","No FF",{"$f":"SUMPRODUCT((Projects!$A$5:$A$2481='MDOT FTA Detail'!$D$3)*(Projects!$K$5:$K$2481=0)*(Projects!$C$5:$C$2481='MDOT FTA Detail'!$C$4)*(Projects!$N$5:$N$2481='MDOT FTA Detail'!$A141)*(Projects!$J$5:$J$2481<>'MDOT FTA Detail'!$A$159)*(Projects!$M$5:$M$2481))","v":0},0,"No FF",{"$f":"SUMPRODUCT((Projects!$A$5:$A$2481='MDOT FTA Detail'!$G$3)*(Projects!$K$5:$K$2481=0)*(Projects!$C$5:$C$2481='MDOT FTA Detail'!$C$4)*(Projects!$N$5:$N$2481='MDOT FTA Detail'!$A141)*(Projects!$J$5:$J$2481<>'MDOT FTA Detail'!$A$159)*(Projects!$M$5:$M$2481))","v":0},0,"No FF",{"$f":"SUMPRODUCT((Projects!$A$5:$A$2481='MDOT FTA Detail'!$J$3)*(Projects!$K$5:$K$2481=0)*(Projects!$C$5:$C$2481='MDOT FTA Detail'!$C$4)*(Projects!$N$5:$N$2481='MDOT FTA Detail'!$A141)*(Projects!$J$5:$J$2481<>'MDOT FTA Detail'!$A$159)*(Projects!$M$5:$M$2481))","v":0},0,"No FF",{"$f":"SUMPRODUCT((Projects!$A$5:$A$2481='MDOT FTA Detail'!$M$3)*(Projects!$K$5:$K$2481=0)*(Projects!$C$5:$C$2481='MDOT FTA Detail'!$C$4)*(Projects!$N$5:$N$2481='MDOT FTA Detail'!$A141)*(Projects!$J$5:$J$2481<>'MDOT FTA Detail'!$A$159)*(Projects!$M$5:$M$2481))","v":0},0]
["MCS","State Funds - Critical Structures","MDOT M","No FF",{"$f":"SUMPRODUCT((Projects!$A$5:$A$2481='MDOT FTA Detail'!$D$3)*(Projects!$K$5:$K$2481=0)*(Projects!$C$5:$C$2481='MDOT FTA Detail'!$C$4)*(Projects!$N$5:$N$2481='MDOT FTA Detail'!$A142)*(Projects!$J$5:$J$2481<>'MDOT FTA Detail'!$A$159)*(Projects!$M$5:$M$2481))","v":0},0,"No FF",{"$f":"SUMPRODUCT((Projects!$A$5:$A$2481='MDOT FTA Detail'!$G$3)*(Projects!$K$5:$K$2481=0)*(Projects!$C$5:$C$2481='MDOT FTA Detail'!$C$4)*(Projects!$N$5:$N$2481='MDOT FTA Detail'!$A142)*(Projects!$J$5:$J$2481<>'MDOT FTA Detail'!$A$159)*(Projects!$M$5:$M$2481))","v":0},0,"No FF",{"$f":"SUMPRODUCT((Projects!$A$5:$A$2481='MDOT FTA Detail'!$J$3)*(Projects!$K$5:$K$2481=0)*(Projects!$C$5:$C$2481='MDOT FTA Detail'!$C$4)*(Projects!$N$5:$N$2481='MDOT FTA Detail'!$A142)*(Projects!$J$5:$J$2481<>'MDOT FTA Detail'!$A$159)*(Projects!$M$5:$M$2481))","v":0},0,"No FF",{"$f":"SUMPRODUCT((Projects!$A$5:$A$2481='MDOT FTA Detail'!$M$3)*(Projects!$K$5:$K$2481=0)*(Projects!$C$5:$C$2481='MDOT FTA Detail'!$C$4)*(Projects!$N$5:$N$2481='MDOT FTA Detail'!$A142)*(Projects!$J$5:$J$2481<>'MDOT FTA Detail'!$A$159)*(Projects!$M$5:$M$2481))","v":0},0]
["MDA","Drainage Assessment","MDOT M","No FF",{"$f":"SUMPRODUCT((Projects!$A$5:$A$2481='MDOT FTA Detail'!$D$3)*(Projects!$K$5:$K$2481=0)*(Projects!$C$5:$C$2481='MDOT FTA Detail'!$C$4)*(Projects!$N$5:$N$2481='MDOT FTA Detail'!$A143)*(Projects!$J$5:$J$2481<>'MDOT FTA Detail'!$A$159)*(Projects!$M$5:$M$2481))","v":0},0,"No FF",{"$f":"SUMPRODUCT((Projects!$A$5:$A$2481='MDOT FTA Detail'!$G$3)*(Projects!$K$5:$K$2481=0)*(Projects!$C$5:$C$2481='MDOT FTA Detail'!$C$4)*(Projects!$N$5:$N$2481='MDOT FTA Detail'!$A143)*(Projects!$J$5:$J$2481<>'MDOT FTA Detail'!$A$159)*(Projects!$M$5:$M$2481))","v":0},0,"No FF",{"$f":"SUMPRODUCT((Projects!$A$5:$A$2481='MDOT FTA Detail'!$J$3)*(Projects!$K$5:$K$2481=0)*(Projects!$C$5:$C$2481='MDOT FTA Detail'!$C$4)*(Projects!$N$5:$N$2481='MDOT FTA Detail'!$A143)*(Projects!$J$5:$J$2481<>'MDOT FTA Detail'!$A$159)*(Projects!$M$5:$M$2481))","v":0},0,"No FF",{"$f":"SUMPRODUCT((Projects!$A$5:$A$2481='MDOT FTA Detail'!$M$3)*(Projects!$K$5:$K$2481=0)*(Projects!$C$5:$C$2481='MDOT FTA Detail'!$C$4)*(Projects!$N$5:$N$2481='MDOT FTA Detail'!$A143)*(Projects!$J$5:$J$2481<>'MDOT FTA Detail'!$A$159)*(Projects!$M$5:$M$2481))","v":0},0]
["MER","Emergency Program","MDOT M","No FF",{"$f":"SUMPRODUCT((Projects!$A$5:$A$2481='MDOT FTA Detail'!$D$3)*(Projects!$K$5:$K$2481=0)*(Projects!$C$5:$C$2481='MDOT FTA Detail'!$C$4)*(Projects!$N$5:$N$2481='MDOT FTA Detail'!$A144)*(Projects!$J$5:$J$2481<>'MDOT FTA Detail'!$A$159)*(Projects!$M$5:$M$2481))","v":0},0,"No FF",{"$f":"SUMPRODUCT((Projects!$A$5:$A$2481='MDOT FTA Detail'!$G$3)*(Projects!$K$5:$K$2481=0)*(Projects!$C$5:$C$2481='MDOT FTA Detail'!$C$4)*(Projects!$N$5:$N$2481='MDOT FTA Detail'!$A144)*(Projects!$J$5:$J$2481<>'MDOT FTA Detail'!$A$159)*(Projects!$M$5:$M$2481))","v":0},0,"No FF",{"$f":"SUMPRODUCT((Projects!$A$5:$A$2481='MDOT FTA Detail'!$J$3)*(Projects!$K$5:$K$2481=0)*(Projects!$C$5:$C$2481='MDOT FTA Detail'!$C$4)*(Projects!$N$5:$N$2481='MDOT FTA Detail'!$A144)*(Projects!$J$5:$J$2481<>'MDOT FTA Detail'!$A$159)*(Projects!$M$5:$M$2481))","v":0},0,"No FF",{"$f":"SUMPRODUCT((Projects!$A$5:$A$2481='MDOT FTA Detail'!$M$3)*(Projects!$K$5:$K$2481=0)*(Projects!$C$5:$C$2481='MDOT FTA Detail'!$C$4)*(Projects!$N$5:$N$2481='MDOT FTA Detail'!$A144)*(Projects!$J$5:$J$2481<>'MDOT FTA Detail'!$A$159)*(Projects!$M$5:$M$2481))","v":0},0]
["MIR","State Funds - Institutional Roads","MDOT M","No FF",{"$f":"SUMPRODUCT((Projects!$A$5:$A$2481='MDOT FTA Detail'!$D$3)*(Projects!$K$5:$K$2481=0)*(Projects!$C$5:$C$2481='MDOT FTA Detail'!$C$4)*(Projects!$N$5:$N$2481='MDOT FTA Detail'!$A145)*(Projects!$J$5:$J$2481<>'MDOT FTA Detail'!$A$159)*(Projects!$M$5:$M$2481))","v":0},0,"No FF",{"$f":"SUMPRODUCT((Projects!$A$5:$A$2481='MDOT FTA Detail'!$G$3)*(Projects!$K$5:$K$2481=0)*(Projects!$C$5:$C$2481='MDOT FTA Detail'!$C$4)*(Projects!$N$5:$N$2481='MDOT FTA Detail'!$A145)*(Projects!$J$5:$J$2481<>'MDOT FTA Detail'!$A$159)*(Projects!$M$5:$M$2481))","v":0},0,"No FF",{"$f":"SUMPRODUCT((Projects!$A$5:$A$2481='MDOT FTA Detail'!$J$3)*(Projects!$K$5:$K$2481=0)*(Projects!$C$5:$C$2481='MDOT FTA Detail'!$C$4)*(Projects!$N$5:$N$2481='MDOT FTA Detail'!$A145)*(Projects!$J$5:$J$2481<>'MDOT FTA Detail'!$A$159)*(Projects!$M$5:$M$2481))","v":0},0,"No FF",{"$f":"SUMPRODUCT((Projects!$A$5:$A$2481='MDOT FTA Detail'!$M$3)*(Projects!$K$5:$K$2481=0)*(Projects!$C$5:$C$2481='MDOT FTA Detail'!$C$4)*(Projects!$N$5:$N$2481='MDOT FTA Detail'!$A145)*(Projects!$J$5:$J$2481<>'MDOT FTA Detail'!$A$159)*(Projects!$M$5:$M$2481))","v":0},0]
["MRR","Michigan Railroad","MDOT M","No FF",{"$f":"SUMPRODUCT((Projects!$A$5:$A$2481='MDOT FTA Detail'!$D$3)*(Projects!$K$5:$K$2481=0)*(Projects!$C$5:$C$2481='MDOT FTA Detail'!$C$4)*(Projects!$N$5:$N$2481='MDOT FTA Detail'!$A146)*(Projects!$J$5:$J$2481<>'MDOT FTA Detail'!$A$159)*(Projects!$M$5:$M$2481))","v":0},0,"No FF",{"$f":"SUMPRODUCT((Projects!$A$5:$A$2481='MDOT FTA Detail'!$G$3)*(Projects!$K$5:$K$2481=0)*(Projects!$C$5:$C$2481='MDOT FTA Detail'!$C$4)*(Projects!$N$5:$N$2481='MDOT FTA Detail'!$A146)*(Projects!$J$5:$J$2481<>'MDOT FTA Detail'!$A$159)*(Projects!$M$5:$M$2481))","v":0},0,"No FF",{"$f":"SUMPRODUCT((Projects!$A$5:$A$2481='MDOT FTA Detail'!$J$3)*(Projects!$K$5:$K$2481=0)*(Projects!$C$5:$C$2481='MDOT FTA Detail'!$C$4)*(Projects!$N$5:$N$2481='MDOT FTA Detail'!$A146)*(Projects!$J$5:$J$2481<>'MDOT FTA Detail'!$A$159)*(Projects!$M$5:$M$2481))","v":0},0,"No FF",{"$f":"SUMPRODUCT((Projects!$A$5:$A$2481='MDOT FTA Detail'!$M$3)*(Projects!$K$5:$K$2481=0)*(Projects!$C$5:$C$2481='MDOT FTA Detail'!$C$4)*(Projects!$N$5:$N$2481='MDOT FTA Detail'!$A146)*(Projects!$J$5:$J$2481<>'MDOT FTA Detail'!$A$159)*(Projects!$M$5:$M$2481))","v":0},0]
["MRRF","Michigan Revolving Real Estate Fund","MDOT M","No FF",{"$f":"SUMPRODUCT((Projects!$A$5:$A$2481='MDOT FTA Detail'!$D$3)*(Projects!$K$5:$K$2481=0)*(Projects!$C$5:$C$2481='MDOT FTA Detail'!$C$4)*(Projects!$N$5:$N$2481='MDOT FTA Detail'!$A147)*(Projects!$J$5:$J$2481<>'MDOT FTA Detail'!$A$159)*(Projects!$M$5:$M$2481))","v":0},0,"No FF",{"$f":"SUMPRODUCT((Projects!$A$5:$A$2481='MDOT FTA Detail'!$G$3)*(Projects!$K$5:$K$2481=0)*(Projects!$C$5:$C$2481='MDOT FTA Detail'!$C$4)*(Projects!$N$5:$N$2481='MDOT FTA Detail'!$A147)*(Projects!$J$5:$J$2481<>'MDOT FTA Detail'!$A$159)*(Projects!$M$5:$M$2481))","v":0},0,"No FF",{"$f":"SUMPRODUCT((Projects!$A$5:$A$2481='MDOT FTA Detail'!$J$3)*(Projects!$K$5:$K$2481=0)*(Projects!$C$5:$C$2481='MDOT FTA Detail'!$C$4)*(Projects!$N$5:$N$2481='MDOT FTA Detail'!$A147)*(Projects!$J$5:$J$2481<>'MDOT FTA Detail'!$A$159)*(Projects!$M$5:$M$2481))","v":0},0,"No FF",{"$f":"SUMPRODUCT((Projects!$A$5:$A$2481='MDOT FTA Detail'!$M$3)*(Projects!$K$5:$K$2481=0)*(Projects!$C$5:$C$2481='MDOT FTA Detail'!$C$4)*(Projects!$N$5:$N$2481='MDOT FTA Detail'!$A147)*(Projects!$J$5:$J$2481<>'MDOT FTA Detail'!$A$159)*(Projects!$M$5:$M$2481))","v":0},0]
["MS","Safety Program","MDOT M","No FF",{"$f":"SUMPRODUCT((Projects!$A$5:$A$2481='MDOT FTA Detail'!$D$3)*(Projects!$K$5:$K$2481=0)*(Projects!$C$5:$C$2481='MDOT FTA Detail'!$C$4)*(Projects!$N$5:$N$2481='MDOT FTA Detail'!$A148)*(Projects!$J$5:$J$2481<>'MDOT FTA Detail'!$A$159)*(Projects!$M$5:$M$2481))","v":0},0,"No FF",{"$f":"SUMPRODUCT((Projects!$A$5:$A$2481='MDOT FTA Detail'!$G$3)*(Projects!$K$5:$K$2481=0)*(Projects!$C$5:$C$2481='MDOT FTA Detail'!$C$4)*(Projects!$N$5:$N$2481='MDOT FTA Detail'!$A148)*(Projects!$J$5:$J$2481<>'MDOT FTA Detail'!$A$159)*(Projects!$M$5:$M$2481))","v":0},0,"No FF",{"$f":"SUMPRODUCT((Projects!$A$5:$A$2481='MDOT FTA Detail'!$J$3)*(Projects!$K$5:$K$2481=0)*(Projects!$C$5:$C$2481='MDOT FTA Detail'!$C$4)*(Projects!$N$5:$N$2481='MDOT FTA Detail'!$A148)*(Projects!$J$5:$J$2481<>'MDOT FTA Detail'!$A$159)*(Projects!$M$5:$M$2481))","v":0},0,"No FF",{"$f":"SUMPRODUCT((Projects!$A$5:$A$2481='MDOT FTA Detail'!$M$3)*(Projects!$K$5:$K$2481=0)*(Projects!$C$5:$C$2481='MDOT FTA Detail'!$C$4)*(Projects!$N$5:$N$2481='MDOT FTA Detail'!$A148)*(Projects!$J$5:$J$2481<>'MDOT FTA Detail'!$A$159)*(Projects!$M$5:$M$2481))","v":0},0]
["MTB","Turnback Program","MDOT M","No FF",{"$f":"SUMPRODUCT((Projects!$A$5:$A$2481='MDOT FTA Detail'!$D$3)*(Projects!$K$5:$K$2481=0)*(Projects!$C$5:$C$2481='MDOT FTA Detail'!$C$4)*(Projects!$N$5:$N$2481='MDOT FTA Detail'!$A149)*(Projects!$J$5:$J$2481<>'MDOT FTA Detail'!$A$159)*(Projects!$M$5:$M$2481))","v":0},0,"No FF",{"$f":"SUMPRODUCT((Projects!$A$5:$A$2481='MDOT FTA Detail'!$G$3)*(Projects!$K$5:$K$2481=0)*(Projects!$C$5:$C$2481='MDOT FTA Detail'!$C$4)*(Projects!$N$5:$N$2481='MDOT FTA Detail'!$A149)*(Projects!$J$5:$J$2481<>'MDOT FTA Detail'!$A$159)*(Projects!$M$5:$M$2481))","v":0},0,"No FF",{"$f":"SUMPRODUCT((Projects!$A$5:$A$2481='MDOT FTA Detail'!$J$3)*(Projects!$K$5:$K$2481=0)*(Projects!$C$5:$C$2481='MDOT FTA Detail'!$C$4)*(Projects!$N$5:$N$2481='MDOT FTA Detail'!$A149)*(Projects!$J$5:$J$2481<>'MDOT FTA Detail'!$A$159)*(Projects!$M$5:$M$2481))","v":0},0,"No FF",{"$f":"SUMPRODUCT((Projects!$A$5:$A$2481='MDOT FTA Detail'!$M$3)*(Projects!$K$5:$K$2481=0)*(Projects!$C$5:$C$2481='MDOT FTA Detail'!$C$4)*(Projects!$N$5:$N$2481='MDOT FTA Detail'!$A149)*(Projects!$J$5:$J$2481<>'MDOT FTA Detail'!$A$159)*(Projects!$M$5:$M$2481))","v":0},0]
["SIBG","100% State Infrastructure Bank","MDOT M","No FF",{"$f":"SUMPRODUCT((Projects!$A$5:$A$2481='MDOT FTA Detail'!$D$3)*(Projects!$K$5:$K$2481=0)*(Projects!$C$5:$C$2481='MDOT FTA Detail'!$C$4)*(Projects!$N$5:$N$2481='MDOT FTA Detail'!$A150)*(Projects!$J$5:$J$2481<>'MDOT FTA Detail'!$A$159)*(Projects!$M$5:$M$2481))","v":0},0,"No FF",{"$f":"SUMPRODUCT((Projects!$A$5:$A$2481='MDOT FTA Detail'!$G$3)*(Projects!$K$5:$K$2481=0)*(Projects!$C$5:$C$2481='MDOT FTA Detail'!$C$4)*(Projects!$N$5:$N$2481='MDOT FTA Detail'!$A150)*(Projects!$J$5:$J$2481<>'MDOT FTA Detail'!$A$159)*(Projects!$M$5:$M$2481))","v":0},0,"No FF",{"$f":"SUMPRODUCT((Projects!$A$5:$A$2481='MDOT FTA Detail'!$J$3)*(Projects!$K$5:$K$2481=0)*(Projects!$C$5:$C$2481='MDOT FTA Detail'!$C$4)*(Projects!$N$5:$N$2481='MDOT FTA Detail'!$A150)*(Projects!$J$5:$J$2481<>'MDOT FTA Detail'!$A$159)*(Projects!$M$5:$M$2481))","v":0},0,"No FF",{"$f":"SUMPRODUCT((Projects!$A$5:$A$2481='MDOT FTA Detail'!$M$3)*(Projects!$K$5:$K$2481=0)*(Projects!$C$5:$C$2481='MDOT FTA Detail'!$C$4)*(Projects!$N$5:$N$2481='MDOT FTA Detail'!$A150)*(Projects!$J$5:$J$2481<>'MDOT FTA Detail'!$A$159)*(Projects!$M$5:$M$2481))","v":0},0]
["CITY","Local - City (Specify city in Comments)","MDOT M","No FF",{"$f":"SUMPRODUCT((Projects!$A$5:$A$2481='MDOT FTA Detail'!$D$3)*(Projects!$K$5:$K$2481=0)*(Projects!$C$5:$C$2481='MDOT FTA Detail'!$C$4)*(Projects!$P$5:$P$2481='MDOT FTA Detail'!$A151)*(Projects!$J$5:$J$2481<>'MDOT FTA Detail'!$A$159)*(Projects!$O$5:$O$2481))","v":0},0,"No FF",{"$f":"SUMPRODUCT((Projects!$A$5:$A$2481='MDOT FTA Detail'!$G$3)*(Projects!$K$5:$K$2481=0)*(Projects!$C$5:$C$2481='MDOT FTA Detail'!$C$4)*(Projects!$P$5:$P$2481='MDOT FTA Detail'!$A151)*(Projects!$J$5:$J$2481<>'MDOT FTA Detail'!$A$159)*(Projects!$O$5:$O$2481))","v":0},0,"No FF",{"$f":"SUMPRODUCT((Projects!$A$5:$A$2481='MDOT FTA Detail'!$J$3)*(Projects!$K$5:$K$2481=0)*(Projects!$C$5:$C$2481='MDOT FTA Detail'!$C$4)*(Projects!$P$5:$P$2481='MDOT FTA Detail'!$A151)*(Projects!$J$5:$J$2481<>'MDOT FTA Detail'!$A$159)*(Projects!$O$5:$O$2481))","v":0},0,"No FF",{"$f":"SUMPRODUCT((Projects!$A$5:$A$2481='MDOT FTA Detail'!$M$3)*(Projects!$K$5:$K$2481=0)*(Projects!$C$5:$C$2481='MDOT FTA Detail'!$C$4)*(Projects!$P$5:$P$2481='MDOT FTA Detail'!$A151)*(Projects!$J$5:$J$2481<>'MDOT FTA Detail'!$A$159)*(Projects!$O$5:$O$2481))","v":0},0]
["CNTY","Local - County (Specify county in Comments) ","MDOT M","No FF",{"$f":"SUMPRODUCT((Projects!$A$5:$A$2481='MDOT FTA Detail'!$D$3)*(Projects!$K$5:$K$2481=0)*(Projects!$C$5:$C$2481='MDOT FTA Detail'!$C$4)*(Projects!$P$5:$P$2481='MDOT FTA Detail'!$A152)*(Projects!$J$5:$J$2481<>'MDOT FTA Detail'!$A$159)*(Projects!$O$5:$O$2481))","v":0},0,"No FF",{"$f":"SUMPRODUCT((Projects!$A$5:$A$2481='MDOT FTA Detail'!$G$3)*(Projects!$K$5:$K$2481=0)*(Projects!$C$5:$C$2481='MDOT FTA Detail'!$C$4)*(Projects!$P$5:$P$2481='MDOT FTA Detail'!$A152)*(Projects!$J$5:$J$2481<>'MDOT FTA Detail'!$A$159)*(Projects!$O$5:$O$2481))","v":0},0,"No FF",{"$f":"SUMPRODUCT((Projects!$A$5:$A$2481='MDOT FTA Detail'!$J$3)*(Projects!$K$5:$K$2481=0)*(Projects!$C$5:$C$2481='MDOT FTA Detail'!$C$4)*(Projects!$P$5:$P$2481='MDOT FTA Detail'!$A152)*(Projects!$J$5:$J$2481<>'MDOT FTA Detail'!$A$159)*(Projects!$O$5:$O$2481))","v":0},0,"No FF",{"$f":"SUMPRODUCT((Projects!$A$5:$A$2481='MDOT FTA Detail'!$M$3)*(Projects!$K$5:$K$2481=0)*(Projects!$C$5:$C$2481='MDOT FTA Detail'!$C$4)*(Projects!$P$5:$P$2481='MDOT FTA Detail'!$A152)*(Projects!$J$5:$J$2481<>'MDOT FTA Detail'!$A$159)*(Projects!$O$5:$O$2481))","v":0},0]
["OLF","Other Local Funds (Specify local fund source in Comments) ","MDOT M","No FF",{"$f":"SUMPRODUCT((Projects!$A$5:$A$2481='MDOT FTA Detail'!$D$3)*(Projects!$K$5:$K$2481=0)*(Projects!$C$5:$C$2481='MDOT FTA Detail'!$C$4)*(Projects!$P$5:$P$2481='MDOT FTA Detail'!$A153)*(Projects!$J$5:$J$2481<>'MDOT FTA Detail'!$A$159)*(Projects!$O$5:$O$2481))","v":0},0,"No FF",{"$f":"SUMPRODUCT((Projects!$A$5:$A$2481='MDOT FTA Detail'!$G$3)*(Projects!$K$5:$K$2481=0)*(Projects!$C$5:$C$2481='MDOT FTA Detail'!$C$4)*(Projects!$P$5:$P$2481='MDOT FTA Detail'!$A153)*(Projects!$J$5:$J$2481<>'MDOT FTA Detail'!$A$159)*(Projects!$O$5:$O$2481))","v":0},0,"No FF",{"$f":"SUMPRODUCT((Projects!$A$5:$A$2481='MDOT FTA Detail'!$J$3)*(Projects!$K$5:$K$2481=0)*(Projects!$C$5:$C$2481='MDOT FTA Detail'!$C$4)*(Projects!$P$5:$P$2481='MDOT FTA Detail'!$A153)*(Projects!$J$5:$J$2481<>'MDOT FTA Detail'!$A$159)*(Projects!$O$5:$O$2481))","v":0},0,"No FF",{"$f":"SUMPRODUCT((Projects!$A$5:$A$2481='MDOT FTA Detail'!$M$3)*(Projects!$K$5:$K$2481=0)*(Projects!$C$5:$C$2481='MDOT FTA Detail'!$C$4)*(Projects!$P$5:$P$2481='MDOT FTA Detail'!$A153)*(Projects!$J$5:$J$2481<>'MDOT FTA Detail'!$A$159)*(Projects!$O$5:$O$2481))","v":0},0]
["PRVT","Private (Non-governmental)","MDOT M","No FF",{"$f":"SUMPRODUCT((Projects!$A$5:$A$2481='MDOT FTA Detail'!$D$3)*(Projects!$K$5:$K$2481=0)*(Projects!$C$5:$C$2481='MDOT FTA Detail'!$C$4)*(Projects!$P$5:$P$2481='MDOT FTA Detail'!$A154)*(Projects!$J$5:$J$2481<>'MDOT FTA Detail'!$A$159)*(Projects!$O$5:$O$2481))","v":0},0,"No FF",{"$f":"SUMPRODUCT((Projects!$A$5:$A$2481='MDOT FTA Detail'!$G$3)*(Projects!$K$5:$K$2481=0)*(Projects!$C$5:$C$2481='MDOT FTA Detail'!$C$4)*(Projects!$P$5:$P$2481='MDOT FTA Detail'!$A154)*(Projects!$J$5:$J$2481<>'MDOT FTA Detail'!$A$159)*(Projects!$O$5:$O$2481))","v":0},0,"No FF",{"$f":"SUMPRODUCT((Projects!$A$5:$A$2481='MDOT FTA Detail'!$J$3)*(Projects!$K$5:$K$2481=0)*(Projects!$C$5:$C$2481='MDOT FTA Detail'!$C$4)*(Projects!$P$5:$P$2481='MDOT FTA Detail'!$A154)*(Projects!$J$5:$J$2481<>'MDOT FTA Detail'!$A$159)*(Projects!$O$5:$O$2481))","v":0},0,"No FF",{"$f":"SUMPRODUCT((Projects!$A$5:$A$2481='MDOT FTA Detail'!$M$3)*(Projects!$K$5:$K$2481=0)*(Projects!$C$5:$C$2481='MDOT FTA Detail'!$C$4)*(Projects!$P$5:$P$2481='MDOT FTA Detail'!$A154)*(Projects!$J$5:$J$2481<>'MDOT FTA Detail'!$A$159)*(Projects!$O$5:$O$2481))","v":0},0]
["TRAL","Local - Transit Authority Funds (Specify transit authority in Comments)","MDOT M","No FF",{"$f":"SUMPRODUCT((Projects!$A$5:$A$2481='MDOT FTA Detail'!$D$3)*(Projects!$K$5:$K$2481=0)*(Projects!$C$5:$C$2481='MDOT FTA Detail'!$C$4)*(Projects!$P$5:$P$2481='MDOT FTA Detail'!$A155)*(Projects!$J$5:$J$2481<>'MDOT FTA Detail'!$A$159)*(Projects!$O$5:$O$2481))","v":0},0,"No FF",{"$f":"SUMPRODUCT((Projects!$A$5:$A$2481='MDOT FTA Detail'!$G$3)*(Projects!$K$5:$K$2481=0)*(Projects!$C$5:$C$2481='MDOT FTA Detail'!$C$4)*(Projects!$P$5:$P$2481='MDOT FTA Detail'!$A155)*(Projects!$J$5:$J$2481<>'MDOT FTA Detail'!$A$159)*(Projects!$O$5:$O$2481))","v":0},0,"No FF",{"$f":"SUMPRODUCT((Projects!$A$5:$A$2481='MDOT FTA Detail'!$J$3)*(Projects!$K$5:$K$2481=0)*(Projects!$C$5:$C$2481='MDOT FTA Detail'!$C$4)*(Projects!$P$5:$P$2481='MDOT FTA Detail'!$A155)*(Projects!$J$5:$J$2481<>'MDOT FTA Detail'!$A$159)*(Projects!$O$5:$O$2481))","v":0},0,"No FF",{"$f":"SUMPRODUCT((Projects!$A$5:$A$2481='MDOT FTA Detail'!$M$3)*(Projects!$K$5:$K$2481=0)*(Projects!$C$5:$C$2481='MDOT FTA Detail'!$C$4)*(Projects!$P$5:$P$2481='MDOT FTA Detail'!$A155)*(Projects!$J$5:$J$2481<>'MDOT FTA Detail'!$A$159)*(Projects!$O$5:$O$2481))","v":0},0]
["TWP","Local - Township (Specify township in Comments)","MDOT M","No FF",{"$f":"SUMPRODUCT((Projects!$A$5:$A$2481='MDOT FTA Detail'!$D$3)*(Projects!$K$5:$K$2481=0)*(Projects!$C$5:$C$2481='MDOT FTA Detail'!$C$4)*(Projects!$P$5:$P$2481='MDOT FTA Detail'!$A156)*(Projects!$J$5:$J$2481<>'MDOT FTA Detail'!$A$159)*(Projects!$O$5:$O$2481))","v":0},0,"No FF",{"$f":"SUMPRODUCT((Projects!$A$5:$A$2481='MDOT FTA Detail'!$G$3)*(Projects!$K$5:$K$2481=0)*(Projects!$C$5:$C$2481='MDOT FTA Detail'!$C$4)*(Projects!$P$5:$P$2481='MDOT FTA Detail'!$A156)*(Projects!$J$5:$J$2481<>'MDOT FTA Detail'!$A$159)*(Projects!$O$5:$O$2481))","v":0},0,"No FF",{"$f":"SUMPRODUCT((Projects!$A$5:$A$2481='MDOT FTA Detail'!$J$3)*(Projects!$K$5:$K$2481=0)*(Projects!$C$5:$C$2481='MDOT FTA Detail'!$C$4)*(Projects!$P$5:$P$2481='MDOT FTA Detail'!$A156)*(Projects!$J$5:$J$2481<>'MDOT FTA Detail'!$A$159)*(Projects!$O$5:$O$2481))","v":0},0,"No FF",{"$f":"SUMPRODUCT((Projects!$A$5:$A$2481='MDOT FTA Detail'!$M$3)*(Projects!$K$5:$K$2481=0)*(Projects!$C$5:$C$2481='MDOT FTA Detail'!$C$4)*(Projects!$P$5:$P$2481='MDOT FTA Detail'!$A156)*(Projects!$J$5:$J$2481<>'MDOT FTA Detail'!$A$159)*(Projects!$O$5:$O$2481))","v":0},0]
["VLG","Local - Village (Specify village in Comments)","MDOT M","No FF",{"$f":"SUMPRODUCT((Projects!$A$5:$A$2481='MDOT FTA Detail'!$D$3)*(Projects!$K$5:$K$2481=0)*(Projects!$C$5:$C$2481='MDOT FTA Detail'!$C$4)*(Projects!$P$5:$P$2481='MDOT FTA Detail'!$A157)*(Projects!$J$5:$J$2481<>'MDOT FTA Detail'!$A$159)*(Projects!$O$5:$O$2481))","v":0},0,"No FF",{"$f":"SUMPRODUCT((Projects!$A$5:$A$2481='MDOT FTA Detail'!$G$3)*(Projects!$K$5:$K$2481=0)*(Projects!$C$5:$C$2481='MDOT FTA Detail'!$C$4)*(Projects!$P$5:$P$2481='MDOT FTA Detail'!$A157)*(Projects!$J$5:$J$2481<>'MDOT FTA Detail'!$A$159)*(Projects!$O$5:$O$2481))","v":0},0,"No FF",{"$f":"SUMPRODUCT((Projects!$A$5:$A$2481='MDOT FTA Detail'!$J$3)*(Projects!$K$5:$K$2481=0)*(Projects!$C$5:$C$2481='MDOT FTA Detail'!$C$4)*(Projects!$P$5:$P$2481='MDOT FTA Detail'!$A157)*(Projects!$J$5:$J$2481<>'MDOT FTA Detail'!$A$159)*(Projects!$O$5:$O$2481))","v":0},0,"No FF",{"$f":"SUMPRODUCT((Projects!$A$5:$A$2481='MDOT FTA Detail'!$M$3)*(Projects!$K$5:$K$2481=0)*(Projects!$C$5:$C$2481='MDOT FTA Detail'!$C$4)*(Projects!$P$5:$P$2481='MDOT FTA Detail'!$A157)*(Projects!$J$5:$J$2481<>'MDOT FTA Detail'!$A$159)*(Projects!$O$5:$O$2481))","v":0},0]
[]
["AC","MDOT AC Projects","MDOT AC",{"$f":"SUMPRODUCT((Projects!$A$5:$A$2481='MDOT FTA Detail'!$D$3)*(Projects!$C$5:$C$2481='MDOT FTA Detail'!$C$4)*(Projects!$J$5:$J$2481='MDOT FTA Detail'!$A$159)*(Projects!$K$5:$K$2481))","v":0},{"$f":"F159-D159","v":0},{"$f":"SUMPRODUCT((Projects!$A$5:$A$2481='MDOT FTA Detail'!$D$3)*(Projects!$C$5:$C$2481='MDOT FTA Detail'!$C$4)*(Projects!$J$5:$J$2481='MDOT FTA Detail'!$A$159)*(Projects!$Q$5:$Q$2481))","v":0},{"$f":"SUMPRODUCT((Projects!$A$5:$A$2481='MDOT FTA Detail'!$G$3)*(Projects!$C$5:$C$2481='MDOT FTA Detail'!$C$4)*(Projects!$J$5:$J$2481='MDOT FTA Detail'!$A$159)*(Projects!$K$5:$K$2481))","v":0},{"$f":"I159-G159","v":0},{"$f":"SUMPRODUCT((Projects!$A$5:$A$2481='MDOT FTA Detail'!$G$3)*(Projects!$C$5:$C$2481='MDOT FTA Detail'!$C$4)*(Projects!$J$5:$J$2481='MDOT FTA Detail'!$A$159)*(Projects!$Q$5:$Q$2481))","v":0},{"$f":"SUMPRODUCT((Projects!$A$5:$A$2481='MDOT FTA Detail'!$J$3)*(Projects!$C$5:$C$2481='MDOT FTA Detail'!$C$4)*(Projects!$J$5:$J$2481='MDOT FTA Detail'!$A$159)*(Projects!$K$5:$K$2481))","v":0},{"$f":"L159-J159","v":0},{"$f":"SUMPRODUCT((Projects!$A$5:$A$2481='MDOT FTA Detail'!$J$3)*(Projects!$C$5:$C$2481='MDOT FTA Detail'!$C$4)*(Projects!$J$5:$J$2481='MDOT FTA Detail'!$A$159)*(Projects!$Q$5:$Q$2481))","v":0},{"$f":"SUMPRODUCT((Projects!$A$5:$A$2481='MDOT FTA Detail'!$M$3)*(Projects!$C$5:$C$2481='MDOT FTA Detail'!$C$4)*(Projects!$J$5:$J$2481='MDOT FTA Detail'!$A$159)*(Projects!$K$5:$K$2481))","v":0},{"$f":"O159-M159","v":0},{"$f":"SUMPRODUCT((Projects!$A$5:$A$2481='MDOT FTA Detail'!$M$3)*(Projects!$C$5:$C$2481='MDOT FTA Detail'!$C$4)*(Projects!$J$5:$J$2481='MDOT FTA Detail'!$A$159)*(Projects!$Q$5:$Q$2481))","v":0}]

{"sheet":"Local Detail","index":9,"n_rows":136,"n_cols":15,"rows_kept":136,"cut":false,"hidden":false,"merged":[[2,3,2,5],[2,6,2,8],[2,9,2,11],[2,12,2,14]]}
[]
[]
[null,null,null,2014,null,null,2015,null,null,2016,null,null,2017]
["Fund","Fund Sources","Local Program","Proposed Federal Commitments","Proposed Non-Federal Commitments","Total Proposed Commitments","Proposed Federal Commitments","Proposed Non-Federal Commitments","Total Proposed Commitments","Proposed Federal Commitments","Proposed Non-Federal Commitments","Total Proposed Commitments","Proposed Federal Commitments","Proposed Non-Federal Commitments","Total Proposed Commitments"]
[]
["BHI","Bridge Rehabilitation - Prior 1991 - Interstate","Local Bridge",{"$f":"SUMPRODUCT((Projects!$A$5:$A$2481='Local Detail'!$D$3)*(Projects!$C$5:$C$2481<>'MDOT FTA Detail'!$C$4)*(Projects!$L$5:$L$2481='Local Detail'!$A6)*(Projects!$K$5:$K$2481))","v":0},{"$f":"((SUMPRODUCT((Projects!$A$5:$A$2481='Local Detail'!$D$3)*(Projects!$C$5:$C$2481<>'MDOT FTA Detail'!$C$4)*(Projects!$L$5:$L$2481='Local Detail'!$A6)*(Projects!$J$5:$J$2481<>'Local Detail'!$A$136)*(Projects!$M$5:$M$2481)))+(SUMPRODUCT((Projects!$A$5:$A$2481='Local Detail'!$D$3)*(Projects!$C$5:$C$2481<>'MDOT FTA Detail'!$C$4)*(Projects!$L$5:$L$2481='Local Detail'!$A6)*(Projects!$J$5:$J$2481<>'Local Detail'!$A$136)*(Projects!$O$5:$O$2481))))","v":0},{"$f":"D6+E6","v":0},{"$f":"SUMPRODUCT((Projects!$A$5:$A$2481='Local Detail'!$G$3)*(Projects!$C$5:$C$2481<>'MDOT FTA Detail'!$C$4)*(Projects!$L$5:$L$2481='Local Detail'!$A6)*(Projects!$K$5:$K$2481))","v":0},{"$f":"((SUMPRODUCT((Projects!$A$5:$A$2481='Local Detail'!$G$3)*(Projects!$C$5:$C$2481<>'MDOT FTA Detail'!$C$4)*(Projects!$L$5:$L$2481='Local Detail'!$A6)*(Projects!$J$5:$J$2481<>'Local Detail'!$A$136)*(Projects!$M$5:$M$2481)))+(SUMPRODUCT((Projects!$A$5:$A$2481='Local Detail'!$G$3)*(Projects!$C$5:$C$2481<>'MDOT FTA Detail'!$C$4)*(Projects!$L$5:$L$2481='Local Detail'!$A6)*(Projects!$J$5:$J$2481<>'Local Detail'!$A$136)*(Projects!$O$5:$O$2481))))","v":0},{"$f":"G6+H6","v":0},{"$f":"SUMPRODUCT((Projects!$A$5:$A$2481='Local Detail'!$J$3)*(Projects!$C$5:$C$2481<>'MDOT FTA Detail'!$C$4)*(Projects!$L$5:$L$2481='Local Detail'!$A6)*(Projects!$K$5:$K$2481))","v":0},{"$f":"((SUMPRODUCT((Projects!$A$5:$A$2481='Local Detail'!$J$3)*(Projects!$C$5:$C$2481<>'MDOT FTA Detail'!$C$4)*(Projects!$L$5:$L$2481='Local Detail'!$A6)*(Projects!$J$5:$J$2481<>'Local Detail'!$A$136)*(Projects!$M$5:$M$2481)))+(SUMPRODUCT((Projects!$A$5:$A$2481='Local Detail'!$J$3)*(Projects!$C$5:$C$2481<>'MDOT FTA Detail'!$C$4)*(Projects!$L$5:$L$2481='Local Detail'!$A6)*(Projects!$J$5:$J$2481<>'Local Detail'!$A$136)*(Projects!$O$5:$O$2481))))","v":0},{"$f":"J6+K6","v":0},{"$f":"SUMPRODUCT((Projects!$A$5:$A$2481='Local Detail'!$M$3)*(Projects!$C$5:$C$2481<>'MDOT FTA Detail'!$C$4)*(Projects!$L$5:$L$2481='Local Detail'!$A6)*(Projects!$K$5:$K$2481))","v":0},{"$f":"((SUMPRODUCT((Projects!$A$5:$A$2481='Local Detail'!$M$3)*(Projects!$C$5:$C$2481<>'MDOT FTA Detail'!$C$4)*(Projects!$L$5:$L$2481='Local Detail'!$A6)*(Projects!$J$5:$J$2481<>'Local Detail'!$A$136)*(Projects!$M$5:$M$2481)))+(SUMPRODUCT((Projects!$A$5:$A$2481='Local Detail'!$M$3)*(Projects!$C$5:$C$2481<>'MDOT FTA Detail'!$C$4)*(Projects!$L$5:$L$2481='Local Detail'!$A6)*(Projects!$J$5:$J$2481<>'Local Detail'!$A$136)*(Projects!$O$5:$O$2481))))","v":0},{"$f":"M6+N6","v":0}]
["BHN","Bridge Rehabilitation - National Highway System (NHS)","Local Bridge",{"$f":"SUMPRODUCT((Projects!$A$5:$A$2481='Local Detail'!$D$3)*(Projects!$C$5:$C$2481<>'MDOT FTA Detail'!$C$4)*(Projects!$L$5:$L$2481='Local Detail'!$A7)*(Projects!$K$5:$K$2481))","v":0},{"$f":"((SUMPRODUCT((Projects!$A$5:$A$2481='Local Detail'!$D$3)*(Projects!$C$5:$C$2481<>'MDOT FTA Detail'!$C$4)*(Projects!$L$5:$L$2481='Local Detail'!$A7)*(Projects!$J$5:$J$2481<>'Local Detail'!$A$136)*(Projects!$M$5:$M$2481)))+(SUMPRODUCT((Projects!$A$5:$A$2481='Local Detail'!$D$3)*(Projects!$C$5:$C$2481<>'MDOT FTA Detail'!$C$4)*(Projects!$L$5:$L$2481='Local Detail'!$A7)*(Projects!$J$5:$J$2481<>'Local Detail'!$A$136)*(Projects!$O$5:$O$2481))))","v":0},0,{"$f":"SUMPRODUCT((Projects!$A$5:$A$2481='Local Detail'!$G$3)*(Projects!$C$5:$C$2481<>'MDOT FTA Detail'!$C$4)*(Projects!$L$5:$L$2481='Local Detail'!$A7)*(Projects!$K$5:$K$2481))","v":0},{"$f":"((SUMPRODUCT((Projects!$A$5:$A$2481='Local Detail'!$G$3)*(Projects!$C$5:$C$2481<>'MDOT FTA Detail'!$C$4)*(Projects!$L$5:$L$2481='Local Detail'!$A7)*(Projects!$J$5:$J$2481<>'Local Detail'!$A$136)*(Projects!$M$5:$M$2481)))+(SUMPRODUCT((Projects!$A$5:$A$2481='Local Detail'!$G$3)*(Projects!$C$5:$C$2481<>'MDOT FTA Detail'!$C$4)*(Projects!$L$5:$L$2481='Local Detail'!$A7)*(Projects!$J$5:$J$2481<>'Local Detail'!$A$136)*(Projects!$O$5:$O$2481))))","v":0},0,{"$f":"SUMPRODUCT((Projects!$A$5:$A$2481='Local Detail'!$J$3)*(Projects!$C$5:$C$2481<>'MDOT FTA Detail'!$C$4)*(Projects!$L$5:$L$2481='Local Detail'!$A7)*(Projects!$K$5:$K$2481))","v":0},{"$f":"((SUMPRODUCT((Projects!$A$5:$A$2481='Local Detail'!$J$3)*(Projects!$C$5:$C$2481<>'MDOT FTA Detail'!$C$4)*(Projects!$L$5:$L$2481='Local Detail'!$A7)*(Projects!$J$5:$J$2481<>'Local Detail'!$A$136)*(Projects!$M$5:$M$2481)))+(SUMPRODUCT((Projects!$A$5:$A$2481='Local Detail'!$J$3)*(Projects!$C$5:$C$2481<>'MDOT FTA Detail'!$C$4)*(Projects!$L$5:$L$2481='Local Detail'!$A7)*(Projects!$J$5:$J$2481<>'Local Detail'!$A$136)*(Projects!$O$5:$O$2481))))","v":0},0,{"$f":"SUMPRODUCT((Projects!$A$5:$A$2481='Local Detail'!$M$3)*(Projects!$C$5:$C$2481<>'MDOT FTA Detail'!$C$4)*(Projects!$L$5:$L$2481='Local Detail'!$A7)*(Projects!$K$5:$K$2481))","v":0},{"$f":"((SUMPRODUCT((Projects!$A$5:$A$2481='Local Detail'!$M$3)*(Projects!$C$5:$C$2481<>'MDOT FTA Detail'!$C$4)*(Projects!$L$5:$L$2481='Local Detail'!$A7)*(Projects!$J$5:$J$2481<>'Local Detail'!$A$136)*(Projects!$M$5:$M$2481)))+(SUMPRODUCT((Projects!$A$5:$A$2481='Local Detail'!$M$3)*(Projects!$C$5:$C$2481<>'MDOT FTA Detail'!$C$4)*(Projects!$L$5:$L$2481='Local Detail'!$A7)*(Projects!$J$5:$J$2481<>'Local Detail'!$A$136)*(Projects!$O$5:$O$2481))))","v":0},0]
["BHO","Bridge Rehabilitation - Not Classified, Off System","Local Bridge",{"$f":"SUMPRODUCT((Projects!$A$5:$A$2481='Local Detail'!$D$3)*(Projects!$C$5:$C$2481<>'MDOT FTA Detail'!$C$4)*(Projects!$L$5:$L$2481='Local Detail'!$A8)*(Projects!$K$5:$K$2481))","v":0},{"$f":"((SUMPRODUCT((Projects!$A$5:$A$2481='Local Detail'!$D$3)*(Projects!$C$5:$C$2481<>'MDOT FTA Detail'!$C$4)*(Projects!$L$5:$L$2481='Local Detail'!$A8)*(Projects!$J$5:$J$2481<>'Local Detail'!$A$136)*(Projects!$M$5:$M$2481)))+(SUMPRODUCT((Projects!$A$5:$A$2481='Local Detail'!$D$3)*(Projects!$C$5:$C$2481<>'MDOT FTA Detail'!$C$4)*(Projects!$L$5:$L$2481='Local Detail'!$A8)*(Projects!$J$5:$J$2481<>'Local Detail'!$A$136)*(Projects!$O$5:$O$2481))))","v":0},0,{"$f":"SUMPRODUCT((Projects!$A$5:$A$2481='Local Detail'!$G$3)*(Projects!$C$5:$C$2481<>'MDOT FTA Detail'!$C$4)*(Projects!$L$5:$L$2481='Local Detail'!$A8)*(Projects!$K$5:$K$2481))","v":0},{"$f":"((SUMPRODUCT((Projects!$A$5:$A$2481='Local Detail'!$G$3)*(Projects!$C$5:$C$2481<>'MDOT FTA Detail'!$C$4)*(Projects!$L$5:$L$2481='Local Detail'!$A8)*(Projects!$J$5:$J$2481<>'Local Detail'!$A$136)*(Projects!$M$5:$M$2481)))+(SUMPRODUCT((Projects!$A$5:$A$2481='Local Detail'!$G$3)*(Projects!$C$5:$C$2481<>'MDOT FTA Detail'!$C$4)*(Projects!$L$5:$L$2481='Local Detail'!$A8)*(Projects!$J$5:$J$2481<>'Local Detail'!$A$136)*(Projects!$O$5:$O$2481))))","v":0},0,{"$f":"SUMPRODUCT((Projects!$A$5:$A$2481='Local Detail'!$J$3)*(Projects!$C$5:$C$2481<>'MDOT FTA Detail'!$C$4)*(Projects!$L$5:$L$2481='Local Detail'!$A8)*(Projects!$K$5:$K$2481))","v":0},{"$f":"((SUMPRODUCT((Projects!$A$5:$A$2481='Local Detail'!$J$3)*(Projects!$C$5:$C$2481<>'MDOT FTA Detail'!$C$4)*(Projects!$L$5:$L$2481='Local Detail'!$A8)*(Projects!$J$5:$J$2481<>'Local Detail'!$A$136)*(Projects!$M$5:$M$2481)))+(SUMPRODUCT((Projects!$A$5:$A$2481='Local Detail'!$J$3)*(Projects!$C$5:$C$2481<>'MDOT FTA Detail'!$C$4)*(Projects!$L$5:$L$2481='Local Detail'!$A8)*(Projects!$J$5:$J$2481<>'Local Detail'!$A$136)*(Projects!$O$5:$O$2481))))","v":0},0,{"$f":"SUMPRODUCT((Projects!$A$5:$A$2481='Local Detail'!$M$3)*(Projects!$C$5:$C$2481<>'MDOT FTA Detail'!$C$4)*(Projects!$L$5:$L$2481='Local Detail'!$A8)*(Projects!$K$5:$K$2481))","v":0},{"$f":"((SUMPRODUCT((Projects!$A$5:$A$2481='Local Detail'!$M$3)*(Projects!$C$5:$C$2481<>'MDOT FTA Detail'!$C$4)*(Projects!$L$5:$L$2481='Local Detail'!$A8)*(Projects!$J$5:$J$2481<>'Local Detail'!$A$136)*(Projects!$M$5:$M$2481)))+(SUMPRODUCT((Projects!$A$5:$A$2481='Local Detail'!$M$3)*(Projects!$C$5:$C$2481<>'MDOT FTA Detail'!$C$4)*(Projects!$L$5:$L$2481='Local Detail'!$A8)*(Projects!$J$5:$J$2481<>'Local Detail'!$A$136)*(Projects!$O$5:$O$2481))))","v":0},0]
["BHT","Bridge Rehabilitation - Surface Transportation Program (STP)","Local Bridge",{"$f":"SUMPRODUCT((Projects!$A$5:$A$2481='Local Detail'!$D$3)*(Projects!$C$5:$C$2481<>'MDOT FTA Detail'!$C$4)*(Projects!$L$5:$L$2481='Local Detail'!$A9)*(Projects!$K$5:$K$2481))","v":0},{"$f":"((SUMPRODUCT((Projects!$A$5:$A$2481='Local Detail'!$D$3)*(Projects!$C$5:$C$2481<>'MDOT FTA Detail'!$C$4)*(Projects!$L$5:$L$2481='Local Detail'!$A9)*(Projects!$J$5:$J$2481<>'Local Detail'!$A$136)*(Projects!$M$5:$M$2481)))+(SUMPRODUCT((Projects!$A$5:$A$2481='Local Detail'!$D$3)*(Projects!$C$5:$C$2481<>'MDOT FTA Detail'!$C$4)*(Projects!$L$5:$L$2481='Local Detail'!$A9)*(Projects!$J$5:$J$2481<>'Local Detail'!$A$136)*(Projects!$O$5:$O$2481))))","v":0},0,{"$f":"SUMPRODUCT((Projects!$A$5:$A$2481='Local Detail'!$G$3)*(Projects!$C$5:$C$2481<>'MDOT FTA Detail'!$C$4)*(Projects!$L$5:$L$2481='Local Detail'!$A9)*(Projects!$K$5:$K$2481))","v":0},{"$f":"((SUMPRODUCT((Projects!$A$5:$A$2481='Local Detail'!$G$3)*(Projects!$C$5:$C$2481<>'MDOT FTA Detail'!$C$4)*(Projects!$L$5:$L$2481='Local Detail'!$A9)*(Projects!$J$5:$J$2481<>'Local Detail'!$A$136)*(Projects!$M$5:$M$2481)))+(SUMPRODUCT((Projects!$A$5:$A$2481='Local Detail'!$G$3)*(Projects!$C$5:$C$2481<>'MDOT FTA Detail'!$C$4)*(Projects!$L$5:$L$2481='Local Detail'!$A9)*(Projects!$J$5:$J$2481<>'Local Detail'!$A$136)*(Projects!$O$5:$O$2481))))","v":0},0,{"$f":"SUMPRODUCT((Projects!$A$5:$A$2481='Local Detail'!$J$3)*(Projects!$C$5:$C$2481<>'MDOT FTA Detail'!$C$4)*(Projects!$L$5:$L$2481='Local Detail'!$A9)*(Projects!$K$5:$K$2481))","v":0},{"$f":"((SUMPRODUCT((Projects!$A$5:$A$2481='Local Detail'!$J$3)*(Projects!$C$5:$C$2481<>'MDOT FTA Detail'!$C$4)*(Projects!$L$5:$L$2481='Local Detail'!$A9)*(Projects!$J$5:$J$2481<>'Local Detail'!$A$136)*(Projects!$M$5:$M$2481)))+(SUMPRODUCT((Projects!$A$5:$A$2481='Local Detail'!$J$3)*(Projects!$C$5:$C$2481<>'MDOT FTA Detail'!$C$4)*(Projects!$L$5:$L$2481='Local Detail'!$A9)*(Projects!$J$5:$J$2481<>'Local Detail'!$A$136)*(Projects!$O$5:$O$2481))))","v":0},0,{"$f":"SUMPRODUCT((Projects!$A$5:$A$2481='Local Detail'!$M$3)*(Projects!$C$5:$C$2481<>'MDOT FTA Detail'!$C$4)*(Projects!$L$5:$L$2481='Local Detail'!$A9)*(Projects!$K$5:$K$2481))","v":0},{"$f":"((SUMPRODUCT((Projects!$A$5:$A$2481='Local Detail'!$M$3)*(Projects!$C$5:$C$2481<>'MDOT FTA Detail'!$C$4)*(Projects!$L$5:$L$2481='Local Detail'!$A9)*(Projects!$J$5:$J$2481<>'Local Detail'!$A$136)*(Projects!$M$5:$M$2481)))+(SUMPRODUCT((Projects!$A$5:$A$2481='Local Detail'!$M$3)*(Projects!$C$5:$C$2481<>'MDOT FTA Detail'!$C$4)*(Projects!$L$5:$L$2481='Local Detail'!$A9)*(Projects!$J$5:$J$2481<>'Local Detail'!$A$136)*(Projects!$O$5:$O$2481))))","v":0},0]
["BI08","Build Michigan FY08","Local Other FHWA",{"$f":"SUMPRODUCT((Projects!$A$5:$A$2481='Local Detail'!$D$3)*(Projects!$C$5:$C$2481<>'MDOT FTA Detail'!$C$4)*(Projects!$L$5:$L$2481='Local Detail'!$A10)*(Projects!$K$5:$K$2481))","v":0},{"$f":"((SUMPRODUCT((Projects!$A$5:$A$2481='Local Detail'!$D$3)*(Projects!$C$5:$C$2481<>'MDOT FTA Detail'!$C$4)*(Projects!$L$5:$L$2481='Local Detail'!$A10)*(Projects!$J$5:$J$2481<>'Local Detail'!$A$136)*(Projects!$M$5:$M$2481)))+(SUMPRODUCT((Projects!$A$5:$A$2481='Local Detail'!$D$3)*(Projects!$C$5:$C$2481<>'MDOT FTA Detail'!$C$4)*(Projects!$L$5:$L$2481='Local Detail'!$A10)*(Projects!$J$5:$J$2481<>'Local Detail'!$A$136)*(Projects!$O$5:$O$2481))))","v":0},0,{"$f":"SUMPRODUCT((Projects!$A$5:$A$2481='Local Detail'!$G$3)*(Projects!$C$5:$C$2481<>'MDOT FTA Detail'!$C$4)*(Projects!$L$5:$L$2481='Local Detail'!$A10)*(Projects!$K$5:$K$2481))","v":0},{"$f":"((SUMPRODUCT((Projects!$A$5:$A$2481='Local Detail'!$G$3)*(Projects!$C$5:$C$2481<>'MDOT FTA Detail'!$C$4)*(Projects!$L$5:$L$2481='Local Detail'!$A10)*(Projects!$J$5:$J$2481<>'Local Detail'!$A$136)*(Projects!$M$5:$M$2481)))+(SUMPRODUCT((Projects!$A$5:$A$2481='Local Detail'!$G$3)*(Projects!$C$5:$C$2481<>'MDOT FTA Detail'!$C$4)*(Projects!$L$5:$L$2481='Local Detail'!$A10)*(Projects!$J$5:$J$2481<>'Local Detail'!$A$136)*(Projects!$O$5:$O$2481))))","v":0},0,{"$f":"SUMPRODUCT((Projects!$A$5:$A$2481='Local Detail'!$J$3)*(Projects!$C$5:$C$2481<>'MDOT FTA Detail'!$C$4)*(Projects!$L$5:$L$2481='Local Detail'!$A10)*(Projects!$K$5:$K$2481))","v":0},{"$f":"((SUMPRODUCT((Projects!$A$5:$A$2481='Local Detail'!$J$3)*(Projects!$C$5:$C$2481<>'MDOT FTA Detail'!$C$4)*(Projects!$L$5:$L$2481='Local Detail'!$A10)*(Projects!$J$5:$J$2481<>'Local Detail'!$A$136)*(Projects!$M$5:$M$2481)))+(SUMPRODUCT((Projects!$A$5:$A$2481='Local Detail'!$J$3)*(Projects!$C$5:$C$2481<>'MDOT FTA Detail'!$C$4)*(Projects!$L$5:$L$2481='Local Detail'!$A10)*(Projects!$J$5:$J$2481<>'Local Detail'!$A$136)*(Projects!$O$5:$O$2481))))","v":0},0,{"$f":"SUMPRODUCT((Projects!$A$5:$A$2481='Local Detail'!$M$3)*(Projects!$C$5:$C$2481<>'MDOT FTA Detail'!$C$4)*(Projects!$L$5:$L$2481='Local Detail'!$A10)*(Projects!$K$5:$K$2481))","v":0},{"$f":"((SUMPRODUCT((Projects!$A$5:$A$2481='Local Detail'!$M$3)*(Projects!$C$5:$C$2481<>'MDOT FTA Detail'!$C$4)*(Projects!$L$5:$L$2481='Local Detail'!$A10)*(Projects!$J$5:$J$2481<>'Local Detail'!$A$136)*(Projects!$M$5:$M$2481)))+(SUMPRODUCT((Projects!$A$5:$A$2481='Local Detail'!$M$3)*(Projects!$C$5:$C$2481<>'MDOT FTA Detail'!$C$4)*(Projects!$L$5:$L$2481='Local Detail'!$A10)*(Projects!$J$5:$J$2481<>'Local Detail'!$A$136)*(Projects!$O$5:$O$2481))))","v":0},0]
["BO","Bridge Not Classified Off System","Local Bridge",{"$f":"SUMPRODUCT((Projects!$A$5:$A$2481='Local Detail'!$D$3)*(Projects!$C$5:$C$2481<>'MDOT FTA Detail'!$C$4)*(Projects!$L$5:$L$2481='Local Detail'!$A11)*(Projects!$K$5:$K$2481))","v":0},{"$f":"((SUMPRODUCT((Projects!$A$5:$A$2481='Local Detail'!$D$3)*(Projects!$C$5:$C$2481<>'MDOT FTA Detail'!$C$4)*(Projects!$L$5:$L$2481='Local Detail'!$A11)*(Projects!$J$5:$J$2481<>'Local Detail'!$A$136)*(Projects!$M$5:$M$2481)))+(SUMPRODUCT((Projects!$A$5:$A$2481='Local Detail'!$D$3)*(Projects!$C$5:$C$2481<>'MDOT FTA Detail'!$C$4)*(Projects!$L$5:$L$2481='Local Detail'!$A11)*(Projects!$J$5:$J$2481<>'Local Detail'!$A$136)*(Projects!$O$5:$O$2481))))","v":0},{"$f":"D11+E11","v":0},{"$f":"SUMPRODUCT((Projects!$A$5:$A$2481='Local Detail'!$G$3)*(Projects!$C$5:$C$2481<>'MDOT FTA Detail'!$C$4)*(Projects!$L$5:$L$2481='Local Detail'!$A11)*(Projects!$K$5:$K$2481))","v":0},{"$f":"((SUMPRODUCT((Projects!$A$5:$A$2481='Local Detail'!$G$3)*(Projects!$C$5:$C$2481<>'MDOT FTA Detail'!$C$4)*(Projects!$L$5:$L$2481='Local Detail'!$A11)*(Projects!$J$5:$J$2481<>'Local Detail'!$A$136)*(Projects!$M$5:$M$2481)))+(SUMPRODUCT((Projects!$A$5:$A$2481='Local Detail'!$G$3)*(Projects!$C$5:$C$2481<>'MDOT FTA Detail'!$C$4)*(Projects!$L$5:$L$2481='Local Detail'!$A11)*(Projects!$J$5:$J$2481<>'Local Detail'!$A$136)*(Projects!$O$5:$O$2481))))","v":0},{"$f":"G11+H11","v":0},{"$f":"SUMPRODUCT((Projects!$A$5:$A$2481='Local Detail'!$J$3)*(Projects!$C$5:$C$2481<>'MDOT FTA Detail'!$C$4)*(Projects!$L$5:$L$2481='Local Detail'!$A11)*(Projects!$K$5:$K$2481))","v":0},{"$f":"((SUMPRODUCT((Projects!$A$5:$A$2481='Local Detail'!$J$3)*(Projects!$C$5:$C$2481<>'MDOT FTA Detail'!$C$4)*(Projects!$L$5:$L$2481='Local Detail'!$A11)*(Projects!$J$5:$J$2481<>'Local Detail'!$A$136)*(Projects!$M$5:$M$2481)))+(SUMPRODUCT((Projects!$A$5:$A$2481='Local Detail'!$J$3)*(Projects!$C$5:$C$2481<>'MDOT FTA Detail'!$C$4)*(Projects!$L$5:$L$2481='Local Detail'!$A11)*(Projects!$J$5:$J$2481<>'Local Detail'!$A$136)*(Projects!$O$5:$O$2481))))","v":0},{"$f":"J11+K11","v":0},{"$f":"SUMPRODUCT((Projects!$A$5:$A$2481='Local Detail'!$M$3)*(Projects!$C$5:$C$2481<>'MDOT FTA Detail'!$C$4)*(Projects!$L$5:$L$2481='Local Detail'!$A11)*(Projects!$K$5:$K$2481))","v":0},{"$f":"((SUMPRODUCT((Projects!$A$5:$A$2481='Local Detail'!$M$3)*(Projects!$C$5:$C$2481<>'MDOT FTA Detail'!$C$4)*(Projects!$L$5:$L$2481='Local Detail'!$A11)*(Projects!$J$5:$J$2481<>'Local Detail'!$A$136)*(Projects!$M$5:$M$2481)))+(SUMPRODUCT((Projects!$A$5:$A$2481='Local Detail'!$M$3)*(Projects!$C$5:$C$2481<>'MDOT FTA Detail'!$C$4)*(Projects!$L$5:$L$2481='Local Detail'!$A11)*(Projects!$J$5:$J$2481<>'Local Detail'!$A$136)*(Projects!$O$5:$O$2481))))","v":0},{"$f":"M11+N11","v":0}]
["BOWD","Business Opportunity & Workforce Development Center","Local Other FHWA",{"$f":"SUMPRODUCT((Projects!$A$5:$A$2481='Local Detail'!$D$3)*(Projects!$C$5:$C$2481<>'MDOT FTA Detail'!$C$4)*(Projects!$L$5:$L$2481='Local Detail'!$A12)*(Projects!$K$5:$K$2481))","v":0},{"$f":"((SUMPRODUCT((Projects!$A$5:$A$2481='Local Detail'!$D$3)*(Projects!$C$5:$C$2481<>'MDOT FTA Detail'!$C$4)*(Projects!$L$5:$L$2481='Local Detail'!$A12)*(Projects!$J$5:$J$2481<>'Local Detail'!$A$136)*(Projects!$M$5:$M$2481)))+(SUMPRODUCT((Projects!$A$5:$A$2481='Local Detail'!$D$3)*(Projects!$C$5:$C$2481<>'MDOT FTA Detail'!$C$4)*(Projects!$L$5:$L$2481='Local Detail'!$A12)*(Projects!$J$5:$J$2481<>'Local Detail'!$A$136)*(Projects!$O$5:$O$2481))))","v":0},0,{"$f":"SUMPRODUCT((Projects!$A$5:$A$2481='Local Detail'!$G$3)*(Projects!$C$5:$C$2481<>'MDOT FTA Detail'!$C$4)*(Projects!$L$5:$L$2481='Local Detail'!$A12)*(Projects!$K$5:$K$2481))","v":0},{"$f":"((SUMPRODUCT((Projects!$A$5:$A$2481='Local Detail'!$G$3)*(Projects!$C$5:$C$2481<>'MDOT FTA Detail'!$C$4)*(Projects!$L$5:$L$2481='Local Detail'!$A12)*(Projects!$J$5:$J$2481<>'Local Detail'!$A$136)*(Projects!$M$5:$M$2481)))+(SUMPRODUCT((Projects!$A$5:$A$2481='Local Detail'!$G$3)*(Projects!$C$5:$C$2481<>'MDOT FTA Detail'!$C$4)*(Projects!$L$5:$L$2481='Local Detail'!$A12)*(Projects!$J$5:$J$2481<>'Local Detail'!$A$136)*(Projects!$O$5:$O$2481))))","v":0},0,{"$f":"SUMPRODUCT((Projects!$A$5:$A$2481='Local Detail'!$J$3)*(Projects!$C$5:$C$2481<>'MDOT FTA Detail'!$C$4)*(Projects!$L$5:$L$2481='Local Detail'!$A12)*(Projects!$K$5:$K$2481))","v":0},{"$f":"((SUMPRODUCT((Projects!$A$5:$A$2481='Local Detail'!$J$3)*(Projects!$C$5:$C$2481<>'MDOT FTA Detail'!$C$4)*(Projects!$L$5:$L$2481='Local Detail'!$A12)*(Projects!$J$5:$J$2481<>'Local Detail'!$A$136)*(Projects!$M$5:$M$2481)))+(SUMPRODUCT((Projects!$A$5:$A$2481='Local Detail'!$J$3)*(Projects!$C$5:$C$2481<>'MDOT FTA Detail'!$C$4)*(Projects!$L$5:$L$2481='Local Detail'!$A12)*(Projects!$J$5:$J$2481<>'Local Detail'!$A$136)*(Projects!$O$5:$O$2481))))","v":0},0,{"$f":"SUMPRODUCT((Projects!$A$5:$A$2481='Local Detail'!$M$3)*(Projects!$C$5:$C$2481<>'MDOT FTA Detail'!$C$4)*(Projects!$L$5:$L$2481='Local Detail'!$A12)*(Projects!$K$5:$K$2481))","v":0},{"$f":"((SUMPRODUCT((Projects!$A$5:$A$2481='Local Detail'!$M$3)*(Projects!$C$5:$C$2481<>'MDOT FTA Detail'!$C$4)*(Projects!$L$5:$L$2481='Local Detail'!$A12)*(Projects!$J$5:$J$2481<>'Local Detail'!$A$136)*(Projects!$M$5:$M$2481)))+(SUMPRODUCT((Projects!$A$5:$A$2481='Local Detail'!$M$3)*(Projects!$C$5:$C$2481<>'MDOT FTA Detail'!$C$4)*(Projects!$L$5:$L$2481='Local Detail'!$A12)*(Projects!$J$5:$J$2481<>'Local Detail'!$A$136)*(Projects!$O$5:$O$2481))))","v":0},0]
["BRI","Bridge Replacement - Pre 1991 Interstate","Local Bridge",{"$f":"SUMPRODUCT((Projects!$A$5:$A$2481='Local Detail'!$D$3)*(Projects!$C$5:$C$2481<>'MDOT FTA Detail'!$C$4)*(Projects!$L$5:$L$2481='Local Detail'!$A13)*(Projects!$K$5:$K$2481))","v":0},{"$f":"((SUMPRODUCT((Projects!$A$5:$A$2481='Local Detail'!$D$3)*(Projects!$C$5:$C$2481<>'MDOT FTA Detail'!$C$4)*(Projects!$L$5:$L$2481='Local Detail'!$A13)*(Projects!$J$5:$J$2481<>'Local Detail'!$A$136)*(Projects!$M$5:$M$2481)))+(SUMPRODUCT((Projects!$A$5:$A$2481='Local Detail'!$D$3)*(Projects!$C$5:$C$2481<>'MDOT FTA Detail'!$C$4)*(Projects!$L$5:$L$2481='Local Detail'!$A13)*(Projects!$J$5:$J$2481<>'Local Detail'!$A$136)*(Projects!$O$5:$O$2481))))","v":0},0,{"$f":"SUMPRODUCT((Projects!$A$5:$A$2481='Local Detail'!$G$3)*(Projects!$C$5:$C$2481<>'MDOT FTA Detail'!$C$4)*(Projects!$L$5:$L$2481='Local Detail'!$A13)*(Projects!$K$5:$K$2481))","v":0},{"$f":"((SUMPRODUCT((Projects!$A$5:$A$2481='Local Detail'!$G$3)*(Projects!$C$5:$C$2481<>'MDOT FTA Detail'!$C$4)*(Projects!$L$5:$L$2481='Local Detail'!$A13)*(Projects!$J$5:$J$2481<>'Local Detail'!$A$136)*(Projects!$M$5:$M$2481)))+(SUMPRODUCT((Projects!$A$5:$A$2481='Local Detail'!$G$3)*(Projects!$C$5:$C$2481<>'MDOT FTA Detail'!$C$4)*(Projects!$L$5:$L$2481='Local Detail'!$A13)*(Projects!$J$5:$J$2481<>'Local Detail'!$A$136)*(Projects!$O$5:$O$2481))))","v":0},0,{"$f":"SUMPRODUCT((Projects!$A$5:$A$2481='Local Detail'!$J$3)*(Projects!$C$5:$C$2481<>'MDOT FTA Detail'!$C$4)*(Projects!$L$5:$L$2481='Local Detail'!$A13)*(Projects!$K$5:$K$2481))","v":0},{"$f":"((SUMPRODUCT((Projects!$A$5:$A$2481='Local Detail'!$J$3)*(Projects!$C$5:$C$2481<>'MDOT FTA Detail'!$C$4)*(Projects!$L$5:$L$2481='Local Detail'!$A13)*(Projects!$J$5:$J$2481<>'Local Detail'!$A$136)*(Projects!$M$5:$M$2481)))+(SUMPRODUCT((Projects!$A$5:$A$2481='Local Detail'!$J$3)*(Projects!$C$5:$C$2481<>'MDOT FTA Detail'!$C$4)*(Projects!$L$5:$L$2481='Local Detail'!$A13)*(Projects!$J$5:$J$2481<>'Local Detail'!$A$136)*(Projects!$O$5:$O$2481))))","v":0},0,{"$f":"SUMPRODUCT((Projects!$A$5:$A$2481='Local Detail'!$M$3)*(Projects!$C$5:$C$2481<>'MDOT FTA Detail'!$C$4)*(Projects!$L$5:$L$2481='Local Detail'!$A13)*(Projects!$K$5:$K$2481))","v":0},{"$f":"((SUMPRODUCT((Projects!$A$5:$A$2481='Local Detail'!$M$3)*(Projects!$C$5:$C$2481<>'MDOT FTA Detail'!$C$4)*(Projects!$L$5:$L$2481='Local Detail'!$A13)*(Projects!$J$5:$J$2481<>'Local Detail'!$A$136)*(Projects!$M$5:$M$2481)))+(SUMPRODUCT((Projects!$A$5:$A$2481='Local Detail'!$M$3)*(Projects!$C$5:$C$2481<>'MDOT FTA Detail'!$C$4)*(Projects!$L$5:$L$2481='Local Detail'!$A13)*(Projects!$J$5:$J$2481<>'Local Detail'!$A$136)*(Projects!$O$5:$O$2481))))","v":0},0]
["BRN","Bridge Replacement - National Highway System (NHS)","Local Bridge",{"$f":"SUMPRODUCT((Projects!$A$5:$A$2481='Local Detail'!$D$3)*(Projects!$C$5:$C$2481<>'MDOT FTA Detail'!$C$4)*(Projects!$L$5:$L$2481='Local Detail'!$A14)*(Projects!$K$5:$K$2481))","v":0},{"$f":"((SUMPRODUCT((Projects!$A$5:$A$2481='Local Detail'!$D$3)*(Projects!$C$5:$C$2481<>'MDOT FTA Detail'!$C$4)*(Projects!$L$5:$L$2481='Local Detail'!$A14)*(Projects!$J$5:$J$2481<>'Local Detail'!$A$136)*(Projects!$M$5:$M$2481)))+(SUMPRODUCT((Projects!$A$5:$A$2481='Local Detail'!$D$3)*(Projects!$C$5:$C$2481<>'MDOT FTA Detail'!$C$4)*(Projects!$L$5:$L$2481='Local Detail'!$A14)*(Projects!$J$5:$J$2481<>'Local Detail'!$A$136)*(Projects!$O$5:$O$2481))))","v":0},0,{"$f":"SUMPRODUCT((Projects!$A$5:$A$2481='Local Detail'!$G$3)*(Projects!$C$5:$C$2481<>'MDOT FTA Detail'!$C$4)*(Projects!$L$5:$L$2481='Local Detail'!$A14)*(Projects!$K$5:$K$2481))","v":0},{"$f":"((SUMPRODUCT((Projects!$A$5:$A$2481='Local Detail'!$G$3)*(Projects!$C$5:$C$2481<>'MDOT FTA Detail'!$C$4)*(Projects!$L$5:$L$2481='Local Detail'!$A14)*(Projects!$J$5:$J$2481<>'Local Detail'!$A$136)*(Projects!$M$5:$M$2481)))+(SUMPRODUCT((Projects!$A$5:$A$2481='Local Detail'!$G$3)*(Projects!$C$5:$C$2481<>'MDOT FTA Detail'!$C$4)*(Projects!$L$5:$L$2481='Local Detail'!$A14)*(Projects!$J$5:$J$2481<>'Local Detail'!$A$136)*(Projects!$O$5:$O$2481))))","v":0},0,{"$f":"SUMPRODUCT((Projects!$A$5:$A$2481='Local Detail'!$J$3)*(Projects!$C$5:$C$2481<>'MDOT FTA Detail'!$C$4)*(Projects!$L$5:$L$2481='Local Detail'!$A14)*(Projects!$K$5:$K$2481))","v":0},{"$f":"((SUMPRODUCT((Projects!$A$5:$A$2481='Local Detail'!$J$3)*(Projects!$C$5:$C$2481<>'MDOT FTA Detail'!$C$4)*(Projects!$L$5:$L$2481='Local Detail'!$A14)*(Projects!$J$5:$J$2481<>'Local Detail'!$A$136)*(Projects!$M$5:$M$2481)))+(SUMPRODUCT((Projects!$A$5:$A$2481='Local Detail'!$J$3)*(Projects!$C$5:$C$2481<>'MDOT FTA Detail'!$C$4)*(Projects!$L$5:$L$2481='Local Detail'!$A14)*(Projects!$J$5:$J$2481<>'Local Detail'!$A$136)*(Projects!$O$5:$O$2481))))","v":0},0,{"$f":"SUMPRODUCT((Projects!$A$5:$A$2481='Local Detail'!$M$3)*(Projects!$C$5:$C$2481<>'MDOT FTA Detail'!$C$4)*(Projects!$L$5:$L$2481='Local Detail'!$A14)*(Projects!$K$5:$K$2481))","v":0},{"$f":"((SUMPRODUCT((Projects!$A$5:$A$2481='Local Detail'!$M$3)*(Projects!$C$5:$C$2481<>'MDOT FTA Detail'!$C$4)*(Projects!$L$5:$L$2481='Local Detail'!$A14)*(Projects!$J$5:$J$2481<>'Local Detail'!$A$136)*(Projects!$M$5:$M$2481)))+(SUMPRODUCT((Projects!$A$5:$A$2481='Local Detail'!$M$3)*(Projects!$C$5:$C$2481<>'MDOT FTA Detail'!$C$4)*(Projects!$L$5:$L$2481='Local Detail'!$A14)*(Projects!$J$5:$J$2481<>'Local Detail'!$A$136)*(Projects!$O$5:$O$2481))))","v":0},0]
["BRO","Bridge Replacement - Not Classified, Off System","Local Bridge",{"$f":"SUMPRODUCT((Projects!$A$5:$A$2481='Local Detail'!$D$3)*(Projects!$C$5:$C$2481<>'MDOT FTA Detail'!$C$4)*(Projects!$L$5:$L$2481='Local Detail'!$A15)*(Projects!$K$5:$K$2481))","v":720000},{"$f":"((SUMPRODUCT((Projects!$A$5:$A$2481='Local Detail'!$D$3)*(Projects!$C$5:$C$2481<>'MDOT FTA Detail'!$C$4)*(Projects!$L$5:$L$2481='Local Detail'!$A15)*(Projects!$J$5:$J$2481<>'Local Detail'!$A$136)*(Projects!$M$5:$M$2481)))+(SUMPRODUCT((Projects!$A$5:$A$2481='Local Detail'!$D$3)*(Projects!$C$5:$C$2481<>'MDOT FTA Detail'!$C$4)*(Projects!$L$5:$L$2481='Local Detail'!$A15)*(Projects!$J$5:$J$2481<>'Local Detail'!$A$136)*(Projects!$O$5:$O$2481))))","v":180000},900000,{"$f":"SUMPRODUCT((Projects!$A$5:$A$2481='Local Detail'!$G$3)*(Projects!$C$5:$C$2481<>'MDOT FTA Detail'!$C$4)*(Projects!$L$5:$L$2481='Local Detail'!$A15)*(Projects!$K$5:$K$2481))","v":0},{"$f":"((SUMPRODUCT((Projects!$A$5:$A$2481='Local Detail'!$G$3)*(Projects!$C$5:$C$2481<>'MDOT FTA Detail'!$C$4)*(Projects!$L$5:$L$2481='Local Detail'!$A15)*(Projects!$J$5:$J$2481<>'Local Detail'!$A$136)*(Projects!$M$5:$M$2481)))+(SUMPRODUCT((Projects!$A$5:$A$2481='Local Detail'!$G$3)*(Projects!$C$5:$C$2481<>'MDOT FTA Detail'!$C$4)*(Projects!$L$5:$L$2481='Local Detail'!$A15)*(Projects!$J$5:$J$2481<>'Local Detail'!$A$136)*(Projects!$O$5:$O$2481))))","v":0},0,{"$f":"SUMPRODUCT((Projects!$A$5:$A$2481='Local Detail'!$J$3)*(Projects!$C$5:$C$2481<>'MDOT FTA Detail'!$C$4)*(Projects!$L$5:$L$2481='Local Detail'!$A15)*(Projects!$K$5:$K$2481))","v":0},{"$f":"((SUMPRODUCT((Projects!$A$5:$A$2481='Local Detail'!$J$3)*(Projects!$C$5:$C$2481<>'MDOT FTA Detail'!$C$4)*(Projects!$L$5:$L$2481='Local Detail'!$A15)*(Projects!$J$5:$J$2481<>'Local Detail'!$A$136)*(Projects!$M$5:$M$2481)))+(SUMPRODUCT((Projects!$A$5:$A$2481='Local Detail'!$J$3)*(Projects!$C$5:$C$2481<>'MDOT FTA Detail'!$C$4)*(Projects!$L$5:$L$2481='Local Detail'!$A15)*(Projects!$J$5:$J$2481<>'Local Detail'!$A$136)*(Projects!$O$5:$O$2481))))","v":0},0,{"$f":"SUMPRODUCT((Projects!$A$5:$A$2481='Local Detail'!$M$3)*(Projects!$C$5:$C$2481<>'MDOT FTA Detail'!$C$4)*(Projects!$L$5:$L$2481='Local Detail'!$A15)*(Projects!$K$5:$K$2481))","v":0},{"$f":"((SUMPRODUCT((Projects!$A$5:$A$2481='Local Detail'!$M$3)*(Projects!$C$5:$C$2481<>'MDOT FTA Detail'!$C$4)*(Projects!$L$5:$L$2481='Local Detail'!$A15)*(Projects!$J$5:$J$2481<>'Local Detail'!$A$136)*(Projects!$M$5:$M$2481)))+(SUMPRODUCT((Projects!$A$5:$A$2481='Local Detail'!$M$3)*(Projects!$C$5:$C$2481<>'MDOT FTA Detail'!$C$4)*(Projects!$L$5:$L$2481='Local Detail'!$A15)*(Projects!$J$5:$J$2481<>'Local Detail'!$A$136)*(Projects!$O$5:$O$2481))))","v":0},0]
["BRT","Bridge Replacement - Surface Transportation Program (STP)","Local Bridge",{"$f":"SUMPRODUCT((Projects!$A$5:$A$2481='Local Detail'!$D$3)*(Projects!$C$5:$C$2481<>'MDOT FTA Detail'!$C$4)*(Projects!$L$5:$L$2481='Local Detail'!$A16)*(Projects!$K$5:$K$2481))","v":0},{"$f":"((SUMPRODUCT((Projects!$A$5:$A$2481='Local Detail'!$D$3)*(Projects!$C$5:$C$2481<>'MDOT FTA Detail'!$C$4)*(Projects!$L$5:$L$2481='Local Detail'!$A16)*(Projects!$J$5:$J$2481<>'Local Detail'!$A$136)*(Projects!$M$5:$M$2481)))+(SUMPRODUCT((Projects!$A$5:$A$2481='Local Detail'!$D$3)*(Projects!$C$5:$C$2481<>'MDOT FTA Detail'!$C$4)*(Projects!$L$5:$L$2481='Local Detail'!$A16)*(Projects!$J$5:$J$2481<>'Local Detail'!$A$136)*(Projects!$O$5:$O$2481))))","v":0},0,{"$f":"SUMPRODUCT((Projects!$A$5:$A$2481='Local Detail'!$G$3)*(Projects!$C$5:$C$2481<>'MDOT FTA Detail'!$C$4)*(Projects!$L$5:$L$2481='Local Detail'!$A16)*(Projects!$K$5:$K$2481))","v":0},{"$f":"((SUMPRODUCT((Projects!$A$5:$A$2481='Local Detail'!$G$3)*(Projects!$C$5:$C$2481<>'MDOT FTA Detail'!$C$4)*(Projects!$L$5:$L$2481='Local Detail'!$A16)*(Projects!$J$5:$J$2481<>'Local Detail'!$A$136)*(Projects!$M$5:$M$2481)))+(SUMPRODUCT((Projects!$A$5:$A$2481='Local Detail'!$G$3)*(Projects!$C$5:$C$2481<>'MDOT FTA Detail'!$C$4)*(Projects!$L$5:$L$2481='Local Detail'!$A16)*(Projects!$J$5:$J$2481<>'Local Detail'!$A$136)*(Projects!$O$5:$O$2481))))","v":0},0,{"$f":"SUMPRODUCT((Projects!$A$5:$A$2481='Local Detail'!$J$3)*(Projects!$C$5:$C$2481<>'MDOT FTA Detail'!$C$4)*(Projects!$L$5:$L$2481='Local Detail'!$A16)*(Projects!$K$5:$K$2481))","v":0},{"$f":"((SUMPRODUCT((Projects!$A$5:$A$2481='Local Detail'!$J$3)*(Projects!$C$5:$C$2481<>'MDOT FTA Detail'!$C$4)*(Projects!$L$5:$L$2481='Local Detail'!$A16)*(Projects!$J$5:$J$2481<>'Local Detail'!$A$136)*(Projects!$M$5:$M$2481)))+(SUMPRODUCT((Projects!$A$5:$A$2481='Local Detail'!$J$3)*(Projects!$C$5:$C$2481<>'MDOT FTA Detail'!$C$4)*(Projects!$L$5:$L$2481='Local Detail'!$A16)*(Projects!$J$5:$J$2481<>'Local Detail'!$A$136)*(Projects!$O$5:$O$2481))))","v":0},0,{"$f":"SUMPRODUCT((Projects!$A$5:$A$2481='Local Detail'!$M$3)*(Projects!$C$5:$C$2481<>'MDOT FTA Detail'!$C$4)*(Projects!$L$5:$L$2481='Local Detail'!$A16)*(Projects!$K$5:$K$2481))","v":0},{"$f":"((SUMPRODUCT((Projects!$A$5:$A$2481='Local Detail'!$M$3)*(Projects!$C$5:$C$2481<>'MDOT FTA Detail'!$C$4)*(Projects!$L$5:$L$2481='Local Detail'!$A16)*(Projects!$J$5:$J$2481<>'Local Detail'!$A$136)*(Projects!$M$5:$M$2481)))+(SUMPRODUCT((Projects!$A$5:$A$2481='Local Detail'!$M$3)*(Projects!$C$5:$C$2481<>'MDOT FTA Detail'!$C$4)*(Projects!$L$5:$L$2481='Local Detail'!$A16)*(Projects!$J$5:$J$2481<>'Local Detail'!$A$136)*(Projects!$O$5:$O$2481))))","v":0},0]
["CBCD","Corridor & Border Crossing Discretionary","Local Other FHWA",{"$f":"SUMPRODUCT((Projects!$A$5:$A$2481='Local Detail'!$D$3)*(Projects!$C$5:$C$2481<>'MDOT FTA Detail'!$C$4)*(Projects!$L$5:$L$2481='Local Detail'!$A17)*(Projects!$K$5:$K$2481))","v":0},{"$f":"((SUMPRODUCT((Projects!$A$5:$A$2481='Local Detail'!$D$3)*(Projects!$C$5:$C$2481<>'MDOT FTA Detail'!$C$4)*(Projects!$L$5:$L$2481='Local Detail'!$A17)*(Projects!$J$5:$J$2481<>'Local Detail'!$A$136)*(Projects!$M$5:$M$2481)))+(SUMPRODUCT((Projects!$A$5:$A$2481='Local Detail'!$D$3)*(Projects!$C$5:$C$2481<>'MDOT FTA Detail'!$C$4)*(Projects!$L$5:$L$2481='Local Detail'!$A17)*(Projects!$J$5:$J$2481<>'Local Detail'!$A$136)*(Projects!$O$5:$O$2481))))","v":0},0,{"$f":"SUMPRODUCT((Projects!$A$5:$A$2481='Local Detail'!$G$3)*(Projects!$C$5:$C$2481<>'MDOT FTA Detail'!$C$4)*(Projects!$L$5:$L$2481='Local Detail'!$A17)*(Projects!$K$5:$K$2481))","v":0},{"$f":"((SUMPRODUCT((Projects!$A$5:$A$2481='Local Detail'!$G$3)*(Projects!$C$5:$C$2481<>'MDOT FTA Detail'!$C$4)*(Projects!$L$5:$L$2481='Local Detail'!$A17)*(Projects!$J$5:$J$2481<>'Local Detail'!$A$136)*(Projects!$M$5:$M$2481)))+(SUMPRODUCT((Projects!$A$5:$A$2481='Local Detail'!$G$3)*(Projects!$C$5:$C$2481<>'MDOT FTA Detail'!$C$4)*(Projects!$L$5:$L$2481='Local Detail'!$A17)*(Projects!$J$5:$J$2481<>'Local Detail'!$A$136)*(Projects!$O$5:$O$2481))))","v":0},0,{"$f":"SUMPRODUCT((Projects!$A$5:$A$2481='Local Detail'!$J$3)*(Projects!$C$5:$C$2481<>'MDOT FTA Detail'!$C$4)*(Projects!$L$5:$L$2481='Local Detail'!$A17)*(Projects!$K$5:$K$2481))","v":0},{"$f":"((SUMPRODUCT((Projects!$A$5:$A$2481='Local Detail'!$J$3)*(Projects!$C$5:$C$2481<>'MDOT FTA Detail'!$C$4)*(Projects!$L$5:$L$2481='Local Detail'!$A17)*(Projects!$J$5:$J$2481<>'Local Detail'!$A$136)*(Projects!$M$5:$M$2481)))+(SUMPRODUCT((Projects!$A$5:$A$2481='Local Detail'!$J$3)*(Projects!$C$5:$C$2481<>'MDOT FTA Detail'!$C$4)*(Projects!$L$5:$L$2481='Local Detail'!$A17)*(Projects!$J$5:$J$2481<>'Local Detail'!$A$136)*(Projects!$O$5:$O$2481))))","v":0},0,{"$f":"SUMPRODUCT((Projects!$A$5:$A$2481='Local Detail'!$M$3)*(Projects!$C$5:$C$2481<>'MDOT FTA Detail'!$C$4)*(Projects!$L$5:$L$2481='Local Detail'!$A17)*(Projects!$K$5:$K$2481))","v":0},{"$f":"((SUMPRODUCT((Projects!$A$5:$A$2481='Local Detail'!$M$3)*(Projects!$C$5:$C$2481<>'MDOT FTA Detail'!$C$4)*(Projects!$L$5:$L$2481='Local Detail'!$A17)*(Projects!$J$5:$J$2481<>'Local Detail'!$A$136)*(Projects!$M$5:$M$2481)))+(SUMPRODUCT((Projects!$A$5:$A$2481='Local Detail'!$M$3)*(Projects!$C$5:$C$2481<>'MDOT FTA Detail'!$C$4)*(Projects!$L$5:$L$2481='Local Detail'!$A17)*(Projects!$J$5:$J$2481<>'Local Detail'!$A$136)*(Projects!$O$5:$O$2481))))","v":0},0]
["CBIP","Coordinated Border Infrastructure Program - SAFETEA-LU","Local Other FHWA",{"$f":"SUMPRODUCT((Projects!$A$5:$A$2481='Local Detail'!$D$3)*(Projects!$C$5:$C$2481<>'MDOT FTA Detail'!$C$4)*(Projects!$L$5:$L$2481='Local Detail'!$A18)*(Projects!$K$5:$K$2481))","v":0},{"$f":"((SUMPRODUCT((Projects!$A$5:$A$2481='Local Detail'!$D$3)*(Projects!$C$5:$C$2481<>'MDOT FTA Detail'!$C$4)*(Projects!$L$5:$L$2481='Local Detail'!$A18)*(Projects!$J$5:$J$2481<>'Local Detail'!$A$136)*(Projects!$M$5:$M$2481)))+(SUMPRODUCT((Projects!$A$5:$A$2481='Local Detail'!$D$3)*(Projects!$C$5:$C$2481<>'MDOT FTA Detail'!$C$4)*(Projects!$L$5:$L$2481='Local Detail'!$A18)*(Projects!$J$5:$J$2481<>'Local Detail'!$A$136)*(Projects!$O$5:$O$2481))))","v":0},0,{"$f":"SUMPRODUCT((Projects!$A$5:$A$2481='Local Detail'!$G$3)*(Projects!$C$5:$C$2481<>'MDOT FTA Detail'!$C$4)*(Projects!$L$5:$L$2481='Local Detail'!$A18)*(Projects!$K$5:$K$2481))","v":0},{"$f":"((SUMPRODUCT((Projects!$A$5:$A$2481='Local Detail'!$G$3)*(Projects!$C$5:$C$2481<>'MDOT FTA Detail'!$C$4)*(Projects!$L$5:$L$2481='Local Detail'!$A18)*(Projects!$J$5:$J$2481<>'Local Detail'!$A$136)*(Projects!$M$5:$M$2481)))+(SUMPRODUCT((Projects!$A$5:$A$2481='Local Detail'!$G$3)*(Projects!$C$5:$C$2481<>'MDOT FTA Detail'!$C$4)*(Projects!$L$5:$L$2481='Local Detail'!$A18)*(Projects!$J$5:$J$2481<>'Local Detail'!$A$136)*(Projects!$O$5:$O$2481))))","v":0},0,{"$f":"SUMPRODUCT((Projects!$A$5:$A$2481='Local Detail'!$J$3)*(Projects!$C$5:$C$2481<>'MDOT FTA Detail'!$C$4)*(Projects!$L$5:$L$2481='Local Detail'!$A18)*(Projects!$K$5:$K$2481))","v":0},{"$f":"((SUMPRODUCT((Projects!$A$5:$A$2481='Local Detail'!$J$3)*(Projects!$C$5:$C$2481<>'MDOT FTA Detail'!$C$4)*(Projects!$L$5:$L$2481='Local Detail'!$A18)*(Projects!$J$5:$J$2481<>'Local Detail'!$A$136)*(Projects!$M$5:$M$2481)))+(SUMPRODUCT((Projects!$A$5:$A$2481='Local Detail'!$J$3)*(Projects!$C$5:$C$2481<>'MDOT FTA Detail'!$C$4)*(Projects!$L$5:$L$2481='Local Detail'!$A18)*(Projects!$J$5:$J$2481<>'Local Detail'!$A$136)*(Projects!$O$5:$O$2481))))","v":0},0,{"$f":"SUMPRODUCT((Projects!$A$5:$A$2481='Local Detail'!$M$3)*(Projects!$C$5:$C$2481<>'MDOT FTA Detail'!$C$4)*(Projects!$L$5:$L$2481='Local Detail'!$A18)*(Projects!$K$5:$K$2481))","v":0},{"$f":"((SUMPRODUCT((Projects!$A$5:$A$2481='Local Detail'!$M$3)*(Projects!$C$5:$C$2481<>'MDOT FTA Detail'!$C$4)*(Projects!$L$5:$L$2481='Local Detail'!$A18)*(Projects!$J$5:$J$2481<>'Local Detail'!$A$136)*(Projects!$M$5:$M$2481)))+(SUMPRODUCT((Projects!$A$5:$A$2481='Local Detail'!$M$3)*(Projects!$C$5:$C$2481<>'MDOT FTA Detail'!$C$4)*(Projects!$L$5:$L$2481='Local Detail'!$A18)*(Projects!$J$5:$J$2481<>'Local Detail'!$A$136)*(Projects!$O$5:$O$2481))))","v":0},0]
["CM","Congestion Mitigation & Air Quality","Local CMAQ",{"$f":"SUMPRODUCT((Projects!$A$5:$A$2481='Local Detail'!$D$3)*(Projects!$C$5:$C$2481<>'MDOT FTA Detail'!$C$4)*(Projects!$L$5:$L$2481='Local Detail'!$A19)*(Projects!$K$5:$K$2481))","v":312800},{"$f":"((SUMPRODUCT((Projects!$A$5:$A$2481='Local Detail'!$D$3)*(Projects!$C$5:$C$2481<>'MDOT FTA Detail'!$C$4)*(Projects!$L$5:$L$2481='Local Detail'!$A19)*(Projects!$J$5:$J$2481<>'Local Detail'!$A$136)*(Projects!$M$5:$M$2481)))+(SUMPRODUCT((Projects!$A$5:$A$2481='Local Detail'!$D$3)*(Projects!$C$5:$C$2481<>'MDOT FTA Detail'!$C$4)*(Projects!$L$5:$L$2481='Local Detail'!$A19)*(Projects!$J$5:$J$2481<>'Local Detail'!$A$136)*(Projects!$O$5:$O$2481))))","v":23200},336000,{"$f":"SUMPRODUCT((Projects!$A$5:$A$2481='Local Detail'!$G$3)*(Projects!$C$5:$C$2481<>'MDOT FTA Detail'!$C$4)*(Projects!$L$5:$L$2481='Local Detail'!$A19)*(Projects!$K$5:$K$2481))","v":276000},{"$f":"((SUMPRODUCT((Projects!$A$5:$A$2481='Local Detail'!$G$3)*(Projects!$C$5:$C$2481<>'MDOT FTA Detail'!$C$4)*(Projects!$L$5:$L$2481='Local Detail'!$A19)*(Projects!$J$5:$J$2481<>'Local Detail'!$A$136)*(Projects!$M$5:$M$2481)))+(SUMPRODUCT((Projects!$A$5:$A$2481='Local Detail'!$G$3)*(Projects!$C$5:$C$2481<>'MDOT FTA Detail'!$C$4)*(Projects!$L$5:$L$2481='Local Detail'!$A19)*(Projects!$J$5:$J$2481<>'Local Detail'!$A$136)*(Projects!$O$5:$O$2481))))","v":0},276000,{"$f":"SUMPRODUCT((Projects!$A$5:$A$2481='Local Detail'!$J$3)*(Projects!$C$5:$C$2481<>'MDOT FTA Detail'!$C$4)*(Projects!$L$5:$L$2481='Local Detail'!$A19)*(Projects!$K$5:$K$2481))","v":165000},{"$f":"((SUMPRODUCT((Projects!$A$5:$A$2481='Local Detail'!$J$3)*(Projects!$C$5:$C$2481<>'MDOT FTA Detail'!$C$4)*(Projects!$L$5:$L$2481='Local Detail'!$A19)*(Projects!$J$5:$J$2481<>'Local Detail'!$A$136)*(Projects!$M$5:$M$2481)))+(SUMPRODUCT((Projects!$A$5:$A$2481='Local Detail'!$J$3)*(Projects!$C$5:$C$2481<>'MDOT FTA Detail'!$C$4)*(Projects!$L$5:$L$2481='Local Detail'!$A19)*(Projects!$J$5:$J$2481<>'Local Detail'!$A$136)*(Projects!$O$5:$O$2481))))","v":25000},190000,{"$f":"SUMPRODUCT((Projects!$A$5:$A$2481='Local Detail'!$M$3)*(Projects!$C$5:$C$2481<>'MDOT FTA Detail'!$C$4)*(Projects!$L$5:$L$2481='Local Detail'!$A19)*(Projects!$K$5:$K$2481))","v":929000},{"$f":"((SUMPRODUCT((Projects!$A$5:$A$2481='Local Detail'!$M$3)*(Projects!$C$5:$C$2481<>'MDOT FTA Detail'!$C$4)*(Projects!$L$5:$L$2481='Local Detail'!$A19)*(Projects!$J$5:$J$2481<>'Local Detail'!$A$136)*(Projects!$M$5:$M$2481)))+(SUMPRODUCT((Projects!$A$5:$A$2481='Local Detail'!$M$3)*(Projects!$C$5:$C$2481<>'MDOT FTA Detail'!$C$4)*(Projects!$L$5:$L$2481='Local Detail'!$A19)*(Projects!$J$5:$J$2481<>'Local Detail'!$A$136)*(Projects!$O$5:$O$2481))))","v":120000},1049000]
["CMG","Congestion Mitigation & Air Quality - 100% Federal","Local CMAQ",{"$f":"SUMPRODUCT((Projects!$A$5:$A$2481='Local Detail'!$D$3)*(Projects!$C$5:$C$2481<>'MDOT FTA Detail'!$C$4)*(Projects!$L$5:$L$2481='Local Detail'!$A20)*(Projects!$K$5:$K$2481))","v":12000},{"$f":"((SUMPRODUCT((Projects!$A$5:$A$2481='Local Detail'!$D$3)*(Projects!$C$5:$C$2481<>'MDOT FTA Detail'!$C$4)*(Projects!$L$5:$L$2481='Local Detail'!$A20)*(Projects!$J$5:$J$2481<>'Local Detail'!$A$136)*(Projects!$M$5:$M$2481)))+(SUMPRODUCT((Projects!$A$5:$A$2481='Local Detail'!$D$3)*(Projects!$C$5:$C$2481<>'MDOT FTA Detail'!$C$4)*(Projects!$L$5:$L$2481='Local Detail'!$A20)*(Projects!$J$5:$J$2481<>'Local Detail'!$A$136)*(Projects!$O$5:$O$2481))))","v":0},12000,{"$f":"SUMPRODUCT((Projects!$A$5:$A$2481='Local Detail'!$G$3)*(Projects!$C$5:$C$2481<>'MDOT FTA Detail'!$C$4)*(Projects!$L$5:$L$2481='Local Detail'!$A20)*(Projects!$K$5:$K$2481))","v":0},{"$f":"((SUMPRODUCT((Projects!$A$5:$A$2481='Local Detail'!$G$3)*(Projects!$C$5:$C$2481<>'MDOT FTA Detail'!$C$4)*(Projects!$L$5:$L$2481='Local Detail'!$A20)*(Projects!$J$5:$J$2481<>'Local Detail'!$A$136)*(Projects!$M$5:$M$2481)))+(SUMPRODUCT((Projects!$A$5:$A$2481='Local Detail'!$G$3)*(Projects!$C$5:$C$2481<>'MDOT FTA Detail'!$C$4)*(Projects!$L$5:$L$2481='Local Detail'!$A20)*(Projects!$J$5:$J$2481<>'Local Detail'!$A$136)*(Projects!$O$5:$O$2481))))","v":0},0,{"$f":"SUMPRODUCT((Projects!$A$5:$A$2481='Local Detail'!$J$3)*(Projects!$C$5:$C$2481<>'MDOT FTA Detail'!$C$4)*(Projects!$L$5:$L$2481='Local Detail'!$A20)*(Projects!$K$5:$K$2481))","v":0},{"$f":"((SUMPRODUCT((Projects!$A$5:$A$2481='Local Detail'!$J$3)*(Projects!$C$5:$C$2481<>'MDOT FTA Detail'!$C$4)*(Projects!$L$5:$L$2481='Local Detail'!$A20)*(Projects!$J$5:$J$2481<>'Local Detail'!$A$136)*(Projects!$M$5:$M$2481)))+(SUMPRODUCT((Projects!$A$5:$A$2481='Local Detail'!$J$3)*(Projects!$C$5:$C$2481<>'MDOT FTA Detail'!$C$4)*(Projects!$L$5:$L$2481='Local Detail'!$A20)*(Projects!$J$5:$J$2481<>'Local Detail'!$A$136)*(Projects!$O$5:$O$2481))))","v":0},0,{"$f":"SUMPRODUCT((Projects!$A$5:$A$2481='Local Detail'!$M$3)*(Projects!$C$5:$C$2481<>'MDOT FTA Detail'!$C$4)*(Projects!$L$5:$L$2481='Local Detail'!$A20)*(Projects!$K$5:$K$2481))","v":0},{"$f":"((SUMPRODUCT((Projects!$A$5:$A$2481='Local Detail'!$M$3)*(Projects!$C$5:$C$2481<>'MDOT FTA Detail'!$C$4)*(Projects!$L$5:$L$2481='Local Detail'!$A20)*(Projects!$J$5:$J$2481<>'Local Detail'!$A$136)*(Projects!$M$5:$M$2481)))+(SUMPRODUCT((Projects!$A$5:$A$2481='Local Detail'!$M$3)*(Projects!$C$5:$C$2481<>'MDOT FTA Detail'!$C$4)*(Projects!$L$5:$L$2481='Local Detail'!$A20)*(Projects!$J$5:$J$2481<>'Local Detail'!$A$136)*(Projects!$O$5:$O$2481))))","v":0},0]
["DIG","ISTEA Demonstration 100% Federal on Interstate","Local Other FHWA",{"$f":"SUMPRODUCT((Projects!$A$5:$A$2481='Local Detail'!$D$3)*(Projects!$C$5:$C$2481<>'MDOT FTA Detail'!$C$4)*(Projects!$L$5:$L$2481='Local Detail'!$A21)*(Projects!$K$5:$K$2481))","v":0},{"$f":"((SUMPRODUCT((Projects!$A$5:$A$2481='Local Detail'!$D$3)*(Projects!$C$5:$C$2481<>'MDOT FTA Detail'!$C$4)*(Projects!$L$5:$L$2481='Local Detail'!$A21)*(Projects!$J$5:$J$2481<>'Local Detail'!$A$136)*(Projects!$M$5:$M$2481)))+(SUMPRODUCT((Projects!$A$5:$A$2481='Local Detail'!$D$3)*(Projects!$C$5:$C$2481<>'MDOT FTA Detail'!$C$4)*(Projects!$L$5:$L$2481='Local Detail'!$A21)*(Projects!$J$5:$J$2481<>'Local Detail'!$A$136)*(Projects!$O$5:$O$2481))))","v":0},0,{"$f":"SUMPRODUCT((Projects!$A$5:$A$2481='Local Detail'!$G$3)*(Projects!$C$5:$C$2481<>'MDOT FTA Detail'!$C$4)*(Projects!$L$5:$L$2481='Local Detail'!$A21)*(Projects!$K$5:$K$2481))","v":0},{"$f":"((SUMPRODUCT((Projects!$A$5:$A$2481='Local Detail'!$G$3)*(Projects!$C$5:$C$2481<>'MDOT FTA Detail'!$C$4)*(Projects!$L$5:$L$2481='Local Detail'!$A21)*(Projects!$J$5:$J$2481<>'Local Detail'!$A$136)*(Projects!$M$5:$M$2481)))+(SUMPRODUCT((Projects!$A$5:$A$2481='Local Detail'!$G$3)*(Projects!$C$5:$C$2481<>'MDOT FTA Detail'!$C$4)*(Projects!$L$5:$L$2481='Local Detail'!$A21)*(Projects!$J$5:$J$2481<>'Local Detail'!$A$136)*(Projects!$O$5:$O$2481))))","v":0},0,{"$f":"SUMPRODUCT((Projects!$A$5:$A$2481='Local Detail'!$J$3)*(Projects!$C$5:$C$2481<>'MDOT FTA Detail'!$C$4)*(Projects!$L$5:$L$2481='Local Detail'!$A21)*(Projects!$K$5:$K$2481))","v":0},{"$f":"((SUMPRODUCT((Projects!$A$5:$A$2481='Local Detail'!$J$3)*(Projects!$C$5:$C$2481<>'MDOT FTA Detail'!$C$4)*(Projects!$L$5:$L$2481='Local Detail'!$A21)*(Projects!$J$5:$J$2481<>'Local Detail'!$A$136)*(Projects!$M$5:$M$2481)))+(SUMPRODUCT((Projects!$A$5:$A$2481='Local Detail'!$J$3)*(Projects!$C$5:$C$2481<>'MDOT FTA Detail'!$C$4)*(Projects!$L$5:$L$2481='Local Detail'!$A21)*(Projects!$J$5:$J$2481<>'Local Detail'!$A$136)*(Projects!$O$5:$O$2481))))","v":0},0,{"$f":"SUMPRODUCT((Projects!$A$5:$A$2481='Local Detail'!$M$3)*(Projects!$C$5:$C$2481<>'MDOT FTA Detail'!$C$4)*(Projects!$L$5:$L$2481='Local Detail'!$A21)*(Projects!$K$5:$K$2481))","v":0},{"$f":"((SUMPRODUCT((Projects!$A$5:$A$2481='Local Detail'!$M$3)*(Projects!$C$5:$C$2481<>'MDOT FTA Detail'!$C$4)*(Projects!$L$5:$L$2481='Local Detail'!$A21)*(Projects!$J$5:$J$2481<>'Local Detail'!$A$136)*(Projects!$M$5:$M$2481)))+(SUMPRODUCT((Projects!$A$5:$A$2481='Local Detail'!$M$3)*(Projects!$C$5:$C$2481<>'MDOT FTA Detail'!$C$4)*(Projects!$L$5:$L$2481='Local Detail'!$A21)*(Projects!$J$5:$J$2481<>'Local Detail'!$A$136)*(Projects!$O$5:$O$2481))))","v":0},0]
["DOG","ISTEA Demonstration 100% Federal Not Classified","Local Other FHWA",{"$f":"SUMPRODUCT((Projects!$A$5:$A$2481='Local Detail'!$D$3)*(Projects!$C$5:$C$2481<>'MDOT FTA Detail'!$C$4)*(Projects!$L$5:$L$2481='Local Detail'!$A22)*(Projects!$K$5:$K$2481))","v":0},{"$f":"((SUMPRODUCT((Projects!$A$5:$A$2481='Local Detail'!$D$3)*(Projects!$C$5:$C$2481<>'MDOT FTA Detail'!$C$4)*(Projects!$L$5:$L$2481='Local Detail'!$A22)*(Projects!$J$5:$J$2481<>'Local Detail'!$A$136)*(Projects!$M$5:$M$2481)))+(SUMPRODUCT((Projects!$A$5:$A$2481='Local Detail'!$D$3)*(Projects!$C$5:$C$2481<>'MDOT FTA Detail'!$C$4)*(Projects!$L$5:$L$2481='Local Detail'!$A22)*(Projects!$J$5:$J$2481<>'Local Detail'!$A$136)*(Projects!$O$5:$O$2481))))","v":0},0,{"$f":"SUMPRODUCT((Projects!$A$5:$A$2481='Local Detail'!$G$3)*(Projects!$C$5:$C$2481<>'MDOT FTA Detail'!$C$4)*(Projects!$L$5:$L$2481='Local Detail'!$A22)*(Projects!$K$5:$K$2481))","v":0},{"$f":"((SUMPRODUCT((Projects!$A$5:$A$2481='Local Detail'!$G$3)*(Projects!$C$5:$C$2481<>'MDOT FTA Detail'!$C$4)*(Projects!$L$5:$L$2481='Local Detail'!$A22)*(Projects!$J$5:$J$2481<>'Local Detail'!$A$136)*(Projects!$M$5:$M$2481)))+(SUMPRODUCT((Projects!$A$5:$A$2481='Local Detail'!$G$3)*(Projects!$C$5:$C$2481<>'MDOT FTA Detail'!$C$4)*(Projects!$L$5:$L$2481='Local Detail'!$A22)*(Projects!$J$5:$J$2481<>'Local Detail'!$A$136)*(Projects!$O$5:$O$2481))))","v":0},0,{"$f":"SUMPRODUCT((Projects!$A$5:$A$2481='Local Detail'!$J$3)*(Projects!$C$5:$C$2481<>'MDOT FTA Detail'!$C$4)*(Projects!$L$5:$L$2481='Local Detail'!$A22)*(Projects!$K$5:$K$2481))","v":0},{"$f":"((SUMPRODUCT((Projects!$A$5:$A$2481='Local Detail'!$J$3)*(Projects!$C$5:$C$2481<>'MDOT FTA Detail'!$C$4)*(Projects!$L$5:$L$2481='Local Detail'!$A22)*(Projects!$J$5:$J$2481<>'Local Detail'!$A$136)*(Projects!$M$5:$M$2481)))+(SUMPRODUCT((Projects!$A$5:$A$2481='Local Detail'!$J$3)*(Projects!$C$5:$C$2481<>'MDOT FTA Detail'!$C$4)*(Projects!$L$5:$L$2481='Local Detail'!$A22)*(Projects!$J$5:$J$2481<>'Local Detail'!$A$136)*(Projects!$O$5:$O$2481))))","v":0},0,{"$f":"SUMPRODUCT((Projects!$A$5:$A$2481='Local Detail'!$M$3)*(Projects!$C$5:$C$2481<>'MDOT FTA Detail'!$C$4)*(Projects!$L$5:$L$2481='Local Detail'!$A22)*(Projects!$K$5:$K$2481))","v":0},{"$f":"((SUMPRODUCT((Projects!$A$5:$A$2481='Local Detail'!$M$3)*(Projects!$C$5:$C$2481<>'MDOT FTA Detail'!$C$4)*(Projects!$L$5:$L$2481='Local Detail'!$A22)*(Projects!$J$5:$J$2481<>'Local Detail'!$A$136)*(Projects!$M$5:$M$2481)))+(SUMPRODUCT((Projects!$A$5:$A$2481='Local Detail'!$M$3)*(Projects!$C$5:$C$2481<>'MDOT FTA Detail'!$C$4)*(Projects!$L$5:$L$2481='Local Detail'!$A22)*(Projects!$J$5:$J$2481<>'Local Detail'!$A$136)*(Projects!$O$5:$O$2481))))","v":0},0]
["DPN","ISTEA Demonstration 80% Federal on NHS","Local Other FHWA",{"$f":"SUMPRODUCT((Projects!$A$5:$A$2481='Local Detail'!$D$3)*(Projects!$C$5:$C$2481<>'MDOT FTA Detail'!$C$4)*(Projects!$L$5:$L$2481='Local Detail'!$A23)*(Projects!$K$5:$K$2481))","v":0},{"$f":"((SUMPRODUCT((Projects!$A$5:$A$2481='Local Detail'!$D$3)*(Projects!$C$5:$C$2481<>'MDOT FTA Detail'!$C$4)*(Projects!$L$5:$L$2481='Local Detail'!$A23)*(Projects!$J$5:$J$2481<>'Local Detail'!$A$136)*(Projects!$M$5:$M$2481)))+(SUMPRODUCT((Projects!$A$5:$A$2481='Local Detail'!$D$3)*(Projects!$C$5:$C$2481<>'MDOT FTA Detail'!$C$4)*(Projects!$L$5:$L$2481='Local Detail'!$A23)*(Projects!$J$5:$J$2481<>'Local Detail'!$A$136)*(Projects!$O$5:$O$2481))))","v":0},0,{"$f":"SUMPRODUCT((Projects!$A$5:$A$2481='Local Detail'!$G$3)*(Projects!$C$5:$C$2481<>'MDOT FTA Detail'!$C$4)*(Projects!$L$5:$L$2481='Local Detail'!$A23)*(Projects!$K$5:$K$2481))","v":0},{"$f":"((SUMPRODUCT((Projects!$A$5:$A$2481='Local Detail'!$G$3)*(Projects!$C$5:$C$2481<>'MDOT FTA Detail'!$C$4)*(Projects!$L$5:$L$2481='Local Detail'!$A23)*(Projects!$J$5:$J$2481<>'Local Detail'!$A$136)*(Projects!$M$5:$M$2481)))+(SUMPRODUCT((Projects!$A$5:$A$2481='Local Detail'!$G$3)*(Projects!$C$5:$C$2481<>'MDOT FTA Detail'!$C$4)*(Projects!$L$5:$L$2481='Local Detail'!$A23)*(Projects!$J$5:$J$2481<>'Local Detail'!$A$136)*(Projects!$O$5:$O$2481))))","v":0},0,{"$f":"SUMPRODUCT((Projects!$A$5:$A$2481='Local Detail'!$J$3)*(Projects!$C$5:$C$2481<>'MDOT FTA Detail'!$C$4)*(Projects!$L$5:$L$2481='Local Detail'!$A23)*(Projects!$K$5:$K$2481))","v":0},{"$f":"((SUMPRODUCT((Projects!$A$5:$A$2481='Local Detail'!$J$3)*(Projects!$C$5:$C$2481<>'MDOT FTA Detail'!$C$4)*(Projects!$L$5:$L$2481='Local Detail'!$A23)*(Projects!$J$5:$J$2481<>'Local Detail'!$A$136)*(Projects!$M$5:$M$2481)))+(SUMPRODUCT((Projects!$A$5:$A$2481='Local Detail'!$J$3)*(Projects!$C$5:$C$2481<>'MDOT FTA Detail'!$C$4)*(Projects!$L$5:$L$2481='Local Detail'!$A23)*(Projects!$J$5:$J$2481<>'Local Detail'!$A$136)*(Projects!$O$5:$O$2481))))","v":0},0,{"$f":"SUMPRODUCT((Projects!$A$5:$A$2481='Local Detail'!$M$3)*(Projects!$C$5:$C$2481<>'MDOT FTA Detail'!$C$4)*(Projects!$L$5:$L$2481='Local Detail'!$A23)*(Projects!$K$5:$K$2481))","v":0},{"$f":"((SUMPRODUCT((Projects!$A$5:$A$2481='Local Detail'!$M$3)*(Projects!$C$5:$C$2481<>'MDOT FTA Detail'!$C$4)*(Projects!$L$5:$L$2481='Local Detail'!$A23)*(Projects!$J$5:$J$2481<>'Local Detail'!$A$136)*(Projects!$M$5:$M$2481)))+(SUMPRODUCT((Projects!$A$5:$A$2481='Local Detail'!$M$3)*(Projects!$C$5:$C$2481<>'MDOT FTA Detail'!$C$4)*(Projects!$L$5:$L$2481='Local Detail'!$A23)*(Projects!$J$5:$J$2481<>'Local Detail'!$A$136)*(Projects!$O$5:$O$2481))))","v":0},0]
["DPO","ISTEA Demonstration 80% Federal Not Classified","Local Other FHWA",{"$f":"SUMPRODUCT((Projects!$A$5:$A$2481='Local Detail'!$D$3)*(Projects!$C$5:$C$2481<>'MDOT FTA Detail'!$C$4)*(Projects!$L$5:$L$2481='Local Detail'!$A24)*(Projects!$K$5:$K$2481))","v":0},{"$f":"((SUMPRODUCT((Projects!$A$5:$A$2481='Local Detail'!$D$3)*(Projects!$C$5:$C$2481<>'MDOT FTA Detail'!$C$4)*(Projects!$L$5:$L$2481='Local Detail'!$A24)*(Projects!$J$5:$J$2481<>'Local Detail'!$A$136)*(Projects!$M$5:$M$2481)))+(SUMPRODUCT((Projects!$A$5:$A$2481='Local Detail'!$D$3)*(Projects!$C$5:$C$2481<>'MDOT FTA Detail'!$C$4)*(Projects!$L$5:$L$2481='Local Detail'!$A24)*(Projects!$J$5:$J$2481<>'Local Detail'!$A$136)*(Projects!$O$5:$O$2481))))","v":0},0,{"$f":"SUMPRODUCT((Projects!$A$5:$A$2481='Local Detail'!$G$3)*(Projects!$C$5:$C$2481<>'MDOT FTA Detail'!$C$4)*(Projects!$L$5:$L$2481='Local Detail'!$A24)*(Projects!$K$5:$K$2481))","v":0},{"$f":"((SUMPRODUCT((Projects!$A$5:$A$2481='Local Detail'!$G$3)*(Projects!$C$5:$C$2481<>'MDOT FTA Detail'!$C$4)*(Projects!$L$5:$L$2481='Local Detail'!$A24)*(Projects!$J$5:$J$2481<>'Local Detail'!$A$136)*(Projects!$M$5:$M$2481)))+(SUMPRODUCT((Projects!$A$5:$A$2481='Local Detail'!$G$3)*(Projects!$C$5:$C$2481<>'MDOT FTA Detail'!$C$4)*(Projects!$L$5:$L$2481='Local Detail'!$A24)*(Projects!$J$5:$J$2481<>'Local Detail'!$A$136)*(Projects!$O$5:$O$2481))))","v":0},0,{"$f":"SUMPRODUCT((Projects!$A$5:$A$2481='Local Detail'!$J$3)*(Projects!$C$5:$C$2481<>'MDOT FTA Detail'!$C$4)*(Projects!$L$5:$L$2481='Local Detail'!$A24)*(Projects!$K$5:$K$2481))","v":0},{"$f":"((SUMPRODUCT((Projects!$A$5:$A$2481='Local Detail'!$J$3)*(Projects!$C$5:$C$2481<>'MDOT FTA Detail'!$C$4)*(Projects!$L$5:$L$2481='Local Detail'!$A24)*(Projects!$J$5:$J$2481<>'Local Detail'!$A$136)*(Projects!$M$5:$M$2481)))+(SUMPRODUCT((Projects!$A$5:$A$2481='Local Detail'!$J$3)*(Projects!$C$5:$C$2481<>'MDOT FTA Detail'!$C$4)*(Projects!$L$5:$L$2481='Local Detail'!$A24)*(Projects!$J$5:$J$2481<>'Local Detail'!$A$136)*(Projects!$O$5:$O$2481))))","v":0},0,{"$f":"SUMPRODUCT((Projects!$A$5:$A$2481='Local Detail'!$M$3)*(Projects!$C$5:$C$2481<>'MDOT FTA Detail'!$C$4)*(Projects!$L$5:$L$2481='Local Detail'!$A24)*(Projects!$K$5:$K$2481))","v":0},{"$f":"((SUMPRODUCT((Projects!$A$5:$A$2481='Local Detail'!$M$3)*(Projects!$C$5:$C$2481<>'MDOT FTA Detail'!$C$4)*(Projects!$L$5:$L$2481='Local Detail'!$A24)*(Projects!$J$5:$J$2481<>'Local Detail'!$A$136)*(Projects!$M$5:$M$2481)))+(SUMPRODUCT((Projects!$A$5:$A$2481='Local Detail'!$M$3)*(Projects!$C$5:$C$2481<>'MDOT FTA Detail'!$C$4)*(Projects!$L$5:$L$2481='Local Detail'!$A24)*(Projects!$J$5:$J$2481<>'Local Detail'!$A$136)*(Projects!$O$5:$O$2481))))","v":0},0]
["DPS","ISTEA Demonstration 80% Federal on STP","Local Other FHWA",{"$f":"SUMPRODUCT((Projects!$A$5:$A$2481='Local Detail'!$D$3)*(Projects!$C$5:$C$2481<>'MDOT FTA Detail'!$C$4)*(Projects!$L$5:$L$2481='Local Detail'!$A25)*(Projects!$K$5:$K$2481))","v":0},{"$f":"((SUMPRODUCT((Projects!$A$5:$A$2481='Local Detail'!$D$3)*(Projects!$C$5:$C$2481<>'MDOT FTA Detail'!$C$4)*(Projects!$L$5:$L$2481='Local Detail'!$A25)*(Projects!$J$5:$J$2481<>'Local Detail'!$A$136)*(Projects!$M$5:$M$2481)))+(SUMPRODUCT((Projects!$A$5:$A$2481='Local Detail'!$D$3)*(Projects!$C$5:$C$2481<>'MDOT FTA Detail'!$C$4)*(Projects!$L$5:$L$2481='Local Detail'!$A25)*(Projects!$J$5:$J$2481<>'Local Detail'!$A$136)*(Projects!$O$5:$O$2481))))","v":0},0,{"$f":"SUMPRODUCT((Projects!$A$5:$A$2481='Local Detail'!$G$3)*(Projects!$C$5:$C$2481<>'MDOT FTA Detail'!$C$4)*(Projects!$L$5:$L$2481='Local Detail'!$A25)*(Projects!$K$5:$K$2481))","v":0},{"$f":"((SUMPRODUCT((Projects!$A$5:$A$2481='Local Detail'!$G$3)*(Projects!$C$5:$C$2481<>'MDOT FTA Detail'!$C$4)*(Projects!$L$5:$L$2481='Local Detail'!$A25)*(Projects!$J$5:$J$2481<>'Local Detail'!$A$136)*(Projects!$M$5:$M$2481)))+(SUMPRODUCT((Projects!$A$5:$A$2481='Local Detail'!$G$3)*(Projects!$C$5:$C$2481<>'MDOT FTA Detail'!$C$4)*(Projects!$L$5:$L$2481='Local Detail'!$A25)*(Projects!$J$5:$J$2481<>'Local Detail'!$A$136)*(Projects!$O$5:$O$2481))))","v":0},0,{"$f":"SUMPRODUCT((Projects!$A$5:$A$2481='Local Detail'!$J$3)*(Projects!$C$5:$C$2481<>'MDOT FTA Detail'!$C$4)*(Projects!$L$5:$L$2481='Local Detail'!$A25)*(Projects!$K$5:$K$2481))","v":0},{"$f":"((SUMPRODUCT((Projects!$A$5:$A$2481='Local Detail'!$J$3)*(Projects!$C$5:$C$2481<>'MDOT FTA Detail'!$C$4)*(Projects!$L$5:$L$2481='Local Detail'!$A25)*(Projects!$J$5:$J$2481<>'Local Detail'!$A$136)*(Projects!$M$5:$M$2481)))+(SUMPRODUCT((Projects!$A$5:$A$2481='Local Detail'!$J$3)*(Projects!$C$5:$C$2481<>'MDOT FTA Detail'!$C$4)*(Projects!$L$5:$L$2481='Local Detail'!$A25)*(Projects!$J$5:$J$2481<>'Local Detail'!$A$136)*(Projects!$O$5:$O$2481))))","v":0},0,{"$f":"SUMPRODUCT((Projects!$A$5:$A$2481='Local Detail'!$M$3)*(Projects!$C$5:$C$2481<>'MDOT FTA Detail'!$C$4)*(Projects!$L$5:$L$2481='Local Detail'!$A25)*(Projects!$K$5:$K$2481))","v":0},{"$f":"((SUMPRODUCT((Projects!$A$5:$A$2481='Local Detail'!$M$3)*(Projects!$C$5:$C$2481<>'MDOT FTA Detail'!$C$4)*(Projects!$L$5:$L$2481='Local Detail'!$A25)*(Projects!$J$5:$J$2481<>'Local Detail'!$A$136)*(Projects!$M$5:$M$2481)))+(SUMPRODUCT((Projects!$A$5:$A$2481='Local Detail'!$M$3)*(Projects!$C$5:$C$2481<>'MDOT FTA Detail'!$C$4)*(Projects!$L$5:$L$2481='Local Detail'!$A25)*(Projects!$J$5:$J$2481<>'Local Detail'!$A$136)*(Projects!$O$5:$O$2481))))","v":0},0]
["DPSA","Demonstration Project Section 112 Division A","Local Other FHWA",{"$f":"SUMPRODUCT((Projects!$A$5:$A$2481='Local Detail'!$D$3)*(Projects!$C$5:$C$2481<>'MDOT FTA Detail'!$C$4)*(Projects!$L$5:$L$2481='Local Detail'!$A26)*(Projects!$K$5:$K$2481))","v":0},{"$f":"((SUMPRODUCT((Projects!$A$5:$A$2481='Local Detail'!$D$3)*(Projects!$C$5:$C$2481<>'MDOT FTA Detail'!$C$4)*(Projects!$L$5:$L$2481='Local Detail'!$A26)*(Projects!$J$5:$J$2481<>'Local Detail'!$A$136)*(Projects!$M$5:$M$2481)))+(SUMPRODUCT((Projects!$A$5:$A$2481='Local Detail'!$D$3)*(Projects!$C$5:$C$2481<>'MDOT FTA Detail'!$C$4)*(Projects!$L$5:$L$2481='Local Detail'!$A26)*(Projects!$J$5:$J$2481<>'Local Detail'!$A$136)*(Projects!$O$5:$O$2481))))","v":0},0,{"$f":"SUMPRODUCT((Projects!$A$5:$A$2481='Local Detail'!$G$3)*(Projects!$C$5:$C$2481<>'MDOT FTA Detail'!$C$4)*(Projects!$L$5:$L$2481='Local Detail'!$A26)*(Projects!$K$5:$K$2481))","v":0},{"$f":"((SUMPRODUCT((Projects!$A$5:$A$2481='Local Detail'!$G$3)*(Projects!$C$5:$C$2481<>'MDOT FTA Detail'!$C$4)*(Projects!$L$5:$L$2481='Local Detail'!$A26)*(Projects!$J$5:$J$2481<>'Local Detail'!$A$136)*(Projects!$M$5:$M$2481)))+(SUMPRODUCT((Projects!$A$5:$A$2481='Local Detail'!$G$3)*(Projects!$C$5:$C$2481<>'MDOT FTA Detail'!$C$4)*(Projects!$L$5:$L$2481='Local Detail'!$A26)*(Projects!$J$5:$J$2481<>'Local Detail'!$A$136)*(Projects!$O$5:$O$2481))))","v":0},0,{"$f":"SUMPRODUCT((Projects!$A$5:$A$2481='Local Detail'!$J$3)*(Projects!$C$5:$C$2481<>'MDOT FTA Detail'!$C$4)*(Projects!$L$5:$L$2481='Local Detail'!$A26)*(Projects!$K$5:$K$2481))","v":0},{"$f":"((SUMPRODUCT((Projects!$A$5:$A$2481='Local Detail'!$J$3)*(Projects!$C$5:$C$2481<>'MDOT FTA Detail'!$C$4)*(Projects!$L$5:$L$2481='Local Detail'!$A26)*(Projects!$J$5:$J$2481<>'Local Detail'!$A$136)*(Projects!$M$5:$M$2481)))+(SUMPRODUCT((Projects!$A$5:$A$2481='Local Detail'!$J$3)*(Projects!$C$5:$C$2481<>'MDOT FTA Detail'!$C$4)*(Projects!$L$5:$L$2481='Local Detail'!$A26)*(Projects!$J$5:$J$2481<>'Local Detail'!$A$136)*(Projects!$O$5:$O$2481))))","v":0},0,{"$f":"SUMPRODUCT((Projects!$A$5:$A$2481='Local Detail'!$M$3)*(Projects!$C$5:$C$2481<>'MDOT FTA Detail'!$C$4)*(Projects!$L$5:$L$2481='Local Detail'!$A26)*(Projects!$K$5:$K$2481))","v":0},{"$f":"((SUMPRODUCT((Projects!$A$5:$A$2481='Local Detail'!$M$3)*(Projects!$C$5:$C$2481<>'MDOT FTA Detail'!$C$4)*(Projects!$L$5:$L$2481='Local Detail'!$A26)*(Projects!$J$5:$J$2481<>'Local Detail'!$A$136)*(Projects!$M$5:$M$2481)))+(SUMPRODUCT((Projects!$A$5:$A$2481='Local Detail'!$M$3)*(Projects!$C$5:$C$2481<>'MDOT FTA Detail'!$C$4)*(Projects!$L$5:$L$2481='Local Detail'!$A26)*(Projects!$J$5:$J$2481<>'Local Detail'!$A$136)*(Projects!$O$5:$O$2481))))","v":0},0]
["DST","Donor Bonus Surface Transportation","Local EB",{"$f":"SUMPRODUCT((Projects!$A$5:$A$2481='Local Detail'!$D$3)*(Projects!$C$5:$C$2481<>'MDOT FTA Detail'!$C$4)*(Projects!$L$5:$L$2481='Local Detail'!$A27)*(Projects!$K$5:$K$2481))","v":0},{"$f":"((SUMPRODUCT((Projects!$A$5:$A$2481='Local Detail'!$D$3)*(Projects!$C$5:$C$2481<>'MDOT FTA Detail'!$C$4)*(Projects!$L$5:$L$2481='Local Detail'!$A27)*(Projects!$J$5:$J$2481<>'Local Detail'!$A$136)*(Projects!$M$5:$M$2481)))+(SUMPRODUCT((Projects!$A$5:$A$2481='Local Detail'!$D$3)*(Projects!$C$5:$C$2481<>'MDOT FTA Detail'!$C$4)*(Projects!$L$5:$L$2481='Local Detail'!$A27)*(Projects!$J$5:$J$2481<>'Local Detail'!$A$136)*(Projects!$O$5:$O$2481))))","v":0},0,{"$f":"SUMPRODUCT((Projects!$A$5:$A$2481='Local Detail'!$G$3)*(Projects!$C$5:$C$2481<>'MDOT FTA Detail'!$C$4)*(Projects!$L$5:$L$2481='Local Detail'!$A27)*(Projects!$K$5:$K$2481))","v":0},{"$f":"((SUMPRODUCT((Projects!$A$5:$A$2481='Local Detail'!$G$3)*(Projects!$C$5:$C$2481<>'MDOT FTA Detail'!$C$4)*(Projects!$L$5:$L$2481='Local Detail'!$A27)*(Projects!$J$5:$J$2481<>'Local Detail'!$A$136)*(Projects!$M$5:$M$2481)))+(SUMPRODUCT((Projects!$A$5:$A$2481='Local Detail'!$G$3)*(Projects!$C$5:$C$2481<>'MDOT FTA Detail'!$C$4)*(Projects!$L$5:$L$2481='Local Detail'!$A27)*(Projects!$J$5:$J$2481<>'Local Detail'!$A$136)*(Projects!$O$5:$O$2481))))","v":0},0,{"$f":"SUMPRODUCT((Projects!$A$5:$A$2481='Local Detail'!$J$3)*(Projects!$C$5:$C$2481<>'MDOT FTA Detail'!$C$4)*(Projects!$L$5:$L$2481='Local Detail'!$A27)*(Projects!$K$5:$K$2481))","v":0},{"$f":"((SUMPRODUCT((Projects!$A$5:$A$2481='Local Detail'!$J$3)*(Projects!$C$5:$C$2481<>'MDOT FTA Detail'!$C$4)*(Projects!$L$5:$L$2481='Local Detail'!$A27)*(Projects!$J$5:$J$2481<>'Local Detail'!$A$136)*(Projects!$M$5:$M$2481)))+(SUMPRODUCT((Projects!$A$5:$A$2481='Local Detail'!$J$3)*(Projects!$C$5:$C$2481<>'MDOT FTA Detail'!$C$4)*(Projects!$L$5:$L$2481='Local Detail'!$A27)*(Projects!$J$5:$J$2481<>'Local Detail'!$A$136)*(Projects!$O$5:$O$2481))))","v":0},0,{"$f":"SUMPRODUCT((Projects!$A$5:$A$2481='Local Detail'!$M$3)*(Projects!$C$5:$C$2481<>'MDOT FTA Detail'!$C$4)*(Projects!$L$5:$L$2481='Local Detail'!$A27)*(Projects!$K$5:$K$2481))","v":0},{"$f":"((SUMPRODUCT((Projects!$A$5:$A$2481='Local Detail'!$M$3)*(Projects!$C$5:$C$2481<>'MDOT FTA Detail'!$C$4)*(Projects!$L$5:$L$2481='Local Detail'!$A27)*(Projects!$J$5:$J$2481<>'Local Detail'!$A$136)*(Projects!$M$5:$M$2481)))+(SUMPRODUCT((Projects!$A$5:$A$2481='Local Detail'!$M$3)*(Projects!$C$5:$C$2481<>'MDOT FTA Detail'!$C$4)*(Projects!$L$5:$L$2481='Local Detail'!$A27)*(Projects!$J$5:$J$2481<>'Local Detail'!$A$136)*(Projects!$O$5:$O$2481))))","v":0},0]
["DSTU","Donor Bonus Surface Transportation - (Urban > 2499,000)","Local EB",{"$f":"SUMPRODUCT((Projects!$A$5:$A$2481='Local Detail'!$D$3)*(Projects!$C$5:$C$2481<>'MDOT FTA Detail'!$C$4)*(Projects!$L$5:$L$2481='Local Detail'!$A28)*(Projects!$K$5:$K$2481))","v":0},{"$f":"((SUMPRODUCT((Projects!$A$5:$A$2481='Local Detail'!$D$3)*(Projects!$C$5:$C$2481<>'MDOT FTA Detail'!$C$4)*(Projects!$L$5:$L$2481='Local Detail'!$A28)*(Projects!$J$5:$J$2481<>'Local Detail'!$A$136)*(Projects!$M$5:$M$2481)))+(SUMPRODUCT((Projects!$A$5:$A$2481='Local Detail'!$D$3)*(Projects!$C$5:$C$2481<>'MDOT FTA Detail'!$C$4)*(Projects!$L$5:$L$2481='Local Detail'!$A28)*(Projects!$J$5:$J$2481<>'Local Detail'!$A$136)*(Projects!$O$5:$O$2481))))","v":0},0,{"$f":"SUMPRODUCT((Projects!$A$5:$A$2481='Local Detail'!$G$3)*(Projects!$C$5:$C$2481<>'MDOT FTA Detail'!$C$4)*(Projects!$L$5:$L$2481='Local Detail'!$A28)*(Projects!$K$5:$K$2481))","v":0},{"$f":"((SUMPRODUCT((Projects!$A$5:$A$2481='Local Detail'!$G$3)*(Projects!$C$5:$C$2481<>'MDOT FTA Detail'!$C$4)*(Projects!$L$5:$L$2481='Local Detail'!$A28)*(Projects!$J$5:$J$2481<>'Local Detail'!$A$136)*(Projects!$M$5:$M$2481)))+(SUMPRODUCT((Projects!$A$5:$A$2481='Local Detail'!$G$3)*(Projects!$C$5:$C$2481<>'MDOT FTA Detail'!$C$4)*(Projects!$L$5:$L$2481='Local Detail'!$A28)*(Projects!$J$5:$J$2481<>'Local Detail'!$A$136)*(Projects!$O$5:$O$2481))))","v":0},0,{"$f":"SUMPRODUCT((Projects!$A$5:$A$2481='Local Detail'!$J$3)*(Projects!$C$5:$C$2481<>'MDOT FTA Detail'!$C$4)*(Projects!$L$5:$L$2481='Local Detail'!$A28)*(Projects!$K$5:$K$2481))","v":0},{"$f":"((SUMPRODUCT((Projects!$A$5:$A$2481='Local Detail'!$J$3)*(Projects!$C$5:$C$2481<>'MDOT FTA Detail'!$C$4)*(Projects!$L$5:$L$2481='Local Detail'!$A28)*(Projects!$J$5:$J$2481<>'Local Detail'!$A$136)*(Projects!$M$5:$M$2481)))+(SUMPRODUCT((Projects!$A$5:$A$2481='Local Detail'!$J$3)*(Projects!$C$5:$C$2481<>'MDOT FTA Detail'!$C$4)*(Projects!$L$5:$L$2481='Local Detail'!$A28)*(Projects!$J$5:$J$2481<>'Local Detail'!$A$136)*(Projects!$O$5:$O$2481))))","v":0},0,{"$f":"SUMPRODUCT((Projects!$A$5:$A$2481='Local Detail'!$M$3)*(Projects!$C$5:$C$2481<>'MDOT FTA Detail'!$C$4)*(Projects!$L$5:$L$2481='Local Detail'!$A28)*(Projects!$K$5:$K$2481))","v":0},{"$f":"((SUMPRODUCT((Projects!$A$5:$A$2481='Local Detail'!$M$3)*(Projects!$C$5:$C$2481<>'MDOT FTA Detail'!$C$4)*(Projects!$L$5:$L$2481='Local Detail'!$A28)*(Projects!$J$5:$J$2481<>'Local Detail'!$A$136)*(Projects!$M$5:$M$2481)))+(SUMPRODUCT((Projects!$A$5:$A$2481='Local Detail'!$M$3)*(Projects!$C$5:$C$2481<>'MDOT FTA Detail'!$C$4)*(Projects!$L$5:$L$2481='Local Detail'!$A28)*(Projects!$J$5:$J$2481<>'Local Detail'!$A$136)*(Projects!$O$5:$O$2481))))","v":0},0]
["DSTT","Donor Bonus Surface Transportation - Rural - Trunkline","Local EB",{"$f":"SUMPRODUCT((Projects!$A$5:$A$2481='Local Detail'!$D$3)*(Projects!$C$5:$C$2481<>'MDOT FTA Detail'!$C$4)*(Projects!$L$5:$L$2481='Local Detail'!$A29)*(Projects!$K$5:$K$2481))","v":0},{"$f":"((SUMPRODUCT((Projects!$A$5:$A$2481='Local Detail'!$D$3)*(Projects!$C$5:$C$2481<>'MDOT FTA Detail'!$C$4)*(Projects!$L$5:$L$2481='Local Detail'!$A29)*(Projects!$J$5:$J$2481<>'Local Detail'!$A$136)*(Projects!$M$5:$M$2481)))+(SUMPRODUCT((Projects!$A$5:$A$2481='Local Detail'!$D$3)*(Projects!$C$5:$C$2481<>'MDOT FTA Detail'!$C$4)*(Projects!$L$5:$L$2481='Local Detail'!$A29)*(Projects!$J$5:$J$2481<>'Local Detail'!$A$136)*(Projects!$O$5:$O$2481))))","v":0},0,{"$f":"SUMPRODUCT((Projects!$A$5:$A$2481='Local Detail'!$G$3)*(Projects!$C$5:$C$2481<>'MDOT FTA Detail'!$C$4)*(Projects!$L$5:$L$2481='Local Detail'!$A29)*(Projects!$K$5:$K$2481))","v":0},{"$f":"((SUMPRODUCT((Projects!$A$5:$A$2481='Local Detail'!$G$3)*(Projects!$C$5:$C$2481<>'MDOT FTA Detail'!$C$4)*(Projects!$L$5:$L$2481='Local Detail'!$A29)*(Projects!$J$5:$J$2481<>'Local Detail'!$A$136)*(Projects!$M$5:$M$2481)))+(SUMPRODUCT((Projects!$A$5:$A$2481='Local Detail'!$G$3)*(Projects!$C$5:$C$2481<>'MDOT FTA Detail'!$C$4)*(Projects!$L$5:$L$2481='Local Detail'!$A29)*(Projects!$J$5:$J$2481<>'Local Detail'!$A$136)*(Projects!$O$5:$O$2481))))","v":0},0,{"$f":"SUMPRODUCT((Projects!$A$5:$A$2481='Local Detail'!$J$3)*(Projects!$C$5:$C$2481<>'MDOT FTA Detail'!$C$4)*(Projects!$L$5:$L$2481='Local Detail'!$A29)*(Projects!$K$5:$K$2481))","v":0},{"$f":"((SUMPRODUCT((Projects!$A$5:$A$2481='Local Detail'!$J$3)*(Projects!$C$5:$C$2481<>'MDOT FTA Detail'!$C$4)*(Projects!$L$5:$L$2481='Local Detail'!$A29)*(Projects!$J$5:$J$2481<>'Local Detail'!$A$136)*(Projects!$M$5:$M$2481)))+(SUMPRODUCT((Projects!$A$5:$A$2481='Local Detail'!$J$3)*(Projects!$C$5:$C$2481<>'MDOT FTA Detail'!$C$4)*(Projects!$L$5:$L$2481='Local Detail'!$A29)*(Projects!$J$5:$J$2481<>'Local Detail'!$A$136)*(Projects!$O$5:$O$2481))))","v":0},0,{"$f":"SUMPRODUCT((Projects!$A$5:$A$2481='Local Detail'!$M$3)*(Projects!$C$5:$C$2481<>'MDOT FTA Detail'!$C$4)*(Projects!$L$5:$L$2481='Local Detail'!$A29)*(Projects!$K$5:$K$2481))","v":0},{"$f":"((SUMPRODUCT((Projects!$A$5:$A$2481='Local Detail'!$M$3)*(Projects!$C$5:$C$2481<>'MDOT FTA Detail'!$C$4)*(Projects!$L$5:$L$2481='Local Detail'!$A29)*(Projects!$J$5:$J$2481<>'Local Detail'!$A$136)*(Projects!$M$5:$M$2481)))+(SUMPRODUCT((Projects!$A$5:$A$2481='Local Detail'!$M$3)*(Projects!$C$5:$C$2481<>'MDOT FTA Detail'!$C$4)*(Projects!$L$5:$L$2481='Local Detail'!$A29)*(Projects!$J$5:$J$2481<>'Local Detail'!$A$136)*(Projects!$O$5:$O$2481))))","v":0},0]
["EBSL","Equity Bonus - SAFETEA-LU","Local EB",{"$f":"SUMPRODUCT((Projects!$A$5:$A$2481='Local Detail'!$D$3)*(Projects!$C$5:$C$2481<>'MDOT FTA Detail'!$C$4)*(Projects!$L$5:$L$2481='Local Detail'!$A30)*(Projects!$K$5:$K$2481))","v":0},{"$f":"((SUMPRODUCT((Projects!$A$5:$A$2481='Local Detail'!$D$3)*(Projects!$C$5:$C$2481<>'MDOT FTA Detail'!$C$4)*(Projects!$L$5:$L$2481='Local Detail'!$A30)*(Projects!$J$5:$J$2481<>'Local Detail'!$A$136)*(Projects!$M$5:$M$2481)))+(SUMPRODUCT((Projects!$A$5:$A$2481='Local Detail'!$D$3)*(Projects!$C$5:$C$2481<>'MDOT FTA Detail'!$C$4)*(Projects!$L$5:$L$2481='Local Detail'!$A30)*(Projects!$J$5:$J$2481<>'Local Detail'!$A$136)*(Projects!$O$5:$O$2481))))","v":0},0,{"$f":"SUMPRODUCT((Projects!$A$5:$A$2481='Local Detail'!$G$3)*(Projects!$C$5:$C$2481<>'MDOT FTA Detail'!$C$4)*(Projects!$L$5:$L$2481='Local Detail'!$A30)*(Projects!$K$5:$K$2481))","v":0},{"$f":"((SUMPRODUCT((Projects!$A$5:$A$2481='Local Detail'!$G$3)*(Projects!$C$5:$C$2481<>'MDOT FTA Detail'!$C$4)*(Projects!$L$5:$L$2481='Local Detail'!$A30)*(Projects!$J$5:$J$2481<>'Local Detail'!$A$136)*(Projects!$M$5:$M$2481)))+(SUMPRODUCT((Projects!$A$5:$A$2481='Local Detail'!$G$3)*(Projects!$C$5:$C$2481<>'MDOT FTA Detail'!$C$4)*(Projects!$L$5:$L$2481='Local Detail'!$A30)*(Projects!$J$5:$J$2481<>'Local Detail'!$A$136)*(Projects!$O$5:$O$2481))))","v":0},0,{"$f":"SUMPRODUCT((Projects!$A$5:$A$2481='Local Detail'!$J$3)*(Projects!$C$5:$C$2481<>'MDOT FTA Detail'!$C$4)*(Projects!$L$5:$L$2481='Local Detail'!$A30)*(Projects!$K$5:$K$2481))","v":0},{"$f":"((SUMPRODUCT((Projects!$A$5:$A$2481='Local Detail'!$J$3)*(Projects!$C$5:$C$2481<>'MDOT FTA Detail'!$C$4)*(Projects!$L$5:$L$2481='Local Detail'!$A30)*(Projects!$J$5:$J$2481<>'Local Detail'!$A$136)*(Projects!$M$5:$M$2481)))+(SUMPRODUCT((Projects!$A$5:$A$2481='Local Detail'!$J$3)*(Projects!$C$5:$C$2481<>'MDOT FTA Detail'!$C$4)*(Projects!$L$5:$L$2481='Local Detail'!$A30)*(Projects!$J$5:$J$2481<>'Local Detail'!$A$136)*(Projects!$O$5:$O$2481))))","v":0},0,{"$f":"SUMPRODUCT((Projects!$A$5:$A$2481='Local Detail'!$M$3)*(Projects!$C$5:$C$2481<>'MDOT FTA Detail'!$C$4)*(Projects!$L$5:$L$2481='Local Detail'!$A30)*(Projects!$K$5:$K$2481))","v":0},{"$f":"((SUMPRODUCT((Projects!$A$5:$A$2481='Local Detail'!$M$3)*(Projects!$C$5:$C$2481<>'MDOT FTA Detail'!$C$4)*(Projects!$L$5:$L$2481='Local Detail'!$A30)*(Projects!$J$5:$J$2481<>'Local Detail'!$A$136)*(Projects!$M$5:$M$2481)))+(SUMPRODUCT((Projects!$A$5:$A$2481='Local Detail'!$M$3)*(Projects!$C$5:$C$2481<>'MDOT FTA Detail'!$C$4)*(Projects!$L$5:$L$2481='Local Detail'!$A30)*(Projects!$J$5:$J$2481<>'Local Detail'!$A$136)*(Projects!$O$5:$O$2481))))","v":0},0]
["EDAF","Economic Development - Category A with Federal Aid","Local EB",{"$f":"SUMPRODUCT((Projects!$A$5:$A$2481='Local Detail'!$D$3)*(Projects!$C$5:$C$2481<>'MDOT FTA Detail'!$C$4)*(Projects!$L$5:$L$2481='Local Detail'!$A31)*(Projects!$K$5:$K$2481))","v":0},{"$f":"((SUMPRODUCT((Projects!$A$5:$A$2481='Local Detail'!$D$3)*(Projects!$C$5:$C$2481<>'MDOT FTA Detail'!$C$4)*(Projects!$L$5:$L$2481='Local Detail'!$A31)*(Projects!$J$5:$J$2481<>'Local Detail'!$A$136)*(Projects!$M$5:$M$2481)))+(SUMPRODUCT((Projects!$A$5:$A$2481='Local Detail'!$D$3)*(Projects!$C$5:$C$2481<>'MDOT FTA Detail'!$C$4)*(Projects!$L$5:$L$2481='Local Detail'!$A31)*(Projects!$J$5:$J$2481<>'Local Detail'!$A$136)*(Projects!$O$5:$O$2481))))","v":0},0,{"$f":"SUMPRODUCT((Projects!$A$5:$A$2481='Local Detail'!$G$3)*(Projects!$C$5:$C$2481<>'MDOT FTA Detail'!$C$4)*(Projects!$L$5:$L$2481='Local Detail'!$A31)*(Projects!$K$5:$K$2481))","v":0},{"$f":"((SUMPRODUCT((Projects!$A$5:$A$2481='Local Detail'!$G$3)*(Projects!$C$5:$C$2481<>'MDOT FTA Detail'!$C$4)*(Projects!$L$5:$L$2481='Local Detail'!$A31)*(Projects!$J$5:$J$2481<>'Local Detail'!$A$136)*(Projects!$M$5:$M$2481)))+(SUMPRODUCT((Projects!$A$5:$A$2481='Local Detail'!$G$3)*(Projects!$C$5:$C$2481<>'MDOT FTA Detail'!$C$4)*(Projects!$L$5:$L$2481='Local Detail'!$A31)*(Projects!$J$5:$J$2481<>'Local Detail'!$A$136)*(Projects!$O$5:$O$2481))))","v":0},0,{"$f":"SUMPRODUCT((Projects!$A$5:$A$2481='Local Detail'!$J$3)*(Projects!$C$5:$C$2481<>'MDOT FTA Detail'!$C$4)*(Projects!$L$5:$L$2481='Local Detail'!$A31)*(Projects!$K$5:$K$2481))","v":0},{"$f":"((SUMPRODUCT((Projects!$A$5:$A$2481='Local Detail'!$J$3)*(Projects!$C$5:$C$2481<>'MDOT FTA Detail'!$C$4)*(Projects!$L$5:$L$2481='Local Detail'!$A31)*(Projects!$J$5:$J$2481<>'Local Detail'!$A$136)*(Projects!$M$5:$M$2481)))+(SUMPRODUCT((Projects!$A$5:$A$2481='Local Detail'!$J$3)*(Projects!$C$5:$C$2481<>'MDOT FTA Detail'!$C$4)*(Projects!$L$5:$L$2481='Local Detail'!$A31)*(Projects!$J$5:$J$2481<>'Local Detail'!$A$136)*(Projects!$O$5:$O$2481))))","v":0},0,{"$f":"SUMPRODUCT((Projects!$A$5:$A$2481='Local Detail'!$M$3)*(Projects!$C$5:$C$2481<>'MDOT FTA Detail'!$C$4)*(Projects!$L$5:$L$2481='Local Detail'!$A31)*(Projects!$K$5:$K$2481))","v":0},{"$f":"((SUMPRODUCT((Projects!$A$5:$A$2481='Local Detail'!$M$3)*(Projects!$C$5:$C$2481<>'MDOT FTA Detail'!$C$4)*(Projects!$L$5:$L$2481='Local Detail'!$A31)*(Projects!$J$5:$J$2481<>'Local Detail'!$A$136)*(Projects!$M$5:$M$2481)))+(SUMPRODUCT((Projects!$A$5:$A$2481='Local Detail'!$M$3)*(Projects!$C$5:$C$2481<>'MDOT FTA Detail'!$C$4)*(Projects!$L$5:$L$2481='Local Detail'!$A31)*(Projects!$J$5:$J$2481<>'Local Detail'!$A$136)*(Projects!$O$5:$O$2481))))","v":0},0]
["EDCF","Economic Development - Category C with Federal Aid","Local EB",{"$f":"SUMPRODUCT((Projects!$A$5:$A$2481='Local Detail'!$D$3)*(Projects!$C$5:$C$2481<>'MDOT FTA Detail'!$C$4)*(Projects!$L$5:$L$2481='Local Detail'!$A32)*(Projects!$K$5:$K$2481))","v":0},{"$f":"((SUMPRODUCT((Projects!$A$5:$A$2481='Local Detail'!$D$3)*(Projects!$C$5:$C$2481<>'MDOT FTA Detail'!$C$4)*(Projects!$L$5:$L$2481='Local Detail'!$A32)*(Projects!$J$5:$J$2481<>'Local Detail'!$A$136)*(Projects!$M$5:$M$2481)))+(SUMPRODUCT((Projects!$A$5:$A$2481='Local Detail'!$D$3)*(Projects!$C$5:$C$2481<>'MDOT FTA Detail'!$C$4)*(Projects!$L$5:$L$2481='Local Detail'!$A32)*(Projects!$J$5:$J$2481<>'Local Detail'!$A$136)*(Projects!$O$5:$O$2481))))","v":0},0,{"$f":"SUMPRODUCT((Projects!$A$5:$A$2481='Local Detail'!$G$3)*(Projects!$C$5:$C$2481<>'MDOT FTA Detail'!$C$4)*(Projects!$L$5:$L$2481='Local Detail'!$A32)*(Projects!$K$5:$K$2481))","v":0},{"$f":"((SUMPRODUCT((Projects!$A$5:$A$2481='Local Detail'!$G$3)*(Projects!$C$5:$C$2481<>'MDOT FTA Detail'!$C$4)*(Projects!$L$5:$L$2481='Local Detail'!$A32)*(Projects!$J$5:$J$2481<>'Local Detail'!$A$136)*(Projects!$M$5:$M$2481)))+(SUMPRODUCT((Projects!$A$5:$A$2481='Local Detail'!$G$3)*(Projects!$C$5:$C$2481<>'MDOT FTA Detail'!$C$4)*(Projects!$L$5:$L$2481='Local Detail'!$A32)*(Projects!$J$5:$J$2481<>'Local Detail'!$A$136)*(Projects!$O$5:$O$2481))))","v":0},0,{"$f":"SUMPRODUCT((Projects!$A$5:$A$2481='Local Detail'!$J$3)*(Projects!$C$5:$C$2481<>'MDOT FTA Detail'!$C$4)*(Projects!$L$5:$L$2481='Local Detail'!$A32)*(Projects!$K$5:$K$2481))","v":0},{"$f":"((SUMPRODUCT((Projects!$A$5:$A$2481='Local Detail'!$J$3)*(Projects!$C$5:$C$2481<>'MDOT FTA Detail'!$C$4)*(Projects!$L$5:$L$2481='Local Detail'!$A32)*(Projects!$J$5:$J$2481<>'Local Detail'!$A$136)*(Projects!$M$5:$M$2481)))+(SUMPRODUCT((Projects!$A$5:$A$2481='Local Detail'!$J$3)*(Projects!$C$5:$C$2481<>'MDOT FTA Detail'!$C$4)*(Projects!$L$5:$L$2481='Local Detail'!$A32)*(Projects!$J$5:$J$2481<>'Local Detail'!$A$136)*(Projects!$O$5:$O$2481))))","v":0},0,{"$f":"SUMPRODUCT((Projects!$A$5:$A$2481='Local Detail'!$M$3)*(Projects!$C$5:$C$2481<>'MDOT FTA Detail'!$C$4)*(Projects!$L$5:$L$2481='Local Detail'!$A32)*(Projects!$K$5:$K$2481))","v":0},{"$f":"((SUMPRODUCT((Projects!$A$5:$A$2481='Local Detail'!$M$3)*(Projects!$C$5:$C$2481<>'MDOT FTA Detail'!$C$4)*(Projects!$L$5:$L$2481='Local Detail'!$A32)*(Projects!$J$5:$J$2481<>'Local Detail'!$A$136)*(Projects!$M$5:$M$2481)))+(SUMPRODUCT((Projects!$A$5:$A$2481='Local Detail'!$M$3)*(Projects!$C$5:$C$2481<>'MDOT FTA Detail'!$C$4)*(Projects!$L$5:$L$2481='Local Detail'!$A32)*(Projects!$J$5:$J$2481<>'Local Detail'!$A$136)*(Projects!$O$5:$O$2481))))","v":0},0]
["EDDF","Economic Development - Category D with Federal Aid","Local EB",{"$f":"SUMPRODUCT((Projects!$A$5:$A$2481='Local Detail'!$D$3)*(Projects!$C$5:$C$2481<>'MDOT FTA Detail'!$C$4)*(Projects!$L$5:$L$2481='Local Detail'!$A33)*(Projects!$K$5:$K$2481))","v":0},{"$f":"((SUMPRODUCT((Projects!$A$5:$A$2481='Local Detail'!$D$3)*(Projects!$C$5:$C$2481<>'MDOT FTA Detail'!$C$4)*(Projects!$L$5:$L$2481='Local Detail'!$A33)*(Projects!$J$5:$J$2481<>'Local Detail'!$A$136)*(Projects!$M$5:$M$2481)))+(SUMPRODUCT((Projects!$A$5:$A$2481='Local Detail'!$D$3)*(Projects!$C$5:$C$2481<>'MDOT FTA Detail'!$C$4)*(Projects!$L$5:$L$2481='Local Detail'!$A33)*(Projects!$J$5:$J$2481<>'Local Detail'!$A$136)*(Projects!$O$5:$O$2481))))","v":0},0,{"$f":"SUMPRODUCT((Projects!$A$5:$A$2481='Local Detail'!$G$3)*(Projects!$C$5:$C$2481<>'MDOT FTA Detail'!$C$4)*(Projects!$L$5:$L$2481='Local Detail'!$A33)*(Projects!$K$5:$K$2481))","v":0},{"$f":"((SUMPRODUCT((Projects!$A$5:$A$2481='Local Detail'!$G$3)*(Projects!$C$5:$C$2481<>'MDOT FTA Detail'!$C$4)*(Projects!$L$5:$L$2481='Local Detail'!$A33)*(Projects!$J$5:$J$2481<>'Local Detail'!$A$136)*(Projects!$M$5:$M$2481)))+(SUMPRODUCT((Projects!$A$5:$A$2481='Local Detail'!$G$3)*(Projects!$C$5:$C$2481<>'MDOT FTA Detail'!$C$4)*(Projects!$L$5:$L$2481='Local Detail'!$A33)*(Projects!$J$5:$J$2481<>'Local Detail'!$A$136)*(Projects!$O$5:$O$2481))))","v":0},0,{"$f":"SUMPRODUCT((Projects!$A$5:$A$2481='Local Detail'!$J$3)*(Projects!$C$5:$C$2481<>'MDOT FTA Detail'!$C$4)*(Projects!$L$5:$L$2481='Local Detail'!$A33)*(Projects!$K$5:$K$2481))","v":0},{"$f":"((SUMPRODUCT((Projects!$A$5:$A$2481='Local Detail'!$J$3)*(Projects!$C$5:$C$2481<>'MDOT FTA Detail'!$C$4)*(Projects!$L$5:$L$2481='Local Detail'!$A33)*(Projects!$J$5:$J$2481<>'Local Detail'!$A$136)*(Projects!$M$5:$M$2481)))+(SUMPRODUCT((Projects!$A$5:$A$2481='Local Detail'!$J$3)*(Projects!$C$5:$C$2481<>'MDOT FTA Detail'!$C$4)*(Projects!$L$5:$L$2481='Local Detail'!$A33)*(Projects!$J$5:$J$2481<>'Local Detail'!$A$136)*(Projects!$O$5:$O$2481))))","v":0},0,{"$f":"SUMPRODUCT((Projects!$A$5:$A$2481='Local Detail'!$M$3)*(Projects!$C$5:$C$2481<>'MDOT FTA Detail'!$C$4)*(Projects!$L$5:$L$2481='Local Detail'!$A33)*(Projects!$K$5:$K$2481))","v":0},{"$f":"((SUMPRODUCT((Projects!$A$5:$A$2481='Local Detail'!$M$3)*(Projects!$C$5:$C$2481<>'MDOT FTA Detail'!$C$4)*(Projects!$L$5:$L$2481='Local Detail'!$A33)*(Projects!$J$5:$J$2481<>'Local Detail'!$A$136)*(Projects!$M$5:$M$2481)))+(SUMPRODUCT((Projects!$A$5:$A$2481='Local Detail'!$M$3)*(Projects!$C$5:$C$2481<>'MDOT FTA Detail'!$C$4)*(Projects!$L$5:$L$2481='Local Detail'!$A33)*(Projects!$J$5:$J$2481<>'Local Detail'!$A$136)*(Projects!$O$5:$O$2481))))","v":0},0]
["EDFF","Economic Development - Category F with Federal Aid","Local EB",{"$f":"SUMPRODUCT((Projects!$A$5:$A$2481='Local Detail'!$D$3)*(Projects!$C$5:$C$2481<>'MDOT FTA Detail'!$C$4)*(Projects!$L$5:$L$2481='Local Detail'!$A34)*(Projects!$K$5:$K$2481))","v":0},{"$f":"((SUMPRODUCT((Projects!$A$5:$A$2481='Local Detail'!$D$3)*(Projects!$C$5:$C$2481<>'MDOT FTA Detail'!$C$4)*(Projects!$L$5:$L$2481='Local Detail'!$A34)*(Projects!$J$5:$J$2481<>'Local Detail'!$A$136)*(Projects!$M$5:$M$2481)))+(SUMPRODUCT((Projects!$A$5:$A$2481='Local Detail'!$D$3)*(Projects!$C$5:$C$2481<>'MDOT FTA Detail'!$C$4)*(Projects!$L$5:$L$2481='Local Detail'!$A34)*(Projects!$J$5:$J$2481<>'Local Detail'!$A$136)*(Projects!$O$5:$O$2481))))","v":0},0,{"$f":"SUMPRODUCT((Projects!$A$5:$A$2481='Local Detail'!$G$3)*(Projects!$C$5:$C$2481<>'MDOT FTA Detail'!$C$4)*(Projects!$L$5:$L$2481='Local Detail'!$A34)*(Projects!$K$5:$K$2481))","v":0},{"$f":"((SUMPRODUCT((Projects!$A$5:$A$2481='Local Detail'!$G$3)*(Projects!$C$5:$C$2481<>'MDOT FTA Detail'!$C$4)*(Projects!$L$5:$L$2481='Local Detail'!$A34)*(Projects!$J$5:$J$2481<>'Local Detail'!$A$136)*(Projects!$M$5:$M$2481)))+(SUMPRODUCT((Projects!$A$5:$A$2481='Local Detail'!$G$3)*(Projects!$C$5:$C$2481<>'MDOT FTA Detail'!$C$4)*(Projects!$L$5:$L$2481='Local Detail'!$A34)*(Projects!$J$5:$J$2481<>'Local Detail'!$A$136)*(Projects!$O$5:$O$2481))))","v":0},0,{"$f":"SUMPRODUCT((Projects!$A$5:$A$2481='Local Detail'!$J$3)*(Projects!$C$5:$C$2481<>'MDOT FTA Detail'!$C$4)*(Projects!$L$5:$L$2481='Local Detail'!$A34)*(Projects!$K$5:$K$2481))","v":0},{"$f":"((SUMPRODUCT((Projects!$A$5:$A$2481='Local Detail'!$J$3)*(Projects!$C$5:$C$2481<>'MDOT FTA Detail'!$C$4)*(Projects!$L$5:$L$2481='Local Detail'!$A34)*(Projects!$J$5:$J$2481<>'Local Detail'!$A$136)*(Projects!$M$5:$M$2481)))+(SUMPRODUCT((Projects!$A$5:$A$2481='Local Detail'!$J$3)*(Projects!$C$5:$C$2481<>'MDOT FTA Detail'!$C$4)*(Projects!$L$5:$L$2481='Local Detail'!$A34)*(Projects!$J$5:$J$2481<>'Local Detail'!$A$136)*(Projects!$O$5:$O$2481))))","v":0},0,{"$f":"SUMPRODUCT((Projects!$A$5:$A$2481='Local Detail'!$M$3)*(Projects!$C$5:$C$2481<>'MDOT FTA Detail'!$C$4)*(Projects!$L$5:$L$2481='Local Detail'!$A34)*(Projects!$K$5:$K$2481))","v":0},{"$f":"((SUMPRODUCT((Projects!$A$5:$A$2481='Local Detail'!$M$3)*(Projects!$C$5:$C$2481<>'MDOT FTA Detail'!$C$4)*(Projects!$L$5:$L$2481='Local Detail'!$A34)*(Projects!$J$5:$J$2481<>'Local Detail'!$A$136)*(Projects!$M$5:$M$2481)))+(SUMPRODUCT((Projects!$A$5:$A$2481='Local Detail'!$M$3)*(Projects!$C$5:$C$2481<>'MDOT FTA Detail'!$C$4)*(Projects!$L$5:$L$2481='Local Detail'!$A34)*(Projects!$J$5:$J$2481<>'Local Detail'!$A$136)*(Projects!$O$5:$O$2481))))","v":0},0]
["ER","Emergency Relief","Local Other FHWA",{"$f":"SUMPRODUCT((Projects!$A$5:$A$2481='Local Detail'!$D$3)*(Projects!$C$5:$C$2481<>'MDOT FTA Detail'!$C$4)*(Projects!$L$5:$L$2481='Local Detail'!$A35)*(Projects!$K$5:$K$2481))","v":0},{"$f":"((SUMPRODUCT((Projects!$A$5:$A$2481='Local Detail'!$D$3)*(Projects!$C$5:$C$2481<>'MDOT FTA Detail'!$C$4)*(Projects!$L$5:$L$2481='Local Detail'!$A35)*(Projects!$J$5:$J$2481<>'Local Detail'!$A$136)*(Projects!$M$5:$M$2481)))+(SUMPRODUCT((Projects!$A$5:$A$2481='Local Detail'!$D$3)*(Projects!$C$5:$C$2481<>'MDOT FTA Detail'!$C$4)*(Projects!$L$5:$L$2481='Local Detail'!$A35)*(Projects!$J$5:$J$2481<>'Local Detail'!$A$136)*(Projects!$O$5:$O$2481))))","v":0},0,{"$f":"SUMPRODUCT((Projects!$A$5:$A$2481='Local Detail'!$G$3)*(Projects!$C$5:$C$2481<>'MDOT FTA Detail'!$C$4)*(Projects!$L$5:$L$2481='Local Detail'!$A35)*(Projects!$K$5:$K$2481))","v":0},{"$f":"((SUMPRODUCT((Projects!$A$5:$A$2481='Local Detail'!$G$3)*(Projects!$C$5:$C$2481<>'MDOT FTA Detail'!$C$4)*(Projects!$L$5:$L$2481='Local Detail'!$A35)*(Projects!$J$5:$J$2481<>'Local Detail'!$A$136)*(Projects!$M$5:$M$2481)))+(SUMPRODUCT((Projects!$A$5:$A$2481='Local Detail'!$G$3)*(Projects!$C$5:$C$2481<>'MDOT FTA Detail'!$C$4)*(Projects!$L$5:$L$2481='Local Detail'!$A35)*(Projects!$J$5:$J$2481<>'Local Detail'!$A$136)*(Projects!$O$5:$O$2481))))","v":0},0,{"$f":"SUMPRODUCT((Projects!$A$5:$A$2481='Local Detail'!$J$3)*(Projects!$C$5:$C$2481<>'MDOT FTA Detail'!$C$4)*(Projects!$L$5:$L$2481='Local Detail'!$A35)*(Projects!$K$5:$K$2481))","v":0},{"$f":"((SUMPRODUCT((Projects!$A$5:$A$2481='Local Detail'!$J$3)*(Projects!$C$5:$C$2481<>'MDOT FTA Detail'!$C$4)*(Projects!$L$5:$L$2481='Local Detail'!$A35)*(Projects!$J$5:$J$2481<>'Local Detail'!$A$136)*(Projects!$M$5:$M$2481)))+(SUMPRODUCT((Projects!$A$5:$A$2481='Local Detail'!$J$3)*(Projects!$C$5:$C$2481<>'MDOT FTA Detail'!$C$4)*(Projects!$L$5:$L$2481='Local Detail'!$A35)*(Projects!$J$5:$J$2481<>'Local Detail'!$A$136)*(Projects!$O$5:$O$2481))))","v":0},0,{"$f":"SUMPRODUCT((Projects!$A$5:$A$2481='Local Detail'!$M$3)*(Projects!$C$5:$C$2481<>'MDOT FTA Detail'!$C$4)*(Projects!$L$5:$L$2481='Local Detail'!$A35)*(Projects!$K$5:$K$2481))","v":0},{"$f":"((SUMPRODUCT((Projects!$A$5:$A$2481='Local Detail'!$M$3)*(Projects!$C$5:$C$2481<>'MDOT FTA Detail'!$C$4)*(Projects!$L$5:$L$2481='Local Detail'!$A35)*(Projects!$J$5:$J$2481<>'Local Detail'!$A$136)*(Projects!$M$5:$M$2481)))+(SUMPRODUCT((Projects!$A$5:$A$2481='Local Detail'!$M$3)*(Projects!$C$5:$C$2481<>'MDOT FTA Detail'!$C$4)*(Projects!$L$5:$L$2481='Local Detail'!$A35)*(Projects!$J$5:$J$2481<>'Local Detail'!$A$136)*(Projects!$O$5:$O$2481))))","v":0},0]
["FBD","Ferry Boat & Terminal Discretionary","Local Other FHWA",{"$f":"SUMPRODUCT((Projects!$A$5:$A$2481='Local Detail'!$D$3)*(Projects!$C$5:$C$2481<>'MDOT FTA Detail'!$C$4)*(Projects!$L$5:$L$2481='Local Detail'!$A36)*(Projects!$K$5:$K$2481))","v":0},{"$f":"((SUMPRODUCT((Projects!$A$5:$A$2481='Local Detail'!$D$3)*(Projects!$C$5:$C$2481<>'MDOT FTA Detail'!$C$4)*(Projects!$L$5:$L$2481='Local Detail'!$A36)*(Projects!$J$5:$J$2481<>'Local Detail'!$A$136)*(Projects!$M$5:$M$2481)))+(SUMPRODUCT((Projects!$A$5:$A$2481='Local Detail'!$D$3)*(Projects!$C$5:$C$2481<>'MDOT FTA Detail'!$C$4)*(Projects!$L$5:$L$2481='Local Detail'!$A36)*(Projects!$J$5:$J$2481<>'Local Detail'!$A$136)*(Projects!$O$5:$O$2481))))","v":0},0,{"$f":"SUMPRODUCT((Projects!$A$5:$A$2481='Local Detail'!$G$3)*(Projects!$C$5:$C$2481<>'MDOT FTA Detail'!$C$4)*(Projects!$L$5:$L$2481='Local Detail'!$A36)*(Projects!$K$5:$K$2481))","v":0},{"$f":"((SUMPRODUCT((Projects!$A$5:$A$2481='Local Detail'!$G$3)*(Projects!$C$5:$C$2481<>'MDOT FTA Detail'!$C$4)*(Projects!$L$5:$L$2481='Local Detail'!$A36)*(Projects!$J$5:$J$2481<>'Local Detail'!$A$136)*(Projects!$M$5:$M$2481)))+(SUMPRODUCT((Projects!$A$5:$A$2481='Local Detail'!$G$3)*(Projects!$C$5:$C$2481<>'MDOT FTA Detail'!$C$4)*(Projects!$L$5:$L$2481='Local Detail'!$A36)*(Projects!$J$5:$J$2481<>'Local Detail'!$A$136)*(Projects!$O$5:$O$2481))))","v":0},0,{"$f":"SUMPRODUCT((Projects!$A$5:$A$2481='Local Detail'!$J$3)*(Projects!$C$5:$C$2481<>'MDOT FTA Detail'!$C$4)*(Projects!$L$5:$L$2481='Local Detail'!$A36)*(Projects!$K$5:$K$2481))","v":0},{"$f":"((SUMPRODUCT((Projects!$A$5:$A$2481='Local Detail'!$J$3)*(Projects!$C$5:$C$2481<>'MDOT FTA Detail'!$C$4)*(Projects!$L$5:$L$2481='Local Detail'!$A36)*(Projects!$J$5:$J$2481<>'Local Detail'!$A$136)*(Projects!$M$5:$M$2481)))+(SUMPRODUCT((Projects!$A$5:$A$2481='Local Detail'!$J$3)*(Projects!$C$5:$C$2481<>'MDOT FTA Detail'!$C$4)*(Projects!$L$5:$L$2481='Local Detail'!$A36)*(Projects!$J$5:$J$2481<>'Local Detail'!$A$136)*(Projects!$O$5:$O$2481))))","v":0},0,{"$f":"SUMPRODUCT((Projects!$A$5:$A$2481='Local Detail'!$M$3)*(Projects!$C$5:$C$2481<>'MDOT FTA Detail'!$C$4)*(Projects!$L$5:$L$2481='Local Detail'!$A36)*(Projects!$K$5:$K$2481))","v":0},{"$f":"((SUMPRODUCT((Projects!$A$5:$A$2481='Local Detail'!$M$3)*(Projects!$C$5:$C$2481<>'MDOT FTA Detail'!$C$4)*(Projects!$L$5:$L$2481='Local Detail'!$A36)*(Projects!$J$5:$J$2481<>'Local Detail'!$A$136)*(Projects!$M$5:$M$2481)))+(SUMPRODUCT((Projects!$A$5:$A$2481='Local Detail'!$M$3)*(Projects!$C$5:$C$2481<>'MDOT FTA Detail'!$C$4)*(Projects!$L$5:$L$2481='Local Detail'!$A36)*(Projects!$J$5:$J$2481<>'Local Detail'!$A$136)*(Projects!$O$5:$O$2481))))","v":0},0]
["FFH","Federal Forest Highway","Local Other FHWA",{"$f":"SUMPRODUCT((Projects!$A$5:$A$2481='Local Detail'!$D$3)*(Projects!$C$5:$C$2481<>'MDOT FTA Detail'!$C$4)*(Projects!$L$5:$L$2481='Local Detail'!$A37)*(Projects!$K$5:$K$2481))","v":0},{"$f":"((SUMPRODUCT((Projects!$A$5:$A$2481='Local Detail'!$D$3)*(Projects!$C$5:$C$2481<>'MDOT FTA Detail'!$C$4)*(Projects!$L$5:$L$2481='Local Detail'!$A37)*(Projects!$J$5:$J$2481<>'Local Detail'!$A$136)*(Projects!$M$5:$M$2481)))+(SUMPRODUCT((Projects!$A$5:$A$2481='Local Detail'!$D$3)*(Projects!$C$5:$C$2481<>'MDOT FTA Detail'!$C$4)*(Projects!$L$5:$L$2481='Local Detail'!$A37)*(Projects!$J$5:$J$2481<>'Local Detail'!$A$136)*(Projects!$O$5:$O$2481))))","v":0},0,{"$f":"SUMPRODUCT((Projects!$A$5:$A$2481='Local Detail'!$G$3)*(Projects!$C$5:$C$2481<>'MDOT FTA Detail'!$C$4)*(Projects!$L$5:$L$2481='Local Detail'!$A37)*(Projects!$K$5:$K$2481))","v":0},{"$f":"((SUMPRODUCT((Projects!$A$5:$A$2481='Local Detail'!$G$3)*(Projects!$C$5:$C$2481<>'MDOT FTA Detail'!$C$4)*(Projects!$L$5:$L$2481='Local Detail'!$A37)*(Projects!$J$5:$J$2481<>'Local Detail'!$A$136)*(Projects!$M$5:$M$2481)))+(SUMPRODUCT((Projects!$A$5:$A$2481='Local Detail'!$G$3)*(Projects!$C$5:$C$2481<>'MDOT FTA Detail'!$C$4)*(Projects!$L$5:$L$2481='Local Detail'!$A37)*(Projects!$J$5:$J$2481<>'Local Detail'!$A$136)*(Projects!$O$5:$O$2481))))","v":0},0,{"$f":"SUMPRODUCT((Projects!$A$5:$A$2481='Local Detail'!$J$3)*(Projects!$C$5:$C$2481<>'MDOT FTA Detail'!$C$4)*(Projects!$L$5:$L$2481='Local Detail'!$A37)*(Projects!$K$5:$K$2481))","v":0},{"$f":"((SUMPRODUCT((Projects!$A$5:$A$2481='Local Detail'!$J$3)*(Projects!$C$5:$C$2481<>'MDOT FTA Detail'!$C$4)*(Projects!$L$5:$L$2481='Local Detail'!$A37)*(Projects!$J$5:$J$2481<>'Local Detail'!$A$136)*(Projects!$M$5:$M$2481)))+(SUMPRODUCT((Projects!$A$5:$A$2481='Local Detail'!$J$3)*(Projects!$C$5:$C$2481<>'MDOT FTA Detail'!$C$4)*(Projects!$L$5:$L$2481='Local Detail'!$A37)*(Projects!$J$5:$J$2481<>'Local Detail'!$A$136)*(Projects!$O$5:$O$2481))))","v":0},0,{"$f":"SUMPRODUCT((Projects!$A$5:$A$2481='Local Detail'!$M$3)*(Projects!$C$5:$C$2481<>'MDOT FTA Detail'!$C$4)*(Projects!$L$5:$L$2481='Local Detail'!$A37)*(Projects!$K$5:$K$2481))","v":0},{"$f":"((SUMPRODUCT((Projects!$A$5:$A$2481='Local Detail'!$M$3)*(Projects!$C$5:$C$2481<>'MDOT FTA Detail'!$C$4)*(Projects!$L$5:$L$2481='Local Detail'!$A37)*(Projects!$J$5:$J$2481<>'Local Detail'!$A$136)*(Projects!$M$5:$M$2481)))+(SUMPRODUCT((Projects!$A$5:$A$2481='Local Detail'!$M$3)*(Projects!$C$5:$C$2481<>'MDOT FTA Detail'!$C$4)*(Projects!$L$5:$L$2481='Local Detail'!$A37)*(Projects!$J$5:$J$2481<>'Local Detail'!$A$136)*(Projects!$O$5:$O$2481))))","v":0},0]
["FLH","Federal Land Highways - Public Lands","Local Other FHWA",{"$f":"SUMPRODUCT((Projects!$A$5:$A$2481='Local Detail'!$D$3)*(Projects!$C$5:$C$2481<>'MDOT FTA Detail'!$C$4)*(Projects!$L$5:$L$2481='Local Detail'!$A38)*(Projects!$K$5:$K$2481))","v":0},{"$f":"((SUMPRODUCT((Projects!$A$5:$A$2481='Local Detail'!$D$3)*(Projects!$C$5:$C$2481<>'MDOT FTA Detail'!$C$4)*(Projects!$L$5:$L$2481='Local Detail'!$A38)*(Projects!$J$5:$J$2481<>'Local Detail'!$A$136)*(Projects!$M$5:$M$2481)))+(SUMPRODUCT((Projects!$A$5:$A$2481='Local Detail'!$D$3)*(Projects!$C$5:$C$2481<>'MDOT FTA Detail'!$C$4)*(Projects!$L$5:$L$2481='Local Detail'!$A38)*(Projects!$J$5:$J$2481<>'Local Detail'!$A$136)*(Projects!$O$5:$O$2481))))","v":0},0,{"$f":"SUMPRODUCT((Projects!$A$5:$A$2481='Local Detail'!$G$3)*(Projects!$C$5:$C$2481<>'MDOT FTA Detail'!$C$4)*(Projects!$L$5:$L$2481='Local Detail'!$A38)*(Projects!$K$5:$K$2481))","v":0},{"$f":"((SUMPRODUCT((Projects!$A$5:$A$2481='Local Detail'!$G$3)*(Projects!$C$5:$C$2481<>'MDOT FTA Detail'!$C$4)*(Projects!$L$5:$L$2481='Local Detail'!$A38)*(Projects!$J$5:$J$2481<>'Local Detail'!$A$136)*(Projects!$M$5:$M$2481)))+(SUMPRODUCT((Projects!$A$5:$A$2481='Local Detail'!$G$3)*(Projects!$C$5:$C$2481<>'MDOT FTA Detail'!$C$4)*(Projects!$L$5:$L$2481='Local Detail'!$A38)*(Projects!$J$5:$J$2481<>'Local Detail'!$A$136)*(Projects!$O$5:$O$2481))))","v":0},0,{"$f":"SUMPRODUCT((Projects!$A$5:$A$2481='Local Detail'!$J$3)*(Projects!$C$5:$C$2481<>'MDOT FTA Detail'!$C$4)*(Projects!$L$5:$L$2481='Local Detail'!$A38)*(Projects!$K$5:$K$2481))","v":0},{"$f":"((SUMPRODUCT((Projects!$A$5:$A$2481='Local Detail'!$J$3)*(Projects!$C$5:$C$2481<>'MDOT FTA Detail'!$C$4)*(Projects!$L$5:$L$2481='Local Detail'!$A38)*(Projects!$J$5:$J$2481<>'Local Detail'!$A$136)*(Projects!$M$5:$M$2481)))+(SUMPRODUCT((Projects!$A$5:$A$2481='Local Detail'!$J$3)*(Projects!$C$5:$C$2481<>'MDOT FTA Detail'!$C$4)*(Projects!$L$5:$L$2481='Local Detail'!$A38)*(Projects!$J$5:$J$2481<>'Local Detail'!$A$136)*(Projects!$O$5:$O$2481))))","v":0},0,{"$f":"SUMPRODUCT((Projects!$A$5:$A$2481='Local Detail'!$M$3)*(Projects!$C$5:$C$2481<>'MDOT FTA Detail'!$C$4)*(Projects!$L$5:$L$2481='Local Detail'!$A38)*(Projects!$K$5:$K$2481))","v":0},{"$f":"((SUMPRODUCT((Projects!$A$5:$A$2481='Local Detail'!$M$3)*(Projects!$C$5:$C$2481<>'MDOT FTA Detail'!$C$4)*(Projects!$L$5:$L$2481='Local Detail'!$A38)*(Projects!$J$5:$J$2481<>'Local Detail'!$A$136)*(Projects!$M$5:$M$2481)))+(SUMPRODUCT((Projects!$A$5:$A$2481='Local Detail'!$M$3)*(Projects!$C$5:$C$2481<>'MDOT FTA Detail'!$C$4)*(Projects!$L$5:$L$2481='Local Detail'!$A38)*(Projects!$J$5:$J$2481<>'Local Detail'!$A$136)*(Projects!$O$5:$O$2481))))","v":0},0]
["HBOA","Highway Bridge Obligation  Authority","Local Bridge",{"$f":"SUMPRODUCT((Projects!$A$5:$A$2481='Local Detail'!$D$3)*(Projects!$C$5:$C$2481<>'MDOT FTA Detail'!$C$4)*(Projects!$L$5:$L$2481='Local Detail'!$A39)*(Projects!$K$5:$K$2481))","v":0},{"$f":"((SUMPRODUCT((Projects!$A$5:$A$2481='Local Detail'!$D$3)*(Projects!$C$5:$C$2481<>'MDOT FTA Detail'!$C$4)*(Projects!$L$5:$L$2481='Local Detail'!$A39)*(Projects!$J$5:$J$2481<>'Local Detail'!$A$136)*(Projects!$M$5:$M$2481)))+(SUMPRODUCT((Projects!$A$5:$A$2481='Local Detail'!$D$3)*(Projects!$C$5:$C$2481<>'MDOT FTA Detail'!$C$4)*(Projects!$L$5:$L$2481='Local Detail'!$A39)*(Projects!$J$5:$J$2481<>'Local Detail'!$A$136)*(Projects!$O$5:$O$2481))))","v":0},0,{"$f":"SUMPRODUCT((Projects!$A$5:$A$2481='Local Detail'!$G$3)*(Projects!$C$5:$C$2481<>'MDOT FTA Detail'!$C$4)*(Projects!$L$5:$L$2481='Local Detail'!$A39)*(Projects!$K$5:$K$2481))","v":0},{"$f":"((SUMPRODUCT((Projects!$A$5:$A$2481='Local Detail'!$G$3)*(Projects!$C$5:$C$2481<>'MDOT FTA Detail'!$C$4)*(Projects!$L$5:$L$2481='Local Detail'!$A39)*(Projects!$J$5:$J$2481<>'Local Detail'!$A$136)*(Projects!$M$5:$M$2481)))+(SUMPRODUCT((Projects!$A$5:$A$2481='Local Detail'!$G$3)*(Projects!$C$5:$C$2481<>'MDOT FTA Detail'!$C$4)*(Projects!$L$5:$L$2481='Local Detail'!$A39)*(Projects!$J$5:$J$2481<>'Local Detail'!$A$136)*(Projects!$O$5:$O$2481))))","v":0},0,{"$f":"SUMPRODUCT((Projects!$A$5:$A$2481='Local Detail'!$J$3)*(Projects!$C$5:$C$2481<>'MDOT FTA Detail'!$C$4)*(Projects!$L$5:$L$2481='Local Detail'!$A39)*(Projects!$K$5:$K$2481))","v":0},{"$f":"((SUMPRODUCT((Projects!$A$5:$A$2481='Local Detail'!$J$3)*(Projects!$C$5:$C$2481<>'MDOT FTA Detail'!$C$4)*(Projects!$L$5:$L$2481='Local Detail'!$A39)*(Projects!$J$5:$J$2481<>'Local Detail'!$A$136)*(Projects!$M$5:$M$2481)))+(SUMPRODUCT((Projects!$A$5:$A$2481='Local Detail'!$J$3)*(Projects!$C$5:$C$2481<>'MDOT FTA Detail'!$C$4)*(Projects!$L$5:$L$2481='Local Detail'!$A39)*(Projects!$J$5:$J$2481<>'Local Detail'!$A$136)*(Projects!$O$5:$O$2481))))","v":0},0,{"$f":"SUMPRODUCT((Projects!$A$5:$A$2481='Local Detail'!$M$3)*(Projects!$C$5:$C$2481<>'MDOT FTA Detail'!$C$4)*(Projects!$L$5:$L$2481='Local Detail'!$A39)*(Projects!$K$5:$K$2481))","v":0},{"$f":"((SUMPRODUCT((Projects!$A$5:$A$2481='Local Detail'!$M$3)*(Projects!$C$5:$C$2481<>'MDOT FTA Detail'!$C$4)*(Projects!$L$5:$L$2481='Local Detail'!$A39)*(Projects!$J$5:$J$2481<>'Local Detail'!$A$136)*(Projects!$M$5:$M$2481)))+(SUMPRODUCT((Projects!$A$5:$A$2481='Local Detail'!$M$3)*(Projects!$C$5:$C$2481<>'MDOT FTA Detail'!$C$4)*(Projects!$L$5:$L$2481='Local Detail'!$A39)*(Projects!$J$5:$J$2481<>'Local Detail'!$A$136)*(Projects!$O$5:$O$2481))))","v":0},0]
["HPP","High Priority Projects (Demo)","Local Other FHWA",{"$f":"SUMPRODUCT((Projects!$A$5:$A$2481='Local Detail'!$D$3)*(Projects!$C$5:$C$2481<>'MDOT FTA Detail'!$C$4)*(Projects!$L$5:$L$2481='Local Detail'!$A40)*(Projects!$K$5:$K$2481))","v":0},{"$f":"((SUMPRODUCT((Projects!$A$5:$A$2481='Local Detail'!$D$3)*(Projects!$C$5:$C$2481<>'MDOT FTA Detail'!$C$4)*(Projects!$L$5:$L$2481='Local Detail'!$A40)*(Projects!$J$5:$J$2481<>'Local Detail'!$A$136)*(Projects!$M$5:$M$2481)))+(SUMPRODUCT((Projects!$A$5:$A$2481='Local Detail'!$D$3)*(Projects!$C$5:$C$2481<>'MDOT FTA Detail'!$C$4)*(Projects!$L$5:$L$2481='Local Detail'!$A40)*(Projects!$J$5:$J$2481<>'Local Detail'!$A$136)*(Projects!$O$5:$O$2481))))","v":0},0,{"$f":"SUMPRODUCT((Projects!$A$5:$A$2481='Local Detail'!$G$3)*(Projects!$C$5:$C$2481<>'MDOT FTA Detail'!$C$4)*(Projects!$L$5:$L$2481='Local Detail'!$A40)*(Projects!$K$5:$K$2481))","v":0},{"$f":"((SUMPRODUCT((Projects!$A$5:$A$2481='Local Detail'!$G$3)*(Projects!$C$5:$C$2481<>'MDOT FTA Detail'!$C$4)*(Projects!$L$5:$L$2481='Local Detail'!$A40)*(Projects!$J$5:$J$2481<>'Local Detail'!$A$136)*(Projects!$M$5:$M$2481)))+(SUMPRODUCT((Projects!$A$5:$A$2481='Local Detail'!$G$3)*(Projects!$C$5:$C$2481<>'MDOT FTA Detail'!$C$4)*(Projects!$L$5:$L$2481='Local Detail'!$A40)*(Projects!$J$5:$J$2481<>'Local Detail'!$A$136)*(Projects!$O$5:$O$2481))))","v":0},0,{"$f":"SUMPRODUCT((Projects!$A$5:$A$2481='Local Detail'!$J$3)*(Projects!$C$5:$C$2481<>'MDOT FTA Detail'!$C$4)*(Projects!$L$5:$L$2481='Local Detail'!$A40)*(Projects!$K$5:$K$2481))","v":0},{"$f":"((SUMPRODUCT((Projects!$A$5:$A$2481='Local Detail'!$J$3)*(Projects!$C$5:$C$2481<>'MDOT FTA Detail'!$C$4)*(Projects!$L$5:$L$2481='Local Detail'!$A40)*(Projects!$J$5:$J$2481<>'Local Detail'!$A$136)*(Projects!$M$5:$M$2481)))+(SUMPRODUCT((Projects!$A$5:$A$2481='Local Detail'!$J$3)*(Projects!$C$5:$C$2481<>'MDOT FTA Detail'!$C$4)*(Projects!$L$5:$L$2481='Local Detail'!$A40)*(Projects!$J$5:$J$2481<>'Local Detail'!$A$136)*(Projects!$O$5:$O$2481))))","v":0},0,{"$f":"SUMPRODUCT((Projects!$A$5:$A$2481='Local Detail'!$M$3)*(Projects!$C$5:$C$2481<>'MDOT FTA Detail'!$C$4)*(Projects!$L$5:$L$2481='Local Detail'!$A40)*(Projects!$K$5:$K$2481))","v":0},{"$f":"((SUMPRODUCT((Projects!$A$5:$A$2481='Local Detail'!$M$3)*(Projects!$C$5:$C$2481<>'MDOT FTA Detail'!$C$4)*(Projects!$L$5:$L$2481='Local Detail'!$A40)*(Projects!$J$5:$J$2481<>'Local Detail'!$A$136)*(Projects!$M$5:$M$2481)))+(SUMPRODUCT((Projects!$A$5:$A$2481='Local Detail'!$M$3)*(Projects!$C$5:$C$2481<>'MDOT FTA Detail'!$C$4)*(Projects!$L$5:$L$2481='Local Detail'!$A40)*(Projects!$J$5:$J$2481<>'Local Detail'!$A$136)*(Projects!$O$5:$O$2481))))","v":0},0]
["HPSL","High Priority Projects - SAFETEA-LU","Local Other FHWA",{"$f":"SUMPRODUCT((Projects!$A$5:$A$2481='Local Detail'!$D$3)*(Projects!$C$5:$C$2481<>'MDOT FTA Detail'!$C$4)*(Projects!$L$5:$L$2481='Local Detail'!$A41)*(Projects!$K$5:$K$2481))","v":0},{"$f":"((SUMPRODUCT((Projects!$A$5:$A$2481='Local Detail'!$D$3)*(Projects!$C$5:$C$2481<>'MDOT FTA Detail'!$C$4)*(Projects!$L$5:$L$2481='Local Detail'!$A41)*(Projects!$J$5:$J$2481<>'Local Detail'!$A$136)*(Projects!$M$5:$M$2481)))+(SUMPRODUCT((Projects!$A$5:$A$2481='Local Detail'!$D$3)*(Projects!$C$5:$C$2481<>'MDOT FTA Detail'!$C$4)*(Projects!$L$5:$L$2481='Local Detail'!$A41)*(Projects!$J$5:$J$2481<>'Local Detail'!$A$136)*(Projects!$O$5:$O$2481))))","v":0},0,{"$f":"SUMPRODUCT((Projects!$A$5:$A$2481='Local Detail'!$G$3)*(Projects!$C$5:$C$2481<>'MDOT FTA Detail'!$C$4)*(Projects!$L$5:$L$2481='Local Detail'!$A41)*(Projects!$K$5:$K$2481))","v":0},{"$f":"((SUMPRODUCT((Projects!$A$5:$A$2481='Local Detail'!$G$3)*(Projects!$C$5:$C$2481<>'MDOT FTA Detail'!$C$4)*(Projects!$L$5:$L$2481='Local Detail'!$A41)*(Projects!$J$5:$J$2481<>'Local Detail'!$A$136)*(Projects!$M$5:$M$2481)))+(SUMPRODUCT((Projects!$A$5:$A$2481='Local Detail'!$G$3)*(Projects!$C$5:$C$2481<>'MDOT FTA Detail'!$C$4)*(Projects!$L$5:$L$2481='Local Detail'!$A41)*(Projects!$J$5:$J$2481<>'Local Detail'!$A$136)*(Projects!$O$5:$O$2481))))","v":0},0,{"$f":"SUMPRODUCT((Projects!$A$5:$A$2481='Local Detail'!$J$3)*(Projects!$C$5:$C$2481<>'MDOT FTA Detail'!$C$4)*(Projects!$L$5:$L$2481='Local Detail'!$A41)*(Projects!$K$5:$K$2481))","v":0},{"$f":"((SUMPRODUCT((Projects!$A$5:$A$2481='Local Detail'!$J$3)*(Projects!$C$5:$C$2481<>'MDOT FTA Detail'!$C$4)*(Projects!$L$5:$L$2481='Local Detail'!$A41)*(Projects!$J$5:$J$2481<>'Local Detail'!$A$136)*(Projects!$M$5:$M$2481)))+(SUMPRODUCT((Projects!$A$5:$A$2481='Local Detail'!$J$3)*(Projects!$C$5:$C$2481<>'MDOT FTA Detail'!$C$4)*(Projects!$L$5:$L$2481='Local Detail'!$A41)*(Projects!$J$5:$J$2481<>'Local Detail'!$A$136)*(Projects!$O$5:$O$2481))))","v":0},0,{"$f":"SUMPRODUCT((Projects!$A$5:$A$2481='Local Detail'!$M$3)*(Projects!$C$5:$C$2481<>'MDOT FTA Detail'!$C$4)*(Projects!$L$5:$L$2481='Local Detail'!$A41)*(Projects!$K$5:$K$2481))","v":0},{"$f":"((SUMPRODUCT((Projects!$A$5:$A$2481='Local Detail'!$M$3)*(Projects!$C$5:$C$2481<>'MDOT FTA Detail'!$C$4)*(Projects!$L$5:$L$2481='Local Detail'!$A41)*(Projects!$J$5:$J$2481<>'Local Detail'!$A$136)*(Projects!$M$5:$M$2481)))+(SUMPRODUCT((Projects!$A$5:$A$2481='Local Detail'!$M$3)*(Projects!$C$5:$C$2481<>'MDOT FTA Detail'!$C$4)*(Projects!$L$5:$L$2481='Local Detail'!$A41)*(Projects!$J$5:$J$2481<>'Local Detail'!$A$136)*(Projects!$O$5:$O$2481))))","v":0},0]
["HRRR","High Risk Rural Roads - SAFETEA-LU","Local Safety",{"$f":"SUMPRODUCT((Projects!$A$5:$A$2481='Local Detail'!$D$3)*(Projects!$C$5:$C$2481<>'MDOT FTA Detail'!$C$4)*(Projects!$L$5:$L$2481='Local Detail'!$A42)*(Projects!$K$5:$K$2481))","v":0},{"$f":"((SUMPRODUCT((Projects!$A$5:$A$2481='Local Detail'!$D$3)*(Projects!$C$5:$C$2481<>'MDOT FTA Detail'!$C$4)*(Projects!$L$5:$L$2481='Local Detail'!$A42)*(Projects!$J$5:$J$2481<>'Local Detail'!$A$136)*(Projects!$M$5:$M$2481)))+(SUMPRODUCT((Projects!$A$5:$A$2481='Local Detail'!$D$3)*(Projects!$C$5:$C$2481<>'MDOT FTA Detail'!$C$4)*(Projects!$L$5:$L$2481='Local Detail'!$A42)*(Projects!$J$5:$J$2481<>'Local Detail'!$A$136)*(Projects!$O$5:$O$2481))))","v":0},0,{"$f":"SUMPRODUCT((Projects!$A$5:$A$2481='Local Detail'!$G$3)*(Projects!$C$5:$C$2481<>'MDOT FTA Detail'!$C$4)*(Projects!$L$5:$L$2481='Local Detail'!$A42)*(Projects!$K$5:$K$2481))","v":0},{"$f":"((SUMPRODUCT((Projects!$A$5:$A$2481='Local Detail'!$G$3)*(Projects!$C$5:$C$2481<>'MDOT FTA Detail'!$C$4)*(Projects!$L$5:$L$2481='Local Detail'!$A42)*(Projects!$J$5:$J$2481<>'Local Detail'!$A$136)*(Projects!$M$5:$M$2481)))+(SUMPRODUCT((Projects!$A$5:$A$2481='Local Detail'!$G$3)*(Projects!$C$5:$C$2481<>'MDOT FTA Detail'!$C$4)*(Projects!$L$5:$L$2481='Local Detail'!$A42)*(Projects!$J$5:$J$2481<>'Local Detail'!$A$136)*(Projects!$O$5:$O$2481))))","v":0},0,{"$f":"SUMPRODUCT((Projects!$A$5:$A$2481='Local Detail'!$J$3)*(Projects!$C$5:$C$2481<>'MDOT FTA Detail'!$C$4)*(Projects!$L$5:$L$2481='Local Detail'!$A42)*(Projects!$K$5:$K$2481))","v":0},{"$f":"((SUMPRODUCT((Projects!$A$5:$A$2481='Local Detail'!$J$3)*(Projects!$C$5:$C$2481<>'MDOT FTA Detail'!$C$4)*(Projects!$L$5:$L$2481='Local Detail'!$A42)*(Projects!$J$5:$J$2481<>'Local Detail'!$A$136)*(Projects!$M$5:$M$2481)))+(SUMPRODUCT((Projects!$A$5:$A$2481='Local Detail'!$J$3)*(Projects!$C$5:$C$2481<>'MDOT FTA Detail'!$C$4)*(Projects!$L$5:$L$2481='Local Detail'!$A42)*(Projects!$J$5:$J$2481<>'Local Detail'!$A$136)*(Projects!$O$5:$O$2481))))","v":0},0,{"$f":"SUMPRODUCT((Projects!$A$5:$A$2481='Local Detail'!$M$3)*(Projects!$C$5:$C$2481<>'MDOT FTA Detail'!$C$4)*(Projects!$L$5:$L$2481='Local Detail'!$A42)*(Projects!$K$5:$K$2481))","v":0},{"$f":"((SUMPRODUCT((Projects!$A$5:$A$2481='Local Detail'!$M$3)*(Projects!$C$5:$C$2481<>'MDOT FTA Detail'!$C$4)*(Projects!$L$5:$L$2481='Local Detail'!$A42)*(Projects!$J$5:$J$2481<>'Local Detail'!$A$136)*(Projects!$M$5:$M$2481)))+(SUMPRODUCT((Projects!$A$5:$A$2481='Local Detail'!$M$3)*(Projects!$C$5:$C$2481<>'MDOT FTA Detail'!$C$4)*(Projects!$L$5:$L$2481='Local Detail'!$A42)*(Projects!$J$5:$J$2481<>'Local Detail'!$A$136)*(Projects!$O$5:$O$2481))))","v":0},0]
["HSG","High Speed Raix Crossings - 100% Federal","Local Other FHWA",{"$f":"SUMPRODUCT((Projects!$A$5:$A$2481='Local Detail'!$D$3)*(Projects!$C$5:$C$2481<>'MDOT FTA Detail'!$C$4)*(Projects!$L$5:$L$2481='Local Detail'!$A43)*(Projects!$K$5:$K$2481))","v":0},{"$f":"((SUMPRODUCT((Projects!$A$5:$A$2481='Local Detail'!$D$3)*(Projects!$C$5:$C$2481<>'MDOT FTA Detail'!$C$4)*(Projects!$L$5:$L$2481='Local Detail'!$A43)*(Projects!$J$5:$J$2481<>'Local Detail'!$A$136)*(Projects!$M$5:$M$2481)))+(SUMPRODUCT((Projects!$A$5:$A$2481='Local Detail'!$D$3)*(Projects!$C$5:$C$2481<>'MDOT FTA Detail'!$C$4)*(Projects!$L$5:$L$2481='Local Detail'!$A43)*(Projects!$J$5:$J$2481<>'Local Detail'!$A$136)*(Projects!$O$5:$O$2481))))","v":0},0,{"$f":"SUMPRODUCT((Projects!$A$5:$A$2481='Local Detail'!$G$3)*(Projects!$C$5:$C$2481<>'MDOT FTA Detail'!$C$4)*(Projects!$L$5:$L$2481='Local Detail'!$A43)*(Projects!$K$5:$K$2481))","v":0},{"$f":"((SUMPRODUCT((Projects!$A$5:$A$2481='Local Detail'!$G$3)*(Projects!$C$5:$C$2481<>'MDOT FTA Detail'!$C$4)*(Projects!$L$5:$L$2481='Local Detail'!$A43)*(Projects!$J$5:$J$2481<>'Local Detail'!$A$136)*(Projects!$M$5:$M$2481)))+(SUMPRODUCT((Projects!$A$5:$A$2481='Local Detail'!$G$3)*(Projects!$C$5:$C$2481<>'MDOT FTA Detail'!$C$4)*(Projects!$L$5:$L$2481='Local Detail'!$A43)*(Projects!$J$5:$J$2481<>'Local Detail'!$A$136)*(Projects!$O$5:$O$2481))))","v":0},0,{"$f":"SUMPRODUCT((Projects!$A$5:$A$2481='Local Detail'!$J$3)*(Projects!$C$5:$C$2481<>'MDOT FTA Detail'!$C$4)*(Projects!$L$5:$L$2481='Local Detail'!$A43)*(Projects!$K$5:$K$2481))","v":0},{"$f":"((SUMPRODUCT((Projects!$A$5:$A$2481='Local Detail'!$J$3)*(Projects!$C$5:$C$2481<>'MDOT FTA Detail'!$C$4)*(Projects!$L$5:$L$2481='Local Detail'!$A43)*(Projects!$J$5:$J$2481<>'Local Detail'!$A$136)*(Projects!$M$5:$M$2481)))+(SUMPRODUCT((Projects!$A$5:$A$2481='Local Detail'!$J$3)*(Projects!$C$5:$C$2481<>'MDOT FTA Detail'!$C$4)*(Projects!$L$5:$L$2481='Local Detail'!$A43)*(Projects!$J$5:$J$2481<>'Local Detail'!$A$136)*(Projects!$O$5:$O$2481))))","v":0},0,{"$f":"SUMPRODUCT((Projects!$A$5:$A$2481='Local Detail'!$M$3)*(Projects!$C$5:$C$2481<>'MDOT FTA Detail'!$C$4)*(Projects!$L$5:$L$2481='Local Detail'!$A43)*(Projects!$K$5:$K$2481))","v":0},{"$f":"((SUMPRODUCT((Projects!$A$5:$A$2481='Local Detail'!$M$3)*(Projects!$C$5:$C$2481<>'MDOT FTA Detail'!$C$4)*(Projects!$L$5:$L$2481='Local Detail'!$A43)*(Projects!$J$5:$J$2481<>'Local Detail'!$A$136)*(Projects!$M$5:$M$2481)))+(SUMPRODUCT((Projects!$A$5:$A$2481='Local Detail'!$M$3)*(Projects!$C$5:$C$2481<>'MDOT FTA Detail'!$C$4)*(Projects!$L$5:$L$2481='Local Detail'!$A43)*(Projects!$J$5:$J$2481<>'Local Detail'!$A$136)*(Projects!$O$5:$O$2481))))","v":0},0]
["HSIP","Highway Safety Improvement Program - SAFETEA-LU","Local Safety",{"$f":"SUMPRODUCT((Projects!$A$5:$A$2481='Local Detail'!$D$3)*(Projects!$C$5:$C$2481<>'MDOT FTA Detail'!$C$4)*(Projects!$L$5:$L$2481='Local Detail'!$A44)*(Projects!$K$5:$K$2481))","v":0},{"$f":"((SUMPRODUCT((Projects!$A$5:$A$2481='Local Detail'!$D$3)*(Projects!$C$5:$C$2481<>'MDOT FTA Detail'!$C$4)*(Projects!$L$5:$L$2481='Local Detail'!$A44)*(Projects!$J$5:$J$2481<>'Local Detail'!$A$136)*(Projects!$M$5:$M$2481)))+(SUMPRODUCT((Projects!$A$5:$A$2481='Local Detail'!$D$3)*(Projects!$C$5:$C$2481<>'MDOT FTA Detail'!$C$4)*(Projects!$L$5:$L$2481='Local Detail'!$A44)*(Projects!$J$5:$J$2481<>'Local Detail'!$A$136)*(Projects!$O$5:$O$2481))))","v":0},0,{"$f":"SUMPRODUCT((Projects!$A$5:$A$2481='Local Detail'!$G$3)*(Projects!$C$5:$C$2481<>'MDOT FTA Detail'!$C$4)*(Projects!$L$5:$L$2481='Local Detail'!$A44)*(Projects!$K$5:$K$2481))","v":0},{"$f":"((SUMPRODUCT((Projects!$A$5:$A$2481='Local Detail'!$G$3)*(Projects!$C$5:$C$2481<>'MDOT FTA Detail'!$C$4)*(Projects!$L$5:$L$2481='Local Detail'!$A44)*(Projects!$J$5:$J$2481<>'Local Detail'!$A$136)*(Projects!$M$5:$M$2481)))+(SUMPRODUCT((Projects!$A$5:$A$2481='Local Detail'!$G$3)*(Projects!$C$5:$C$2481<>'MDOT FTA Detail'!$C$4)*(Projects!$L$5:$L$2481='Local Detail'!$A44)*(Projects!$J$5:$J$2481<>'Local Detail'!$A$136)*(Projects!$O$5:$O$2481))))","v":0},0,{"$f":"SUMPRODUCT((Projects!$A$5:$A$2481='Local Detail'!$J$3)*(Projects!$C$5:$C$2481<>'MDOT FTA Detail'!$C$4)*(Projects!$L$5:$L$2481='Local Detail'!$A44)*(Projects!$K$5:$K$2481))","v":0},{"$f":"((SUMPRODUCT((Projects!$A$5:$A$2481='Local Detail'!$J$3)*(Projects!$C$5:$C$2481<>'MDOT FTA Detail'!$C$4)*(Projects!$L$5:$L$2481='Local Detail'!$A44)*(Projects!$J$5:$J$2481<>'Local Detail'!$A$136)*(Projects!$M$5:$M$2481)))+(SUMPRODUCT((Projects!$A$5:$A$2481='Local Detail'!$J$3)*(Projects!$C$5:$C$2481<>'MDOT FTA Detail'!$C$4)*(Projects!$L$5:$L$2481='Local Detail'!$A44)*(Projects!$J$5:$J$2481<>'Local Detail'!$A$136)*(Projects!$O$5:$O$2481))))","v":0},0,{"$f":"SUMPRODUCT((Projects!$A$5:$A$2481='Local Detail'!$M$3)*(Projects!$C$5:$C$2481<>'MDOT FTA Detail'!$C$4)*(Projects!$L$5:$L$2481='Local Detail'!$A44)*(Projects!$K$5:$K$2481))","v":0},{"$f":"((SUMPRODUCT((Projects!$A$5:$A$2481='Local Detail'!$M$3)*(Projects!$C$5:$C$2481<>'MDOT FTA Detail'!$C$4)*(Projects!$L$5:$L$2481='Local Detail'!$A44)*(Projects!$J$5:$J$2481<>'Local Detail'!$A$136)*(Projects!$M$5:$M$2481)))+(SUMPRODUCT((Projects!$A$5:$A$2481='Local Detail'!$M$3)*(Projects!$C$5:$C$2481<>'MDOT FTA Detail'!$C$4)*(Projects!$L$5:$L$2481='Local Detail'!$A44)*(Projects!$J$5:$J$2481<>'Local Detail'!$A$136)*(Projects!$O$5:$O$2481))))","v":0},0]
["IM","Interstate Maintenance - No Added Lanes","Local Other FHWA",{"$f":"SUMPRODUCT((Projects!$A$5:$A$2481='Local Detail'!$D$3)*(Projects!$C$5:$C$2481<>'MDOT FTA Detail'!$C$4)*(Projects!$L$5:$L$2481='Local Detail'!$A45)*(Projects!$K$5:$K$2481))","v":0},{"$f":"((SUMPRODUCT((Projects!$A$5:$A$2481='Local Detail'!$D$3)*(Projects!$C$5:$C$2481<>'MDOT FTA Detail'!$C$4)*(Projects!$L$5:$L$2481='Local Detail'!$A45)*(Projects!$J$5:$J$2481<>'Local Detail'!$A$136)*(Projects!$M$5:$M$2481)))+(SUMPRODUCT((Projects!$A$5:$A$2481='Local Detail'!$D$3)*(Projects!$C$5:$C$2481<>'MDOT FTA Detail'!$C$4)*(Projects!$L$5:$L$2481='Local Detail'!$A45)*(Projects!$J$5:$J$2481<>'Local Detail'!$A$136)*(Projects!$O$5:$O$2481))))","v":0},0,{"$f":"SUMPRODUCT((Projects!$A$5:$A$2481='Local Detail'!$G$3)*(Projects!$C$5:$C$2481<>'MDOT FTA Detail'!$C$4)*(Projects!$L$5:$L$2481='Local Detail'!$A45)*(Projects!$K$5:$K$2481))","v":0},{"$f":"((SUMPRODUCT((Projects!$A$5:$A$2481='Local Detail'!$G$3)*(Projects!$C$5:$C$2481<>'MDOT FTA Detail'!$C$4)*(Projects!$L$5:$L$2481='Local Detail'!$A45)*(Projects!$J$5:$J$2481<>'Local Detail'!$A$136)*(Projects!$M$5:$M$2481)))+(SUMPRODUCT((Projects!$A$5:$A$2481='Local Detail'!$G$3)*(Projects!$C$5:$C$2481<>'MDOT FTA Detail'!$C$4)*(Projects!$L$5:$L$2481='Local Detail'!$A45)*(Projects!$J$5:$J$2481<>'Local Detail'!$A$136)*(Projects!$O$5:$O$2481))))","v":0},0,{"$f":"SUMPRODUCT((Projects!$A$5:$A$2481='Local Detail'!$J$3)*(Projects!$C$5:$C$2481<>'MDOT FTA Detail'!$C$4)*(Projects!$L$5:$L$2481='Local Detail'!$A45)*(Projects!$K$5:$K$2481))","v":0},{"$f":"((SUMPRODUCT((Projects!$A$5:$A$2481='Local Detail'!$J$3)*(Projects!$C$5:$C$2481<>'MDOT FTA Detail'!$C$4)*(Projects!$L$5:$L$2481='Local Detail'!$A45)*(Projects!$J$5:$J$2481<>'Local Detail'!$A$136)*(Projects!$M$5:$M$2481)))+(SUMPRODUCT((Projects!$A$5:$A$2481='Local Detail'!$J$3)*(Projects!$C$5:$C$2481<>'MDOT FTA Detail'!$C$4)*(Projects!$L$5:$L$2481='Local Detail'!$A45)*(Projects!$J$5:$J$2481<>'Local Detail'!$A$136)*(Projects!$O$5:$O$2481))))","v":0},0,{"$f":"SUMPRODUCT((Projects!$A$5:$A$2481='Local Detail'!$M$3)*(Projects!$C$5:$C$2481<>'MDOT FTA Detail'!$C$4)*(Projects!$L$5:$L$2481='Local Detail'!$A45)*(Projects!$K$5:$K$2481))","v":0},{"$f":"((SUMPRODUCT((Projects!$A$5:$A$2481='Local Detail'!$M$3)*(Projects!$C$5:$C$2481<>'MDOT FTA Detail'!$C$4)*(Projects!$L$5:$L$2481='Local Detail'!$A45)*(Projects!$J$5:$J$2481<>'Local Detail'!$A$136)*(Projects!$M$5:$M$2481)))+(SUMPRODUCT((Projects!$A$5:$A$2481='Local Detail'!$M$3)*(Projects!$C$5:$C$2481<>'MDOT FTA Detail'!$C$4)*(Projects!$L$5:$L$2481='Local Detail'!$A45)*(Projects!$J$5:$J$2481<>'Local Detail'!$A$136)*(Projects!$O$5:$O$2481))))","v":0},0]
["IMD","Interstate Maintenance Discretionary","Local Other FHWA",{"$f":"SUMPRODUCT((Projects!$A$5:$A$2481='Local Detail'!$D$3)*(Projects!$C$5:$C$2481<>'MDOT FTA Detail'!$C$4)*(Projects!$L$5:$L$2481='Local Detail'!$A46)*(Projects!$K$5:$K$2481))","v":0},{"$f":"((SUMPRODUCT((Projects!$A$5:$A$2481='Local Detail'!$D$3)*(Projects!$C$5:$C$2481<>'MDOT FTA Detail'!$C$4)*(Projects!$L$5:$L$2481='Local Detail'!$A46)*(Projects!$J$5:$J$2481<>'Local Detail'!$A$136)*(Projects!$M$5:$M$2481)))+(SUMPRODUCT((Projects!$A$5:$A$2481='Local Detail'!$D$3)*(Projects!$C$5:$C$2481<>'MDOT FTA Detail'!$C$4)*(Projects!$L$5:$L$2481='Local Detail'!$A46)*(Projects!$J$5:$J$2481<>'Local Detail'!$A$136)*(Projects!$O$5:$O$2481))))","v":0},0,{"$f":"SUMPRODUCT((Projects!$A$5:$A$2481='Local Detail'!$G$3)*(Projects!$C$5:$C$2481<>'MDOT FTA Detail'!$C$4)*(Projects!$L$5:$L$2481='Local Detail'!$A46)*(Projects!$K$5:$K$2481))","v":0},{"$f":"((SUMPRODUCT((Projects!$A$5:$A$2481='Local Detail'!$G$3)*(Projects!$C$5:$C$2481<>'MDOT FTA Detail'!$C$4)*(Projects!$L$5:$L$2481='Local Detail'!$A46)*(Projects!$J$5:$J$2481<>'Local Detail'!$A$136)*(Projects!$M$5:$M$2481)))+(SUMPRODUCT((Projects!$A$5:$A$2481='Local Detail'!$G$3)*(Projects!$C$5:$C$2481<>'MDOT FTA Detail'!$C$4)*(Projects!$L$5:$L$2481='Local Detail'!$A46)*(Projects!$J$5:$J$2481<>'Local Detail'!$A$136)*(Projects!$O$5:$O$2481))))","v":0},0,{"$f":"SUMPRODUCT((Projects!$A$5:$A$2481='Local Detail'!$J$3)*(Projects!$C$5:$C$2481<>'MDOT FTA Detail'!$C$4)*(Projects!$L$5:$L$2481='Local Detail'!$A46)*(Projects!$K$5:$K$2481))","v":0},{"$f":"((SUMPRODUCT((Projects!$A$5:$A$2481='Local Detail'!$J$3)*(Projects!$C$5:$C$2481<>'MDOT FTA Detail'!$C$4)*(Projects!$L$5:$L$2481='Local Detail'!$A46)*(Projects!$J$5:$J$2481<>'Local Detail'!$A$136)*(Projects!$M$5:$M$2481)))+(SUMPRODUCT((Projects!$A$5:$A$2481='Local Detail'!$J$3)*(Projects!$C$5:$C$2481<>'MDOT FTA Detail'!$C$4)*(Projects!$L$5:$L$2481='Local Detail'!$A46)*(Projects!$J$5:$J$2481<>'Local Detail'!$A$136)*(Projects!$O$5:$O$2481))))","v":0},0,{"$f":"SUMPRODUCT((Projects!$A$5:$A$2481='Local Detail'!$M$3)*(Projects!$C$5:$C$2481<>'MDOT FTA Detail'!$C$4)*(Projects!$L$5:$L$2481='Local Detail'!$A46)*(Projects!$K$5:$K$2481))","v":0},{"$f":"((SUMPRODUCT((Projects!$A$5:$A$2481='Local Detail'!$M$3)*(Projects!$C$5:$C$2481<>'MDOT FTA Detail'!$C$4)*(Projects!$L$5:$L$2481='Local Detail'!$A46)*(Projects!$J$5:$J$2481<>'Local Detail'!$A$136)*(Projects!$M$5:$M$2481)))+(SUMPRODUCT((Projects!$A$5:$A$2481='Local Detail'!$M$3)*(Projects!$C$5:$C$2481<>'MDOT FTA Detail'!$C$4)*(Projects!$L$5:$L$2481='Local Detail'!$A46)*(Projects!$J$5:$J$2481<>'Local Detail'!$A$136)*(Projects!$O$5:$O$2481))))","v":0},0]
["IMG","Interstate Maintenance - Safety - 100% Federal","Local Other FHWA",{"$f":"SUMPRODUCT((Projects!$A$5:$A$2481='Local Detail'!$D$3)*(Projects!$C$5:$C$2481<>'MDOT FTA Detail'!$C$4)*(Projects!$L$5:$L$2481='Local Detail'!$A47)*(Projects!$K$5:$K$2481))","v":0},{"$f":"((SUMPRODUCT((Projects!$A$5:$A$2481='Local Detail'!$D$3)*(Projects!$C$5:$C$2481<>'MDOT FTA Detail'!$C$4)*(Projects!$L$5:$L$2481='Local Detail'!$A47)*(Projects!$J$5:$J$2481<>'Local Detail'!$A$136)*(Projects!$M$5:$M$2481)))+(SUMPRODUCT((Projects!$A$5:$A$2481='Local Detail'!$D$3)*(Projects!$C$5:$C$2481<>'MDOT FTA Detail'!$C$4)*(Projects!$L$5:$L$2481='Local Detail'!$A47)*(Projects!$J$5:$J$2481<>'Local Detail'!$A$136)*(Projects!$O$5:$O$2481))))","v":0},0,{"$f":"SUMPRODUCT((Projects!$A$5:$A$2481='Local Detail'!$G$3)*(Projects!$C$5:$C$2481<>'MDOT FTA Detail'!$C$4)*(Projects!$L$5:$L$2481='Local Detail'!$A47)*(Projects!$K$5:$K$2481))","v":0},{"$f":"((SUMPRODUCT((Projects!$A$5:$A$2481='Local Detail'!$G$3)*(Projects!$C$5:$C$2481<>'MDOT FTA Detail'!$C$4)*(Projects!$L$5:$L$2481='Local Detail'!$A47)*(Projects!$J$5:$J$2481<>'Local Detail'!$A$136)*(Projects!$M$5:$M$2481)))+(SUMPRODUCT((Projects!$A$5:$A$2481='Local Detail'!$G$3)*(Projects!$C$5:$C$2481<>'MDOT FTA Detail'!$C$4)*(Projects!$L$5:$L$2481='Local Detail'!$A47)*(Projects!$J$5:$J$2481<>'Local Detail'!$A$136)*(Projects!$O$5:$O$2481))))","v":0},0,{"$f":"SUMPRODUCT((Projects!$A$5:$A$2481='Local Detail'!$J$3)*(Projects!$C$5:$C$2481<>'MDOT FTA Detail'!$C$4)*(Projects!$L$5:$L$2481='Local Detail'!$A47)*(Projects!$K$5:$K$2481))","v":0},{"$f":"((SUMPRODUCT((Projects!$A$5:$A$2481='Local Detail'!$J$3)*(Projects!$C$5:$C$2481<>'MDOT FTA Detail'!$C$4)*(Projects!$L$5:$L$2481='Local Detail'!$A47)*(Projects!$J$5:$J$2481<>'Local Detail'!$A$136)*(Projects!$M$5:$M$2481)))+(SUMPRODUCT((Projects!$A$5:$A$2481='Local Detail'!$J$3)*(Projects!$C$5:$C$2481<>'MDOT FTA Detail'!$C$4)*(Projects!$L$5:$L$2481='Local Detail'!$A47)*(Projects!$J$5:$J$2481<>'Local Detail'!$A$136)*(Projects!$O$5:$O$2481))))","v":0},0,{"$f":"SUMPRODUCT((Projects!$A$5:$A$2481='Local Detail'!$M$3)*(Projects!$C$5:$C$2481<>'MDOT FTA Detail'!$C$4)*(Projects!$L$5:$L$2481='Local Detail'!$A47)*(Projects!$K$5:$K$2481))","v":0},{"$f":"((SUMPRODUCT((Projects!$A$5:$A$2481='Local Detail'!$M$3)*(Projects!$C$5:$C$2481<>'MDOT FTA Detail'!$C$4)*(Projects!$L$5:$L$2481='Local Detail'!$A47)*(Projects!$J$5:$J$2481<>'Local Detail'!$A$136)*(Projects!$M$5:$M$2481)))+(SUMPRODUCT((Projects!$A$5:$A$2481='Local Detail'!$M$3)*(Projects!$C$5:$C$2481<>'MDOT FTA Detail'!$C$4)*(Projects!$L$5:$L$2481='Local Detail'!$A47)*(Projects!$J$5:$J$2481<>'Local Detail'!$A$136)*(Projects!$O$5:$O$2481))))","v":0},0]
["ITS","Intelligent Transportation Systems","Local Other FHWA",{"$f":"SUMPRODUCT((Projects!$A$5:$A$2481='Local Detail'!$D$3)*(Projects!$C$5:$C$2481<>'MDOT FTA Detail'!$C$4)*(Projects!$L$5:$L$2481='Local Detail'!$A48)*(Projects!$K$5:$K$2481))","v":0},{"$f":"((SUMPRODUCT((Projects!$A$5:$A$2481='Local Detail'!$D$3)*(Projects!$C$5:$C$2481<>'MDOT FTA Detail'!$C$4)*(Projects!$L$5:$L$2481='Local Detail'!$A48)*(Projects!$J$5:$J$2481<>'Local Detail'!$A$136)*(Projects!$M$5:$M$2481)))+(SUMPRODUCT((Projects!$A$5:$A$2481='Local Detail'!$D$3)*(Projects!$C$5:$C$2481<>'MDOT FTA Detail'!$C$4)*(Projects!$L$5:$L$2481='Local Detail'!$A48)*(Projects!$J$5:$J$2481<>'Local Detail'!$A$136)*(Projects!$O$5:$O$2481))))","v":0},0,{"$f":"SUMPRODUCT((Projects!$A$5:$A$2481='Local Detail'!$G$3)*(Projects!$C$5:$C$2481<>'MDOT FTA Detail'!$C$4)*(Projects!$L$5:$L$2481='Local Detail'!$A48)*(Projects!$K$5:$K$2481))","v":0},{"$f":"((SUMPRODUCT((Projects!$A$5:$A$2481='Local Detail'!$G$3)*(Projects!$C$5:$C$2481<>'MDOT FTA Detail'!$C$4)*(Projects!$L$5:$L$2481='Local Detail'!$A48)*(Projects!$J$5:$J$2481<>'Local Detail'!$A$136)*(Projects!$M$5:$M$2481)))+(SUMPRODUCT((Projects!$A$5:$A$2481='Local Detail'!$G$3)*(Projects!$C$5:$C$2481<>'MDOT FTA Detail'!$C$4)*(Projects!$L$5:$L$2481='Local Detail'!$A48)*(Projects!$J$5:$J$2481<>'Local Detail'!$A$136)*(Projects!$O$5:$O$2481))))","v":0},0,{"$f":"SUMPRODUCT((Projects!$A$5:$A$2481='Local Detail'!$J$3)*(Projects!$C$5:$C$2481<>'MDOT FTA Detail'!$C$4)*(Projects!$L$5:$L$2481='Local Detail'!$A48)*(Projects!$K$5:$K$2481))","v":0},{"$f":"((SUMPRODUCT((Projects!$A$5:$A$2481='Local Detail'!$J$3)*(Projects!$C$5:$C$2481<>'MDOT FTA Detail'!$C$4)*(Projects!$L$5:$L$2481='Local Detail'!$A48)*(Projects!$J$5:$J$2481<>'Local Detail'!$A$136)*(Projects!$M$5:$M$2481)))+(SUMPRODUCT((Projects!$A$5:$A$2481='Local Detail'!$J$3)*(Projects!$C$5:$C$2481<>'MDOT FTA Detail'!$C$4)*(Projects!$L$5:$L$2481='Local Detail'!$A48)*(Projects!$J$5:$J$2481<>'Local Detail'!$A$136)*(Projects!$O$5:$O$2481))))","v":0},0,{"$f":"SUMPRODUCT((Projects!$A$5:$A$2481='Local Detail'!$M$3)*(Projects!$C$5:$C$2481<>'MDOT FTA Detail'!$C$4)*(Projects!$L$5:$L$2481='Local Detail'!$A48)*(Projects!$K$5:$K$2481))","v":0},{"$f":"((SUMPRODUCT((Projects!$A$5:$A$2481='Local Detail'!$M$3)*(Projects!$C$5:$C$2481<>'MDOT FTA Detail'!$C$4)*(Projects!$L$5:$L$2481='Local Detail'!$A48)*(Projects!$J$5:$J$2481<>'Local Detail'!$A$136)*(Projects!$M$5:$M$2481)))+(SUMPRODUCT((Projects!$A$5:$A$2481='Local Detail'!$M$3)*(Projects!$C$5:$C$2481<>'MDOT FTA Detail'!$C$4)*(Projects!$L$5:$L$2481='Local Detail'!$A48)*(Projects!$J$5:$J$2481<>'Local Detail'!$A$136)*(Projects!$O$5:$O$2481))))","v":0},0]
["JST","85% Minimum Floor Surface Transportation","Local STP",{"$f":"SUMPRODUCT((Projects!$A$5:$A$2481='Local Detail'!$D$3)*(Projects!$C$5:$C$2481<>'MDOT FTA Detail'!$C$4)*(Projects!$L$5:$L$2481='Local Detail'!$A49)*(Projects!$K$5:$K$2481))","v":0},{"$f":"((SUMPRODUCT((Projects!$A$5:$A$2481='Local Detail'!$D$3)*(Projects!$C$5:$C$2481<>'MDOT FTA Detail'!$C$4)*(Projects!$L$5:$L$2481='Local Detail'!$A49)*(Projects!$J$5:$J$2481<>'Local Detail'!$A$136)*(Projects!$M$5:$M$2481)))+(SUMPRODUCT((Projects!$A$5:$A$2481='Local Detail'!$D$3)*(Projects!$C$5:$C$2481<>'MDOT FTA Detail'!$C$4)*(Projects!$L$5:$L$2481='Local Detail'!$A49)*(Projects!$J$5:$J$2481<>'Local Detail'!$A$136)*(Projects!$O$5:$O$2481))))","v":0},0,{"$f":"SUMPRODUCT((Projects!$A$5:$A$2481='Local Detail'!$G$3)*(Projects!$C$5:$C$2481<>'MDOT FTA Detail'!$C$4)*(Projects!$L$5:$L$2481='Local Detail'!$A49)*(Projects!$K$5:$K$2481))","v":0},{"$f":"((SUMPRODUCT((Projects!$A$5:$A$2481='Local Detail'!$G$3)*(Projects!$C$5:$C$2481<>'MDOT FTA Detail'!$C$4)*(Projects!$L$5:$L$2481='Local Detail'!$A49)*(Projects!$J$5:$J$2481<>'Local Detail'!$A$136)*(Projects!$M$5:$M$2481)))+(SUMPRODUCT((Projects!$A$5:$A$2481='Local Detail'!$G$3)*(Projects!$C$5:$C$2481<>'MDOT FTA Detail'!$C$4)*(Projects!$L$5:$L$2481='Local Detail'!$A49)*(Projects!$J$5:$J$2481<>'Local Detail'!$A$136)*(Projects!$O$5:$O$2481))))","v":0},0,{"$f":"SUMPRODUCT((Projects!$A$5:$A$2481='Local Detail'!$J$3)*(Projects!$C$5:$C$2481<>'MDOT FTA Detail'!$C$4)*(Projects!$L$5:$L$2481='Local Detail'!$A49)*(Projects!$K$5:$K$2481))","v":0},{"$f":"((SUMPRODUCT((Projects!$A$5:$A$2481='Local Detail'!$J$3)*(Projects!$C$5:$C$2481<>'MDOT FTA Detail'!$C$4)*(Projects!$L$5:$L$2481='Local Detail'!$A49)*(Projects!$J$5:$J$2481<>'Local Detail'!$A$136)*(Projects!$M$5:$M$2481)))+(SUMPRODUCT((Projects!$A$5:$A$2481='Local Detail'!$J$3)*(Projects!$C$5:$C$2481<>'MDOT FTA Detail'!$C$4)*(Projects!$L$5:$L$2481='Local Detail'!$A49)*(Projects!$J$5:$J$2481<>'Local Detail'!$A$136)*(Projects!$O$5:$O$2481))))","v":0},0,{"$f":"SUMPRODUCT((Projects!$A$5:$A$2481='Local Detail'!$M$3)*(Projects!$C$5:$C$2481<>'MDOT FTA Detail'!$C$4)*(Projects!$L$5:$L$2481='Local Detail'!$A49)*(Projects!$K$5:$K$2481))","v":0},{"$f":"((SUMPRODUCT((Projects!$A$5:$A$2481='Local Detail'!$M$3)*(Projects!$C$5:$C$2481<>'MDOT FTA Detail'!$C$4)*(Projects!$L$5:$L$2481='Local Detail'!$A49)*(Projects!$J$5:$J$2481<>'Local Detail'!$A$136)*(Projects!$M$5:$M$2481)))+(SUMPRODUCT((Projects!$A$5:$A$2481='Local Detail'!$M$3)*(Projects!$C$5:$C$2481<>'MDOT FTA Detail'!$C$4)*(Projects!$L$5:$L$2481='Local Detail'!$A49)*(Projects!$J$5:$J$2481<>'Local Detail'!$A$136)*(Projects!$O$5:$O$2481))))","v":0},0]
["JSTU","85% Minimum Floor Surface Transportation (Urban Area > 2499,000)","Local STP",{"$f":"SUMPRODUCT((Projects!$A$5:$A$2481='Local Detail'!$D$3)*(Projects!$C$5:$C$2481<>'MDOT FTA Detail'!$C$4)*(Projects!$L$5:$L$2481='Local Detail'!$A50)*(Projects!$K$5:$K$2481))","v":0},{"$f":"((SUMPRODUCT((Projects!$A$5:$A$2481='Local Detail'!$D$3)*(Projects!$C$5:$C$2481<>'MDOT FTA Detail'!$C$4)*(Projects!$L$5:$L$2481='Local Detail'!$A50)*(Projects!$J$5:$J$2481<>'Local Detail'!$A$136)*(Projects!$M$5:$M$2481)))+(SUMPRODUCT((Projects!$A$5:$A$2481='Local Detail'!$D$3)*(Projects!$C$5:$C$2481<>'MDOT FTA Detail'!$C$4)*(Projects!$L$5:$L$2481='Local Detail'!$A50)*(Projects!$J$5:$J$2481<>'Local Detail'!$A$136)*(Projects!$O$5:$O$2481))))","v":0},0,{"$f":"SUMPRODUCT((Projects!$A$5:$A$2481='Local Detail'!$G$3)*(Projects!$C$5:$C$2481<>'MDOT FTA Detail'!$C$4)*(Projects!$L$5:$L$2481='Local Detail'!$A50)*(Projects!$K$5:$K$2481))","v":0},{"$f":"((SUMPRODUCT((Projects!$A$5:$A$2481='Local Detail'!$G$3)*(Projects!$C$5:$C$2481<>'MDOT FTA Detail'!$C$4)*(Projects!$L$5:$L$2481='Local Detail'!$A50)*(Projects!$J$5:$J$2481<>'Local Detail'!$A$136)*(Projects!$M$5:$M$2481)))+(SUMPRODUCT((Projects!$A$5:$A$2481='Local Detail'!$G$3)*(Projects!$C$5:$C$2481<>'MDOT FTA Detail'!$C$4)*(Projects!$L$5:$L$2481='Local Detail'!$A50)*(Projects!$J$5:$J$2481<>'Local Detail'!$A$136)*(Projects!$O$5:$O$2481))))","v":0},0,{"$f":"SUMPRODUCT((Projects!$A$5:$A$2481='Local Detail'!$J$3)*(Projects!$C$5:$C$2481<>'MDOT FTA Detail'!$C$4)*(Projects!$L$5:$L$2481='Local Detail'!$A50)*(Projects!$K$5:$K$2481))","v":0},{"$f":"((SUMPRODUCT((Projects!$A$5:$A$2481='Local Detail'!$J$3)*(Projects!$C$5:$C$2481<>'MDOT FTA Detail'!$C$4)*(Projects!$L$5:$L$2481='Local Detail'!$A50)*(Projects!$J$5:$J$2481<>'Local Detail'!$A$136)*(Projects!$M$5:$M$2481)))+(SUMPRODUCT((Projects!$A$5:$A$2481='Local Detail'!$J$3)*(Projects!$C$5:$C$2481<>'MDOT FTA Detail'!$C$4)*(Projects!$L$5:$L$2481='Local Detail'!$A50)*(Projects!$J$5:$J$2481<>'Local Detail'!$A$136)*(Projects!$O$5:$O$2481))))","v":0},0,{"$f":"SUMPRODUCT((Projects!$A$5:$A$2481='Local Detail'!$M$3)*(Projects!$C$5:$C$2481<>'MDOT FTA Detail'!$C$4)*(Projects!$L$5:$L$2481='Local Detail'!$A50)*(Projects!$K$5:$K$2481))","v":0},{"$f":"((SUMPRODUCT((Projects!$A$5:$A$2481='Local Detail'!$M$3)*(Projects!$C$5:$C$2481<>'MDOT FTA Detail'!$C$4)*(Projects!$L$5:$L$2481='Local Detail'!$A50)*(Projects!$J$5:$J$2481<>'Local Detail'!$A$136)*(Projects!$M$5:$M$2481)))+(SUMPRODUCT((Projects!$A$5:$A$2481='Local Detail'!$M$3)*(Projects!$C$5:$C$2481<>'MDOT FTA Detail'!$C$4)*(Projects!$L$5:$L$2481='Local Detail'!$A50)*(Projects!$J$5:$J$2481<>'Local Detail'!$A$136)*(Projects!$O$5:$O$2481))))","v":0},0]
["LTA","Local Technical Assistance Program","Local Other FHWA",{"$f":"SUMPRODUCT((Projects!$A$5:$A$2481='Local Detail'!$D$3)*(Projects!$C$5:$C$2481<>'MDOT FTA Detail'!$C$4)*(Projects!$L$5:$L$2481='Local Detail'!$A51)*(Projects!$K$5:$K$2481))","v":0},{"$f":"((SUMPRODUCT((Projects!$A$5:$A$2481='Local Detail'!$D$3)*(Projects!$C$5:$C$2481<>'MDOT FTA Detail'!$C$4)*(Projects!$L$5:$L$2481='Local Detail'!$A51)*(Projects!$J$5:$J$2481<>'Local Detail'!$A$136)*(Projects!$M$5:$M$2481)))+(SUMPRODUCT((Projects!$A$5:$A$2481='Local Detail'!$D$3)*(Projects!$C$5:$C$2481<>'MDOT FTA Detail'!$C$4)*(Projects!$L$5:$L$2481='Local Detail'!$A51)*(Projects!$J$5:$J$2481<>'Local Detail'!$A$136)*(Projects!$O$5:$O$2481))))","v":0},0,{"$f":"SUMPRODUCT((Projects!$A$5:$A$2481='Local Detail'!$G$3)*(Projects!$C$5:$C$2481<>'MDOT FTA Detail'!$C$4)*(Projects!$L$5:$L$2481='Local Detail'!$A51)*(Projects!$K$5:$K$2481))","v":0},{"$f":"((SUMPRODUCT((Projects!$A$5:$A$2481='Local Detail'!$G$3)*(Projects!$C$5:$C$2481<>'MDOT FTA Detail'!$C$4)*(Projects!$L$5:$L$2481='Local Detail'!$A51)*(Projects!$J$5:$J$2481<>'Local Detail'!$A$136)*(Projects!$M$5:$M$2481)))+(SUMPRODUCT((Projects!$A$5:$A$2481='Local Detail'!$G$3)*(Projects!$C$5:$C$2481<>'MDOT FTA Detail'!$C$4)*(Projects!$L$5:$L$2481='Local Detail'!$A51)*(Projects!$J$5:$J$2481<>'Local Detail'!$A$136)*(Projects!$O$5:$O$2481))))","v":0},0,{"$f":"SUMPRODUCT((Projects!$A$5:$A$2481='Local Detail'!$J$3)*(Projects!$C$5:$C$2481<>'MDOT FTA Detail'!$C$4)*(Projects!$L$5:$L$2481='Local Detail'!$A51)*(Projects!$K$5:$K$2481))","v":0},{"$f":"((SUMPRODUCT((Projects!$A$5:$A$2481='Local Detail'!$J$3)*(Projects!$C$5:$C$2481<>'MDOT FTA Detail'!$C$4)*(Projects!$L$5:$L$2481='Local Detail'!$A51)*(Projects!$J$5:$J$2481<>'Local Detail'!$A$136)*(Projects!$M$5:$M$2481)))+(SUMPRODUCT((Projects!$A$5:$A$2481='Local Detail'!$J$3)*(Projects!$C$5:$C$2481<>'MDOT FTA Detail'!$C$4)*(Projects!$L$5:$L$2481='Local Detail'!$A51)*(Projects!$J$5:$J$2481<>'Local Detail'!$A$136)*(Projects!$O$5:$O$2481))))","v":0},0,{"$f":"SUMPRODUCT((Projects!$A$5:$A$2481='Local Detail'!$M$3)*(Projects!$C$5:$C$2481<>'MDOT FTA Detail'!$C$4)*(Projects!$L$5:$L$2481='Local Detail'!$A51)*(Projects!$K$5:$K$2481))","v":0},{"$f":"((SUMPRODUCT((Projects!$A$5:$A$2481='Local Detail'!$M$3)*(Projects!$C$5:$C$2481<>'MDOT FTA Detail'!$C$4)*(Projects!$L$5:$L$2481='Local Detail'!$A51)*(Projects!$J$5:$J$2481<>'Local Detail'!$A$136)*(Projects!$M$5:$M$2481)))+(SUMPRODUCT((Projects!$A$5:$A$2481='Local Detail'!$M$3)*(Projects!$C$5:$C$2481<>'MDOT FTA Detail'!$C$4)*(Projects!$L$5:$L$2481='Local Detail'!$A51)*(Projects!$J$5:$J$2481<>'Local Detail'!$A$136)*(Projects!$O$5:$O$2481))))","v":0},0]
["MG","Minimum Guarantee","Local Other FHWA",{"$f":"SUMPRODUCT((Projects!$A$5:$A$2481='Local Detail'!$D$3)*(Projects!$C$5:$C$2481<>'MDOT FTA Detail'!$C$4)*(Projects!$L$5:$L$2481='Local Detail'!$A52)*(Projects!$K$5:$K$2481))","v":0},{"$f":"((SUMPRODUCT((Projects!$A$5:$A$2481='Local Detail'!$D$3)*(Projects!$C$5:$C$2481<>'MDOT FTA Detail'!$C$4)*(Projects!$L$5:$L$2481='Local Detail'!$A52)*(Projects!$J$5:$J$2481<>'Local Detail'!$A$136)*(Projects!$M$5:$M$2481)))+(SUMPRODUCT((Projects!$A$5:$A$2481='Local Detail'!$D$3)*(Projects!$C$5:$C$2481<>'MDOT FTA Detail'!$C$4)*(Projects!$L$5:$L$2481='Local Detail'!$A52)*(Projects!$J$5:$J$2481<>'Local Detail'!$A$136)*(Projects!$O$5:$O$2481))))","v":0},0,{"$f":"SUMPRODUCT((Projects!$A$5:$A$2481='Local Detail'!$G$3)*(Projects!$C$5:$C$2481<>'MDOT FTA Detail'!$C$4)*(Projects!$L$5:$L$2481='Local Detail'!$A52)*(Projects!$K$5:$K$2481))","v":0},{"$f":"((SUMPRODUCT((Projects!$A$5:$A$2481='Local Detail'!$G$3)*(Projects!$C$5:$C$2481<>'MDOT FTA Detail'!$C$4)*(Projects!$L$5:$L$2481='Local Detail'!$A52)*(Projects!$J$5:$J$2481<>'Local Detail'!$A$136)*(Projects!$M$5:$M$2481)))+(SUMPRODUCT((Projects!$A$5:$A$2481='Local Detail'!$G$3)*(Projects!$C$5:$C$2481<>'MDOT FTA Detail'!$C$4)*(Projects!$L$5:$L$2481='Local Detail'!$A52)*(Projects!$J$5:$J$2481<>'Local Detail'!$A$136)*(Projects!$O$5:$O$2481))))","v":0},0,{"$f":"SUMPRODUCT((Projects!$A$5:$A$2481='Local Detail'!$J$3)*(Projects!$C$5:$C$2481<>'MDOT FTA Detail'!$C$4)*(Projects!$L$5:$L$2481='Local Detail'!$A52)*(Projects!$K$5:$K$2481))","v":0},{"$f":"((SUMPRODUCT((Projects!$A$5:$A$2481='Local Detail'!$J$3)*(Projects!$C$5:$C$2481<>'MDOT FTA Detail'!$C$4)*(Projects!$L$5:$L$2481='Local Detail'!$A52)*(Projects!$J$5:$J$2481<>'Local Detail'!$A$136)*(Projects!$M$5:$M$2481)))+(SUMPRODUCT((Projects!$A$5:$A$2481='Local Detail'!$J$3)*(Projects!$C$5:$C$2481<>'MDOT FTA Detail'!$C$4)*(Projects!$L$5:$L$2481='Local Detail'!$A52)*(Projects!$J$5:$J$2481<>'Local Detail'!$A$136)*(Projects!$O$5:$O$2481))))","v":0},0,{"$f":"SUMPRODUCT((Projects!$A$5:$A$2481='Local Detail'!$M$3)*(Projects!$C$5:$C$2481<>'MDOT FTA Detail'!$C$4)*(Projects!$L$5:$L$2481='Local Detail'!$A52)*(Projects!$K$5:$K$2481))","v":0},{"$f":"((SUMPRODUCT((Projects!$A$5:$A$2481='Local Detail'!$M$3)*(Projects!$C$5:$C$2481<>'MDOT FTA Detail'!$C$4)*(Projects!$L$5:$L$2481='Local Detail'!$A52)*(Projects!$J$5:$J$2481<>'Local Detail'!$A$136)*(Projects!$M$5:$M$2481)))+(SUMPRODUCT((Projects!$A$5:$A$2481='Local Detail'!$M$3)*(Projects!$C$5:$C$2481<>'MDOT FTA Detail'!$C$4)*(Projects!$L$5:$L$2481='Local Detail'!$A52)*(Projects!$J$5:$J$2481<>'Local Detail'!$A$136)*(Projects!$O$5:$O$2481))))","v":0},0]
["NCII","National Corridor Infrastructure Improvement - SAFETEA-LU","Local Other FHWA",{"$f":"SUMPRODUCT((Projects!$A$5:$A$2481='Local Detail'!$D$3)*(Projects!$C$5:$C$2481<>'MDOT FTA Detail'!$C$4)*(Projects!$L$5:$L$2481='Local Detail'!$A53)*(Projects!$K$5:$K$2481))","v":0},{"$f":"((SUMPRODUCT((Projects!$A$5:$A$2481='Local Detail'!$D$3)*(Projects!$C$5:$C$2481<>'MDOT FTA Detail'!$C$4)*(Projects!$L$5:$L$2481='Local Detail'!$A53)*(Projects!$J$5:$J$2481<>'Local Detail'!$A$136)*(Projects!$M$5:$M$2481)))+(SUMPRODUCT((Projects!$A$5:$A$2481='Local Detail'!$D$3)*(Projects!$C$5:$C$2481<>'MDOT FTA Detail'!$C$4)*(Projects!$L$5:$L$2481='Local Detail'!$A53)*(Projects!$J$5:$J$2481<>'Local Detail'!$A$136)*(Projects!$O$5:$O$2481))))","v":0},0,{"$f":"SUMPRODUCT((Projects!$A$5:$A$2481='Local Detail'!$G$3)*(Projects!$C$5:$C$2481<>'MDOT FTA Detail'!$C$4)*(Projects!$L$5:$L$2481='Local Detail'!$A53)*(Projects!$K$5:$K$2481))","v":0},{"$f":"((SUMPRODUCT((Projects!$A$5:$A$2481='Local Detail'!$G$3)*(Projects!$C$5:$C$2481<>'MDOT FTA Detail'!$C$4)*(Projects!$L$5:$L$2481='Local Detail'!$A53)*(Projects!$J$5:$J$2481<>'Local Detail'!$A$136)*(Projects!$M$5:$M$2481)))+(SUMPRODUCT((Projects!$A$5:$A$2481='Local Detail'!$G$3)*(Projects!$C$5:$C$2481<>'MDOT FTA Detail'!$C$4)*(Projects!$L$5:$L$2481='Local Detail'!$A53)*(Projects!$J$5:$J$2481<>'Local Detail'!$A$136)*(Projects!$O$5:$O$2481))))","v":0},0,{"$f":"SUMPRODUCT((Projects!$A$5:$A$2481='Local Detail'!$J$3)*(Projects!$C$5:$C$2481<>'MDOT FTA Detail'!$C$4)*(Projects!$L$5:$L$2481='Local Detail'!$A53)*(Projects!$K$5:$K$2481))","v":0},{"$f":"((SUMPRODUCT((Projects!$A$5:$A$2481='Local Detail'!$J$3)*(Projects!$C$5:$C$2481<>'MDOT FTA Detail'!$C$4)*(Projects!$L$5:$L$2481='Local Detail'!$A53)*(Projects!$J$5:$J$2481<>'Local Detail'!$A$136)*(Projects!$M$5:$M$2481)))+(SUMPRODUCT((Projects!$A$5:$A$2481='Local Detail'!$J$3)*(Projects!$C$5:$C$2481<>'MDOT FTA Detail'!$C$4)*(Projects!$L$5:$L$2481='Local Detail'!$A53)*(Projects!$J$5:$J$2481<>'Local Detail'!$A$136)*(Projects!$O$5:$O$2481))))","v":0},0,{"$f":"SUMPRODUCT((Projects!$A$5:$A$2481='Local Detail'!$M$3)*(Projects!$C$5:$C$2481<>'MDOT FTA Detail'!$C$4)*(Projects!$L$5:$L$2481='Local Detail'!$A53)*(Projects!$K$5:$K$2481))","v":0},{"$f":"((SUMPRODUCT((Projects!$A$5:$A$2481='Local Detail'!$M$3)*(Projects!$C$5:$C$2481<>'MDOT FTA Detail'!$C$4)*(Projects!$L$5:$L$2481='Local Detail'!$A53)*(Projects!$J$5:$J$2481<>'Local Detail'!$A$136)*(Projects!$M$5:$M$2481)))+(SUMPRODUCT((Projects!$A$5:$A$2481='Local Detail'!$M$3)*(Projects!$C$5:$C$2481<>'MDOT FTA Detail'!$C$4)*(Projects!$L$5:$L$2481='Local Detail'!$A53)*(Projects!$J$5:$J$2481<>'Local Detail'!$A$136)*(Projects!$O$5:$O$2481))))","v":0},0]
["NH","National Highway System","Local Other FHWA",{"$f":"SUMPRODUCT((Projects!$A$5:$A$2481='Local Detail'!$D$3)*(Projects!$C$5:$C$2481<>'MDOT FTA Detail'!$C$4)*(Projects!$L$5:$L$2481='Local Detail'!$A54)*(Projects!$K$5:$K$2481))","v":0},{"$f":"((SUMPRODUCT((Projects!$A$5:$A$2481='Local Detail'!$D$3)*(Projects!$C$5:$C$2481<>'MDOT FTA Detail'!$C$4)*(Projects!$L$5:$L$2481='Local Detail'!$A54)*(Projects!$J$5:$J$2481<>'Local Detail'!$A$136)*(Projects!$M$5:$M$2481)))+(SUMPRODUCT((Projects!$A$5:$A$2481='Local Detail'!$D$3)*(Projects!$C$5:$C$2481<>'MDOT FTA Detail'!$C$4)*(Projects!$L$5:$L$2481='Local Detail'!$A54)*(Projects!$J$5:$J$2481<>'Local Detail'!$A$136)*(Projects!$O$5:$O$2481))))","v":0},0,{"$f":"SUMPRODUCT((Projects!$A$5:$A$2481='Local Detail'!$G$3)*(Projects!$C$5:$C$2481<>'MDOT FTA Detail'!$C$4)*(Projects!$L$5:$L$2481='Local Detail'!$A54)*(Projects!$K$5:$K$2481))","v":0},{"$f":"((SUMPRODUCT((Projects!$A$5:$A$2481='Local Detail'!$G$3)*(Projects!$C$5:$C$2481<>'MDOT FTA Detail'!$C$4)*(Projects!$L$5:$L$2481='Local Detail'!$A54)*(Projects!$J$5:$J$2481<>'Local Detail'!$A$136)*(Projects!$M$5:$M$2481)))+(SUMPRODUCT((Projects!$A$5:$A$2481='Local Detail'!$G$3)*(Projects!$C$5:$C$2481<>'MDOT FTA Detail'!$C$4)*(Projects!$L$5:$L$2481='Local Detail'!$A54)*(Projects!$J$5:$J$2481<>'Local Detail'!$A$136)*(Projects!$O$5:$O$2481))))","v":0},0,{"$f":"SUMPRODUCT((Projects!$A$5:$A$2481='Local Detail'!$J$3)*(Projects!$C$5:$C$2481<>'MDOT FTA Detail'!$C$4)*(Projects!$L$5:$L$2481='Local Detail'!$A54)*(Projects!$K$5:$K$2481))","v":0},{"$f":"((SUMPRODUCT((Projects!$A$5:$A$2481='Local Detail'!$J$3)*(Projects!$C$5:$C$2481<>'MDOT FTA Detail'!$C$4)*(Projects!$L$5:$L$2481='Local Detail'!$A54)*(Projects!$J$5:$J$2481<>'Local Detail'!$A$136)*(Projects!$M$5:$M$2481)))+(SUMPRODUCT((Projects!$A$5:$A$2481='Local Detail'!$J$3)*(Projects!$C$5:$C$2481<>'MDOT FTA Detail'!$C$4)*(Projects!$L$5:$L$2481='Local Detail'!$A54)*(Projects!$J$5:$J$2481<>'Local Detail'!$A$136)*(Projects!$O$5:$O$2481))))","v":0},0,{"$f":"SUMPRODUCT((Projects!$A$5:$A$2481='Local Detail'!$M$3)*(Projects!$C$5:$C$2481<>'MDOT FTA Detail'!$C$4)*(Projects!$L$5:$L$2481='Local Detail'!$A54)*(Projects!$K$5:$K$2481))","v":0},{"$f":"((SUMPRODUCT((Projects!$A$5:$A$2481='Local Detail'!$M$3)*(Projects!$C$5:$C$2481<>'MDOT FTA Detail'!$C$4)*(Projects!$L$5:$L$2481='Local Detail'!$A54)*(Projects!$J$5:$J$2481<>'Local Detail'!$A$136)*(Projects!$M$5:$M$2481)))+(SUMPRODUCT((Projects!$A$5:$A$2481='Local Detail'!$M$3)*(Projects!$C$5:$C$2481<>'MDOT FTA Detail'!$C$4)*(Projects!$L$5:$L$2481='Local Detail'!$A54)*(Projects!$J$5:$J$2481<>'Local Detail'!$A$136)*(Projects!$O$5:$O$2481))))","v":0},0]
["NHG","National Highway System - Safety - 100% Federal","Local Other FHWA",{"$f":"SUMPRODUCT((Projects!$A$5:$A$2481='Local Detail'!$D$3)*(Projects!$C$5:$C$2481<>'MDOT FTA Detail'!$C$4)*(Projects!$L$5:$L$2481='Local Detail'!$A55)*(Projects!$K$5:$K$2481))","v":0},{"$f":"((SUMPRODUCT((Projects!$A$5:$A$2481='Local Detail'!$D$3)*(Projects!$C$5:$C$2481<>'MDOT FTA Detail'!$C$4)*(Projects!$L$5:$L$2481='Local Detail'!$A55)*(Projects!$J$5:$J$2481<>'Local Detail'!$A$136)*(Projects!$M$5:$M$2481)))+(SUMPRODUCT((Projects!$A$5:$A$2481='Local Detail'!$D$3)*(Projects!$C$5:$C$2481<>'MDOT FTA Detail'!$C$4)*(Projects!$L$5:$L$2481='Local Detail'!$A55)*(Projects!$J$5:$J$2481<>'Local Detail'!$A$136)*(Projects!$O$5:$O$2481))))","v":0},0,{"$f":"SUMPRODUCT((Projects!$A$5:$A$2481='Local Detail'!$G$3)*(Projects!$C$5:$C$2481<>'MDOT FTA Detail'!$C$4)*(Projects!$L$5:$L$2481='Local Detail'!$A55)*(Projects!$K$5:$K$2481))","v":0},{"$f":"((SUMPRODUCT((Projects!$A$5:$A$2481='Local Detail'!$G$3)*(Projects!$C$5:$C$2481<>'MDOT FTA Detail'!$C$4)*(Projects!$L$5:$L$2481='Local Detail'!$A55)*(Projects!$J$5:$J$2481<>'Local Detail'!$A$136)*(Projects!$M$5:$M$2481)))+(SUMPRODUCT((Projects!$A$5:$A$2481='Local Detail'!$G$3)*(Projects!$C$5:$C$2481<>'MDOT FTA Detail'!$C$4)*(Projects!$L$5:$L$2481='Local Detail'!$A55)*(Projects!$J$5:$J$2481<>'Local Detail'!$A$136)*(Projects!$O$5:$O$2481))))","v":0},0,{"$f":"SUMPRODUCT((Projects!$A$5:$A$2481='Local Detail'!$J$3)*(Projects!$C$5:$C$2481<>'MDOT FTA Detail'!$C$4)*(Projects!$L$5:$L$2481='Local Detail'!$A55)*(Projects!$K$5:$K$2481))","v":0},{"$f":"((SUMPRODUCT((Projects!$A$5:$A$2481='Local Detail'!$J$3)*(Projects!$C$5:$C$2481<>'MDOT FTA Detail'!$C$4)*(Projects!$L$5:$L$2481='Local Detail'!$A55)*(Projects!$J$5:$J$2481<>'Local Detail'!$A$136)*(Projects!$M$5:$M$2481)))+(SUMPRODUCT((Projects!$A$5:$A$2481='Local Detail'!$J$3)*(Projects!$C$5:$C$2481<>'MDOT FTA Detail'!$C$4)*(Projects!$L$5:$L$2481='Local Detail'!$A55)*(Projects!$J$5:$J$2481<>'Local Detail'!$A$136)*(Projects!$O$5:$O$2481))))","v":0},0,{"$f":"SUMPRODUCT((Projects!$A$5:$A$2481='Local Detail'!$M$3)*(Projects!$C$5:$C$2481<>'MDOT FTA Detail'!$C$4)*(Projects!$L$5:$L$2481='Local Detail'!$A55)*(Projects!$K$5:$K$2481))","v":0},{"$f":"((SUMPRODUCT((Projects!$A$5:$A$2481='Local Detail'!$M$3)*(Projects!$C$5:$C$2481<>'MDOT FTA Detail'!$C$4)*(Projects!$L$5:$L$2481='Local Detail'!$A55)*(Projects!$J$5:$J$2481<>'Local Detail'!$A$136)*(Projects!$M$5:$M$2481)))+(SUMPRODUCT((Projects!$A$5:$A$2481='Local Detail'!$M$3)*(Projects!$C$5:$C$2481<>'MDOT FTA Detail'!$C$4)*(Projects!$L$5:$L$2481='Local Detail'!$A55)*(Projects!$J$5:$J$2481<>'Local Detail'!$A$136)*(Projects!$O$5:$O$2481))))","v":0},0]
["NHI","National Highway Funds on I (Does not Qualify for I)","Local Other FHWA",{"$f":"SUMPRODUCT((Projects!$A$5:$A$2481='Local Detail'!$D$3)*(Projects!$C$5:$C$2481<>'MDOT FTA Detail'!$C$4)*(Projects!$L$5:$L$2481='Local Detail'!$A56)*(Projects!$K$5:$K$2481))","v":0},{"$f":"((SUMPRODUCT((Projects!$A$5:$A$2481='Local Detail'!$D$3)*(Projects!$C$5:$C$2481<>'MDOT FTA Detail'!$C$4)*(Projects!$L$5:$L$2481='Local Detail'!$A56)*(Projects!$J$5:$J$2481<>'Local Detail'!$A$136)*(Projects!$M$5:$M$2481)))+(SUMPRODUCT((Projects!$A$5:$A$2481='Local Detail'!$D$3)*(Projects!$C$5:$C$2481<>'MDOT FTA Detail'!$C$4)*(Projects!$L$5:$L$2481='Local Detail'!$A56)*(Projects!$J$5:$J$2481<>'Local Detail'!$A$136)*(Projects!$O$5:$O$2481))))","v":0},0,{"$f":"SUMPRODUCT((Projects!$A$5:$A$2481='Local Detail'!$G$3)*(Projects!$C$5:$C$2481<>'MDOT FTA Detail'!$C$4)*(Projects!$L$5:$L$2481='Local Detail'!$A56)*(Projects!$K$5:$K$2481))","v":0},{"$f":"((SUMPRODUCT((Projects!$A$5:$A$2481='Local Detail'!$G$3)*(Projects!$C$5:$C$2481<>'MDOT FTA Detail'!$C$4)*(Projects!$L$5:$L$2481='Local Detail'!$A56)*(Projects!$J$5:$J$2481<>'Local Detail'!$A$136)*(Projects!$M$5:$M$2481)))+(SUMPRODUCT((Projects!$A$5:$A$2481='Local Detail'!$G$3)*(Projects!$C$5:$C$2481<>'MDOT FTA Detail'!$C$4)*(Projects!$L$5:$L$2481='Local Detail'!$A56)*(Projects!$J$5:$J$2481<>'Local Detail'!$A$136)*(Projects!$O$5:$O$2481))))","v":0},0,{"$f":"SUMPRODUCT((Projects!$A$5:$A$2481='Local Detail'!$J$3)*(Projects!$C$5:$C$2481<>'MDOT FTA Detail'!$C$4)*(Projects!$L$5:$L$2481='Local Detail'!$A56)*(Projects!$K$5:$K$2481))","v":0},{"$f":"((SUMPRODUCT((Projects!$A$5:$A$2481='Local Detail'!$J$3)*(Projects!$C$5:$C$2481<>'MDOT FTA Detail'!$C$4)*(Projects!$L$5:$L$2481='Local Detail'!$A56)*(Projects!$J$5:$J$2481<>'Local Detail'!$A$136)*(Projects!$M$5:$M$2481)))+(SUMPRODUCT((Projects!$A$5:$A$2481='Local Detail'!$J$3)*(Projects!$C$5:$C$2481<>'MDOT FTA Detail'!$C$4)*(Projects!$L$5:$L$2481='Local Detail'!$A56)*(Projects!$J$5:$J$2481<>'Local Detail'!$A$136)*(Projects!$O$5:$O$2481))))","v":0},0,{"$f":"SUMPRODUCT((Projects!$A$5:$A$2481='Local Detail'!$M$3)*(Projects!$C$5:$C$2481<>'MDOT FTA Detail'!$C$4)*(Projects!$L$5:$L$2481='Local Detail'!$A56)*(Projects!$K$5:$K$2481))","v":0},{"$f":"((SUMPRODUCT((Projects!$A$5:$A$2481='Local Detail'!$M$3)*(Projects!$C$5:$C$2481<>'MDOT FTA Detail'!$C$4)*(Projects!$L$5:$L$2481='Local Detail'!$A56)*(Projects!$J$5:$J$2481<>'Local Detail'!$A$136)*(Projects!$M$5:$M$2481)))+(SUMPRODUCT((Projects!$A$5:$A$2481='Local Detail'!$M$3)*(Projects!$C$5:$C$2481<>'MDOT FTA Detail'!$C$4)*(Projects!$L$5:$L$2481='Local Detail'!$A56)*(Projects!$J$5:$J$2481<>'Local Detail'!$A$136)*(Projects!$O$5:$O$2481))))","v":0},0]
["NHIM","National Highway Funds on I (Qualifies for IM)","Local Other FHWA",{"$f":"SUMPRODUCT((Projects!$A$5:$A$2481='Local Detail'!$D$3)*(Projects!$C$5:$C$2481<>'MDOT FTA Detail'!$C$4)*(Projects!$L$5:$L$2481='Local Detail'!$A57)*(Projects!$K$5:$K$2481))","v":0},{"$f":"((SUMPRODUCT((Projects!$A$5:$A$2481='Local Detail'!$D$3)*(Projects!$C$5:$C$2481<>'MDOT FTA Detail'!$C$4)*(Projects!$L$5:$L$2481='Local Detail'!$A57)*(Projects!$J$5:$J$2481<>'Local Detail'!$A$136)*(Projects!$M$5:$M$2481)))+(SUMPRODUCT((Projects!$A$5:$A$2481='Local Detail'!$D$3)*(Projects!$C$5:$C$2481<>'MDOT FTA Detail'!$C$4)*(Projects!$L$5:$L$2481='Local Detail'!$A57)*(Projects!$J$5:$J$2481<>'Local Detail'!$A$136)*(Projects!$O$5:$O$2481))))","v":0},0,{"$f":"SUMPRODUCT((Projects!$A$5:$A$2481='Local Detail'!$G$3)*(Projects!$C$5:$C$2481<>'MDOT FTA Detail'!$C$4)*(Projects!$L$5:$L$2481='Local Detail'!$A57)*(Projects!$K$5:$K$2481))","v":0},{"$f":"((SUMPRODUCT((Projects!$A$5:$A$2481='Local Detail'!$G$3)*(Projects!$C$5:$C$2481<>'MDOT FTA Detail'!$C$4)*(Projects!$L$5:$L$2481='Local Detail'!$A57)*(Projects!$J$5:$J$2481<>'Local Detail'!$A$136)*(Projects!$M$5:$M$2481)))+(SUMPRODUCT((Projects!$A$5:$A$2481='Local Detail'!$G$3)*(Projects!$C$5:$C$2481<>'MDOT FTA Detail'!$C$4)*(Projects!$L$5:$L$2481='Local Detail'!$A57)*(Projects!$J$5:$J$2481<>'Local Detail'!$A$136)*(Projects!$O$5:$O$2481))))","v":0},0,{"$f":"SUMPRODUCT((Projects!$A$5:$A$2481='Local Detail'!$J$3)*(Projects!$C$5:$C$2481<>'MDOT FTA Detail'!$C$4)*(Projects!$L$5:$L$2481='Local Detail'!$A57)*(Projects!$K$5:$K$2481))","v":0},{"$f":"((SUMPRODUCT((Projects!$A$5:$A$2481='Local Detail'!$J$3)*(Projects!$C$5:$C$2481<>'MDOT FTA Detail'!$C$4)*(Projects!$L$5:$L$2481='Local Detail'!$A57)*(Projects!$J$5:$J$2481<>'Local Detail'!$A$136)*(Projects!$M$5:$M$2481)))+(SUMPRODUCT((Projects!$A$5:$A$2481='Local Detail'!$J$3)*(Projects!$C$5:$C$2481<>'MDOT FTA Detail'!$C$4)*(Projects!$L$5:$L$2481='Local Detail'!$A57)*(Projects!$J$5:$J$2481<>'Local Detail'!$A$136)*(Projects!$O$5:$O$2481))))","v":0},0,{"$f":"SUMPRODUCT((Projects!$A$5:$A$2481='Local Detail'!$M$3)*(Projects!$C$5:$C$2481<>'MDOT FTA Detail'!$C$4)*(Projects!$L$5:$L$2481='Local Detail'!$A57)*(Projects!$K$5:$K$2481))","v":0},{"$f":"((SUMPRODUCT((Projects!$A$5:$A$2481='Local Detail'!$M$3)*(Projects!$C$5:$C$2481<>'MDOT FTA Detail'!$C$4)*(Projects!$L$5:$L$2481='Local Detail'!$A57)*(Projects!$J$5:$J$2481<>'Local Detail'!$A$136)*(Projects!$M$5:$M$2481)))+(SUMPRODUCT((Projects!$A$5:$A$2481='Local Detail'!$M$3)*(Projects!$C$5:$C$2481<>'MDOT FTA Detail'!$C$4)*(Projects!$L$5:$L$2481='Local Detail'!$A57)*(Projects!$J$5:$J$2481<>'Local Detail'!$A$136)*(Projects!$O$5:$O$2481))))","v":0},0]
["NHS","National Highway System - MDOT Safety Program","Local Other FHWA",{"$f":"SUMPRODUCT((Projects!$A$5:$A$2481='Local Detail'!$D$3)*(Projects!$C$5:$C$2481<>'MDOT FTA Detail'!$C$4)*(Projects!$L$5:$L$2481='Local Detail'!$A58)*(Projects!$K$5:$K$2481))","v":0},{"$f":"((SUMPRODUCT((Projects!$A$5:$A$2481='Local Detail'!$D$3)*(Projects!$C$5:$C$2481<>'MDOT FTA Detail'!$C$4)*(Projects!$L$5:$L$2481='Local Detail'!$A58)*(Projects!$J$5:$J$2481<>'Local Detail'!$A$136)*(Projects!$M$5:$M$2481)))+(SUMPRODUCT((Projects!$A$5:$A$2481='Local Detail'!$D$3)*(Projects!$C$5:$C$2481<>'MDOT FTA Detail'!$C$4)*(Projects!$L$5:$L$2481='Local Detail'!$A58)*(Projects!$J$5:$J$2481<>'Local Detail'!$A$136)*(Projects!$O$5:$O$2481))))","v":0},0,{"$f":"SUMPRODUCT((Projects!$A$5:$A$2481='Local Detail'!$G$3)*(Projects!$C$5:$C$2481<>'MDOT FTA Detail'!$C$4)*(Projects!$L$5:$L$2481='Local Detail'!$A58)*(Projects!$K$5:$K$2481))","v":0},{"$f":"((SUMPRODUCT((Projects!$A$5:$A$2481='Local Detail'!$G$3)*(Projects!$C$5:$C$2481<>'MDOT FTA Detail'!$C$4)*(Projects!$L$5:$L$2481='Local Detail'!$A58)*(Projects!$J$5:$J$2481<>'Local Detail'!$A$136)*(Projects!$M$5:$M$2481)))+(SUMPRODUCT((Projects!$A$5:$A$2481='Local Detail'!$G$3)*(Projects!$C$5:$C$2481<>'MDOT FTA Detail'!$C$4)*(Projects!$L$5:$L$2481='Local Detail'!$A58)*(Projects!$J$5:$J$2481<>'Local Detail'!$A$136)*(Projects!$O$5:$O$2481))))","v":0},0,{"$f":"SUMPRODUCT((Projects!$A$5:$A$2481='Local Detail'!$J$3)*(Projects!$C$5:$C$2481<>'MDOT FTA Detail'!$C$4)*(Projects!$L$5:$L$2481='Local Detail'!$A58)*(Projects!$K$5:$K$2481))","v":0},{"$f":"((SUMPRODUCT((Projects!$A$5:$A$2481='Local Detail'!$J$3)*(Projects!$C$5:$C$2481<>'MDOT FTA Detail'!$C$4)*(Projects!$L$5:$L$2481='Local Detail'!$A58)*(Projects!$J$5:$J$2481<>'Local Detail'!$A$136)*(Projects!$M$5:$M$2481)))+(SUMPRODUCT((Projects!$A$5:$A$2481='Local Detail'!$J$3)*(Projects!$C$5:$C$2481<>'MDOT FTA Detail'!$C$4)*(Projects!$L$5:$L$2481='Local Detail'!$A58)*(Projects!$J$5:$J$2481<>'Local Detail'!$A$136)*(Projects!$O$5:$O$2481))))","v":0},0,{"$f":"SUMPRODUCT((Projects!$A$5:$A$2481='Local Detail'!$M$3)*(Projects!$C$5:$C$2481<>'MDOT FTA Detail'!$C$4)*(Projects!$L$5:$L$2481='Local Detail'!$A58)*(Projects!$K$5:$K$2481))","v":0},{"$f":"((SUMPRODUCT((Projects!$A$5:$A$2481='Local Detail'!$M$3)*(Projects!$C$5:$C$2481<>'MDOT FTA Detail'!$C$4)*(Projects!$L$5:$L$2481='Local Detail'!$A58)*(Projects!$J$5:$J$2481<>'Local Detail'!$A$136)*(Projects!$M$5:$M$2481)))+(SUMPRODUCT((Projects!$A$5:$A$2481='Local Detail'!$M$3)*(Projects!$C$5:$C$2481<>'MDOT FTA Detail'!$C$4)*(Projects!$L$5:$L$2481='Local Detail'!$A58)*(Projects!$J$5:$J$2481<>'Local Detail'!$A$136)*(Projects!$O$5:$O$2481))))","v":0},0]
["NRT","National Recreational Trails","Local Other FHWA",{"$f":"SUMPRODUCT((Projects!$A$5:$A$2481='Local Detail'!$D$3)*(Projects!$C$5:$C$2481<>'MDOT FTA Detail'!$C$4)*(Projects!$L$5:$L$2481='Local Detail'!$A59)*(Projects!$K$5:$K$2481))","v":0},{"$f":"((SUMPRODUCT((Projects!$A$5:$A$2481='Local Detail'!$D$3)*(Projects!$C$5:$C$2481<>'MDOT FTA Detail'!$C$4)*(Projects!$L$5:$L$2481='Local Detail'!$A59)*(Projects!$J$5:$J$2481<>'Local Detail'!$A$136)*(Projects!$M$5:$M$2481)))+(SUMPRODUCT((Projects!$A$5:$A$2481='Local Detail'!$D$3)*(Projects!$C$5:$C$2481<>'MDOT FTA Detail'!$C$4)*(Projects!$L$5:$L$2481='Local Detail'!$A59)*(Projects!$J$5:$J$2481<>'Local Detail'!$A$136)*(Projects!$O$5:$O$2481))))","v":0},0,{"$f":"SUMPRODUCT((Projects!$A$5:$A$2481='Local Detail'!$G$3)*(Projects!$C$5:$C$2481<>'MDOT FTA Detail'!$C$4)*(Projects!$L$5:$L$2481='Local Detail'!$A59)*(Projects!$K$5:$K$2481))","v":0},{"$f":"((SUMPRODUCT((Projects!$A$5:$A$2481='Local Detail'!$G$3)*(Projects!$C$5:$C$2481<>'MDOT FTA Detail'!$C$4)*(Projects!$L$5:$L$2481='Local Detail'!$A59)*(Projects!$J$5:$J$2481<>'Local Detail'!$A$136)*(Projects!$M$5:$M$2481)))+(SUMPRODUCT((Projects!$A$5:$A$2481='Local Detail'!$G$3)*(Projects!$C$5:$C$2481<>'MDOT FTA Detail'!$C$4)*(Projects!$L$5:$L$2481='Local Detail'!$A59)*(Projects!$J$5:$J$2481<>'Local Detail'!$A$136)*(Projects!$O$5:$O$2481))))","v":0},0,{"$f":"SUMPRODUCT((Projects!$A$5:$A$2481='Local Detail'!$J$3)*(Projects!$C$5:$C$2481<>'MDOT FTA Detail'!$C$4)*(Projects!$L$5:$L$2481='Local Detail'!$A59)*(Projects!$K$5:$K$2481))","v":0},{"$f":"((SUMPRODUCT((Projects!$A$5:$A$2481='Local Detail'!$J$3)*(Projects!$C$5:$C$2481<>'MDOT FTA Detail'!$C$4)*(Projects!$L$5:$L$2481='Local Detail'!$A59)*(Projects!$J$5:$J$2481<>'Local Detail'!$A$136)*(Projects!$M$5:$M$2481)))+(SUMPRODUCT((Projects!$A$5:$A$2481='Local Detail'!$J$3)*(Projects!$C$5:$C$2481<>'MDOT FTA Detail'!$C$4)*(Projects!$L$5:$L$2481='Local Detail'!$A59)*(Projects!$J$5:$J$2481<>'Local Detail'!$A$136)*(Projects!$O$5:$O$2481))))","v":0},0,{"$f":"SUMPRODUCT((Projects!$A$5:$A$2481='Local Detail'!$M$3)*(Projects!$C$5:$C$2481<>'MDOT FTA Detail'!$C$4)*(Projects!$L$5:$L$2481='Local Detail'!$A59)*(Projects!$K$5:$K$2481))","v":0},{"$f":"((SUMPRODUCT((Projects!$A$5:$A$2481='Local Detail'!$M$3)*(Projects!$C$5:$C$2481<>'MDOT FTA Detail'!$C$4)*(Projects!$L$5:$L$2481='Local Detail'!$A59)*(Projects!$J$5:$J$2481<>'Local Detail'!$A$136)*(Projects!$M$5:$M$2481)))+(SUMPRODUCT((Projects!$A$5:$A$2481='Local Detail'!$M$3)*(Projects!$C$5:$C$2481<>'MDOT FTA Detail'!$C$4)*(Projects!$L$5:$L$2481='Local Detail'!$A59)*(Projects!$J$5:$J$2481<>'Local Detail'!$A$136)*(Projects!$O$5:$O$2481))))","v":0},0]
["OFHWA","Other FHWA Funds (Specify source in Comments)","Local Other FHWA",{"$f":"SUMPRODUCT((Projects!$A$5:$A$2481='Local Detail'!$D$3)*(Projects!$C$5:$C$2481<>'MDOT FTA Detail'!$C$4)*(Projects!$L$5:$L$2481='Local Detail'!$A60)*(Projects!$K$5:$K$2481))","v":0},{"$f":"((SUMPRODUCT((Projects!$A$5:$A$2481='Local Detail'!$D$3)*(Projects!$C$5:$C$2481<>'MDOT FTA Detail'!$C$4)*(Projects!$L$5:$L$2481='Local Detail'!$A60)*(Projects!$J$5:$J$2481<>'Local Detail'!$A$136)*(Projects!$M$5:$M$2481)))+(SUMPRODUCT((Projects!$A$5:$A$2481='Local Detail'!$D$3)*(Projects!$C$5:$C$2481<>'MDOT FTA Detail'!$C$4)*(Projects!$L$5:$L$2481='Local Detail'!$A60)*(Projects!$J$5:$J$2481<>'Local Detail'!$A$136)*(Projects!$O$5:$O$2481))))","v":0},0,{"$f":"SUMPRODUCT((Projects!$A$5:$A$2481='Local Detail'!$G$3)*(Projects!$C$5:$C$2481<>'MDOT FTA Detail'!$C$4)*(Projects!$L$5:$L$2481='Local Detail'!$A60)*(Projects!$K$5:$K$2481))","v":0},{"$f":"((SUMPRODUCT((Projects!$A$5:$A$2481='Local Detail'!$G$3)*(Projects!$C$5:$C$2481<>'MDOT FTA Detail'!$C$4)*(Projects!$L$5:$L$2481='Local Detail'!$A60)*(Projects!$J$5:$J$2481<>'Local Detail'!$A$136)*(Projects!$M$5:$M$2481)))+(SUMPRODUCT((Projects!$A$5:$A$2481='Local Detail'!$G$3)*(Projects!$C$5:$C$2481<>'MDOT FTA Detail'!$C$4)*(Projects!$L$5:$L$2481='Local Detail'!$A60)*(Projects!$J$5:$J$2481<>'Local Detail'!$A$136)*(Projects!$O$5:$O$2481))))","v":0},0,{"$f":"SUMPRODUCT((Projects!$A$5:$A$2481='Local Detail'!$J$3)*(Projects!$C$5:$C$2481<>'MDOT FTA Detail'!$C$4)*(Projects!$L$5:$L$2481='Local Detail'!$A60)*(Projects!$K$5:$K$2481))","v":0},{"$f":"((SUMPRODUCT((Projects!$A$5:$A$2481='Local Detail'!$J$3)*(Projects!$C$5:$C$2481<>'MDOT FTA Detail'!$C$4)*(Projects!$L$5:$L$2481='Local Detail'!$A60)*(Projects!$J$5:$J$2481<>'Local Detail'!$A$136)*(Projects!$M$5:$M$2481)))+(SUMPRODUCT((Projects!$A$5:$A$2481='Local Detail'!$J$3)*(Projects!$C$5:$C$2481<>'MDOT FTA Detail'!$C$4)*(Projects!$L$5:$L$2481='Local Detail'!$A60)*(Projects!$J$5:$J$2481<>'Local Detail'!$A$136)*(Projects!$O$5:$O$2481))))","v":0},0,{"$f":"SUMPRODUCT((Projects!$A$5:$A$2481='Local Detail'!$M$3)*(Projects!$C$5:$C$2481<>'MDOT FTA Detail'!$C$4)*(Projects!$L$5:$L$2481='Local Detail'!$A60)*(Projects!$K$5:$K$2481))","v":0},{"$f":"((SUMPRODUCT((Projects!$A$5:$A$2481='Local Detail'!$M$3)*(Projects!$C$5:$C$2481<>'MDOT FTA Detail'!$C$4)*(Projects!$L$5:$L$2481='Local Detail'!$A60)*(Projects!$J$5:$J$2481<>'Local Detail'!$A$136)*(Projects!$M$5:$M$2481)))+(SUMPRODUCT((Projects!$A$5:$A$2481='Local Detail'!$M$3)*(Projects!$C$5:$C$2481<>'MDOT FTA Detail'!$C$4)*(Projects!$L$5:$L$2481='Local Detail'!$A60)*(Projects!$J$5:$J$2481<>'Local Detail'!$A$136)*(Projects!$O$5:$O$2481))))","v":0},0]
["PNRS","Projects of National and Regional Significance","Local Other FHWA",{"$f":"SUMPRODUCT((Projects!$A$5:$A$2481='Local Detail'!$D$3)*(Projects!$C$5:$C$2481<>'MDOT FTA Detail'!$C$4)*(Projects!$L$5:$L$2481='Local Detail'!$A61)*(Projects!$K$5:$K$2481))","v":0},{"$f":"((SUMPRODUCT((Projects!$A$5:$A$2481='Local Detail'!$D$3)*(Projects!$C$5:$C$2481<>'MDOT FTA Detail'!$C$4)*(Projects!$L$5:$L$2481='Local Detail'!$A61)*(Projects!$J$5:$J$2481<>'Local Detail'!$A$136)*(Projects!$M$5:$M$2481)))+(SUMPRODUCT((Projects!$A$5:$A$2481='Local Detail'!$D$3)*(Projects!$C$5:$C$2481<>'MDOT FTA Detail'!$C$4)*(Projects!$L$5:$L$2481='Local Detail'!$A61)*(Projects!$J$5:$J$2481<>'Local Detail'!$A$136)*(Projects!$O$5:$O$2481))))","v":0},{"$f":"D61+E61","v":0},{"$f":"SUMPRODUCT((Projects!$A$5:$A$2481='Local Detail'!$G$3)*(Projects!$C$5:$C$2481<>'MDOT FTA Detail'!$C$4)*(Projects!$L$5:$L$2481='Local Detail'!$A61)*(Projects!$K$5:$K$2481))","v":0},{"$f":"((SUMPRODUCT((Projects!$A$5:$A$2481='Local Detail'!$G$3)*(Projects!$C$5:$C$2481<>'MDOT FTA Detail'!$C$4)*(Projects!$L$5:$L$2481='Local Detail'!$A61)*(Projects!$J$5:$J$2481<>'Local Detail'!$A$136)*(Projects!$M$5:$M$2481)))+(SUMPRODUCT((Projects!$A$5:$A$2481='Local Detail'!$G$3)*(Projects!$C$5:$C$2481<>'MDOT FTA Detail'!$C$4)*(Projects!$L$5:$L$2481='Local Detail'!$A61)*(Projects!$J$5:$J$2481<>'Local Detail'!$A$136)*(Projects!$O$5:$O$2481))))","v":0},{"$f":"G61+H61","v":0},{"$f":"SUMPRODUCT((Projects!$A$5:$A$2481='Local Detail'!$J$3)*(Projects!$C$5:$C$2481<>'MDOT FTA Detail'!$C$4)*(Projects!$L$5:$L$2481='Local Detail'!$A61)*(Projects!$K$5:$K$2481))","v":0},{"$f":"((SUMPRODUCT((Projects!$A$5:$A$2481='Local Detail'!$J$3)*(Projects!$C$5:$C$2481<>'MDOT FTA Detail'!$C$4)*(Projects!$L$5:$L$2481='Local Detail'!$A61)*(Projects!$J$5:$J$2481<>'Local Detail'!$A$136)*(Projects!$M$5:$M$2481)))+(SUMPRODUCT((Projects!$A$5:$A$2481='Local Detail'!$J$3)*(Projects!$C$5:$C$2481<>'MDOT FTA Detail'!$C$4)*(Projects!$L$5:$L$2481='Local Detail'!$A61)*(Projects!$J$5:$J$2481<>'Local Detail'!$A$136)*(Projects!$O$5:$O$2481))))","v":0},{"$f":"J61+K61","v":0},{"$f":"SUMPRODUCT((Projects!$A$5:$A$2481='Local Detail'!$M$3)*(Projects!$C$5:$C$2481<>'MDOT FTA Detail'!$C$4)*(Projects!$L$5:$L$2481='Local Detail'!$A61)*(Projects!$K$5:$K$2481))","v":0},{"$f":"((SUMPRODUCT((Projects!$A$5:$A$2481='Local Detail'!$M$3)*(Projects!$C$5:$C$2481<>'MDOT FTA Detail'!$C$4)*(Projects!$L$5:$L$2481='Local Detail'!$A61)*(Projects!$J$5:$J$2481<>'Local Detail'!$A$136)*(Projects!$M$5:$M$2481)))+(SUMPRODUCT((Projects!$A$5:$A$2481='Local Detail'!$M$3)*(Projects!$C$5:$C$2481<>'MDOT FTA Detail'!$C$4)*(Projects!$L$5:$L$2481='Local Detail'!$A61)*(Projects!$J$5:$J$2481<>'Local Detail'!$A$136)*(Projects!$O$5:$O$2481))))","v":0},{"$f":"M61+N61","v":0}]
["RP","Research Project","Local Other FHWA",{"$f":"SUMPRODUCT((Projects!$A$5:$A$2481='Local Detail'!$D$3)*(Projects!$C$5:$C$2481<>'MDOT FTA Detail'!$C$4)*(Projects!$L$5:$L$2481='Local Detail'!$A62)*(Projects!$K$5:$K$2481))","v":0},{"$f":"((SUMPRODUCT((Projects!$A$5:$A$2481='Local Detail'!$D$3)*(Projects!$C$5:$C$2481<>'MDOT FTA Detail'!$C$4)*(Projects!$L$5:$L$2481='Local Detail'!$A62)*(Projects!$J$5:$J$2481<>'Local Detail'!$A$136)*(Projects!$M$5:$M$2481)))+(SUMPRODUCT((Projects!$A$5:$A$2481='Local Detail'!$D$3)*(Projects!$C$5:$C$2481<>'MDOT FTA Detail'!$C$4)*(Projects!$L$5:$L$2481='Local Detail'!$A62)*(Projects!$J$5:$J$2481<>'Local Detail'!$A$136)*(Projects!$O$5:$O$2481))))","v":0},0,{"$f":"SUMPRODUCT((Projects!$A$5:$A$2481='Local Detail'!$G$3)*(Projects!$C$5:$C$2481<>'MDOT FTA Detail'!$C$4)*(Projects!$L$5:$L$2481='Local Detail'!$A62)*(Projects!$K$5:$K$2481))","v":0},{"$f":"((SUMPRODUCT((Projects!$A$5:$A$2481='Local Detail'!$G$3)*(Projects!$C$5:$C$2481<>'MDOT FTA Detail'!$C$4)*(Projects!$L$5:$L$2481='Local Detail'!$A62)*(Projects!$J$5:$J$2481<>'Local Detail'!$A$136)*(Projects!$M$5:$M$2481)))+(SUMPRODUCT((Projects!$A$5:$A$2481='Local Detail'!$G$3)*(Projects!$C$5:$C$2481<>'MDOT FTA Detail'!$C$4)*(Projects!$L$5:$L$2481='Local Detail'!$A62)*(Projects!$J$5:$J$2481<>'Local Detail'!$A$136)*(Projects!$O$5:$O$2481))))","v":0},0,{"$f":"SUMPRODUCT((Projects!$A$5:$A$2481='Local Detail'!$J$3)*(Projects!$C$5:$C$2481<>'MDOT FTA Detail'!$C$4)*(Projects!$L$5:$L$2481='Local Detail'!$A62)*(Projects!$K$5:$K$2481))","v":0},{"$f":"((SUMPRODUCT((Projects!$A$5:$A$2481='Local Detail'!$J$3)*(Projects!$C$5:$C$2481<>'MDOT FTA Detail'!$C$4)*(Projects!$L$5:$L$2481='Local Detail'!$A62)*(Projects!$J$5:$J$2481<>'Local Detail'!$A$136)*(Projects!$M$5:$M$2481)))+(SUMPRODUCT((Projects!$A$5:$A$2481='Local Detail'!$J$3)*(Projects!$C$5:$C$2481<>'MDOT FTA Detail'!$C$4)*(Projects!$L$5:$L$2481='Local Detail'!$A62)*(Projects!$J$5:$J$2481<>'Local Detail'!$A$136)*(Projects!$O$5:$O$2481))))","v":0},0,{"$f":"SUMPRODUCT((Projects!$A$5:$A$2481='Local Detail'!$M$3)*(Projects!$C$5:$C$2481<>'MDOT FTA Detail'!$C$4)*(Projects!$L$5:$L$2481='Local Detail'!$A62)*(Projects!$K$5:$K$2481))","v":0},{"$f":"((SUMPRODUCT((Projects!$A$5:$A$2481='Local Detail'!$M$3)*(Projects!$C$5:$C$2481<>'MDOT FTA Detail'!$C$4)*(Projects!$L$5:$L$2481='Local Detail'!$A62)*(Projects!$J$5:$J$2481<>'Local Detail'!$A$136)*(Projects!$M$5:$M$2481)))+(SUMPRODUCT((Projects!$A$5:$A$2481='Local Detail'!$M$3)*(Projects!$C$5:$C$2481<>'MDOT FTA Detail'!$C$4)*(Projects!$L$5:$L$2481='Local Detail'!$A62)*(Projects!$J$5:$J$2481<>'Local Detail'!$A$136)*(Projects!$O$5:$O$2481))))","v":0},0]
["RPH","American Recovery and Reinvestment Act","Local Other FHWA",{"$f":"SUMPRODUCT((Projects!$A$5:$A$2481='Local Detail'!$D$3)*(Projects!$C$5:$C$2481<>'MDOT FTA Detail'!$C$4)*(Projects!$L$5:$L$2481='Local Detail'!$A63)*(Projects!$K$5:$K$2481))","v":0},{"$f":"((SUMPRODUCT((Projects!$A$5:$A$2481='Local Detail'!$D$3)*(Projects!$C$5:$C$2481<>'MDOT FTA Detail'!$C$4)*(Projects!$L$5:$L$2481='Local Detail'!$A63)*(Projects!$J$5:$J$2481<>'Local Detail'!$A$136)*(Projects!$M$5:$M$2481)))+(SUMPRODUCT((Projects!$A$5:$A$2481='Local Detail'!$D$3)*(Projects!$C$5:$C$2481<>'MDOT FTA Detail'!$C$4)*(Projects!$L$5:$L$2481='Local Detail'!$A63)*(Projects!$J$5:$J$2481<>'Local Detail'!$A$136)*(Projects!$O$5:$O$2481))))","v":0},0,{"$f":"SUMPRODUCT((Projects!$A$5:$A$2481='Local Detail'!$G$3)*(Projects!$C$5:$C$2481<>'MDOT FTA Detail'!$C$4)*(Projects!$L$5:$L$2481='Local Detail'!$A63)*(Projects!$K$5:$K$2481))","v":0},{"$f":"((SUMPRODUCT((Projects!$A$5:$A$2481='Local Detail'!$G$3)*(Projects!$C$5:$C$2481<>'MDOT FTA Detail'!$C$4)*(Projects!$L$5:$L$2481='Local Detail'!$A63)*(Projects!$J$5:$J$2481<>'Local Detail'!$A$136)*(Projects!$M$5:$M$2481)))+(SUMPRODUCT((Projects!$A$5:$A$2481='Local Detail'!$G$3)*(Projects!$C$5:$C$2481<>'MDOT FTA Detail'!$C$4)*(Projects!$L$5:$L$2481='Local Detail'!$A63)*(Projects!$J$5:$J$2481<>'Local Detail'!$A$136)*(Projects!$O$5:$O$2481))))","v":0},0,{"$f":"SUMPRODUCT((Projects!$A$5:$A$2481='Local Detail'!$J$3)*(Projects!$C$5:$C$2481<>'MDOT FTA Detail'!$C$4)*(Projects!$L$5:$L$2481='Local Detail'!$A63)*(Projects!$K$5:$K$2481))","v":0},{"$f":"((SUMPRODUCT((Projects!$A$5:$A$2481='Local Detail'!$J$3)*(Projects!$C$5:$C$2481<>'MDOT FTA Detail'!$C$4)*(Projects!$L$5:$L$2481='Local Detail'!$A63)*(Projects!$J$5:$J$2481<>'Local Detail'!$A$136)*(Projects!$M$5:$M$2481)))+(SUMPRODUCT((Projects!$A$5:$A$2481='Local Detail'!$J$3)*(Projects!$C$5:$C$2481<>'MDOT FTA Detail'!$C$4)*(Projects!$L$5:$L$2481='Local Detail'!$A63)*(Projects!$J$5:$J$2481<>'Local Detail'!$A$136)*(Projects!$O$5:$O$2481))))","v":0},0,{"$f":"SUMPRODUCT((Projects!$A$5:$A$2481='Local Detail'!$M$3)*(Projects!$C$5:$C$2481<>'MDOT FTA Detail'!$C$4)*(Projects!$L$5:$L$2481='Local Detail'!$A63)*(Projects!$K$5:$K$2481))","v":0},{"$f":"((SUMPRODUCT((Projects!$A$5:$A$2481='Local Detail'!$M$3)*(Projects!$C$5:$C$2481<>'MDOT FTA Detail'!$C$4)*(Projects!$L$5:$L$2481='Local Detail'!$A63)*(Projects!$J$5:$J$2481<>'Local Detail'!$A$136)*(Projects!$M$5:$M$2481)))+(SUMPRODUCT((Projects!$A$5:$A$2481='Local Detail'!$M$3)*(Projects!$C$5:$C$2481<>'MDOT FTA Detail'!$C$4)*(Projects!$L$5:$L$2481='Local Detail'!$A63)*(Projects!$J$5:$J$2481<>'Local Detail'!$A$136)*(Projects!$O$5:$O$2481))))","v":0},0]
["SBD","Scenic Byways - Discretionary","Local Other FHWA",{"$f":"SUMPRODUCT((Projects!$A$5:$A$2481='Local Detail'!$D$3)*(Projects!$C$5:$C$2481<>'MDOT FTA Detail'!$C$4)*(Projects!$L$5:$L$2481='Local Detail'!$A64)*(Projects!$K$5:$K$2481))","v":0},{"$f":"((SUMPRODUCT((Projects!$A$5:$A$2481='Local Detail'!$D$3)*(Projects!$C$5:$C$2481<>'MDOT FTA Detail'!$C$4)*(Projects!$L$5:$L$2481='Local Detail'!$A64)*(Projects!$J$5:$J$2481<>'Local Detail'!$A$136)*(Projects!$M$5:$M$2481)))+(SUMPRODUCT((Projects!$A$5:$A$2481='Local Detail'!$D$3)*(Projects!$C$5:$C$2481<>'MDOT FTA Detail'!$C$4)*(Projects!$L$5:$L$2481='Local Detail'!$A64)*(Projects!$J$5:$J$2481<>'Local Detail'!$A$136)*(Projects!$O$5:$O$2481))))","v":0},0,{"$f":"SUMPRODUCT((Projects!$A$5:$A$2481='Local Detail'!$G$3)*(Projects!$C$5:$C$2481<>'MDOT FTA Detail'!$C$4)*(Projects!$L$5:$L$2481='Local Detail'!$A64)*(Projects!$K$5:$K$2481))","v":0},{"$f":"((SUMPRODUCT((Projects!$A$5:$A$2481='Local Detail'!$G$3)*(Projects!$C$5:$C$2481<>'MDOT FTA Detail'!$C$4)*(Projects!$L$5:$L$2481='Local Detail'!$A64)*(Projects!$J$5:$J$2481<>'Local Detail'!$A$136)*(Projects!$M$5:$M$2481)))+(SUMPRODUCT((Projects!$A$5:$A$2481='Local Detail'!$G$3)*(Projects!$C$5:$C$2481<>'MDOT FTA Detail'!$C$4)*(Projects!$L$5:$L$2481='Local Detail'!$A64)*(Projects!$J$5:$J$2481<>'Local Detail'!$A$136)*(Projects!$O$5:$O$2481))))","v":0},0,{"$f":"SUMPRODUCT((Projects!$A$5:$A$2481='Local Detail'!$J$3)*(Projects!$C$5:$C$2481<>'MDOT FTA Detail'!$C$4)*(Projects!$L$5:$L$2481='Local Detail'!$A64)*(Projects!$K$5:$K$2481))","v":0},{"$f":"((SUMPRODUCT((Projects!$A$5:$A$2481='Local Detail'!$J$3)*(Projects!$C$5:$C$2481<>'MDOT FTA Detail'!$C$4)*(Projects!$L$5:$L$2481='Local Detail'!$A64)*(Projects!$J$5:$J$2481<>'Local Detail'!$A$136)*(Projects!$M$5:$M$2481)))+(SUMPRODUCT((Projects!$A$5:$A$2481='Local Detail'!$J$3)*(Projects!$C$5:$C$2481<>'MDOT FTA Detail'!$C$4)*(Projects!$L$5:$L$2481='Local Detail'!$A64)*(Projects!$J$5:$J$2481<>'Local Detail'!$A$136)*(Projects!$O$5:$O$2481))))","v":0},0,{"$f":"SUMPRODUCT((Projects!$A$5:$A$2481='Local Detail'!$M$3)*(Projects!$C$5:$C$2481<>'MDOT FTA Detail'!$C$4)*(Projects!$L$5:$L$2481='Local Detail'!$A64)*(Projects!$K$5:$K$2481))","v":0},{"$f":"((SUMPRODUCT((Projects!$A$5:$A$2481='Local Detail'!$M$3)*(Projects!$C$5:$C$2481<>'MDOT FTA Detail'!$C$4)*(Projects!$L$5:$L$2481='Local Detail'!$A64)*(Projects!$J$5:$J$2481<>'Local Detail'!$A$136)*(Projects!$M$5:$M$2481)))+(SUMPRODUCT((Projects!$A$5:$A$2481='Local Detail'!$M$3)*(Projects!$C$5:$C$2481<>'MDOT FTA Detail'!$C$4)*(Projects!$L$5:$L$2481='Local Detail'!$A64)*(Projects!$J$5:$J$2481<>'Local Detail'!$A$136)*(Projects!$O$5:$O$2481))))","v":0},0]
["SIB","State Infrastructure Bank","Local Other FHWA",{"$f":"SUMPRODUCT((Projects!$A$5:$A$2481='Local Detail'!$D$3)*(Projects!$C$5:$C$2481<>'MDOT FTA Detail'!$C$4)*(Projects!$L$5:$L$2481='Local Detail'!$A65)*(Projects!$K$5:$K$2481))","v":0},{"$f":"((SUMPRODUCT((Projects!$A$5:$A$2481='Local Detail'!$D$3)*(Projects!$C$5:$C$2481<>'MDOT FTA Detail'!$C$4)*(Projects!$L$5:$L$2481='Local Detail'!$A65)*(Projects!$J$5:$J$2481<>'Local Detail'!$A$136)*(Projects!$M$5:$M$2481)))+(SUMPRODUCT((Projects!$A$5:$A$2481='Local Detail'!$D$3)*(Projects!$C$5:$C$2481<>'MDOT FTA Detail'!$C$4)*(Projects!$L$5:$L$2481='Local Detail'!$A65)*(Projects!$J$5:$J$2481<>'Local Detail'!$A$136)*(Projects!$O$5:$O$2481))))","v":0},0,{"$f":"SUMPRODUCT((Projects!$A$5:$A$2481='Local Detail'!$G$3)*(Projects!$C$5:$C$2481<>'MDOT FTA Detail'!$C$4)*(Projects!$L$5:$L$2481='Local Detail'!$A65)*(Projects!$K$5:$K$2481))","v":0},{"$f":"((SUMPRODUCT((Projects!$A$5:$A$2481='Local Detail'!$G$3)*(Projects!$C$5:$C$2481<>'MDOT FTA Detail'!$C$4)*(Projects!$L$5:$L$2481='Local Detail'!$A65)*(Projects!$J$5:$J$2481<>'Local Detail'!$A$136)*(Projects!$M$5:$M$2481)))+(SUMPRODUCT((Projects!$A$5:$A$2481='Local Detail'!$G$3)*(Projects!$C$5:$C$2481<>'MDOT FTA Detail'!$C$4)*(Projects!$L$5:$L$2481='Local Detail'!$A65)*(Projects!$J$5:$J$2481<>'Local Detail'!$A$136)*(Projects!$O$5:$O$2481))))","v":0},0,{"$f":"SUMPRODUCT((Projects!$A$5:$A$2481='Local Detail'!$J$3)*(Projects!$C$5:$C$2481<>'MDOT FTA Detail'!$C$4)*(Projects!$L$5:$L$2481='Local Detail'!$A65)*(Projects!$K$5:$K$2481))","v":0},{"$f":"((SUMPRODUCT((Projects!$A$5:$A$2481='Local Detail'!$J$3)*(Projects!$C$5:$C$2481<>'MDOT FTA Detail'!$C$4)*(Projects!$L$5:$L$2481='Local Detail'!$A65)*(Projects!$J$5:$J$2481<>'Local Detail'!$A$136)*(Projects!$M$5:$M$2481)))+(SUMPRODUCT((Projects!$A$5:$A$2481='Local Detail'!$J$3)*(Projects!$C$5:$C$2481<>'MDOT FTA Detail'!$C$4)*(Projects!$L$5:$L$2481='Local Detail'!$A65)*(Projects!$J$5:$J$2481<>'Local Detail'!$A$136)*(Projects!$O$5:$O$2481))))","v":0},0,{"$f":"SUMPRODUCT((Projects!$A$5:$A$2481='Local Detail'!$M$3)*(Projects!$C$5:$C$2481<>'MDOT FTA Detail'!$C$4)*(Projects!$L$5:$L$2481='Local Detail'!$A65)*(Projects!$K$5:$K$2481))","v":0},{"$f":"((SUMPRODUCT((Projects!$A$5:$A$2481='Local Detail'!$M$3)*(Projects!$C$5:$C$2481<>'MDOT FTA Detail'!$C$4)*(Projects!$L$5:$L$2481='Local Detail'!$A65)*(Projects!$J$5:$J$2481<>'Local Detail'!$A$136)*(Projects!$M$5:$M$2481)))+(SUMPRODUCT((Projects!$A$5:$A$2481='Local Detail'!$M$3)*(Projects!$C$5:$C$2481<>'MDOT FTA Detail'!$C$4)*(Projects!$L$5:$L$2481='Local Detail'!$A65)*(Projects!$J$5:$J$2481<>'Local Detail'!$A$136)*(Projects!$O$5:$O$2481))))","v":0},0]
["SLG","Surface Transportation Safety","Local Other FHWA",{"$f":"SUMPRODUCT((Projects!$A$5:$A$2481='Local Detail'!$D$3)*(Projects!$C$5:$C$2481<>'MDOT FTA Detail'!$C$4)*(Projects!$L$5:$L$2481='Local Detail'!$A66)*(Projects!$K$5:$K$2481))","v":0},{"$f":"((SUMPRODUCT((Projects!$A$5:$A$2481='Local Detail'!$D$3)*(Projects!$C$5:$C$2481<>'MDOT FTA Detail'!$C$4)*(Projects!$L$5:$L$2481='Local Detail'!$A66)*(Projects!$J$5:$J$2481<>'Local Detail'!$A$136)*(Projects!$M$5:$M$2481)))+(SUMPRODUCT((Projects!$A$5:$A$2481='Local Detail'!$D$3)*(Projects!$C$5:$C$2481<>'MDOT FTA Detail'!$C$4)*(Projects!$L$5:$L$2481='Local Detail'!$A66)*(Projects!$J$5:$J$2481<>'Local Detail'!$A$136)*(Projects!$O$5:$O$2481))))","v":0},0,{"$f":"SUMPRODUCT((Projects!$A$5:$A$2481='Local Detail'!$G$3)*(Projects!$C$5:$C$2481<>'MDOT FTA Detail'!$C$4)*(Projects!$L$5:$L$2481='Local Detail'!$A66)*(Projects!$K$5:$K$2481))","v":0},{"$f":"((SUMPRODUCT((Projects!$A$5:$A$2481='Local Detail'!$G$3)*(Projects!$C$5:$C$2481<>'MDOT FTA Detail'!$C$4)*(Projects!$L$5:$L$2481='Local Detail'!$A66)*(Projects!$J$5:$J$2481<>'Local Detail'!$A$136)*(Projects!$M$5:$M$2481)))+(SUMPRODUCT((Projects!$A$5:$A$2481='Local Detail'!$G$3)*(Projects!$C$5:$C$2481<>'MDOT FTA Detail'!$C$4)*(Projects!$L$5:$L$2481='Local Detail'!$A66)*(Projects!$J$5:$J$2481<>'Local Detail'!$A$136)*(Projects!$O$5:$O$2481))))","v":0},0,{"$f":"SUMPRODUCT((Projects!$A$5:$A$2481='Local Detail'!$J$3)*(Projects!$C$5:$C$2481<>'MDOT FTA Detail'!$C$4)*(Projects!$L$5:$L$2481='Local Detail'!$A66)*(Projects!$K$5:$K$2481))","v":0},{"$f":"((SUMPRODUCT((Projects!$A$5:$A$2481='Local Detail'!$J$3)*(Projects!$C$5:$C$2481<>'MDOT FTA Detail'!$C$4)*(Projects!$L$5:$L$2481='Local Detail'!$A66)*(Projects!$J$5:$J$2481<>'Local Detail'!$A$136)*(Projects!$M$5:$M$2481)))+(SUMPRODUCT((Projects!$A$5:$A$2481='Local Detail'!$J$3)*(Projects!$C$5:$C$2481<>'MDOT FTA Detail'!$C$4)*(Projects!$L$5:$L$2481='Local Detail'!$A66)*(Projects!$J$5:$J$2481<>'Local Detail'!$A$136)*(Projects!$O$5:$O$2481))))","v":0},0,{"$f":"SUMPRODUCT((Projects!$A$5:$A$2481='Local Detail'!$M$3)*(Projects!$C$5:$C$2481<>'MDOT FTA Detail'!$C$4)*(Projects!$L$5:$L$2481='Local Detail'!$A66)*(Projects!$K$5:$K$2481))","v":0},{"$f":"((SUMPRODUCT((Projects!$A$5:$A$2481='Local Detail'!$M$3)*(Projects!$C$5:$C$2481<>'MDOT FTA Detail'!$C$4)*(Projects!$L$5:$L$2481='Local Detail'!$A66)*(Projects!$J$5:$J$2481<>'Local Detail'!$A$136)*(Projects!$M$5:$M$2481)))+(SUMPRODUCT((Projects!$A$5:$A$2481='Local Detail'!$M$3)*(Projects!$C$5:$C$2481<>'MDOT FTA Detail'!$C$4)*(Projects!$L$5:$L$2481='Local Detail'!$A66)*(Projects!$J$5:$J$2481<>'Local Detail'!$A$136)*(Projects!$O$5:$O$2481))))","v":0},0]
["SRHG","Surface Transportation Safety Highway Crossing Hazard Elimination","Local STP",{"$f":"SUMPRODUCT((Projects!$A$5:$A$2481='Local Detail'!$D$3)*(Projects!$C$5:$C$2481<>'MDOT FTA Detail'!$C$4)*(Projects!$L$5:$L$2481='Local Detail'!$A67)*(Projects!$K$5:$K$2481))","v":0},{"$f":"((SUMPRODUCT((Projects!$A$5:$A$2481='Local Detail'!$D$3)*(Projects!$C$5:$C$2481<>'MDOT FTA Detail'!$C$4)*(Projects!$L$5:$L$2481='Local Detail'!$A67)*(Projects!$J$5:$J$2481<>'Local Detail'!$A$136)*(Projects!$M$5:$M$2481)))+(SUMPRODUCT((Projects!$A$5:$A$2481='Local Detail'!$D$3)*(Projects!$C$5:$C$2481<>'MDOT FTA Detail'!$C$4)*(Projects!$L$5:$L$2481='Local Detail'!$A67)*(Projects!$J$5:$J$2481<>'Local Detail'!$A$136)*(Projects!$O$5:$O$2481))))","v":0},{"$f":"D67+E67","v":0},{"$f":"SUMPRODUCT((Projects!$A$5:$A$2481='Local Detail'!$G$3)*(Projects!$C$5:$C$2481<>'MDOT FTA Detail'!$C$4)*(Projects!$L$5:$L$2481='Local Detail'!$A67)*(Projects!$K$5:$K$2481))","v":0},{"$f":"((SUMPRODUCT((Projects!$A$5:$A$2481='Local Detail'!$G$3)*(Projects!$C$5:$C$2481<>'MDOT FTA Detail'!$C$4)*(Projects!$L$5:$L$2481='Local Detail'!$A67)*(Projects!$J$5:$J$2481<>'Local Detail'!$A$136)*(Projects!$M$5:$M$2481)))+(SUMPRODUCT((Projects!$A$5:$A$2481='Local Detail'!$G$3)*(Projects!$C$5:$C$2481<>'MDOT FTA Detail'!$C$4)*(Projects!$L$5:$L$2481='Local Detail'!$A67)*(Projects!$J$5:$J$2481<>'Local Detail'!$A$136)*(Projects!$O$5:$O$2481))))","v":0},{"$f":"G67+H67","v":0},{"$f":"SUMPRODUCT((Projects!$A$5:$A$2481='Local Detail'!$J$3)*(Projects!$C$5:$C$2481<>'MDOT FTA Detail'!$C$4)*(Projects!$L$5:$L$2481='Local Detail'!$A67)*(Projects!$K$5:$K$2481))","v":0},{"$f":"((SUMPRODUCT((Projects!$A$5:$A$2481='Local Detail'!$J$3)*(Projects!$C$5:$C$2481<>'MDOT FTA Detail'!$C$4)*(Projects!$L$5:$L$2481='Local Detail'!$A67)*(Projects!$J$5:$J$2481<>'Local Detail'!$A$136)*(Projects!$M$5:$M$2481)))+(SUMPRODUCT((Projects!$A$5:$A$2481='Local Detail'!$J$3)*(Projects!$C$5:$C$2481<>'MDOT FTA Detail'!$C$4)*(Projects!$L$5:$L$2481='Local Detail'!$A67)*(Projects!$J$5:$J$2481<>'Local Detail'!$A$136)*(Projects!$O$5:$O$2481))))","v":0},{"$f":"J67+K67","v":0},{"$f":"SUMPRODUCT((Projects!$A$5:$A$2481='Local Detail'!$M$3)*(Projects!$C$5:$C$2481<>'MDOT FTA Detail'!$C$4)*(Projects!$L$5:$L$2481='Local Detail'!$A67)*(Projects!$K$5:$K$2481))","v":0},{"$f":"((SUMPRODUCT((Projects!$A$5:$A$2481='Local Detail'!$M$3)*(Projects!$C$5:$C$2481<>'MDOT FTA Detail'!$C$4)*(Projects!$L$5:$L$2481='Local Detail'!$A67)*(Projects!$J$5:$J$2481<>'Local Detail'!$A$136)*(Projects!$M$5:$M$2481)))+(SUMPRODUCT((Projects!$A$5:$A$2481='Local Detail'!$M$3)*(Projects!$C$5:$C$2481<>'MDOT FTA Detail'!$C$4)*(Projects!$L$5:$L$2481='Local Detail'!$A67)*(Projects!$J$5:$J$2481<>'Local Detail'!$A$136)*(Projects!$O$5:$O$2481))))","v":0},{"$f":"M67+N67","v":0}]
["SRPG","Surface Transportation Safety Highway Crossing Protection Devices 100%","Local STP",{"$f":"SUMPRODUCT((Projects!$A$5:$A$2481='Local Detail'!$D$3)*(Projects!$C$5:$C$2481<>'MDOT FTA Detail'!$C$4)*(Projects!$L$5:$L$2481='Local Detail'!$A68)*(Projects!$K$5:$K$2481))","v":0},{"$f":"((SUMPRODUCT((Projects!$A$5:$A$2481='Local Detail'!$D$3)*(Projects!$C$5:$C$2481<>'MDOT FTA Detail'!$C$4)*(Projects!$L$5:$L$2481='Local Detail'!$A68)*(Projects!$J$5:$J$2481<>'Local Detail'!$A$136)*(Projects!$M$5:$M$2481)))+(SUMPRODUCT((Projects!$A$5:$A$2481='Local Detail'!$D$3)*(Projects!$C$5:$C$2481<>'MDOT FTA Detail'!$C$4)*(Projects!$L$5:$L$2481='Local Detail'!$A68)*(Projects!$J$5:$J$2481<>'Local Detail'!$A$136)*(Projects!$O$5:$O$2481))))","v":0},{"$f":"D68+E68","v":0},{"$f":"SUMPRODUCT((Projects!$A$5:$A$2481='Local Detail'!$G$3)*(Projects!$C$5:$C$2481<>'MDOT FTA Detail'!$C$4)*(Projects!$L$5:$L$2481='Local Detail'!$A68)*(Projects!$K$5:$K$2481))","v":0},{"$f":"((SUMPRODUCT((Projects!$A$5:$A$2481='Local Detail'!$G$3)*(Projects!$C$5:$C$2481<>'MDOT FTA Detail'!$C$4)*(Projects!$L$5:$L$2481='Local Detail'!$A68)*(Projects!$J$5:$J$2481<>'Local Detail'!$A$136)*(Projects!$M$5:$M$2481)))+(SUMPRODUCT((Projects!$A$5:$A$2481='Local Detail'!$G$3)*(Projects!$C$5:$C$2481<>'MDOT FTA Detail'!$C$4)*(Projects!$L$5:$L$2481='Local Detail'!$A68)*(Projects!$J$5:$J$2481<>'Local Detail'!$A$136)*(Projects!$O$5:$O$2481))))","v":0},{"$f":"G68+H68","v":0},{"$f":"SUMPRODUCT((Projects!$A$5:$A$2481='Local Detail'!$J$3)*(Projects!$C$5:$C$2481<>'MDOT FTA Detail'!$C$4)*(Projects!$L$5:$L$2481='Local Detail'!$A68)*(Projects!$K$5:$K$2481))","v":0},{"$f":"((SUMPRODUCT((Projects!$A$5:$A$2481='Local Detail'!$J$3)*(Projects!$C$5:$C$2481<>'MDOT FTA Detail'!$C$4)*(Projects!$L$5:$L$2481='Local Detail'!$A68)*(Projects!$J$5:$J$2481<>'Local Detail'!$A$136)*(Projects!$M$5:$M$2481)))+(SUMPRODUCT((Projects!$A$5:$A$2481='Local Detail'!$J$3)*(Projects!$C$5:$C$2481<>'MDOT FTA Detail'!$C$4)*(Projects!$L$5:$L$2481='Local Detail'!$A68)*(Projects!$J$5:$J$2481<>'Local Detail'!$A$136)*(Projects!$O$5:$O$2481))))","v":0},{"$f":"J68+K68","v":0},{"$f":"SUMPRODUCT((Projects!$A$5:$A$2481='Local Detail'!$M$3)*(Projects!$C$5:$C$2481<>'MDOT FTA Detail'!$C$4)*(Projects!$L$5:$L$2481='Local Detail'!$A68)*(Projects!$K$5:$K$2481))","v":0},{"$f":"((SUMPRODUCT((Projects!$A$5:$A$2481='Local Detail'!$M$3)*(Projects!$C$5:$C$2481<>'MDOT FTA Detail'!$C$4)*(Projects!$L$5:$L$2481='Local Detail'!$A68)*(Projects!$J$5:$J$2481<>'Local Detail'!$A$136)*(Projects!$M$5:$M$2481)))+(SUMPRODUCT((Projects!$A$5:$A$2481='Local Detail'!$M$3)*(Projects!$C$5:$C$2481<>'MDOT FTA Detail'!$C$4)*(Projects!$L$5:$L$2481='Local Detail'!$A68)*(Projects!$J$5:$J$2481<>'Local Detail'!$A$136)*(Projects!$O$5:$O$2481))))","v":0},{"$f":"M68+N68","v":0}]
["SRSE","Safe Routes to School - Either - SAFETEA-LU","Local Other FHWA",{"$f":"SUMPRODUCT((Projects!$A$5:$A$2481='Local Detail'!$D$3)*(Projects!$C$5:$C$2481<>'MDOT FTA Detail'!$C$4)*(Projects!$L$5:$L$2481='Local Detail'!$A69)*(Projects!$K$5:$K$2481))","v":0},{"$f":"((SUMPRODUCT((Projects!$A$5:$A$2481='Local Detail'!$D$3)*(Projects!$C$5:$C$2481<>'MDOT FTA Detail'!$C$4)*(Projects!$L$5:$L$2481='Local Detail'!$A69)*(Projects!$J$5:$J$2481<>'Local Detail'!$A$136)*(Projects!$M$5:$M$2481)))+(SUMPRODUCT((Projects!$A$5:$A$2481='Local Detail'!$D$3)*(Projects!$C$5:$C$2481<>'MDOT FTA Detail'!$C$4)*(Projects!$L$5:$L$2481='Local Detail'!$A69)*(Projects!$J$5:$J$2481<>'Local Detail'!$A$136)*(Projects!$O$5:$O$2481))))","v":0},0,{"$f":"SUMPRODUCT((Projects!$A$5:$A$2481='Local Detail'!$G$3)*(Projects!$C$5:$C$2481<>'MDOT FTA Detail'!$C$4)*(Projects!$L$5:$L$2481='Local Detail'!$A69)*(Projects!$K$5:$K$2481))","v":0},{"$f":"((SUMPRODUCT((Projects!$A$5:$A$2481='Local Detail'!$G$3)*(Projects!$C$5:$C$2481<>'MDOT FTA Detail'!$C$4)*(Projects!$L$5:$L$2481='Local Detail'!$A69)*(Projects!$J$5:$J$2481<>'Local Detail'!$A$136)*(Projects!$M$5:$M$2481)))+(SUMPRODUCT((Projects!$A$5:$A$2481='Local Detail'!$G$3)*(Projects!$C$5:$C$2481<>'MDOT FTA Detail'!$C$4)*(Projects!$L$5:$L$2481='Local Detail'!$A69)*(Projects!$J$5:$J$2481<>'Local Detail'!$A$136)*(Projects!$O$5:$O$2481))))","v":0},0,{"$f":"SUMPRODUCT((Projects!$A$5:$A$2481='Local Detail'!$J$3)*(Projects!$C$5:$C$2481<>'MDOT FTA Detail'!$C$4)*(Projects!$L$5:$L$2481='Local Detail'!$A69)*(Projects!$K$5:$K$2481))","v":0},{"$f":"((SUMPRODUCT((Projects!$A$5:$A$2481='Local Detail'!$J$3)*(Projects!$C$5:$C$2481<>'MDOT FTA Detail'!$C$4)*(Projects!$L$5:$L$2481='Local Detail'!$A69)*(Projects!$J$5:$J$2481<>'Local Detail'!$A$136)*(Projects!$M$5:$M$2481)))+(SUMPRODUCT((Projects!$A$5:$A$2481='Local Detail'!$J$3)*(Projects!$C$5:$C$2481<>'MDOT FTA Detail'!$C$4)*(Projects!$L$5:$L$2481='Local Detail'!$A69)*(Projects!$J$5:$J$2481<>'Local Detail'!$A$136)*(Projects!$O$5:$O$2481))))","v":0},0,{"$f":"SUMPRODUCT((Projects!$A$5:$A$2481='Local Detail'!$M$3)*(Projects!$C$5:$C$2481<>'MDOT FTA Detail'!$C$4)*(Projects!$L$5:$L$2481='Local Detail'!$A69)*(Projects!$K$5:$K$2481))","v":0},{"$f":"((SUMPRODUCT((Projects!$A$5:$A$2481='Local Detail'!$M$3)*(Projects!$C$5:$C$2481<>'MDOT FTA Detail'!$C$4)*(Projects!$L$5:$L$2481='Local Detail'!$A69)*(Projects!$J$5:$J$2481<>'Local Detail'!$A$136)*(Projects!$M$5:$M$2481)))+(SUMPRODUCT((Projects!$A$5:$A$2481='Local Detail'!$M$3)*(Projects!$C$5:$C$2481<>'MDOT FTA Detail'!$C$4)*(Projects!$L$5:$L$2481='Local Detail'!$A69)*(Projects!$J$5:$J$2481<>'Local Detail'!$A$136)*(Projects!$O$5:$O$2481))))","v":0},0]
["SRSI","Safe Routes to School - Infrastructure - SAFETEA-LU","Local Other FHWA",{"$f":"SUMPRODUCT((Projects!$A$5:$A$2481='Local Detail'!$D$3)*(Projects!$C$5:$C$2481<>'MDOT FTA Detail'!$C$4)*(Projects!$L$5:$L$2481='Local Detail'!$A70)*(Projects!$K$5:$K$2481))","v":0},{"$f":"((SUMPRODUCT((Projects!$A$5:$A$2481='Local Detail'!$D$3)*(Projects!$C$5:$C$2481<>'MDOT FTA Detail'!$C$4)*(Projects!$L$5:$L$2481='Local Detail'!$A70)*(Projects!$J$5:$J$2481<>'Local Detail'!$A$136)*(Projects!$M$5:$M$2481)))+(SUMPRODUCT((Projects!$A$5:$A$2481='Local Detail'!$D$3)*(Projects!$C$5:$C$2481<>'MDOT FTA Detail'!$C$4)*(Projects!$L$5:$L$2481='Local Detail'!$A70)*(Projects!$J$5:$J$2481<>'Local Detail'!$A$136)*(Projects!$O$5:$O$2481))))","v":0},0,{"$f":"SUMPRODUCT((Projects!$A$5:$A$2481='Local Detail'!$G$3)*(Projects!$C$5:$C$2481<>'MDOT FTA Detail'!$C$4)*(Projects!$L$5:$L$2481='Local Detail'!$A70)*(Projects!$K$5:$K$2481))","v":0},{"$f":"((SUMPRODUCT((Projects!$A$5:$A$2481='Local Detail'!$G$3)*(Projects!$C$5:$C$2481<>'MDOT FTA Detail'!$C$4)*(Projects!$L$5:$L$2481='Local Detail'!$A70)*(Projects!$J$5:$J$2481<>'Local Detail'!$A$136)*(Projects!$M$5:$M$2481)))+(SUMPRODUCT((Projects!$A$5:$A$2481='Local Detail'!$G$3)*(Projects!$C$5:$C$2481<>'MDOT FTA Detail'!$C$4)*(Projects!$L$5:$L$2481='Local Detail'!$A70)*(Projects!$J$5:$J$2481<>'Local Detail'!$A$136)*(Projects!$O$5:$O$2481))))","v":0},0,{"$f":"SUMPRODUCT((Projects!$A$5:$A$2481='Local Detail'!$J$3)*(Projects!$C$5:$C$2481<>'MDOT FTA Detail'!$C$4)*(Projects!$L$5:$L$2481='Local Detail'!$A70)*(Projects!$K$5:$K$2481))","v":0},{"$f":"((SUMPRODUCT((Projects!$A$5:$A$2481='Local Detail'!$J$3)*(Projects!$C$5:$C$2481<>'MDOT FTA Detail'!$C$4)*(Projects!$L$5:$L$2481='Local Detail'!$A70)*(Projects!$J$5:$J$2481<>'Local Detail'!$A$136)*(Projects!$M$5:$M$2481)))+(SUMPRODUCT((Projects!$A$5:$A$2481='Local Detail'!$J$3)*(Projects!$C$5:$C$2481<>'MDOT FTA Detail'!$C$4)*(Projects!$L$5:$L$2481='Local Detail'!$A70)*(Projects!$J$5:$J$2481<>'Local Detail'!$A$136)*(Projects!$O$5:$O$2481))))","v":0},0,{"$f":"SUMPRODUCT((Projects!$A$5:$A$2481='Local Detail'!$M$3)*(Projects!$C$5:$C$2481<>'MDOT FTA Detail'!$C$4)*(Projects!$L$5:$L$2481='Local Detail'!$A70)*(Projects!$K$5:$K$2481))","v":0},{"$f":"((SUMPRODUCT((Projects!$A$5:$A$2481='Local Detail'!$M$3)*(Projects!$C$5:$C$2481<>'MDOT FTA Detail'!$C$4)*(Projects!$L$5:$L$2481='Local Detail'!$A70)*(Projects!$J$5:$J$2481<>'Local Detail'!$A$136)*(Projects!$M$5:$M$2481)))+(SUMPRODUCT((Projects!$A$5:$A$2481='Local Detail'!$M$3)*(Projects!$C$5:$C$2481<>'MDOT FTA Detail'!$C$4)*(Projects!$L$5:$L$2481='Local Detail'!$A70)*(Projects!$J$5:$J$2481<>'Local Detail'!$A$136)*(Projects!$O$5:$O$2481))))","v":0},0]
["SRSN","Safe Routes to School - Non-infrastructure - SAFETEA-LU","Local Other FHWA",{"$f":"SUMPRODUCT((Projects!$A$5:$A$2481='Local Detail'!$D$3)*(Projects!$C$5:$C$2481<>'MDOT FTA Detail'!$C$4)*(Projects!$L$5:$L$2481='Local Detail'!$A71)*(Projects!$K$5:$K$2481))","v":0},{"$f":"((SUMPRODUCT((Projects!$A$5:$A$2481='Local Detail'!$D$3)*(Projects!$C$5:$C$2481<>'MDOT FTA Detail'!$C$4)*(Projects!$L$5:$L$2481='Local Detail'!$A71)*(Projects!$J$5:$J$2481<>'Local Detail'!$A$136)*(Projects!$M$5:$M$2481)))+(SUMPRODUCT((Projects!$A$5:$A$2481='Local Detail'!$D$3)*(Projects!$C$5:$C$2481<>'MDOT FTA Detail'!$C$4)*(Projects!$L$5:$L$2481='Local Detail'!$A71)*(Projects!$J$5:$J$2481<>'Local Detail'!$A$136)*(Projects!$O$5:$O$2481))))","v":0},0,{"$f":"SUMPRODUCT((Projects!$A$5:$A$2481='Local Detail'!$G$3)*(Projects!$C$5:$C$2481<>'MDOT FTA Detail'!$C$4)*(Projects!$L$5:$L$2481='Local Detail'!$A71)*(Projects!$K$5:$K$2481))","v":0},{"$f":"((SUMPRODUCT((Projects!$A$5:$A$2481='Local Detail'!$G$3)*(Projects!$C$5:$C$2481<>'MDOT FTA Detail'!$C$4)*(Projects!$L$5:$L$2481='Local Detail'!$A71)*(Projects!$J$5:$J$2481<>'Local Detail'!$A$136)*(Projects!$M$5:$M$2481)))+(SUMPRODUCT((Projects!$A$5:$A$2481='Local Detail'!$G$3)*(Projects!$C$5:$C$2481<>'MDOT FTA Detail'!$C$4)*(Projects!$L$5:$L$2481='Local Detail'!$A71)*(Projects!$J$5:$J$2481<>'Local Detail'!$A$136)*(Projects!$O$5:$O$2481))))","v":0},0,{"$f":"SUMPRODUCT((Projects!$A$5:$A$2481='Local Detail'!$J$3)*(Projects!$C$5:$C$2481<>'MDOT FTA Detail'!$C$4)*(Projects!$L$5:$L$2481='Local Detail'!$A71)*(Projects!$K$5:$K$2481))","v":0},{"$f":"((SUMPRODUCT((Projects!$A$5:$A$2481='Local Detail'!$J$3)*(Projects!$C$5:$C$2481<>'MDOT FTA Detail'!$C$4)*(Projects!$L$5:$L$2481='Local Detail'!$A71)*(Projects!$J$5:$J$2481<>'Local Detail'!$A$136)*(Projects!$M$5:$M$2481)))+(SUMPRODUCT((Projects!$A$5:$A$2481='Local Detail'!$J$3)*(Projects!$C$5:$C$2481<>'MDOT FTA Detail'!$C$4)*(Projects!$L$5:$L$2481='Local Detail'!$A71)*(Projects!$J$5:$J$2481<>'Local Detail'!$A$136)*(Projects!$O$5:$O$2481))))","v":0},0,{"$f":"SUMPRODUCT((Projects!$A$5:$A$2481='Local Detail'!$M$3)*(Projects!$C$5:$C$2481<>'MDOT FTA Detail'!$C$4)*(Projects!$L$5:$L$2481='Local Detail'!$A71)*(Projects!$K$5:$K$2481))","v":0},{"$f":"((SUMPRODUCT((Projects!$A$5:$A$2481='Local Detail'!$M$3)*(Projects!$C$5:$C$2481<>'MDOT FTA Detail'!$C$4)*(Projects!$L$5:$L$2481='Local Detail'!$A71)*(Projects!$J$5:$J$2481<>'Local Detail'!$A$136)*(Projects!$M$5:$M$2481)))+(SUMPRODUCT((Projects!$A$5:$A$2481='Local Detail'!$M$3)*(Projects!$C$5:$C$2481<>'MDOT FTA Detail'!$C$4)*(Projects!$L$5:$L$2481='Local Detail'!$A71)*(Projects!$J$5:$J$2481<>'Local Detail'!$A$136)*(Projects!$O$5:$O$2481))))","v":0},0]
["SST","Supportive Services Training","Local Other FHWA",{"$f":"SUMPRODUCT((Projects!$A$5:$A$2481='Local Detail'!$D$3)*(Projects!$C$5:$C$2481<>'MDOT FTA Detail'!$C$4)*(Projects!$L$5:$L$2481='Local Detail'!$A72)*(Projects!$K$5:$K$2481))","v":0},{"$f":"((SUMPRODUCT((Projects!$A$5:$A$2481='Local Detail'!$D$3)*(Projects!$C$5:$C$2481<>'MDOT FTA Detail'!$C$4)*(Projects!$L$5:$L$2481='Local Detail'!$A72)*(Projects!$J$5:$J$2481<>'Local Detail'!$A$136)*(Projects!$M$5:$M$2481)))+(SUMPRODUCT((Projects!$A$5:$A$2481='Local Detail'!$D$3)*(Projects!$C$5:$C$2481<>'MDOT FTA Detail'!$C$4)*(Projects!$L$5:$L$2481='Local Detail'!$A72)*(Projects!$J$5:$J$2481<>'Local Detail'!$A$136)*(Projects!$O$5:$O$2481))))","v":0},0,{"$f":"SUMPRODUCT((Projects!$A$5:$A$2481='Local Detail'!$G$3)*(Projects!$C$5:$C$2481<>'MDOT FTA Detail'!$C$4)*(Projects!$L$5:$L$2481='Local Detail'!$A72)*(Projects!$K$5:$K$2481))","v":0},{"$f":"((SUMPRODUCT((Projects!$A$5:$A$2481='Local Detail'!$G$3)*(Projects!$C$5:$C$2481<>'MDOT FTA Detail'!$C$4)*(Projects!$L$5:$L$2481='Local Detail'!$A72)*(Projects!$J$5:$J$2481<>'Local Detail'!$A$136)*(Projects!$M$5:$M$2481)))+(SUMPRODUCT((Projects!$A$5:$A$2481='Local Detail'!$G$3)*(Projects!$C$5:$C$2481<>'MDOT FTA Detail'!$C$4)*(Projects!$L$5:$L$2481='Local Detail'!$A72)*(Projects!$J$5:$J$2481<>'Local Detail'!$A$136)*(Projects!$O$5:$O$2481))))","v":0},0,{"$f":"SUMPRODUCT((Projects!$A$5:$A$2481='Local Detail'!$J$3)*(Projects!$C$5:$C$2481<>'MDOT FTA Detail'!$C$4)*(Projects!$L$5:$L$2481='Local Detail'!$A72)*(Projects!$K$5:$K$2481))","v":0},{"$f":"((SUMPRODUCT((Projects!$A$5:$A$2481='Local Detail'!$J$3)*(Projects!$C$5:$C$2481<>'MDOT FTA Detail'!$C$4)*(Projects!$L$5:$L$2481='Local Detail'!$A72)*(Projects!$J$5:$J$2481<>'Local Detail'!$A$136)*(Projects!$M$5:$M$2481)))+(SUMPRODUCT((Projects!$A$5:$A$2481='Local Detail'!$J$3)*(Projects!$C$5:$C$2481<>'MDOT FTA Detail'!$C$4)*(Projects!$L$5:$L$2481='Local Detail'!$A72)*(Projects!$J$5:$J$2481<>'Local Detail'!$A$136)*(Projects!$O$5:$O$2481))))","v":0},0,{"$f":"SUMPRODUCT((Projects!$A$5:$A$2481='Local Detail'!$M$3)*(Projects!$C$5:$C$2481<>'MDOT FTA Detail'!$C$4)*(Projects!$L$5:$L$2481='Local Detail'!$A72)*(Projects!$K$5:$K$2481))","v":0},{"$f":"((SUMPRODUCT((Projects!$A$5:$A$2481='Local Detail'!$M$3)*(Projects!$C$5:$C$2481<>'MDOT FTA Detail'!$C$4)*(Projects!$L$5:$L$2481='Local Detail'!$A72)*(Projects!$J$5:$J$2481<>'Local Detail'!$A$136)*(Projects!$M$5:$M$2481)))+(SUMPRODUCT((Projects!$A$5:$A$2481='Local Detail'!$M$3)*(Projects!$C$5:$C$2481<>'MDOT FTA Detail'!$C$4)*(Projects!$L$5:$L$2481='Local Detail'!$A72)*(Projects!$J$5:$J$2481<>'Local Detail'!$A$136)*(Projects!$O$5:$O$2481))))","v":0},0]
["ST","Surface Transportation Program (STP) - Any Area","Local STP",{"$f":"SUMPRODUCT((Projects!$A$5:$A$2481='Local Detail'!$D$3)*(Projects!$C$5:$C$2481<>'MDOT FTA Detail'!$C$4)*(Projects!$L$5:$L$2481='Local Detail'!$A73)*(Projects!$K$5:$K$2481))","v":0},{"$f":"((SUMPRODUCT((Projects!$A$5:$A$2481='Local Detail'!$D$3)*(Projects!$C$5:$C$2481<>'MDOT FTA Detail'!$C$4)*(Projects!$L$5:$L$2481='Local Detail'!$A73)*(Projects!$J$5:$J$2481<>'Local Detail'!$A$136)*(Projects!$M$5:$M$2481)))+(SUMPRODUCT((Projects!$A$5:$A$2481='Local Detail'!$D$3)*(Projects!$C$5:$C$2481<>'MDOT FTA Detail'!$C$4)*(Projects!$L$5:$L$2481='Local Detail'!$A73)*(Projects!$J$5:$J$2481<>'Local Detail'!$A$136)*(Projects!$O$5:$O$2481))))","v":0},0,{"$f":"SUMPRODUCT((Projects!$A$5:$A$2481='Local Detail'!$G$3)*(Projects!$C$5:$C$2481<>'MDOT FTA Detail'!$C$4)*(Projects!$L$5:$L$2481='Local Detail'!$A73)*(Projects!$K$5:$K$2481))","v":0},{"$f":"((SUMPRODUCT((Projects!$A$5:$A$2481='Local Detail'!$G$3)*(Projects!$C$5:$C$2481<>'MDOT FTA Detail'!$C$4)*(Projects!$L$5:$L$2481='Local Detail'!$A73)*(Projects!$J$5:$J$2481<>'Local Detail'!$A$136)*(Projects!$M$5:$M$2481)))+(SUMPRODUCT((Projects!$A$5:$A$2481='Local Detail'!$G$3)*(Projects!$C$5:$C$2481<>'MDOT FTA Detail'!$C$4)*(Projects!$L$5:$L$2481='Local Detail'!$A73)*(Projects!$J$5:$J$2481<>'Local Detail'!$A$136)*(Projects!$O$5:$O$2481))))","v":0},0,{"$f":"SUMPRODUCT((Projects!$A$5:$A$2481='Local Detail'!$J$3)*(Projects!$C$5:$C$2481<>'MDOT FTA Detail'!$C$4)*(Projects!$L$5:$L$2481='Local Detail'!$A73)*(Projects!$K$5:$K$2481))","v":0},{"$f":"((SUMPRODUCT((Projects!$A$5:$A$2481='Local Detail'!$J$3)*(Projects!$C$5:$C$2481<>'MDOT FTA Detail'!$C$4)*(Projects!$L$5:$L$2481='Local Detail'!$A73)*(Projects!$J$5:$J$2481<>'Local Detail'!$A$136)*(Projects!$M$5:$M$2481)))+(SUMPRODUCT((Projects!$A$5:$A$2481='Local Detail'!$J$3)*(Projects!$C$5:$C$2481<>'MDOT FTA Detail'!$C$4)*(Projects!$L$5:$L$2481='Local Detail'!$A73)*(Projects!$J$5:$J$2481<>'Local Detail'!$A$136)*(Projects!$O$5:$O$2481))))","v":0},0,{"$f":"SUMPRODUCT((Projects!$A$5:$A$2481='Local Detail'!$M$3)*(Projects!$C$5:$C$2481<>'MDOT FTA Detail'!$C$4)*(Projects!$L$5:$L$2481='Local Detail'!$A73)*(Projects!$K$5:$K$2481))","v":0},{"$f":"((SUMPRODUCT((Projects!$A$5:$A$2481='Local Detail'!$M$3)*(Projects!$C$5:$C$2481<>'MDOT FTA Detail'!$C$4)*(Projects!$L$5:$L$2481='Local Detail'!$A73)*(Projects!$J$5:$J$2481<>'Local Detail'!$A$136)*(Projects!$M$5:$M$2481)))+(SUMPRODUCT((Projects!$A$5:$A$2481='Local Detail'!$M$3)*(Projects!$C$5:$C$2481<>'MDOT FTA Detail'!$C$4)*(Projects!$L$5:$L$2481='Local Detail'!$A73)*(Projects!$J$5:$J$2481<>'Local Detail'!$A$136)*(Projects!$O$5:$O$2481))))","v":0},0]
["STE","STP - Enhancement","Local STP",{"$f":"SUMPRODUCT((Projects!$A$5:$A$2481='Local Detail'!$D$3)*(Projects!$C$5:$C$2481<>'MDOT FTA Detail'!$C$4)*(Projects!$L$5:$L$2481='Local Detail'!$A74)*(Projects!$K$5:$K$2481))","v":0},{"$f":"((SUMPRODUCT((Projects!$A$5:$A$2481='Local Detail'!$D$3)*(Projects!$C$5:$C$2481<>'MDOT FTA Detail'!$C$4)*(Projects!$L$5:$L$2481='Local Detail'!$A74)*(Projects!$J$5:$J$2481<>'Local Detail'!$A$136)*(Projects!$M$5:$M$2481)))+(SUMPRODUCT((Projects!$A$5:$A$2481='Local Detail'!$D$3)*(Projects!$C$5:$C$2481<>'MDOT FTA Detail'!$C$4)*(Projects!$L$5:$L$2481='Local Detail'!$A74)*(Projects!$J$5:$J$2481<>'Local Detail'!$A$136)*(Projects!$O$5:$O$2481))))","v":0},0,{"$f":"SUMPRODUCT((Projects!$A$5:$A$2481='Local Detail'!$G$3)*(Projects!$C$5:$C$2481<>'MDOT FTA Detail'!$C$4)*(Projects!$L$5:$L$2481='Local Detail'!$A74)*(Projects!$K$5:$K$2481))","v":0},{"$f":"((SUMPRODUCT((Projects!$A$5:$A$2481='Local Detail'!$G$3)*(Projects!$C$5:$C$2481<>'MDOT FTA Detail'!$C$4)*(Projects!$L$5:$L$2481='Local Detail'!$A74)*(Projects!$J$5:$J$2481<>'Local Detail'!$A$136)*(Projects!$M$5:$M$2481)))+(SUMPRODUCT((Projects!$A$5:$A$2481='Local Detail'!$G$3)*(Projects!$C$5:$C$2481<>'MDOT FTA Detail'!$C$4)*(Projects!$L$5:$L$2481='Local Detail'!$A74)*(Projects!$J$5:$J$2481<>'Local Detail'!$A$136)*(Projects!$O$5:$O$2481))))","v":0},0,{"$f":"SUMPRODUCT((Projects!$A$5:$A$2481='Local Detail'!$J$3)*(Projects!$C$5:$C$2481<>'MDOT FTA Detail'!$C$4)*(Projects!$L$5:$L$2481='Local Detail'!$A74)*(Projects!$K$5:$K$2481))","v":0},{"$f":"((SUMPRODUCT((Projects!$A$5:$A$2481='Local Detail'!$J$3)*(Projects!$C$5:$C$2481<>'MDOT FTA Detail'!$C$4)*(Projects!$L$5:$L$2481='Local Detail'!$A74)*(Projects!$J$5:$J$2481<>'Local Detail'!$A$136)*(Projects!$M$5:$M$2481)))+(SUMPRODUCT((Projects!$A$5:$A$2481='Local Detail'!$J$3)*(Projects!$C$5:$C$2481<>'MDOT FTA Detail'!$C$4)*(Projects!$L$5:$L$2481='Local Detail'!$A74)*(Projects!$J$5:$J$2481<>'Local Detail'!$A$136)*(Projects!$O$5:$O$2481))))","v":0},0,{"$f":"SUMPRODUCT((Projects!$A$5:$A$2481='Local Detail'!$M$3)*(Projects!$C$5:$C$2481<>'MDOT FTA Detail'!$C$4)*(Projects!$L$5:$L$2481='Local Detail'!$A74)*(Projects!$K$5:$K$2481))","v":0},{"$f":"((SUMPRODUCT((Projects!$A$5:$A$2481='Local Detail'!$M$3)*(Projects!$C$5:$C$2481<>'MDOT FTA Detail'!$C$4)*(Projects!$L$5:$L$2481='Local Detail'!$A74)*(Projects!$J$5:$J$2481<>'Local Detail'!$A$136)*(Projects!$M$5:$M$2481)))+(SUMPRODUCT((Projects!$A$5:$A$2481='Local Detail'!$M$3)*(Projects!$C$5:$C$2481<>'MDOT FTA Detail'!$C$4)*(Projects!$L$5:$L$2481='Local Detail'!$A74)*(Projects!$J$5:$J$2481<>'Local Detail'!$A$136)*(Projects!$O$5:$O$2481))))","v":0},0]
["STG","STP - Safety - 100% Federal for ST","Local Safety",{"$f":"SUMPRODUCT((Projects!$A$5:$A$2481='Local Detail'!$D$3)*(Projects!$C$5:$C$2481<>'MDOT FTA Detail'!$C$4)*(Projects!$L$5:$L$2481='Local Detail'!$A75)*(Projects!$K$5:$K$2481))","v":0},{"$f":"((SUMPRODUCT((Projects!$A$5:$A$2481='Local Detail'!$D$3)*(Projects!$C$5:$C$2481<>'MDOT FTA Detail'!$C$4)*(Projects!$L$5:$L$2481='Local Detail'!$A75)*(Projects!$J$5:$J$2481<>'Local Detail'!$A$136)*(Projects!$M$5:$M$2481)))+(SUMPRODUCT((Projects!$A$5:$A$2481='Local Detail'!$D$3)*(Projects!$C$5:$C$2481<>'MDOT FTA Detail'!$C$4)*(Projects!$L$5:$L$2481='Local Detail'!$A75)*(Projects!$J$5:$J$2481<>'Local Detail'!$A$136)*(Projects!$O$5:$O$2481))))","v":0},0,{"$f":"SUMPRODUCT((Projects!$A$5:$A$2481='Local Detail'!$G$3)*(Projects!$C$5:$C$2481<>'MDOT FTA Detail'!$C$4)*(Projects!$L$5:$L$2481='Local Detail'!$A75)*(Projects!$K$5:$K$2481))","v":0},{"$f":"((SUMPRODUCT((Projects!$A$5:$A$2481='Local Detail'!$G$3)*(Projects!$C$5:$C$2481<>'MDOT FTA Detail'!$C$4)*(Projects!$L$5:$L$2481='Local Detail'!$A75)*(Projects!$J$5:$J$2481<>'Local Detail'!$A$136)*(Projects!$M$5:$M$2481)))+(SUMPRODUCT((Projects!$A$5:$A$2481='Local Detail'!$G$3)*(Projects!$C$5:$C$2481<>'MDOT FTA Detail'!$C$4)*(Projects!$L$5:$L$2481='Local Detail'!$A75)*(Projects!$J$5:$J$2481<>'Local Detail'!$A$136)*(Projects!$O$5:$O$2481))))","v":0},0,{"$f":"SUMPRODUCT((Projects!$A$5:$A$2481='Local Detail'!$J$3)*(Projects!$C$5:$C$2481<>'MDOT FTA Detail'!$C$4)*(Projects!$L$5:$L$2481='Local Detail'!$A75)*(Projects!$K$5:$K$2481))","v":0},{"$f":"((SUMPRODUCT((Projects!$A$5:$A$2481='Local Detail'!$J$3)*(Projects!$C$5:$C$2481<>'MDOT FTA Detail'!$C$4)*(Projects!$L$5:$L$2481='Local Detail'!$A75)*(Projects!$J$5:$J$2481<>'Local Detail'!$A$136)*(Projects!$M$5:$M$2481)))+(SUMPRODUCT((Projects!$A$5:$A$2481='Local Detail'!$J$3)*(Projects!$C$5:$C$2481<>'MDOT FTA Detail'!$C$4)*(Projects!$L$5:$L$2481='Local Detail'!$A75)*(Projects!$J$5:$J$2481<>'Local Detail'!$A$136)*(Projects!$O$5:$O$2481))))","v":0},0,{"$f":"SUMPRODUCT((Projects!$A$5:$A$2481='Local Detail'!$M$3)*(Projects!$C$5:$C$2481<>'MDOT FTA Detail'!$C$4)*(Projects!$L$5:$L$2481='Local Detail'!$A75)*(Projects!$K$5:$K$2481))","v":0},{"$f":"((SUMPRODUCT((Projects!$A$5:$A$2481='Local Detail'!$M$3)*(Projects!$C$5:$C$2481<>'MDOT FTA Detail'!$C$4)*(Projects!$L$5:$L$2481='Local Detail'!$A75)*(Projects!$J$5:$J$2481<>'Local Detail'!$A$136)*(Projects!$M$5:$M$2481)))+(SUMPRODUCT((Projects!$A$5:$A$2481='Local Detail'!$M$3)*(Projects!$C$5:$C$2481<>'MDOT FTA Detail'!$C$4)*(Projects!$L$5:$L$2481='Local Detail'!$A75)*(Projects!$J$5:$J$2481<>'Local Detail'!$A$136)*(Projects!$O$5:$O$2481))))","v":0},0]
["STH","STP - Safety - Hazard Elimination","Local Safety",{"$f":"SUMPRODUCT((Projects!$A$5:$A$2481='Local Detail'!$D$3)*(Projects!$C$5:$C$2481<>'MDOT FTA Detail'!$C$4)*(Projects!$L$5:$L$2481='Local Detail'!$A76)*(Projects!$K$5:$K$2481))","v":0},{"$f":"((SUMPRODUCT((Projects!$A$5:$A$2481='Local Detail'!$D$3)*(Projects!$C$5:$C$2481<>'MDOT FTA Detail'!$C$4)*(Projects!$L$5:$L$2481='Local Detail'!$A76)*(Projects!$J$5:$J$2481<>'Local Detail'!$A$136)*(Projects!$M$5:$M$2481)))+(SUMPRODUCT((Projects!$A$5:$A$2481='Local Detail'!$D$3)*(Projects!$C$5:$C$2481<>'MDOT FTA Detail'!$C$4)*(Projects!$L$5:$L$2481='Local Detail'!$A76)*(Projects!$J$5:$J$2481<>'Local Detail'!$A$136)*(Projects!$O$5:$O$2481))))","v":0},0,{"$f":"SUMPRODUCT((Projects!$A$5:$A$2481='Local Detail'!$G$3)*(Projects!$C$5:$C$2481<>'MDOT FTA Detail'!$C$4)*(Projects!$L$5:$L$2481='Local Detail'!$A76)*(Projects!$K$5:$K$2481))","v":0},{"$f":"((SUMPRODUCT((Projects!$A$5:$A$2481='Local Detail'!$G$3)*(Projects!$C$5:$C$2481<>'MDOT FTA Detail'!$C$4)*(Projects!$L$5:$L$2481='Local Detail'!$A76)*(Projects!$J$5:$J$2481<>'Local Detail'!$A$136)*(Projects!$M$5:$M$2481)))+(SUMPRODUCT((Projects!$A$5:$A$2481='Local Detail'!$G$3)*(Projects!$C$5:$C$2481<>'MDOT FTA Detail'!$C$4)*(Projects!$L$5:$L$2481='Local Detail'!$A76)*(Projects!$J$5:$J$2481<>'Local Detail'!$A$136)*(Projects!$O$5:$O$2481))))","v":0},0,{"$f":"SUMPRODUCT((Projects!$A$5:$A$2481='Local Detail'!$J$3)*(Projects!$C$5:$C$2481<>'MDOT FTA Detail'!$C$4)*(Projects!$L$5:$L$2481='Local Detail'!$A76)*(Projects!$K$5:$K$2481))","v":0},{"$f":"((SUMPRODUCT((Projects!$A$5:$A$2481='Local Detail'!$J$3)*(Projects!$C$5:$C$2481<>'MDOT FTA Detail'!$C$4)*(Projects!$L$5:$L$2481='Local Detail'!$A76)*(Projects!$J$5:$J$2481<>'Local Detail'!$A$136)*(Projects!$M$5:$M$2481)))+(SUMPRODUCT((Projects!$A$5:$A$2481='Local Detail'!$J$3)*(Projects!$C$5:$C$2481<>'MDOT FTA Detail'!$C$4)*(Projects!$L$5:$L$2481='Local Detail'!$A76)*(Projects!$J$5:$J$2481<>'Local Detail'!$A$136)*(Projects!$O$5:$O$2481))))","v":0},0,{"$f":"SUMPRODUCT((Projects!$A$5:$A$2481='Local Detail'!$M$3)*(Projects!$C$5:$C$2481<>'MDOT FTA Detail'!$C$4)*(Projects!$L$5:$L$2481='Local Detail'!$A76)*(Projects!$K$5:$K$2481))","v":0},{"$f":"((SUMPRODUCT((Projects!$A$5:$A$2481='Local Detail'!$M$3)*(Projects!$C$5:$C$2481<>'MDOT FTA Detail'!$C$4)*(Projects!$L$5:$L$2481='Local Detail'!$A76)*(Projects!$J$5:$J$2481<>'Local Detail'!$A$136)*(Projects!$M$5:$M$2481)))+(SUMPRODUCT((Projects!$A$5:$A$2481='Local Detail'!$M$3)*(Projects!$C$5:$C$2481<>'MDOT FTA Detail'!$C$4)*(Projects!$L$5:$L$2481='Local Detail'!$A76)*(Projects!$J$5:$J$2481<>'Local Detail'!$A$136)*(Projects!$O$5:$O$2481))))","v":0},0]
["STI","STP - Interstate (90%)","Local STP",{"$f":"SUMPRODUCT((Projects!$A$5:$A$2481='Local Detail'!$D$3)*(Projects!$C$5:$C$2481<>'MDOT FTA Detail'!$C$4)*(Projects!$L$5:$L$2481='Local Detail'!$A77)*(Projects!$K$5:$K$2481))","v":0},{"$f":"((SUMPRODUCT((Projects!$A$5:$A$2481='Local Detail'!$D$3)*(Projects!$C$5:$C$2481<>'MDOT FTA Detail'!$C$4)*(Projects!$L$5:$L$2481='Local Detail'!$A77)*(Projects!$J$5:$J$2481<>'Local Detail'!$A$136)*(Projects!$M$5:$M$2481)))+(SUMPRODUCT((Projects!$A$5:$A$2481='Local Detail'!$D$3)*(Projects!$C$5:$C$2481<>'MDOT FTA Detail'!$C$4)*(Projects!$L$5:$L$2481='Local Detail'!$A77)*(Projects!$J$5:$J$2481<>'Local Detail'!$A$136)*(Projects!$O$5:$O$2481))))","v":0},0,{"$f":"SUMPRODUCT((Projects!$A$5:$A$2481='Local Detail'!$G$3)*(Projects!$C$5:$C$2481<>'MDOT FTA Detail'!$C$4)*(Projects!$L$5:$L$2481='Local Detail'!$A77)*(Projects!$K$5:$K$2481))","v":0},{"$f":"((SUMPRODUCT((Projects!$A$5:$A$2481='Local Detail'!$G$3)*(Projects!$C$5:$C$2481<>'MDOT FTA Detail'!$C$4)*(Projects!$L$5:$L$2481='Local Detail'!$A77)*(Projects!$J$5:$J$2481<>'Local Detail'!$A$136)*(Projects!$M$5:$M$2481)))+(SUMPRODUCT((Projects!$A$5:$A$2481='Local Detail'!$G$3)*(Projects!$C$5:$C$2481<>'MDOT FTA Detail'!$C$4)*(Projects!$L$5:$L$2481='Local Detail'!$A77)*(Projects!$J$5:$J$2481<>'Local Detail'!$A$136)*(Projects!$O$5:$O$2481))))","v":0},0,{"$f":"SUMPRODUCT((Projects!$A$5:$A$2481='Local Detail'!$J$3)*(Projects!$C$5:$C$2481<>'MDOT FTA Detail'!$C$4)*(Projects!$L$5:$L$2481='Local Detail'!$A77)*(Projects!$K$5:$K$2481))","v":0},{"$f":"((SUMPRODUCT((Projects!$A$5:$A$2481='Local Detail'!$J$3)*(Projects!$C$5:$C$2481<>'MDOT FTA Detail'!$C$4)*(Projects!$L$5:$L$2481='Local Detail'!$A77)*(Projects!$J$5:$J$2481<>'Local Detail'!$A$136)*(Projects!$M$5:$M$2481)))+(SUMPRODUCT((Projects!$A$5:$A$2481='Local Detail'!$J$3)*(Projects!$C$5:$C$2481<>'MDOT FTA Detail'!$C$4)*(Projects!$L$5:$L$2481='Local Detail'!$A77)*(Projects!$J$5:$J$2481<>'Local Detail'!$A$136)*(Projects!$O$5:$O$2481))))","v":0},0,{"$f":"SUMPRODUCT((Projects!$A$5:$A$2481='Local Detail'!$M$3)*(Projects!$C$5:$C$2481<>'MDOT FTA Detail'!$C$4)*(Projects!$L$5:$L$2481='Local Detail'!$A77)*(Projects!$K$5:$K$2481))","v":0},{"$f":"((SUMPRODUCT((Projects!$A$5:$A$2481='Local Detail'!$M$3)*(Projects!$C$5:$C$2481<>'MDOT FTA Detail'!$C$4)*(Projects!$L$5:$L$2481='Local Detail'!$A77)*(Projects!$J$5:$J$2481<>'Local Detail'!$A$136)*(Projects!$M$5:$M$2481)))+(SUMPRODUCT((Projects!$A$5:$A$2481='Local Detail'!$M$3)*(Projects!$C$5:$C$2481<>'MDOT FTA Detail'!$C$4)*(Projects!$L$5:$L$2481='Local Detail'!$A77)*(Projects!$J$5:$J$2481<>'Local Detail'!$A$136)*(Projects!$O$5:$O$2481))))","v":0},0]
["STL","STP - Local","Local STP",{"$f":"SUMPRODUCT((Projects!$A$5:$A$2481='Local Detail'!$D$3)*(Projects!$C$5:$C$2481<>'MDOT FTA Detail'!$C$4)*(Projects!$L$5:$L$2481='Local Detail'!$A78)*(Projects!$K$5:$K$2481))","v":0},{"$f":"((SUMPRODUCT((Projects!$A$5:$A$2481='Local Detail'!$D$3)*(Projects!$C$5:$C$2481<>'MDOT FTA Detail'!$C$4)*(Projects!$L$5:$L$2481='Local Detail'!$A78)*(Projects!$J$5:$J$2481<>'Local Detail'!$A$136)*(Projects!$M$5:$M$2481)))+(SUMPRODUCT((Projects!$A$5:$A$2481='Local Detail'!$D$3)*(Projects!$C$5:$C$2481<>'MDOT FTA Detail'!$C$4)*(Projects!$L$5:$L$2481='Local Detail'!$A78)*(Projects!$J$5:$J$2481<>'Local Detail'!$A$136)*(Projects!$O$5:$O$2481))))","v":0},0,{"$f":"SUMPRODUCT((Projects!$A$5:$A$2481='Local Detail'!$G$3)*(Projects!$C$5:$C$2481<>'MDOT FTA Detail'!$C$4)*(Projects!$L$5:$L$2481='Local Detail'!$A78)*(Projects!$K$5:$K$2481))","v":0},{"$f":"((SUMPRODUCT((Projects!$A$5:$A$2481='Local Detail'!$G$3)*(Projects!$C$5:$C$2481<>'MDOT FTA Detail'!$C$4)*(Projects!$L$5:$L$2481='Local Detail'!$A78)*(Projects!$J$5:$J$2481<>'Local Detail'!$A$136)*(Projects!$M$5:$M$2481)))+(SUMPRODUCT((Projects!$A$5:$A$2481='Local Detail'!$G$3)*(Projects!$C$5:$C$2481<>'MDOT FTA Detail'!$C$4)*(Projects!$L$5:$L$2481='Local Detail'!$A78)*(Projects!$J$5:$J$2481<>'Local Detail'!$A$136)*(Projects!$O$5:$O$2481))))","v":0},0,{"$f":"SUMPRODUCT((Projects!$A$5:$A$2481='Local Detail'!$J$3)*(Projects!$C$5:$C$2481<>'MDOT FTA Detail'!$C$4)*(Projects!$L$5:$L$2481='Local Detail'!$A78)*(Projects!$K$5:$K$2481))","v":0},{"$f":"((SUMPRODUCT((Projects!$A$5:$A$2481='Local Detail'!$J$3)*(Projects!$C$5:$C$2481<>'MDOT FTA Detail'!$C$4)*(Projects!$L$5:$L$2481='Local Detail'!$A78)*(Projects!$J$5:$J$2481<>'Local Detail'!$A$136)*(Projects!$M$5:$M$2481)))+(SUMPRODUCT((Projects!$A$5:$A$2481='Local Detail'!$J$3)*(Projects!$C$5:$C$2481<>'MDOT FTA Detail'!$C$4)*(Projects!$L$5:$L$2481='Local Detail'!$A78)*(Projects!$J$5:$J$2481<>'Local Detail'!$A$136)*(Projects!$O$5:$O$2481))))","v":0},0,{"$f":"SUMPRODUCT((Projects!$A$5:$A$2481='Local Detail'!$M$3)*(Projects!$C$5:$C$2481<>'MDOT FTA Detail'!$C$4)*(Projects!$L$5:$L$2481='Local Detail'!$A78)*(Projects!$K$5:$K$2481))","v":0},{"$f":"((SUMPRODUCT((Projects!$A$5:$A$2481='Local Detail'!$M$3)*(Projects!$C$5:$C$2481<>'MDOT FTA Detail'!$C$4)*(Projects!$L$5:$L$2481='Local Detail'!$A78)*(Projects!$J$5:$J$2481<>'Local Detail'!$A$136)*(Projects!$M$5:$M$2481)))+(SUMPRODUCT((Projects!$A$5:$A$2481='Local Detail'!$M$3)*(Projects!$C$5:$C$2481<>'MDOT FTA Detail'!$C$4)*(Projects!$L$5:$L$2481='Local Detail'!$A78)*(Projects!$J$5:$J$2481<>'Local Detail'!$A$136)*(Projects!$O$5:$O$2481))))","v":0},0]
["STLG","Surface Transportation Safety 100% Federal for STL Items","Local STP",{"$f":"SUMPRODUCT((Projects!$A$5:$A$2481='Local Detail'!$D$3)*(Projects!$C$5:$C$2481<>'MDOT FTA Detail'!$C$4)*(Projects!$L$5:$L$2481='Local Detail'!$A79)*(Projects!$K$5:$K$2481))","v":0},{"$f":"((SUMPRODUCT((Projects!$A$5:$A$2481='Local Detail'!$D$3)*(Projects!$C$5:$C$2481<>'MDOT FTA Detail'!$C$4)*(Projects!$L$5:$L$2481='Local Detail'!$A79)*(Projects!$J$5:$J$2481<>'Local Detail'!$A$136)*(Projects!$M$5:$M$2481)))+(SUMPRODUCT((Projects!$A$5:$A$2481='Local Detail'!$D$3)*(Projects!$C$5:$C$2481<>'MDOT FTA Detail'!$C$4)*(Projects!$L$5:$L$2481='Local Detail'!$A79)*(Projects!$J$5:$J$2481<>'Local Detail'!$A$136)*(Projects!$O$5:$O$2481))))","v":0},{"$f":"D79+E79","v":0},{"$f":"SUMPRODUCT((Projects!$A$5:$A$2481='Local Detail'!$G$3)*(Projects!$C$5:$C$2481<>'MDOT FTA Detail'!$C$4)*(Projects!$L$5:$L$2481='Local Detail'!$A79)*(Projects!$K$5:$K$2481))","v":0},{"$f":"((SUMPRODUCT((Projects!$A$5:$A$2481='Local Detail'!$G$3)*(Projects!$C$5:$C$2481<>'MDOT FTA Detail'!$C$4)*(Projects!$L$5:$L$2481='Local Detail'!$A79)*(Projects!$J$5:$J$2481<>'Local Detail'!$A$136)*(Projects!$M$5:$M$2481)))+(SUMPRODUCT((Projects!$A$5:$A$2481='Local Detail'!$G$3)*(Projects!$C$5:$C$2481<>'MDOT FTA Detail'!$C$4)*(Projects!$L$5:$L$2481='Local Detail'!$A79)*(Projects!$J$5:$J$2481<>'Local Detail'!$A$136)*(Projects!$O$5:$O$2481))))","v":0},{"$f":"G79+H79","v":0},{"$f":"SUMPRODUCT((Projects!$A$5:$A$2481='Local Detail'!$J$3)*(Projects!$C$5:$C$2481<>'MDOT FTA Detail'!$C$4)*(Projects!$L$5:$L$2481='Local Detail'!$A79)*(Projects!$K$5:$K$2481))","v":0},{"$f":"((SUMPRODUCT((Projects!$A$5:$A$2481='Local Detail'!$J$3)*(Projects!$C$5:$C$2481<>'MDOT FTA Detail'!$C$4)*(Projects!$L$5:$L$2481='Local Detail'!$A79)*(Projects!$J$5:$J$2481<>'Local Detail'!$A$136)*(Projects!$M$5:$M$2481)))+(SUMPRODUCT((Projects!$A$5:$A$2481='Local Detail'!$J$3)*(Projects!$C$5:$C$2481<>'MDOT FTA Detail'!$C$4)*(Projects!$L$5:$L$2481='Local Detail'!$A79)*(Projects!$J$5:$J$2481<>'Local Detail'!$A$136)*(Projects!$O$5:$O$2481))))","v":0},{"$f":"J79+K79","v":0},{"$f":"SUMPRODUCT((Projects!$A$5:$A$2481='Local Detail'!$M$3)*(Projects!$C$5:$C$2481<>'MDOT FTA Detail'!$C$4)*(Projects!$L$5:$L$2481='Local Detail'!$A79)*(Projects!$K$5:$K$2481))","v":0},{"$f":"((SUMPRODUCT((Projects!$A$5:$A$2481='Local Detail'!$M$3)*(Projects!$C$5:$C$2481<>'MDOT FTA Detail'!$C$4)*(Projects!$L$5:$L$2481='Local Detail'!$A79)*(Projects!$J$5:$J$2481<>'Local Detail'!$A$136)*(Projects!$M$5:$M$2481)))+(SUMPRODUCT((Projects!$A$5:$A$2481='Local Detail'!$M$3)*(Projects!$C$5:$C$2481<>'MDOT FTA Detail'!$C$4)*(Projects!$L$5:$L$2481='Local Detail'!$A79)*(Projects!$J$5:$J$2481<>'Local Detail'!$A$136)*(Projects!$O$5:$O$2481))))","v":0},{"$f":"M79+N79","v":0}]
["STR","STP - Safety - Rail-Highway Crossing Protection","Local STP",{"$f":"SUMPRODUCT((Projects!$A$5:$A$2481='Local Detail'!$D$3)*(Projects!$C$5:$C$2481<>'MDOT FTA Detail'!$C$4)*(Projects!$L$5:$L$2481='Local Detail'!$A80)*(Projects!$K$5:$K$2481))","v":0},{"$f":"((SUMPRODUCT((Projects!$A$5:$A$2481='Local Detail'!$D$3)*(Projects!$C$5:$C$2481<>'MDOT FTA Detail'!$C$4)*(Projects!$L$5:$L$2481='Local Detail'!$A80)*(Projects!$J$5:$J$2481<>'Local Detail'!$A$136)*(Projects!$M$5:$M$2481)))+(SUMPRODUCT((Projects!$A$5:$A$2481='Local Detail'!$D$3)*(Projects!$C$5:$C$2481<>'MDOT FTA Detail'!$C$4)*(Projects!$L$5:$L$2481='Local Detail'!$A80)*(Projects!$J$5:$J$2481<>'Local Detail'!$A$136)*(Projects!$O$5:$O$2481))))","v":0},0,{"$f":"SUMPRODUCT((Projects!$A$5:$A$2481='Local Detail'!$G$3)*(Projects!$C$5:$C$2481<>'MDOT FTA Detail'!$C$4)*(Projects!$L$5:$L$2481='Local Detail'!$A80)*(Projects!$K$5:$K$2481))","v":0},{"$f":"((SUMPRODUCT((Projects!$A$5:$A$2481='Local Detail'!$G$3)*(Projects!$C$5:$C$2481<>'MDOT FTA Detail'!$C$4)*(Projects!$L$5:$L$2481='Local Detail'!$A80)*(Projects!$J$5:$J$2481<>'Local Detail'!$A$136)*(Projects!$M$5:$M$2481)))+(SUMPRODUCT((Projects!$A$5:$A$2481='Local Detail'!$G$3)*(Projects!$C$5:$C$2481<>'MDOT FTA Detail'!$C$4)*(Projects!$L$5:$L$2481='Local Detail'!$A80)*(Projects!$J$5:$J$2481<>'Local Detail'!$A$136)*(Projects!$O$5:$O$2481))))","v":0},0,{"$f":"SUMPRODUCT((Projects!$A$5:$A$2481='Local Detail'!$J$3)*(Projects!$C$5:$C$2481<>'MDOT FTA Detail'!$C$4)*(Projects!$L$5:$L$2481='Local Detail'!$A80)*(Projects!$K$5:$K$2481))","v":0},{"$f":"((SUMPRODUCT((Projects!$A$5:$A$2481='Local Detail'!$J$3)*(Projects!$C$5:$C$2481<>'MDOT FTA Detail'!$C$4)*(Projects!$L$5:$L$2481='Local Detail'!$A80)*(Projects!$J$5:$J$2481<>'Local Detail'!$A$136)*(Projects!$M$5:$M$2481)))+(SUMPRODUCT((Projects!$A$5:$A$2481='Local Detail'!$J$3)*(Projects!$C$5:$C$2481<>'MDOT FTA Detail'!$C$4)*(Projects!$L$5:$L$2481='Local Detail'!$A80)*(Projects!$J$5:$J$2481<>'Local Detail'!$A$136)*(Projects!$O$5:$O$2481))))","v":0},0,{"$f":"SUMPRODUCT((Projects!$A$5:$A$2481='Local Detail'!$M$3)*(Projects!$C$5:$C$2481<>'MDOT FTA Detail'!$C$4)*(Projects!$L$5:$L$2481='Local Detail'!$A80)*(Projects!$K$5:$K$2481))","v":0},{"$f":"((SUMPRODUCT((Projects!$A$5:$A$2481='Local Detail'!$M$3)*(Projects!$C$5:$C$2481<>'MDOT FTA Detail'!$C$4)*(Projects!$L$5:$L$2481='Local Detail'!$A80)*(Projects!$J$5:$J$2481<>'Local Detail'!$A$136)*(Projects!$M$5:$M$2481)))+(SUMPRODUCT((Projects!$A$5:$A$2481='Local Detail'!$M$3)*(Projects!$C$5:$C$2481<>'MDOT FTA Detail'!$C$4)*(Projects!$L$5:$L$2481='Local Detail'!$A80)*(Projects!$J$5:$J$2481<>'Local Detail'!$A$136)*(Projects!$O$5:$O$2481))))","v":0},0]
["STRG","STP - Safety Rail-Highway & Incentive Payment - 100% Federal","Local STP",{"$f":"SUMPRODUCT((Projects!$A$5:$A$2481='Local Detail'!$D$3)*(Projects!$C$5:$C$2481<>'MDOT FTA Detail'!$C$4)*(Projects!$L$5:$L$2481='Local Detail'!$A81)*(Projects!$K$5:$K$2481))","v":0},{"$f":"((SUMPRODUCT((Projects!$A$5:$A$2481='Local Detail'!$D$3)*(Projects!$C$5:$C$2481<>'MDOT FTA Detail'!$C$4)*(Projects!$L$5:$L$2481='Local Detail'!$A81)*(Projects!$J$5:$J$2481<>'Local Detail'!$A$136)*(Projects!$M$5:$M$2481)))+(SUMPRODUCT((Projects!$A$5:$A$2481='Local Detail'!$D$3)*(Projects!$C$5:$C$2481<>'MDOT FTA Detail'!$C$4)*(Projects!$L$5:$L$2481='Local Detail'!$A81)*(Projects!$J$5:$J$2481<>'Local Detail'!$A$136)*(Projects!$O$5:$O$2481))))","v":0},0,{"$f":"SUMPRODUCT((Projects!$A$5:$A$2481='Local Detail'!$G$3)*(Projects!$C$5:$C$2481<>'MDOT FTA Detail'!$C$4)*(Projects!$L$5:$L$2481='Local Detail'!$A81)*(Projects!$K$5:$K$2481))","v":0},{"$f":"((SUMPRODUCT((Projects!$A$5:$A$2481='Local Detail'!$G$3)*(Projects!$C$5:$C$2481<>'MDOT FTA Detail'!$C$4)*(Projects!$L$5:$L$2481='Local Detail'!$A81)*(Projects!$J$5:$J$2481<>'Local Detail'!$A$136)*(Projects!$M$5:$M$2481)))+(SUMPRODUCT((Projects!$A$5:$A$2481='Local Detail'!$G$3)*(Projects!$C$5:$C$2481<>'MDOT FTA Detail'!$C$4)*(Projects!$L$5:$L$2481='Local Detail'!$A81)*(Projects!$J$5:$J$2481<>'Local Detail'!$A$136)*(Projects!$O$5:$O$2481))))","v":0},0,{"$f":"SUMPRODUCT((Projects!$A$5:$A$2481='Local Detail'!$J$3)*(Projects!$C$5:$C$2481<>'MDOT FTA Detail'!$C$4)*(Projects!$L$5:$L$2481='Local Detail'!$A81)*(Projects!$K$5:$K$2481))","v":0},{"$f":"((SUMPRODUCT((Projects!$A$5:$A$2481='Local Detail'!$J$3)*(Projects!$C$5:$C$2481<>'MDOT FTA Detail'!$C$4)*(Projects!$L$5:$L$2481='Local Detail'!$A81)*(Projects!$J$5:$J$2481<>'Local Detail'!$A$136)*(Projects!$M$5:$M$2481)))+(SUMPRODUCT((Projects!$A$5:$A$2481='Local Detail'!$J$3)*(Projects!$C$5:$C$2481<>'MDOT FTA Detail'!$C$4)*(Projects!$L$5:$L$2481='Local Detail'!$A81)*(Projects!$J$5:$J$2481<>'Local Detail'!$A$136)*(Projects!$O$5:$O$2481))))","v":0},0,{"$f":"SUMPRODUCT((Projects!$A$5:$A$2481='Local Detail'!$M$3)*(Projects!$C$5:$C$2481<>'MDOT FTA Detail'!$C$4)*(Projects!$L$5:$L$2481='Local Detail'!$A81)*(Projects!$K$5:$K$2481))","v":0},{"$f":"((SUMPRODUCT((Projects!$A$5:$A$2481='Local Detail'!$M$3)*(Projects!$C$5:$C$2481<>'MDOT FTA Detail'!$C$4)*(Projects!$L$5:$L$2481='Local Detail'!$A81)*(Projects!$J$5:$J$2481<>'Local Detail'!$A$136)*(Projects!$M$5:$M$2481)))+(SUMPRODUCT((Projects!$A$5:$A$2481='Local Detail'!$M$3)*(Projects!$C$5:$C$2481<>'MDOT FTA Detail'!$C$4)*(Projects!$L$5:$L$2481='Local Detail'!$A81)*(Projects!$J$5:$J$2481<>'Local Detail'!$A$136)*(Projects!$O$5:$O$2481))))","v":0},0]
["STRH","Surface Transportation Safety Highway Crossing Hazard Elimination","Local STP",{"$f":"SUMPRODUCT((Projects!$A$5:$A$2481='Local Detail'!$D$3)*(Projects!$C$5:$C$2481<>'MDOT FTA Detail'!$C$4)*(Projects!$L$5:$L$2481='Local Detail'!$A82)*(Projects!$K$5:$K$2481))","v":0},{"$f":"((SUMPRODUCT((Projects!$A$5:$A$2481='Local Detail'!$D$3)*(Projects!$C$5:$C$2481<>'MDOT FTA Detail'!$C$4)*(Projects!$L$5:$L$2481='Local Detail'!$A82)*(Projects!$J$5:$J$2481<>'Local Detail'!$A$136)*(Projects!$M$5:$M$2481)))+(SUMPRODUCT((Projects!$A$5:$A$2481='Local Detail'!$D$3)*(Projects!$C$5:$C$2481<>'MDOT FTA Detail'!$C$4)*(Projects!$L$5:$L$2481='Local Detail'!$A82)*(Projects!$J$5:$J$2481<>'Local Detail'!$A$136)*(Projects!$O$5:$O$2481))))","v":0},{"$f":"D82+E82","v":0},{"$f":"SUMPRODUCT((Projects!$A$5:$A$2481='Local Detail'!$G$3)*(Projects!$C$5:$C$2481<>'MDOT FTA Detail'!$C$4)*(Projects!$L$5:$L$2481='Local Detail'!$A82)*(Projects!$K$5:$K$2481))","v":0},{"$f":"((SUMPRODUCT((Projects!$A$5:$A$2481='Local Detail'!$G$3)*(Projects!$C$5:$C$2481<>'MDOT FTA Detail'!$C$4)*(Projects!$L$5:$L$2481='Local Detail'!$A82)*(Projects!$J$5:$J$2481<>'Local Detail'!$A$136)*(Projects!$M$5:$M$2481)))+(SUMPRODUCT((Projects!$A$5:$A$2481='Local Detail'!$G$3)*(Projects!$C$5:$C$2481<>'MDOT FTA Detail'!$C$4)*(Projects!$L$5:$L$2481='Local Detail'!$A82)*(Projects!$J$5:$J$2481<>'Local Detail'!$A$136)*(Projects!$O$5:$O$2481))))","v":0},{"$f":"G82+H82","v":0},{"$f":"SUMPRODUCT((Projects!$A$5:$A$2481='Local Detail'!$J$3)*(Projects!$C$5:$C$2481<>'MDOT FTA Detail'!$C$4)*(Projects!$L$5:$L$2481='Local Detail'!$A82)*(Projects!$K$5:$K$2481))","v":0},{"$f":"((SUMPRODUCT((Projects!$A$5:$A$2481='Local Detail'!$J$3)*(Projects!$C$5:$C$2481<>'MDOT FTA Detail'!$C$4)*(Projects!$L$5:$L$2481='Local Detail'!$A82)*(Projects!$J$5:$J$2481<>'Local Detail'!$A$136)*(Projects!$M$5:$M$2481)))+(SUMPRODUCT((Projects!$A$5:$A$2481='Local Detail'!$J$3)*(Projects!$C$5:$C$2481<>'MDOT FTA Detail'!$C$4)*(Projects!$L$5:$L$2481='Local Detail'!$A82)*(Projects!$J$5:$J$2481<>'Local Detail'!$A$136)*(Projects!$O$5:$O$2481))))","v":0},{"$f":"J82+K82","v":0},{"$f":"SUMPRODUCT((Projects!$A$5:$A$2481='Local Detail'!$M$3)*(Projects!$C$5:$C$2481<>'MDOT FTA Detail'!$C$4)*(Projects!$L$5:$L$2481='Local Detail'!$A82)*(Projects!$K$5:$K$2481))","v":0},{"$f":"((SUMPRODUCT((Projects!$A$5:$A$2481='Local Detail'!$M$3)*(Projects!$C$5:$C$2481<>'MDOT FTA Detail'!$C$4)*(Projects!$L$5:$L$2481='Local Detail'!$A82)*(Projects!$J$5:$J$2481<>'Local Detail'!$A$136)*(Projects!$M$5:$M$2481)))+(SUMPRODUCT((Projects!$A$5:$A$2481='Local Detail'!$M$3)*(Projects!$C$5:$C$2481<>'MDOT FTA Detail'!$C$4)*(Projects!$L$5:$L$2481='Local Detail'!$A82)*(Projects!$J$5:$J$2481<>'Local Detail'!$A$136)*(Projects!$O$5:$O$2481))))","v":0},{"$f":"M82+N82","v":0}]
["STRP","Surface Transportation Safety Highway Crossing Protection Devices","Local STP",{"$f":"SUMPRODUCT((Projects!$A$5:$A$2481='Local Detail'!$D$3)*(Projects!$C$5:$C$2481<>'MDOT FTA Detail'!$C$4)*(Projects!$L$5:$L$2481='Local Detail'!$A83)*(Projects!$K$5:$K$2481))","v":0},{"$f":"((SUMPRODUCT((Projects!$A$5:$A$2481='Local Detail'!$D$3)*(Projects!$C$5:$C$2481<>'MDOT FTA Detail'!$C$4)*(Projects!$L$5:$L$2481='Local Detail'!$A83)*(Projects!$J$5:$J$2481<>'Local Detail'!$A$136)*(Projects!$M$5:$M$2481)))+(SUMPRODUCT((Projects!$A$5:$A$2481='Local Detail'!$D$3)*(Projects!$C$5:$C$2481<>'MDOT FTA Detail'!$C$4)*(Projects!$L$5:$L$2481='Local Detail'!$A83)*(Projects!$J$5:$J$2481<>'Local Detail'!$A$136)*(Projects!$O$5:$O$2481))))","v":0},{"$f":"D83+E83","v":0},{"$f":"SUMPRODUCT((Projects!$A$5:$A$2481='Local Detail'!$G$3)*(Projects!$C$5:$C$2481<>'MDOT FTA Detail'!$C$4)*(Projects!$L$5:$L$2481='Local Detail'!$A83)*(Projects!$K$5:$K$2481))","v":0},{"$f":"((SUMPRODUCT((Projects!$A$5:$A$2481='Local Detail'!$G$3)*(Projects!$C$5:$C$2481<>'MDOT FTA Detail'!$C$4)*(Projects!$L$5:$L$2481='Local Detail'!$A83)*(Projects!$J$5:$J$2481<>'Local Detail'!$A$136)*(Projects!$M$5:$M$2481)))+(SUMPRODUCT((Projects!$A$5:$A$2481='Local Detail'!$G$3)*(Projects!$C$5:$C$2481<>'MDOT FTA Detail'!$C$4)*(Projects!$L$5:$L$2481='Local Detail'!$A83)*(Projects!$J$5:$J$2481<>'Local Detail'!$A$136)*(Projects!$O$5:$O$2481))))","v":0},{"$f":"G83+H83","v":0},{"$f":"SUMPRODUCT((Projects!$A$5:$A$2481='Local Detail'!$J$3)*(Projects!$C$5:$C$2481<>'MDOT FTA Detail'!$C$4)*(Projects!$L$5:$L$2481='Local Detail'!$A83)*(Projects!$K$5:$K$2481))","v":0},{"$f":"((SUMPRODUCT((Projects!$A$5:$A$2481='Local Detail'!$J$3)*(Projects!$C$5:$C$2481<>'MDOT FTA Detail'!$C$4)*(Projects!$L$5:$L$2481='Local Detail'!$A83)*(Projects!$J$5:$J$2481<>'Local Detail'!$A$136)*(Projects!$M$5:$M$2481)))+(SUMPRODUCT((Projects!$A$5:$A$2481='Local Detail'!$J$3)*(Projects!$C$5:$C$2481<>'MDOT FTA Detail'!$C$4)*(Projects!$L$5:$L$2481='Local Detail'!$A83)*(Projects!$J$5:$J$2481<>'Local Detail'!$A$136)*(Projects!$O$5:$O$2481))))","v":0},{"$f":"J83+K83","v":0},{"$f":"SUMPRODUCT((Projects!$A$5:$A$2481='Local Detail'!$M$3)*(Projects!$C$5:$C$2481<>'MDOT FTA Detail'!$C$4)*(Projects!$L$5:$L$2481='Local Detail'!$A83)*(Projects!$K$5:$K$2481))","v":0},{"$f":"((SUMPRODUCT((Projects!$A$5:$A$2481='Local Detail'!$M$3)*(Projects!$C$5:$C$2481<>'MDOT FTA Detail'!$C$4)*(Projects!$L$5:$L$2481='Local Detail'!$A83)*(Projects!$J$5:$J$2481<>'Local Detail'!$A$136)*(Projects!$M$5:$M$2481)))+(SUMPRODUCT((Projects!$A$5:$A$2481='Local Detail'!$M$3)*(Projects!$C$5:$C$2481<>'MDOT FTA Detail'!$C$4)*(Projects!$L$5:$L$2481='Local Detail'!$A83)*(Projects!$J$5:$J$2481<>'Local Detail'!$A$136)*(Projects!$O$5:$O$2481))))","v":0},{"$f":"M83+N83","v":0}]
["STS","STP - Any Area- MDOT Safety Program","Local STP",{"$f":"SUMPRODUCT((Projects!$A$5:$A$2481='Local Detail'!$D$3)*(Projects!$C$5:$C$2481<>'MDOT FTA Detail'!$C$4)*(Projects!$L$5:$L$2481='Local Detail'!$A84)*(Projects!$K$5:$K$2481))","v":0},{"$f":"((SUMPRODUCT((Projects!$A$5:$A$2481='Local Detail'!$D$3)*(Projects!$C$5:$C$2481<>'MDOT FTA Detail'!$C$4)*(Projects!$L$5:$L$2481='Local Detail'!$A84)*(Projects!$J$5:$J$2481<>'Local Detail'!$A$136)*(Projects!$M$5:$M$2481)))+(SUMPRODUCT((Projects!$A$5:$A$2481='Local Detail'!$D$3)*(Projects!$C$5:$C$2481<>'MDOT FTA Detail'!$C$4)*(Projects!$L$5:$L$2481='Local Detail'!$A84)*(Projects!$J$5:$J$2481<>'Local Detail'!$A$136)*(Projects!$O$5:$O$2481))))","v":0},0,{"$f":"SUMPRODUCT((Projects!$A$5:$A$2481='Local Detail'!$G$3)*(Projects!$C$5:$C$2481<>'MDOT FTA Detail'!$C$4)*(Projects!$L$5:$L$2481='Local Detail'!$A84)*(Projects!$K$5:$K$2481))","v":0},{"$f":"((SUMPRODUCT((Projects!$A$5:$A$2481='Local Detail'!$G$3)*(Projects!$C$5:$C$2481<>'MDOT FTA Detail'!$C$4)*(Projects!$L$5:$L$2481='Local Detail'!$A84)*(Projects!$J$5:$J$2481<>'Local Detail'!$A$136)*(Projects!$M$5:$M$2481)))+(SUMPRODUCT((Projects!$A$5:$A$2481='Local Detail'!$G$3)*(Projects!$C$5:$C$2481<>'MDOT FTA Detail'!$C$4)*(Projects!$L$5:$L$2481='Local Detail'!$A84)*(Projects!$J$5:$J$2481<>'Local Detail'!$A$136)*(Projects!$O$5:$O$2481))))","v":0},0,{"$f":"SUMPRODUCT((Projects!$A$5:$A$2481='Local Detail'!$J$3)*(Projects!$C$5:$C$2481<>'MDOT FTA Detail'!$C$4)*(Projects!$L$5:$L$2481='Local Detail'!$A84)*(Projects!$K$5:$K$2481))","v":0},{"$f":"((SUMPRODUCT((Projects!$A$5:$A$2481='Local Detail'!$J$3)*(Projects!$C$5:$C$2481<>'MDOT FTA Detail'!$C$4)*(Projects!$L$5:$L$2481='Local Detail'!$A84)*(Projects!$J$5:$J$2481<>'Local Detail'!$A$136)*(Projects!$M$5:$M$2481)))+(SUMPRODUCT((Projects!$A$5:$A$2481='Local Detail'!$J$3)*(Projects!$C$5:$C$2481<>'MDOT FTA Detail'!$C$4)*(Projects!$L$5:$L$2481='Local Detail'!$A84)*(Projects!$J$5:$J$2481<>'Local Detail'!$A$136)*(Projects!$O$5:$O$2481))))","v":0},0,{"$f":"SUMPRODUCT((Projects!$A$5:$A$2481='Local Detail'!$M$3)*(Projects!$C$5:$C$2481<>'MDOT FTA Detail'!$C$4)*(Projects!$L$5:$L$2481='Local Detail'!$A84)*(Projects!$K$5:$K$2481))","v":0},{"$f":"((SUMPRODUCT((Projects!$A$5:$A$2481='Local Detail'!$M$3)*(Projects!$C$5:$C$2481<>'MDOT FTA Detail'!$C$4)*(Projects!$L$5:$L$2481='Local Detail'!$A84)*(Projects!$J$5:$J$2481<>'Local Detail'!$A$136)*(Projects!$M$5:$M$2481)))+(SUMPRODUCT((Projects!$A$5:$A$2481='Local Detail'!$M$3)*(Projects!$C$5:$C$2481<>'MDOT FTA Detail'!$C$4)*(Projects!$L$5:$L$2481='Local Detail'!$A84)*(Projects!$J$5:$J$2481<>'Local Detail'!$A$136)*(Projects!$O$5:$O$2481))))","v":0},0]
["STT","STP - Trunkline","Local STP",{"$f":"SUMPRODUCT((Projects!$A$5:$A$2481='Local Detail'!$D$3)*(Projects!$C$5:$C$2481<>'MDOT FTA Detail'!$C$4)*(Projects!$L$5:$L$2481='Local Detail'!$A85)*(Projects!$K$5:$K$2481))","v":0},{"$f":"((SUMPRODUCT((Projects!$A$5:$A$2481='Local Detail'!$D$3)*(Projects!$C$5:$C$2481<>'MDOT FTA Detail'!$C$4)*(Projects!$L$5:$L$2481='Local Detail'!$A85)*(Projects!$J$5:$J$2481<>'Local Detail'!$A$136)*(Projects!$M$5:$M$2481)))+(SUMPRODUCT((Projects!$A$5:$A$2481='Local Detail'!$D$3)*(Projects!$C$5:$C$2481<>'MDOT FTA Detail'!$C$4)*(Projects!$L$5:$L$2481='Local Detail'!$A85)*(Projects!$J$5:$J$2481<>'Local Detail'!$A$136)*(Projects!$O$5:$O$2481))))","v":0},0,{"$f":"SUMPRODUCT((Projects!$A$5:$A$2481='Local Detail'!$G$3)*(Projects!$C$5:$C$2481<>'MDOT FTA Detail'!$C$4)*(Projects!$L$5:$L$2481='Local Detail'!$A85)*(Projects!$K$5:$K$2481))","v":0},{"$f":"((SUMPRODUCT((Projects!$A$5:$A$2481='Local Detail'!$G$3)*(Projects!$C$5:$C$2481<>'MDOT FTA Detail'!$C$4)*(Projects!$L$5:$L$2481='Local Detail'!$A85)*(Projects!$J$5:$J$2481<>'Local Detail'!$A$136)*(Projects!$M$5:$M$2481)))+(SUMPRODUCT((Projects!$A$5:$A$2481='Local Detail'!$G$3)*(Projects!$C$5:$C$2481<>'MDOT FTA Detail'!$C$4)*(Projects!$L$5:$L$2481='Local Detail'!$A85)*(Projects!$J$5:$J$2481<>'Local Detail'!$A$136)*(Projects!$O$5:$O$2481))))","v":0},0,{"$f":"SUMPRODUCT((Projects!$A$5:$A$2481='Local Detail'!$J$3)*(Projects!$C$5:$C$2481<>'MDOT FTA Detail'!$C$4)*(Projects!$L$5:$L$2481='Local Detail'!$A85)*(Projects!$K$5:$K$2481))","v":0},{"$f":"((SUMPRODUCT((Projects!$A$5:$A$2481='Local Detail'!$J$3)*(Projects!$C$5:$C$2481<>'MDOT FTA Detail'!$C$4)*(Projects!$L$5:$L$2481='Local Detail'!$A85)*(Projects!$J$5:$J$2481<>'Local Detail'!$A$136)*(Projects!$M$5:$M$2481)))+(SUMPRODUCT((Projects!$A$5:$A$2481='Local Detail'!$J$3)*(Projects!$C$5:$C$2481<>'MDOT FTA Detail'!$C$4)*(Projects!$L$5:$L$2481='Local Detail'!$A85)*(Projects!$J$5:$J$2481<>'Local Detail'!$A$136)*(Projects!$O$5:$O$2481))))","v":0},0,{"$f":"SUMPRODUCT((Projects!$A$5:$A$2481='Local Detail'!$M$3)*(Projects!$C$5:$C$2481<>'MDOT FTA Detail'!$C$4)*(Projects!$L$5:$L$2481='Local Detail'!$A85)*(Projects!$K$5:$K$2481))","v":0},{"$f":"((SUMPRODUCT((Projects!$A$5:$A$2481='Local Detail'!$M$3)*(Projects!$C$5:$C$2481<>'MDOT FTA Detail'!$C$4)*(Projects!$L$5:$L$2481='Local Detail'!$A85)*(Projects!$J$5:$J$2481<>'Local Detail'!$A$136)*(Projects!$M$5:$M$2481)))+(SUMPRODUCT((Projects!$A$5:$A$2481='Local Detail'!$M$3)*(Projects!$C$5:$C$2481<>'MDOT FTA Detail'!$C$4)*(Projects!$L$5:$L$2481='Local Detail'!$A85)*(Projects!$J$5:$J$2481<>'Local Detail'!$A$136)*(Projects!$O$5:$O$2481))))","v":0},0]
["STU","STP - Urban Areas > 200,000 Population","Local STP",{"$f":"SUMPRODUCT((Projects!$A$5:$A$2481='Local Detail'!$D$3)*(Projects!$C$5:$C$2481<>'MDOT FTA Detail'!$C$4)*(Projects!$L$5:$L$2481='Local Detail'!$A86)*(Projects!$K$5:$K$2481))","v":0},{"$f":"((SUMPRODUCT((Projects!$A$5:$A$2481='Local Detail'!$D$3)*(Projects!$C$5:$C$2481<>'MDOT FTA Detail'!$C$4)*(Projects!$L$5:$L$2481='Local Detail'!$A86)*(Projects!$J$5:$J$2481<>'Local Detail'!$A$136)*(Projects!$M$5:$M$2481)))+(SUMPRODUCT((Projects!$A$5:$A$2481='Local Detail'!$D$3)*(Projects!$C$5:$C$2481<>'MDOT FTA Detail'!$C$4)*(Projects!$L$5:$L$2481='Local Detail'!$A86)*(Projects!$J$5:$J$2481<>'Local Detail'!$A$136)*(Projects!$O$5:$O$2481))))","v":0},0,{"$f":"SUMPRODUCT((Projects!$A$5:$A$2481='Local Detail'!$G$3)*(Projects!$C$5:$C$2481<>'MDOT FTA Detail'!$C$4)*(Projects!$L$5:$L$2481='Local Detail'!$A86)*(Projects!$K$5:$K$2481))","v":0},{"$f":"((SUMPRODUCT((Projects!$A$5:$A$2481='Local Detail'!$G$3)*(Projects!$C$5:$C$2481<>'MDOT FTA Detail'!$C$4)*(Projects!$L$5:$L$2481='Local Detail'!$A86)*(Projects!$J$5:$J$2481<>'Local Detail'!$A$136)*(Projects!$M$5:$M$2481)))+(SUMPRODUCT((Projects!$A$5:$A$2481='Local Detail'!$G$3)*(Projects!$C$5:$C$2481<>'MDOT FTA Detail'!$C$4)*(Projects!$L$5:$L$2481='Local Detail'!$A86)*(Projects!$J$5:$J$2481<>'Local Detail'!$A$136)*(Projects!$O$5:$O$2481))))","v":0},0,{"$f":"SUMPRODUCT((Projects!$A$5:$A$2481='Local Detail'!$J$3)*(Projects!$C$5:$C$2481<>'MDOT FTA Detail'!$C$4)*(Projects!$L$5:$L$2481='Local Detail'!$A86)*(Projects!$K$5:$K$2481))","v":0},{"$f":"((SUMPRODUCT((Projects!$A$5:$A$2481='Local Detail'!$J$3)*(Projects!$C$5:$C$2481<>'MDOT FTA Detail'!$C$4)*(Projects!$L$5:$L$2481='Local Detail'!$A86)*(Projects!$J$5:$J$2481<>'Local Detail'!$A$136)*(Projects!$M$5:$M$2481)))+(SUMPRODUCT((Projects!$A$5:$A$2481='Local Detail'!$J$3)*(Projects!$C$5:$C$2481<>'MDOT FTA Detail'!$C$4)*(Projects!$L$5:$L$2481='Local Detail'!$A86)*(Projects!$J$5:$J$2481<>'Local Detail'!$A$136)*(Projects!$O$5:$O$2481))))","v":0},0,{"$f":"SUMPRODUCT((Projects!$A$5:$A$2481='Local Detail'!$M$3)*(Projects!$C$5:$C$2481<>'MDOT FTA Detail'!$C$4)*(Projects!$L$5:$L$2481='Local Detail'!$A86)*(Projects!$K$5:$K$2481))","v":0},{"$f":"((SUMPRODUCT((Projects!$A$5:$A$2481='Local Detail'!$M$3)*(Projects!$C$5:$C$2481<>'MDOT FTA Detail'!$C$4)*(Projects!$L$5:$L$2481='Local Detail'!$A86)*(Projects!$J$5:$J$2481<>'Local Detail'!$A$136)*(Projects!$M$5:$M$2481)))+(SUMPRODUCT((Projects!$A$5:$A$2481='Local Detail'!$M$3)*(Projects!$C$5:$C$2481<>'MDOT FTA Detail'!$C$4)*(Projects!$L$5:$L$2481='Local Detail'!$A86)*(Projects!$J$5:$J$2481<>'Local Detail'!$A$136)*(Projects!$O$5:$O$2481))))","v":0},0]
["STUG","STP - Urban Areas < 200,000 Population 100%","Local STP",{"$f":"SUMPRODUCT((Projects!$A$5:$A$2481='Local Detail'!$D$3)*(Projects!$C$5:$C$2481<>'MDOT FTA Detail'!$C$4)*(Projects!$L$5:$L$2481='Local Detail'!$A87)*(Projects!$K$5:$K$2481))","v":0},{"$f":"((SUMPRODUCT((Projects!$A$5:$A$2481='Local Detail'!$D$3)*(Projects!$C$5:$C$2481<>'MDOT FTA Detail'!$C$4)*(Projects!$L$5:$L$2481='Local Detail'!$A87)*(Projects!$J$5:$J$2481<>'Local Detail'!$A$136)*(Projects!$M$5:$M$2481)))+(SUMPRODUCT((Projects!$A$5:$A$2481='Local Detail'!$D$3)*(Projects!$C$5:$C$2481<>'MDOT FTA Detail'!$C$4)*(Projects!$L$5:$L$2481='Local Detail'!$A87)*(Projects!$J$5:$J$2481<>'Local Detail'!$A$136)*(Projects!$O$5:$O$2481))))","v":0},{"$f":"D87+E87","v":0},{"$f":"SUMPRODUCT((Projects!$A$5:$A$2481='Local Detail'!$G$3)*(Projects!$C$5:$C$2481<>'MDOT FTA Detail'!$C$4)*(Projects!$L$5:$L$2481='Local Detail'!$A87)*(Projects!$K$5:$K$2481))","v":0},{"$f":"((SUMPRODUCT((Projects!$A$5:$A$2481='Local Detail'!$G$3)*(Projects!$C$5:$C$2481<>'MDOT FTA Detail'!$C$4)*(Projects!$L$5:$L$2481='Local Detail'!$A87)*(Projects!$J$5:$J$2481<>'Local Detail'!$A$136)*(Projects!$M$5:$M$2481)))+(SUMPRODUCT((Projects!$A$5:$A$2481='Local Detail'!$G$3)*(Projects!$C$5:$C$2481<>'MDOT FTA Detail'!$C$4)*(Projects!$L$5:$L$2481='Local Detail'!$A87)*(Projects!$J$5:$J$2481<>'Local Detail'!$A$136)*(Projects!$O$5:$O$2481))))","v":0},{"$f":"G87+H87","v":0},{"$f":"SUMPRODUCT((Projects!$A$5:$A$2481='Local Detail'!$J$3)*(Projects!$C$5:$C$2481<>'MDOT FTA Detail'!$C$4)*(Projects!$L$5:$L$2481='Local Detail'!$A87)*(Projects!$K$5:$K$2481))","v":0},{"$f":"((SUMPRODUCT((Projects!$A$5:$A$2481='Local Detail'!$J$3)*(Projects!$C$5:$C$2481<>'MDOT FTA Detail'!$C$4)*(Projects!$L$5:$L$2481='Local Detail'!$A87)*(Projects!$J$5:$J$2481<>'Local Detail'!$A$136)*(Projects!$M$5:$M$2481)))+(SUMPRODUCT((Projects!$A$5:$A$2481='Local Detail'!$J$3)*(Projects!$C$5:$C$2481<>'MDOT FTA Detail'!$C$4)*(Projects!$L$5:$L$2481='Local Detail'!$A87)*(Projects!$J$5:$J$2481<>'Local Detail'!$A$136)*(Projects!$O$5:$O$2481))))","v":0},{"$f":"J87+K87","v":0},{"$f":"SUMPRODUCT((Projects!$A$5:$A$2481='Local Detail'!$M$3)*(Projects!$C$5:$C$2481<>'MDOT FTA Detail'!$C$4)*(Projects!$L$5:$L$2481='Local Detail'!$A87)*(Projects!$K$5:$K$2481))","v":0},{"$f":"((SUMPRODUCT((Projects!$A$5:$A$2481='Local Detail'!$M$3)*(Projects!$C$5:$C$2481<>'MDOT FTA Detail'!$C$4)*(Projects!$L$5:$L$2481='Local Detail'!$A87)*(Projects!$J$5:$J$2481<>'Local Detail'!$A$136)*(Projects!$M$5:$M$2481)))+(SUMPRODUCT((Projects!$A$5:$A$2481='Local Detail'!$M$3)*(Projects!$C$5:$C$2481<>'MDOT FTA Detail'!$C$4)*(Projects!$L$5:$L$2481='Local Detail'!$A87)*(Projects!$J$5:$J$2481<>'Local Detail'!$A$136)*(Projects!$O$5:$O$2481))))","v":0},{"$f":"M87+N87","v":0}]
["STUL","STP - Urban Areas < 200,000 Population","Local STP",{"$f":"SUMPRODUCT((Projects!$A$5:$A$2481='Local Detail'!$D$3)*(Projects!$C$5:$C$2481<>'MDOT FTA Detail'!$C$4)*(Projects!$L$5:$L$2481='Local Detail'!$A88)*(Projects!$K$5:$K$2481))","v":1061524},{"$f":"((SUMPRODUCT((Projects!$A$5:$A$2481='Local Detail'!$D$3)*(Projects!$C$5:$C$2481<>'MDOT FTA Detail'!$C$4)*(Projects!$L$5:$L$2481='Local Detail'!$A88)*(Projects!$J$5:$J$2481<>'Local Detail'!$A$136)*(Projects!$M$5:$M$2481)))+(SUMPRODUCT((Projects!$A$5:$A$2481='Local Detail'!$D$3)*(Projects!$C$5:$C$2481<>'MDOT FTA Detail'!$C$4)*(Projects!$L$5:$L$2481='Local Detail'!$A88)*(Projects!$J$5:$J$2481<>'Local Detail'!$A$136)*(Projects!$O$5:$O$2481))))","v":192187},1253711,{"$f":"SUMPRODUCT((Projects!$A$5:$A$2481='Local Detail'!$G$3)*(Projects!$C$5:$C$2481<>'MDOT FTA Detail'!$C$4)*(Projects!$L$5:$L$2481='Local Detail'!$A88)*(Projects!$K$5:$K$2481))","v":837634},{"$f":"((SUMPRODUCT((Projects!$A$5:$A$2481='Local Detail'!$G$3)*(Projects!$C$5:$C$2481<>'MDOT FTA Detail'!$C$4)*(Projects!$L$5:$L$2481='Local Detail'!$A88)*(Projects!$J$5:$J$2481<>'Local Detail'!$A$136)*(Projects!$M$5:$M$2481)))+(SUMPRODUCT((Projects!$A$5:$A$2481='Local Detail'!$G$3)*(Projects!$C$5:$C$2481<>'MDOT FTA Detail'!$C$4)*(Projects!$L$5:$L$2481='Local Detail'!$A88)*(Projects!$J$5:$J$2481<>'Local Detail'!$A$136)*(Projects!$O$5:$O$2481))))","v":101400},939034,{"$f":"SUMPRODUCT((Projects!$A$5:$A$2481='Local Detail'!$J$3)*(Projects!$C$5:$C$2481<>'MDOT FTA Detail'!$C$4)*(Projects!$L$5:$L$2481='Local Detail'!$A88)*(Projects!$K$5:$K$2481))","v":856324},{"$f":"((SUMPRODUCT((Projects!$A$5:$A$2481='Local Detail'!$J$3)*(Projects!$C$5:$C$2481<>'MDOT FTA Detail'!$C$4)*(Projects!$L$5:$L$2481='Local Detail'!$A88)*(Projects!$J$5:$J$2481<>'Local Detail'!$A$136)*(Projects!$M$5:$M$2481)))+(SUMPRODUCT((Projects!$A$5:$A$2481='Local Detail'!$J$3)*(Projects!$C$5:$C$2481<>'MDOT FTA Detail'!$C$4)*(Projects!$L$5:$L$2481='Local Detail'!$A88)*(Projects!$J$5:$J$2481<>'Local Detail'!$A$136)*(Projects!$O$5:$O$2481))))","v":160132},1016456,{"$f":"SUMPRODUCT((Projects!$A$5:$A$2481='Local Detail'!$M$3)*(Projects!$C$5:$C$2481<>'MDOT FTA Detail'!$C$4)*(Projects!$L$5:$L$2481='Local Detail'!$A88)*(Projects!$K$5:$K$2481))","v":844163},{"$f":"((SUMPRODUCT((Projects!$A$5:$A$2481='Local Detail'!$M$3)*(Projects!$C$5:$C$2481<>'MDOT FTA Detail'!$C$4)*(Projects!$L$5:$L$2481='Local Detail'!$A88)*(Projects!$J$5:$J$2481<>'Local Detail'!$A$136)*(Projects!$M$5:$M$2481)))+(SUMPRODUCT((Projects!$A$5:$A$2481='Local Detail'!$M$3)*(Projects!$C$5:$C$2481<>'MDOT FTA Detail'!$C$4)*(Projects!$L$5:$L$2481='Local Detail'!$A88)*(Projects!$J$5:$J$2481<>'Local Detail'!$A$136)*(Projects!$O$5:$O$2481))))","v":177000},1021163]
["STUT","STP - Urban Areas < 200,000 Population - Trunkline","Local STP",{"$f":"SUMPRODUCT((Projects!$A$5:$A$2481='Local Detail'!$D$3)*(Projects!$C$5:$C$2481<>'MDOT FTA Detail'!$C$4)*(Projects!$L$5:$L$2481='Local Detail'!$A89)*(Projects!$K$5:$K$2481))","v":0},{"$f":"((SUMPRODUCT((Projects!$A$5:$A$2481='Local Detail'!$D$3)*(Projects!$C$5:$C$2481<>'MDOT FTA Detail'!$C$4)*(Projects!$L$5:$L$2481='Local Detail'!$A89)*(Projects!$J$5:$J$2481<>'Local Detail'!$A$136)*(Projects!$M$5:$M$2481)))+(SUMPRODUCT((Projects!$A$5:$A$2481='Local Detail'!$D$3)*(Projects!$C$5:$C$2481<>'MDOT FTA Detail'!$C$4)*(Projects!$L$5:$L$2481='Local Detail'!$A89)*(Projects!$J$5:$J$2481<>'Local Detail'!$A$136)*(Projects!$O$5:$O$2481))))","v":0},0,{"$f":"SUMPRODUCT((Projects!$A$5:$A$2481='Local Detail'!$G$3)*(Projects!$C$5:$C$2481<>'MDOT FTA Detail'!$C$4)*(Projects!$L$5:$L$2481='Local Detail'!$A89)*(Projects!$K$5:$K$2481))","v":0},{"$f":"((SUMPRODUCT((Projects!$A$5:$A$2481='Local Detail'!$G$3)*(Projects!$C$5:$C$2481<>'MDOT FTA Detail'!$C$4)*(Projects!$L$5:$L$2481='Local Detail'!$A89)*(Projects!$J$5:$J$2481<>'Local Detail'!$A$136)*(Projects!$M$5:$M$2481)))+(SUMPRODUCT((Projects!$A$5:$A$2481='Local Detail'!$G$3)*(Projects!$C$5:$C$2481<>'MDOT FTA Detail'!$C$4)*(Projects!$L$5:$L$2481='Local Detail'!$A89)*(Projects!$J$5:$J$2481<>'Local Detail'!$A$136)*(Projects!$O$5:$O$2481))))","v":0},0,{"$f":"SUMPRODUCT((Projects!$A$5:$A$2481='Local Detail'!$J$3)*(Projects!$C$5:$C$2481<>'MDOT FTA Detail'!$C$4)*(Projects!$L$5:$L$2481='Local Detail'!$A89)*(Projects!$K$5:$K$2481))","v":0},{"$f":"((SUMPRODUCT((Projects!$A$5:$A$2481='Local Detail'!$J$3)*(Projects!$C$5:$C$2481<>'MDOT FTA Detail'!$C$4)*(Projects!$L$5:$L$2481='Local Detail'!$A89)*(Projects!$J$5:$J$2481<>'Local Detail'!$A$136)*(Projects!$M$5:$M$2481)))+(SUMPRODUCT((Projects!$A$5:$A$2481='Local Detail'!$J$3)*(Projects!$C$5:$C$2481<>'MDOT FTA Detail'!$C$4)*(Projects!$L$5:$L$2481='Local Detail'!$A89)*(Projects!$J$5:$J$2481<>'Local Detail'!$A$136)*(Projects!$O$5:$O$2481))))","v":0},0,{"$f":"SUMPRODUCT((Projects!$A$5:$A$2481='Local Detail'!$M$3)*(Projects!$C$5:$C$2481<>'MDOT FTA Detail'!$C$4)*(Projects!$L$5:$L$2481='Local Detail'!$A89)*(Projects!$K$5:$K$2481))","v":0},{"$f":"((SUMPRODUCT((Projects!$A$5:$A$2481='Local Detail'!$M$3)*(Projects!$C$5:$C$2481<>'MDOT FTA Detail'!$C$4)*(Projects!$L$5:$L$2481='Local Detail'!$A89)*(Projects!$J$5:$J$2481<>'Local Detail'!$A$136)*(Projects!$M$5:$M$2481)))+(SUMPRODUCT((Projects!$A$5:$A$2481='Local Detail'!$M$3)*(Projects!$C$5:$C$2481<>'MDOT FTA Detail'!$C$4)*(Projects!$L$5:$L$2481='Local Detail'!$A89)*(Projects!$J$5:$J$2481<>'Local Detail'!$A$136)*(Projects!$O$5:$O$2481))))","v":0},0]
["SUG","STP - Safety - 100% Federal for STU","Local STP",{"$f":"SUMPRODUCT((Projects!$A$5:$A$2481='Local Detail'!$D$3)*(Projects!$C$5:$C$2481<>'MDOT FTA Detail'!$C$4)*(Projects!$L$5:$L$2481='Local Detail'!$A90)*(Projects!$K$5:$K$2481))","v":0},{"$f":"((SUMPRODUCT((Projects!$A$5:$A$2481='Local Detail'!$D$3)*(Projects!$C$5:$C$2481<>'MDOT FTA Detail'!$C$4)*(Projects!$L$5:$L$2481='Local Detail'!$A90)*(Projects!$J$5:$J$2481<>'Local Detail'!$A$136)*(Projects!$M$5:$M$2481)))+(SUMPRODUCT((Projects!$A$5:$A$2481='Local Detail'!$D$3)*(Projects!$C$5:$C$2481<>'MDOT FTA Detail'!$C$4)*(Projects!$L$5:$L$2481='Local Detail'!$A90)*(Projects!$J$5:$J$2481<>'Local Detail'!$A$136)*(Projects!$O$5:$O$2481))))","v":0},0,{"$f":"SUMPRODUCT((Projects!$A$5:$A$2481='Local Detail'!$G$3)*(Projects!$C$5:$C$2481<>'MDOT FTA Detail'!$C$4)*(Projects!$L$5:$L$2481='Local Detail'!$A90)*(Projects!$K$5:$K$2481))","v":0},{"$f":"((SUMPRODUCT((Projects!$A$5:$A$2481='Local Detail'!$G$3)*(Projects!$C$5:$C$2481<>'MDOT FTA Detail'!$C$4)*(Projects!$L$5:$L$2481='Local Detail'!$A90)*(Projects!$J$5:$J$2481<>'Local Detail'!$A$136)*(Projects!$M$5:$M$2481)))+(SUMPRODUCT((Projects!$A$5:$A$2481='Local Detail'!$G$3)*(Projects!$C$5:$C$2481<>'MDOT FTA Detail'!$C$4)*(Projects!$L$5:$L$2481='Local Detail'!$A90)*(Projects!$J$5:$J$2481<>'Local Detail'!$A$136)*(Projects!$O$5:$O$2481))))","v":0},0,{"$f":"SUMPRODUCT((Projects!$A$5:$A$2481='Local Detail'!$J$3)*(Projects!$C$5:$C$2481<>'MDOT FTA Detail'!$C$4)*(Projects!$L$5:$L$2481='Local Detail'!$A90)*(Projects!$K$5:$K$2481))","v":0},{"$f":"((SUMPRODUCT((Projects!$A$5:$A$2481='Local Detail'!$J$3)*(Projects!$C$5:$C$2481<>'MDOT FTA Detail'!$C$4)*(Projects!$L$5:$L$2481='Local Detail'!$A90)*(Projects!$J$5:$J$2481<>'Local Detail'!$A$136)*(Projects!$M$5:$M$2481)))+(SUMPRODUCT((Projects!$A$5:$A$2481='Local Detail'!$J$3)*(Projects!$C$5:$C$2481<>'MDOT FTA Detail'!$C$4)*(Projects!$L$5:$L$2481='Local Detail'!$A90)*(Projects!$J$5:$J$2481<>'Local Detail'!$A$136)*(Projects!$O$5:$O$2481))))","v":0},0,{"$f":"SUMPRODUCT((Projects!$A$5:$A$2481='Local Detail'!$M$3)*(Projects!$C$5:$C$2481<>'MDOT FTA Detail'!$C$4)*(Projects!$L$5:$L$2481='Local Detail'!$A90)*(Projects!$K$5:$K$2481))","v":0},{"$f":"((SUMPRODUCT((Projects!$A$5:$A$2481='Local Detail'!$M$3)*(Projects!$C$5:$C$2481<>'MDOT FTA Detail'!$C$4)*(Projects!$L$5:$L$2481='Local Detail'!$A90)*(Projects!$J$5:$J$2481<>'Local Detail'!$A$136)*(Projects!$M$5:$M$2481)))+(SUMPRODUCT((Projects!$A$5:$A$2481='Local Detail'!$M$3)*(Projects!$C$5:$C$2481<>'MDOT FTA Detail'!$C$4)*(Projects!$L$5:$L$2481='Local Detail'!$A90)*(Projects!$J$5:$J$2481<>'Local Detail'!$A$136)*(Projects!$O$5:$O$2481))))","v":0},0]
["SUL","Surface Transportation Urban Areas  <200,000 Population","Local STP",{"$f":"SUMPRODUCT((Projects!$A$5:$A$2481='Local Detail'!$D$3)*(Projects!$C$5:$C$2481<>'MDOT FTA Detail'!$C$4)*(Projects!$L$5:$L$2481='Local Detail'!$A91)*(Projects!$K$5:$K$2481))","v":0},{"$f":"((SUMPRODUCT((Projects!$A$5:$A$2481='Local Detail'!$D$3)*(Projects!$C$5:$C$2481<>'MDOT FTA Detail'!$C$4)*(Projects!$L$5:$L$2481='Local Detail'!$A91)*(Projects!$J$5:$J$2481<>'Local Detail'!$A$136)*(Projects!$M$5:$M$2481)))+(SUMPRODUCT((Projects!$A$5:$A$2481='Local Detail'!$D$3)*(Projects!$C$5:$C$2481<>'MDOT FTA Detail'!$C$4)*(Projects!$L$5:$L$2481='Local Detail'!$A91)*(Projects!$J$5:$J$2481<>'Local Detail'!$A$136)*(Projects!$O$5:$O$2481))))","v":0},{"$f":"D91+E91","v":0},{"$f":"SUMPRODUCT((Projects!$A$5:$A$2481='Local Detail'!$G$3)*(Projects!$C$5:$C$2481<>'MDOT FTA Detail'!$C$4)*(Projects!$L$5:$L$2481='Local Detail'!$A91)*(Projects!$K$5:$K$2481))","v":0},{"$f":"((SUMPRODUCT((Projects!$A$5:$A$2481='Local Detail'!$G$3)*(Projects!$C$5:$C$2481<>'MDOT FTA Detail'!$C$4)*(Projects!$L$5:$L$2481='Local Detail'!$A91)*(Projects!$J$5:$J$2481<>'Local Detail'!$A$136)*(Projects!$M$5:$M$2481)))+(SUMPRODUCT((Projects!$A$5:$A$2481='Local Detail'!$G$3)*(Projects!$C$5:$C$2481<>'MDOT FTA Detail'!$C$4)*(Projects!$L$5:$L$2481='Local Detail'!$A91)*(Projects!$J$5:$J$2481<>'Local Detail'!$A$136)*(Projects!$O$5:$O$2481))))","v":0},{"$f":"G91+H91","v":0},{"$f":"SUMPRODUCT((Projects!$A$5:$A$2481='Local Detail'!$J$3)*(Projects!$C$5:$C$2481<>'MDOT FTA Detail'!$C$4)*(Projects!$L$5:$L$2481='Local Detail'!$A91)*(Projects!$K$5:$K$2481))","v":0},{"$f":"((SUMPRODUCT((Projects!$A$5:$A$2481='Local Detail'!$J$3)*(Projects!$C$5:$C$2481<>'MDOT FTA Detail'!$C$4)*(Projects!$L$5:$L$2481='Local Detail'!$A91)*(Projects!$J$5:$J$2481<>'Local Detail'!$A$136)*(Projects!$M$5:$M$2481)))+(SUMPRODUCT((Projects!$A$5:$A$2481='Local Detail'!$J$3)*(Projects!$C$5:$C$2481<>'MDOT FTA Detail'!$C$4)*(Projects!$L$5:$L$2481='Local Detail'!$A91)*(Projects!$J$5:$J$2481<>'Local Detail'!$A$136)*(Projects!$O$5:$O$2481))))","v":0},{"$f":"J91+K91","v":0},{"$f":"SUMPRODUCT((Projects!$A$5:$A$2481='Local Detail'!$M$3)*(Projects!$C$5:$C$2481<>'MDOT FTA Detail'!$C$4)*(Projects!$L$5:$L$2481='Local Detail'!$A91)*(Projects!$K$5:$K$2481))","v":0},{"$f":"((SUMPRODUCT((Projects!$A$5:$A$2481='Local Detail'!$M$3)*(Projects!$C$5:$C$2481<>'MDOT FTA Detail'!$C$4)*(Projects!$L$5:$L$2481='Local Detail'!$A91)*(Projects!$J$5:$J$2481<>'Local Detail'!$A$136)*(Projects!$M$5:$M$2481)))+(SUMPRODUCT((Projects!$A$5:$A$2481='Local Detail'!$M$3)*(Projects!$C$5:$C$2481<>'MDOT FTA Detail'!$C$4)*(Projects!$L$5:$L$2481='Local Detail'!$A91)*(Projects!$J$5:$J$2481<>'Local Detail'!$A$136)*(Projects!$O$5:$O$2481))))","v":0},{"$f":"M91+N91","v":0}]
["SULG","Surfcace Transportation Urban Areas <200,000 Population 100%","Local STP",{"$f":"SUMPRODUCT((Projects!$A$5:$A$2481='Local Detail'!$D$3)*(Projects!$C$5:$C$2481<>'MDOT FTA Detail'!$C$4)*(Projects!$L$5:$L$2481='Local Detail'!$A92)*(Projects!$K$5:$K$2481))","v":0},{"$f":"((SUMPRODUCT((Projects!$A$5:$A$2481='Local Detail'!$D$3)*(Projects!$C$5:$C$2481<>'MDOT FTA Detail'!$C$4)*(Projects!$L$5:$L$2481='Local Detail'!$A92)*(Projects!$J$5:$J$2481<>'Local Detail'!$A$136)*(Projects!$M$5:$M$2481)))+(SUMPRODUCT((Projects!$A$5:$A$2481='Local Detail'!$D$3)*(Projects!$C$5:$C$2481<>'MDOT FTA Detail'!$C$4)*(Projects!$L$5:$L$2481='Local Detail'!$A92)*(Projects!$J$5:$J$2481<>'Local Detail'!$A$136)*(Projects!$O$5:$O$2481))))","v":0},0,{"$f":"SUMPRODUCT((Projects!$A$5:$A$2481='Local Detail'!$G$3)*(Projects!$C$5:$C$2481<>'MDOT FTA Detail'!$C$4)*(Projects!$L$5:$L$2481='Local Detail'!$A92)*(Projects!$K$5:$K$2481))","v":0},{"$f":"((SUMPRODUCT((Projects!$A$5:$A$2481='Local Detail'!$G$3)*(Projects!$C$5:$C$2481<>'MDOT FTA Detail'!$C$4)*(Projects!$L$5:$L$2481='Local Detail'!$A92)*(Projects!$J$5:$J$2481<>'Local Detail'!$A$136)*(Projects!$M$5:$M$2481)))+(SUMPRODUCT((Projects!$A$5:$A$2481='Local Detail'!$G$3)*(Projects!$C$5:$C$2481<>'MDOT FTA Detail'!$C$4)*(Projects!$L$5:$L$2481='Local Detail'!$A92)*(Projects!$J$5:$J$2481<>'Local Detail'!$A$136)*(Projects!$O$5:$O$2481))))","v":0},0,{"$f":"SUMPRODUCT((Projects!$A$5:$A$2481='Local Detail'!$J$3)*(Projects!$C$5:$C$2481<>'MDOT FTA Detail'!$C$4)*(Projects!$L$5:$L$2481='Local Detail'!$A92)*(Projects!$K$5:$K$2481))","v":0},{"$f":"((SUMPRODUCT((Projects!$A$5:$A$2481='Local Detail'!$J$3)*(Projects!$C$5:$C$2481<>'MDOT FTA Detail'!$C$4)*(Projects!$L$5:$L$2481='Local Detail'!$A92)*(Projects!$J$5:$J$2481<>'Local Detail'!$A$136)*(Projects!$M$5:$M$2481)))+(SUMPRODUCT((Projects!$A$5:$A$2481='Local Detail'!$J$3)*(Projects!$C$5:$C$2481<>'MDOT FTA Detail'!$C$4)*(Projects!$L$5:$L$2481='Local Detail'!$A92)*(Projects!$J$5:$J$2481<>'Local Detail'!$A$136)*(Projects!$O$5:$O$2481))))","v":0},0,{"$f":"SUMPRODUCT((Projects!$A$5:$A$2481='Local Detail'!$M$3)*(Projects!$C$5:$C$2481<>'MDOT FTA Detail'!$C$4)*(Projects!$L$5:$L$2481='Local Detail'!$A92)*(Projects!$K$5:$K$2481))","v":0},{"$f":"((SUMPRODUCT((Projects!$A$5:$A$2481='Local Detail'!$M$3)*(Projects!$C$5:$C$2481<>'MDOT FTA Detail'!$C$4)*(Projects!$L$5:$L$2481='Local Detail'!$A92)*(Projects!$J$5:$J$2481<>'Local Detail'!$A$136)*(Projects!$M$5:$M$2481)))+(SUMPRODUCT((Projects!$A$5:$A$2481='Local Detail'!$M$3)*(Projects!$C$5:$C$2481<>'MDOT FTA Detail'!$C$4)*(Projects!$L$5:$L$2481='Local Detail'!$A92)*(Projects!$J$5:$J$2481<>'Local Detail'!$A$136)*(Projects!$O$5:$O$2481))))","v":0},0]
["TA","Transportation Alternatives Program Flex","Local Other FHWA",{"$f":"SUMPRODUCT((Projects!$A$5:$A$2481='Local Detail'!$D$3)*(Projects!$C$5:$C$2481<>'MDOT FTA Detail'!$C$4)*(Projects!$L$5:$L$2481='Local Detail'!$A93)*(Projects!$K$5:$K$2481))","v":0},{"$f":"((SUMPRODUCT((Projects!$A$5:$A$2481='Local Detail'!$D$3)*(Projects!$C$5:$C$2481<>'MDOT FTA Detail'!$C$4)*(Projects!$L$5:$L$2481='Local Detail'!$A93)*(Projects!$J$5:$J$2481<>'Local Detail'!$A$136)*(Projects!$M$5:$M$2481)))+(SUMPRODUCT((Projects!$A$5:$A$2481='Local Detail'!$D$3)*(Projects!$C$5:$C$2481<>'MDOT FTA Detail'!$C$4)*(Projects!$L$5:$L$2481='Local Detail'!$A93)*(Projects!$J$5:$J$2481<>'Local Detail'!$A$136)*(Projects!$O$5:$O$2481))))","v":0},0,{"$f":"SUMPRODUCT((Projects!$A$5:$A$2481='Local Detail'!$G$3)*(Projects!$C$5:$C$2481<>'MDOT FTA Detail'!$C$4)*(Projects!$L$5:$L$2481='Local Detail'!$A93)*(Projects!$K$5:$K$2481))","v":0},{"$f":"((SUMPRODUCT((Projects!$A$5:$A$2481='Local Detail'!$G$3)*(Projects!$C$5:$C$2481<>'MDOT FTA Detail'!$C$4)*(Projects!$L$5:$L$2481='Local Detail'!$A93)*(Projects!$J$5:$J$2481<>'Local Detail'!$A$136)*(Projects!$M$5:$M$2481)))+(SUMPRODUCT((Projects!$A$5:$A$2481='Local Detail'!$G$3)*(Projects!$C$5:$C$2481<>'MDOT FTA Detail'!$C$4)*(Projects!$L$5:$L$2481='Local Detail'!$A93)*(Projects!$J$5:$J$2481<>'Local Detail'!$A$136)*(Projects!$O$5:$O$2481))))","v":0},0,{"$f":"SUMPRODUCT((Projects!$A$5:$A$2481='Local Detail'!$J$3)*(Projects!$C$5:$C$2481<>'MDOT FTA Detail'!$C$4)*(Projects!$L$5:$L$2481='Local Detail'!$A93)*(Projects!$K$5:$K$2481))","v":0},{"$f":"((SUMPRODUCT((Projects!$A$5:$A$2481='Local Detail'!$J$3)*(Projects!$C$5:$C$2481<>'MDOT FTA Detail'!$C$4)*(Projects!$L$5:$L$2481='Local Detail'!$A93)*(Projects!$J$5:$J$2481<>'Local Detail'!$A$136)*(Projects!$M$5:$M$2481)))+(SUMPRODUCT((Projects!$A$5:$A$2481='Local Detail'!$J$3)*(Projects!$C$5:$C$2481<>'MDOT FTA Detail'!$C$4)*(Projects!$L$5:$L$2481='Local Detail'!$A93)*(Projects!$J$5:$J$2481<>'Local Detail'!$A$136)*(Projects!$O$5:$O$2481))))","v":0},0,{"$f":"SUMPRODUCT((Projects!$A$5:$A$2481='Local Detail'!$M$3)*(Projects!$C$5:$C$2481<>'MDOT FTA Detail'!$C$4)*(Projects!$L$5:$L$2481='Local Detail'!$A93)*(Projects!$K$5:$K$2481))","v":0},{"$f":"((SUMPRODUCT((Projects!$A$5:$A$2481='Local Detail'!$M$3)*(Projects!$C$5:$C$2481<>'MDOT FTA Detail'!$C$4)*(Projects!$L$5:$L$2481='Local Detail'!$A93)*(Projects!$J$5:$J$2481<>'Local Detail'!$A$136)*(Projects!$M$5:$M$2481)))+(SUMPRODUCT((Projects!$A$5:$A$2481='Local Detail'!$M$3)*(Projects!$C$5:$C$2481<>'MDOT FTA Detail'!$C$4)*(Projects!$L$5:$L$2481='Local Detail'!$A93)*(Projects!$J$5:$J$2481<>'Local Detail'!$A$136)*(Projects!$O$5:$O$2481))))","v":0},0]
["TAL","Transportation Alternatives Rural","Local Other FHWA",{"$f":"SUMPRODUCT((Projects!$A$5:$A$2481='Local Detail'!$D$3)*(Projects!$C$5:$C$2481<>'MDOT FTA Detail'!$C$4)*(Projects!$L$5:$L$2481='Local Detail'!$A94)*(Projects!$K$5:$K$2481))","v":0},{"$f":"((SUMPRODUCT((Projects!$A$5:$A$2481='Local Detail'!$D$3)*(Projects!$C$5:$C$2481<>'MDOT FTA Detail'!$C$4)*(Projects!$L$5:$L$2481='Local Detail'!$A94)*(Projects!$J$5:$J$2481<>'Local Detail'!$A$136)*(Projects!$M$5:$M$2481)))+(SUMPRODUCT((Projects!$A$5:$A$2481='Local Detail'!$D$3)*(Projects!$C$5:$C$2481<>'MDOT FTA Detail'!$C$4)*(Projects!$L$5:$L$2481='Local Detail'!$A94)*(Projects!$J$5:$J$2481<>'Local Detail'!$A$136)*(Projects!$O$5:$O$2481))))","v":0},0,{"$f":"SUMPRODUCT((Projects!$A$5:$A$2481='Local Detail'!$G$3)*(Projects!$C$5:$C$2481<>'MDOT FTA Detail'!$C$4)*(Projects!$L$5:$L$2481='Local Detail'!$A94)*(Projects!$K$5:$K$2481))","v":0},{"$f":"((SUMPRODUCT((Projects!$A$5:$A$2481='Local Detail'!$G$3)*(Projects!$C$5:$C$2481<>'MDOT FTA Detail'!$C$4)*(Projects!$L$5:$L$2481='Local Detail'!$A94)*(Projects!$J$5:$J$2481<>'Local Detail'!$A$136)*(Projects!$M$5:$M$2481)))+(SUMPRODUCT((Projects!$A$5:$A$2481='Local Detail'!$G$3)*(Projects!$C$5:$C$2481<>'MDOT FTA Detail'!$C$4)*(Projects!$L$5:$L$2481='Local Detail'!$A94)*(Projects!$J$5:$J$2481<>'Local Detail'!$A$136)*(Projects!$O$5:$O$2481))))","v":0},0,{"$f":"SUMPRODUCT((Projects!$A$5:$A$2481='Local Detail'!$J$3)*(Projects!$C$5:$C$2481<>'MDOT FTA Detail'!$C$4)*(Projects!$L$5:$L$2481='Local Detail'!$A94)*(Projects!$K$5:$K$2481))","v":0},{"$f":"((SUMPRODUCT((Projects!$A$5:$A$2481='Local Detail'!$J$3)*(Projects!$C$5:$C$2481<>'MDOT FTA Detail'!$C$4)*(Projects!$L$5:$L$2481='Local Detail'!$A94)*(Projects!$J$5:$J$2481<>'Local Detail'!$A$136)*(Projects!$M$5:$M$2481)))+(SUMPRODUCT((Projects!$A$5:$A$2481='Local Detail'!$J$3)*(Projects!$C$5:$C$2481<>'MDOT FTA Detail'!$C$4)*(Projects!$L$5:$L$2481='Local Detail'!$A94)*(Projects!$J$5:$J$2481<>'Local Detail'!$A$136)*(Projects!$O$5:$O$2481))))","v":0},0,{"$f":"SUMPRODUCT((Projects!$A$5:$A$2481='Local Detail'!$M$3)*(Projects!$C$5:$C$2481<>'MDOT FTA Detail'!$C$4)*(Projects!$L$5:$L$2481='Local Detail'!$A94)*(Projects!$K$5:$K$2481))","v":0},{"$f":"((SUMPRODUCT((Projects!$A$5:$A$2481='Local Detail'!$M$3)*(Projects!$C$5:$C$2481<>'MDOT FTA Detail'!$C$4)*(Projects!$L$5:$L$2481='Local Detail'!$A94)*(Projects!$J$5:$J$2481<>'Local Detail'!$A$136)*(Projects!$M$5:$M$2481)))+(SUMPRODUCT((Projects!$A$5:$A$2481='Local Detail'!$M$3)*(Projects!$C$5:$C$2481<>'MDOT FTA Detail'!$C$4)*(Projects!$L$5:$L$2481='Local Detail'!$A94)*(Projects!$J$5:$J$2481<>'Local Detail'!$A$136)*(Projects!$O$5:$O$2481))))","v":0},0]
["TAU","Transportation Alternatives Urban Areas > 200,000 Population","Local Other FHWA",{"$f":"SUMPRODUCT((Projects!$A$5:$A$2481='Local Detail'!$D$3)*(Projects!$C$5:$C$2481<>'MDOT FTA Detail'!$C$4)*(Projects!$L$5:$L$2481='Local Detail'!$A95)*(Projects!$K$5:$K$2481))","v":0},{"$f":"((SUMPRODUCT((Projects!$A$5:$A$2481='Local Detail'!$D$3)*(Projects!$C$5:$C$2481<>'MDOT FTA Detail'!$C$4)*(Projects!$L$5:$L$2481='Local Detail'!$A95)*(Projects!$J$5:$J$2481<>'Local Detail'!$A$136)*(Projects!$M$5:$M$2481)))+(SUMPRODUCT((Projects!$A$5:$A$2481='Local Detail'!$D$3)*(Projects!$C$5:$C$2481<>'MDOT FTA Detail'!$C$4)*(Projects!$L$5:$L$2481='Local Detail'!$A95)*(Projects!$J$5:$J$2481<>'Local Detail'!$A$136)*(Projects!$O$5:$O$2481))))","v":0},0,{"$f":"SUMPRODUCT((Projects!$A$5:$A$2481='Local Detail'!$G$3)*(Projects!$C$5:$C$2481<>'MDOT FTA Detail'!$C$4)*(Projects!$L$5:$L$2481='Local Detail'!$A95)*(Projects!$K$5:$K$2481))","v":0},{"$f":"((SUMPRODUCT((Projects!$A$5:$A$2481='Local Detail'!$G$3)*(Projects!$C$5:$C$2481<>'MDOT FTA Detail'!$C$4)*(Projects!$L$5:$L$2481='Local Detail'!$A95)*(Projects!$J$5:$J$2481<>'Local Detail'!$A$136)*(Projects!$M$5:$M$2481)))+(SUMPRODUCT((Projects!$A$5:$A$2481='Local Detail'!$G$3)*(Projects!$C$5:$C$2481<>'MDOT FTA Detail'!$C$4)*(Projects!$L$5:$L$2481='Local Detail'!$A95)*(Projects!$J$5:$J$2481<>'Local Detail'!$A$136)*(Projects!$O$5:$O$2481))))","v":0},0,{"$f":"SUMPRODUCT((Projects!$A$5:$A$2481='Local Detail'!$J$3)*(Projects!$C$5:$C$2481<>'MDOT FTA Detail'!$C$4)*(Projects!$L$5:$L$2481='Local Detail'!$A95)*(Projects!$K$5:$K$2481))","v":0},{"$f":"((SUMPRODUCT((Projects!$A$5:$A$2481='Local Detail'!$J$3)*(Projects!$C$5:$C$2481<>'MDOT FTA Detail'!$C$4)*(Projects!$L$5:$L$2481='Local Detail'!$A95)*(Projects!$J$5:$J$2481<>'Local Detail'!$A$136)*(Projects!$M$5:$M$2481)))+(SUMPRODUCT((Projects!$A$5:$A$2481='Local Detail'!$J$3)*(Projects!$C$5:$C$2481<>'MDOT FTA Detail'!$C$4)*(Projects!$L$5:$L$2481='Local Detail'!$A95)*(Projects!$J$5:$J$2481<>'Local Detail'!$A$136)*(Projects!$O$5:$O$2481))))","v":0},0,{"$f":"SUMPRODUCT((Projects!$A$5:$A$2481='Local Detail'!$M$3)*(Projects!$C$5:$C$2481<>'MDOT FTA Detail'!$C$4)*(Projects!$L$5:$L$2481='Local Detail'!$A95)*(Projects!$K$5:$K$2481))","v":0},{"$f":"((SUMPRODUCT((Projects!$A$5:$A$2481='Local Detail'!$M$3)*(Projects!$C$5:$C$2481<>'MDOT FTA Detail'!$C$4)*(Projects!$L$5:$L$2481='Local Detail'!$A95)*(Projects!$J$5:$J$2481<>'Local Detail'!$A$136)*(Projects!$M$5:$M$2481)))+(SUMPRODUCT((Projects!$A$5:$A$2481='Local Detail'!$M$3)*(Projects!$C$5:$C$2481<>'MDOT FTA Detail'!$C$4)*(Projects!$L$5:$L$2481='Local Detail'!$A95)*(Projects!$J$5:$J$2481<>'Local Detail'!$A$136)*(Projects!$O$5:$O$2481))))","v":0},0]
["TAUL","Transporation Alternatives Urban Areas < 200,000 Population","Local Other FHWA",{"$f":"SUMPRODUCT((Projects!$A$5:$A$2481='Local Detail'!$D$3)*(Projects!$C$5:$C$2481<>'MDOT FTA Detail'!$C$4)*(Projects!$L$5:$L$2481='Local Detail'!$A96)*(Projects!$K$5:$K$2481))","v":0},{"$f":"((SUMPRODUCT((Projects!$A$5:$A$2481='Local Detail'!$D$3)*(Projects!$C$5:$C$2481<>'MDOT FTA Detail'!$C$4)*(Projects!$L$5:$L$2481='Local Detail'!$A96)*(Projects!$J$5:$J$2481<>'Local Detail'!$A$136)*(Projects!$M$5:$M$2481)))+(SUMPRODUCT((Projects!$A$5:$A$2481='Local Detail'!$D$3)*(Projects!$C$5:$C$2481<>'MDOT FTA Detail'!$C$4)*(Projects!$L$5:$L$2481='Local Detail'!$A96)*(Projects!$J$5:$J$2481<>'Local Detail'!$A$136)*(Projects!$O$5:$O$2481))))","v":0},0,{"$f":"SUMPRODUCT((Projects!$A$5:$A$2481='Local Detail'!$G$3)*(Projects!$C$5:$C$2481<>'MDOT FTA Detail'!$C$4)*(Projects!$L$5:$L$2481='Local Detail'!$A96)*(Projects!$K$5:$K$2481))","v":0},{"$f":"((SUMPRODUCT((Projects!$A$5:$A$2481='Local Detail'!$G$3)*(Projects!$C$5:$C$2481<>'MDOT FTA Detail'!$C$4)*(Projects!$L$5:$L$2481='Local Detail'!$A96)*(Projects!$J$5:$J$2481<>'Local Detail'!$A$136)*(Projects!$M$5:$M$2481)))+(SUMPRODUCT((Projects!$A$5:$A$2481='Local Detail'!$G$3)*(Projects!$C$5:$C$2481<>'MDOT FTA Detail'!$C$4)*(Projects!$L$5:$L$2481='Local Detail'!$A96)*(Projects!$J$5:$J$2481<>'Local Detail'!$A$136)*(Projects!$O$5:$O$2481))))","v":0},0,{"$f":"SUMPRODUCT((Projects!$A$5:$A$2481='Local Detail'!$J$3)*(Projects!$C$5:$C$2481<>'MDOT FTA Detail'!$C$4)*(Projects!$L$5:$L$2481='Local Detail'!$A96)*(Projects!$K$5:$K$2481))","v":0},{"$f":"((SUMPRODUCT((Projects!$A$5:$A$2481='Local Detail'!$J$3)*(Projects!$C$5:$C$2481<>'MDOT FTA Detail'!$C$4)*(Projects!$L$5:$L$2481='Local Detail'!$A96)*(Projects!$J$5:$J$2481<>'Local Detail'!$A$136)*(Projects!$M$5:$M$2481)))+(SUMPRODUCT((Projects!$A$5:$A$2481='Local Detail'!$J$3)*(Projects!$C$5:$C$2481<>'MDOT FTA Detail'!$C$4)*(Projects!$L$5:$L$2481='Local Detail'!$A96)*(Projects!$J$5:$J$2481<>'Local Detail'!$A$136)*(Projects!$O$5:$O$2481))))","v":0},0,{"$f":"SUMPRODUCT((Projects!$A$5:$A$2481='Local Detail'!$M$3)*(Projects!$C$5:$C$2481<>'MDOT FTA Detail'!$C$4)*(Projects!$L$5:$L$2481='Local Detail'!$A96)*(Projects!$K$5:$K$2481))","v":0},{"$f":"((SUMPRODUCT((Projects!$A$5:$A$2481='Local Detail'!$M$3)*(Projects!$C$5:$C$2481<>'MDOT FTA Detail'!$C$4)*(Projects!$L$5:$L$2481='Local Detail'!$A96)*(Projects!$J$5:$J$2481<>'Local Detail'!$A$136)*(Projects!$M$5:$M$2481)))+(SUMPRODUCT((Projects!$A$5:$A$2481='Local Detail'!$M$3)*(Projects!$C$5:$C$2481<>'MDOT FTA Detail'!$C$4)*(Projects!$L$5:$L$2481='Local Detail'!$A96)*(Projects!$J$5:$J$2481<>'Local Detail'!$A$136)*(Projects!$O$5:$O$2481))))","v":0},0]
["TBR","Timber Bridge Fund","Local Bridge",{"$f":"SUMPRODUCT((Projects!$A$5:$A$2481='Local Detail'!$D$3)*(Projects!$C$5:$C$2481<>'MDOT FTA Detail'!$C$4)*(Projects!$L$5:$L$2481='Local Detail'!$A97)*(Projects!$K$5:$K$2481))","v":0},{"$f":"((SUMPRODUCT((Projects!$A$5:$A$2481='Local Detail'!$D$3)*(Projects!$C$5:$C$2481<>'MDOT FTA Detail'!$C$4)*(Projects!$L$5:$L$2481='Local Detail'!$A97)*(Projects!$J$5:$J$2481<>'Local Detail'!$A$136)*(Projects!$M$5:$M$2481)))+(SUMPRODUCT((Projects!$A$5:$A$2481='Local Detail'!$D$3)*(Projects!$C$5:$C$2481<>'MDOT FTA Detail'!$C$4)*(Projects!$L$5:$L$2481='Local Detail'!$A97)*(Projects!$J$5:$J$2481<>'Local Detail'!$A$136)*(Projects!$O$5:$O$2481))))","v":0},0,{"$f":"SUMPRODUCT((Projects!$A$5:$A$2481='Local Detail'!$G$3)*(Projects!$C$5:$C$2481<>'MDOT FTA Detail'!$C$4)*(Projects!$L$5:$L$2481='Local Detail'!$A97)*(Projects!$K$5:$K$2481))","v":0},{"$f":"((SUMPRODUCT((Projects!$A$5:$A$2481='Local Detail'!$G$3)*(Projects!$C$5:$C$2481<>'MDOT FTA Detail'!$C$4)*(Projects!$L$5:$L$2481='Local Detail'!$A97)*(Projects!$J$5:$J$2481<>'Local Detail'!$A$136)*(Projects!$M$5:$M$2481)))+(SUMPRODUCT((Projects!$A$5:$A$2481='Local Detail'!$G$3)*(Projects!$C$5:$C$2481<>'MDOT FTA Detail'!$C$4)*(Projects!$L$5:$L$2481='Local Detail'!$A97)*(Projects!$J$5:$J$2481<>'Local Detail'!$A$136)*(Projects!$O$5:$O$2481))))","v":0},0,{"$f":"SUMPRODUCT((Projects!$A$5:$A$2481='Local Detail'!$J$3)*(Projects!$C$5:$C$2481<>'MDOT FTA Detail'!$C$4)*(Projects!$L$5:$L$2481='Local Detail'!$A97)*(Projects!$K$5:$K$2481))","v":0},{"$f":"((SUMPRODUCT((Projects!$A$5:$A$2481='Local Detail'!$J$3)*(Projects!$C$5:$C$2481<>'MDOT FTA Detail'!$C$4)*(Projects!$L$5:$L$2481='Local Detail'!$A97)*(Projects!$J$5:$J$2481<>'Local Detail'!$A$136)*(Projects!$M$5:$M$2481)))+(SUMPRODUCT((Projects!$A$5:$A$2481='Local Detail'!$J$3)*(Projects!$C$5:$C$2481<>'MDOT FTA Detail'!$C$4)*(Projects!$L$5:$L$2481='Local Detail'!$A97)*(Projects!$J$5:$J$2481<>'Local Detail'!$A$136)*(Projects!$O$5:$O$2481))))","v":0},0,{"$f":"SUMPRODUCT((Projects!$A$5:$A$2481='Local Detail'!$M$3)*(Projects!$C$5:$C$2481<>'MDOT FTA Detail'!$C$4)*(Projects!$L$5:$L$2481='Local Detail'!$A97)*(Projects!$K$5:$K$2481))","v":0},{"$f":"((SUMPRODUCT((Projects!$A$5:$A$2481='Local Detail'!$M$3)*(Projects!$C$5:$C$2481<>'MDOT FTA Detail'!$C$4)*(Projects!$L$5:$L$2481='Local Detail'!$A97)*(Projects!$J$5:$J$2481<>'Local Detail'!$A$136)*(Projects!$M$5:$M$2481)))+(SUMPRODUCT((Projects!$A$5:$A$2481='Local Detail'!$M$3)*(Projects!$C$5:$C$2481<>'MDOT FTA Detail'!$C$4)*(Projects!$L$5:$L$2481='Local Detail'!$A97)*(Projects!$J$5:$J$2481<>'Local Detail'!$A$136)*(Projects!$O$5:$O$2481))))","v":0},0]
["TCP","Tax Compliance Program","Local Other FHWA",{"$f":"SUMPRODUCT((Projects!$A$5:$A$2481='Local Detail'!$D$3)*(Projects!$C$5:$C$2481<>'MDOT FTA Detail'!$C$4)*(Projects!$L$5:$L$2481='Local Detail'!$A98)*(Projects!$K$5:$K$2481))","v":0},{"$f":"((SUMPRODUCT((Projects!$A$5:$A$2481='Local Detail'!$D$3)*(Projects!$C$5:$C$2481<>'MDOT FTA Detail'!$C$4)*(Projects!$L$5:$L$2481='Local Detail'!$A98)*(Projects!$J$5:$J$2481<>'Local Detail'!$A$136)*(Projects!$M$5:$M$2481)))+(SUMPRODUCT((Projects!$A$5:$A$2481='Local Detail'!$D$3)*(Projects!$C$5:$C$2481<>'MDOT FTA Detail'!$C$4)*(Projects!$L$5:$L$2481='Local Detail'!$A98)*(Projects!$J$5:$J$2481<>'Local Detail'!$A$136)*(Projects!$O$5:$O$2481))))","v":0},0,{"$f":"SUMPRODUCT((Projects!$A$5:$A$2481='Local Detail'!$G$3)*(Projects!$C$5:$C$2481<>'MDOT FTA Detail'!$C$4)*(Projects!$L$5:$L$2481='Local Detail'!$A98)*(Projects!$K$5:$K$2481))","v":0},{"$f":"((SUMPRODUCT((Projects!$A$5:$A$2481='Local Detail'!$G$3)*(Projects!$C$5:$C$2481<>'MDOT FTA Detail'!$C$4)*(Projects!$L$5:$L$2481='Local Detail'!$A98)*(Projects!$J$5:$J$2481<>'Local Detail'!$A$136)*(Projects!$M$5:$M$2481)))+(SUMPRODUCT((Projects!$A$5:$A$2481='Local Detail'!$G$3)*(Projects!$C$5:$C$2481<>'MDOT FTA Detail'!$C$4)*(Projects!$L$5:$L$2481='Local Detail'!$A98)*(Projects!$J$5:$J$2481<>'Local Detail'!$A$136)*(Projects!$O$5:$O$2481))))","v":0},0,{"$f":"SUMPRODUCT((Projects!$A$5:$A$2481='Local Detail'!$J$3)*(Projects!$C$5:$C$2481<>'MDOT FTA Detail'!$C$4)*(Projects!$L$5:$L$2481='Local Detail'!$A98)*(Projects!$K$5:$K$2481))","v":0},{"$f":"((SUMPRODUCT((Projects!$A$5:$A$2481='Local Detail'!$J$3)*(Projects!$C$5:$C$2481<>'MDOT FTA Detail'!$C$4)*(Projects!$L$5:$L$2481='Local Detail'!$A98)*(Projects!$J$5:$J$2481<>'Local Detail'!$A$136)*(Projects!$M$5:$M$2481)))+(SUMPRODUCT((Projects!$A$5:$A$2481='Local Detail'!$J$3)*(Projects!$C$5:$C$2481<>'MDOT FTA Detail'!$C$4)*(Projects!$L$5:$L$2481='Local Detail'!$A98)*(Projects!$J$5:$J$2481<>'Local Detail'!$A$136)*(Projects!$O$5:$O$2481))))","v":0},0,{"$f":"SUMPRODUCT((Projects!$A$5:$A$2481='Local Detail'!$M$3)*(Projects!$C$5:$C$2481<>'MDOT FTA Detail'!$C$4)*(Projects!$L$5:$L$2481='Local Detail'!$A98)*(Projects!$K$5:$K$2481))","v":0},{"$f":"((SUMPRODUCT((Projects!$A$5:$A$2481='Local Detail'!$M$3)*(Projects!$C$5:$C$2481<>'MDOT FTA Detail'!$C$4)*(Projects!$L$5:$L$2481='Local Detail'!$A98)*(Projects!$J$5:$J$2481<>'Local Detail'!$A$136)*(Projects!$M$5:$M$2481)))+(SUMPRODUCT((Projects!$A$5:$A$2481='Local Detail'!$M$3)*(Projects!$C$5:$C$2481<>'MDOT FTA Detail'!$C$4)*(Projects!$L$5:$L$2481='Local Detail'!$A98)*(Projects!$J$5:$J$2481<>'Local Detail'!$A$136)*(Projects!$O$5:$O$2481))))","v":0},0]
["TCSP","Transportation, Community and System Preservation","Local Other FHWA",{"$f":"SUMPRODUCT((Projects!$A$5:$A$2481='Local Detail'!$D$3)*(Projects!$C$5:$C$2481<>'MDOT FTA Detail'!$C$4)*(Projects!$L$5:$L$2481='Local Detail'!$A99)*(Projects!$K$5:$K$2481))","v":0},{"$f":"((SUMPRODUCT((Projects!$A$5:$A$2481='Local Detail'!$D$3)*(Projects!$C$5:$C$2481<>'MDOT FTA Detail'!$C$4)*(Projects!$L$5:$L$2481='Local Detail'!$A99)*(Projects!$J$5:$J$2481<>'Local Detail'!$A$136)*(Projects!$M$5:$M$2481)))+(SUMPRODUCT((Projects!$A$5:$A$2481='Local Detail'!$D$3)*(Projects!$C$5:$C$2481<>'MDOT FTA Detail'!$C$4)*(Projects!$L$5:$L$2481='Local Detail'!$A99)*(Projects!$J$5:$J$2481<>'Local Detail'!$A$136)*(Projects!$O$5:$O$2481))))","v":0},0,{"$f":"SUMPRODUCT((Projects!$A$5:$A$2481='Local Detail'!$G$3)*(Projects!$C$5:$C$2481<>'MDOT FTA Detail'!$C$4)*(Projects!$L$5:$L$2481='Local Detail'!$A99)*(Projects!$K$5:$K$2481))","v":0},{"$f":"((SUMPRODUCT((Projects!$A$5:$A$2481='Local Detail'!$G$3)*(Projects!$C$5:$C$2481<>'MDOT FTA Detail'!$C$4)*(Projects!$L$5:$L$2481='Local Detail'!$A99)*(Projects!$J$5:$J$2481<>'Local Detail'!$A$136)*(Projects!$M$5:$M$2481)))+(SUMPRODUCT((Projects!$A$5:$A$2481='Local Detail'!$G$3)*(Projects!$C$5:$C$2481<>'MDOT FTA Detail'!$C$4)*(Projects!$L$5:$L$2481='Local Detail'!$A99)*(Projects!$J$5:$J$2481<>'Local Detail'!$A$136)*(Projects!$O$5:$O$2481))))","v":0},0,{"$f":"SUMPRODUCT((Projects!$A$5:$A$2481='Local Detail'!$J$3)*(Projects!$C$5:$C$2481<>'MDOT FTA Detail'!$C$4)*(Projects!$L$5:$L$2481='Local Detail'!$A99)*(Projects!$K$5:$K$2481))","v":0},{"$f":"((SUMPRODUCT((Projects!$A$5:$A$2481='Local Detail'!$J$3)*(Projects!$C$5:$C$2481<>'MDOT FTA Detail'!$C$4)*(Projects!$L$5:$L$2481='Local Detail'!$A99)*(Projects!$J$5:$J$2481<>'Local Detail'!$A$136)*(Projects!$M$5:$M$2481)))+(SUMPRODUCT((Projects!$A$5:$A$2481='Local Detail'!$J$3)*(Projects!$C$5:$C$2481<>'MDOT FTA Detail'!$C$4)*(Projects!$L$5:$L$2481='Local Detail'!$A99)*(Projects!$J$5:$J$2481<>'Local Detail'!$A$136)*(Projects!$O$5:$O$2481))))","v":0},0,{"$f":"SUMPRODUCT((Projects!$A$5:$A$2481='Local Detail'!$M$3)*(Projects!$C$5:$C$2481<>'MDOT FTA Detail'!$C$4)*(Projects!$L$5:$L$2481='Local Detail'!$A99)*(Projects!$K$5:$K$2481))","v":0},{"$f":"((SUMPRODUCT((Projects!$A$5:$A$2481='Local Detail'!$M$3)*(Projects!$C$5:$C$2481<>'MDOT FTA Detail'!$C$4)*(Projects!$L$5:$L$2481='Local Detail'!$A99)*(Projects!$J$5:$J$2481<>'Local Detail'!$A$136)*(Projects!$M$5:$M$2481)))+(SUMPRODUCT((Projects!$A$5:$A$2481='Local Detail'!$M$3)*(Projects!$C$5:$C$2481<>'MDOT FTA Detail'!$C$4)*(Projects!$L$5:$L$2481='Local Detail'!$A99)*(Projects!$J$5:$J$2481<>'Local Detail'!$A$136)*(Projects!$O$5:$O$2481))))","v":0},0]
["TG","Transportation  Grant (100% Fed)","Local Other FHWA",{"$f":"SUMPRODUCT((Projects!$A$5:$A$2481='Local Detail'!$D$3)*(Projects!$C$5:$C$2481<>'MDOT FTA Detail'!$C$4)*(Projects!$L$5:$L$2481='Local Detail'!$A100)*(Projects!$K$5:$K$2481))","v":0},{"$f":"((SUMPRODUCT((Projects!$A$5:$A$2481='Local Detail'!$D$3)*(Projects!$C$5:$C$2481<>'MDOT FTA Detail'!$C$4)*(Projects!$L$5:$L$2481='Local Detail'!$A100)*(Projects!$J$5:$J$2481<>'Local Detail'!$A$136)*(Projects!$M$5:$M$2481)))+(SUMPRODUCT((Projects!$A$5:$A$2481='Local Detail'!$D$3)*(Projects!$C$5:$C$2481<>'MDOT FTA Detail'!$C$4)*(Projects!$L$5:$L$2481='Local Detail'!$A100)*(Projects!$J$5:$J$2481<>'Local Detail'!$A$136)*(Projects!$O$5:$O$2481))))","v":0},0,{"$f":"SUMPRODUCT((Projects!$A$5:$A$2481='Local Detail'!$G$3)*(Projects!$C$5:$C$2481<>'MDOT FTA Detail'!$C$4)*(Projects!$L$5:$L$2481='Local Detail'!$A100)*(Projects!$K$5:$K$2481))","v":0},{"$f":"((SUMPRODUCT((Projects!$A$5:$A$2481='Local Detail'!$G$3)*(Projects!$C$5:$C$2481<>'MDOT FTA Detail'!$C$4)*(Projects!$L$5:$L$2481='Local Detail'!$A100)*(Projects!$J$5:$J$2481<>'Local Detail'!$A$136)*(Projects!$M$5:$M$2481)))+(SUMPRODUCT((Projects!$A$5:$A$2481='Local Detail'!$G$3)*(Projects!$C$5:$C$2481<>'MDOT FTA Detail'!$C$4)*(Projects!$L$5:$L$2481='Local Detail'!$A100)*(Projects!$J$5:$J$2481<>'Local Detail'!$A$136)*(Projects!$O$5:$O$2481))))","v":0},0,{"$f":"SUMPRODUCT((Projects!$A$5:$A$2481='Local Detail'!$J$3)*(Projects!$C$5:$C$2481<>'MDOT FTA Detail'!$C$4)*(Projects!$L$5:$L$2481='Local Detail'!$A100)*(Projects!$K$5:$K$2481))","v":0},{"$f":"((SUMPRODUCT((Projects!$A$5:$A$2481='Local Detail'!$J$3)*(Projects!$C$5:$C$2481<>'MDOT FTA Detail'!$C$4)*(Projects!$L$5:$L$2481='Local Detail'!$A100)*(Projects!$J$5:$J$2481<>'Local Detail'!$A$136)*(Projects!$M$5:$M$2481)))+(SUMPRODUCT((Projects!$A$5:$A$2481='Local Detail'!$J$3)*(Projects!$C$5:$C$2481<>'MDOT FTA Detail'!$C$4)*(Projects!$L$5:$L$2481='Local Detail'!$A100)*(Projects!$J$5:$J$2481<>'Local Detail'!$A$136)*(Projects!$O$5:$O$2481))))","v":0},0,{"$f":"SUMPRODUCT((Projects!$A$5:$A$2481='Local Detail'!$M$3)*(Projects!$C$5:$C$2481<>'MDOT FTA Detail'!$C$4)*(Projects!$L$5:$L$2481='Local Detail'!$A100)*(Projects!$K$5:$K$2481))","v":0},{"$f":"((SUMPRODUCT((Projects!$A$5:$A$2481='Local Detail'!$M$3)*(Projects!$C$5:$C$2481<>'MDOT FTA Detail'!$C$4)*(Projects!$L$5:$L$2481='Local Detail'!$A100)*(Projects!$J$5:$J$2481<>'Local Detail'!$A$136)*(Projects!$M$5:$M$2481)))+(SUMPRODUCT((Projects!$A$5:$A$2481='Local Detail'!$M$3)*(Projects!$C$5:$C$2481<>'MDOT FTA Detail'!$C$4)*(Projects!$L$5:$L$2481='Local Detail'!$A100)*(Projects!$J$5:$J$2481<>'Local Detail'!$A$136)*(Projects!$O$5:$O$2481))))","v":0},0]
["TGR2","TIGER II Discretionary Grant","Local Other FHWA",{"$f":"SUMPRODUCT((Projects!$A$5:$A$2481='Local Detail'!$D$3)*(Projects!$C$5:$C$2481<>'MDOT FTA Detail'!$C$4)*(Projects!$L$5:$L$2481='Local Detail'!$A101)*(Projects!$K$5:$K$2481))","v":0},{"$f":"((SUMPRODUCT((Projects!$A$5:$A$2481='Local Detail'!$D$3)*(Projects!$C$5:$C$2481<>'MDOT FTA Detail'!$C$4)*(Projects!$L$5:$L$2481='Local Detail'!$A101)*(Projects!$J$5:$J$2481<>'Local Detail'!$A$136)*(Projects!$M$5:$M$2481)))+(SUMPRODUCT((Projects!$A$5:$A$2481='Local Detail'!$D$3)*(Projects!$C$5:$C$2481<>'MDOT FTA Detail'!$C$4)*(Projects!$L$5:$L$2481='Local Detail'!$A101)*(Projects!$J$5:$J$2481<>'Local Detail'!$A$136)*(Projects!$O$5:$O$2481))))","v":0},{"$f":"D101+E101","v":0},{"$f":"SUMPRODUCT((Projects!$A$5:$A$2481='Local Detail'!$G$3)*(Projects!$C$5:$C$2481<>'MDOT FTA Detail'!$C$4)*(Projects!$L$5:$L$2481='Local Detail'!$A101)*(Projects!$K$5:$K$2481))","v":0},{"$f":"((SUMPRODUCT((Projects!$A$5:$A$2481='Local Detail'!$G$3)*(Projects!$C$5:$C$2481<>'MDOT FTA Detail'!$C$4)*(Projects!$L$5:$L$2481='Local Detail'!$A101)*(Projects!$J$5:$J$2481<>'Local Detail'!$A$136)*(Projects!$M$5:$M$2481)))+(SUMPRODUCT((Projects!$A$5:$A$2481='Local Detail'!$G$3)*(Projects!$C$5:$C$2481<>'MDOT FTA Detail'!$C$4)*(Projects!$L$5:$L$2481='Local Detail'!$A101)*(Projects!$J$5:$J$2481<>'Local Detail'!$A$136)*(Projects!$O$5:$O$2481))))","v":0},{"$f":"G101+H101","v":0},{"$f":"SUMPRODUCT((Projects!$A$5:$A$2481='Local Detail'!$J$3)*(Projects!$C$5:$C$2481<>'MDOT FTA Detail'!$C$4)*(Projects!$L$5:$L$2481='Local Detail'!$A101)*(Projects!$K$5:$K$2481))","v":0},{"$f":"((SUMPRODUCT((Projects!$A$5:$A$2481='Local Detail'!$J$3)*(Projects!$C$5:$C$2481<>'MDOT FTA Detail'!$C$4)*(Projects!$L$5:$L$2481='Local Detail'!$A101)*(Projects!$J$5:$J$2481<>'Local Detail'!$A$136)*(Projects!$M$5:$M$2481)))+(SUMPRODUCT((Projects!$A$5:$A$2481='Local Detail'!$J$3)*(Projects!$C$5:$C$2481<>'MDOT FTA Detail'!$C$4)*(Projects!$L$5:$L$2481='Local Detail'!$A101)*(Projects!$J$5:$J$2481<>'Local Detail'!$A$136)*(Projects!$O$5:$O$2481))))","v":0},{"$f":"J101+K101","v":0},{"$f":"SUMPRODUCT((Projects!$A$5:$A$2481='Local Detail'!$M$3)*(Projects!$C$5:$C$2481<>'MDOT FTA Detail'!$C$4)*(Projects!$L$5:$L$2481='Local Detail'!$A101)*(Projects!$K$5:$K$2481))","v":0},{"$f":"((SUMPRODUCT((Projects!$A$5:$A$2481='Local Detail'!$M$3)*(Projects!$C$5:$C$2481<>'MDOT FTA Detail'!$C$4)*(Projects!$L$5:$L$2481='Local Detail'!$A101)*(Projects!$J$5:$J$2481<>'Local Detail'!$A$136)*(Projects!$M$5:$M$2481)))+(SUMPRODUCT((Projects!$A$5:$A$2481='Local Detail'!$M$3)*(Projects!$C$5:$C$2481<>'MDOT FTA Detail'!$C$4)*(Projects!$L$5:$L$2481='Local Detail'!$A101)*(Projects!$J$5:$J$2481<>'Local Detail'!$A$136)*(Projects!$O$5:$O$2481))))","v":0},{"$f":"M101+N101","v":0}]
["TGR3","TIGER III Discretionary Grant","Local Other FHWA",{"$f":"SUMPRODUCT((Projects!$A$5:$A$2481='Local Detail'!$D$3)*(Projects!$C$5:$C$2481<>'MDOT FTA Detail'!$C$4)*(Projects!$L$5:$L$2481='Local Detail'!$A102)*(Projects!$K$5:$K$2481))","v":0},{"$f":"((SUMPRODUCT((Projects!$A$5:$A$2481='Local Detail'!$D$3)*(Projects!$C$5:$C$2481<>'MDOT FTA Detail'!$C$4)*(Projects!$L$5:$L$2481='Local Detail'!$A102)*(Projects!$J$5:$J$2481<>'Local Detail'!$A$136)*(Projects!$M$5:$M$2481)))+(SUMPRODUCT((Projects!$A$5:$A$2481='Local Detail'!$D$3)*(Projects!$C$5:$C$2481<>'MDOT FTA Detail'!$C$4)*(Projects!$L$5:$L$2481='Local Detail'!$A102)*(Projects!$J$5:$J$2481<>'Local Detail'!$A$136)*(Projects!$O$5:$O$2481))))","v":0},{"$f":"D102+E102","v":0},{"$f":"SUMPRODUCT((Projects!$A$5:$A$2481='Local Detail'!$G$3)*(Projects!$C$5:$C$2481<>'MDOT FTA Detail'!$C$4)*(Projects!$L$5:$L$2481='Local Detail'!$A102)*(Projects!$K$5:$K$2481))","v":0},{"$f":"((SUMPRODUCT((Projects!$A$5:$A$2481='Local Detail'!$G$3)*(Projects!$C$5:$C$2481<>'MDOT FTA Detail'!$C$4)*(Projects!$L$5:$L$2481='Local Detail'!$A102)*(Projects!$J$5:$J$2481<>'Local Detail'!$A$136)*(Projects!$M$5:$M$2481)))+(SUMPRODUCT((Projects!$A$5:$A$2481='Local Detail'!$G$3)*(Projects!$C$5:$C$2481<>'MDOT FTA Detail'!$C$4)*(Projects!$L$5:$L$2481='Local Detail'!$A102)*(Projects!$J$5:$J$2481<>'Local Detail'!$A$136)*(Projects!$O$5:$O$2481))))","v":0},{"$f":"G102+H102","v":0},{"$f":"SUMPRODUCT((Projects!$A$5:$A$2481='Local Detail'!$J$3)*(Projects!$C$5:$C$2481<>'MDOT FTA Detail'!$C$4)*(Projects!$L$5:$L$2481='Local Detail'!$A102)*(Projects!$K$5:$K$2481))","v":0},{"$f":"((SUMPRODUCT((Projects!$A$5:$A$2481='Local Detail'!$J$3)*(Projects!$C$5:$C$2481<>'MDOT FTA Detail'!$C$4)*(Projects!$L$5:$L$2481='Local Detail'!$A102)*(Projects!$J$5:$J$2481<>'Local Detail'!$A$136)*(Projects!$M$5:$M$2481)))+(SUMPRODUCT((Projects!$A$5:$A$2481='Local Detail'!$J$3)*(Projects!$C$5:$C$2481<>'MDOT FTA Detail'!$C$4)*(Projects!$L$5:$L$2481='Local Detail'!$A102)*(Projects!$J$5:$J$2481<>'Local Detail'!$A$136)*(Projects!$O$5:$O$2481))))","v":0},{"$f":"J102+K102","v":0},{"$f":"SUMPRODUCT((Projects!$A$5:$A$2481='Local Detail'!$M$3)*(Projects!$C$5:$C$2481<>'MDOT FTA Detail'!$C$4)*(Projects!$L$5:$L$2481='Local Detail'!$A102)*(Projects!$K$5:$K$2481))","v":0},{"$f":"((SUMPRODUCT((Projects!$A$5:$A$2481='Local Detail'!$M$3)*(Projects!$C$5:$C$2481<>'MDOT FTA Detail'!$C$4)*(Projects!$L$5:$L$2481='Local Detail'!$A102)*(Projects!$J$5:$J$2481<>'Local Detail'!$A$136)*(Projects!$M$5:$M$2481)))+(SUMPRODUCT((Projects!$A$5:$A$2481='Local Detail'!$M$3)*(Projects!$C$5:$C$2481<>'MDOT FTA Detail'!$C$4)*(Projects!$L$5:$L$2481='Local Detail'!$A102)*(Projects!$J$5:$J$2481<>'Local Detail'!$A$136)*(Projects!$O$5:$O$2481))))","v":0},{"$f":"M102+N102","v":0}]
["TIP","Transportation Improvements Projects SAFETEA-LU","Local Other FHWA",{"$f":"SUMPRODUCT((Projects!$A$5:$A$2481='Local Detail'!$D$3)*(Projects!$C$5:$C$2481<>'MDOT FTA Detail'!$C$4)*(Projects!$L$5:$L$2481='Local Detail'!$A103)*(Projects!$K$5:$K$2481))","v":0},{"$f":"((SUMPRODUCT((Projects!$A$5:$A$2481='Local Detail'!$D$3)*(Projects!$C$5:$C$2481<>'MDOT FTA Detail'!$C$4)*(Projects!$L$5:$L$2481='Local Detail'!$A103)*(Projects!$J$5:$J$2481<>'Local Detail'!$A$136)*(Projects!$M$5:$M$2481)))+(SUMPRODUCT((Projects!$A$5:$A$2481='Local Detail'!$D$3)*(Projects!$C$5:$C$2481<>'MDOT FTA Detail'!$C$4)*(Projects!$L$5:$L$2481='Local Detail'!$A103)*(Projects!$J$5:$J$2481<>'Local Detail'!$A$136)*(Projects!$O$5:$O$2481))))","v":0},{"$f":"D103+E103","v":0},{"$f":"SUMPRODUCT((Projects!$A$5:$A$2481='Local Detail'!$G$3)*(Projects!$C$5:$C$2481<>'MDOT FTA Detail'!$C$4)*(Projects!$L$5:$L$2481='Local Detail'!$A103)*(Projects!$K$5:$K$2481))","v":0},{"$f":"((SUMPRODUCT((Projects!$A$5:$A$2481='Local Detail'!$G$3)*(Projects!$C$5:$C$2481<>'MDOT FTA Detail'!$C$4)*(Projects!$L$5:$L$2481='Local Detail'!$A103)*(Projects!$J$5:$J$2481<>'Local Detail'!$A$136)*(Projects!$M$5:$M$2481)))+(SUMPRODUCT((Projects!$A$5:$A$2481='Local Detail'!$G$3)*(Projects!$C$5:$C$2481<>'MDOT FTA Detail'!$C$4)*(Projects!$L$5:$L$2481='Local Detail'!$A103)*(Projects!$J$5:$J$2481<>'Local Detail'!$A$136)*(Projects!$O$5:$O$2481))))","v":0},{"$f":"G103+H103","v":0},{"$f":"SUMPRODUCT((Projects!$A$5:$A$2481='Local Detail'!$J$3)*(Projects!$C$5:$C$2481<>'MDOT FTA Detail'!$C$4)*(Projects!$L$5:$L$2481='Local Detail'!$A103)*(Projects!$K$5:$K$2481))","v":0},{"$f":"((SUMPRODUCT((Projects!$A$5:$A$2481='Local Detail'!$J$3)*(Projects!$C$5:$C$2481<>'MDOT FTA Detail'!$C$4)*(Projects!$L$5:$L$2481='Local Detail'!$A103)*(Projects!$J$5:$J$2481<>'Local Detail'!$A$136)*(Projects!$M$5:$M$2481)))+(SUMPRODUCT((Projects!$A$5:$A$2481='Local Detail'!$J$3)*(Projects!$C$5:$C$2481<>'MDOT FTA Detail'!$C$4)*(Projects!$L$5:$L$2481='Local Detail'!$A103)*(Projects!$J$5:$J$2481<>'Local Detail'!$A$136)*(Projects!$O$5:$O$2481))))","v":0},{"$f":"J103+K103","v":0},{"$f":"SUMPRODUCT((Projects!$A$5:$A$2481='Local Detail'!$M$3)*(Projects!$C$5:$C$2481<>'MDOT FTA Detail'!$C$4)*(Projects!$L$5:$L$2481='Local Detail'!$A103)*(Projects!$K$5:$K$2481))","v":0},{"$f":"((SUMPRODUCT((Projects!$A$5:$A$2481='Local Detail'!$M$3)*(Projects!$C$5:$C$2481<>'MDOT FTA Detail'!$C$4)*(Projects!$L$5:$L$2481='Local Detail'!$A103)*(Projects!$J$5:$J$2481<>'Local Detail'!$A$136)*(Projects!$M$5:$M$2481)))+(SUMPRODUCT((Projects!$A$5:$A$2481='Local Detail'!$M$3)*(Projects!$C$5:$C$2481<>'MDOT FTA Detail'!$C$4)*(Projects!$L$5:$L$2481='Local Detail'!$A103)*(Projects!$J$5:$J$2481<>'Local Detail'!$A$136)*(Projects!$O$5:$O$2481))))","v":0},{"$f":"M103+N103","v":0}]
["TPFD","Truck Parking Faciilities Discretionary","Local Other FHWA",{"$f":"SUMPRODUCT((Projects!$A$5:$A$2481='Local Detail'!$D$3)*(Projects!$C$5:$C$2481<>'MDOT FTA Detail'!$C$4)*(Projects!$L$5:$L$2481='Local Detail'!$A104)*(Projects!$K$5:$K$2481))","v":0},{"$f":"((SUMPRODUCT((Projects!$A$5:$A$2481='Local Detail'!$D$3)*(Projects!$C$5:$C$2481<>'MDOT FTA Detail'!$C$4)*(Projects!$L$5:$L$2481='Local Detail'!$A104)*(Projects!$J$5:$J$2481<>'Local Detail'!$A$136)*(Projects!$M$5:$M$2481)))+(SUMPRODUCT((Projects!$A$5:$A$2481='Local Detail'!$D$3)*(Projects!$C$5:$C$2481<>'MDOT FTA Detail'!$C$4)*(Projects!$L$5:$L$2481='Local Detail'!$A104)*(Projects!$J$5:$J$2481<>'Local Detail'!$A$136)*(Projects!$O$5:$O$2481))))","v":0},0,{"$f":"SUMPRODUCT((Projects!$A$5:$A$2481='Local Detail'!$G$3)*(Projects!$C$5:$C$2481<>'MDOT FTA Detail'!$C$4)*(Projects!$L$5:$L$2481='Local Detail'!$A104)*(Projects!$K$5:$K$2481))","v":0},{"$f":"((SUMPRODUCT((Projects!$A$5:$A$2481='Local Detail'!$G$3)*(Projects!$C$5:$C$2481<>'MDOT FTA Detail'!$C$4)*(Projects!$L$5:$L$2481='Local Detail'!$A104)*(Projects!$J$5:$J$2481<>'Local Detail'!$A$136)*(Projects!$M$5:$M$2481)))+(SUMPRODUCT((Projects!$A$5:$A$2481='Local Detail'!$G$3)*(Projects!$C$5:$C$2481<>'MDOT FTA Detail'!$C$4)*(Projects!$L$5:$L$2481='Local Detail'!$A104)*(Projects!$J$5:$J$2481<>'Local Detail'!$A$136)*(Projects!$O$5:$O$2481))))","v":0},0,{"$f":"SUMPRODUCT((Projects!$A$5:$A$2481='Local Detail'!$J$3)*(Projects!$C$5:$C$2481<>'MDOT FTA Detail'!$C$4)*(Projects!$L$5:$L$2481='Local Detail'!$A104)*(Projects!$K$5:$K$2481))","v":0},{"$f":"((SUMPRODUCT((Projects!$A$5:$A$2481='Local Detail'!$J$3)*(Projects!$C$5:$C$2481<>'MDOT FTA Detail'!$C$4)*(Projects!$L$5:$L$2481='Local Detail'!$A104)*(Projects!$J$5:$J$2481<>'Local Detail'!$A$136)*(Projects!$M$5:$M$2481)))+(SUMPRODUCT((Projects!$A$5:$A$2481='Local Detail'!$J$3)*(Projects!$C$5:$C$2481<>'MDOT FTA Detail'!$C$4)*(Projects!$L$5:$L$2481='Local Detail'!$A104)*(Projects!$J$5:$J$2481<>'Local Detail'!$A$136)*(Projects!$O$5:$O$2481))))","v":0},0,{"$f":"SUMPRODUCT((Projects!$A$5:$A$2481='Local Detail'!$M$3)*(Projects!$C$5:$C$2481<>'MDOT FTA Detail'!$C$4)*(Projects!$L$5:$L$2481='Local Detail'!$A104)*(Projects!$K$5:$K$2481))","v":0},{"$f":"((SUMPRODUCT((Projects!$A$5:$A$2481='Local Detail'!$M$3)*(Projects!$C$5:$C$2481<>'MDOT FTA Detail'!$C$4)*(Projects!$L$5:$L$2481='Local Detail'!$A104)*(Projects!$J$5:$J$2481<>'Local Detail'!$A$136)*(Projects!$M$5:$M$2481)))+(SUMPRODUCT((Projects!$A$5:$A$2481='Local Detail'!$M$3)*(Projects!$C$5:$C$2481<>'MDOT FTA Detail'!$C$4)*(Projects!$L$5:$L$2481='Local Detail'!$A104)*(Projects!$J$5:$J$2481<>'Local Detail'!$A$136)*(Projects!$O$5:$O$2481))))","v":0},0]
["CTF","Comprehensive Transit Fund","Transit","No FF",{"$f":"SUMPRODUCT((Projects!$A$5:$A$2481='Local Detail'!$D$3)*(Projects!$K$5:$K$2481=0)*(Projects!$C$5:$C$2481<>'MDOT FTA Detail'!$C$4)*(Projects!$N$5:$N$2481='Local Detail'!$A105)*(Projects!$J$5:$J$2481<>'Local Detail'!$A$136)*(Projects!$M$5:$M$2481))","v":0},{"$f":"E105","v":0},"No FF",{"$f":"SUMPRODUCT((Projects!$A$5:$A$2481='Local Detail'!$G$3)*(Projects!$K$5:$K$2481=0)*(Projects!$C$5:$C$2481<>'MDOT FTA Detail'!$C$4)*(Projects!$N$5:$N$2481='Local Detail'!$A105)*(Projects!$J$5:$J$2481<>'Local Detail'!$A$136)*(Projects!$M$5:$M$2481))","v":0},{"$f":"H105","v":0},"No FF",{"$f":"SUMPRODUCT((Projects!$A$5:$A$2481='Local Detail'!$J$3)*(Projects!$K$5:$K$2481=0)*(Projects!$C$5:$C$2481<>'MDOT FTA Detail'!$C$4)*(Projects!$N$5:$N$2481='Local Detail'!$A105)*(Projects!$J$5:$J$2481<>'Local Detail'!$A$136)*(Projects!$M$5:$M$2481))","v":0},{"$f":"K105","v":0},"No FF",{"$f":"SUMPRODUCT((Projects!$A$5:$A$2481='Local Detail'!$M$3)*(Projects!$K$5:$K$2481=0)*(Projects!$C$5:$C$2481<>'MDOT FTA Detail'!$C$4)*(Projects!$N$5:$N$2481='Local Detail'!$A105)*(Projects!$J$5:$J$2481<>'Local Detail'!$A$136)*(Projects!$M$5:$M$2481))","v":0},{"$f":"N105","v":0}]
["BI04","Build Michigan Bond Issue 2004","Local Non-Federal","No FF",{"$f":"SUMPRODUCT((Projects!$A$5:$A$2481='Local Detail'!$D$3)*(Projects!$K$5:$K$2481=0)*(Projects!$C$5:$C$2481<>'MDOT FTA Detail'!$C$4)*(Projects!$N$5:$N$2481='Local Detail'!$A106)*(Projects!$J$5:$J$2481<>'Local Detail'!$A$136)*(Projects!$M$5:$M$2481))","v":0},0,"No FF",{"$f":"SUMPRODUCT((Projects!$A$5:$A$2481='Local Detail'!$G$3)*(Projects!$K$5:$K$2481=0)*(Projects!$C$5:$C$2481<>'MDOT FTA Detail'!$C$4)*(Projects!$N$5:$N$2481='Local Detail'!$A106)*(Projects!$J$5:$J$2481<>'Local Detail'!$A$136)*(Projects!$M$5:$M$2481))","v":0},0,"No FF",{"$f":"SUMPRODUCT((Projects!$A$5:$A$2481='Local Detail'!$J$3)*(Projects!$K$5:$K$2481=0)*(Projects!$C$5:$C$2481<>'MDOT FTA Detail'!$C$4)*(Projects!$N$5:$N$2481='Local Detail'!$A106)*(Projects!$J$5:$J$2481<>'Local Detail'!$A$136)*(Projects!$M$5:$M$2481))","v":0},0,"No FF",{"$f":"SUMPRODUCT((Projects!$A$5:$A$2481='Local Detail'!$M$3)*(Projects!$K$5:$K$2481=0)*(Projects!$C$5:$C$2481<>'MDOT FTA Detail'!$C$4)*(Projects!$N$5:$N$2481='Local Detail'!$A106)*(Projects!$J$5:$J$2481<>'Local Detail'!$A$136)*(Projects!$M$5:$M$2481))","v":0},0]
["BI06","Build Michigan Bond Issue 2006","Local Non-Federal","No FF",{"$f":"SUMPRODUCT((Projects!$A$5:$A$2481='Local Detail'!$D$3)*(Projects!$K$5:$K$2481=0)*(Projects!$C$5:$C$2481<>'MDOT FTA Detail'!$C$4)*(Projects!$N$5:$N$2481='Local Detail'!$A107)*(Projects!$J$5:$J$2481<>'Local Detail'!$A$136)*(Projects!$M$5:$M$2481))","v":0},0,"No FF",{"$f":"SUMPRODUCT((Projects!$A$5:$A$2481='Local Detail'!$G$3)*(Projects!$K$5:$K$2481=0)*(Projects!$C$5:$C$2481<>'MDOT FTA Detail'!$C$4)*(Projects!$N$5:$N$2481='Local Detail'!$A107)*(Projects!$J$5:$J$2481<>'Local Detail'!$A$136)*(Projects!$M$5:$M$2481))","v":0},0,"No FF",{"$f":"SUMPRODUCT((Projects!$A$5:$A$2481='Local Detail'!$J$3)*(Projects!$K$5:$K$2481=0)*(Projects!$C$5:$C$2481<>'MDOT FTA Detail'!$C$4)*(Projects!$N$5:$N$2481='Local Detail'!$A107)*(Projects!$J$5:$J$2481<>'Local Detail'!$A$136)*(Projects!$M$5:$M$2481))","v":0},0,"No FF",{"$f":"SUMPRODUCT((Projects!$A$5:$A$2481='Local Detail'!$M$3)*(Projects!$K$5:$K$2481=0)*(Projects!$C$5:$C$2481<>'MDOT FTA Detail'!$C$4)*(Projects!$N$5:$N$2481='Local Detail'!$A107)*(Projects!$J$5:$J$2481<>'Local Detail'!$A$136)*(Projects!$M$5:$M$2481))","v":0},0]
["BI08","Build Michigan Bond Issue 2008","Local Non-Federal","No FF",{"$f":"SUMPRODUCT((Projects!$A$5:$A$2481='Local Detail'!$D$3)*(Projects!$K$5:$K$2481=0)*(Projects!$C$5:$C$2481<>'MDOT FTA Detail'!$C$4)*(Projects!$N$5:$N$2481='Local Detail'!$A108)*(Projects!$J$5:$J$2481<>'Local Detail'!$A$136)*(Projects!$M$5:$M$2481))","v":0},0,"No FF",{"$f":"SUMPRODUCT((Projects!$A$5:$A$2481='Local Detail'!$G$3)*(Projects!$K$5:$K$2481=0)*(Projects!$C$5:$C$2481<>'MDOT FTA Detail'!$C$4)*(Projects!$N$5:$N$2481='Local Detail'!$A108)*(Projects!$J$5:$J$2481<>'Local Detail'!$A$136)*(Projects!$M$5:$M$2481))","v":0},0,"No FF",{"$f":"SUMPRODUCT((Projects!$A$5:$A$2481='Local Detail'!$J$3)*(Projects!$K$5:$K$2481=0)*(Projects!$C$5:$C$2481<>'MDOT FTA Detail'!$C$4)*(Projects!$N$5:$N$2481='Local Detail'!$A108)*(Projects!$J$5:$J$2481<>'Local Detail'!$A$136)*(Projects!$M$5:$M$2481))","v":0},0,"No FF",{"$f":"SUMPRODUCT((Projects!$A$5:$A$2481='Local Detail'!$M$3)*(Projects!$K$5:$K$2481=0)*(Projects!$C$5:$C$2481<>'MDOT FTA Detail'!$C$4)*(Projects!$N$5:$N$2481='Local Detail'!$A108)*(Projects!$J$5:$J$2481<>'Local Detail'!$A$136)*(Projects!$M$5:$M$2481))","v":0},0]
["BT01","Bond Trunkline Roads for First Issue","Local Non-Federal","No FF",{"$f":"SUMPRODUCT((Projects!$A$5:$A$2481='Local Detail'!$D$3)*(Projects!$K$5:$K$2481=0)*(Projects!$C$5:$C$2481<>'MDOT FTA Detail'!$C$4)*(Projects!$N$5:$N$2481='Local Detail'!$A109)*(Projects!$J$5:$J$2481<>'Local Detail'!$A$136)*(Projects!$M$5:$M$2481))","v":0},0,"No FF",{"$f":"SUMPRODUCT((Projects!$A$5:$A$2481='Local Detail'!$G$3)*(Projects!$K$5:$K$2481=0)*(Projects!$C$5:$C$2481<>'MDOT FTA Detail'!$C$4)*(Projects!$N$5:$N$2481='Local Detail'!$A109)*(Projects!$J$5:$J$2481<>'Local Detail'!$A$136)*(Projects!$M$5:$M$2481))","v":0},0,"No FF",{"$f":"SUMPRODUCT((Projects!$A$5:$A$2481='Local Detail'!$J$3)*(Projects!$K$5:$K$2481=0)*(Projects!$C$5:$C$2481<>'MDOT FTA Detail'!$C$4)*(Projects!$N$5:$N$2481='Local Detail'!$A109)*(Projects!$J$5:$J$2481<>'Local Detail'!$A$136)*(Projects!$M$5:$M$2481))","v":0},0,"No FF",{"$f":"SUMPRODUCT((Projects!$A$5:$A$2481='Local Detail'!$M$3)*(Projects!$K$5:$K$2481=0)*(Projects!$C$5:$C$2481<>'MDOT FTA Detail'!$C$4)*(Projects!$N$5:$N$2481='Local Detail'!$A109)*(Projects!$J$5:$J$2481<>'Local Detail'!$A$136)*(Projects!$M$5:$M$2481))","v":0},0]
["EDA","Economic Development - Category A","Local Non-Federal","No FF",{"$f":"SUMPRODUCT((Projects!$A$5:$A$2481='Local Detail'!$D$3)*(Projects!$K$5:$K$2481=0)*(Projects!$C$5:$C$2481<>'MDOT FTA Detail'!$C$4)*(Projects!$N$5:$N$2481='Local Detail'!$A110)*(Projects!$J$5:$J$2481<>'Local Detail'!$A$136)*(Projects!$M$5:$M$2481))","v":0},0,"No FF",{"$f":"SUMPRODUCT((Projects!$A$5:$A$2481='Local Detail'!$G$3)*(Projects!$K$5:$K$2481=0)*(Projects!$C$5:$C$2481<>'MDOT FTA Detail'!$C$4)*(Projects!$N$5:$N$2481='Local Detail'!$A110)*(Projects!$J$5:$J$2481<>'Local Detail'!$A$136)*(Projects!$M$5:$M$2481))","v":0},0,"No FF",{"$f":"SUMPRODUCT((Projects!$A$5:$A$2481='Local Detail'!$J$3)*(Projects!$K$5:$K$2481=0)*(Projects!$C$5:$C$2481<>'MDOT FTA Detail'!$C$4)*(Projects!$N$5:$N$2481='Local Detail'!$A110)*(Projects!$J$5:$J$2481<>'Local Detail'!$A$136)*(Projects!$M$5:$M$2481))","v":0},0,"No FF",{"$f":"SUMPRODUCT((Projects!$A$5:$A$2481='Local Detail'!$M$3)*(Projects!$K$5:$K$2481=0)*(Projects!$C$5:$C$2481<>'MDOT FTA Detail'!$C$4)*(Projects!$N$5:$N$2481='Local Detail'!$A110)*(Projects!$J$5:$J$2481<>'Local Detail'!$A$136)*(Projects!$M$5:$M$2481))","v":0},0]
["EDC","Economic Development - Category C","Local Non-Federal","No FF",{"$f":"SUMPRODUCT((Projects!$A$5:$A$2481='Local Detail'!$D$3)*(Projects!$K$5:$K$2481=0)*(Projects!$C$5:$C$2481<>'MDOT FTA Detail'!$C$4)*(Projects!$N$5:$N$2481='Local Detail'!$A111)*(Projects!$J$5:$J$2481<>'Local Detail'!$A$136)*(Projects!$M$5:$M$2481))","v":0},0,"No FF",{"$f":"SUMPRODUCT((Projects!$A$5:$A$2481='Local Detail'!$G$3)*(Projects!$K$5:$K$2481=0)*(Projects!$C$5:$C$2481<>'MDOT FTA Detail'!$C$4)*(Projects!$N$5:$N$2481='Local Detail'!$A111)*(Projects!$J$5:$J$2481<>'Local Detail'!$A$136)*(Projects!$M$5:$M$2481))","v":0},0,"No FF",{"$f":"SUMPRODUCT((Projects!$A$5:$A$2481='Local Detail'!$J$3)*(Projects!$K$5:$K$2481=0)*(Projects!$C$5:$C$2481<>'MDOT FTA Detail'!$C$4)*(Projects!$N$5:$N$2481='Local Detail'!$A111)*(Projects!$J$5:$J$2481<>'Local Detail'!$A$136)*(Projects!$M$5:$M$2481))","v":0},0,"No FF",{"$f":"SUMPRODUCT((Projects!$A$5:$A$2481='Local Detail'!$M$3)*(Projects!$K$5:$K$2481=0)*(Projects!$C$5:$C$2481<>'MDOT FTA Detail'!$C$4)*(Projects!$N$5:$N$2481='Local Detail'!$A111)*(Projects!$J$5:$J$2481<>'Local Detail'!$A$136)*(Projects!$M$5:$M$2481))","v":0},0]
["EDD","Economic Development - Category D","Local Non-Federal","No FF",{"$f":"SUMPRODUCT((Projects!$A$5:$A$2481='Local Detail'!$D$3)*(Projects!$K$5:$K$2481=0)*(Projects!$C$5:$C$2481<>'MDOT FTA Detail'!$C$4)*(Projects!$N$5:$N$2481='Local Detail'!$A112)*(Projects!$J$5:$J$2481<>'Local Detail'!$A$136)*(Projects!$M$5:$M$2481))","v":0},0,"No FF",{"$f":"SUMPRODUCT((Projects!$A$5:$A$2481='Local Detail'!$G$3)*(Projects!$K$5:$K$2481=0)*(Projects!$C$5:$C$2481<>'MDOT FTA Detail'!$C$4)*(Projects!$N$5:$N$2481='Local Detail'!$A112)*(Projects!$J$5:$J$2481<>'Local Detail'!$A$136)*(Projects!$M$5:$M$2481))","v":0},0,"No FF",{"$f":"SUMPRODUCT((Projects!$A$5:$A$2481='Local Detail'!$J$3)*(Projects!$K$5:$K$2481=0)*(Projects!$C$5:$C$2481<>'MDOT FTA Detail'!$C$4)*(Projects!$N$5:$N$2481='Local Detail'!$A112)*(Projects!$J$5:$J$2481<>'Local Detail'!$A$136)*(Projects!$M$5:$M$2481))","v":0},0,"No FF",{"$f":"SUMPRODUCT((Projects!$A$5:$A$2481='Local Detail'!$M$3)*(Projects!$K$5:$K$2481=0)*(Projects!$C$5:$C$2481<>'MDOT FTA Detail'!$C$4)*(Projects!$N$5:$N$2481='Local Detail'!$A112)*(Projects!$J$5:$J$2481<>'Local Detail'!$A$136)*(Projects!$M$5:$M$2481))","v":0},0]
["EDF","Economic Development - Category F","Local Non-Federal","No FF",{"$f":"SUMPRODUCT((Projects!$A$5:$A$2481='Local Detail'!$D$3)*(Projects!$K$5:$K$2481=0)*(Projects!$C$5:$C$2481<>'MDOT FTA Detail'!$C$4)*(Projects!$N$5:$N$2481='Local Detail'!$A113)*(Projects!$J$5:$J$2481<>'Local Detail'!$A$136)*(Projects!$M$5:$M$2481))","v":0},0,"No FF",{"$f":"SUMPRODUCT((Projects!$A$5:$A$2481='Local Detail'!$G$3)*(Projects!$K$5:$K$2481=0)*(Projects!$C$5:$C$2481<>'MDOT FTA Detail'!$C$4)*(Projects!$N$5:$N$2481='Local Detail'!$A113)*(Projects!$J$5:$J$2481<>'Local Detail'!$A$136)*(Projects!$M$5:$M$2481))","v":0},0,"No FF",{"$f":"SUMPRODUCT((Projects!$A$5:$A$2481='Local Detail'!$J$3)*(Projects!$K$5:$K$2481=0)*(Projects!$C$5:$C$2481<>'MDOT FTA Detail'!$C$4)*(Projects!$N$5:$N$2481='Local Detail'!$A113)*(Projects!$J$5:$J$2481<>'Local Detail'!$A$136)*(Projects!$M$5:$M$2481))","v":0},0,"No FF",{"$f":"SUMPRODUCT((Projects!$A$5:$A$2481='Local Detail'!$M$3)*(Projects!$K$5:$K$2481=0)*(Projects!$C$5:$C$2481<>'MDOT FTA Detail'!$C$4)*(Projects!$N$5:$N$2481='Local Detail'!$A113)*(Projects!$J$5:$J$2481<>'Local Detail'!$A$136)*(Projects!$M$5:$M$2481))","v":0},0]
["JT07","Jobs Today Bond Issue 2007 GARVEE (State AC for Federal GARVEE Bonds)","Local Non-Federal","No FF",{"$f":"SUMPRODUCT((Projects!$A$5:$A$2481='Local Detail'!$D$3)*(Projects!$K$5:$K$2481=0)*(Projects!$C$5:$C$2481<>'MDOT FTA Detail'!$C$4)*(Projects!$N$5:$N$2481='Local Detail'!$A114)*(Projects!$J$5:$J$2481<>'Local Detail'!$A$136)*(Projects!$M$5:$M$2481))","v":0},0,"No FF",{"$f":"SUMPRODUCT((Projects!$A$5:$A$2481='Local Detail'!$G$3)*(Projects!$K$5:$K$2481=0)*(Projects!$C$5:$C$2481<>'MDOT FTA Detail'!$C$4)*(Projects!$N$5:$N$2481='Local Detail'!$A114)*(Projects!$J$5:$J$2481<>'Local Detail'!$A$136)*(Projects!$M$5:$M$2481))","v":0},0,"No FF",{"$f":"SUMPRODUCT((Projects!$A$5:$A$2481='Local Detail'!$J$3)*(Projects!$K$5:$K$2481=0)*(Projects!$C$5:$C$2481<>'MDOT FTA Detail'!$C$4)*(Projects!$N$5:$N$2481='Local Detail'!$A114)*(Projects!$J$5:$J$2481<>'Local Detail'!$A$136)*(Projects!$M$5:$M$2481))","v":0},0,"No FF",{"$f":"SUMPRODUCT((Projects!$A$5:$A$2481='Local Detail'!$M$3)*(Projects!$K$5:$K$2481=0)*(Projects!$C$5:$C$2481<>'MDOT FTA Detail'!$C$4)*(Projects!$N$5:$N$2481='Local Detail'!$A114)*(Projects!$J$5:$J$2481<>'Local Detail'!$A$136)*(Projects!$M$5:$M$2481))","v":0},0]
["LFMP","Local Fund Match Program - 100% Local","Local Non-Federal","No FF",{"$f":"SUMPRODUCT((Projects!$A$5:$A$2481='Local Detail'!$D$3)*(Projects!$K$5:$K$2481=0)*(Projects!$C$5:$C$2481<>'MDOT FTA Detail'!$C$4)*(Projects!$N$5:$N$2481='Local Detail'!$A115)*(Projects!$J$5:$J$2481<>'Local Detail'!$A$136)*(Projects!$M$5:$M$2481))","v":0},0,"No FF",{"$f":"SUMPRODUCT((Projects!$A$5:$A$2481='Local Detail'!$G$3)*(Projects!$K$5:$K$2481=0)*(Projects!$C$5:$C$2481<>'MDOT FTA Detail'!$C$4)*(Projects!$N$5:$N$2481='Local Detail'!$A115)*(Projects!$J$5:$J$2481<>'Local Detail'!$A$136)*(Projects!$M$5:$M$2481))","v":0},0,"No FF",{"$f":"SUMPRODUCT((Projects!$A$5:$A$2481='Local Detail'!$J$3)*(Projects!$K$5:$K$2481=0)*(Projects!$C$5:$C$2481<>'MDOT FTA Detail'!$C$4)*(Projects!$N$5:$N$2481='Local Detail'!$A115)*(Projects!$J$5:$J$2481<>'Local Detail'!$A$136)*(Projects!$M$5:$M$2481))","v":0},0,"No FF",{"$f":"SUMPRODUCT((Projects!$A$5:$A$2481='Local Detail'!$M$3)*(Projects!$K$5:$K$2481=0)*(Projects!$C$5:$C$2481<>'MDOT FTA Detail'!$C$4)*(Projects!$N$5:$N$2481='Local Detail'!$A115)*(Projects!$J$5:$J$2481<>'Local Detail'!$A$136)*(Projects!$M$5:$M$2481))","v":0},0]
["M","State Funds - Michigan Betterment","Local Non-Federal","No FF",{"$f":"SUMPRODUCT((Projects!$A$5:$A$2481='Local Detail'!$D$3)*(Projects!$K$5:$K$2481=0)*(Projects!$C$5:$C$2481<>'MDOT FTA Detail'!$C$4)*(Projects!$N$5:$N$2481='Local Detail'!$A116)*(Projects!$J$5:$J$2481<>'Local Detail'!$A$136)*(Projects!$M$5:$M$2481))","v":0},0,"No FF",{"$f":"SUMPRODUCT((Projects!$A$5:$A$2481='Local Detail'!$G$3)*(Projects!$K$5:$K$2481=0)*(Projects!$C$5:$C$2481<>'MDOT FTA Detail'!$C$4)*(Projects!$N$5:$N$2481='Local Detail'!$A116)*(Projects!$J$5:$J$2481<>'Local Detail'!$A$136)*(Projects!$M$5:$M$2481))","v":0},0,"No FF",{"$f":"SUMPRODUCT((Projects!$A$5:$A$2481='Local Detail'!$J$3)*(Projects!$K$5:$K$2481=0)*(Projects!$C$5:$C$2481<>'MDOT FTA Detail'!$C$4)*(Projects!$N$5:$N$2481='Local Detail'!$A116)*(Projects!$J$5:$J$2481<>'Local Detail'!$A$136)*(Projects!$M$5:$M$2481))","v":0},0,"No FF",{"$f":"SUMPRODUCT((Projects!$A$5:$A$2481='Local Detail'!$M$3)*(Projects!$K$5:$K$2481=0)*(Projects!$C$5:$C$2481<>'MDOT FTA Detail'!$C$4)*(Projects!$N$5:$N$2481='Local Detail'!$A116)*(Projects!$J$5:$J$2481<>'Local Detail'!$A$136)*(Projects!$M$5:$M$2481))","v":0},0]
["MBS","Michigan Budget Stabilization","Local Non-Federal","No FF",{"$f":"SUMPRODUCT((Projects!$A$5:$A$2481='Local Detail'!$D$3)*(Projects!$K$5:$K$2481=0)*(Projects!$C$5:$C$2481<>'MDOT FTA Detail'!$C$4)*(Projects!$N$5:$N$2481='Local Detail'!$A117)*(Projects!$J$5:$J$2481<>'Local Detail'!$A$136)*(Projects!$M$5:$M$2481))","v":0},0,"No FF",{"$f":"SUMPRODUCT((Projects!$A$5:$A$2481='Local Detail'!$G$3)*(Projects!$K$5:$K$2481=0)*(Projects!$C$5:$C$2481<>'MDOT FTA Detail'!$C$4)*(Projects!$N$5:$N$2481='Local Detail'!$A117)*(Projects!$J$5:$J$2481<>'Local Detail'!$A$136)*(Projects!$M$5:$M$2481))","v":0},0,"No FF",{"$f":"SUMPRODUCT((Projects!$A$5:$A$2481='Local Detail'!$J$3)*(Projects!$K$5:$K$2481=0)*(Projects!$C$5:$C$2481<>'MDOT FTA Detail'!$C$4)*(Projects!$N$5:$N$2481='Local Detail'!$A117)*(Projects!$J$5:$J$2481<>'Local Detail'!$A$136)*(Projects!$M$5:$M$2481))","v":0},0,"No FF",{"$f":"SUMPRODUCT((Projects!$A$5:$A$2481='Local Detail'!$M$3)*(Projects!$K$5:$K$2481=0)*(Projects!$C$5:$C$2481<>'MDOT FTA Detail'!$C$4)*(Projects!$N$5:$N$2481='Local Detail'!$A117)*(Projects!$J$5:$J$2481<>'Local Detail'!$A$136)*(Projects!$M$5:$M$2481))","v":0},0]
["MBWB","Michigan Blue Water Bridge","Local Non-Federal","No FF",{"$f":"SUMPRODUCT((Projects!$A$5:$A$2481='Local Detail'!$D$3)*(Projects!$K$5:$K$2481=0)*(Projects!$C$5:$C$2481<>'MDOT FTA Detail'!$C$4)*(Projects!$N$5:$N$2481='Local Detail'!$A118)*(Projects!$J$5:$J$2481<>'Local Detail'!$A$136)*(Projects!$M$5:$M$2481))","v":0},0,"No FF",{"$f":"SUMPRODUCT((Projects!$A$5:$A$2481='Local Detail'!$G$3)*(Projects!$K$5:$K$2481=0)*(Projects!$C$5:$C$2481<>'MDOT FTA Detail'!$C$4)*(Projects!$N$5:$N$2481='Local Detail'!$A118)*(Projects!$J$5:$J$2481<>'Local Detail'!$A$136)*(Projects!$M$5:$M$2481))","v":0},0,"No FF",{"$f":"SUMPRODUCT((Projects!$A$5:$A$2481='Local Detail'!$J$3)*(Projects!$K$5:$K$2481=0)*(Projects!$C$5:$C$2481<>'MDOT FTA Detail'!$C$4)*(Projects!$N$5:$N$2481='Local Detail'!$A118)*(Projects!$J$5:$J$2481<>'Local Detail'!$A$136)*(Projects!$M$5:$M$2481))","v":0},0,"No FF",{"$f":"SUMPRODUCT((Projects!$A$5:$A$2481='Local Detail'!$M$3)*(Projects!$K$5:$K$2481=0)*(Projects!$C$5:$C$2481<>'MDOT FTA Detail'!$C$4)*(Projects!$N$5:$N$2481='Local Detail'!$A118)*(Projects!$J$5:$J$2481<>'Local Detail'!$A$136)*(Projects!$M$5:$M$2481))","v":0},0]
["MCS","State Funds - Critical Structures","Local Non-Federal","No FF",{"$f":"SUMPRODUCT((Projects!$A$5:$A$2481='Local Detail'!$D$3)*(Projects!$K$5:$K$2481=0)*(Projects!$C$5:$C$2481<>'MDOT FTA Detail'!$C$4)*(Projects!$N$5:$N$2481='Local Detail'!$A119)*(Projects!$J$5:$J$2481<>'Local Detail'!$A$136)*(Projects!$M$5:$M$2481))","v":0},0,"No FF",{"$f":"SUMPRODUCT((Projects!$A$5:$A$2481='Local Detail'!$G$3)*(Projects!$K$5:$K$2481=0)*(Projects!$C$5:$C$2481<>'MDOT FTA Detail'!$C$4)*(Projects!$N$5:$N$2481='Local Detail'!$A119)*(Projects!$J$5:$J$2481<>'Local Detail'!$A$136)*(Projects!$M$5:$M$2481))","v":0},0,"No FF",{"$f":"SUMPRODUCT((Projects!$A$5:$A$2481='Local Detail'!$J$3)*(Projects!$K$5:$K$2481=0)*(Projects!$C$5:$C$2481<>'MDOT FTA Detail'!$C$4)*(Projects!$N$5:$N$2481='Local Detail'!$A119)*(Projects!$J$5:$J$2481<>'Local Detail'!$A$136)*(Projects!$M$5:$M$2481))","v":0},0,"No FF",{"$f":"SUMPRODUCT((Projects!$A$5:$A$2481='Local Detail'!$M$3)*(Projects!$K$5:$K$2481=0)*(Projects!$C$5:$C$2481<>'MDOT FTA Detail'!$C$4)*(Projects!$N$5:$N$2481='Local Detail'!$A119)*(Projects!$J$5:$J$2481<>'Local Detail'!$A$136)*(Projects!$M$5:$M$2481))","v":0},0]
["MDA","Drainage Assessment","Local Non-Federal","No FF",{"$f":"SUMPRODUCT((Projects!$A$5:$A$2481='Local Detail'!$D$3)*(Projects!$K$5:$K$2481=0)*(Projects!$C$5:$C$2481<>'MDOT FTA Detail'!$C$4)*(Projects!$N$5:$N$2481='Local Detail'!$A120)*(Projects!$J$5:$J$2481<>'Local Detail'!$A$136)*(Projects!$M$5:$M$2481))","v":0},0,"No FF",{"$f":"SUMPRODUCT((Projects!$A$5:$A$2481='Local Detail'!$G$3)*(Projects!$K$5:$K$2481=0)*(Projects!$C$5:$C$2481<>'MDOT FTA Detail'!$C$4)*(Projects!$N$5:$N$2481='Local Detail'!$A120)*(Projects!$J$5:$J$2481<>'Local Detail'!$A$136)*(Projects!$M$5:$M$2481))","v":0},0,"No FF",{"$f":"SUMPRODUCT((Projects!$A$5:$A$2481='Local Detail'!$J$3)*(Projects!$K$5:$K$2481=0)*(Projects!$C$5:$C$2481<>'MDOT FTA Detail'!$C$4)*(Projects!$N$5:$N$2481='Local Detail'!$A120)*(Projects!$J$5:$J$2481<>'Local Detail'!$A$136)*(Projects!$M$5:$M$2481))","v":0},0,"No FF",{"$f":"SUMPRODUCT((Projects!$A$5:$A$2481='Local Detail'!$M$3)*(Projects!$K$5:$K$2481=0)*(Projects!$C$5:$C$2481<>'MDOT FTA Detail'!$C$4)*(Projects!$N$5:$N$2481='Local Detail'!$A120)*(Projects!$J$5:$J$2481<>'Local Detail'!$A$136)*(Projects!$M$5:$M$2481))","v":0},0]
["MER","Emergency Program","Local Non-Federal","No FF",{"$f":"SUMPRODUCT((Projects!$A$5:$A$2481='Local Detail'!$D$3)*(Projects!$K$5:$K$2481=0)*(Projects!$C$5:$C$2481<>'MDOT FTA Detail'!$C$4)*(Projects!$N$5:$N$2481='Local Detail'!$A121)*(Projects!$J$5:$J$2481<>'Local Detail'!$A$136)*(Projects!$M$5:$M$2481))","v":0},0,"No FF",{"$f":"SUMPRODUCT((Projects!$A$5:$A$2481='Local Detail'!$G$3)*(Projects!$K$5:$K$2481=0)*(Projects!$C$5:$C$2481<>'MDOT FTA Detail'!$C$4)*(Projects!$N$5:$N$2481='Local Detail'!$A121)*(Projects!$J$5:$J$2481<>'Local Detail'!$A$136)*(Projects!$M$5:$M$2481))","v":0},0,"No FF",{"$f":"SUMPRODUCT((Projects!$A$5:$A$2481='Local Detail'!$J$3)*(Projects!$K$5:$K$2481=0)*(Projects!$C$5:$C$2481<>'MDOT FTA Detail'!$C$4)*(Projects!$N$5:$N$2481='Local Detail'!$A121)*(Projects!$J$5:$J$2481<>'Local Detail'!$A$136)*(Projects!$M$5:$M$2481))","v":0},0,"No FF",{"$f":"SUMPRODUCT((Projects!$A$5:$A$2481='Local Detail'!$M$3)*(Projects!$K$5:$K$2481=0)*(Projects!$C$5:$C$2481<>'MDOT FTA Detail'!$C$4)*(Projects!$N$5:$N$2481='Local Detail'!$A121)*(Projects!$J$5:$J$2481<>'Local Detail'!$A$136)*(Projects!$M$5:$M$2481))","v":0},0]
["MIR","State Funds - Institutional Roads","Local Non-Federal","No FF",{"$f":"SUMPRODUCT((Projects!$A$5:$A$2481='Local Detail'!$D$3)*(Projects!$K$5:$K$2481=0)*(Projects!$C$5:$C$2481<>'MDOT FTA Detail'!$C$4)*(Projects!$N$5:$N$2481='Local Detail'!$A122)*(Projects!$J$5:$J$2481<>'Local Detail'!$A$136)*(Projects!$M$5:$M$2481))","v":0},0,"No FF",{"$f":"SUMPRODUCT((Projects!$A$5:$A$2481='Local Detail'!$G$3)*(Projects!$K$5:$K$2481=0)*(Projects!$C$5:$C$2481<>'MDOT FTA Detail'!$C$4)*(Projects!$N$5:$N$2481='Local Detail'!$A122)*(Projects!$J$5:$J$2481<>'Local Detail'!$A$136)*(Projects!$M$5:$M$2481))","v":0},0,"No FF",{"$f":"SUMPRODUCT((Projects!$A$5:$A$2481='Local Detail'!$J$3)*(Projects!$K$5:$K$2481=0)*(Projects!$C$5:$C$2481<>'MDOT FTA Detail'!$C$4)*(Projects!$N$5:$N$2481='Local Detail'!$A122)*(Projects!$J$5:$J$2481<>'Local Detail'!$A$136)*(Projects!$M$5:$M$2481))","v":0},0,"No FF",{"$f":"SUMPRODUCT((Projects!$A$5:$A$2481='Local Detail'!$M$3)*(Projects!$K$5:$K$2481=0)*(Projects!$C$5:$C$2481<>'MDOT FTA Detail'!$C$4)*(Projects!$N$5:$N$2481='Local Detail'!$A122)*(Projects!$J$5:$J$2481<>'Local Detail'!$A$136)*(Projects!$M$5:$M$2481))","v":0},0]
["MRR","Michigan Railroad","Local Non-Federal","No FF",{"$f":"SUMPRODUCT((Projects!$A$5:$A$2481='Local Detail'!$D$3)*(Projects!$K$5:$K$2481=0)*(Projects!$C$5:$C$2481<>'MDOT FTA Detail'!$C$4)*(Projects!$N$5:$N$2481='Local Detail'!$A123)*(Projects!$J$5:$J$2481<>'Local Detail'!$A$136)*(Projects!$M$5:$M$2481))","v":0},0,"No FF",{"$f":"SUMPRODUCT((Projects!$A$5:$A$2481='Local Detail'!$G$3)*(Projects!$K$5:$K$2481=0)*(Projects!$C$5:$C$2481<>'MDOT FTA Detail'!$C$4)*(Projects!$N$5:$N$2481='Local Detail'!$A123)*(Projects!$J$5:$J$2481<>'Local Detail'!$A$136)*(Projects!$M$5:$M$2481))","v":0},0,"No FF",{"$f":"SUMPRODUCT((Projects!$A$5:$A$2481='Local Detail'!$J$3)*(Projects!$K$5:$K$2481=0)*(Projects!$C$5:$C$2481<>'MDOT FTA Detail'!$C$4)*(Projects!$N$5:$N$2481='Local Detail'!$A123)*(Projects!$J$5:$J$2481<>'Local Detail'!$A$136)*(Projects!$M$5:$M$2481))","v":0},0,"No FF",{"$f":"SUMPRODUCT((Projects!$A$5:$A$2481='Local Detail'!$M$3)*(Projects!$K$5:$K$2481=0)*(Projects!$C$5:$C$2481<>'MDOT FTA Detail'!$C$4)*(Projects!$N$5:$N$2481='Local Detail'!$A123)*(Projects!$J$5:$J$2481<>'Local Detail'!$A$136)*(Projects!$M$5:$M$2481))","v":0},0]
["MRRF","Michigan Revolving Real Estate Fund","Local Non-Federal","No FF",{"$f":"SUMPRODUCT((Projects!$A$5:$A$2481='Local Detail'!$D$3)*(Projects!$K$5:$K$2481=0)*(Projects!$C$5:$C$2481<>'MDOT FTA Detail'!$C$4)*(Projects!$N$5:$N$2481='Local Detail'!$A124)*(Projects!$J$5:$J$2481<>'Local Detail'!$A$136)*(Projects!$M$5:$M$2481))","v":0},0,"No FF",{"$f":"SUMPRODUCT((Projects!$A$5:$A$2481='Local Detail'!$G$3)*(Projects!$K$5:$K$2481=0)*(Projects!$C$5:$C$2481<>'MDOT FTA Detail'!$C$4)*(Projects!$N$5:$N$2481='Local Detail'!$A124)*(Projects!$J$5:$J$2481<>'Local Detail'!$A$136)*(Projects!$M$5:$M$2481))","v":0},0,"No FF",{"$f":"SUMPRODUCT((Projects!$A$5:$A$2481='Local Detail'!$J$3)*(Projects!$K$5:$K$2481=0)*(Projects!$C$5:$C$2481<>'MDOT FTA Detail'!$C$4)*(Projects!$N$5:$N$2481='Local Detail'!$A124)*(Projects!$J$5:$J$2481<>'Local Detail'!$A$136)*(Projects!$M$5:$M$2481))","v":0},0,"No FF",{"$f":"SUMPRODUCT((Projects!$A$5:$A$2481='Local Detail'!$M$3)*(Projects!$K$5:$K$2481=0)*(Projects!$C$5:$C$2481<>'MDOT FTA Detail'!$C$4)*(Projects!$N$5:$N$2481='Local Detail'!$A124)*(Projects!$J$5:$J$2481<>'Local Detail'!$A$136)*(Projects!$M$5:$M$2481))","v":0},0]
["MS","Safety Program","Local Non-Federal","No FF",{"$f":"SUMPRODUCT((Projects!$A$5:$A$2481='Local Detail'!$D$3)*(Projects!$K$5:$K$2481=0)*(Projects!$C$5:$C$2481<>'MDOT FTA Detail'!$C$4)*(Projects!$N$5:$N$2481='Local Detail'!$A125)*(Projects!$J$5:$J$2481<>'Local Detail'!$A$136)*(Projects!$M$5:$M$2481))","v":0},0,"No FF",{"$f":"SUMPRODUCT((Projects!$A$5:$A$2481='Local Detail'!$G$3)*(Projects!$K$5:$K$2481=0)*(Projects!$C$5:$C$2481<>'MDOT FTA Detail'!$C$4)*(Projects!$N$5:$N$2481='Local Detail'!$A125)*(Projects!$J$5:$J$2481<>'Local Detail'!$A$136)*(Projects!$M$5:$M$2481))","v":0},0,"No FF",{"$f":"SUMPRODUCT((Projects!$A$5:$A$2481='Local Detail'!$J$3)*(Projects!$K$5:$K$2481=0)*(Projects!$C$5:$C$2481<>'MDOT FTA Detail'!$C$4)*(Projects!$N$5:$N$2481='Local Detail'!$A125)*(Projects!$J$5:$J$2481<>'Local Detail'!$A$136)*(Projects!$M$5:$M$2481))","v":0},0,"No FF",{"$f":"SUMPRODUCT((Projects!$A$5:$A$2481='Local Detail'!$M$3)*(Projects!$K$5:$K$2481=0)*(Projects!$C$5:$C$2481<>'MDOT FTA Detail'!$C$4)*(Projects!$N$5:$N$2481='Local Detail'!$A125)*(Projects!$J$5:$J$2481<>'Local Detail'!$A$136)*(Projects!$M$5:$M$2481))","v":0},0]
["MTB","Turnback Program","Local Non-Federal","No FF",{"$f":"SUMPRODUCT((Projects!$A$5:$A$2481='Local Detail'!$D$3)*(Projects!$K$5:$K$2481=0)*(Projects!$C$5:$C$2481<>'MDOT FTA Detail'!$C$4)*(Projects!$N$5:$N$2481='Local Detail'!$A126)*(Projects!$J$5:$J$2481<>'Local Detail'!$A$136)*(Projects!$M$5:$M$2481))","v":0},0,"No FF",{"$f":"SUMPRODUCT((Projects!$A$5:$A$2481='Local Detail'!$G$3)*(Projects!$K$5:$K$2481=0)*(Projects!$C$5:$C$2481<>'MDOT FTA Detail'!$C$4)*(Projects!$N$5:$N$2481='Local Detail'!$A126)*(Projects!$J$5:$J$2481<>'Local Detail'!$A$136)*(Projects!$M$5:$M$2481))","v":0},0,"No FF",{"$f":"SUMPRODUCT((Projects!$A$5:$A$2481='Local Detail'!$J$3)*(Projects!$K$5:$K$2481=0)*(Projects!$C$5:$C$2481<>'MDOT FTA Detail'!$C$4)*(Projects!$N$5:$N$2481='Local Detail'!$A126)*(Projects!$J$5:$J$2481<>'Local Detail'!$A$136)*(Projects!$M$5:$M$2481))","v":0},0,"No FF",{"$f":"SUMPRODUCT((Projects!$A$5:$A$2481='Local Detail'!$M$3)*(Projects!$K$5:$K$2481=0)*(Projects!$C$5:$C$2481<>'MDOT FTA Detail'!$C$4)*(Projects!$N$5:$N$2481='Local Detail'!$A126)*(Projects!$J$5:$J$2481<>'Local Detail'!$A$136)*(Projects!$M$5:$M$2481))","v":0},0]
["SIBG","100% State Infrastructure Bank","Local Non-Federal","No FF",{"$f":"SUMPRODUCT((Projects!$A$5:$A$2481='Local Detail'!$D$3)*(Projects!$K$5:$K$2481=0)*(Projects!$C$5:$C$2481<>'MDOT FTA Detail'!$C$4)*(Projects!$N$5:$N$2481='Local Detail'!$A127)*(Projects!$J$5:$J$2481<>'Local Detail'!$A$136)*(Projects!$M$5:$M$2481))","v":0},0,"No FF",{"$f":"SUMPRODUCT((Projects!$A$5:$A$2481='Local Detail'!$G$3)*(Projects!$K$5:$K$2481=0)*(Projects!$C$5:$C$2481<>'MDOT FTA Detail'!$C$4)*(Projects!$N$5:$N$2481='Local Detail'!$A127)*(Projects!$J$5:$J$2481<>'Local Detail'!$A$136)*(Projects!$M$5:$M$2481))","v":0},0,"No FF",{"$f":"SUMPRODUCT((Projects!$A$5:$A$2481='Local Detail'!$J$3)*(Projects!$K$5:$K$2481=0)*(Projects!$C$5:$C$2481<>'MDOT FTA Detail'!$C$4)*(Projects!$N$5:$N$2481='Local Detail'!$A127)*(Projects!$J$5:$J$2481<>'Local Detail'!$A$136)*(Projects!$M$5:$M$2481))","v":0},0,"No FF",{"$f":"SUMPRODUCT((Projects!$A$5:$A$2481='Local Detail'!$M$3)*(Projects!$K$5:$K$2481=0)*(Projects!$C$5:$C$2481<>'MDOT FTA Detail'!$C$4)*(Projects!$N$5:$N$2481='Local Detail'!$A127)*(Projects!$J$5:$J$2481<>'Local Detail'!$A$136)*(Projects!$M$5:$M$2481))","v":0},0]
["CITY","Local - City (Specify city in Comments)","Local Non-Federal","No FF",{"$f":"SUMPRODUCT((Projects!$A$5:$A$2481='Local Detail'!$D$3)*(Projects!$K$5:$K$2481=0)*(Projects!$C$5:$C$2481<>'MDOT FTA Detail'!$C$4)*(Projects!$P$5:$P$2481='Local Detail'!$A128)*(Projects!$J$5:$J$2481<>'Local Detail'!$A$136)*(Projects!$O$5:$O$2481))","v":0},0,"No FF",{"$f":"SUMPRODUCT((Projects!$A$5:$A$2481='Local Detail'!$G$3)*(Projects!$K$5:$K$2481=0)*(Projects!$C$5:$C$2481<>'MDOT FTA Detail'!$C$4)*(Projects!$P$5:$P$2481='Local Detail'!$A128)*(Projects!$J$5:$J$2481<>'Local Detail'!$A$136)*(Projects!$O$5:$O$2481))","v":0},0,"No FF",{"$f":"SUMPRODUCT((Projects!$A$5:$A$2481='Local Detail'!$J$3)*(Projects!$K$5:$K$2481=0)*(Projects!$C$5:$C$2481<>'MDOT FTA Detail'!$C$4)*(Projects!$P$5:$P$2481='Local Detail'!$A128)*(Projects!$J$5:$J$2481<>'Local Detail'!$A$136)*(Projects!$O$5:$O$2481))","v":0},0,"No FF",{"$f":"SUMPRODUCT((Projects!$A$5:$A$2481='Local Detail'!$M$3)*(Projects!$K$5:$K$2481=0)*(Projects!$C$5:$C$2481<>'MDOT FTA Detail'!$C$4)*(Projects!$P$5:$P$2481='Local Detail'!$A128)*(Projects!$J$5:$J$2481<>'Local Detail'!$A$136)*(Projects!$O$5:$O$2481))","v":0},0]
["CNTY","Local - County (Specify county in Comments) ","Local Non-Federal","No FF",{"$f":"SUMPRODUCT((Projects!$A$5:$A$2481='Local Detail'!$D$3)*(Projects!$K$5:$K$2481=0)*(Projects!$C$5:$C$2481<>'MDOT FTA Detail'!$C$4)*(Projects!$P$5:$P$2481='Local Detail'!$A129)*(Projects!$J$5:$J$2481<>'Local Detail'!$A$136)*(Projects!$O$5:$O$2481))","v":0},0,"No FF",{"$f":"SUMPRODUCT((Projects!$A$5:$A$2481='Local Detail'!$G$3)*(Projects!$K$5:$K$2481=0)*(Projects!$C$5:$C$2481<>'MDOT FTA Detail'!$C$4)*(Projects!$P$5:$P$2481='Local Detail'!$A129)*(Projects!$J$5:$J$2481<>'Local Detail'!$A$136)*(Projects!$O$5:$O$2481))","v":0},0,"No FF",{"$f":"SUMPRODUCT((Projects!$A$5:$A$2481='Local Detail'!$J$3)*(Projects!$K$5:$K$2481=0)*(Projects!$C$5:$C$2481<>'MDOT FTA Detail'!$C$4)*(Projects!$P$5:$P$2481='Local Detail'!$A129)*(Projects!$J$5:$J$2481<>'Local Detail'!$A$136)*(Projects!$O$5:$O$2481))","v":0},0,"No FF",{"$f":"SUMPRODUCT((Projects!$A$5:$A$2481='Local Detail'!$M$3)*(Projects!$K$5:$K$2481=0)*(Projects!$C$5:$C$2481<>'MDOT FTA Detail'!$C$4)*(Projects!$P$5:$P$2481='Local Detail'!$A129)*(Projects!$J$5:$J$2481<>'Local Detail'!$A$136)*(Projects!$O$5:$O$2481))","v":0},0]
["OLF","Other Local Funds (Specify local fund source in Comments) ","Local Non-Federal","No FF",{"$f":"SUMPRODUCT((Projects!$A$5:$A$2481='Local Detail'!$D$3)*(Projects!$K$5:$K$2481=0)*(Projects!$C$5:$C$2481<>'MDOT FTA Detail'!$C$4)*(Projects!$P$5:$P$2481='Local Detail'!$A130)*(Projects!$J$5:$J$2481<>'Local Detail'!$A$136)*(Projects!$O$5:$O$2481))","v":0},0,"No FF",{"$f":"SUMPRODUCT((Projects!$A$5:$A$2481='Local Detail'!$G$3)*(Projects!$K$5:$K$2481=0)*(Projects!$C$5:$C$2481<>'MDOT FTA Detail'!$C$4)*(Projects!$P$5:$P$2481='Local Detail'!$A130)*(Projects!$J$5:$J$2481<>'Local Detail'!$A$136)*(Projects!$O$5:$O$2481))","v":0},0,"No FF",{"$f":"SUMPRODUCT((Projects!$A$5:$A$2481='Local Detail'!$J$3)*(Projects!$K$5:$K$2481=0)*(Projects!$C$5:$C$2481<>'MDOT FTA Detail'!$C$4)*(Projects!$P$5:$P$2481='Local Detail'!$A130)*(Projects!$J$5:$J$2481<>'Local Detail'!$A$136)*(Projects!$O$5:$O$2481))","v":0},0,"No FF",{"$f":"SUMPRODUCT((Projects!$A$5:$A$2481='Local Detail'!$M$3)*(Projects!$K$5:$K$2481=0)*(Projects!$C$5:$C$2481<>'MDOT FTA Detail'!$C$4)*(Projects!$P$5:$P$2481='Local Detail'!$A130)*(Projects!$J$5:$J$2481<>'Local Detail'!$A$136)*(Projects!$O$5:$O$2481))","v":0},0]
["PRVT","Private (Non-governmental)","Local Non-Federal","No FF",{"$f":"SUMPRODUCT((Projects!$A$5:$A$2481='Local Detail'!$D$3)*(Projects!$K$5:$K$2481=0)*(Projects!$C$5:$C$2481<>'MDOT FTA Detail'!$C$4)*(Projects!$P$5:$P$2481='Local Detail'!$A131)*(Projects!$J$5:$J$2481<>'Local Detail'!$A$136)*(Projects!$O$5:$O$2481))","v":0},0,"No FF",{"$f":"SUMPRODUCT((Projects!$A$5:$A$2481='Local Detail'!$G$3)*(Projects!$K$5:$K$2481=0)*(Projects!$C$5:$C$2481<>'MDOT FTA Detail'!$C$4)*(Projects!$P$5:$P$2481='Local Detail'!$A131)*(Projects!$J$5:$J$2481<>'Local Detail'!$A$136)*(Projects!$O$5:$O$2481))","v":0},0,"No FF",{"$f":"SUMPRODUCT((Projects!$A$5:$A$2481='Local Detail'!$J$3)*(Projects!$K$5:$K$2481=0)*(Projects!$C$5:$C$2481<>'MDOT FTA Detail'!$C$4)*(Projects!$P$5:$P$2481='Local Detail'!$A131)*(Projects!$J$5:$J$2481<>'Local Detail'!$A$136)*(Projects!$O$5:$O$2481))","v":0},0,"No FF",{"$f":"SUMPRODUCT((Projects!$A$5:$A$2481='Local Detail'!$M$3)*(Projects!$K$5:$K$2481=0)*(Projects!$C$5:$C$2481<>'MDOT FTA Detail'!$C$4)*(Projects!$P$5:$P$2481='Local Detail'!$A131)*(Projects!$J$5:$J$2481<>'Local Detail'!$A$136)*(Projects!$O$5:$O$2481))","v":0},0]
["TRAL","Local - Transit Authority Funds (Specify transit authority in Comments)","Local Non-Federal","No FF",{"$f":"SUMPRODUCT((Projects!$A$5:$A$2481='Local Detail'!$D$3)*(Projects!$K$5:$K$2481=0)*(Projects!$C$5:$C$2481<>'MDOT FTA Detail'!$C$4)*(Projects!$P$5:$P$2481='Local Detail'!$A132)*(Projects!$J$5:$J$2481<>'Local Detail'!$A$136)*(Projects!$O$5:$O$2481))","v":0},0,"No FF",{"$f":"SUMPRODUCT((Projects!$A$5:$A$2481='Local Detail'!$G$3)*(Projects!$K$5:$K$2481=0)*(Projects!$C$5:$C$2481<>'MDOT FTA Detail'!$C$4)*(Projects!$P$5:$P$2481='Local Detail'!$A132)*(Projects!$J$5:$J$2481<>'Local Detail'!$A$136)*(Projects!$O$5:$O$2481))","v":0},0,"No FF",{"$f":"SUMPRODUCT((Projects!$A$5:$A$2481='Local Detail'!$J$3)*(Projects!$K$5:$K$2481=0)*(Projects!$C$5:$C$2481<>'MDOT FTA Detail'!$C$4)*(Projects!$P$5:$P$2481='Local Detail'!$A132)*(Projects!$J$5:$J$2481<>'Local Detail'!$A$136)*(Projects!$O$5:$O$2481))","v":0},0,"No FF",{"$f":"SUMPRODUCT((Projects!$A$5:$A$2481='Local Detail'!$M$3)*(Projects!$K$5:$K$2481=0)*(Projects!$C$5:$C$2481<>'MDOT FTA Detail'!$C$4)*(Projects!$P$5:$P$2481='Local Detail'!$A132)*(Projects!$J$5:$J$2481<>'Local Detail'!$A$136)*(Projects!$O$5:$O$2481))","v":0},0]
["TWP","Local - Township (Specify township in Comments)","Local Non-Federal","No FF",{"$f":"SUMPRODUCT((Projects!$A$5:$A$2481='Local Detail'!$D$3)*(Projects!$K$5:$K$2481=0)*(Projects!$C$5:$C$2481<>'MDOT FTA Detail'!$C$4)*(Projects!$P$5:$P$2481='Local Detail'!$A133)*(Projects!$J$5:$J$2481<>'Local Detail'!$A$136)*(Projects!$O$5:$O$2481))","v":0},0,"No FF",{"$f":"SUMPRODUCT((Projects!$A$5:$A$2481='Local Detail'!$G$3)*(Projects!$K$5:$K$2481=0)*(Projects!$C$5:$C$2481<>'MDOT FTA Detail'!$C$4)*(Projects!$P$5:$P$2481='Local Detail'!$A133)*(Projects!$J$5:$J$2481<>'Local Detail'!$A$136)*(Projects!$O$5:$O$2481))","v":0},0,"No FF",{"$f":"SUMPRODUCT((Projects!$A$5:$A$2481='Local Detail'!$J$3)*(Projects!$K$5:$K$2481=0)*(Projects!$C$5:$C$2481<>'MDOT FTA Detail'!$C$4)*(Projects!$P$5:$P$2481='Local Detail'!$A133)*(Projects!$J$5:$J$2481<>'Local Detail'!$A$136)*(Projects!$O$5:$O$2481))","v":0},0,"No FF",{"$f":"SUMPRODUCT((Projects!$A$5:$A$2481='Local Detail'!$M$3)*(Projects!$K$5:$K$2481=0)*(Projects!$C$5:$C$2481<>'MDOT FTA Detail'!$C$4)*(Projects!$P$5:$P$2481='Local Detail'!$A133)*(Projects!$J$5:$J$2481<>'Local Detail'!$A$136)*(Projects!$O$5:$O$2481))","v":0},0]
["VLG","Local - Village (Specify village in Comments)","Local Non-Federal","No FF",{"$f":"SUMPRODUCT((Projects!$A$5:$A$2481='Local Detail'!$D$3)*(Projects!$K$5:$K$2481=0)*(Projects!$C$5:$C$2481<>'MDOT FTA Detail'!$C$4)*(Projects!$P$5:$P$2481='Local Detail'!$A134)*(Projects!$J$5:$J$2481<>'Local Detail'!$A$136)*(Projects!$O$5:$O$2481))","v":0},0,"No FF",{"$f":"SUMPRODUCT((Projects!$A$5:$A$2481='Local Detail'!$G$3)*(Projects!$K$5:$K$2481=0)*(Projects!$C$5:$C$2481<>'MDOT FTA Detail'!$C$4)*(Projects!$P$5:$P$2481='Local Detail'!$A134)*(Projects!$J$5:$J$2481<>'Local Detail'!$A$136)*(Projects!$O$5:$O$2481))","v":0},0,"No FF",{"$f":"SUMPRODUCT((Projects!$A$5:$A$2481='Local Detail'!$J$3)*(Projects!$K$5:$K$2481=0)*(Projects!$C$5:$C$2481<>'MDOT FTA Detail'!$C$4)*(Projects!$P$5:$P$2481='Local Detail'!$A134)*(Projects!$J$5:$J$2481<>'Local Detail'!$A$136)*(Projects!$O$5:$O$2481))","v":0},0,"No FF",{"$f":"SUMPRODUCT((Projects!$A$5:$A$2481='Local Detail'!$M$3)*(Projects!$K$5:$K$2481=0)*(Projects!$C$5:$C$2481<>'MDOT FTA Detail'!$C$4)*(Projects!$P$5:$P$2481='Local Detail'!$A134)*(Projects!$J$5:$J$2481<>'Local Detail'!$A$136)*(Projects!$O$5:$O$2481))","v":0},0]
[]
["AC","Local AC Projects","Local AC","No FF",{"$f":"((SUMPRODUCT((Projects!$A$5:$A$2481='Local Detail'!$D$3)*(Projects!$C$5:$C$2481<>'MDOT FTA Detail'!$C$4)*(Projects!$J$5:$J$2481='Local Detail'!$A$136)*(Projects!$M$5:$M$2481)))+(SUMPRODUCT((Projects!$A$5:$A$2481='Local Detail'!$D$3)*(Projects!$C$5:$C$2481<>'MDOT FTA Detail'!$C$4)*(Projects!$J$5:$J$2481='Local Detail'!$A$136)*(Projects!$O$5:$O$2481))))","v":0},{"$f":"E136","v":0},"No FF",{"$f":"((SUMPRODUCT((Projects!$A$5:$A$2481='Local Detail'!$G$3)*(Projects!$C$5:$C$2481<>'MDOT FTA Detail'!$C$4)*(Projects!$J$5:$J$2481='Local Detail'!$A$136)*(Projects!$M$5:$M$2481)))+(SUMPRODUCT((Projects!$A$5:$A$2481='Local Detail'!$G$3)*(Projects!$C$5:$C$2481<>'MDOT FTA Detail'!$C$4)*(Projects!$J$5:$J$2481='Local Detail'!$A$136)*(Projects!$O$5:$O$2481))))","v":1017200},{"$f":"H136","v":1017200},"No FF",{"$f":"((SUMPRODUCT((Projects!$A$5:$A$2481='Local Detail'!$J$3)*(Projects!$C$5:$C$2481<>'MDOT FTA Detail'!$C$4)*(Projects!$J$5:$J$2481='Local Detail'!$A$136)*(Projects!$M$5:$M$2481)))+(SUMPRODUCT((Projects!$A$5:$A$2481='Local Detail'!$J$3)*(Projects!$C$5:$C$2481<>'MDOT FTA Detail'!$C$4)*(Projects!$J$5:$J$2481='Local Detail'!$A$136)*(Projects!$O$5:$O$2481))))","v":0},{"$f":"K136","v":0},"No FF",{"$f":"((SUMPRODUCT((Projects!$A$5:$A$2481='Local Detail'!$M$3)*(Projects!$C$5:$C$2481<>'MDOT FTA Detail'!$C$4)*(Projects!$J$5:$J$2481='Local Detail'!$A$136)*(Projects!$M$5:$M$2481)))+(SUMPRODUCT((Projects!$A$5:$A$2481='Local Detail'!$M$3)*(Projects!$C$5:$C$2481<>'MDOT FTA Detail'!$C$4)*(Projects!$J$5:$J$2481='Local Detail'!$A$136)*(Projects!$O$5:$O$2481))))","v":0},{"$f":"N136","v":0}]

{"sheet":"Codes","index":10,"n_rows":209,"n_cols":4,"rows_kept":209,"cut":false,"hidden":false,"merged":[]}
[null,"Fund Sources"]
["BHI","Bridge Rehabilitation - Prior 1991 - Interstate","Federal"]
["BHN","Bridge Rehabilitation - National Highway System (NHS)","Federal"]
["BHO","Bridge Rehabilitation - Not Classified, Off System","Federal"]
["BHT","Bridge Rehabilitation - Surface Transportation Program (STP)","Federal"]
["BI08","Build Michigan FY08","Federal"]
["BO","Bridge Not Classified Off System","Federal","2012-12-14"]
["BOWD","Business Opportunity & Workforce Development Center","Federal"]
["BRI","Bridge Replacement - Pre 1991 Interstate","Federal"]
["BRN","Bridge Replacement - National Highway System (NHS)","Federal"]
["BRO","Bridge Replacement - Not Classified, Off System","Federal"]
["BRT","Bridge Replacement - Surface Transportation Program (STP)","Federal"]
["CBCD","Corridor & Border Crossing Discretionary","Federal"]
["CBIP","Coordinated Border Infrastructure Program - SAFETEA-LU","Federal"]
["CM","Congestion Mitigation & Air Quality","Federal"]
["CMG","Congestion Mitigation & Air Quality - 100% Federal","Federal"]
["DIG","ISTEA Demonstration 100% Federal on Interstate","Federal"]
["DOG","ISTEA Demonstration 100% Federal Not Classified","Federal"]
["DPN","ISTEA Demonstration 80% Federal on NHS","Federal"]
["DPO","ISTEA Demonstration 80% Federal Not Classified","Federal"]
["DPS","ISTEA Demonstration 80% Federal on STP","Federal"]
["DPSA","Demonstration Project Section 112 Division A","Federal"]
["DST","Donor Bonus Surface Transportation","Federal"]
["DSTU","Donor Bonus Surface Transportation - (Urban > 200,000)","Federal"]
["DSTT","Donor Bonus Surface Transportation - Rural - Trunkline","Federal"]
["EBSL","Equity Bonus - SAFETEA-LU","Federal"]
["EDAF","Economic Development - Category A with Federal Aid","Federal"]
["EDCF","Economic Development - Category C with Federal Aid","Federal"]
["EDDF","Economic Development - Category D with Federal Aid","Federal"]
["EDFF","Economic Development - Category F with Federal Aid","Federal"]
["ER","Emergency Relief","Federal"]
["FBD","Ferry Boat & Terminal Discretionary","Federal"]
["FFH","Federal Forest Highway","Federal"]
["FLH","Federal Land Highways - Public Lands","Federal"]
["HBOA","Highway Bridge Obligation  Authority","Federal"]
["HPP","High Priority Projects (Demo)","Federal"]
["HPSL","High Priority Projects - SAFETEA-LU","Federal"]
["HRRR","High Risk Rural Roads - SAFETEA-LU","Federal"]
["HSG","High Speed Raix Crossings - 100% Federal","Federal"]
["HSIP","Highway Safety Improvement Program - SAFETEA-LU","Federal"]
["IM","Interstate Maintenance - No Added Lanes","Federal"]
["IMD","Interstate Maintenance Discretionary","Federal"]
["IMG","Interstate Maintenance - Safety - 100% Federal","Federal"]
["ITS","Intelligent Transportation Systems","Federal"]
["JST","85% Minimum Floor Surface Transportation","Federal"]
["JSTU","85% Minimum Floor Surface Transportation (Urban Area > 200,000)","Federal"]
["LTA","Local Technical Assistance Program","Federal"]
["MG","Minimum Guarantee","Federal"]
["NCII","National Corridor Infrastructure Improvement - SAFETEA-LU","Federal"]
["NH","National Highway System","Federal"]
["NHG","National Highway System - Safety - 100% Federal","Federal"]
["NHI","National Highway Funds on I (Does not Qualify for I)","Federal"]
["NHIM","National Highway Funds on I (Qualifies for IM)","Federal"]
["NHS","National Highway System - MDOT Safety Program","Federal"]
["NRT","National Recreational Trails","Federal"]
["OFHWA","Other FHWA Funds (Specify source in Comments)","Federal"]
["PNRS","Projects of National and Regional Significance","Federal"]
["RP","Research Project","Federal"]
["RPH","American Recovery and Reinvestment Act","Federal"]
["SBD","Scenic Byways - Discretionary","Federal"]
["SIB","State Infrastructure Bank","Federal"]
["SLG","Surface Transportation Safety","Federal"]
["SRHG","Surface Transportation Safety Highway Crossing Hazard Elimination 100%","Federal","2012-12-14"]
["SRPG","Surface Transportation Safety Highway Crossing Protection Devices 100%","Federal","2012-12-14"]
["SRSE","Safe Routes to School - Either - SAFETEA-LU","Federal"]
["SRSI","Safe Routes to School - Infrastructure - SAFETEA-LU","Federal"]
["SRSN","Safe Routes to School - Non-infrastructure - SAFETEA-LU","Federal"]
["SST","Supportive Services Training","Federal"]
["ST","Surface Transportation Program (STP) - Any Area","Federal"]
["STE","STP - Enhancement","Federal"]
["STG","STP - Safety - 100% Federal for ST","Federal"]
["STH","STP - Safety - Hazard Elimination","Federal"]
["STI","STP - Interstate (90%)","Federal"]
["STL","STP - Local","Federal"]
["STLG","Surface Transportation Safety 100% Fed for STL-Items","Federal","2012-12-14"]
["STR","STP - Safety - Rail-Highway Crossing Protection","Federal"]
["STRG","STP - Safety Rail-Highway & Incentive Payment - 100% Federal","Federal"]
["STRH","Surface Transportation Safety Highway Crossing Hazard Elimination","Federal","2012-12-14"]
["STRP","Surface Transportation Safety Highway Crossing Protection Devices","Federal","2012-12-14"]
["STS","STP - Any Area- MDOT Safety Program","Federal"]
["STT","STP - Trunkline","Federal"]
["STU","STP - Urban Areas > 200,000 Population","Federal"]
["STUG","STP - Urban Areas < 200,000 Population 100%","Federal"]
["STUL","STP - Urban Areas < 200,000 Population","Federal"]
["STUT","STP - Urban Areas < 200,000 Population - Trunkline","Federal"]
["SUG","STP - Safety - 100% Federal for STU","Federal"]
["SUL","Surface Transportation Urban Areas < 200k Population","Federal","2012-12-14"]
["SULG","Surface Transportation Urban Areas < 200k Population 100%","Federal","2012-12-14"]
["TA","Transportation Alternatives Program Flex","Federal","2012-12-14"]
["TAL","Transportation Alternatives Rural","Federal","2012-12-14"]
["TAU","Transportation Alternatives Urban Areas > 200K Population","Federal","2012-12-14"]
["TAUL","Transportation Alternatives Urban Areas < 200K Population","Federal","2012-12-14"]
["TBR","Timber Bridge Fund","Federal"]
["TCP","Tax Compliance Program","Federal"]
["TCSP","Transportation, Community and System Preservation","Federal"]
["TG","Transportation  Grant (100% Fed)","Federal"]
["TGR2","TIGER II Discretionary Grant","Federal","2012-12-14"]
["TGR3","TIGER III Discretionary Grant","Federal","2012-12-14"]
["TIP","Transportation Improvements Projects SAFETEA-LU","Federal","2012-12-14"]
["TPFD","Truck Parking Facilities Discretionary","Federal","2012-12-14"]
[3038,"Section 3038 - Over the Road Bus Program","Transit"]
[3045,"Section 3045 - National Fuel Cell Technology Development Program","Transit"]
[5303,"Section 5303 - Metropolitan Transportation Planning","Transit"]
[5304,"Section 5304 - Statewide Transportation Planning","Transit"]
[5305,"Section 5305 - Metropolitan and Statewide Planning","Transit"]
[5307,"Section 5307 - UZA Formula","Transit"]
[5308,"Section 5308 - Clean Fuels Program","Transit"]
[5309,"Section 5309 - Fixed Guideway Capital Investment Grant","Transit"]
[5310,"Section 5310 - Enhanced Mobility of Seniors and Individuals with Disabilities","Transit"]
[5311,"Section 5311 - Non-UZA ","Transit"]
[5312,"Section 5312 - Research, Development, Demonstration, and Deployment","Transit","2013-01-07"]
[5313,"Section 5313 - Transit Cooperative Research Program","Transit"]
[5314,"Section 5314 - Technical Assistance and Standards","Transit"]
[5316,"Section 5316 - Transit - Section 5316 - Job Access/Reverse Commute","Transit"]
[5317,"Section 5317 - Transit - Section 5317 - New Freedom Initiative","Transit"]
[5320,"Section 5320 - Alternative Transportation in Parks and Public Lands","Transit"]
[5322,"Section 5322 - Human Resources and Training","Transit","2013-01-07"]
[5324,"Section 5324 - Emergency Relief","Transit","2013-01-07"]
[5326,"Section 5326 - Asset Management Provisions","Transit","2013-01-07"]
[5329,"Section 5329 - Safety","Transit","2013-01-07"]
[5337,"Section 5337 - State of Good Repair Grants","Transit","2013-01-07"]
[5339,"Section 5339 - Bus and Bus Facilities","Transit"]
[5505,"Section 5505 - University Transportation Centers Program","Transit"]
["BI04","Build Michigan Bond Issue 2004","State"]
["BI06","Build Michigan Bond Issue 2006","State"]
["BI08","Build Michigan Bond Issue 2008","State"]
["BT01","Bond Trunkline Roads for First Issue","State"]
["CTF","Comprehensive Transportation Fund","State"]
["EDA","Economic Development - Category A","State"]
["EDC","Economic Development - Category C","State"]
["EDD","Economic Development - Category D","State"]
["EDF","Economic Development - Category F","State"]
["JT07","Jobs Today Bond Issue 2007 GARVEE (State AC for Federal GARVEE Bonds)","State"]
["LFMP","Local Fund Match Program - 100% Local","State"]
["M","State Funds - Michigan Betterment","State"]
["MBS","Michigan Budget Stabilization","State"]
["MBWB","Michigan Blue Water Bridge","State"]
["MCS","State Funds - Critical Structures","State"]
["MDA","Drainage Assessment","State"]
["MER","Emergency Program","State"]
["MIR","State Funds - Institutional Roads","State"]
["MRR","Michigan Railroad","State"]
["MRRF","Michigan Revolving Real Estate Fund","State"]
["MS","Safety Program","State"]
["MTB","Turnback Program","State"]
["SIBG","100% State Infrastructure Bank","State"]
["CITY","Local - City (Specify city in Comments)","Local"]
["CNTY","Local - County (Specify county in Comments) ","Local"]
["OLF","Other Local Funds (Specify local fund source in Comments) ","Local"]
["PRVT","Private (Non-governmental)","Local"]
["TRAL","Local - Transit Authority Funds (Specify transit authority in Comments)","Local"]
["TWP","Local - Township (Specify township in Comments)","Local"]
["VLG","Local - Village (Specify village in Comments)","Local"]
[]
[null,"Primary Work Types"]
[null,"Bridge - other","Surface Transportation"]
[null,"Bridge replacement","Surface Transportation"]
[null,"Bridge restore & rehabilitate","Surface Transportation"]
[null,"New route/structure (capacity increase)","Surface Transportation"]
[null,"Reconstruct","Surface Transportation"]
[null,"Restore & rehabilitate","Surface Transportation"]
[null,"Resurface","Surface Transportation"]
[null,"Roadside facility","Surface Transportation"]
[null,"Traffic ops/safety","Surface Transportation"]
[null,"Widen - major (capacity increase)","Surface Transportation"]
[null,"Widen - minor","Surface Transportation"]
[null,"Transit","Transit"]
[null,"Transit capital","Transit"]
[null,"Transit communication equipment","Transit"]
[null,"Transit facility","Transit"]
[null,"Transit maintenance equipment and parts","Transit"]
[null,"Transit operations","Transit"]
[null,"Transit operations equipment","Transit"]
[null,"Transit vehicle additions/replacements","Transit"]
[null,"Transit vehicle rehabilitation","Transit"]
[null,"Aviation","Miscellaneous"]
[null,"GPA ","Miscellaneous"]
[null,"Heritage routes","Miscellaneous"]
[null,"Intermodal/multimodal","Miscellaneous"]
[null,"Marine/port","Miscellaneous"]
[null,"Miscellaneous","Miscellaneous"]
[null,"Planning and research","Miscellaneous"]
[null,"Rail","Miscellaneous"]
[null,"Studies","Miscellaneous"]
[null,"Wetland mitigation","Miscellaneous"]
[]
[]
[]
[]
[null,"Amendment Type"]
[null,"Add"]
[null,"Delete"]
[null,"Cost"]
[null,"Scope"]
[null,"Year"]
[]
[]
[]
[]
[null,"Phase"]
[]
[null,"EPE"]
[null,"PE"]
[null,"ROW"]
[null,"CON"]
[null,"T-Cap"]
[null,"T-Ops"]
[null,"SUB"]
[null,"UTL"]